{"text_format":"1","workbook":"xlsx","n_sheets":26,"sheets":["Version History","detail","Overall ","Overall Student Only","50m Manikin Carry Men","50m Manikin Carry Women","100m Manikin Carry Men","100m Manikin Carry Women","100m Manikin Tow Men","100m Manikin Tow Women","200m Obs Men","200m Obs Women","200m Super Men","200m Super Women","100 Resue Men","100 Resue Women","Line Throw Men","Line Throw Women","4 x 50 Obs Relay Men","4 x 50 Obs Relay Women","4 x 50 medley Relay Men","4 x 50 medley Relay Women","4 x 25 Manikin Carry Relay Men","4 x 25 Manikin Carry Women","4 x 12m Line Throw Men","4 x 12m Line Throw Women"],"not_rendered":{"charts":0,"images":0,"macros":1,"external_links":0,"defined_names":1,"comments":0,"pivot_tables":0},"unopened":[],"bounds":{"document_bytes":16777216,"sheet_cells":100000,"rows_first":2000,"rows_last":500,"rows_between":2000,"halvings":0,"cell_chars":16384,"cell_head_chars":4096},"cells_cut":0,"cells_raw":0,"read":"whole","date_system":"1900"}

{"sheet":"Version History","index":0,"n_rows":22,"n_cols":3,"rows_kept":22,"cut":false,"hidden":false,"merged":[]}
[]
[]
[null,null,"Version History"]
[]
[null,null,"Version 0.1"]
[null,null,"\nDate: June 2010"]
[null,null,"Status: Created Filtering system and created totals tables for Men. Distributed to experience BULSCA to review the process,\n linked field to those found in the BUSLCA online entry system."]
[null,null,"Written By: Oliver Coleman"]
[]
[null,null,"Version 0.2"]
[null,null,"\nDate: June2010"]
[]
[null,null,"Problem / Change Request: Sheet now provides calculation for all the Men's and Womens Speed, including the Student only finshing Positions\nAlsonow has cell protection turned on\nHeadings formatted"]
[null,null,"\nStatus: Ready for realse for testing"]
[null,null,"Ammended By: Oliver Coleman"]
[]
[null,null,"Version 1"]
[null,null,"\nDate: June2010"]
[]
[null,null,"Problem / Change Request: Format  so cells are readable"]
[null,null,"\nStatus: Ready "]
[null,null,"Ammended By: Oliver Coleman"]

{"sheet":"detail","index":1,"n_rows":9,"n_cols":1,"rows_kept":9,"cut":false,"hidden":false,"merged":[]}
[]
["what the Colours Mean"]
[]
["Is a postion for the scorers to enter information"]
["Dead Areas"]
["Colums that are entered before and then hidden"]
["Colums that are entered before and then locked"]
["Calculated Columms to be hidden"]
["Calculated Colums to be viewed"]

{"sheet":"Overall ","index":2,"n_rows":104,"n_cols":15,"rows_kept":104,"cut":false,"hidden":false,"merged":[]}
[null,"Overall All Clubs"]
[]
["Club Code","Club Name","Men's Points","Men's Position","Women's Points","Women's Position","Overall  Points","Overall  Positions"]
[15,"Bristol University",{"$f":"N39","v":77},{"$f":"O39","v":7},{"$f":"N74","v":103},{"$f":"O74","v":11},{"$f":"IF(A4=\"\",\"\",C4+E4)","v":180},{"$f":"IF(B4=\"\",\"\",RANK(G4,$G$4:$G$34,1))","v":11}]
[49,"Cardiff University",{"$f":"N40","v":123},14,{"$f":"N75","v":118},13,{"$f":"IF(A5=\"\",\"\",C5+E5)","v":241},{"$f":"IF(B5=\"\",\"\",RANK(G5,$G$4:$G$34,1))","v":14}]
[7,"Loughborough University",30,1,21,1,51,1]
[46,"Northfield",77,7,118,13,195,12]
[21,"Swansea Universities Lifesaving",41,2,26,2,67,2]
[2,"University of Bath",137,15,118,13,255,15]
[14,"University of Birmingham",72,5,62,4,134,5]
[5,"University of Cambridge",120,13,108,12,228,13]
[16,"University of London Union",86,9,87,10,173,8]
[8,"University of Nottingham",75,6,73,8,148,6]
[18,"University of Oxford",104,12,69,6,173,8]
[9,"University of Plymouth",88,10,69,6,157,7]
[20,"University of Southampton",51,3,30,3,81,3]
[12,"University of Warwick",67,4,65,5,132,4]
[11,"St. Andrews",93,11,84,9,177,10]
[null,null,"","","","","",""]
[null,null,"","","","","",""]
[null,null,"","","","","",""]
[null,null,"","","","","",""]
[null,null,"","","","","",""]
[null,null,"","","","","",""]
[null,null,"","","","","",""]
[null,null,"","","","","",""]
[null,null,"","","","","",""]
[null,null,"","","","","",""]
[null,null,"","","","","",""]
[null,null,"","","","","",""]
[null,null,"","","","","",""]
[null,null,"","","","","",""]
[null,null,"","","","","",""]
[null,null,"","","","","",""]
[]
[null,"Men's All Clubs"]
[]
["Club Code","Club Name","50m Manikin Carry","100m Carry with Fins","100m tow with fins","200m Obs","200 Super","100 rescue","Line Throw","4 x 50 obs Relay","4 x 50 medley Relay","4 x 25 Manikin Carry Relay","4 x 12m Line Throw Relay","Totals","Position"]
[{"$f":"IF(A4=\"\",\"\",A4)","v":15},{"$f":"IF(B4=\"\",\"\",B4)","v":"Bristol University"},{"$f":"IF($A39=\"\",\"\",IF(SUMIF('50m Manikin Carry Men'!$C$7:$C$46,$A39,'50m Manikin Carry Men'!$X$7:$X$46)=0,1+MAX('50m Manikin Carry Men'!$X$7:$X$46),SUMIF('50m Manikin Carry Men'!$C$7:$C$46,$A39,'50m Manikin Carry Men'!$X$7:$X$46)))","v":2},{"$f":"IF($A39=\"\",\"\",IF(SUMIF('100m Manikin Carry Men'!$C$7:$C$46,$A39,'100m Manikin Carry Men'!$X$7:$X$46)=0,1+MAX('100m Manikin Carry Men'!$X$7:$X$46),SUMIF('100m Manikin Carry Men'!$C$7:$C$46,$A39,'100m Manikin Carry Men'!$X$7:$X$46)))","v":13},{"$f":"IF($A39=\"\",\"\",IF(SUMIF('100m Manikin Tow Men'!$C$7:$C$46,$A39,'100m Manikin Tow Men'!$X$7:$X$46)=0,1+MAX('100m Manikin Tow Men'!$X$7:$X$46),SUMIF('100m Manikin Tow Men'!$C$7:$C$46,$A39,'100m Manikin Tow Men'!$X$7:$X$46)))","v":1},{"$f":"IF($A39=\"\",\"\",IF(SUMIF('200m Obs Men'!$C$7:$C$46,$A39,'200m Obs Men'!$X$7:$X$46)=0,1+MAX('200m Obs Men'!$X$7:$X$46),SUMIF('200m Obs Men'!$C$7:$C$46,$A39,'200m Obs Men'!$X$7:$X$46)))","v":3},{"$f":"IF($A39=\"\",\"\",IF(SUMIF('200m Super Men'!$C$7:$C$46,$A39,'200m Super Men'!$X$7:$X$46)=0,1+MAX('200m Super Men'!$X$7:$X$46),SUMIF('200m Super Men'!$C$7:$C$46,$A39,'200m Super Men'!$X$7:$X$46)))","v":3},{"$f":"IF($A39=\"\",\"\",IF(SUMIF('100 Resue Men'!$C$7:$C$46,$A39,'100 Resue Men'!$X$7:$X$46)=0,1+MAX('100 Resue Men'!$X$7:$X$46),SUMIF('100 Resue Men'!$C$7:$C$46,$A39,'100 Resue Men'!$X$7:$X$46)))","v":2},{"$f":"IF($A39=\"\",\"\",IF(SUMIF('Line Throw Men'!$C$7:$C$46,$A39,'Line Throw Men'!$Z$7:$Z$46)=0,MAX('Line Throw Men'!$Z$7:$Z$46),SUMIF('Line Throw Men'!$C$7:$C$46,$A39,'Line Throw Men'!$Z$7:$Z$46)))","v":13},{"$f":"IF($A39=\"\",\"\",IF(SUMIF('4 x 50 Obs Relay Men'!$C$7:$C$46,$A39,'4 x 50 Obs Relay Men'!$U$7:$U$46)=0,1+MAX('4 x 50 Obs Relay Men'!$U$7:$U$46),SUMIF('4 x 50 Obs Relay Men'!$C$7:$C$46,$A39,'4 x 50 Obs Relay Men'!$U$7:$U$46)))","v":11},{"$f":"IF($A39=\"\",\"\",IF(SUMIF('4 x 50 medley Relay Men'!$C$7:$C$46,$A39,'4 x 50 medley Relay Men'!$U$7:$U$46)=0,1+MAX('4 x 50 medley Relay Men'!$U$7:$U$46),SUMIF('4 x 50 medley Relay Men'!$C$7:$C$46,$A39,'4 x 50 medley Relay Men'!$U$7:$U$46)))","v":11},{"$f":"IF($A39=\"\",\"\",IF(SUMIF('4 x 25 Manikin Carry Relay Men'!$C$7:$C$46,$A39,'4 x 25 Manikin Carry Relay Men'!$U$7:$U$46)=0,1+MAX('4 x 25 Manikin Carry Relay Men'!$U$7:$U$46),SUMIF('4 x 25 Manikin Carry Relay Men'!$C$7:$C$46,$A39,'4 x 25 Manikin Carry Relay Men'!$U$7:$U$46)))","v":10},{"$f":"IF($A39=\"\",\"\",IF(SUMIF('4 x 12m Line Throw Men'!$C$7:$C$46,$A39,'4 x 12m Line Throw Men'!$U$7:$U$46)=0,1+MAX('4 x 12m Line Throw Men'!$U$7:$U$46),SUMIF('4 x 12m Line Throw Men'!$C$7:$C$46,$A39,'4 x 12m Line Throw Men'!$U$7:$U$46)))","v":8},{"$f":"IF(A39=\"\",\"\",SUM(C39:M39))","v":77},{"$f":"IF(A39=\"\",\"\",RANK(N39,$N$39:$N$69,1))","v":7}]
[{"$f":"IF(A5=\"\",\"\",A5)","v":49},"Cardiff University",{"$f":"IF($A40=\"\",\"\",IF(SUMIF('50m Manikin Carry Men'!$C$7:$C$46,$A40,'50m Manikin Carry Men'!$X$7:$X$46)=0,1+MAX('50m Manikin Carry Men'!$X$7:$X$46),SUMIF('50m Manikin Carry Men'!$C$7:$C$46,$A40,'50m Manikin Carry Men'!$X$7:$X$46)))","v":13},{"$f":"IF($A40=\"\",\"\",IF(SUMIF('100m Manikin Carry Men'!$C$7:$C$46,$A40,'100m Manikin Carry Men'!$X$7:$X$46)=0,1+MAX('100m Manikin Carry Men'!$X$7:$X$46),SUMIF('100m Manikin Carry Men'!$C$7:$C$46,$A40,'100m Manikin Carry Men'!$X$7:$X$46)))","v":13},{"$f":"IF($A40=\"\",\"\",IF(SUMIF('100m Manikin Tow Men'!$C$7:$C$46,$A40,'100m Manikin Tow Men'!$X$7:$X$46)=0,1+MAX('100m Manikin Tow Men'!$X$7:$X$46),SUMIF('100m Manikin Tow Men'!$C$7:$C$46,$A40,'100m Manikin Tow Men'!$X$7:$X$46)))","v":3},{"$f":"IF($A40=\"\",\"\",IF(SUMIF('200m Obs Men'!$C$7:$C$46,$A40,'200m Obs Men'!$X$7:$X$46)=0,1+MAX('200m Obs Men'!$X$7:$X$46),SUMIF('200m Obs Men'!$C$7:$C$46,$A40,'200m Obs Men'!$X$7:$X$46)))","v":14},{"$f":"IF($A40=\"\",\"\",IF(SUMIF('200m Super Men'!$C$7:$C$46,$A40,'200m Super Men'!$X$7:$X$46)=0,1+MAX('200m Super Men'!$X$7:$X$46),SUMIF('200m Super Men'!$C$7:$C$46,$A40,'200m Super Men'!$X$7:$X$46)))","v":14},{"$f":"IF($A40=\"\",\"\",IF(SUMIF('100 Resue Men'!$C$7:$C$46,$A40,'100 Resue Men'!$X$7:$X$46)=0,MAX('100 Resue Men'!$X$7:$X$46),SUMIF('100 Resue Men'!$C$7:$C$46,$A40,'100 Resue Men'!$X$7:$X$46)))","v":13},{"$f":"IF($A40=\"\",\"\",IF(SUMIF('Line Throw Men'!$C$7:$C$46,$A40,'Line Throw Men'!$Z$7:$Z$46)=0,MAX('Line Throw Men'!$Z$7:$Z$46),SUMIF('Line Throw Men'!$C$7:$C$46,$A40,'Line Throw Men'!$Z$7:$Z$46)))","v":13},{"$f":"IF($A40=\"\",\"\",IF(SUMIF('4 x 50 Obs Relay Men'!$C$7:$C$46,$A40,'4 x 50 Obs Relay Men'!$U$7:$U$46)=0,1+MAX('4 x 50 Obs Relay Men'!$U$7:$U$46),SUMIF('4 x 50 Obs Relay Men'!$C$7:$C$46,$A40,'4 x 50 Obs Relay Men'!$U$7:$U$46)))","v":11},{"$f":"IF($A40=\"\",\"\",IF(SUMIF('4 x 50 medley Relay Men'!$C$7:$C$46,$A40,'4 x 50 medley Relay Men'!$U$7:$U$46)=0,1+MAX('4 x 50 medley Relay Men'!$U$7:$U$46),SUMIF('4 x 50 medley Relay Men'!$C$7:$C$46,$A40,'4 x 50 medley Relay Men'!$U$7:$U$46)))","v":11},{"$f":"IF($A40=\"\",\"\",IF(SUMIF('4 x 25 Manikin Carry Relay Men'!$C$7:$C$46,$A40,'4 x 25 Manikin Carry Relay Men'!$U$7:$U$46)=0,1+MAX('4 x 25 Manikin Carry Relay Men'!$U$7:$U$46),SUMIF('4 x 25 Manikin Carry Relay Men'!$C$7:$C$46,$A40,'4 x 25 Manikin Carry Relay Men'!$U$7:$U$46)))","v":10},{"$f":"IF($A40=\"\",\"\",IF(SUMIF('4 x 12m Line Throw Men'!$C$7:$C$46,$A40,'4 x 12m Line Throw Men'!$U$7:$U$46)=0,1+MAX('4 x 12m Line Throw Men'!$U$7:$U$46),SUMIF('4 x 12m Line Throw Men'!$C$7:$C$46,$A40,'4 x 12m Line Throw Men'!$U$7:$U$46)))","v":8},123,14]
[7,"Loughborough University",{"$f":"IF($A41=\"\",\"\",IF(SUMIF('50m Manikin Carry Men'!$C$7:$C$46,$A41,'50m Manikin Carry Men'!$X$7:$X$46)=0,1+MAX('50m Manikin Carry Men'!$X$7:$X$46),SUMIF('50m Manikin Carry Men'!$C$7:$C$46,$A41,'50m Manikin Carry Men'!$X$7:$X$46)))","v":1},{"$f":"IF($A41=\"\",\"\",IF(SUMIF('100m Manikin Carry Men'!$C$7:$C$46,$A41,'100m Manikin Carry Men'!$X$7:$X$46)=0,1+MAX('100m Manikin Carry Men'!$X$7:$X$46),SUMIF('100m Manikin Carry Men'!$C$7:$C$46,$A41,'100m Manikin Carry Men'!$X$7:$X$46)))","v":1},{"$f":"IF($A41=\"\",\"\",IF(SUMIF('100m Manikin Tow Men'!$C$7:$C$46,$A41,'100m Manikin Tow Men'!$X$7:$X$46)=0,1+MAX('100m Manikin Tow Men'!$X$7:$X$46),SUMIF('100m Manikin Tow Men'!$C$7:$C$46,$A41,'100m Manikin Tow Men'!$X$7:$X$46)))","v":2},{"$f":"IF($A41=\"\",\"\",IF(SUMIF('200m Obs Men'!$C$7:$C$46,$A41,'200m Obs Men'!$X$7:$X$46)=0,1+MAX('200m Obs Men'!$X$7:$X$46),SUMIF('200m Obs Men'!$C$7:$C$46,$A41,'200m Obs Men'!$X$7:$X$46)))","v":1},{"$f":"IF($A41=\"\",\"\",IF(SUMIF('200m Super Men'!$C$7:$C$46,$A41,'200m Super Men'!$X$7:$X$46)=0,1+MAX('200m Super Men'!$X$7:$X$46),SUMIF('200m Super Men'!$C$7:$C$46,$A41,'200m Super Men'!$X$7:$X$46)))","v":2},{"$f":"IF($A41=\"\",\"\",IF(SUMIF('100 Resue Men'!$C$7:$C$46,$A41,'100 Resue Men'!$X$7:$X$46)=0,MAX('100 Resue Men'!$X$7:$X$46),SUMIF('100 Resue Men'!$C$7:$C$46,$A41,'100 Resue Men'!$X$7:$X$46)))","v":1},{"$f":"IF($A41=\"\",\"\",IF(SUMIF('Line Throw Men'!$C$7:$C$46,$A41,'Line Throw Men'!$Z$7:$Z$46)=0,MAX('Line Throw Men'!$Z$7:$Z$46),SUMIF('Line Throw Men'!$C$7:$C$46,$A41,'Line Throw Men'!$Z$7:$Z$46)))","v":12},{"$f":"IF($A41=\"\",\"\",IF(SUMIF('4 x 50 Obs Relay Men'!$C$7:$C$46,$A41,'4 x 50 Obs Relay Men'!$U$7:$U$46)=0,1+MAX('4 x 50 Obs Relay Men'!$U$7:$U$46),SUMIF('4 x 50 Obs Relay Men'!$C$7:$C$46,$A41,'4 x 50 Obs Relay Men'!$U$7:$U$46)))","v":1},{"$f":"IF($A41=\"\",\"\",IF(SUMIF('4 x 50 medley Relay Men'!$C$7:$C$46,$A41,'4 x 50 medley Relay Men'!$U$7:$U$46)=0,1+MAX('4 x 50 medley Relay Men'!$U$7:$U$46),SUMIF('4 x 50 medley Relay Men'!$C$7:$C$46,$A41,'4 x 50 medley Relay Men'!$U$7:$U$46)))","v":1},{"$f":"IF($A41=\"\",\"\",IF(SUMIF('4 x 25 Manikin Carry Relay Men'!$C$7:$C$46,$A41,'4 x 25 Manikin Carry Relay Men'!$U$7:$U$46)=0,1+MAX('4 x 25 Manikin Carry Relay Men'!$U$7:$U$46),SUMIF('4 x 25 Manikin Carry Relay Men'!$C$7:$C$46,$A41,'4 x 25 Manikin Carry Relay Men'!$U$7:$U$46)))","v":1},{"$f":"IF($A41=\"\",\"\",IF(SUMIF('4 x 12m Line Throw Men'!$C$7:$C$46,$A41,'4 x 12m Line Throw Men'!$U$7:$U$46)=0,1+MAX('4 x 12m Line Throw Men'!$U$7:$U$46),SUMIF('4 x 12m Line Throw Men'!$C$7:$C$46,$A41,'4 x 12m Line Throw Men'!$U$7:$U$46)))","v":7},30,1]
[46,"Northfield",{"$f":"IF($A42=\"\",\"\",IF(SUMIF('50m Manikin Carry Men'!$C$7:$C$46,$A42,'50m Manikin Carry Men'!$X$7:$X$46)=0,1+MAX('50m Manikin Carry Men'!$X$7:$X$46),SUMIF('50m Manikin Carry Men'!$C$7:$C$46,$A42,'50m Manikin Carry Men'!$X$7:$X$46)))","v":6},{"$f":"IF($A42=\"\",\"\",IF(SUMIF('100m Manikin Carry Men'!$C$7:$C$46,$A42,'100m Manikin Carry Men'!$X$7:$X$46)=0,1+MAX('100m Manikin Carry Men'!$X$7:$X$46),SUMIF('100m Manikin Carry Men'!$C$7:$C$46,$A42,'100m Manikin Carry Men'!$X$7:$X$46)))","v":4},{"$f":"IF($A42=\"\",\"\",IF(SUMIF('100m Manikin Tow Men'!$C$7:$C$46,$A42,'100m Manikin Tow Men'!$X$7:$X$46)=0,1+MAX('100m Manikin Tow Men'!$X$7:$X$46),SUMIF('100m Manikin Tow Men'!$C$7:$C$46,$A42,'100m Manikin Tow Men'!$X$7:$X$46)))","v":5},{"$f":"IF($A42=\"\",\"\",IF(SUMIF('200m Obs Men'!$C$7:$C$46,$A42,'200m Obs Men'!$X$7:$X$46)=0,1+MAX('200m Obs Men'!$X$7:$X$46),SUMIF('200m Obs Men'!$C$7:$C$46,$A42,'200m Obs Men'!$X$7:$X$46)))","v":5},{"$f":"IF($A42=\"\",\"\",IF(SUMIF('200m Super Men'!$C$7:$C$46,$A42,'200m Super Men'!$X$7:$X$46)=0,1+MAX('200m Super Men'!$X$7:$X$46),SUMIF('200m Super Men'!$C$7:$C$46,$A42,'200m Super Men'!$X$7:$X$46)))","v":6},{"$f":"IF($A42=\"\",\"\",IF(SUMIF('100 Resue Men'!$C$7:$C$46,$A42,'100 Resue Men'!$X$7:$X$46)=0,MAX('100 Resue Men'!$X$7:$X$46),SUMIF('100 Resue Men'!$C$7:$C$46,$A42,'100 Resue Men'!$X$7:$X$46)))","v":4},{"$f":"IF($A42=\"\",\"\",IF(SUMIF('Line Throw Men'!$C$7:$C$46,$A42,'Line Throw Men'!$Z$7:$Z$46)=0,MAX('Line Throw Men'!$Z$7:$Z$46),SUMIF('Line Throw Men'!$C$7:$C$46,$A42,'Line Throw Men'!$Z$7:$Z$46)))","v":7},{"$f":"IF($A42=\"\",\"\",IF(SUMIF('4 x 50 Obs Relay Men'!$C$7:$C$46,$A42,'4 x 50 Obs Relay Men'!$U$7:$U$46)=0,1+MAX('4 x 50 Obs Relay Men'!$U$7:$U$46),SUMIF('4 x 50 Obs Relay Men'!$C$7:$C$46,$A42,'4 x 50 Obs Relay Men'!$U$7:$U$46)))","v":11},{"$f":"IF($A42=\"\",\"\",IF(SUMIF('4 x 50 medley Relay Men'!$C$7:$C$46,$A42,'4 x 50 medley Relay Men'!$U$7:$U$46)=0,1+MAX('4 x 50 medley Relay Men'!$U$7:$U$46),SUMIF('4 x 50 medley Relay Men'!$C$7:$C$46,$A42,'4 x 50 medley Relay Men'!$U$7:$U$46)))","v":11},{"$f":"IF($A42=\"\",\"\",IF(SUMIF('4 x 25 Manikin Carry Relay Men'!$C$7:$C$46,$A42,'4 x 25 Manikin Carry Relay Men'!$U$7:$U$46)=0,1+MAX('4 x 25 Manikin Carry Relay Men'!$U$7:$U$46),SUMIF('4 x 25 Manikin Carry Relay Men'!$C$7:$C$46,$A42,'4 x 25 Manikin Carry Relay Men'!$U$7:$U$46)))","v":10},{"$f":"IF($A42=\"\",\"\",IF(SUMIF('4 x 12m Line Throw Men'!$C$7:$C$46,$A42,'4 x 12m Line Throw Men'!$U$7:$U$46)=0,1+MAX('4 x 12m Line Throw Men'!$U$7:$U$46),SUMIF('4 x 12m Line Throw Men'!$C$7:$C$46,$A42,'4 x 12m Line Throw Men'!$U$7:$U$46)))","v":8},77,7]
[21,"Swansea Universities Lifesaving",{"$f":"IF($A43=\"\",\"\",IF(SUMIF('50m Manikin Carry Men'!$C$7:$C$46,$A43,'50m Manikin Carry Men'!$X$7:$X$46)=0,1+MAX('50m Manikin Carry Men'!$X$7:$X$46),SUMIF('50m Manikin Carry Men'!$C$7:$C$46,$A43,'50m Manikin Carry Men'!$X$7:$X$46)))","v":3},{"$f":"IF($A43=\"\",\"\",IF(SUMIF('100m Manikin Carry Men'!$C$7:$C$46,$A43,'100m Manikin Carry Men'!$X$7:$X$46)=0,1+MAX('100m Manikin Carry Men'!$X$7:$X$46),SUMIF('100m Manikin Carry Men'!$C$7:$C$46,$A43,'100m Manikin Carry Men'!$X$7:$X$46)))","v":3},{"$f":"IF($A43=\"\",\"\",IF(SUMIF('100m Manikin Tow Men'!$C$7:$C$46,$A43,'100m Manikin Tow Men'!$X$7:$X$46)=0,1+MAX('100m Manikin Tow Men'!$X$7:$X$46),SUMIF('100m Manikin Tow Men'!$C$7:$C$46,$A43,'100m Manikin Tow Men'!$X$7:$X$46)))","v":7},{"$f":"IF($A43=\"\",\"\",IF(SUMIF('200m Obs Men'!$C$7:$C$46,$A43,'200m Obs Men'!$X$7:$X$46)=0,1+MAX('200m Obs Men'!$X$7:$X$46),SUMIF('200m Obs Men'!$C$7:$C$46,$A43,'200m Obs Men'!$X$7:$X$46)))","v":4},{"$f":"IF($A43=\"\",\"\",IF(SUMIF('200m Super Men'!$C$7:$C$46,$A43,'200m Super Men'!$X$7:$X$46)=0,1+MAX('200m Super Men'!$X$7:$X$46),SUMIF('200m Super Men'!$C$7:$C$46,$A43,'200m Super Men'!$X$7:$X$46)))","v":1},{"$f":"IF($A43=\"\",\"\",IF(SUMIF('100 Resue Men'!$C$7:$C$46,$A43,'100 Resue Men'!$X$7:$X$46)=0,MAX('100 Resue Men'!$X$7:$X$46),SUMIF('100 Resue Men'!$C$7:$C$46,$A43,'100 Resue Men'!$X$7:$X$46)))","v":3},{"$f":"IF($A43=\"\",\"\",IF(SUMIF('Line Throw Men'!$C$7:$C$46,$A43,'Line Throw Men'!$Z$7:$Z$46)=0,MAX('Line Throw Men'!$Z$7:$Z$46),SUMIF('Line Throw Men'!$C$7:$C$46,$A43,'Line Throw Men'!$Z$7:$Z$46)))","v":3},{"$f":"IF($A43=\"\",\"\",IF(SUMIF('4 x 50 Obs Relay Men'!$C$7:$C$46,$A43,'4 x 50 Obs Relay Men'!$U$7:$U$46)=0,1+MAX('4 x 50 Obs Relay Men'!$U$7:$U$46),SUMIF('4 x 50 Obs Relay Men'!$C$7:$C$46,$A43,'4 x 50 Obs Relay Men'!$U$7:$U$46)))","v":2},{"$f":"IF($A43=\"\",\"\",IF(SUMIF('4 x 50 medley Relay Men'!$C$7:$C$46,$A43,'4 x 50 medley Relay Men'!$U$7:$U$46)=0,1+MAX('4 x 50 medley Relay Men'!$U$7:$U$46),SUMIF('4 x 50 medley Relay Men'!$C$7:$C$46,$A43,'4 x 50 medley Relay Men'!$U$7:$U$46)))","v":2},{"$f":"IF($A43=\"\",\"\",IF(SUMIF('4 x 25 Manikin Carry Relay Men'!$C$7:$C$46,$A43,'4 x 25 Manikin Carry Relay Men'!$U$7:$U$46)=0,1+MAX('4 x 25 Manikin Carry Relay Men'!$U$7:$U$46),SUMIF('4 x 25 Manikin Carry Relay Men'!$C$7:$C$46,$A43,'4 x 25 Manikin Carry Relay Men'!$U$7:$U$46)))","v":9},{"$f":"IF($A43=\"\",\"\",IF(SUMIF('4 x 12m Line Throw Men'!$C$7:$C$46,$A43,'4 x 12m Line Throw Men'!$U$7:$U$46)=0,1+MAX('4 x 12m Line Throw Men'!$U$7:$U$46),SUMIF('4 x 12m Line Throw Men'!$C$7:$C$46,$A43,'4 x 12m Line Throw Men'!$U$7:$U$46)))","v":4},41,2]
[2,"University of Bath",{"$f":"IF($A44=\"\",\"\",IF(SUMIF('50m Manikin Carry Men'!$C$7:$C$46,$A44,'50m Manikin Carry Men'!$X$7:$X$46)=0,1+MAX('50m Manikin Carry Men'!$X$7:$X$46),SUMIF('50m Manikin Carry Men'!$C$7:$C$46,$A44,'50m Manikin Carry Men'!$X$7:$X$46)))","v":14},{"$f":"IF($A44=\"\",\"\",IF(SUMIF('100m Manikin Carry Men'!$C$7:$C$46,$A44,'100m Manikin Carry Men'!$X$7:$X$46)=0,1+MAX('100m Manikin Carry Men'!$X$7:$X$46),SUMIF('100m Manikin Carry Men'!$C$7:$C$46,$A44,'100m Manikin Carry Men'!$X$7:$X$46)))","v":14},{"$f":"IF($A44=\"\",\"\",IF(SUMIF('100m Manikin Tow Men'!$C$7:$C$46,$A44,'100m Manikin Tow Men'!$X$7:$X$46)=0,1+MAX('100m Manikin Tow Men'!$X$7:$X$46),SUMIF('100m Manikin Tow Men'!$C$7:$C$46,$A44,'100m Manikin Tow Men'!$X$7:$X$46)))","v":15},{"$f":"IF($A44=\"\",\"\",IF(SUMIF('200m Obs Men'!$C$7:$C$46,$A44,'200m Obs Men'!$X$7:$X$46)=0,1+MAX('200m Obs Men'!$X$7:$X$46),SUMIF('200m Obs Men'!$C$7:$C$46,$A44,'200m Obs Men'!$X$7:$X$46)))","v":14},{"$f":"IF($A44=\"\",\"\",IF(SUMIF('200m Super Men'!$C$7:$C$46,$A44,'200m Super Men'!$X$7:$X$46)=0,1+MAX('200m Super Men'!$X$7:$X$46),SUMIF('200m Super Men'!$C$7:$C$46,$A44,'200m Super Men'!$X$7:$X$46)))","v":14},{"$f":"IF($A44=\"\",\"\",IF(SUMIF('100 Resue Men'!$C$7:$C$46,$A44,'100 Resue Men'!$X$7:$X$46)=0,MAX('100 Resue Men'!$X$7:$X$46),SUMIF('100 Resue Men'!$C$7:$C$46,$A44,'100 Resue Men'!$X$7:$X$46)))","v":13},{"$f":"IF($A44=\"\",\"\",IF(SUMIF('Line Throw Men'!$C$7:$C$46,$A44,'Line Throw Men'!$Z$7:$Z$46)=0,MAX('Line Throw Men'!$Z$7:$Z$46),SUMIF('Line Throw Men'!$C$7:$C$46,$A44,'Line Throw Men'!$Z$7:$Z$46)))","v":13},{"$f":"IF($A44=\"\",\"\",IF(SUMIF('4 x 50 Obs Relay Men'!$C$7:$C$46,$A44,'4 x 50 Obs Relay Men'!$U$7:$U$46)=0,1+MAX('4 x 50 Obs Relay Men'!$U$7:$U$46),SUMIF('4 x 50 Obs Relay Men'!$C$7:$C$46,$A44,'4 x 50 Obs Relay Men'!$U$7:$U$46)))","v":11},{"$f":"IF($A44=\"\",\"\",IF(SUMIF('4 x 50 medley Relay Men'!$C$7:$C$46,$A44,'4 x 50 medley Relay Men'!$U$7:$U$46)=0,1+MAX('4 x 50 medley Relay Men'!$U$7:$U$46),SUMIF('4 x 50 medley Relay Men'!$C$7:$C$46,$A44,'4 x 50 medley Relay Men'!$U$7:$U$46)))","v":11},{"$f":"IF($A44=\"\",\"\",IF(SUMIF('4 x 25 Manikin Carry Relay Men'!$C$7:$C$46,$A44,'4 x 25 Manikin Carry Relay Men'!$U$7:$U$46)=0,1+MAX('4 x 25 Manikin Carry Relay Men'!$U$7:$U$46),SUMIF('4 x 25 Manikin Carry Relay Men'!$C$7:$C$46,$A44,'4 x 25 Manikin Carry Relay Men'!$U$7:$U$46)))","v":10},{"$f":"IF($A44=\"\",\"\",IF(SUMIF('4 x 12m Line Throw Men'!$C$7:$C$46,$A44,'4 x 12m Line Throw Men'!$U$7:$U$46)=0,1+MAX('4 x 12m Line Throw Men'!$U$7:$U$46),SUMIF('4 x 12m Line Throw Men'!$C$7:$C$46,$A44,'4 x 12m Line Throw Men'!$U$7:$U$46)))","v":8},{"$f":"IF(A44=\"\",\"\",SUM(C44:M44))","v":137},{"$f":"IF(A44=\"\",\"\",RANK(N44,$N$39:$N$69,1))","v":15}]
[14,"University of Birmingham",{"$f":"IF($A45=\"\",\"\",IF(SUMIF('50m Manikin Carry Men'!$C$7:$C$46,$A45,'50m Manikin Carry Men'!$X$7:$X$46)=0,1+MAX('50m Manikin Carry Men'!$X$7:$X$46),SUMIF('50m Manikin Carry Men'!$C$7:$C$46,$A45,'50m Manikin Carry Men'!$X$7:$X$46)))","v":4},{"$f":"IF($A45=\"\",\"\",IF(SUMIF('100m Manikin Carry Men'!$C$7:$C$46,$A45,'100m Manikin Carry Men'!$X$7:$X$46)=0,1+MAX('100m Manikin Carry Men'!$X$7:$X$46),SUMIF('100m Manikin Carry Men'!$C$7:$C$46,$A45,'100m Manikin Carry Men'!$X$7:$X$46)))","v":6},{"$f":"IF($A45=\"\",\"\",IF(SUMIF('100m Manikin Tow Men'!$C$7:$C$46,$A45,'100m Manikin Tow Men'!$X$7:$X$46)=0,1+MAX('100m Manikin Tow Men'!$X$7:$X$46),SUMIF('100m Manikin Tow Men'!$C$7:$C$46,$A45,'100m Manikin Tow Men'!$X$7:$X$46)))","v":10},{"$f":"IF($A45=\"\",\"\",IF(SUMIF('200m Obs Men'!$C$7:$C$46,$A45,'200m Obs Men'!$X$7:$X$46)=0,1+MAX('200m Obs Men'!$X$7:$X$46),SUMIF('200m Obs Men'!$C$7:$C$46,$A45,'200m Obs Men'!$X$7:$X$46)))","v":6},{"$f":"IF($A45=\"\",\"\",IF(SUMIF('200m Super Men'!$C$7:$C$46,$A45,'200m Super Men'!$X$7:$X$46)=0,1+MAX('200m Super Men'!$X$7:$X$46),SUMIF('200m Super Men'!$C$7:$C$46,$A45,'200m Super Men'!$X$7:$X$46)))","v":4},{"$f":"IF($A45=\"\",\"\",IF(SUMIF('100 Resue Men'!$C$7:$C$46,$A45,'100 Resue Men'!$X$7:$X$46)=0,MAX('100 Resue Men'!$X$7:$X$46),SUMIF('100 Resue Men'!$C$7:$C$46,$A45,'100 Resue Men'!$X$7:$X$46)))","v":8},{"$f":"IF($A45=\"\",\"\",IF(SUMIF('Line Throw Men'!$C$7:$C$46,$A45,'Line Throw Men'!$Z$7:$Z$46)=0,MAX('Line Throw Men'!$Z$7:$Z$46),SUMIF('Line Throw Men'!$C$7:$C$46,$A45,'Line Throw Men'!$Z$7:$Z$46)))","v":9},{"$f":"IF($A45=\"\",\"\",IF(SUMIF('4 x 50 Obs Relay Men'!$C$7:$C$46,$A45,'4 x 50 Obs Relay Men'!$U$7:$U$46)=0,1+MAX('4 x 50 Obs Relay Men'!$U$7:$U$46),SUMIF('4 x 50 Obs Relay Men'!$C$7:$C$46,$A45,'4 x 50 Obs Relay Men'!$U$7:$U$46)))","v":10},{"$f":"IF($A45=\"\",\"\",IF(SUMIF('4 x 50 medley Relay Men'!$C$7:$C$46,$A45,'4 x 50 medley Relay Men'!$U$7:$U$46)=0,1+MAX('4 x 50 medley Relay Men'!$U$7:$U$46),SUMIF('4 x 50 medley Relay Men'!$C$7:$C$46,$A45,'4 x 50 medley Relay Men'!$U$7:$U$46)))","v":10},{"$f":"IF($A45=\"\",\"\",IF(SUMIF('4 x 25 Manikin Carry Relay Men'!$C$7:$C$46,$A45,'4 x 25 Manikin Carry Relay Men'!$U$7:$U$46)=0,1+MAX('4 x 25 Manikin Carry Relay Men'!$U$7:$U$46),SUMIF('4 x 25 Manikin Carry Relay Men'!$C$7:$C$46,$A45,'4 x 25 Manikin Carry Relay Men'!$U$7:$U$46)))","v":3},{"$f":"IF($A45=\"\",\"\",IF(SUMIF('4 x 12m Line Throw Men'!$C$7:$C$46,$A45,'4 x 12m Line Throw Men'!$U$7:$U$46)=0,1+MAX('4 x 12m Line Throw Men'!$U$7:$U$46),SUMIF('4 x 12m Line Throw Men'!$C$7:$C$46,$A45,'4 x 12m Line Throw Men'!$U$7:$U$46)))","v":2},72,5]
[5,"University of Cambridge",{"$f":"IF($A46=\"\",\"\",IF(SUMIF('50m Manikin Carry Men'!$C$7:$C$46,$A46,'50m Manikin Carry Men'!$X$7:$X$46)=0,1+MAX('50m Manikin Carry Men'!$X$7:$X$46),SUMIF('50m Manikin Carry Men'!$C$7:$C$46,$A46,'50m Manikin Carry Men'!$X$7:$X$46)))","v":12},{"$f":"IF($A46=\"\",\"\",IF(SUMIF('100m Manikin Carry Men'!$C$7:$C$46,$A46,'100m Manikin Carry Men'!$X$7:$X$46)=0,1+MAX('100m Manikin Carry Men'!$X$7:$X$46),SUMIF('100m Manikin Carry Men'!$C$7:$C$46,$A46,'100m Manikin Carry Men'!$X$7:$X$46)))","v":11},{"$f":"IF($A46=\"\",\"\",IF(SUMIF('100m Manikin Tow Men'!$C$7:$C$46,$A46,'100m Manikin Tow Men'!$X$7:$X$46)=0,1+MAX('100m Manikin Tow Men'!$X$7:$X$46),SUMIF('100m Manikin Tow Men'!$C$7:$C$46,$A46,'100m Manikin Tow Men'!$X$7:$X$46)))","v":11},{"$f":"IF($A46=\"\",\"\",IF(SUMIF('200m Obs Men'!$C$7:$C$46,$A46,'200m Obs Men'!$X$7:$X$46)=0,1+MAX('200m Obs Men'!$X$7:$X$46),SUMIF('200m Obs Men'!$C$7:$C$46,$A46,'200m Obs Men'!$X$7:$X$46)))","v":13},{"$f":"IF($A46=\"\",\"\",IF(SUMIF('200m Super Men'!$C$7:$C$46,$A46,'200m Super Men'!$X$7:$X$46)=0,1+MAX('200m Super Men'!$X$7:$X$46),SUMIF('200m Super Men'!$C$7:$C$46,$A46,'200m Super Men'!$X$7:$X$46)))","v":10},{"$f":"IF($A46=\"\",\"\",IF(SUMIF('100 Resue Men'!$C$7:$C$46,$A46,'100 Resue Men'!$X$7:$X$46)=0,MAX('100 Resue Men'!$X$7:$X$46),SUMIF('100 Resue Men'!$C$7:$C$46,$A46,'100 Resue Men'!$X$7:$X$46)))","v":12},{"$f":"IF($A46=\"\",\"\",IF(SUMIF('Line Throw Men'!$C$7:$C$46,$A46,'Line Throw Men'!$Z$7:$Z$46)=0,MAX('Line Throw Men'!$Z$7:$Z$46),SUMIF('Line Throw Men'!$C$7:$C$46,$A46,'Line Throw Men'!$Z$7:$Z$46)))","v":11},{"$f":"IF($A46=\"\",\"\",IF(SUMIF('4 x 50 Obs Relay Men'!$C$7:$C$46,$A46,'4 x 50 Obs Relay Men'!$U$7:$U$46)=0,1+MAX('4 x 50 Obs Relay Men'!$U$7:$U$46),SUMIF('4 x 50 Obs Relay Men'!$C$7:$C$46,$A46,'4 x 50 Obs Relay Men'!$U$7:$U$46)))","v":11},{"$f":"IF($A46=\"\",\"\",IF(SUMIF('4 x 50 medley Relay Men'!$C$7:$C$46,$A46,'4 x 50 medley Relay Men'!$U$7:$U$46)=0,1+MAX('4 x 50 medley Relay Men'!$U$7:$U$46),SUMIF('4 x 50 medley Relay Men'!$C$7:$C$46,$A46,'4 x 50 medley Relay Men'!$U$7:$U$46)))","v":11},{"$f":"IF($A46=\"\",\"\",IF(SUMIF('4 x 25 Manikin Carry Relay Men'!$C$7:$C$46,$A46,'4 x 25 Manikin Carry Relay Men'!$U$7:$U$46)=0,1+MAX('4 x 25 Manikin Carry Relay Men'!$U$7:$U$46),SUMIF('4 x 25 Manikin Carry Relay Men'!$C$7:$C$46,$A46,'4 x 25 Manikin Carry Relay Men'!$U$7:$U$46)))","v":10},{"$f":"IF($A46=\"\",\"\",IF(SUMIF('4 x 12m Line Throw Men'!$C$7:$C$46,$A46,'4 x 12m Line Throw Men'!$U$7:$U$46)=0,1+MAX('4 x 12m Line Throw Men'!$U$7:$U$46),SUMIF('4 x 12m Line Throw Men'!$C$7:$C$46,$A46,'4 x 12m Line Throw Men'!$U$7:$U$46)))","v":8},120,13]
[16,"University of London Union",{"$f":"IF($A47=\"\",\"\",IF(SUMIF('50m Manikin Carry Men'!$C$7:$C$46,$A47,'50m Manikin Carry Men'!$X$7:$X$46)=0,1+MAX('50m Manikin Carry Men'!$X$7:$X$46),SUMIF('50m Manikin Carry Men'!$C$7:$C$46,$A47,'50m Manikin Carry Men'!$X$7:$X$46)))","v":7},{"$f":"IF($A47=\"\",\"\",IF(SUMIF('100m Manikin Carry Men'!$C$7:$C$46,$A47,'100m Manikin Carry Men'!$X$7:$X$46)=0,1+MAX('100m Manikin Carry Men'!$X$7:$X$46),SUMIF('100m Manikin Carry Men'!$C$7:$C$46,$A47,'100m Manikin Carry Men'!$X$7:$X$46)))","v":9},{"$f":"IF($A47=\"\",\"\",IF(SUMIF('100m Manikin Tow Men'!$C$7:$C$46,$A47,'100m Manikin Tow Men'!$X$7:$X$46)=0,1+MAX('100m Manikin Tow Men'!$X$7:$X$46),SUMIF('100m Manikin Tow Men'!$C$7:$C$46,$A47,'100m Manikin Tow Men'!$X$7:$X$46)))","v":12},{"$f":"IF($A47=\"\",\"\",IF(SUMIF('200m Obs Men'!$C$7:$C$46,$A47,'200m Obs Men'!$X$7:$X$46)=0,1+MAX('200m Obs Men'!$X$7:$X$46),SUMIF('200m Obs Men'!$C$7:$C$46,$A47,'200m Obs Men'!$X$7:$X$46)))","v":12},{"$f":"IF($A47=\"\",\"\",IF(SUMIF('200m Super Men'!$C$7:$C$46,$A47,'200m Super Men'!$X$7:$X$46)=0,1+MAX('200m Super Men'!$X$7:$X$46),SUMIF('200m Super Men'!$C$7:$C$46,$A47,'200m Super Men'!$X$7:$X$46)))","v":9},{"$f":"IF($A47=\"\",\"\",IF(SUMIF('100 Resue Men'!$C$7:$C$46,$A47,'100 Resue Men'!$X$7:$X$46)=0,MAX('100 Resue Men'!$X$7:$X$46),SUMIF('100 Resue Men'!$C$7:$C$46,$A47,'100 Resue Men'!$X$7:$X$46)))","v":7},{"$f":"IF($A47=\"\",\"\",IF(SUMIF('Line Throw Men'!$C$7:$C$46,$A47,'Line Throw Men'!$Z$7:$Z$46)=0,MAX('Line Throw Men'!$Z$7:$Z$46),SUMIF('Line Throw Men'!$C$7:$C$46,$A47,'Line Throw Men'!$Z$7:$Z$46)))","v":6},{"$f":"IF($A47=\"\",\"\",IF(SUMIF('4 x 50 Obs Relay Men'!$C$7:$C$46,$A47,'4 x 50 Obs Relay Men'!$U$7:$U$46)=0,1+MAX('4 x 50 Obs Relay Men'!$U$7:$U$46),SUMIF('4 x 50 Obs Relay Men'!$C$7:$C$46,$A47,'4 x 50 Obs Relay Men'!$U$7:$U$46)))","v":9},{"$f":"IF($A47=\"\",\"\",IF(SUMIF('4 x 50 medley Relay Men'!$C$7:$C$46,$A47,'4 x 50 medley Relay Men'!$U$7:$U$46)=0,1+MAX('4 x 50 medley Relay Men'!$U$7:$U$46),SUMIF('4 x 50 medley Relay Men'!$C$7:$C$46,$A47,'4 x 50 medley Relay Men'!$U$7:$U$46)))","v":6},{"$f":"IF($A47=\"\",\"\",IF(SUMIF('4 x 25 Manikin Carry Relay Men'!$C$7:$C$46,$A47,'4 x 25 Manikin Carry Relay Men'!$U$7:$U$46)=0,1+MAX('4 x 25 Manikin Carry Relay Men'!$U$7:$U$46),SUMIF('4 x 25 Manikin Carry Relay Men'!$C$7:$C$46,$A47,'4 x 25 Manikin Carry Relay Men'!$U$7:$U$46)))","v":4},{"$f":"IF($A47=\"\",\"\",IF(SUMIF('4 x 12m Line Throw Men'!$C$7:$C$46,$A47,'4 x 12m Line Throw Men'!$U$7:$U$46)=0,1+MAX('4 x 12m Line Throw Men'!$U$7:$U$46),SUMIF('4 x 12m Line Throw Men'!$C$7:$C$46,$A47,'4 x 12m Line Throw Men'!$U$7:$U$46)))","v":5},86,9]
[8,"University of Nottingham",{"$f":"IF($A48=\"\",\"\",IF(SUMIF('50m Manikin Carry Men'!$C$7:$C$46,$A48,'50m Manikin Carry Men'!$X$7:$X$46)=0,1+MAX('50m Manikin Carry Men'!$X$7:$X$46),SUMIF('50m Manikin Carry Men'!$C$7:$C$46,$A48,'50m Manikin Carry Men'!$X$7:$X$46)))","v":9},{"$f":"IF($A48=\"\",\"\",IF(SUMIF('100m Manikin Carry Men'!$C$7:$C$46,$A48,'100m Manikin Carry Men'!$X$7:$X$46)=0,1+MAX('100m Manikin Carry Men'!$X$7:$X$46),SUMIF('100m Manikin Carry Men'!$C$7:$C$46,$A48,'100m Manikin Carry Men'!$X$7:$X$46)))","v":8},{"$f":"IF($A48=\"\",\"\",IF(SUMIF('100m Manikin Tow Men'!$C$7:$C$46,$A48,'100m Manikin Tow Men'!$X$7:$X$46)=0,1+MAX('100m Manikin Tow Men'!$X$7:$X$46),SUMIF('100m Manikin Tow Men'!$C$7:$C$46,$A48,'100m Manikin Tow Men'!$X$7:$X$46)))","v":8},{"$f":"IF($A48=\"\",\"\",IF(SUMIF('200m Obs Men'!$C$7:$C$46,$A48,'200m Obs Men'!$X$7:$X$46)=0,1+MAX('200m Obs Men'!$X$7:$X$46),SUMIF('200m Obs Men'!$C$7:$C$46,$A48,'200m Obs Men'!$X$7:$X$46)))","v":2},{"$f":"IF($A48=\"\",\"\",IF(SUMIF('200m Super Men'!$C$7:$C$46,$A48,'200m Super Men'!$X$7:$X$46)=0,1+MAX('200m Super Men'!$X$7:$X$46),SUMIF('200m Super Men'!$C$7:$C$46,$A48,'200m Super Men'!$X$7:$X$46)))","v":5},{"$f":"IF($A48=\"\",\"\",IF(SUMIF('100 Resue Men'!$C$7:$C$46,$A48,'100 Resue Men'!$X$7:$X$46)=0,MAX('100 Resue Men'!$X$7:$X$46),SUMIF('100 Resue Men'!$C$7:$C$46,$A48,'100 Resue Men'!$X$7:$X$46)))","v":13},{"$f":"IF($A48=\"\",\"\",IF(SUMIF('Line Throw Men'!$C$7:$C$46,$A48,'Line Throw Men'!$Z$7:$Z$46)=0,MAX('Line Throw Men'!$Z$7:$Z$46),SUMIF('Line Throw Men'!$C$7:$C$46,$A48,'Line Throw Men'!$Z$7:$Z$46)))","v":10},{"$f":"IF($A48=\"\",\"\",IF(SUMIF('4 x 50 Obs Relay Men'!$C$7:$C$46,$A48,'4 x 50 Obs Relay Men'!$U$7:$U$46)=0,1+MAX('4 x 50 Obs Relay Men'!$U$7:$U$46),SUMIF('4 x 50 Obs Relay Men'!$C$7:$C$46,$A48,'4 x 50 Obs Relay Men'!$U$7:$U$46)))","v":6},{"$f":"IF($A48=\"\",\"\",IF(SUMIF('4 x 50 medley Relay Men'!$C$7:$C$46,$A48,'4 x 50 medley Relay Men'!$U$7:$U$46)=0,1+MAX('4 x 50 medley Relay Men'!$U$7:$U$46),SUMIF('4 x 50 medley Relay Men'!$C$7:$C$46,$A48,'4 x 50 medley Relay Men'!$U$7:$U$46)))","v":8},{"$f":"IF($A48=\"\",\"\",IF(SUMIF('4 x 25 Manikin Carry Relay Men'!$C$7:$C$46,$A48,'4 x 25 Manikin Carry Relay Men'!$U$7:$U$46)=0,1+MAX('4 x 25 Manikin Carry Relay Men'!$U$7:$U$46),SUMIF('4 x 25 Manikin Carry Relay Men'!$C$7:$C$46,$A48,'4 x 25 Manikin Carry Relay Men'!$U$7:$U$46)))","v":5},{"$f":"IF($A48=\"\",\"\",IF(SUMIF('4 x 12m Line Throw Men'!$C$7:$C$46,$A48,'4 x 12m Line Throw Men'!$U$7:$U$46)=0,1+MAX('4 x 12m Line Throw Men'!$U$7:$U$46),SUMIF('4 x 12m Line Throw Men'!$C$7:$C$46,$A48,'4 x 12m Line Throw Men'!$U$7:$U$46)))","v":1},75,6]
[18,"University of Oxford",{"$f":"IF($A49=\"\",\"\",IF(SUMIF('50m Manikin Carry Men'!$C$7:$C$46,$A49,'50m Manikin Carry Men'!$X$7:$X$46)=0,1+MAX('50m Manikin Carry Men'!$X$7:$X$46),SUMIF('50m Manikin Carry Men'!$C$7:$C$46,$A49,'50m Manikin Carry Men'!$X$7:$X$46)))","v":11},{"$f":"IF($A49=\"\",\"\",IF(SUMIF('100m Manikin Carry Men'!$C$7:$C$46,$A49,'100m Manikin Carry Men'!$X$7:$X$46)=0,1+MAX('100m Manikin Carry Men'!$X$7:$X$46),SUMIF('100m Manikin Carry Men'!$C$7:$C$46,$A49,'100m Manikin Carry Men'!$X$7:$X$46)))","v":12},{"$f":"IF($A49=\"\",\"\",IF(SUMIF('100m Manikin Tow Men'!$C$7:$C$46,$A49,'100m Manikin Tow Men'!$X$7:$X$46)=0,1+MAX('100m Manikin Tow Men'!$X$7:$X$46),SUMIF('100m Manikin Tow Men'!$C$7:$C$46,$A49,'100m Manikin Tow Men'!$X$7:$X$46)))","v":14},{"$f":"IF($A49=\"\",\"\",IF(SUMIF('200m Obs Men'!$C$7:$C$46,$A49,'200m Obs Men'!$X$7:$X$46)=0,1+MAX('200m Obs Men'!$X$7:$X$46),SUMIF('200m Obs Men'!$C$7:$C$46,$A49,'200m Obs Men'!$X$7:$X$46)))","v":7},{"$f":"IF($A49=\"\",\"\",IF(SUMIF('200m Super Men'!$C$7:$C$46,$A49,'200m Super Men'!$X$7:$X$46)=0,1+MAX('200m Super Men'!$X$7:$X$46),SUMIF('200m Super Men'!$C$7:$C$46,$A49,'200m Super Men'!$X$7:$X$46)))","v":12},{"$f":"IF($A49=\"\",\"\",IF(SUMIF('100 Resue Men'!$C$7:$C$46,$A49,'100 Resue Men'!$X$7:$X$46)=0,MAX('100 Resue Men'!$X$7:$X$46),SUMIF('100 Resue Men'!$C$7:$C$46,$A49,'100 Resue Men'!$X$7:$X$46)))","v":11},{"$f":"IF($A49=\"\",\"\",IF(SUMIF('Line Throw Men'!$C$7:$C$46,$A49,'Line Throw Men'!$Z$7:$Z$46)=0,MAX('Line Throw Men'!$Z$7:$Z$46),SUMIF('Line Throw Men'!$C$7:$C$46,$A49,'Line Throw Men'!$Z$7:$Z$46)))","v":8},{"$f":"IF($A49=\"\",\"\",IF(SUMIF('4 x 50 Obs Relay Men'!$C$7:$C$46,$A49,'4 x 50 Obs Relay Men'!$U$7:$U$46)=0,1+MAX('4 x 50 Obs Relay Men'!$U$7:$U$46),SUMIF('4 x 50 Obs Relay Men'!$C$7:$C$46,$A49,'4 x 50 Obs Relay Men'!$U$7:$U$46)))","v":8},{"$f":"IF($A49=\"\",\"\",IF(SUMIF('4 x 50 medley Relay Men'!$C$7:$C$46,$A49,'4 x 50 medley Relay Men'!$U$7:$U$46)=0,1+MAX('4 x 50 medley Relay Men'!$U$7:$U$46),SUMIF('4 x 50 medley Relay Men'!$C$7:$C$46,$A49,'4 x 50 medley Relay Men'!$U$7:$U$46)))","v":9},{"$f":"IF($A49=\"\",\"\",IF(SUMIF('4 x 25 Manikin Carry Relay Men'!$C$7:$C$46,$A49,'4 x 25 Manikin Carry Relay Men'!$U$7:$U$46)=0,1+MAX('4 x 25 Manikin Carry Relay Men'!$U$7:$U$46),SUMIF('4 x 25 Manikin Carry Relay Men'!$C$7:$C$46,$A49,'4 x 25 Manikin Carry Relay Men'!$U$7:$U$46)))","v":6},{"$f":"IF($A49=\"\",\"\",IF(SUMIF('4 x 12m Line Throw Men'!$C$7:$C$46,$A49,'4 x 12m Line Throw Men'!$U$7:$U$46)=0,1+MAX('4 x 12m Line Throw Men'!$U$7:$U$46),SUMIF('4 x 12m Line Throw Men'!$C$7:$C$46,$A49,'4 x 12m Line Throw Men'!$U$7:$U$46)))","v":6},104,12]
[9,"University of Plymouth",13,{"$f":"IF($A50=\"\",\"\",IF(SUMIF('100m Manikin Carry Men'!$C$7:$C$46,$A50,'100m Manikin Carry Men'!$X$7:$X$46)=0,1+MAX('100m Manikin Carry Men'!$X$7:$X$46),SUMIF('100m Manikin Carry Men'!$C$7:$C$46,$A50,'100m Manikin Carry Men'!$X$7:$X$46)))","v":7},{"$f":"IF($A50=\"\",\"\",IF(SUMIF('100m Manikin Tow Men'!$C$7:$C$46,$A50,'100m Manikin Tow Men'!$X$7:$X$46)=0,1+MAX('100m Manikin Tow Men'!$X$7:$X$46),SUMIF('100m Manikin Tow Men'!$C$7:$C$46,$A50,'100m Manikin Tow Men'!$X$7:$X$46)))","v":13},{"$f":"IF($A50=\"\",\"\",IF(SUMIF('200m Obs Men'!$C$7:$C$46,$A50,'200m Obs Men'!$X$7:$X$46)=0,1+MAX('200m Obs Men'!$X$7:$X$46),SUMIF('200m Obs Men'!$C$7:$C$46,$A50,'200m Obs Men'!$X$7:$X$46)))","v":9},{"$f":"IF($A50=\"\",\"\",IF(SUMIF('200m Super Men'!$C$7:$C$46,$A50,'200m Super Men'!$X$7:$X$46)=0,1+MAX('200m Super Men'!$X$7:$X$46),SUMIF('200m Super Men'!$C$7:$C$46,$A50,'200m Super Men'!$X$7:$X$46)))","v":13},{"$f":"IF($A50=\"\",\"\",IF(SUMIF('100 Resue Men'!$C$7:$C$46,$A50,'100 Resue Men'!$X$7:$X$46)=0,MAX('100 Resue Men'!$X$7:$X$46),SUMIF('100 Resue Men'!$C$7:$C$46,$A50,'100 Resue Men'!$X$7:$X$46)))","v":9},{"$f":"IF($A50=\"\",\"\",IF(SUMIF('Line Throw Men'!$C$7:$C$46,$A50,'Line Throw Men'!$Z$7:$Z$46)=0,MAX('Line Throw Men'!$Z$7:$Z$46),SUMIF('Line Throw Men'!$C$7:$C$46,$A50,'Line Throw Men'!$Z$7:$Z$46)))","v":5},{"$f":"IF($A50=\"\",\"\",IF(SUMIF('4 x 50 Obs Relay Men'!$C$7:$C$46,$A50,'4 x 50 Obs Relay Men'!$U$7:$U$46)=0,1+MAX('4 x 50 Obs Relay Men'!$U$7:$U$46),SUMIF('4 x 50 Obs Relay Men'!$C$7:$C$46,$A50,'4 x 50 Obs Relay Men'!$U$7:$U$46)))","v":4},{"$f":"IF($A50=\"\",\"\",IF(SUMIF('4 x 50 medley Relay Men'!$C$7:$C$46,$A50,'4 x 50 medley Relay Men'!$U$7:$U$46)=0,1+MAX('4 x 50 medley Relay Men'!$U$7:$U$46),SUMIF('4 x 50 medley Relay Men'!$C$7:$C$46,$A50,'4 x 50 medley Relay Men'!$U$7:$U$46)))","v":4},{"$f":"IF($A50=\"\",\"\",IF(SUMIF('4 x 25 Manikin Carry Relay Men'!$C$7:$C$46,$A50,'4 x 25 Manikin Carry Relay Men'!$U$7:$U$46)=0,1+MAX('4 x 25 Manikin Carry Relay Men'!$U$7:$U$46),SUMIF('4 x 25 Manikin Carry Relay Men'!$C$7:$C$46,$A50,'4 x 25 Manikin Carry Relay Men'!$U$7:$U$46)))","v":8},{"$f":"IF($A50=\"\",\"\",IF(SUMIF('4 x 12m Line Throw Men'!$C$7:$C$46,$A50,'4 x 12m Line Throw Men'!$U$7:$U$46)=0,1+MAX('4 x 12m Line Throw Men'!$U$7:$U$46),SUMIF('4 x 12m Line Throw Men'!$C$7:$C$46,$A50,'4 x 12m Line Throw Men'!$U$7:$U$46)))","v":3},88,10]
[20,"University of Southampton",{"$f":"IF($A51=\"\",\"\",IF(SUMIF('50m Manikin Carry Men'!$C$7:$C$46,$A51,'50m Manikin Carry Men'!$X$7:$X$46)=0,1+MAX('50m Manikin Carry Men'!$X$7:$X$46),SUMIF('50m Manikin Carry Men'!$C$7:$C$46,$A51,'50m Manikin Carry Men'!$X$7:$X$46)))","v":5},{"$f":"IF($A51=\"\",\"\",IF(SUMIF('100m Manikin Carry Men'!$C$7:$C$46,$A51,'100m Manikin Carry Men'!$X$7:$X$46)=0,1+MAX('100m Manikin Carry Men'!$X$7:$X$46),SUMIF('100m Manikin Carry Men'!$C$7:$C$46,$A51,'100m Manikin Carry Men'!$X$7:$X$46)))","v":2},{"$f":"IF($A51=\"\",\"\",IF(SUMIF('100m Manikin Tow Men'!$C$7:$C$46,$A51,'100m Manikin Tow Men'!$X$7:$X$46)=0,1+MAX('100m Manikin Tow Men'!$X$7:$X$46),SUMIF('100m Manikin Tow Men'!$C$7:$C$46,$A51,'100m Manikin Tow Men'!$X$7:$X$46)))","v":6},{"$f":"IF($A51=\"\",\"\",IF(SUMIF('200m Obs Men'!$C$7:$C$46,$A51,'200m Obs Men'!$X$7:$X$46)=0,1+MAX('200m Obs Men'!$X$7:$X$46),SUMIF('200m Obs Men'!$C$7:$C$46,$A51,'200m Obs Men'!$X$7:$X$46)))","v":8},{"$f":"IF($A51=\"\",\"\",IF(SUMIF('200m Super Men'!$C$7:$C$46,$A51,'200m Super Men'!$X$7:$X$46)=0,1+MAX('200m Super Men'!$X$7:$X$46),SUMIF('200m Super Men'!$C$7:$C$46,$A51,'200m Super Men'!$X$7:$X$46)))","v":8},{"$f":"IF($A51=\"\",\"\",IF(SUMIF('100 Resue Men'!$C$7:$C$46,$A51,'100 Resue Men'!$X$7:$X$46)=0,MAX('100 Resue Men'!$X$7:$X$46),SUMIF('100 Resue Men'!$C$7:$C$46,$A51,'100 Resue Men'!$X$7:$X$46)))","v":5},{"$f":"IF($A51=\"\",\"\",IF(SUMIF('Line Throw Men'!$C$7:$C$46,$A51,'Line Throw Men'!$Z$7:$Z$46)=0,MAX('Line Throw Men'!$Z$7:$Z$46),SUMIF('Line Throw Men'!$C$7:$C$46,$A51,'Line Throw Men'!$Z$7:$Z$46)))","v":2},{"$f":"IF($A51=\"\",\"\",IF(SUMIF('4 x 50 Obs Relay Men'!$C$7:$C$46,$A51,'4 x 50 Obs Relay Men'!$U$7:$U$46)=0,1+MAX('4 x 50 Obs Relay Men'!$U$7:$U$46),SUMIF('4 x 50 Obs Relay Men'!$C$7:$C$46,$A51,'4 x 50 Obs Relay Men'!$U$7:$U$46)))","v":3},{"$f":"IF($A51=\"\",\"\",IF(SUMIF('4 x 50 medley Relay Men'!$C$7:$C$46,$A51,'4 x 50 medley Relay Men'!$U$7:$U$46)=0,1+MAX('4 x 50 medley Relay Men'!$U$7:$U$46),SUMIF('4 x 50 medley Relay Men'!$C$7:$C$46,$A51,'4 x 50 medley Relay Men'!$U$7:$U$46)))","v":3},{"$f":"IF($A51=\"\",\"\",IF(SUMIF('4 x 25 Manikin Carry Relay Men'!$C$7:$C$46,$A51,'4 x 25 Manikin Carry Relay Men'!$U$7:$U$46)=0,1+MAX('4 x 25 Manikin Carry Relay Men'!$U$7:$U$46),SUMIF('4 x 25 Manikin Carry Relay Men'!$C$7:$C$46,$A51,'4 x 25 Manikin Carry Relay Men'!$U$7:$U$46)))","v":2},{"$f":"IF($A51=\"\",\"\",IF(SUMIF('4 x 12m Line Throw Men'!$C$7:$C$46,$A51,'4 x 12m Line Throw Men'!$U$7:$U$46)=0,1+MAX('4 x 12m Line Throw Men'!$U$7:$U$46),SUMIF('4 x 12m Line Throw Men'!$C$7:$C$46,$A51,'4 x 12m Line Throw Men'!$U$7:$U$46)))","v":7},51,3]
[12,"University of Warwick",{"$f":"IF($A52=\"\",\"\",IF(SUMIF('50m Manikin Carry Men'!$C$7:$C$46,$A52,'50m Manikin Carry Men'!$X$7:$X$46)=0,1+MAX('50m Manikin Carry Men'!$X$7:$X$46),SUMIF('50m Manikin Carry Men'!$C$7:$C$46,$A52,'50m Manikin Carry Men'!$X$7:$X$46)))","v":8},{"$f":"IF($A52=\"\",\"\",IF(SUMIF('100m Manikin Carry Men'!$C$7:$C$46,$A52,'100m Manikin Carry Men'!$X$7:$X$46)=0,1+MAX('100m Manikin Carry Men'!$X$7:$X$46),SUMIF('100m Manikin Carry Men'!$C$7:$C$46,$A52,'100m Manikin Carry Men'!$X$7:$X$46)))","v":5},{"$f":"IF($A52=\"\",\"\",IF(SUMIF('100m Manikin Tow Men'!$C$7:$C$46,$A52,'100m Manikin Tow Men'!$X$7:$X$46)=0,1+MAX('100m Manikin Tow Men'!$X$7:$X$46),SUMIF('100m Manikin Tow Men'!$C$7:$C$46,$A52,'100m Manikin Tow Men'!$X$7:$X$46)))","v":4},{"$f":"IF($A52=\"\",\"\",IF(SUMIF('200m Obs Men'!$C$7:$C$46,$A52,'200m Obs Men'!$X$7:$X$46)=0,1+MAX('200m Obs Men'!$X$7:$X$46),SUMIF('200m Obs Men'!$C$7:$C$46,$A52,'200m Obs Men'!$X$7:$X$46)))","v":10},{"$f":"IF($A52=\"\",\"\",IF(SUMIF('200m Super Men'!$C$7:$C$46,$A52,'200m Super Men'!$X$7:$X$46)=0,1+MAX('200m Super Men'!$X$7:$X$46),SUMIF('200m Super Men'!$C$7:$C$46,$A52,'200m Super Men'!$X$7:$X$46)))","v":7},{"$f":"IF($A52=\"\",\"\",IF(SUMIF('100 Resue Men'!$C$7:$C$46,$A52,'100 Resue Men'!$X$7:$X$46)=0,MAX('100 Resue Men'!$X$7:$X$46),SUMIF('100 Resue Men'!$C$7:$C$46,$A52,'100 Resue Men'!$X$7:$X$46)))","v":6},{"$f":"IF($A52=\"\",\"\",IF(SUMIF('Line Throw Men'!$C$7:$C$46,$A52,'Line Throw Men'!$Z$7:$Z$46)=0,MAX('Line Throw Men'!$Z$7:$Z$46),SUMIF('Line Throw Men'!$C$7:$C$46,$A52,'Line Throw Men'!$Z$7:$Z$46)))","v":1},{"$f":"IF($A52=\"\",\"\",IF(SUMIF('4 x 50 Obs Relay Men'!$C$7:$C$46,$A52,'4 x 50 Obs Relay Men'!$U$7:$U$46)=0,1+MAX('4 x 50 Obs Relay Men'!$U$7:$U$46),SUMIF('4 x 50 Obs Relay Men'!$C$7:$C$46,$A52,'4 x 50 Obs Relay Men'!$U$7:$U$46)))","v":5},{"$f":"IF($A52=\"\",\"\",IF(SUMIF('4 x 50 medley Relay Men'!$C$7:$C$46,$A52,'4 x 50 medley Relay Men'!$U$7:$U$46)=0,1+MAX('4 x 50 medley Relay Men'!$U$7:$U$46),SUMIF('4 x 50 medley Relay Men'!$C$7:$C$46,$A52,'4 x 50 medley Relay Men'!$U$7:$U$46)))","v":5},{"$f":"IF($A52=\"\",\"\",IF(SUMIF('4 x 25 Manikin Carry Relay Men'!$C$7:$C$46,$A52,'4 x 25 Manikin Carry Relay Men'!$U$7:$U$46)=0,1+MAX('4 x 25 Manikin Carry Relay Men'!$U$7:$U$46),SUMIF('4 x 25 Manikin Carry Relay Men'!$C$7:$C$46,$A52,'4 x 25 Manikin Carry Relay Men'!$U$7:$U$46)))","v":9},{"$f":"IF($A52=\"\",\"\",IF(SUMIF('4 x 12m Line Throw Men'!$C$7:$C$46,$A52,'4 x 12m Line Throw Men'!$U$7:$U$46)=0,1+MAX('4 x 12m Line Throw Men'!$U$7:$U$46),SUMIF('4 x 12m Line Throw Men'!$C$7:$C$46,$A52,'4 x 12m Line Throw Men'!$U$7:$U$46)))","v":7},67,4]
[11,"St. Andrews",{"$f":"IF($A53=\"\",\"\",IF(SUMIF('50m Manikin Carry Men'!$C$7:$C$46,$A53,'50m Manikin Carry Men'!$X$7:$X$46)=0,1+MAX('50m Manikin Carry Men'!$X$7:$X$46),SUMIF('50m Manikin Carry Men'!$C$7:$C$46,$A53,'50m Manikin Carry Men'!$X$7:$X$46)))","v":10},{"$f":"IF($A53=\"\",\"\",IF(SUMIF('100m Manikin Carry Men'!$C$7:$C$46,$A53,'100m Manikin Carry Men'!$X$7:$X$46)=0,1+MAX('100m Manikin Carry Men'!$X$7:$X$46),SUMIF('100m Manikin Carry Men'!$C$7:$C$46,$A53,'100m Manikin Carry Men'!$X$7:$X$46)))","v":10},{"$f":"IF($A53=\"\",\"\",IF(SUMIF('100m Manikin Tow Men'!$C$7:$C$46,$A53,'100m Manikin Tow Men'!$X$7:$X$46)=0,1+MAX('100m Manikin Tow Men'!$X$7:$X$46),SUMIF('100m Manikin Tow Men'!$C$7:$C$46,$A53,'100m Manikin Tow Men'!$X$7:$X$46)))","v":9},{"$f":"IF($A53=\"\",\"\",IF(SUMIF('200m Obs Men'!$C$7:$C$46,$A53,'200m Obs Men'!$X$7:$X$46)=0,1+MAX('200m Obs Men'!$X$7:$X$46),SUMIF('200m Obs Men'!$C$7:$C$46,$A53,'200m Obs Men'!$X$7:$X$46)))","v":11},{"$f":"IF($A53=\"\",\"\",IF(SUMIF('200m Super Men'!$C$7:$C$46,$A53,'200m Super Men'!$X$7:$X$46)=0,1+MAX('200m Super Men'!$X$7:$X$46),SUMIF('200m Super Men'!$C$7:$C$46,$A53,'200m Super Men'!$X$7:$X$46)))","v":11},{"$f":"IF($A53=\"\",\"\",IF(SUMIF('100 Resue Men'!$C$7:$C$46,$A53,'100 Resue Men'!$X$7:$X$46)=0,MAX('100 Resue Men'!$X$7:$X$46),SUMIF('100 Resue Men'!$C$7:$C$46,$A53,'100 Resue Men'!$X$7:$X$46)))","v":10},{"$f":"IF($A53=\"\",\"\",IF(SUMIF('Line Throw Men'!$C$7:$C$46,$A53,'Line Throw Men'!$Z$7:$Z$46)=0,MAX('Line Throw Men'!$Z$7:$Z$46),SUMIF('Line Throw Men'!$C$7:$C$46,$A53,'Line Throw Men'!$Z$7:$Z$46)))","v":4},{"$f":"IF($A53=\"\",\"\",IF(SUMIF('4 x 50 Obs Relay Men'!$C$7:$C$46,$A53,'4 x 50 Obs Relay Men'!$U$7:$U$46)=0,1+MAX('4 x 50 Obs Relay Men'!$U$7:$U$46),SUMIF('4 x 50 Obs Relay Men'!$C$7:$C$46,$A53,'4 x 50 Obs Relay Men'!$U$7:$U$46)))","v":7},{"$f":"IF($A53=\"\",\"\",IF(SUMIF('4 x 50 medley Relay Men'!$C$7:$C$46,$A53,'4 x 50 medley Relay Men'!$U$7:$U$46)=0,1+MAX('4 x 50 medley Relay Men'!$U$7:$U$46),SUMIF('4 x 50 medley Relay Men'!$C$7:$C$46,$A53,'4 x 50 medley Relay Men'!$U$7:$U$46)))","v":7},{"$f":"IF($A53=\"\",\"\",IF(SUMIF('4 x 25 Manikin Carry Relay Men'!$C$7:$C$46,$A53,'4 x 25 Manikin Carry Relay Men'!$U$7:$U$46)=0,1+MAX('4 x 25 Manikin Carry Relay Men'!$U$7:$U$46),SUMIF('4 x 25 Manikin Carry Relay Men'!$C$7:$C$46,$A53,'4 x 25 Manikin Carry Relay Men'!$U$7:$U$46)))","v":7},{"$f":"IF($A53=\"\",\"\",IF(SUMIF('4 x 12m Line Throw Men'!$C$7:$C$46,$A53,'4 x 12m Line Throw Men'!$U$7:$U$46)=0,1+MAX('4 x 12m Line Throw Men'!$U$7:$U$46),SUMIF('4 x 12m Line Throw Men'!$C$7:$C$46,$A53,'4 x 12m Line Throw Men'!$U$7:$U$46)))","v":7},93,11]
["","",{"$f":"IF($A54=\"\",\"\",IF(SUMIF('50m Manikin Carry Men'!$C$7:$C$46,$A54,'50m Manikin Carry Men'!$X$7:$X$46)=0,1+MAX('50m Manikin Carry Men'!$X$7:$X$46),SUMIF('50m Manikin Carry Men'!$C$7:$C$46,$A54,'50m Manikin Carry Men'!$X$7:$X$46)))","v":""},{"$f":"IF($A54=\"\",\"\",IF(SUMIF('100m Manikin Carry Men'!$C$7:$C$46,$A54,'100m Manikin Carry Men'!$X$7:$X$46)=0,1+MAX('100m Manikin Carry Men'!$X$7:$X$46),SUMIF('100m Manikin Carry Men'!$C$7:$C$46,$A54,'100m Manikin Carry Men'!$X$7:$X$46)))","v":""},{"$f":"IF($A54=\"\",\"\",IF(SUMIF('100m Manikin Tow Men'!$C$7:$C$46,$A54,'100m Manikin Tow Men'!$X$7:$X$46)=0,1+MAX('100m Manikin Tow Men'!$X$7:$X$46),SUMIF('100m Manikin Tow Men'!$C$7:$C$46,$A54,'100m Manikin Tow Men'!$X$7:$X$46)))","v":""},{"$f":"IF($A54=\"\",\"\",IF(SUMIF('200m Obs Men'!$C$7:$C$46,$A54,'200m Obs Men'!$X$7:$X$46)=0,1+MAX('200m Obs Men'!$X$7:$X$46),SUMIF('200m Obs Men'!$C$7:$C$46,$A54,'200m Obs Men'!$X$7:$X$46)))","v":""},{"$f":"IF($A54=\"\",\"\",IF(SUMIF('200m Super Men'!$C$7:$C$46,$A54,'200m Super Men'!$X$7:$X$46)=0,1+MAX('200m Super Men'!$X$7:$X$46),SUMIF('200m Super Men'!$C$7:$C$46,$A54,'200m Super Men'!$X$7:$X$46)))","v":""},{"$f":"IF($A54=\"\",\"\",IF(SUMIF('100 Resue Men'!$C$7:$C$46,$A54,'100 Resue Men'!$X$7:$X$46)=0,MAX('100 Resue Men'!$X$7:$X$46),SUMIF('100 Resue Men'!$C$7:$C$46,$A54,'100 Resue Men'!$X$7:$X$46)))","v":""},{"$f":"IF($A54=\"\",\"\",IF(SUMIF('Line Throw Men'!$C$7:$C$46,$A54,'Line Throw Men'!$Z$7:$Z$46)=0,MAX('Line Throw Men'!$Z$7:$Z$46),SUMIF('Line Throw Men'!$C$7:$C$46,$A54,'Line Throw Men'!$Z$7:$Z$46)))","v":""},{"$f":"IF($A54=\"\",\"\",IF(SUMIF('4 x 50 Obs Relay Men'!$C$7:$C$46,$A54,'4 x 50 Obs Relay Men'!$U$7:$U$46)=0,1+MAX('4 x 50 Obs Relay Men'!$U$7:$U$46),SUMIF('4 x 50 Obs Relay Men'!$C$7:$C$46,$A54,'4 x 50 Obs Relay Men'!$U$7:$U$46)))","v":""},{"$f":"IF($A54=\"\",\"\",IF(SUMIF('4 x 50 medley Relay Men'!$C$7:$C$46,$A54,'4 x 50 medley Relay Men'!$U$7:$U$46)=0,1+MAX('4 x 50 medley Relay Men'!$U$7:$U$46),SUMIF('4 x 50 medley Relay Men'!$C$7:$C$46,$A54,'4 x 50 medley Relay Men'!$U$7:$U$46)))","v":""},{"$f":"IF($A54=\"\",\"\",IF(SUMIF('4 x 25 Manikin Carry Relay Men'!$C$7:$C$46,$A54,'4 x 25 Manikin Carry Relay Men'!$U$7:$U$46)=0,1+MAX('4 x 25 Manikin Carry Relay Men'!$U$7:$U$46),SUMIF('4 x 25 Manikin Carry Relay Men'!$C$7:$C$46,$A54,'4 x 25 Manikin Carry Relay Men'!$U$7:$U$46)))","v":""},{"$f":"IF($A54=\"\",\"\",IF(SUMIF('4 x 12m Line Throw Men'!$C$7:$C$46,$A54,'4 x 12m Line Throw Men'!$U$7:$U$46)=0,1+MAX('4 x 12m Line Throw Men'!$U$7:$U$46),SUMIF('4 x 12m Line Throw Men'!$C$7:$C$46,$A54,'4 x 12m Line Throw Men'!$U$7:$U$46)))","v":""},"",""]
["","",{"$f":"IF($A55=\"\",\"\",IF(SUMIF('50m Manikin Carry Men'!$C$7:$C$46,$A55,'50m Manikin Carry Men'!$X$7:$X$46)=0,1+MAX('50m Manikin Carry Men'!$X$7:$X$46),SUMIF('50m Manikin Carry Men'!$C$7:$C$46,$A55,'50m Manikin Carry Men'!$X$7:$X$46)))","v":""},{"$f":"IF($A55=\"\",\"\",IF(SUMIF('100m Manikin Carry Men'!$C$7:$C$46,$A55,'100m Manikin Carry Men'!$X$7:$X$46)=0,1+MAX('100m Manikin Carry Men'!$X$7:$X$46),SUMIF('100m Manikin Carry Men'!$C$7:$C$46,$A55,'100m Manikin Carry Men'!$X$7:$X$46)))","v":""},{"$f":"IF($A55=\"\",\"\",IF(SUMIF('100m Manikin Tow Men'!$C$7:$C$46,$A55,'100m Manikin Tow Men'!$X$7:$X$46)=0,1+MAX('100m Manikin Tow Men'!$X$7:$X$46),SUMIF('100m Manikin Tow Men'!$C$7:$C$46,$A55,'100m Manikin Tow Men'!$X$7:$X$46)))","v":""},{"$f":"IF($A55=\"\",\"\",IF(SUMIF('200m Obs Men'!$C$7:$C$46,$A55,'200m Obs Men'!$X$7:$X$46)=0,1+MAX('200m Obs Men'!$X$7:$X$46),SUMIF('200m Obs Men'!$C$7:$C$46,$A55,'200m Obs Men'!$X$7:$X$46)))","v":""},{"$f":"IF($A55=\"\",\"\",IF(SUMIF('200m Super Men'!$C$7:$C$46,$A55,'200m Super Men'!$X$7:$X$46)=0,1+MAX('200m Super Men'!$X$7:$X$46),SUMIF('200m Super Men'!$C$7:$C$46,$A55,'200m Super Men'!$X$7:$X$46)))","v":""},{"$f":"IF($A55=\"\",\"\",IF(SUMIF('100 Resue Men'!$C$7:$C$46,$A55,'100 Resue Men'!$X$7:$X$46)=0,MAX('100 Resue Men'!$X$7:$X$46),SUMIF('100 Resue Men'!$C$7:$C$46,$A55,'100 Resue Men'!$X$7:$X$46)))","v":""},{"$f":"IF($A55=\"\",\"\",IF(SUMIF('Line Throw Men'!$C$7:$C$46,$A55,'Line Throw Men'!$Z$7:$Z$46)=0,MAX('Line Throw Men'!$Z$7:$Z$46),SUMIF('Line Throw Men'!$C$7:$C$46,$A55,'Line Throw Men'!$Z$7:$Z$46)))","v":""},{"$f":"IF($A55=\"\",\"\",IF(SUMIF('4 x 50 Obs Relay Men'!$C$7:$C$46,$A55,'4 x 50 Obs Relay Men'!$U$7:$U$46)=0,1+MAX('4 x 50 Obs Relay Men'!$U$7:$U$46),SUMIF('4 x 50 Obs Relay Men'!$C$7:$C$46,$A55,'4 x 50 Obs Relay Men'!$U$7:$U$46)))","v":""},{"$f":"IF($A55=\"\",\"\",IF(SUMIF('4 x 50 medley Relay Men'!$C$7:$C$46,$A55,'4 x 50 medley Relay Men'!$U$7:$U$46)=0,1+MAX('4 x 50 medley Relay Men'!$U$7:$U$46),SUMIF('4 x 50 medley Relay Men'!$C$7:$C$46,$A55,'4 x 50 medley Relay Men'!$U$7:$U$46)))","v":""},{"$f":"IF($A55=\"\",\"\",IF(SUMIF('4 x 25 Manikin Carry Relay Men'!$C$7:$C$46,$A55,'4 x 25 Manikin Carry Relay Men'!$U$7:$U$46)=0,1+MAX('4 x 25 Manikin Carry Relay Men'!$U$7:$U$46),SUMIF('4 x 25 Manikin Carry Relay Men'!$C$7:$C$46,$A55,'4 x 25 Manikin Carry Relay Men'!$U$7:$U$46)))","v":""},{"$f":"IF($A55=\"\",\"\",IF(SUMIF('4 x 12m Line Throw Men'!$C$7:$C$46,$A55,'4 x 12m Line Throw Men'!$U$7:$U$46)=0,1+MAX('4 x 12m Line Throw Men'!$U$7:$U$46),SUMIF('4 x 12m Line Throw Men'!$C$7:$C$46,$A55,'4 x 12m Line Throw Men'!$U$7:$U$46)))","v":""},"",""]
[{"$f":"IF(A21=\"\",\"\",A21)","v":""},"",{"$f":"IF($A56=\"\",\"\",IF(SUMIF('50m Manikin Carry Men'!$C$7:$C$46,$A56,'50m Manikin Carry Men'!$X$7:$X$46)=0,1+MAX('50m Manikin Carry Men'!$X$7:$X$46),SUMIF('50m Manikin Carry Men'!$C$7:$C$46,$A56,'50m Manikin Carry Men'!$X$7:$X$46)))","v":""},{"$f":"IF($A56=\"\",\"\",IF(SUMIF('100m Manikin Carry Men'!$C$7:$C$46,$A56,'100m Manikin Carry Men'!$X$7:$X$46)=0,1+MAX('100m Manikin Carry Men'!$X$7:$X$46),SUMIF('100m Manikin Carry Men'!$C$7:$C$46,$A56,'100m Manikin Carry Men'!$X$7:$X$46)))","v":""},{"$f":"IF($A56=\"\",\"\",IF(SUMIF('100m Manikin Tow Men'!$C$7:$C$46,$A56,'100m Manikin Tow Men'!$X$7:$X$46)=0,1+MAX('100m Manikin Tow Men'!$X$7:$X$46),SUMIF('100m Manikin Tow Men'!$C$7:$C$46,$A56,'100m Manikin Tow Men'!$X$7:$X$46)))","v":""},{"$f":"IF($A56=\"\",\"\",IF(SUMIF('200m Obs Men'!$C$7:$C$46,$A56,'200m Obs Men'!$X$7:$X$46)=0,1+MAX('200m Obs Men'!$X$7:$X$46),SUMIF('200m Obs Men'!$C$7:$C$46,$A56,'200m Obs Men'!$X$7:$X$46)))","v":""},{"$f":"IF($A56=\"\",\"\",IF(SUMIF('200m Super Men'!$C$7:$C$46,$A56,'200m Super Men'!$X$7:$X$46)=0,1+MAX('200m Super Men'!$X$7:$X$46),SUMIF('200m Super Men'!$C$7:$C$46,$A56,'200m Super Men'!$X$7:$X$46)))","v":""},{"$f":"IF($A56=\"\",\"\",IF(SUMIF('100 Resue Men'!$C$7:$C$46,$A56,'100 Resue Men'!$X$7:$X$46)=0,MAX('100 Resue Men'!$X$7:$X$46),SUMIF('100 Resue Men'!$C$7:$C$46,$A56,'100 Resue Men'!$X$7:$X$46)))","v":""},{"$f":"IF($A56=\"\",\"\",IF(SUMIF('Line Throw Men'!$C$7:$C$46,$A56,'Line Throw Men'!$Z$7:$Z$46)=0,MAX('Line Throw Men'!$Z$7:$Z$46),SUMIF('Line Throw Men'!$C$7:$C$46,$A56,'Line Throw Men'!$Z$7:$Z$46)))","v":""},{"$f":"IF($A56=\"\",\"\",IF(SUMIF('4 x 50 Obs Relay Men'!$C$7:$C$46,$A56,'4 x 50 Obs Relay Men'!$U$7:$U$46)=0,1+MAX('4 x 50 Obs Relay Men'!$U$7:$U$46),SUMIF('4 x 50 Obs Relay Men'!$C$7:$C$46,$A56,'4 x 50 Obs Relay Men'!$U$7:$U$46)))","v":""},{"$f":"IF($A56=\"\",\"\",IF(SUMIF('4 x 50 medley Relay Men'!$C$7:$C$46,$A56,'4 x 50 medley Relay Men'!$U$7:$U$46)=0,1+MAX('4 x 50 medley Relay Men'!$U$7:$U$46),SUMIF('4 x 50 medley Relay Men'!$C$7:$C$46,$A56,'4 x 50 medley Relay Men'!$U$7:$U$46)))","v":""},{"$f":"IF($A56=\"\",\"\",IF(SUMIF('4 x 25 Manikin Carry Relay Men'!$C$7:$C$46,$A56,'4 x 25 Manikin Carry Relay Men'!$U$7:$U$46)=0,1+MAX('4 x 25 Manikin Carry Relay Men'!$U$7:$U$46),SUMIF('4 x 25 Manikin Carry Relay Men'!$C$7:$C$46,$A56,'4 x 25 Manikin Carry Relay Men'!$U$7:$U$46)))","v":""},{"$f":"IF($A56=\"\",\"\",IF(SUMIF('4 x 12m Line Throw Men'!$C$7:$C$46,$A56,'4 x 12m Line Throw Men'!$U$7:$U$46)=0,1+MAX('4 x 12m Line Throw Men'!$U$7:$U$46),SUMIF('4 x 12m Line Throw Men'!$C$7:$C$46,$A56,'4 x 12m Line Throw Men'!$U$7:$U$46)))","v":""},"",""]
["","",{"$f":"IF($A57=\"\",\"\",IF(SUMIF('50m Manikin Carry Men'!$C$7:$C$46,$A57,'50m Manikin Carry Men'!$X$7:$X$46)=0,1+MAX('50m Manikin Carry Men'!$X$7:$X$46),SUMIF('50m Manikin Carry Men'!$C$7:$C$46,$A57,'50m Manikin Carry Men'!$X$7:$X$46)))","v":""},{"$f":"IF($A57=\"\",\"\",IF(SUMIF('100m Manikin Carry Men'!$C$7:$C$46,$A57,'100m Manikin Carry Men'!$X$7:$X$46)=0,1+MAX('100m Manikin Carry Men'!$X$7:$X$46),SUMIF('100m Manikin Carry Men'!$C$7:$C$46,$A57,'100m Manikin Carry Men'!$X$7:$X$46)))","v":""},{"$f":"IF($A57=\"\",\"\",IF(SUMIF('100m Manikin Tow Men'!$C$7:$C$46,$A57,'100m Manikin Tow Men'!$X$7:$X$46)=0,1+MAX('100m Manikin Tow Men'!$X$7:$X$46),SUMIF('100m Manikin Tow Men'!$C$7:$C$46,$A57,'100m Manikin Tow Men'!$X$7:$X$46)))","v":""},{"$f":"IF($A57=\"\",\"\",IF(SUMIF('200m Obs Men'!$C$7:$C$46,$A57,'200m Obs Men'!$X$7:$X$46)=0,1+MAX('200m Obs Men'!$X$7:$X$46),SUMIF('200m Obs Men'!$C$7:$C$46,$A57,'200m Obs Men'!$X$7:$X$46)))","v":""},{"$f":"IF($A57=\"\",\"\",IF(SUMIF('200m Super Men'!$C$7:$C$46,$A57,'200m Super Men'!$X$7:$X$46)=0,1+MAX('200m Super Men'!$X$7:$X$46),SUMIF('200m Super Men'!$C$7:$C$46,$A57,'200m Super Men'!$X$7:$X$46)))","v":""},{"$f":"IF($A57=\"\",\"\",IF(SUMIF('100 Resue Men'!$C$7:$C$46,$A57,'100 Resue Men'!$X$7:$X$46)=0,MAX('100 Resue Men'!$X$7:$X$46),SUMIF('100 Resue Men'!$C$7:$C$46,$A57,'100 Resue Men'!$X$7:$X$46)))","v":""},{"$f":"IF($A57=\"\",\"\",IF(SUMIF('Line Throw Men'!$C$7:$C$46,$A57,'Line Throw Men'!$Z$7:$Z$46)=0,MAX('Line Throw Men'!$Z$7:$Z$46),SUMIF('Line Throw Men'!$C$7:$C$46,$A57,'Line Throw Men'!$Z$7:$Z$46)))","v":""},{"$f":"IF($A57=\"\",\"\",IF(SUMIF('4 x 50 Obs Relay Men'!$C$7:$C$46,$A57,'4 x 50 Obs Relay Men'!$U$7:$U$46)=0,1+MAX('4 x 50 Obs Relay Men'!$U$7:$U$46),SUMIF('4 x 50 Obs Relay Men'!$C$7:$C$46,$A57,'4 x 50 Obs Relay Men'!$U$7:$U$46)))","v":""},{"$f":"IF($A57=\"\",\"\",IF(SUMIF('4 x 50 medley Relay Men'!$C$7:$C$46,$A57,'4 x 50 medley Relay Men'!$U$7:$U$46)=0,1+MAX('4 x 50 medley Relay Men'!$U$7:$U$46),SUMIF('4 x 50 medley Relay Men'!$C$7:$C$46,$A57,'4 x 50 medley Relay Men'!$U$7:$U$46)))","v":""},{"$f":"IF($A57=\"\",\"\",IF(SUMIF('4 x 25 Manikin Carry Relay Men'!$C$7:$C$46,$A57,'4 x 25 Manikin Carry Relay Men'!$U$7:$U$46)=0,1+MAX('4 x 25 Manikin Carry Relay Men'!$U$7:$U$46),SUMIF('4 x 25 Manikin Carry Relay Men'!$C$7:$C$46,$A57,'4 x 25 Manikin Carry Relay Men'!$U$7:$U$46)))","v":""},{"$f":"IF($A57=\"\",\"\",IF(SUMIF('4 x 12m Line Throw Men'!$C$7:$C$46,$A57,'4 x 12m Line Throw Men'!$U$7:$U$46)=0,1+MAX('4 x 12m Line Throw Men'!$U$7:$U$46),SUMIF('4 x 12m Line Throw Men'!$C$7:$C$46,$A57,'4 x 12m Line Throw Men'!$U$7:$U$46)))","v":""},"",""]
["","",{"$f":"IF($A58=\"\",\"\",IF(SUMIF('50m Manikin Carry Men'!$C$7:$C$46,$A58,'50m Manikin Carry Men'!$X$7:$X$46)=0,1+MAX('50m Manikin Carry Men'!$X$7:$X$46),SUMIF('50m Manikin Carry Men'!$C$7:$C$46,$A58,'50m Manikin Carry Men'!$X$7:$X$46)))","v":""},{"$f":"IF($A58=\"\",\"\",IF(SUMIF('100m Manikin Carry Men'!$C$7:$C$46,$A58,'100m Manikin Carry Men'!$X$7:$X$46)=0,1+MAX('100m Manikin Carry Men'!$X$7:$X$46),SUMIF('100m Manikin Carry Men'!$C$7:$C$46,$A58,'100m Manikin Carry Men'!$X$7:$X$46)))","v":""},{"$f":"IF($A58=\"\",\"\",IF(SUMIF('100m Manikin Tow Men'!$C$7:$C$46,$A58,'100m Manikin Tow Men'!$X$7:$X$46)=0,1+MAX('100m Manikin Tow Men'!$X$7:$X$46),SUMIF('100m Manikin Tow Men'!$C$7:$C$46,$A58,'100m Manikin Tow Men'!$X$7:$X$46)))","v":""},{"$f":"IF($A58=\"\",\"\",IF(SUMIF('200m Obs Men'!$C$7:$C$46,$A58,'200m Obs Men'!$X$7:$X$46)=0,1+MAX('200m Obs Men'!$X$7:$X$46),SUMIF('200m Obs Men'!$C$7:$C$46,$A58,'200m Obs Men'!$X$7:$X$46)))","v":""},{"$f":"IF($A58=\"\",\"\",IF(SUMIF('200m Super Men'!$C$7:$C$46,$A58,'200m Super Men'!$X$7:$X$46)=0,1+MAX('200m Super Men'!$X$7:$X$46),SUMIF('200m Super Men'!$C$7:$C$46,$A58,'200m Super Men'!$X$7:$X$46)))","v":""},{"$f":"IF($A58=\"\",\"\",IF(SUMIF('100 Resue Men'!$C$7:$C$46,$A58,'100 Resue Men'!$X$7:$X$46)=0,MAX('100 Resue Men'!$X$7:$X$46),SUMIF('100 Resue Men'!$C$7:$C$46,$A58,'100 Resue Men'!$X$7:$X$46)))","v":""},{"$f":"IF($A58=\"\",\"\",IF(SUMIF('Line Throw Men'!$C$7:$C$46,$A58,'Line Throw Men'!$Z$7:$Z$46)=0,MAX('Line Throw Men'!$Z$7:$Z$46),SUMIF('Line Throw Men'!$C$7:$C$46,$A58,'Line Throw Men'!$Z$7:$Z$46)))","v":""},{"$f":"IF($A58=\"\",\"\",IF(SUMIF('4 x 50 Obs Relay Men'!$C$7:$C$46,$A58,'4 x 50 Obs Relay Men'!$U$7:$U$46)=0,1+MAX('4 x 50 Obs Relay Men'!$U$7:$U$46),SUMIF('4 x 50 Obs Relay Men'!$C$7:$C$46,$A58,'4 x 50 Obs Relay Men'!$U$7:$U$46)))","v":""},{"$f":"IF($A58=\"\",\"\",IF(SUMIF('4 x 50 medley Relay Men'!$C$7:$C$46,$A58,'4 x 50 medley Relay Men'!$U$7:$U$46)=0,1+MAX('4 x 50 medley Relay Men'!$U$7:$U$46),SUMIF('4 x 50 medley Relay Men'!$C$7:$C$46,$A58,'4 x 50 medley Relay Men'!$U$7:$U$46)))","v":""},{"$f":"IF($A58=\"\",\"\",IF(SUMIF('4 x 25 Manikin Carry Relay Men'!$C$7:$C$46,$A58,'4 x 25 Manikin Carry Relay Men'!$U$7:$U$46)=0,1+MAX('4 x 25 Manikin Carry Relay Men'!$U$7:$U$46),SUMIF('4 x 25 Manikin Carry Relay Men'!$C$7:$C$46,$A58,'4 x 25 Manikin Carry Relay Men'!$U$7:$U$46)))","v":""},{"$f":"IF($A58=\"\",\"\",IF(SUMIF('4 x 12m Line Throw Men'!$C$7:$C$46,$A58,'4 x 12m Line Throw Men'!$U$7:$U$46)=0,1+MAX('4 x 12m Line Throw Men'!$U$7:$U$46),SUMIF('4 x 12m Line Throw Men'!$C$7:$C$46,$A58,'4 x 12m Line Throw Men'!$U$7:$U$46)))","v":""},"",""]
["","",{"$f":"IF($A59=\"\",\"\",IF(SUMIF('50m Manikin Carry Men'!$C$7:$C$46,$A59,'50m Manikin Carry Men'!$X$7:$X$46)=0,1+MAX('50m Manikin Carry Men'!$X$7:$X$46),SUMIF('50m Manikin Carry Men'!$C$7:$C$46,$A59,'50m Manikin Carry Men'!$X$7:$X$46)))","v":""},{"$f":"IF($A59=\"\",\"\",IF(SUMIF('100m Manikin Carry Men'!$C$7:$C$46,$A59,'100m Manikin Carry Men'!$X$7:$X$46)=0,1+MAX('100m Manikin Carry Men'!$X$7:$X$46),SUMIF('100m Manikin Carry Men'!$C$7:$C$46,$A59,'100m Manikin Carry Men'!$X$7:$X$46)))","v":""},{"$f":"IF($A59=\"\",\"\",IF(SUMIF('100m Manikin Tow Men'!$C$7:$C$46,$A59,'100m Manikin Tow Men'!$X$7:$X$46)=0,1+MAX('100m Manikin Tow Men'!$X$7:$X$46),SUMIF('100m Manikin Tow Men'!$C$7:$C$46,$A59,'100m Manikin Tow Men'!$X$7:$X$46)))","v":""},{"$f":"IF($A59=\"\",\"\",IF(SUMIF('200m Obs Men'!$C$7:$C$46,$A59,'200m Obs Men'!$X$7:$X$46)=0,1+MAX('200m Obs Men'!$X$7:$X$46),SUMIF('200m Obs Men'!$C$7:$C$46,$A59,'200m Obs Men'!$X$7:$X$46)))","v":""},{"$f":"IF($A59=\"\",\"\",IF(SUMIF('200m Super Men'!$C$7:$C$46,$A59,'200m Super Men'!$X$7:$X$46)=0,1+MAX('200m Super Men'!$X$7:$X$46),SUMIF('200m Super Men'!$C$7:$C$46,$A59,'200m Super Men'!$X$7:$X$46)))","v":""},{"$f":"IF($A59=\"\",\"\",IF(SUMIF('100 Resue Men'!$C$7:$C$46,$A59,'100 Resue Men'!$X$7:$X$46)=0,MAX('100 Resue Men'!$X$7:$X$46),SUMIF('100 Resue Men'!$C$7:$C$46,$A59,'100 Resue Men'!$X$7:$X$46)))","v":""},{"$f":"IF($A59=\"\",\"\",IF(SUMIF('Line Throw Men'!$C$7:$C$46,$A59,'Line Throw Men'!$Z$7:$Z$46)=0,MAX('Line Throw Men'!$Z$7:$Z$46),SUMIF('Line Throw Men'!$C$7:$C$46,$A59,'Line Throw Men'!$Z$7:$Z$46)))","v":""},{"$f":"IF($A59=\"\",\"\",IF(SUMIF('4 x 50 Obs Relay Men'!$C$7:$C$46,$A59,'4 x 50 Obs Relay Men'!$U$7:$U$46)=0,1+MAX('4 x 50 Obs Relay Men'!$U$7:$U$46),SUMIF('4 x 50 Obs Relay Men'!$C$7:$C$46,$A59,'4 x 50 Obs Relay Men'!$U$7:$U$46)))","v":""},{"$f":"IF($A59=\"\",\"\",IF(SUMIF('4 x 50 medley Relay Men'!$C$7:$C$46,$A59,'4 x 50 medley Relay Men'!$U$7:$U$46)=0,1+MAX('4 x 50 medley Relay Men'!$U$7:$U$46),SUMIF('4 x 50 medley Relay Men'!$C$7:$C$46,$A59,'4 x 50 medley Relay Men'!$U$7:$U$46)))","v":""},{"$f":"IF($A59=\"\",\"\",IF(SUMIF('4 x 25 Manikin Carry Relay Men'!$C$7:$C$46,$A59,'4 x 25 Manikin Carry Relay Men'!$U$7:$U$46)=0,1+MAX('4 x 25 Manikin Carry Relay Men'!$U$7:$U$46),SUMIF('4 x 25 Manikin Carry Relay Men'!$C$7:$C$46,$A59,'4 x 25 Manikin Carry Relay Men'!$U$7:$U$46)))","v":""},{"$f":"IF($A59=\"\",\"\",IF(SUMIF('4 x 12m Line Throw Men'!$C$7:$C$46,$A59,'4 x 12m Line Throw Men'!$U$7:$U$46)=0,1+MAX('4 x 12m Line Throw Men'!$U$7:$U$46),SUMIF('4 x 12m Line Throw Men'!$C$7:$C$46,$A59,'4 x 12m Line Throw Men'!$U$7:$U$46)))","v":""},"",""]
["","",{"$f":"IF($A60=\"\",\"\",IF(SUMIF('50m Manikin Carry Men'!$C$7:$C$46,$A60,'50m Manikin Carry Men'!$X$7:$X$46)=0,1+MAX('50m Manikin Carry Men'!$X$7:$X$46),SUMIF('50m Manikin Carry Men'!$C$7:$C$46,$A60,'50m Manikin Carry Men'!$X$7:$X$46)))","v":""},{"$f":"IF($A60=\"\",\"\",IF(SUMIF('100m Manikin Carry Men'!$C$7:$C$46,$A60,'100m Manikin Carry Men'!$X$7:$X$46)=0,1+MAX('100m Manikin Carry Men'!$X$7:$X$46),SUMIF('100m Manikin Carry Men'!$C$7:$C$46,$A60,'100m Manikin Carry Men'!$X$7:$X$46)))","v":""},{"$f":"IF($A60=\"\",\"\",IF(SUMIF('100m Manikin Tow Men'!$C$7:$C$46,$A60,'100m Manikin Tow Men'!$X$7:$X$46)=0,1+MAX('100m Manikin Tow Men'!$X$7:$X$46),SUMIF('100m Manikin Tow Men'!$C$7:$C$46,$A60,'100m Manikin Tow Men'!$X$7:$X$46)))","v":""},{"$f":"IF($A60=\"\",\"\",IF(SUMIF('200m Obs Men'!$C$7:$C$46,$A60,'200m Obs Men'!$X$7:$X$46)=0,1+MAX('200m Obs Men'!$X$7:$X$46),SUMIF('200m Obs Men'!$C$7:$C$46,$A60,'200m Obs Men'!$X$7:$X$46)))","v":""},{"$f":"IF($A60=\"\",\"\",IF(SUMIF('200m Super Men'!$C$7:$C$46,$A60,'200m Super Men'!$X$7:$X$46)=0,1+MAX('200m Super Men'!$X$7:$X$46),SUMIF('200m Super Men'!$C$7:$C$46,$A60,'200m Super Men'!$X$7:$X$46)))","v":""},{"$f":"IF($A60=\"\",\"\",IF(SUMIF('100 Resue Men'!$C$7:$C$46,$A60,'100 Resue Men'!$X$7:$X$46)=0,MAX('100 Resue Men'!$X$7:$X$46),SUMIF('100 Resue Men'!$C$7:$C$46,$A60,'100 Resue Men'!$X$7:$X$46)))","v":""},{"$f":"IF($A60=\"\",\"\",IF(SUMIF('Line Throw Men'!$C$7:$C$46,$A60,'Line Throw Men'!$Z$7:$Z$46)=0,MAX('Line Throw Men'!$Z$7:$Z$46),SUMIF('Line Throw Men'!$C$7:$C$46,$A60,'Line Throw Men'!$Z$7:$Z$46)))","v":""},{"$f":"IF($A60=\"\",\"\",IF(SUMIF('4 x 50 Obs Relay Men'!$C$7:$C$46,$A60,'4 x 50 Obs Relay Men'!$U$7:$U$46)=0,1+MAX('4 x 50 Obs Relay Men'!$U$7:$U$46),SUMIF('4 x 50 Obs Relay Men'!$C$7:$C$46,$A60,'4 x 50 Obs Relay Men'!$U$7:$U$46)))","v":""},{"$f":"IF($A60=\"\",\"\",IF(SUMIF('4 x 50 medley Relay Men'!$C$7:$C$46,$A60,'4 x 50 medley Relay Men'!$U$7:$U$46)=0,1+MAX('4 x 50 medley Relay Men'!$U$7:$U$46),SUMIF('4 x 50 medley Relay Men'!$C$7:$C$46,$A60,'4 x 50 medley Relay Men'!$U$7:$U$46)))","v":""},{"$f":"IF($A60=\"\",\"\",IF(SUMIF('4 x 25 Manikin Carry Relay Men'!$C$7:$C$46,$A60,'4 x 25 Manikin Carry Relay Men'!$U$7:$U$46)=0,1+MAX('4 x 25 Manikin Carry Relay Men'!$U$7:$U$46),SUMIF('4 x 25 Manikin Carry Relay Men'!$C$7:$C$46,$A60,'4 x 25 Manikin Carry Relay Men'!$U$7:$U$46)))","v":""},{"$f":"IF($A60=\"\",\"\",IF(SUMIF('4 x 12m Line Throw Men'!$C$7:$C$46,$A60,'4 x 12m Line Throw Men'!$U$7:$U$46)=0,1+MAX('4 x 12m Line Throw Men'!$U$7:$U$46),SUMIF('4 x 12m Line Throw Men'!$C$7:$C$46,$A60,'4 x 12m Line Throw Men'!$U$7:$U$46)))","v":""},"",""]
["","",{"$f":"IF($A61=\"\",\"\",IF(SUMIF('50m Manikin Carry Men'!$C$7:$C$46,$A61,'50m Manikin Carry Men'!$X$7:$X$46)=0,1+MAX('50m Manikin Carry Men'!$X$7:$X$46),SUMIF('50m Manikin Carry Men'!$C$7:$C$46,$A61,'50m Manikin Carry Men'!$X$7:$X$46)))","v":""},{"$f":"IF($A61=\"\",\"\",IF(SUMIF('100m Manikin Carry Men'!$C$7:$C$46,$A61,'100m Manikin Carry Men'!$X$7:$X$46)=0,1+MAX('100m Manikin Carry Men'!$X$7:$X$46),SUMIF('100m Manikin Carry Men'!$C$7:$C$46,$A61,'100m Manikin Carry Men'!$X$7:$X$46)))","v":""},{"$f":"IF($A61=\"\",\"\",IF(SUMIF('100m Manikin Tow Men'!$C$7:$C$46,$A61,'100m Manikin Tow Men'!$X$7:$X$46)=0,1+MAX('100m Manikin Tow Men'!$X$7:$X$46),SUMIF('100m Manikin Tow Men'!$C$7:$C$46,$A61,'100m Manikin Tow Men'!$X$7:$X$46)))","v":""},{"$f":"IF($A61=\"\",\"\",IF(SUMIF('200m Obs Men'!$C$7:$C$46,$A61,'200m Obs Men'!$X$7:$X$46)=0,1+MAX('200m Obs Men'!$X$7:$X$46),SUMIF('200m Obs Men'!$C$7:$C$46,$A61,'200m Obs Men'!$X$7:$X$46)))","v":""},{"$f":"IF($A61=\"\",\"\",IF(SUMIF('200m Super Men'!$C$7:$C$46,$A61,'200m Super Men'!$X$7:$X$46)=0,1+MAX('200m Super Men'!$X$7:$X$46),SUMIF('200m Super Men'!$C$7:$C$46,$A61,'200m Super Men'!$X$7:$X$46)))","v":""},{"$f":"IF($A61=\"\",\"\",IF(SUMIF('100 Resue Men'!$C$7:$C$46,$A61,'100 Resue Men'!$X$7:$X$46)=0,MAX('100 Resue Men'!$X$7:$X$46),SUMIF('100 Resue Men'!$C$7:$C$46,$A61,'100 Resue Men'!$X$7:$X$46)))","v":""},{"$f":"IF($A61=\"\",\"\",IF(SUMIF('Line Throw Men'!$C$7:$C$46,$A61,'Line Throw Men'!$Z$7:$Z$46)=0,MAX('Line Throw Men'!$Z$7:$Z$46),SUMIF('Line Throw Men'!$C$7:$C$46,$A61,'Line Throw Men'!$Z$7:$Z$46)))","v":""},{"$f":"IF($A61=\"\",\"\",IF(SUMIF('4 x 50 Obs Relay Men'!$C$7:$C$46,$A61,'4 x 50 Obs Relay Men'!$U$7:$U$46)=0,1+MAX('4 x 50 Obs Relay Men'!$U$7:$U$46),SUMIF('4 x 50 Obs Relay Men'!$C$7:$C$46,$A61,'4 x 50 Obs Relay Men'!$U$7:$U$46)))","v":""},{"$f":"IF($A61=\"\",\"\",IF(SUMIF('4 x 50 medley Relay Men'!$C$7:$C$46,$A61,'4 x 50 medley Relay Men'!$U$7:$U$46)=0,1+MAX('4 x 50 medley Relay Men'!$U$7:$U$46),SUMIF('4 x 50 medley Relay Men'!$C$7:$C$46,$A61,'4 x 50 medley Relay Men'!$U$7:$U$46)))","v":""},{"$f":"IF($A61=\"\",\"\",IF(SUMIF('4 x 25 Manikin Carry Relay Men'!$C$7:$C$46,$A61,'4 x 25 Manikin Carry Relay Men'!$U$7:$U$46)=0,1+MAX('4 x 25 Manikin Carry Relay Men'!$U$7:$U$46),SUMIF('4 x 25 Manikin Carry Relay Men'!$C$7:$C$46,$A61,'4 x 25 Manikin Carry Relay Men'!$U$7:$U$46)))","v":""},{"$f":"IF($A61=\"\",\"\",IF(SUMIF('4 x 12m Line Throw Men'!$C$7:$C$46,$A61,'4 x 12m Line Throw Men'!$U$7:$U$46)=0,1+MAX('4 x 12m Line Throw Men'!$U$7:$U$46),SUMIF('4 x 12m Line Throw Men'!$C$7:$C$46,$A61,'4 x 12m Line Throw Men'!$U$7:$U$46)))","v":""},"",""]
["","",{"$f":"IF($A62=\"\",\"\",IF(SUMIF('50m Manikin Carry Men'!$C$7:$C$46,$A62,'50m Manikin Carry Men'!$X$7:$X$46)=0,1+MAX('50m Manikin Carry Men'!$X$7:$X$46),SUMIF('50m Manikin Carry Men'!$C$7:$C$46,$A62,'50m Manikin Carry Men'!$X$7:$X$46)))","v":""},{"$f":"IF($A62=\"\",\"\",IF(SUMIF('100m Manikin Carry Men'!$C$7:$C$46,$A62,'100m Manikin Carry Men'!$X$7:$X$46)=0,1+MAX('100m Manikin Carry Men'!$X$7:$X$46),SUMIF('100m Manikin Carry Men'!$C$7:$C$46,$A62,'100m Manikin Carry Men'!$X$7:$X$46)))","v":""},{"$f":"IF($A62=\"\",\"\",IF(SUMIF('100m Manikin Tow Men'!$C$7:$C$46,$A62,'100m Manikin Tow Men'!$X$7:$X$46)=0,1+MAX('100m Manikin Tow Men'!$X$7:$X$46),SUMIF('100m Manikin Tow Men'!$C$7:$C$46,$A62,'100m Manikin Tow Men'!$X$7:$X$46)))","v":""},{"$f":"IF($A62=\"\",\"\",IF(SUMIF('200m Obs Men'!$C$7:$C$46,$A62,'200m Obs Men'!$X$7:$X$46)=0,1+MAX('200m Obs Men'!$X$7:$X$46),SUMIF('200m Obs Men'!$C$7:$C$46,$A62,'200m Obs Men'!$X$7:$X$46)))","v":""},{"$f":"IF($A62=\"\",\"\",IF(SUMIF('200m Super Men'!$C$7:$C$46,$A62,'200m Super Men'!$X$7:$X$46)=0,1+MAX('200m Super Men'!$X$7:$X$46),SUMIF('200m Super Men'!$C$7:$C$46,$A62,'200m Super Men'!$X$7:$X$46)))","v":""},{"$f":"IF($A62=\"\",\"\",IF(SUMIF('100 Resue Men'!$C$7:$C$46,$A62,'100 Resue Men'!$X$7:$X$46)=0,MAX('100 Resue Men'!$X$7:$X$46),SUMIF('100 Resue Men'!$C$7:$C$46,$A62,'100 Resue Men'!$X$7:$X$46)))","v":""},{"$f":"IF($A62=\"\",\"\",IF(SUMIF('Line Throw Men'!$C$7:$C$46,$A62,'Line Throw Men'!$Z$7:$Z$46)=0,MAX('Line Throw Men'!$Z$7:$Z$46),SUMIF('Line Throw Men'!$C$7:$C$46,$A62,'Line Throw Men'!$Z$7:$Z$46)))","v":""},{"$f":"IF($A62=\"\",\"\",IF(SUMIF('4 x 50 Obs Relay Men'!$C$7:$C$46,$A62,'4 x 50 Obs Relay Men'!$U$7:$U$46)=0,1+MAX('4 x 50 Obs Relay Men'!$U$7:$U$46),SUMIF('4 x 50 Obs Relay Men'!$C$7:$C$46,$A62,'4 x 50 Obs Relay Men'!$U$7:$U$46)))","v":""},{"$f":"IF($A62=\"\",\"\",IF(SUMIF('4 x 50 medley Relay Men'!$C$7:$C$46,$A62,'4 x 50 medley Relay Men'!$U$7:$U$46)=0,1+MAX('4 x 50 medley Relay Men'!$U$7:$U$46),SUMIF('4 x 50 medley Relay Men'!$C$7:$C$46,$A62,'4 x 50 medley Relay Men'!$U$7:$U$46)))","v":""},{"$f":"IF($A62=\"\",\"\",IF(SUMIF('4 x 25 Manikin Carry Relay Men'!$C$7:$C$46,$A62,'4 x 25 Manikin Carry Relay Men'!$U$7:$U$46)=0,1+MAX('4 x 25 Manikin Carry Relay Men'!$U$7:$U$46),SUMIF('4 x 25 Manikin Carry Relay Men'!$C$7:$C$46,$A62,'4 x 25 Manikin Carry Relay Men'!$U$7:$U$46)))","v":""},{"$f":"IF($A62=\"\",\"\",IF(SUMIF('4 x 12m Line Throw Men'!$C$7:$C$46,$A62,'4 x 12m Line Throw Men'!$U$7:$U$46)=0,1+MAX('4 x 12m Line Throw Men'!$U$7:$U$46),SUMIF('4 x 12m Line Throw Men'!$C$7:$C$46,$A62,'4 x 12m Line Throw Men'!$U$7:$U$46)))","v":""},"",""]
["","",{"$f":"IF($A63=\"\",\"\",IF(SUMIF('50m Manikin Carry Men'!$C$7:$C$46,$A63,'50m Manikin Carry Men'!$X$7:$X$46)=0,1+MAX('50m Manikin Carry Men'!$X$7:$X$46),SUMIF('50m Manikin Carry Men'!$C$7:$C$46,$A63,'50m Manikin Carry Men'!$X$7:$X$46)))","v":""},{"$f":"IF($A63=\"\",\"\",IF(SUMIF('100m Manikin Carry Men'!$C$7:$C$46,$A63,'100m Manikin Carry Men'!$X$7:$X$46)=0,1+MAX('100m Manikin Carry Men'!$X$7:$X$46),SUMIF('100m Manikin Carry Men'!$C$7:$C$46,$A63,'100m Manikin Carry Men'!$X$7:$X$46)))","v":""},{"$f":"IF($A63=\"\",\"\",IF(SUMIF('100m Manikin Tow Men'!$C$7:$C$46,$A63,'100m Manikin Tow Men'!$X$7:$X$46)=0,1+MAX('100m Manikin Tow Men'!$X$7:$X$46),SUMIF('100m Manikin Tow Men'!$C$7:$C$46,$A63,'100m Manikin Tow Men'!$X$7:$X$46)))","v":""},{"$f":"IF($A63=\"\",\"\",IF(SUMIF('200m Obs Men'!$C$7:$C$46,$A63,'200m Obs Men'!$X$7:$X$46)=0,1+MAX('200m Obs Men'!$X$7:$X$46),SUMIF('200m Obs Men'!$C$7:$C$46,$A63,'200m Obs Men'!$X$7:$X$46)))","v":""},{"$f":"IF($A63=\"\",\"\",IF(SUMIF('200m Super Men'!$C$7:$C$46,$A63,'200m Super Men'!$X$7:$X$46)=0,1+MAX('200m Super Men'!$X$7:$X$46),SUMIF('200m Super Men'!$C$7:$C$46,$A63,'200m Super Men'!$X$7:$X$46)))","v":""},{"$f":"IF($A63=\"\",\"\",IF(SUMIF('100 Resue Men'!$C$7:$C$46,$A63,'100 Resue Men'!$X$7:$X$46)=0,MAX('100 Resue Men'!$X$7:$X$46),SUMIF('100 Resue Men'!$C$7:$C$46,$A63,'100 Resue Men'!$X$7:$X$46)))","v":""},{"$f":"IF($A63=\"\",\"\",IF(SUMIF('Line Throw Men'!$C$7:$C$46,$A63,'Line Throw Men'!$Z$7:$Z$46)=0,MAX('Line Throw Men'!$Z$7:$Z$46),SUMIF('Line Throw Men'!$C$7:$C$46,$A63,'Line Throw Men'!$Z$7:$Z$46)))","v":""},{"$f":"IF($A63=\"\",\"\",IF(SUMIF('4 x 50 Obs Relay Men'!$C$7:$C$46,$A63,'4 x 50 Obs Relay Men'!$U$7:$U$46)=0,1+MAX('4 x 50 Obs Relay Men'!$U$7:$U$46),SUMIF('4 x 50 Obs Relay Men'!$C$7:$C$46,$A63,'4 x 50 Obs Relay Men'!$U$7:$U$46)))","v":""},{"$f":"IF($A63=\"\",\"\",IF(SUMIF('4 x 50 medley Relay Men'!$C$7:$C$46,$A63,'4 x 50 medley Relay Men'!$U$7:$U$46)=0,1+MAX('4 x 50 medley Relay Men'!$U$7:$U$46),SUMIF('4 x 50 medley Relay Men'!$C$7:$C$46,$A63,'4 x 50 medley Relay Men'!$U$7:$U$46)))","v":""},{"$f":"IF($A63=\"\",\"\",IF(SUMIF('4 x 25 Manikin Carry Relay Men'!$C$7:$C$46,$A63,'4 x 25 Manikin Carry Relay Men'!$U$7:$U$46)=0,1+MAX('4 x 25 Manikin Carry Relay Men'!$U$7:$U$46),SUMIF('4 x 25 Manikin Carry Relay Men'!$C$7:$C$46,$A63,'4 x 25 Manikin Carry Relay Men'!$U$7:$U$46)))","v":""},{"$f":"IF($A63=\"\",\"\",IF(SUMIF('4 x 12m Line Throw Men'!$C$7:$C$46,$A63,'4 x 12m Line Throw Men'!$U$7:$U$46)=0,1+MAX('4 x 12m Line Throw Men'!$U$7:$U$46),SUMIF('4 x 12m Line Throw Men'!$C$7:$C$46,$A63,'4 x 12m Line Throw Men'!$U$7:$U$46)))","v":""},"",""]
["","",{"$f":"IF($A64=\"\",\"\",IF(SUMIF('50m Manikin Carry Men'!$C$7:$C$46,$A64,'50m Manikin Carry Men'!$X$7:$X$46)=0,1+MAX('50m Manikin Carry Men'!$X$7:$X$46),SUMIF('50m Manikin Carry Men'!$C$7:$C$46,$A64,'50m Manikin Carry Men'!$X$7:$X$46)))","v":""},{"$f":"IF($A64=\"\",\"\",IF(SUMIF('100m Manikin Carry Men'!$C$7:$C$46,$A64,'100m Manikin Carry Men'!$X$7:$X$46)=0,1+MAX('100m Manikin Carry Men'!$X$7:$X$46),SUMIF('100m Manikin Carry Men'!$C$7:$C$46,$A64,'100m Manikin Carry Men'!$X$7:$X$46)))","v":""},{"$f":"IF($A64=\"\",\"\",IF(SUMIF('100m Manikin Tow Men'!$C$7:$C$46,$A64,'100m Manikin Tow Men'!$X$7:$X$46)=0,1+MAX('100m Manikin Tow Men'!$X$7:$X$46),SUMIF('100m Manikin Tow Men'!$C$7:$C$46,$A64,'100m Manikin Tow Men'!$X$7:$X$46)))","v":""},{"$f":"IF($A64=\"\",\"\",IF(SUMIF('200m Obs Men'!$C$7:$C$46,$A64,'200m Obs Men'!$X$7:$X$46)=0,1+MAX('200m Obs Men'!$X$7:$X$46),SUMIF('200m Obs Men'!$C$7:$C$46,$A64,'200m Obs Men'!$X$7:$X$46)))","v":""},{"$f":"IF($A64=\"\",\"\",IF(SUMIF('200m Super Men'!$C$7:$C$46,$A64,'200m Super Men'!$X$7:$X$46)=0,1+MAX('200m Super Men'!$X$7:$X$46),SUMIF('200m Super Men'!$C$7:$C$46,$A64,'200m Super Men'!$X$7:$X$46)))","v":""},{"$f":"IF($A64=\"\",\"\",IF(SUMIF('100 Resue Men'!$C$7:$C$46,$A64,'100 Resue Men'!$X$7:$X$46)=0,MAX('100 Resue Men'!$X$7:$X$46),SUMIF('100 Resue Men'!$C$7:$C$46,$A64,'100 Resue Men'!$X$7:$X$46)))","v":""},{"$f":"IF($A64=\"\",\"\",IF(SUMIF('Line Throw Men'!$C$7:$C$46,$A64,'Line Throw Men'!$Z$7:$Z$46)=0,MAX('Line Throw Men'!$Z$7:$Z$46),SUMIF('Line Throw Men'!$C$7:$C$46,$A64,'Line Throw Men'!$Z$7:$Z$46)))","v":""},{"$f":"IF($A64=\"\",\"\",IF(SUMIF('4 x 50 Obs Relay Men'!$C$7:$C$46,$A64,'4 x 50 Obs Relay Men'!$U$7:$U$46)=0,1+MAX('4 x 50 Obs Relay Men'!$U$7:$U$46),SUMIF('4 x 50 Obs Relay Men'!$C$7:$C$46,$A64,'4 x 50 Obs Relay Men'!$U$7:$U$46)))","v":""},{"$f":"IF($A64=\"\",\"\",IF(SUMIF('4 x 50 medley Relay Men'!$C$7:$C$46,$A64,'4 x 50 medley Relay Men'!$U$7:$U$46)=0,1+MAX('4 x 50 medley Relay Men'!$U$7:$U$46),SUMIF('4 x 50 medley Relay Men'!$C$7:$C$46,$A64,'4 x 50 medley Relay Men'!$U$7:$U$46)))","v":""},{"$f":"IF($A64=\"\",\"\",IF(SUMIF('4 x 25 Manikin Carry Relay Men'!$C$7:$C$46,$A64,'4 x 25 Manikin Carry Relay Men'!$U$7:$U$46)=0,1+MAX('4 x 25 Manikin Carry Relay Men'!$U$7:$U$46),SUMIF('4 x 25 Manikin Carry Relay Men'!$C$7:$C$46,$A64,'4 x 25 Manikin Carry Relay Men'!$U$7:$U$46)))","v":""},{"$f":"IF($A64=\"\",\"\",IF(SUMIF('4 x 12m Line Throw Men'!$C$7:$C$46,$A64,'4 x 12m Line Throw Men'!$U$7:$U$46)=0,1+MAX('4 x 12m Line Throw Men'!$U$7:$U$46),SUMIF('4 x 12m Line Throw Men'!$C$7:$C$46,$A64,'4 x 12m Line Throw Men'!$U$7:$U$46)))","v":""},"",""]
["","",{"$f":"IF($A65=\"\",\"\",IF(SUMIF('50m Manikin Carry Men'!$C$7:$C$46,$A65,'50m Manikin Carry Men'!$X$7:$X$46)=0,1+MAX('50m Manikin Carry Men'!$X$7:$X$46),SUMIF('50m Manikin Carry Men'!$C$7:$C$46,$A65,'50m Manikin Carry Men'!$X$7:$X$46)))","v":""},{"$f":"IF($A65=\"\",\"\",IF(SUMIF('100m Manikin Carry Men'!$C$7:$C$46,$A65,'100m Manikin Carry Men'!$X$7:$X$46)=0,1+MAX('100m Manikin Carry Men'!$X$7:$X$46),SUMIF('100m Manikin Carry Men'!$C$7:$C$46,$A65,'100m Manikin Carry Men'!$X$7:$X$46)))","v":""},{"$f":"IF($A65=\"\",\"\",IF(SUMIF('100m Manikin Tow Men'!$C$7:$C$46,$A65,'100m Manikin Tow Men'!$X$7:$X$46)=0,1+MAX('100m Manikin Tow Men'!$X$7:$X$46),SUMIF('100m Manikin Tow Men'!$C$7:$C$46,$A65,'100m Manikin Tow Men'!$X$7:$X$46)))","v":""},{"$f":"IF($A65=\"\",\"\",IF(SUMIF('200m Obs Men'!$C$7:$C$46,$A65,'200m Obs Men'!$X$7:$X$46)=0,1+MAX('200m Obs Men'!$X$7:$X$46),SUMIF('200m Obs Men'!$C$7:$C$46,$A65,'200m Obs Men'!$X$7:$X$46)))","v":""},{"$f":"IF($A65=\"\",\"\",IF(SUMIF('200m Super Men'!$C$7:$C$46,$A65,'200m Super Men'!$X$7:$X$46)=0,1+MAX('200m Super Men'!$X$7:$X$46),SUMIF('200m Super Men'!$C$7:$C$46,$A65,'200m Super Men'!$X$7:$X$46)))","v":""},{"$f":"IF($A65=\"\",\"\",IF(SUMIF('100 Resue Men'!$C$7:$C$46,$A65,'100 Resue Men'!$X$7:$X$46)=0,MAX('100 Resue Men'!$X$7:$X$46),SUMIF('100 Resue Men'!$C$7:$C$46,$A65,'100 Resue Men'!$X$7:$X$46)))","v":""},{"$f":"IF($A65=\"\",\"\",IF(SUMIF('Line Throw Men'!$C$7:$C$46,$A65,'Line Throw Men'!$Z$7:$Z$46)=0,MAX('Line Throw Men'!$Z$7:$Z$46),SUMIF('Line Throw Men'!$C$7:$C$46,$A65,'Line Throw Men'!$Z$7:$Z$46)))","v":""},{"$f":"IF($A65=\"\",\"\",IF(SUMIF('4 x 50 Obs Relay Men'!$C$7:$C$46,$A65,'4 x 50 Obs Relay Men'!$U$7:$U$46)=0,1+MAX('4 x 50 Obs Relay Men'!$U$7:$U$46),SUMIF('4 x 50 Obs Relay Men'!$C$7:$C$46,$A65,'4 x 50 Obs Relay Men'!$U$7:$U$46)))","v":""},{"$f":"IF($A65=\"\",\"\",IF(SUMIF('4 x 50 medley Relay Men'!$C$7:$C$46,$A65,'4 x 50 medley Relay Men'!$U$7:$U$46)=0,1+MAX('4 x 50 medley Relay Men'!$U$7:$U$46),SUMIF('4 x 50 medley Relay Men'!$C$7:$C$46,$A65,'4 x 50 medley Relay Men'!$U$7:$U$46)))","v":""},{"$f":"IF($A65=\"\",\"\",IF(SUMIF('4 x 25 Manikin Carry Relay Men'!$C$7:$C$46,$A65,'4 x 25 Manikin Carry Relay Men'!$U$7:$U$46)=0,1+MAX('4 x 25 Manikin Carry Relay Men'!$U$7:$U$46),SUMIF('4 x 25 Manikin Carry Relay Men'!$C$7:$C$46,$A65,'4 x 25 Manikin Carry Relay Men'!$U$7:$U$46)))","v":""},{"$f":"IF($A65=\"\",\"\",IF(SUMIF('4 x 12m Line Throw Men'!$C$7:$C$46,$A65,'4 x 12m Line Throw Men'!$U$7:$U$46)=0,1+MAX('4 x 12m Line Throw Men'!$U$7:$U$46),SUMIF('4 x 12m Line Throw Men'!$C$7:$C$46,$A65,'4 x 12m Line Throw Men'!$U$7:$U$46)))","v":""},"",""]
["","",{"$f":"IF($A66=\"\",\"\",IF(SUMIF('50m Manikin Carry Men'!$C$7:$C$46,$A66,'50m Manikin Carry Men'!$X$7:$X$46)=0,1+MAX('50m Manikin Carry Men'!$X$7:$X$46),SUMIF('50m Manikin Carry Men'!$C$7:$C$46,$A66,'50m Manikin Carry Men'!$X$7:$X$46)))","v":""},{"$f":"IF($A66=\"\",\"\",IF(SUMIF('100m Manikin Carry Men'!$C$7:$C$46,$A66,'100m Manikin Carry Men'!$X$7:$X$46)=0,1+MAX('100m Manikin Carry Men'!$X$7:$X$46),SUMIF('100m Manikin Carry Men'!$C$7:$C$46,$A66,'100m Manikin Carry Men'!$X$7:$X$46)))","v":""},{"$f":"IF($A66=\"\",\"\",IF(SUMIF('100m Manikin Tow Men'!$C$7:$C$46,$A66,'100m Manikin Tow Men'!$X$7:$X$46)=0,1+MAX('100m Manikin Tow Men'!$X$7:$X$46),SUMIF('100m Manikin Tow Men'!$C$7:$C$46,$A66,'100m Manikin Tow Men'!$X$7:$X$46)))","v":""},{"$f":"IF($A66=\"\",\"\",IF(SUMIF('200m Obs Men'!$C$7:$C$46,$A66,'200m Obs Men'!$X$7:$X$46)=0,1+MAX('200m Obs Men'!$X$7:$X$46),SUMIF('200m Obs Men'!$C$7:$C$46,$A66,'200m Obs Men'!$X$7:$X$46)))","v":""},{"$f":"IF($A66=\"\",\"\",IF(SUMIF('200m Super Men'!$C$7:$C$46,$A66,'200m Super Men'!$X$7:$X$46)=0,1+MAX('200m Super Men'!$X$7:$X$46),SUMIF('200m Super Men'!$C$7:$C$46,$A66,'200m Super Men'!$X$7:$X$46)))","v":""},{"$f":"IF($A66=\"\",\"\",IF(SUMIF('100 Resue Men'!$C$7:$C$46,$A66,'100 Resue Men'!$X$7:$X$46)=0,MAX('100 Resue Men'!$X$7:$X$46),SUMIF('100 Resue Men'!$C$7:$C$46,$A66,'100 Resue Men'!$X$7:$X$46)))","v":""},{"$f":"IF($A66=\"\",\"\",IF(SUMIF('Line Throw Men'!$C$7:$C$46,$A66,'Line Throw Men'!$Z$7:$Z$46)=0,MAX('Line Throw Men'!$Z$7:$Z$46),SUMIF('Line Throw Men'!$C$7:$C$46,$A66,'Line Throw Men'!$Z$7:$Z$46)))","v":""},{"$f":"IF($A66=\"\",\"\",IF(SUMIF('4 x 50 Obs Relay Men'!$C$7:$C$46,$A66,'4 x 50 Obs Relay Men'!$U$7:$U$46)=0,1+MAX('4 x 50 Obs Relay Men'!$U$7:$U$46),SUMIF('4 x 50 Obs Relay Men'!$C$7:$C$46,$A66,'4 x 50 Obs Relay Men'!$U$7:$U$46)))","v":""},{"$f":"IF($A66=\"\",\"\",IF(SUMIF('4 x 50 medley Relay Men'!$C$7:$C$46,$A66,'4 x 50 medley Relay Men'!$U$7:$U$46)=0,1+MAX('4 x 50 medley Relay Men'!$U$7:$U$46),SUMIF('4 x 50 medley Relay Men'!$C$7:$C$46,$A66,'4 x 50 medley Relay Men'!$U$7:$U$46)))","v":""},{"$f":"IF($A66=\"\",\"\",IF(SUMIF('4 x 25 Manikin Carry Relay Men'!$C$7:$C$46,$A66,'4 x 25 Manikin Carry Relay Men'!$U$7:$U$46)=0,1+MAX('4 x 25 Manikin Carry Relay Men'!$U$7:$U$46),SUMIF('4 x 25 Manikin Carry Relay Men'!$C$7:$C$46,$A66,'4 x 25 Manikin Carry Relay Men'!$U$7:$U$46)))","v":""},{"$f":"IF($A66=\"\",\"\",IF(SUMIF('4 x 12m Line Throw Men'!$C$7:$C$46,$A66,'4 x 12m Line Throw Men'!$U$7:$U$46)=0,1+MAX('4 x 12m Line Throw Men'!$U$7:$U$46),SUMIF('4 x 12m Line Throw Men'!$C$7:$C$46,$A66,'4 x 12m Line Throw Men'!$U$7:$U$46)))","v":""},"",""]
["","",{"$f":"IF($A67=\"\",\"\",IF(SUMIF('50m Manikin Carry Men'!$C$7:$C$46,$A67,'50m Manikin Carry Men'!$X$7:$X$46)=0,1+MAX('50m Manikin Carry Men'!$X$7:$X$46),SUMIF('50m Manikin Carry Men'!$C$7:$C$46,$A67,'50m Manikin Carry Men'!$X$7:$X$46)))","v":""},{"$f":"IF($A67=\"\",\"\",IF(SUMIF('100m Manikin Carry Men'!$C$7:$C$46,$A67,'100m Manikin Carry Men'!$X$7:$X$46)=0,1+MAX('100m Manikin Carry Men'!$X$7:$X$46),SUMIF('100m Manikin Carry Men'!$C$7:$C$46,$A67,'100m Manikin Carry Men'!$X$7:$X$46)))","v":""},{"$f":"IF($A67=\"\",\"\",IF(SUMIF('100m Manikin Tow Men'!$C$7:$C$46,$A67,'100m Manikin Tow Men'!$X$7:$X$46)=0,1+MAX('100m Manikin Tow Men'!$X$7:$X$46),SUMIF('100m Manikin Tow Men'!$C$7:$C$46,$A67,'100m Manikin Tow Men'!$X$7:$X$46)))","v":""},{"$f":"IF($A67=\"\",\"\",IF(SUMIF('200m Obs Men'!$C$7:$C$46,$A67,'200m Obs Men'!$X$7:$X$46)=0,1+MAX('200m Obs Men'!$X$7:$X$46),SUMIF('200m Obs Men'!$C$7:$C$46,$A67,'200m Obs Men'!$X$7:$X$46)))","v":""},{"$f":"IF($A67=\"\",\"\",IF(SUMIF('200m Super Men'!$C$7:$C$46,$A67,'200m Super Men'!$X$7:$X$46)=0,1+MAX('200m Super Men'!$X$7:$X$46),SUMIF('200m Super Men'!$C$7:$C$46,$A67,'200m Super Men'!$X$7:$X$46)))","v":""},{"$f":"IF($A67=\"\",\"\",IF(SUMIF('100 Resue Men'!$C$7:$C$46,$A67,'100 Resue Men'!$X$7:$X$46)=0,MAX('100 Resue Men'!$X$7:$X$46),SUMIF('100 Resue Men'!$C$7:$C$46,$A67,'100 Resue Men'!$X$7:$X$46)))","v":""},{"$f":"IF($A67=\"\",\"\",IF(SUMIF('Line Throw Men'!$C$7:$C$46,$A67,'Line Throw Men'!$Z$7:$Z$46)=0,MAX('Line Throw Men'!$Z$7:$Z$46),SUMIF('Line Throw Men'!$C$7:$C$46,$A67,'Line Throw Men'!$Z$7:$Z$46)))","v":""},{"$f":"IF($A67=\"\",\"\",IF(SUMIF('4 x 50 Obs Relay Men'!$C$7:$C$46,$A67,'4 x 50 Obs Relay Men'!$U$7:$U$46)=0,1+MAX('4 x 50 Obs Relay Men'!$U$7:$U$46),SUMIF('4 x 50 Obs Relay Men'!$C$7:$C$46,$A67,'4 x 50 Obs Relay Men'!$U$7:$U$46)))","v":""},{"$f":"IF($A67=\"\",\"\",IF(SUMIF('4 x 50 medley Relay Men'!$C$7:$C$46,$A67,'4 x 50 medley Relay Men'!$U$7:$U$46)=0,1+MAX('4 x 50 medley Relay Men'!$U$7:$U$46),SUMIF('4 x 50 medley Relay Men'!$C$7:$C$46,$A67,'4 x 50 medley Relay Men'!$U$7:$U$46)))","v":""},{"$f":"IF($A67=\"\",\"\",IF(SUMIF('4 x 25 Manikin Carry Relay Men'!$C$7:$C$46,$A67,'4 x 25 Manikin Carry Relay Men'!$U$7:$U$46)=0,1+MAX('4 x 25 Manikin Carry Relay Men'!$U$7:$U$46),SUMIF('4 x 25 Manikin Carry Relay Men'!$C$7:$C$46,$A67,'4 x 25 Manikin Carry Relay Men'!$U$7:$U$46)))","v":""},{"$f":"IF($A67=\"\",\"\",IF(SUMIF('4 x 12m Line Throw Men'!$C$7:$C$46,$A67,'4 x 12m Line Throw Men'!$U$7:$U$46)=0,1+MAX('4 x 12m Line Throw Men'!$U$7:$U$46),SUMIF('4 x 12m Line Throw Men'!$C$7:$C$46,$A67,'4 x 12m Line Throw Men'!$U$7:$U$46)))","v":""},"",""]
["","",{"$f":"IF($A68=\"\",\"\",IF(SUMIF('50m Manikin Carry Men'!$C$7:$C$46,$A68,'50m Manikin Carry Men'!$X$7:$X$46)=0,1+MAX('50m Manikin Carry Men'!$X$7:$X$46),SUMIF('50m Manikin Carry Men'!$C$7:$C$46,$A68,'50m Manikin Carry Men'!$X$7:$X$46)))","v":""},{"$f":"IF($A68=\"\",\"\",IF(SUMIF('100m Manikin Carry Men'!$C$7:$C$46,$A68,'100m Manikin Carry Men'!$X$7:$X$46)=0,1+MAX('100m Manikin Carry Men'!$X$7:$X$46),SUMIF('100m Manikin Carry Men'!$C$7:$C$46,$A68,'100m Manikin Carry Men'!$X$7:$X$46)))","v":""},{"$f":"IF($A68=\"\",\"\",IF(SUMIF('100m Manikin Tow Men'!$C$7:$C$46,$A68,'100m Manikin Tow Men'!$X$7:$X$46)=0,1+MAX('100m Manikin Tow Men'!$X$7:$X$46),SUMIF('100m Manikin Tow Men'!$C$7:$C$46,$A68,'100m Manikin Tow Men'!$X$7:$X$46)))","v":""},{"$f":"IF($A68=\"\",\"\",IF(SUMIF('200m Obs Men'!$C$7:$C$46,$A68,'200m Obs Men'!$X$7:$X$46)=0,1+MAX('200m Obs Men'!$X$7:$X$46),SUMIF('200m Obs Men'!$C$7:$C$46,$A68,'200m Obs Men'!$X$7:$X$46)))","v":""},{"$f":"IF($A68=\"\",\"\",IF(SUMIF('200m Super Men'!$C$7:$C$46,$A68,'200m Super Men'!$X$7:$X$46)=0,1+MAX('200m Super Men'!$X$7:$X$46),SUMIF('200m Super Men'!$C$7:$C$46,$A68,'200m Super Men'!$X$7:$X$46)))","v":""},{"$f":"IF($A68=\"\",\"\",IF(SUMIF('100 Resue Men'!$C$7:$C$46,$A68,'100 Resue Men'!$X$7:$X$46)=0,MAX('100 Resue Men'!$X$7:$X$46),SUMIF('100 Resue Men'!$C$7:$C$46,$A68,'100 Resue Men'!$X$7:$X$46)))","v":""},{"$f":"IF($A68=\"\",\"\",IF(SUMIF('Line Throw Men'!$C$7:$C$46,$A68,'Line Throw Men'!$Z$7:$Z$46)=0,MAX('Line Throw Men'!$Z$7:$Z$46),SUMIF('Line Throw Men'!$C$7:$C$46,$A68,'Line Throw Men'!$Z$7:$Z$46)))","v":""},{"$f":"IF($A68=\"\",\"\",IF(SUMIF('4 x 50 Obs Relay Men'!$C$7:$C$46,$A68,'4 x 50 Obs Relay Men'!$U$7:$U$46)=0,1+MAX('4 x 50 Obs Relay Men'!$U$7:$U$46),SUMIF('4 x 50 Obs Relay Men'!$C$7:$C$46,$A68,'4 x 50 Obs Relay Men'!$U$7:$U$46)))","v":""},{"$f":"IF($A68=\"\",\"\",IF(SUMIF('4 x 50 medley Relay Men'!$C$7:$C$46,$A68,'4 x 50 medley Relay Men'!$U$7:$U$46)=0,1+MAX('4 x 50 medley Relay Men'!$U$7:$U$46),SUMIF('4 x 50 medley Relay Men'!$C$7:$C$46,$A68,'4 x 50 medley Relay Men'!$U$7:$U$46)))","v":""},{"$f":"IF($A68=\"\",\"\",IF(SUMIF('4 x 25 Manikin Carry Relay Men'!$C$7:$C$46,$A68,'4 x 25 Manikin Carry Relay Men'!$U$7:$U$46)=0,1+MAX('4 x 25 Manikin Carry Relay Men'!$U$7:$U$46),SUMIF('4 x 25 Manikin Carry Relay Men'!$C$7:$C$46,$A68,'4 x 25 Manikin Carry Relay Men'!$U$7:$U$46)))","v":""},{"$f":"IF($A68=\"\",\"\",IF(SUMIF('4 x 12m Line Throw Men'!$C$7:$C$46,$A68,'4 x 12m Line Throw Men'!$U$7:$U$46)=0,1+MAX('4 x 12m Line Throw Men'!$U$7:$U$46),SUMIF('4 x 12m Line Throw Men'!$C$7:$C$46,$A68,'4 x 12m Line Throw Men'!$U$7:$U$46)))","v":""},"",""]
["","",{"$f":"IF($A69=\"\",\"\",IF(SUMIF('50m Manikin Carry Men'!$C$7:$C$46,$A69,'50m Manikin Carry Men'!$X$7:$X$46)=0,1+MAX('50m Manikin Carry Men'!$X$7:$X$46),SUMIF('50m Manikin Carry Men'!$C$7:$C$46,$A69,'50m Manikin Carry Men'!$X$7:$X$46)))","v":""},{"$f":"IF($A69=\"\",\"\",IF(SUMIF('100m Manikin Carry Men'!$C$7:$C$46,$A69,'100m Manikin Carry Men'!$X$7:$X$46)=0,1+MAX('100m Manikin Carry Men'!$X$7:$X$46),SUMIF('100m Manikin Carry Men'!$C$7:$C$46,$A69,'100m Manikin Carry Men'!$X$7:$X$46)))","v":""},{"$f":"IF($A69=\"\",\"\",IF(SUMIF('100m Manikin Tow Men'!$C$7:$C$46,$A69,'100m Manikin Tow Men'!$X$7:$X$46)=0,1+MAX('100m Manikin Tow Men'!$X$7:$X$46),SUMIF('100m Manikin Tow Men'!$C$7:$C$46,$A69,'100m Manikin Tow Men'!$X$7:$X$46)))","v":""},{"$f":"IF($A69=\"\",\"\",IF(SUMIF('200m Obs Men'!$C$7:$C$46,$A69,'200m Obs Men'!$X$7:$X$46)=0,1+MAX('200m Obs Men'!$X$7:$X$46),SUMIF('200m Obs Men'!$C$7:$C$46,$A69,'200m Obs Men'!$X$7:$X$46)))","v":""},{"$f":"IF($A69=\"\",\"\",IF(SUMIF('200m Super Men'!$C$7:$C$46,$A69,'200m Super Men'!$X$7:$X$46)=0,1+MAX('200m Super Men'!$X$7:$X$46),SUMIF('200m Super Men'!$C$7:$C$46,$A69,'200m Super Men'!$X$7:$X$46)))","v":""},{"$f":"IF($A69=\"\",\"\",IF(SUMIF('100 Resue Men'!$C$7:$C$46,$A69,'100 Resue Men'!$X$7:$X$46)=0,MAX('100 Resue Men'!$X$7:$X$46),SUMIF('100 Resue Men'!$C$7:$C$46,$A69,'100 Resue Men'!$X$7:$X$46)))","v":""},{"$f":"IF($A69=\"\",\"\",IF(SUMIF('Line Throw Men'!$C$7:$C$46,$A69,'Line Throw Men'!$Z$7:$Z$46)=0,MAX('Line Throw Men'!$Z$7:$Z$46),SUMIF('Line Throw Men'!$C$7:$C$46,$A69,'Line Throw Men'!$Z$7:$Z$46)))","v":""},{"$f":"IF($A69=\"\",\"\",IF(SUMIF('4 x 50 Obs Relay Men'!$C$7:$C$46,$A69,'4 x 50 Obs Relay Men'!$U$7:$U$46)=0,1+MAX('4 x 50 Obs Relay Men'!$U$7:$U$46),SUMIF('4 x 50 Obs Relay Men'!$C$7:$C$46,$A69,'4 x 50 Obs Relay Men'!$U$7:$U$46)))","v":""},{"$f":"IF($A69=\"\",\"\",IF(SUMIF('4 x 50 medley Relay Men'!$C$7:$C$46,$A69,'4 x 50 medley Relay Men'!$U$7:$U$46)=0,1+MAX('4 x 50 medley Relay Men'!$U$7:$U$46),SUMIF('4 x 50 medley Relay Men'!$C$7:$C$46,$A69,'4 x 50 medley Relay Men'!$U$7:$U$46)))","v":""},{"$f":"IF($A69=\"\",\"\",IF(SUMIF('4 x 25 Manikin Carry Relay Men'!$C$7:$C$46,$A69,'4 x 25 Manikin Carry Relay Men'!$U$7:$U$46)=0,1+MAX('4 x 25 Manikin Carry Relay Men'!$U$7:$U$46),SUMIF('4 x 25 Manikin Carry Relay Men'!$C$7:$C$46,$A69,'4 x 25 Manikin Carry Relay Men'!$U$7:$U$46)))","v":""},{"$f":"IF($A69=\"\",\"\",IF(SUMIF('4 x 12m Line Throw Men'!$C$7:$C$46,$A69,'4 x 12m Line Throw Men'!$U$7:$U$46)=0,1+MAX('4 x 12m Line Throw Men'!$U$7:$U$46),SUMIF('4 x 12m Line Throw Men'!$C$7:$C$46,$A69,'4 x 12m Line Throw Men'!$U$7:$U$46)))","v":""},"",""]
[]
[null,"Women's All Clubs"]
[]
["Club Code","Club Name","50m Manikin Carry","100m Carry with Fins","100m tow with fins","200m Obs","200 Super","100 rescue","Line Throw","4 x 50 obs Relay","4 x 50 medley Relay","4 x 25 Manikin Carry Relay","4 x 12m Line Throw Relay","Totals","Position"]
[{"$f":"IF(A4=\"\",\"\",A4)","v":15},{"$f":"IF(B4=\"\",\"\",B4)","v":"Bristol University"},{"$f":"IF($A74=\"\",\"\",IF(SUMIF('50m Manikin Carry Women'!$C$7:$C$46,$A74,'50m Manikin Carry Women'!$X$7:$X$46)=0,1+MAX('50m Manikin Carry Women'!$X$7:$X$46),SUMIF('50m Manikin Carry Women'!$C$7:$C$46,$A74,'50m Manikin Carry Women'!$X$7:$X$46)))","v":8},{"$f":"IF($A74=\"\",\"\",IF(SUMIF('100m Manikin Carry Women'!$C$7:$C$46,$A74,'100m Manikin Carry Women'!$X$7:$X$46)=0,1+MAX('100m Manikin Carry Women'!$X$7:$X$46),SUMIF('100m Manikin Carry Women'!$C$7:$C$46,$A74,'100m Manikin Carry Women'!$X$7:$X$46)))","v":10},{"$f":"IF($A74=\"\",\"\",IF(SUMIF('100m Manikin Tow Women'!$C$7:$C$46,$A74,'100m Manikin Tow Women'!$X$7:$X$46)=0,1+MAX('100m Manikin Tow Women'!$X$7:$X$46),SUMIF('100m Manikin Tow Women'!$C$7:$C$46,$A74,'100m Manikin Tow Women'!$X$7:$X$46)))","v":12},{"$f":"IF($A74=\"\",\"\",IF(SUMIF('200m Obs Women'!$C$7:$C$46,$A74,'200m Obs Women'!$X$7:$X$46)=0,1+MAX('200m Obs Women'!$X$7:$X$46),SUMIF('200m Obs Women'!$C$7:$C$46,$A74,'200m Obs Women'!$X$7:$X$46)))","v":7},{"$f":"IF($A74=\"\",\"\",IF(SUMIF('200m Super Women'!$C$7:$C$46,$A74,'200m Super Women'!$X$7:$X$46)=0,1+MAX('200m Super Women'!$X$7:$X$46),SUMIF('200m Super Women'!$C$7:$C$46,$A74,'200m Super Women'!$X$7:$X$46)))","v":12},{"$f":"IF($A74=\"\",\"\",IF(SUMIF('100 Resue Women'!$C$7:$C$46,$A74,'100 Resue Women'!$X$7:$X$46)=0,1+MAX('100 Resue Women'!$X$7:$X$46),SUMIF('100 Resue Women'!$C$7:$C$46,$A74,'100 Resue Women'!$X$7:$X$46)))","v":11},{"$f":"IF($A74=\"\",\"\",IF(SUMIF('Line Throw Women'!$C$7:$C$46,$A74,'Line Throw Women'!$Z$7:$Z$46)=0,1+MAX('Line Throw Women'!$Z$7:$Z$46),SUMIF('Line Throw Women'!$C$7:$C$46,$A74,'Line Throw Women'!$Z$7:$Z$46)))","v":9},{"$f":"IF($A74=\"\",\"\",IF(SUMIF('4 x 50 Obs Relay Women'!$C$7:$C$46,$A74,'4 x 50 Obs Relay Women'!$U$7:$U$46)=0,1+MAX('4 x 50 Obs Relay Women'!$U$7:$U$46),SUMIF('4 x 50 Obs Relay Women'!$C$7:$C$46,$A74,'4 x 50 Obs Relay Women'!$U$7:$U$46)))","v":10},{"$f":"IF($A74=\"\",\"\",IF(SUMIF('4 x 50 medley Relay Women'!$C$7:$C$46,$A74,'4 x 50 medley Relay Women'!$U$7:$U$46)=0,1+MAX('4 x 50 medley Relay Women'!$U$7:$U$46),SUMIF('4 x 50 medley Relay Women'!$C$7:$C$46,$A74,'4 x 50 medley Relay Women'!$U$7:$U$46)))","v":10},{"$f":"IF($A74=\"\",\"\",IF(SUMIF('4 x 25 Manikin Carry Women'!$C$7:$C$46,$A74,'4 x 25 Manikin Carry Women'!$U$7:$U$46)=0,1+MAX('4 x 25 Manikin Carry Women'!$U$7:$U$46),SUMIF('4 x 25 Manikin Carry Women'!$C$7:$C$46,$A74,'4 x 25 Manikin Carry Women'!$U$7:$U$46)))","v":10},{"$f":"IF($A74=\"\",\"\",IF(SUMIF('4 x 12m Line Throw Women'!$C$7:$C$46,$A74,'4 x 12m Line Throw Women'!$U$7:$U$46)=0,1+MAX('4 x 12m Line Throw Women'!$U$7:$U$46),SUMIF('4 x 12m Line Throw Women'!$C$7:$C$46,$A74,'4 x 12m Line Throw Women'!$U$7:$U$46)))","v":4},{"$f":"IF(A74=\"\",\"\",SUM(C74:M74))","v":103},{"$f":"IF(A74=\"\",\"\",RANK(N74,N$74:N$104,1))","v":11}]
[{"$f":"IF(A5=\"\",\"\",A5)","v":49},"Cardiff University",{"$f":"IF($A75=\"\",\"\",IF(SUMIF('50m Manikin Carry Women'!$C$7:$C$46,$A75,'50m Manikin Carry Women'!$X$7:$X$46)=0,1+MAX('50m Manikin Carry Women'!$X$7:$X$46),SUMIF('50m Manikin Carry Women'!$C$7:$C$46,$A75,'50m Manikin Carry Women'!$X$7:$X$46)))","v":13},{"$f":"IF($A75=\"\",\"\",IF(SUMIF('100m Manikin Carry Women'!$C$7:$C$46,$A75,'100m Manikin Carry Women'!$X$7:$X$46)=0,1+MAX('100m Manikin Carry Women'!$X$7:$X$46),SUMIF('100m Manikin Carry Women'!$C$7:$C$46,$A75,'100m Manikin Carry Women'!$X$7:$X$46)))","v":13},{"$f":"IF($A75=\"\",\"\",IF(SUMIF('100m Manikin Tow Women'!$C$7:$C$46,$A75,'100m Manikin Tow Women'!$X$7:$X$46)=0,1+MAX('100m Manikin Tow Women'!$X$7:$X$46),SUMIF('100m Manikin Tow Women'!$C$7:$C$46,$A75,'100m Manikin Tow Women'!$X$7:$X$46)))","v":13},{"$f":"IF($A75=\"\",\"\",IF(SUMIF('200m Obs Women'!$C$7:$C$46,$A75,'200m Obs Women'!$X$7:$X$46)=0,1+MAX('200m Obs Women'!$X$7:$X$46),SUMIF('200m Obs Women'!$C$7:$C$46,$A75,'200m Obs Women'!$X$7:$X$46)))","v":13},{"$f":"IF($A75=\"\",\"\",IF(SUMIF('200m Super Women'!$C$7:$C$46,$A75,'200m Super Women'!$X$7:$X$46)=0,1+MAX('200m Super Women'!$X$7:$X$46),SUMIF('200m Super Women'!$C$7:$C$46,$A75,'200m Super Women'!$X$7:$X$46)))","v":12},{"$f":"IF($A75=\"\",\"\",IF(SUMIF('100 Resue Women'!$C$7:$C$46,$A75,'100 Resue Women'!$X$7:$X$46)=0,1+MAX('100 Resue Women'!$X$7:$X$46),SUMIF('100 Resue Women'!$C$7:$C$46,$A75,'100 Resue Women'!$X$7:$X$46)))","v":11},{"$f":"IF($A75=\"\",\"\",IF(SUMIF('Line Throw Women'!$C$7:$C$46,$A75,'Line Throw Women'!$Z$7:$Z$46)=0,1+MAX('Line Throw Women'!$Z$7:$Z$46),SUMIF('Line Throw Women'!$C$7:$C$46,$A75,'Line Throw Women'!$Z$7:$Z$46)))","v":9},{"$f":"IF($A75=\"\",\"\",IF(SUMIF('4 x 50 Obs Relay Women'!$C$7:$C$46,$A75,'4 x 50 Obs Relay Women'!$U$7:$U$46)=0,1+MAX('4 x 50 Obs Relay Women'!$U$7:$U$46),SUMIF('4 x 50 Obs Relay Women'!$C$7:$C$46,$A75,'4 x 50 Obs Relay Women'!$U$7:$U$46)))","v":10},{"$f":"IF($A75=\"\",\"\",IF(SUMIF('4 x 50 medley Relay Women'!$C$7:$C$46,$A75,'4 x 50 medley Relay Women'!$U$7:$U$46)=0,1+MAX('4 x 50 medley Relay Women'!$U$7:$U$46),SUMIF('4 x 50 medley Relay Women'!$C$7:$C$46,$A75,'4 x 50 medley Relay Women'!$U$7:$U$46)))","v":10},{"$f":"IF($A75=\"\",\"\",IF(SUMIF('4 x 25 Manikin Carry Women'!$C$7:$C$46,$A75,'4 x 25 Manikin Carry Women'!$U$7:$U$46)=0,1+MAX('4 x 25 Manikin Carry Women'!$U$7:$U$46),SUMIF('4 x 25 Manikin Carry Women'!$C$7:$C$46,$A75,'4 x 25 Manikin Carry Women'!$U$7:$U$46)))","v":10},{"$f":"IF($A75=\"\",\"\",IF(SUMIF('4 x 12m Line Throw Women'!$C$7:$C$46,$A75,'4 x 12m Line Throw Women'!$U$7:$U$46)=0,1+MAX('4 x 12m Line Throw Women'!$U$7:$U$46),SUMIF('4 x 12m Line Throw Women'!$C$7:$C$46,$A75,'4 x 12m Line Throw Women'!$U$7:$U$46)))","v":4},118,{"$f":"IF(A75=\"\",\"\",RANK(N75,N$74:N$104,1))","v":13}]
[7,"Loughborough University",{"$f":"IF($A76=\"\",\"\",IF(SUMIF('50m Manikin Carry Women'!$C$7:$C$46,$A76,'50m Manikin Carry Women'!$X$7:$X$46)=0,1+MAX('50m Manikin Carry Women'!$X$7:$X$46),SUMIF('50m Manikin Carry Women'!$C$7:$C$46,$A76,'50m Manikin Carry Women'!$X$7:$X$46)))","v":1},{"$f":"IF($A76=\"\",\"\",IF(SUMIF('100m Manikin Carry Women'!$C$7:$C$46,$A76,'100m Manikin Carry Women'!$X$7:$X$46)=0,1+MAX('100m Manikin Carry Women'!$X$7:$X$46),SUMIF('100m Manikin Carry Women'!$C$7:$C$46,$A76,'100m Manikin Carry Women'!$X$7:$X$46)))","v":2},{"$f":"IF($A76=\"\",\"\",IF(SUMIF('100m Manikin Tow Women'!$C$7:$C$46,$A76,'100m Manikin Tow Women'!$X$7:$X$46)=0,1+MAX('100m Manikin Tow Women'!$X$7:$X$46),SUMIF('100m Manikin Tow Women'!$C$7:$C$46,$A76,'100m Manikin Tow Women'!$X$7:$X$46)))","v":3},{"$f":"IF($A76=\"\",\"\",IF(SUMIF('200m Obs Women'!$C$7:$C$46,$A76,'200m Obs Women'!$X$7:$X$46)=0,1+MAX('200m Obs Women'!$X$7:$X$46),SUMIF('200m Obs Women'!$C$7:$C$46,$A76,'200m Obs Women'!$X$7:$X$46)))","v":2},{"$f":"IF($A76=\"\",\"\",IF(SUMIF('200m Super Women'!$C$7:$C$46,$A76,'200m Super Women'!$X$7:$X$46)=0,1+MAX('200m Super Women'!$X$7:$X$46),SUMIF('200m Super Women'!$C$7:$C$46,$A76,'200m Super Women'!$X$7:$X$46)))","v":3},{"$f":"IF($A76=\"\",\"\",IF(SUMIF('100 Resue Women'!$C$7:$C$46,$A76,'100 Resue Women'!$X$7:$X$46)=0,1+MAX('100 Resue Women'!$X$7:$X$46),SUMIF('100 Resue Women'!$C$7:$C$46,$A76,'100 Resue Women'!$X$7:$X$46)))","v":1},{"$f":"IF($A76=\"\",\"\",IF(SUMIF('Line Throw Women'!$C$7:$C$46,$A76,'Line Throw Women'!$Z$7:$Z$46)=0,1+MAX('Line Throw Women'!$Z$7:$Z$46),SUMIF('Line Throw Women'!$C$7:$C$46,$A76,'Line Throw Women'!$Z$7:$Z$46)))","v":1},{"$f":"IF($A76=\"\",\"\",IF(SUMIF('4 x 50 Obs Relay Women'!$C$7:$C$46,$A76,'4 x 50 Obs Relay Women'!$U$7:$U$46)=0,1+MAX('4 x 50 Obs Relay Women'!$U$7:$U$46),SUMIF('4 x 50 Obs Relay Women'!$C$7:$C$46,$A76,'4 x 50 Obs Relay Women'!$U$7:$U$46)))","v":3},{"$f":"IF($A76=\"\",\"\",IF(SUMIF('4 x 50 medley Relay Women'!$C$7:$C$46,$A76,'4 x 50 medley Relay Women'!$U$7:$U$46)=0,1+MAX('4 x 50 medley Relay Women'!$U$7:$U$46),SUMIF('4 x 50 medley Relay Women'!$C$7:$C$46,$A76,'4 x 50 medley Relay Women'!$U$7:$U$46)))","v":2},{"$f":"IF($A76=\"\",\"\",IF(SUMIF('4 x 25 Manikin Carry Women'!$C$7:$C$46,$A76,'4 x 25 Manikin Carry Women'!$U$7:$U$46)=0,1+MAX('4 x 25 Manikin Carry Women'!$U$7:$U$46),SUMIF('4 x 25 Manikin Carry Women'!$C$7:$C$46,$A76,'4 x 25 Manikin Carry Women'!$U$7:$U$46)))","v":1},{"$f":"IF($A76=\"\",\"\",IF(SUMIF('4 x 12m Line Throw Women'!$C$7:$C$46,$A76,'4 x 12m Line Throw Women'!$U$7:$U$46)=0,1+MAX('4 x 12m Line Throw Women'!$U$7:$U$46),SUMIF('4 x 12m Line Throw Women'!$C$7:$C$46,$A76,'4 x 12m Line Throw Women'!$U$7:$U$46)))","v":2},21,1]
[46,"Northfield",{"$f":"IF($A77=\"\",\"\",IF(SUMIF('50m Manikin Carry Women'!$C$7:$C$46,$A77,'50m Manikin Carry Women'!$X$7:$X$46)=0,1+MAX('50m Manikin Carry Women'!$X$7:$X$46),SUMIF('50m Manikin Carry Women'!$C$7:$C$46,$A77,'50m Manikin Carry Women'!$X$7:$X$46)))","v":13},{"$f":"IF($A77=\"\",\"\",IF(SUMIF('100m Manikin Carry Women'!$C$7:$C$46,$A77,'100m Manikin Carry Women'!$X$7:$X$46)=0,1+MAX('100m Manikin Carry Women'!$X$7:$X$46),SUMIF('100m Manikin Carry Women'!$C$7:$C$46,$A77,'100m Manikin Carry Women'!$X$7:$X$46)))","v":13},{"$f":"IF($A77=\"\",\"\",IF(SUMIF('100m Manikin Tow Women'!$C$7:$C$46,$A77,'100m Manikin Tow Women'!$X$7:$X$46)=0,1+MAX('100m Manikin Tow Women'!$X$7:$X$46),SUMIF('100m Manikin Tow Women'!$C$7:$C$46,$A77,'100m Manikin Tow Women'!$X$7:$X$46)))","v":13},{"$f":"IF($A77=\"\",\"\",IF(SUMIF('200m Obs Women'!$C$7:$C$46,$A77,'200m Obs Women'!$X$7:$X$46)=0,1+MAX('200m Obs Women'!$X$7:$X$46),SUMIF('200m Obs Women'!$C$7:$C$46,$A77,'200m Obs Women'!$X$7:$X$46)))","v":13},{"$f":"IF($A77=\"\",\"\",IF(SUMIF('200m Super Women'!$C$7:$C$46,$A77,'200m Super Women'!$X$7:$X$46)=0,1+MAX('200m Super Women'!$X$7:$X$46),SUMIF('200m Super Women'!$C$7:$C$46,$A77,'200m Super Women'!$X$7:$X$46)))","v":12},{"$f":"IF($A77=\"\",\"\",IF(SUMIF('100 Resue Women'!$C$7:$C$46,$A77,'100 Resue Women'!$X$7:$X$46)=0,1+MAX('100 Resue Women'!$X$7:$X$46),SUMIF('100 Resue Women'!$C$7:$C$46,$A77,'100 Resue Women'!$X$7:$X$46)))","v":11},{"$f":"IF($A77=\"\",\"\",IF(SUMIF('Line Throw Women'!$C$7:$C$46,$A77,'Line Throw Women'!$Z$7:$Z$46)=0,1+MAX('Line Throw Women'!$Z$7:$Z$46),SUMIF('Line Throw Women'!$C$7:$C$46,$A77,'Line Throw Women'!$Z$7:$Z$46)))","v":9},{"$f":"IF($A77=\"\",\"\",IF(SUMIF('4 x 50 Obs Relay Women'!$C$7:$C$46,$A77,'4 x 50 Obs Relay Women'!$U$7:$U$46)=0,1+MAX('4 x 50 Obs Relay Women'!$U$7:$U$46),SUMIF('4 x 50 Obs Relay Women'!$C$7:$C$46,$A77,'4 x 50 Obs Relay Women'!$U$7:$U$46)))","v":10},{"$f":"IF($A77=\"\",\"\",IF(SUMIF('4 x 50 medley Relay Women'!$C$7:$C$46,$A77,'4 x 50 medley Relay Women'!$U$7:$U$46)=0,1+MAX('4 x 50 medley Relay Women'!$U$7:$U$46),SUMIF('4 x 50 medley Relay Women'!$C$7:$C$46,$A77,'4 x 50 medley Relay Women'!$U$7:$U$46)))","v":10},{"$f":"IF($A77=\"\",\"\",IF(SUMIF('4 x 25 Manikin Carry Women'!$C$7:$C$46,$A77,'4 x 25 Manikin Carry Women'!$U$7:$U$46)=0,1+MAX('4 x 25 Manikin Carry Women'!$U$7:$U$46),SUMIF('4 x 25 Manikin Carry Women'!$C$7:$C$46,$A77,'4 x 25 Manikin Carry Women'!$U$7:$U$46)))","v":10},{"$f":"IF($A77=\"\",\"\",IF(SUMIF('4 x 12m Line Throw Women'!$C$7:$C$46,$A77,'4 x 12m Line Throw Women'!$U$7:$U$46)=0,1+MAX('4 x 12m Line Throw Women'!$U$7:$U$46),SUMIF('4 x 12m Line Throw Women'!$C$7:$C$46,$A77,'4 x 12m Line Throw Women'!$U$7:$U$46)))","v":4},118,13]
[21,"Swansea Universities Lifesaving",{"$f":"IF($A78=\"\",\"\",IF(SUMIF('50m Manikin Carry Women'!$C$7:$C$46,$A78,'50m Manikin Carry Women'!$X$7:$X$46)=0,1+MAX('50m Manikin Carry Women'!$X$7:$X$46),SUMIF('50m Manikin Carry Women'!$C$7:$C$46,$A78,'50m Manikin Carry Women'!$X$7:$X$46)))","v":3},{"$f":"IF($A78=\"\",\"\",IF(SUMIF('100m Manikin Carry Women'!$C$7:$C$46,$A78,'100m Manikin Carry Women'!$X$7:$X$46)=0,1+MAX('100m Manikin Carry Women'!$X$7:$X$46),SUMIF('100m Manikin Carry Women'!$C$7:$C$46,$A78,'100m Manikin Carry Women'!$X$7:$X$46)))","v":1},{"$f":"IF($A78=\"\",\"\",IF(SUMIF('100m Manikin Tow Women'!$C$7:$C$46,$A78,'100m Manikin Tow Women'!$X$7:$X$46)=0,1+MAX('100m Manikin Tow Women'!$X$7:$X$46),SUMIF('100m Manikin Tow Women'!$C$7:$C$46,$A78,'100m Manikin Tow Women'!$X$7:$X$46)))","v":1},{"$f":"IF($A78=\"\",\"\",IF(SUMIF('200m Obs Women'!$C$7:$C$46,$A78,'200m Obs Women'!$X$7:$X$46)=0,1+MAX('200m Obs Women'!$X$7:$X$46),SUMIF('200m Obs Women'!$C$7:$C$46,$A78,'200m Obs Women'!$X$7:$X$46)))","v":1},{"$f":"IF($A78=\"\",\"\",IF(SUMIF('200m Super Women'!$C$7:$C$46,$A78,'200m Super Women'!$X$7:$X$46)=0,1+MAX('200m Super Women'!$X$7:$X$46),SUMIF('200m Super Women'!$C$7:$C$46,$A78,'200m Super Women'!$X$7:$X$46)))","v":1},{"$f":"IF($A78=\"\",\"\",IF(SUMIF('100 Resue Women'!$C$7:$C$46,$A78,'100 Resue Women'!$X$7:$X$46)=0,1+MAX('100 Resue Women'!$X$7:$X$46),SUMIF('100 Resue Women'!$C$7:$C$46,$A78,'100 Resue Women'!$X$7:$X$46)))","v":6},{"$f":"IF($A78=\"\",\"\",IF(SUMIF('Line Throw Women'!$C$7:$C$46,$A78,'Line Throw Women'!$Z$7:$Z$46)=0,1+MAX('Line Throw Women'!$Z$7:$Z$46),SUMIF('Line Throw Women'!$C$7:$C$46,$A78,'Line Throw Women'!$Z$7:$Z$46)))","v":2},{"$f":"IF($A78=\"\",\"\",IF(SUMIF('4 x 50 Obs Relay Women'!$C$7:$C$46,$A78,'4 x 50 Obs Relay Women'!$U$7:$U$46)=0,1+MAX('4 x 50 Obs Relay Women'!$U$7:$U$46),SUMIF('4 x 50 Obs Relay Women'!$C$7:$C$46,$A78,'4 x 50 Obs Relay Women'!$U$7:$U$46)))","v":1},{"$f":"IF($A78=\"\",\"\",IF(SUMIF('4 x 50 medley Relay Women'!$C$7:$C$46,$A78,'4 x 50 medley Relay Women'!$U$7:$U$46)=0,1+MAX('4 x 50 medley Relay Women'!$U$7:$U$46),SUMIF('4 x 50 medley Relay Women'!$C$7:$C$46,$A78,'4 x 50 medley Relay Women'!$U$7:$U$46)))","v":1},{"$f":"IF($A78=\"\",\"\",IF(SUMIF('4 x 25 Manikin Carry Women'!$C$7:$C$46,$A78,'4 x 25 Manikin Carry Women'!$U$7:$U$46)=0,1+MAX('4 x 25 Manikin Carry Women'!$U$7:$U$46),SUMIF('4 x 25 Manikin Carry Women'!$C$7:$C$46,$A78,'4 x 25 Manikin Carry Women'!$U$7:$U$46)))","v":6},{"$f":"IF($A78=\"\",\"\",IF(SUMIF('4 x 12m Line Throw Women'!$C$7:$C$46,$A78,'4 x 12m Line Throw Women'!$U$7:$U$46)=0,1+MAX('4 x 12m Line Throw Women'!$U$7:$U$46),SUMIF('4 x 12m Line Throw Women'!$C$7:$C$46,$A78,'4 x 12m Line Throw Women'!$U$7:$U$46)))","v":3},26,2]
[2,"University of Bath",{"$f":"IF($A79=\"\",\"\",IF(SUMIF('50m Manikin Carry Women'!$C$7:$C$46,$A79,'50m Manikin Carry Women'!$X$7:$X$46)=0,1+MAX('50m Manikin Carry Women'!$X$7:$X$46),SUMIF('50m Manikin Carry Women'!$C$7:$C$46,$A79,'50m Manikin Carry Women'!$X$7:$X$46)))","v":13},{"$f":"IF($A79=\"\",\"\",IF(SUMIF('100m Manikin Carry Women'!$C$7:$C$46,$A79,'100m Manikin Carry Women'!$X$7:$X$46)=0,1+MAX('100m Manikin Carry Women'!$X$7:$X$46),SUMIF('100m Manikin Carry Women'!$C$7:$C$46,$A79,'100m Manikin Carry Women'!$X$7:$X$46)))","v":13},{"$f":"IF($A79=\"\",\"\",IF(SUMIF('100m Manikin Tow Women'!$C$7:$C$46,$A79,'100m Manikin Tow Women'!$X$7:$X$46)=0,1+MAX('100m Manikin Tow Women'!$X$7:$X$46),SUMIF('100m Manikin Tow Women'!$C$7:$C$46,$A79,'100m Manikin Tow Women'!$X$7:$X$46)))","v":13},{"$f":"IF($A79=\"\",\"\",IF(SUMIF('200m Obs Women'!$C$7:$C$46,$A79,'200m Obs Women'!$X$7:$X$46)=0,1+MAX('200m Obs Women'!$X$7:$X$46),SUMIF('200m Obs Women'!$C$7:$C$46,$A79,'200m Obs Women'!$X$7:$X$46)))","v":13},{"$f":"IF($A79=\"\",\"\",IF(SUMIF('200m Super Women'!$C$7:$C$46,$A79,'200m Super Women'!$X$7:$X$46)=0,1+MAX('200m Super Women'!$X$7:$X$46),SUMIF('200m Super Women'!$C$7:$C$46,$A79,'200m Super Women'!$X$7:$X$46)))","v":12},{"$f":"IF($A79=\"\",\"\",IF(SUMIF('100 Resue Women'!$C$7:$C$46,$A79,'100 Resue Women'!$X$7:$X$46)=0,1+MAX('100 Resue Women'!$X$7:$X$46),SUMIF('100 Resue Women'!$C$7:$C$46,$A79,'100 Resue Women'!$X$7:$X$46)))","v":11},{"$f":"IF($A79=\"\",\"\",IF(SUMIF('Line Throw Women'!$C$7:$C$46,$A79,'Line Throw Women'!$Z$7:$Z$46)=0,1+MAX('Line Throw Women'!$Z$7:$Z$46),SUMIF('Line Throw Women'!$C$7:$C$46,$A79,'Line Throw Women'!$Z$7:$Z$46)))","v":9},{"$f":"IF($A79=\"\",\"\",IF(SUMIF('4 x 50 Obs Relay Women'!$C$7:$C$46,$A79,'4 x 50 Obs Relay Women'!$U$7:$U$46)=0,1+MAX('4 x 50 Obs Relay Women'!$U$7:$U$46),SUMIF('4 x 50 Obs Relay Women'!$C$7:$C$46,$A79,'4 x 50 Obs Relay Women'!$U$7:$U$46)))","v":10},{"$f":"IF($A79=\"\",\"\",IF(SUMIF('4 x 50 medley Relay Women'!$C$7:$C$46,$A79,'4 x 50 medley Relay Women'!$U$7:$U$46)=0,1+MAX('4 x 50 medley Relay Women'!$U$7:$U$46),SUMIF('4 x 50 medley Relay Women'!$C$7:$C$46,$A79,'4 x 50 medley Relay Women'!$U$7:$U$46)))","v":10},{"$f":"IF($A79=\"\",\"\",IF(SUMIF('4 x 25 Manikin Carry Women'!$C$7:$C$46,$A79,'4 x 25 Manikin Carry Women'!$U$7:$U$46)=0,1+MAX('4 x 25 Manikin Carry Women'!$U$7:$U$46),SUMIF('4 x 25 Manikin Carry Women'!$C$7:$C$46,$A79,'4 x 25 Manikin Carry Women'!$U$7:$U$46)))","v":10},{"$f":"IF($A79=\"\",\"\",IF(SUMIF('4 x 12m Line Throw Women'!$C$7:$C$46,$A79,'4 x 12m Line Throw Women'!$U$7:$U$46)=0,1+MAX('4 x 12m Line Throw Women'!$U$7:$U$46),SUMIF('4 x 12m Line Throw Women'!$C$7:$C$46,$A79,'4 x 12m Line Throw Women'!$U$7:$U$46)))","v":4},118,13]
[14,"University of Birmingham",{"$f":"IF($A80=\"\",\"\",IF(SUMIF('50m Manikin Carry Women'!$C$7:$C$46,$A80,'50m Manikin Carry Women'!$X$7:$X$46)=0,1+MAX('50m Manikin Carry Women'!$X$7:$X$46),SUMIF('50m Manikin Carry Women'!$C$7:$C$46,$A80,'50m Manikin Carry Women'!$X$7:$X$46)))","v":7},{"$f":"IF($A80=\"\",\"\",IF(SUMIF('100m Manikin Carry Women'!$C$7:$C$46,$A80,'100m Manikin Carry Women'!$X$7:$X$46)=0,1+MAX('100m Manikin Carry Women'!$X$7:$X$46),SUMIF('100m Manikin Carry Women'!$C$7:$C$46,$A80,'100m Manikin Carry Women'!$X$7:$X$46)))","v":9},{"$f":"IF($A80=\"\",\"\",IF(SUMIF('100m Manikin Tow Women'!$C$7:$C$46,$A80,'100m Manikin Tow Women'!$X$7:$X$46)=0,1+MAX('100m Manikin Tow Women'!$X$7:$X$46),SUMIF('100m Manikin Tow Women'!$C$7:$C$46,$A80,'100m Manikin Tow Women'!$X$7:$X$46)))","v":4},{"$f":"IF($A80=\"\",\"\",IF(SUMIF('200m Obs Women'!$C$7:$C$46,$A80,'200m Obs Women'!$X$7:$X$46)=0,1+MAX('200m Obs Women'!$X$7:$X$46),SUMIF('200m Obs Women'!$C$7:$C$46,$A80,'200m Obs Women'!$X$7:$X$46)))","v":9},{"$f":"IF($A80=\"\",\"\",IF(SUMIF('200m Super Women'!$C$7:$C$46,$A80,'200m Super Women'!$X$7:$X$46)=0,1+MAX('200m Super Women'!$X$7:$X$46),SUMIF('200m Super Women'!$C$7:$C$46,$A80,'200m Super Women'!$X$7:$X$46)))","v":6},{"$f":"IF($A80=\"\",\"\",IF(SUMIF('100 Resue Women'!$C$7:$C$46,$A80,'100 Resue Women'!$X$7:$X$46)=0,1+MAX('100 Resue Women'!$X$7:$X$46),SUMIF('100 Resue Women'!$C$7:$C$46,$A80,'100 Resue Women'!$X$7:$X$46)))","v":4},{"$f":"IF($A80=\"\",\"\",IF(SUMIF('Line Throw Women'!$C$7:$C$46,$A80,'Line Throw Women'!$Z$7:$Z$46)=0,1+MAX('Line Throw Women'!$Z$7:$Z$46),SUMIF('Line Throw Women'!$C$7:$C$46,$A80,'Line Throw Women'!$Z$7:$Z$46)))","v":6},{"$f":"IF($A80=\"\",\"\",IF(SUMIF('4 x 50 Obs Relay Women'!$C$7:$C$46,$A80,'4 x 50 Obs Relay Women'!$U$7:$U$46)=0,1+MAX('4 x 50 Obs Relay Women'!$U$7:$U$46),SUMIF('4 x 50 Obs Relay Women'!$C$7:$C$46,$A80,'4 x 50 Obs Relay Women'!$U$7:$U$46)))","v":6},{"$f":"IF($A80=\"\",\"\",IF(SUMIF('4 x 50 medley Relay Women'!$C$7:$C$46,$A80,'4 x 50 medley Relay Women'!$U$7:$U$46)=0,1+MAX('4 x 50 medley Relay Women'!$U$7:$U$46),SUMIF('4 x 50 medley Relay Women'!$C$7:$C$46,$A80,'4 x 50 medley Relay Women'!$U$7:$U$46)))","v":4},{"$f":"IF($A80=\"\",\"\",IF(SUMIF('4 x 25 Manikin Carry Women'!$C$7:$C$46,$A80,'4 x 25 Manikin Carry Women'!$U$7:$U$46)=0,1+MAX('4 x 25 Manikin Carry Women'!$U$7:$U$46),SUMIF('4 x 25 Manikin Carry Women'!$C$7:$C$46,$A80,'4 x 25 Manikin Carry Women'!$U$7:$U$46)))","v":4},{"$f":"IF($A80=\"\",\"\",IF(SUMIF('4 x 12m Line Throw Women'!$C$7:$C$46,$A80,'4 x 12m Line Throw Women'!$U$7:$U$46)=0,1+MAX('4 x 12m Line Throw Women'!$U$7:$U$46),SUMIF('4 x 12m Line Throw Women'!$C$7:$C$46,$A80,'4 x 12m Line Throw Women'!$U$7:$U$46)))","v":3},{"$f":"IF(A80=\"\",\"\",SUM(C80:M80))","v":62},4]
[5,"University of Cambridge",12,12,{"$f":"IF($A81=\"\",\"\",IF(SUMIF('100m Manikin Tow Women'!$C$7:$C$46,$A81,'100m Manikin Tow Women'!$X$7:$X$46)=0,1+MAX('100m Manikin Tow Women'!$X$7:$X$46),SUMIF('100m Manikin Tow Women'!$C$7:$C$46,$A81,'100m Manikin Tow Women'!$X$7:$X$46)))","v":11},{"$f":"IF($A81=\"\",\"\",IF(SUMIF('200m Obs Women'!$C$7:$C$46,$A81,'200m Obs Women'!$X$7:$X$46)=0,1+MAX('200m Obs Women'!$X$7:$X$46),SUMIF('200m Obs Women'!$C$7:$C$46,$A81,'200m Obs Women'!$X$7:$X$46)))","v":12},{"$f":"IF($A81=\"\",\"\",IF(SUMIF('200m Super Women'!$C$7:$C$46,$A81,'200m Super Women'!$X$7:$X$46)=0,1+MAX('200m Super Women'!$X$7:$X$46),SUMIF('200m Super Women'!$C$7:$C$46,$A81,'200m Super Women'!$X$7:$X$46)))","v":11},{"$f":"IF($A81=\"\",\"\",IF(SUMIF('100 Resue Women'!$C$7:$C$46,$A81,'100 Resue Women'!$X$7:$X$46)=0,1+MAX('100 Resue Women'!$X$7:$X$46),SUMIF('100 Resue Women'!$C$7:$C$46,$A81,'100 Resue Women'!$X$7:$X$46)))","v":8},{"$f":"IF($A81=\"\",\"\",IF(SUMIF('Line Throw Women'!$C$7:$C$46,$A81,'Line Throw Women'!$Z$7:$Z$46)=0,1+MAX('Line Throw Women'!$Z$7:$Z$46),SUMIF('Line Throw Women'!$C$7:$C$46,$A81,'Line Throw Women'!$Z$7:$Z$46)))","v":8},{"$f":"IF($A81=\"\",\"\",IF(SUMIF('4 x 50 Obs Relay Women'!$C$7:$C$46,$A81,'4 x 50 Obs Relay Women'!$U$7:$U$46)=0,1+MAX('4 x 50 Obs Relay Women'!$U$7:$U$46),SUMIF('4 x 50 Obs Relay Women'!$C$7:$C$46,$A81,'4 x 50 Obs Relay Women'!$U$7:$U$46)))","v":10},{"$f":"IF($A81=\"\",\"\",IF(SUMIF('4 x 50 medley Relay Women'!$C$7:$C$46,$A81,'4 x 50 medley Relay Women'!$U$7:$U$46)=0,1+MAX('4 x 50 medley Relay Women'!$U$7:$U$46),SUMIF('4 x 50 medley Relay Women'!$C$7:$C$46,$A81,'4 x 50 medley Relay Women'!$U$7:$U$46)))","v":10},{"$f":"IF($A81=\"\",\"\",IF(SUMIF('4 x 25 Manikin Carry Women'!$C$7:$C$46,$A81,'4 x 25 Manikin Carry Women'!$U$7:$U$46)=0,1+MAX('4 x 25 Manikin Carry Women'!$U$7:$U$46),SUMIF('4 x 25 Manikin Carry Women'!$C$7:$C$46,$A81,'4 x 25 Manikin Carry Women'!$U$7:$U$46)))","v":10},{"$f":"IF($A81=\"\",\"\",IF(SUMIF('4 x 12m Line Throw Women'!$C$7:$C$46,$A81,'4 x 12m Line Throw Women'!$U$7:$U$46)=0,1+MAX('4 x 12m Line Throw Women'!$U$7:$U$46),SUMIF('4 x 12m Line Throw Women'!$C$7:$C$46,$A81,'4 x 12m Line Throw Women'!$U$7:$U$46)))","v":4},108,12]
[16,"University of London Union",{"$f":"IF($A82=\"\",\"\",IF(SUMIF('50m Manikin Carry Women'!$C$7:$C$46,$A82,'50m Manikin Carry Women'!$X$7:$X$46)=0,1+MAX('50m Manikin Carry Women'!$X$7:$X$46),SUMIF('50m Manikin Carry Women'!$C$7:$C$46,$A82,'50m Manikin Carry Women'!$X$7:$X$46)))","v":11},{"$f":"IF($A82=\"\",\"\",IF(SUMIF('100m Manikin Carry Women'!$C$7:$C$46,$A82,'100m Manikin Carry Women'!$X$7:$X$46)=0,1+MAX('100m Manikin Carry Women'!$X$7:$X$46),SUMIF('100m Manikin Carry Women'!$C$7:$C$46,$A82,'100m Manikin Carry Women'!$X$7:$X$46)))","v":11},{"$f":"IF($A82=\"\",\"\",IF(SUMIF('100m Manikin Tow Women'!$C$7:$C$46,$A82,'100m Manikin Tow Women'!$X$7:$X$46)=0,1+MAX('100m Manikin Tow Women'!$X$7:$X$46),SUMIF('100m Manikin Tow Women'!$C$7:$C$46,$A82,'100m Manikin Tow Women'!$X$7:$X$46)))","v":9},{"$f":"IF($A82=\"\",\"\",IF(SUMIF('200m Obs Women'!$C$7:$C$46,$A82,'200m Obs Women'!$X$7:$X$46)=0,1+MAX('200m Obs Women'!$X$7:$X$46),SUMIF('200m Obs Women'!$C$7:$C$46,$A82,'200m Obs Women'!$X$7:$X$46)))","v":11},{"$f":"IF($A82=\"\",\"\",IF(SUMIF('200m Super Women'!$C$7:$C$46,$A82,'200m Super Women'!$X$7:$X$46)=0,1+MAX('200m Super Women'!$X$7:$X$46),SUMIF('200m Super Women'!$C$7:$C$46,$A82,'200m Super Women'!$X$7:$X$46)))","v":7},{"$f":"IF($A82=\"\",\"\",IF(SUMIF('100 Resue Women'!$C$7:$C$46,$A82,'100 Resue Women'!$X$7:$X$46)=0,1+MAX('100 Resue Women'!$X$7:$X$46),SUMIF('100 Resue Women'!$C$7:$C$46,$A82,'100 Resue Women'!$X$7:$X$46)))","v":11},{"$f":"IF($A82=\"\",\"\",IF(SUMIF('Line Throw Women'!$C$7:$C$46,$A82,'Line Throw Women'!$Z$7:$Z$46)=0,1+MAX('Line Throw Women'!$Z$7:$Z$46),SUMIF('Line Throw Women'!$C$7:$C$46,$A82,'Line Throw Women'!$Z$7:$Z$46)))","v":3},{"$f":"IF($A82=\"\",\"\",IF(SUMIF('4 x 50 Obs Relay Women'!$C$7:$C$46,$A82,'4 x 50 Obs Relay Women'!$U$7:$U$46)=0,1+MAX('4 x 50 Obs Relay Women'!$U$7:$U$46),SUMIF('4 x 50 Obs Relay Women'!$C$7:$C$46,$A82,'4 x 50 Obs Relay Women'!$U$7:$U$46)))","v":9},{"$f":"IF($A82=\"\",\"\",IF(SUMIF('4 x 50 medley Relay Women'!$C$7:$C$46,$A82,'4 x 50 medley Relay Women'!$U$7:$U$46)=0,1+MAX('4 x 50 medley Relay Women'!$U$7:$U$46),SUMIF('4 x 50 medley Relay Women'!$C$7:$C$46,$A82,'4 x 50 medley Relay Women'!$U$7:$U$46)))","v":7},{"$f":"IF($A82=\"\",\"\",IF(SUMIF('4 x 25 Manikin Carry Women'!$C$7:$C$46,$A82,'4 x 25 Manikin Carry Women'!$U$7:$U$46)=0,1+MAX('4 x 25 Manikin Carry Women'!$U$7:$U$46),SUMIF('4 x 25 Manikin Carry Women'!$C$7:$C$46,$A82,'4 x 25 Manikin Carry Women'!$U$7:$U$46)))","v":5},{"$f":"IF($A82=\"\",\"\",IF(SUMIF('4 x 12m Line Throw Women'!$C$7:$C$46,$A82,'4 x 12m Line Throw Women'!$U$7:$U$46)=0,1+MAX('4 x 12m Line Throw Women'!$U$7:$U$46),SUMIF('4 x 12m Line Throw Women'!$C$7:$C$46,$A82,'4 x 12m Line Throw Women'!$U$7:$U$46)))","v":3},87,10]
[8,"University of Nottingham",{"$f":"IF($A83=\"\",\"\",IF(SUMIF('50m Manikin Carry Women'!$C$7:$C$46,$A83,'50m Manikin Carry Women'!$X$7:$X$46)=0,1+MAX('50m Manikin Carry Women'!$X$7:$X$46),SUMIF('50m Manikin Carry Women'!$C$7:$C$46,$A83,'50m Manikin Carry Women'!$X$7:$X$46)))","v":6},{"$f":"IF($A83=\"\",\"\",IF(SUMIF('100m Manikin Carry Women'!$C$7:$C$46,$A83,'100m Manikin Carry Women'!$X$7:$X$46)=0,1+MAX('100m Manikin Carry Women'!$X$7:$X$46),SUMIF('100m Manikin Carry Women'!$C$7:$C$46,$A83,'100m Manikin Carry Women'!$X$7:$X$46)))","v":7},{"$f":"IF($A83=\"\",\"\",IF(SUMIF('100m Manikin Tow Women'!$C$7:$C$46,$A83,'100m Manikin Tow Women'!$X$7:$X$46)=0,1+MAX('100m Manikin Tow Women'!$X$7:$X$46),SUMIF('100m Manikin Tow Women'!$C$7:$C$46,$A83,'100m Manikin Tow Women'!$X$7:$X$46)))","v":8},{"$f":"IF($A83=\"\",\"\",IF(SUMIF('200m Obs Women'!$C$7:$C$46,$A83,'200m Obs Women'!$X$7:$X$46)=0,1+MAX('200m Obs Women'!$X$7:$X$46),SUMIF('200m Obs Women'!$C$7:$C$46,$A83,'200m Obs Women'!$X$7:$X$46)))","v":6},{"$f":"IF($A83=\"\",\"\",IF(SUMIF('200m Super Women'!$C$7:$C$46,$A83,'200m Super Women'!$X$7:$X$46)=0,1+MAX('200m Super Women'!$X$7:$X$46),SUMIF('200m Super Women'!$C$7:$C$46,$A83,'200m Super Women'!$X$7:$X$46)))","v":10},{"$f":"IF($A83=\"\",\"\",IF(SUMIF('100 Resue Women'!$C$7:$C$46,$A83,'100 Resue Women'!$X$7:$X$46)=0,1+MAX('100 Resue Women'!$X$7:$X$46),SUMIF('100 Resue Women'!$C$7:$C$46,$A83,'100 Resue Women'!$X$7:$X$46)))","v":9},8,{"$f":"IF($A83=\"\",\"\",IF(SUMIF('4 x 50 Obs Relay Women'!$C$7:$C$46,$A83,'4 x 50 Obs Relay Women'!$U$7:$U$46)=0,1+MAX('4 x 50 Obs Relay Women'!$U$7:$U$46),SUMIF('4 x 50 Obs Relay Women'!$C$7:$C$46,$A83,'4 x 50 Obs Relay Women'!$U$7:$U$46)))","v":4},{"$f":"IF($A83=\"\",\"\",IF(SUMIF('4 x 50 medley Relay Women'!$C$7:$C$46,$A83,'4 x 50 medley Relay Women'!$U$7:$U$46)=0,1+MAX('4 x 50 medley Relay Women'!$U$7:$U$46),SUMIF('4 x 50 medley Relay Women'!$C$7:$C$46,$A83,'4 x 50 medley Relay Women'!$U$7:$U$46)))","v":5},{"$f":"IF($A83=\"\",\"\",IF(SUMIF('4 x 25 Manikin Carry Women'!$C$7:$C$46,$A83,'4 x 25 Manikin Carry Women'!$U$7:$U$46)=0,1+MAX('4 x 25 Manikin Carry Women'!$U$7:$U$46),SUMIF('4 x 25 Manikin Carry Women'!$C$7:$C$46,$A83,'4 x 25 Manikin Carry Women'!$U$7:$U$46)))","v":7},{"$f":"IF($A83=\"\",\"\",IF(SUMIF('4 x 12m Line Throw Women'!$C$7:$C$46,$A83,'4 x 12m Line Throw Women'!$U$7:$U$46)=0,1+MAX('4 x 12m Line Throw Women'!$U$7:$U$46),SUMIF('4 x 12m Line Throw Women'!$C$7:$C$46,$A83,'4 x 12m Line Throw Women'!$U$7:$U$46)))","v":3},73,8]
[18,"University of Oxford",{"$f":"IF($A84=\"\",\"\",IF(SUMIF('50m Manikin Carry Women'!$C$7:$C$46,$A84,'50m Manikin Carry Women'!$X$7:$X$46)=0,1+MAX('50m Manikin Carry Women'!$X$7:$X$46),SUMIF('50m Manikin Carry Women'!$C$7:$C$46,$A84,'50m Manikin Carry Women'!$X$7:$X$46)))","v":4},{"$f":"IF($A84=\"\",\"\",IF(SUMIF('100m Manikin Carry Women'!$C$7:$C$46,$A84,'100m Manikin Carry Women'!$X$7:$X$46)=0,1+MAX('100m Manikin Carry Women'!$X$7:$X$46),SUMIF('100m Manikin Carry Women'!$C$7:$C$46,$A84,'100m Manikin Carry Women'!$X$7:$X$46)))","v":5},{"$f":"IF($A84=\"\",\"\",IF(SUMIF('100m Manikin Tow Women'!$C$7:$C$46,$A84,'100m Manikin Tow Women'!$X$7:$X$46)=0,1+MAX('100m Manikin Tow Women'!$X$7:$X$46),SUMIF('100m Manikin Tow Women'!$C$7:$C$46,$A84,'100m Manikin Tow Women'!$X$7:$X$46)))","v":6},{"$f":"IF($A84=\"\",\"\",IF(SUMIF('200m Obs Women'!$C$7:$C$46,$A84,'200m Obs Women'!$X$7:$X$46)=0,1+MAX('200m Obs Women'!$X$7:$X$46),SUMIF('200m Obs Women'!$C$7:$C$46,$A84,'200m Obs Women'!$X$7:$X$46)))","v":5},{"$f":"IF($A84=\"\",\"\",IF(SUMIF('200m Super Women'!$C$7:$C$46,$A84,'200m Super Women'!$X$7:$X$46)=0,1+MAX('200m Super Women'!$X$7:$X$46),SUMIF('200m Super Women'!$C$7:$C$46,$A84,'200m Super Women'!$X$7:$X$46)))","v":5},{"$f":"IF($A84=\"\",\"\",IF(SUMIF('100 Resue Women'!$C$7:$C$46,$A84,'100 Resue Women'!$X$7:$X$46)=0,1+MAX('100 Resue Women'!$X$7:$X$46),SUMIF('100 Resue Women'!$C$7:$C$46,$A84,'100 Resue Women'!$X$7:$X$46)))","v":3},{"$f":"IF($A84=\"\",\"\",IF(SUMIF('Line Throw Women'!$C$7:$C$46,$A84,'Line Throw Women'!$Z$7:$Z$46)=0,1+MAX('Line Throw Women'!$Z$7:$Z$46),SUMIF('Line Throw Women'!$C$7:$C$46,$A84,'Line Throw Women'!$Z$7:$Z$46)))","v":7},{"$f":"IF($A84=\"\",\"\",IF(SUMIF('4 x 50 Obs Relay Women'!$C$7:$C$46,$A84,'4 x 50 Obs Relay Women'!$U$7:$U$46)=0,1+MAX('4 x 50 Obs Relay Women'!$U$7:$U$46),SUMIF('4 x 50 Obs Relay Women'!$C$7:$C$46,$A84,'4 x 50 Obs Relay Women'!$U$7:$U$46)))","v":10},{"$f":"IF($A84=\"\",\"\",IF(SUMIF('4 x 50 medley Relay Women'!$C$7:$C$46,$A84,'4 x 50 medley Relay Women'!$U$7:$U$46)=0,1+MAX('4 x 50 medley Relay Women'!$U$7:$U$46),SUMIF('4 x 50 medley Relay Women'!$C$7:$C$46,$A84,'4 x 50 medley Relay Women'!$U$7:$U$46)))","v":10},{"$f":"IF($A84=\"\",\"\",IF(SUMIF('4 x 25 Manikin Carry Women'!$C$7:$C$46,$A84,'4 x 25 Manikin Carry Women'!$U$7:$U$46)=0,1+MAX('4 x 25 Manikin Carry Women'!$U$7:$U$46),SUMIF('4 x 25 Manikin Carry Women'!$C$7:$C$46,$A84,'4 x 25 Manikin Carry Women'!$U$7:$U$46)))","v":10},{"$f":"IF($A84=\"\",\"\",IF(SUMIF('4 x 12m Line Throw Women'!$C$7:$C$46,$A84,'4 x 12m Line Throw Women'!$U$7:$U$46)=0,1+MAX('4 x 12m Line Throw Women'!$U$7:$U$46),SUMIF('4 x 12m Line Throw Women'!$C$7:$C$46,$A84,'4 x 12m Line Throw Women'!$U$7:$U$46)))","v":4},69,6]
[9,"University of Plymouth",{"$f":"IF($A85=\"\",\"\",IF(SUMIF('50m Manikin Carry Women'!$C$7:$C$46,$A85,'50m Manikin Carry Women'!$X$7:$X$46)=0,1+MAX('50m Manikin Carry Women'!$X$7:$X$46),SUMIF('50m Manikin Carry Women'!$C$7:$C$46,$A85,'50m Manikin Carry Women'!$X$7:$X$46)))","v":10},{"$f":"IF($A85=\"\",\"\",IF(SUMIF('100m Manikin Carry Women'!$C$7:$C$46,$A85,'100m Manikin Carry Women'!$X$7:$X$46)=0,1+MAX('100m Manikin Carry Women'!$X$7:$X$46),SUMIF('100m Manikin Carry Women'!$C$7:$C$46,$A85,'100m Manikin Carry Women'!$X$7:$X$46)))","v":4},{"$f":"IF($A85=\"\",\"\",IF(SUMIF('100m Manikin Tow Women'!$C$7:$C$46,$A85,'100m Manikin Tow Women'!$X$7:$X$46)=0,1+MAX('100m Manikin Tow Women'!$X$7:$X$46),SUMIF('100m Manikin Tow Women'!$C$7:$C$46,$A85,'100m Manikin Tow Women'!$X$7:$X$46)))","v":10},{"$f":"IF($A85=\"\",\"\",IF(SUMIF('200m Obs Women'!$C$7:$C$46,$A85,'200m Obs Women'!$X$7:$X$46)=0,1+MAX('200m Obs Women'!$X$7:$X$46),SUMIF('200m Obs Women'!$C$7:$C$46,$A85,'200m Obs Women'!$X$7:$X$46)))","v":4},{"$f":"IF($A85=\"\",\"\",IF(SUMIF('200m Super Women'!$C$7:$C$46,$A85,'200m Super Women'!$X$7:$X$46)=0,1+MAX('200m Super Women'!$X$7:$X$46),SUMIF('200m Super Women'!$C$7:$C$46,$A85,'200m Super Women'!$X$7:$X$46)))","v":4},{"$f":"IF($A85=\"\",\"\",IF(SUMIF('100 Resue Women'!$C$7:$C$46,$A85,'100 Resue Women'!$X$7:$X$46)=0,1+MAX('100 Resue Women'!$X$7:$X$46),SUMIF('100 Resue Women'!$C$7:$C$46,$A85,'100 Resue Women'!$X$7:$X$46)))","v":5},8,{"$f":"IF($A85=\"\",\"\",IF(SUMIF('4 x 50 Obs Relay Women'!$C$7:$C$46,$A85,'4 x 50 Obs Relay Women'!$U$7:$U$46)=0,1+MAX('4 x 50 Obs Relay Women'!$U$7:$U$46),SUMIF('4 x 50 Obs Relay Women'!$C$7:$C$46,$A85,'4 x 50 Obs Relay Women'!$U$7:$U$46)))","v":5},{"$f":"IF($A85=\"\",\"\",IF(SUMIF('4 x 50 medley Relay Women'!$C$7:$C$46,$A85,'4 x 50 medley Relay Women'!$U$7:$U$46)=0,1+MAX('4 x 50 medley Relay Women'!$U$7:$U$46),SUMIF('4 x 50 medley Relay Women'!$C$7:$C$46,$A85,'4 x 50 medley Relay Women'!$U$7:$U$46)))","v":8},{"$f":"IF($A85=\"\",\"\",IF(SUMIF('4 x 25 Manikin Carry Women'!$C$7:$C$46,$A85,'4 x 25 Manikin Carry Women'!$U$7:$U$46)=0,1+MAX('4 x 25 Manikin Carry Women'!$U$7:$U$46),SUMIF('4 x 25 Manikin Carry Women'!$C$7:$C$46,$A85,'4 x 25 Manikin Carry Women'!$U$7:$U$46)))","v":8},{"$f":"IF($A85=\"\",\"\",IF(SUMIF('4 x 12m Line Throw Women'!$C$7:$C$46,$A85,'4 x 12m Line Throw Women'!$U$7:$U$46)=0,1+MAX('4 x 12m Line Throw Women'!$U$7:$U$46),SUMIF('4 x 12m Line Throw Women'!$C$7:$C$46,$A85,'4 x 12m Line Throw Women'!$U$7:$U$46)))","v":3},69,6]
[20,"University of Southampton",{"$f":"IF($A86=\"\",\"\",IF(SUMIF('50m Manikin Carry Women'!$C$7:$C$46,$A86,'50m Manikin Carry Women'!$X$7:$X$46)=0,1+MAX('50m Manikin Carry Women'!$X$7:$X$46),SUMIF('50m Manikin Carry Women'!$C$7:$C$46,$A86,'50m Manikin Carry Women'!$X$7:$X$46)))","v":2},{"$f":"IF($A86=\"\",\"\",IF(SUMIF('100m Manikin Carry Women'!$C$7:$C$46,$A86,'100m Manikin Carry Women'!$X$7:$X$46)=0,1+MAX('100m Manikin Carry Women'!$X$7:$X$46),SUMIF('100m Manikin Carry Women'!$C$7:$C$46,$A86,'100m Manikin Carry Women'!$X$7:$X$46)))","v":3},{"$f":"IF($A86=\"\",\"\",IF(SUMIF('100m Manikin Tow Women'!$C$7:$C$46,$A86,'100m Manikin Tow Women'!$X$7:$X$46)=0,1+MAX('100m Manikin Tow Women'!$X$7:$X$46),SUMIF('100m Manikin Tow Women'!$C$7:$C$46,$A86,'100m Manikin Tow Women'!$X$7:$X$46)))","v":2},{"$f":"IF($A86=\"\",\"\",IF(SUMIF('200m Obs Women'!$C$7:$C$46,$A86,'200m Obs Women'!$X$7:$X$46)=0,1+MAX('200m Obs Women'!$X$7:$X$46),SUMIF('200m Obs Women'!$C$7:$C$46,$A86,'200m Obs Women'!$X$7:$X$46)))","v":3},{"$f":"IF($A86=\"\",\"\",IF(SUMIF('200m Super Women'!$C$7:$C$46,$A86,'200m Super Women'!$X$7:$X$46)=0,1+MAX('200m Super Women'!$X$7:$X$46),SUMIF('200m Super Women'!$C$7:$C$46,$A86,'200m Super Women'!$X$7:$X$46)))","v":2},{"$f":"IF($A86=\"\",\"\",IF(SUMIF('100 Resue Women'!$C$7:$C$46,$A86,'100 Resue Women'!$X$7:$X$46)=0,1+MAX('100 Resue Women'!$X$7:$X$46),SUMIF('100 Resue Women'!$C$7:$C$46,$A86,'100 Resue Women'!$X$7:$X$46)))","v":2},8,{"$f":"IF($A86=\"\",\"\",IF(SUMIF('4 x 50 Obs Relay Women'!$C$7:$C$46,$A86,'4 x 50 Obs Relay Women'!$U$7:$U$46)=0,1+MAX('4 x 50 Obs Relay Women'!$U$7:$U$46),SUMIF('4 x 50 Obs Relay Women'!$C$7:$C$46,$A86,'4 x 50 Obs Relay Women'!$U$7:$U$46)))","v":2},{"$f":"IF($A86=\"\",\"\",IF(SUMIF('4 x 50 medley Relay Women'!$C$7:$C$46,$A86,'4 x 50 medley Relay Women'!$U$7:$U$46)=0,1+MAX('4 x 50 medley Relay Women'!$U$7:$U$46),SUMIF('4 x 50 medley Relay Women'!$C$7:$C$46,$A86,'4 x 50 medley Relay Women'!$U$7:$U$46)))","v":3},{"$f":"IF($A86=\"\",\"\",IF(SUMIF('4 x 25 Manikin Carry Women'!$C$7:$C$46,$A86,'4 x 25 Manikin Carry Women'!$U$7:$U$46)=0,1+MAX('4 x 25 Manikin Carry Women'!$U$7:$U$46),SUMIF('4 x 25 Manikin Carry Women'!$C$7:$C$46,$A86,'4 x 25 Manikin Carry Women'!$U$7:$U$46)))","v":2},{"$f":"IF($A86=\"\",\"\",IF(SUMIF('4 x 12m Line Throw Women'!$C$7:$C$46,$A86,'4 x 12m Line Throw Women'!$U$7:$U$46)=0,1+MAX('4 x 12m Line Throw Women'!$U$7:$U$46),SUMIF('4 x 12m Line Throw Women'!$C$7:$C$46,$A86,'4 x 12m Line Throw Women'!$U$7:$U$46)))","v":1},30,3]
[12,"University of Warwick",{"$f":"IF($A87=\"\",\"\",IF(SUMIF('50m Manikin Carry Women'!$C$7:$C$46,$A87,'50m Manikin Carry Women'!$X$7:$X$46)=0,1+MAX('50m Manikin Carry Women'!$X$7:$X$46),SUMIF('50m Manikin Carry Women'!$C$7:$C$46,$A87,'50m Manikin Carry Women'!$X$7:$X$46)))","v":5},{"$f":"IF($A87=\"\",\"\",IF(SUMIF('100m Manikin Carry Women'!$C$7:$C$46,$A87,'100m Manikin Carry Women'!$X$7:$X$46)=0,1+MAX('100m Manikin Carry Women'!$X$7:$X$46),SUMIF('100m Manikin Carry Women'!$C$7:$C$46,$A87,'100m Manikin Carry Women'!$X$7:$X$46)))","v":8},{"$f":"IF($A87=\"\",\"\",IF(SUMIF('100m Manikin Tow Women'!$C$7:$C$46,$A87,'100m Manikin Tow Women'!$X$7:$X$46)=0,1+MAX('100m Manikin Tow Women'!$X$7:$X$46),SUMIF('100m Manikin Tow Women'!$C$7:$C$46,$A87,'100m Manikin Tow Women'!$X$7:$X$46)))","v":5},{"$f":"IF($A87=\"\",\"\",IF(SUMIF('200m Obs Women'!$C$7:$C$46,$A87,'200m Obs Women'!$X$7:$X$46)=0,1+MAX('200m Obs Women'!$X$7:$X$46),SUMIF('200m Obs Women'!$C$7:$C$46,$A87,'200m Obs Women'!$X$7:$X$46)))","v":8},{"$f":"IF($A87=\"\",\"\",IF(SUMIF('200m Super Women'!$C$7:$C$46,$A87,'200m Super Women'!$X$7:$X$46)=0,1+MAX('200m Super Women'!$X$7:$X$46),SUMIF('200m Super Women'!$C$7:$C$46,$A87,'200m Super Women'!$X$7:$X$46)))","v":8},{"$f":"IF($A87=\"\",\"\",IF(SUMIF('100 Resue Women'!$C$7:$C$46,$A87,'100 Resue Women'!$X$7:$X$46)=0,1+MAX('100 Resue Women'!$X$7:$X$46),SUMIF('100 Resue Women'!$C$7:$C$46,$A87,'100 Resue Women'!$X$7:$X$46)))","v":7},{"$f":"IF($A87=\"\",\"\",IF(SUMIF('Line Throw Women'!$C$7:$C$46,$A87,'Line Throw Women'!$Z$7:$Z$46)=0,1+MAX('Line Throw Women'!$Z$7:$Z$46),SUMIF('Line Throw Women'!$C$7:$C$46,$A87,'Line Throw Women'!$Z$7:$Z$46)))","v":5},{"$f":"IF($A87=\"\",\"\",IF(SUMIF('4 x 50 Obs Relay Women'!$C$7:$C$46,$A87,'4 x 50 Obs Relay Women'!$U$7:$U$46)=0,1+MAX('4 x 50 Obs Relay Women'!$U$7:$U$46),SUMIF('4 x 50 Obs Relay Women'!$C$7:$C$46,$A87,'4 x 50 Obs Relay Women'!$U$7:$U$46)))","v":7},{"$f":"IF($A87=\"\",\"\",IF(SUMIF('4 x 50 medley Relay Women'!$C$7:$C$46,$A87,'4 x 50 medley Relay Women'!$U$7:$U$46)=0,1+MAX('4 x 50 medley Relay Women'!$U$7:$U$46),SUMIF('4 x 50 medley Relay Women'!$C$7:$C$46,$A87,'4 x 50 medley Relay Women'!$U$7:$U$46)))","v":6},{"$f":"IF($A87=\"\",\"\",IF(SUMIF('4 x 25 Manikin Carry Women'!$C$7:$C$46,$A87,'4 x 25 Manikin Carry Women'!$U$7:$U$46)=0,1+MAX('4 x 25 Manikin Carry Women'!$U$7:$U$46),SUMIF('4 x 25 Manikin Carry Women'!$C$7:$C$46,$A87,'4 x 25 Manikin Carry Women'!$U$7:$U$46)))","v":3},{"$f":"IF($A87=\"\",\"\",IF(SUMIF('4 x 12m Line Throw Women'!$C$7:$C$46,$A87,'4 x 12m Line Throw Women'!$U$7:$U$46)=0,1+MAX('4 x 12m Line Throw Women'!$U$7:$U$46),SUMIF('4 x 12m Line Throw Women'!$C$7:$C$46,$A87,'4 x 12m Line Throw Women'!$U$7:$U$46)))","v":3},65,5]
[11,"St. Andrews",{"$f":"IF($A88=\"\",\"\",IF(SUMIF('50m Manikin Carry Women'!$C$7:$C$46,$A88,'50m Manikin Carry Women'!$X$7:$X$46)=0,1+MAX('50m Manikin Carry Women'!$X$7:$X$46),SUMIF('50m Manikin Carry Women'!$C$7:$C$46,$A88,'50m Manikin Carry Women'!$X$7:$X$46)))","v":9},{"$f":"IF($A88=\"\",\"\",IF(SUMIF('100m Manikin Carry Women'!$C$7:$C$46,$A88,'100m Manikin Carry Women'!$X$7:$X$46)=0,1+MAX('100m Manikin Carry Women'!$X$7:$X$46),SUMIF('100m Manikin Carry Women'!$C$7:$C$46,$A88,'100m Manikin Carry Women'!$X$7:$X$46)))","v":6},{"$f":"IF($A88=\"\",\"\",IF(SUMIF('100m Manikin Tow Women'!$C$7:$C$46,$A88,'100m Manikin Tow Women'!$X$7:$X$46)=0,1+MAX('100m Manikin Tow Women'!$X$7:$X$46),SUMIF('100m Manikin Tow Women'!$C$7:$C$46,$A88,'100m Manikin Tow Women'!$X$7:$X$46)))","v":7},{"$f":"IF($A88=\"\",\"\",IF(SUMIF('200m Obs Women'!$C$7:$C$46,$A88,'200m Obs Women'!$X$7:$X$46)=0,1+MAX('200m Obs Women'!$X$7:$X$46),SUMIF('200m Obs Women'!$C$7:$C$46,$A88,'200m Obs Women'!$X$7:$X$46)))","v":10},{"$f":"IF($A88=\"\",\"\",IF(SUMIF('200m Super Women'!$C$7:$C$46,$A88,'200m Super Women'!$X$7:$X$46)=0,1+MAX('200m Super Women'!$X$7:$X$46),SUMIF('200m Super Women'!$C$7:$C$46,$A88,'200m Super Women'!$X$7:$X$46)))","v":9},{"$f":"IF($A88=\"\",\"\",IF(SUMIF('100 Resue Women'!$C$7:$C$46,$A88,'100 Resue Women'!$X$7:$X$46)=0,1+MAX('100 Resue Women'!$X$7:$X$46),SUMIF('100 Resue Women'!$C$7:$C$46,$A88,'100 Resue Women'!$X$7:$X$46)))","v":10},{"$f":"IF($A88=\"\",\"\",IF(SUMIF('Line Throw Women'!$C$7:$C$46,$A88,'Line Throw Women'!$Z$7:$Z$46)=0,1+MAX('Line Throw Women'!$Z$7:$Z$46),SUMIF('Line Throw Women'!$C$7:$C$46,$A88,'Line Throw Women'!$Z$7:$Z$46)))","v":4},{"$f":"IF($A88=\"\",\"\",IF(SUMIF('4 x 50 Obs Relay Women'!$C$7:$C$46,$A88,'4 x 50 Obs Relay Women'!$U$7:$U$46)=0,1+MAX('4 x 50 Obs Relay Women'!$U$7:$U$46),SUMIF('4 x 50 Obs Relay Women'!$C$7:$C$46,$A88,'4 x 50 Obs Relay Women'!$U$7:$U$46)))","v":8},{"$f":"IF($A88=\"\",\"\",IF(SUMIF('4 x 50 medley Relay Women'!$C$7:$C$46,$A88,'4 x 50 medley Relay Women'!$U$7:$U$46)=0,1+MAX('4 x 50 medley Relay Women'!$U$7:$U$46),SUMIF('4 x 50 medley Relay Women'!$C$7:$C$46,$A88,'4 x 50 medley Relay Women'!$U$7:$U$46)))","v":9},{"$f":"IF($A88=\"\",\"\",IF(SUMIF('4 x 25 Manikin Carry Women'!$C$7:$C$46,$A88,'4 x 25 Manikin Carry Women'!$U$7:$U$46)=0,1+MAX('4 x 25 Manikin Carry Women'!$U$7:$U$46),SUMIF('4 x 25 Manikin Carry Women'!$C$7:$C$46,$A88,'4 x 25 Manikin Carry Women'!$U$7:$U$46)))","v":9},{"$f":"IF($A88=\"\",\"\",IF(SUMIF('4 x 12m Line Throw Women'!$C$7:$C$46,$A88,'4 x 12m Line Throw Women'!$U$7:$U$46)=0,1+MAX('4 x 12m Line Throw Women'!$U$7:$U$46),SUMIF('4 x 12m Line Throw Women'!$C$7:$C$46,$A88,'4 x 12m Line Throw Women'!$U$7:$U$46)))","v":3},84,9]
["","",{"$f":"IF($A89=\"\",\"\",IF(SUMIF('50m Manikin Carry Women'!$C$7:$C$46,$A89,'50m Manikin Carry Women'!$X$7:$X$46)=0,1+MAX('50m Manikin Carry Women'!$X$7:$X$46),SUMIF('50m Manikin Carry Women'!$C$7:$C$46,$A89,'50m Manikin Carry Women'!$X$7:$X$46)))","v":""},{"$f":"IF($A89=\"\",\"\",IF(SUMIF('100m Manikin Carry Women'!$C$7:$C$46,$A89,'100m Manikin Carry Women'!$X$7:$X$46)=0,1+MAX('100m Manikin Carry Women'!$X$7:$X$46),SUMIF('100m Manikin Carry Women'!$C$7:$C$46,$A89,'100m Manikin Carry Women'!$X$7:$X$46)))","v":""},{"$f":"IF($A89=\"\",\"\",IF(SUMIF('100m Manikin Tow Women'!$C$7:$C$46,$A89,'100m Manikin Tow Women'!$X$7:$X$46)=0,1+MAX('100m Manikin Tow Women'!$X$7:$X$46),SUMIF('100m Manikin Tow Women'!$C$7:$C$46,$A89,'100m Manikin Tow Women'!$X$7:$X$46)))","v":""},{"$f":"IF($A89=\"\",\"\",IF(SUMIF('200m Obs Women'!$C$7:$C$46,$A89,'200m Obs Women'!$X$7:$X$46)=0,1+MAX('200m Obs Women'!$X$7:$X$46),SUMIF('200m Obs Women'!$C$7:$C$46,$A89,'200m Obs Women'!$X$7:$X$46)))","v":""},{"$f":"IF($A89=\"\",\"\",IF(SUMIF('200m Super Women'!$C$7:$C$46,$A89,'200m Super Women'!$X$7:$X$46)=0,1+MAX('200m Super Women'!$X$7:$X$46),SUMIF('200m Super Women'!$C$7:$C$46,$A89,'200m Super Women'!$X$7:$X$46)))","v":""},{"$f":"IF($A89=\"\",\"\",IF(SUMIF('100 Resue Women'!$C$7:$C$46,$A89,'100 Resue Women'!$X$7:$X$46)=0,1+MAX('100 Resue Women'!$X$7:$X$46),SUMIF('100 Resue Women'!$C$7:$C$46,$A89,'100 Resue Women'!$X$7:$X$46)))","v":""},{"$f":"IF($A89=\"\",\"\",IF(SUMIF('Line Throw Women'!$C$7:$C$46,$A89,'Line Throw Women'!$Z$7:$Z$46)=0,1+MAX('Line Throw Women'!$Z$7:$Z$46),SUMIF('Line Throw Women'!$C$7:$C$46,$A89,'Line Throw Women'!$Z$7:$Z$46)))","v":""},{"$f":"IF($A89=\"\",\"\",IF(SUMIF('4 x 50 Obs Relay Women'!$C$7:$C$46,$A89,'4 x 50 Obs Relay Women'!$U$7:$U$46)=0,1+MAX('4 x 50 Obs Relay Women'!$U$7:$U$46),SUMIF('4 x 50 Obs Relay Women'!$C$7:$C$46,$A89,'4 x 50 Obs Relay Women'!$U$7:$U$46)))","v":""},{"$f":"IF($A89=\"\",\"\",IF(SUMIF('4 x 50 medley Relay Women'!$C$7:$C$46,$A89,'4 x 50 medley Relay Women'!$U$7:$U$46)=0,1+MAX('4 x 50 medley Relay Women'!$U$7:$U$46),SUMIF('4 x 50 medley Relay Women'!$C$7:$C$46,$A89,'4 x 50 medley Relay Women'!$U$7:$U$46)))","v":""},{"$f":"IF($A89=\"\",\"\",IF(SUMIF('4 x 25 Manikin Carry Women'!$C$7:$C$46,$A89,'4 x 25 Manikin Carry Women'!$U$7:$U$46)=0,1+MAX('4 x 25 Manikin Carry Women'!$U$7:$U$46),SUMIF('4 x 25 Manikin Carry Women'!$C$7:$C$46,$A89,'4 x 25 Manikin Carry Women'!$U$7:$U$46)))","v":""},{"$f":"IF($A89=\"\",\"\",IF(SUMIF('4 x 12m Line Throw Women'!$C$7:$C$46,$A89,'4 x 12m Line Throw Women'!$U$7:$U$46)=0,1+MAX('4 x 12m Line Throw Women'!$U$7:$U$46),SUMIF('4 x 12m Line Throw Women'!$C$7:$C$46,$A89,'4 x 12m Line Throw Women'!$U$7:$U$46)))","v":""},"",""]
["","",{"$f":"IF($A90=\"\",\"\",IF(SUMIF('50m Manikin Carry Women'!$C$7:$C$46,$A90,'50m Manikin Carry Women'!$X$7:$X$46)=0,1+MAX('50m Manikin Carry Women'!$X$7:$X$46),SUMIF('50m Manikin Carry Women'!$C$7:$C$46,$A90,'50m Manikin Carry Women'!$X$7:$X$46)))","v":""},{"$f":"IF($A90=\"\",\"\",IF(SUMIF('100m Manikin Carry Women'!$C$7:$C$46,$A90,'100m Manikin Carry Women'!$X$7:$X$46)=0,1+MAX('100m Manikin Carry Women'!$X$7:$X$46),SUMIF('100m Manikin Carry Women'!$C$7:$C$46,$A90,'100m Manikin Carry Women'!$X$7:$X$46)))","v":""},{"$f":"IF($A90=\"\",\"\",IF(SUMIF('100m Manikin Tow Women'!$C$7:$C$46,$A90,'100m Manikin Tow Women'!$X$7:$X$46)=0,1+MAX('100m Manikin Tow Women'!$X$7:$X$46),SUMIF('100m Manikin Tow Women'!$C$7:$C$46,$A90,'100m Manikin Tow Women'!$X$7:$X$46)))","v":""},{"$f":"IF($A90=\"\",\"\",IF(SUMIF('200m Obs Women'!$C$7:$C$46,$A90,'200m Obs Women'!$X$7:$X$46)=0,1+MAX('200m Obs Women'!$X$7:$X$46),SUMIF('200m Obs Women'!$C$7:$C$46,$A90,'200m Obs Women'!$X$7:$X$46)))","v":""},{"$f":"IF($A90=\"\",\"\",IF(SUMIF('200m Super Women'!$C$7:$C$46,$A90,'200m Super Women'!$X$7:$X$46)=0,1+MAX('200m Super Women'!$X$7:$X$46),SUMIF('200m Super Women'!$C$7:$C$46,$A90,'200m Super Women'!$X$7:$X$46)))","v":""},{"$f":"IF($A90=\"\",\"\",IF(SUMIF('100 Resue Women'!$C$7:$C$46,$A90,'100 Resue Women'!$X$7:$X$46)=0,1+MAX('100 Resue Women'!$X$7:$X$46),SUMIF('100 Resue Women'!$C$7:$C$46,$A90,'100 Resue Women'!$X$7:$X$46)))","v":""},{"$f":"IF($A90=\"\",\"\",IF(SUMIF('Line Throw Women'!$C$7:$C$46,$A90,'Line Throw Women'!$Z$7:$Z$46)=0,1+MAX('Line Throw Women'!$Z$7:$Z$46),SUMIF('Line Throw Women'!$C$7:$C$46,$A90,'Line Throw Women'!$Z$7:$Z$46)))","v":""},{"$f":"IF($A90=\"\",\"\",IF(SUMIF('4 x 50 Obs Relay Women'!$C$7:$C$46,$A90,'4 x 50 Obs Relay Women'!$U$7:$U$46)=0,1+MAX('4 x 50 Obs Relay Women'!$U$7:$U$46),SUMIF('4 x 50 Obs Relay Women'!$C$7:$C$46,$A90,'4 x 50 Obs Relay Women'!$U$7:$U$46)))","v":""},{"$f":"IF($A90=\"\",\"\",IF(SUMIF('4 x 50 medley Relay Women'!$C$7:$C$46,$A90,'4 x 50 medley Relay Women'!$U$7:$U$46)=0,1+MAX('4 x 50 medley Relay Women'!$U$7:$U$46),SUMIF('4 x 50 medley Relay Women'!$C$7:$C$46,$A90,'4 x 50 medley Relay Women'!$U$7:$U$46)))","v":""},{"$f":"IF($A90=\"\",\"\",IF(SUMIF('4 x 25 Manikin Carry Women'!$C$7:$C$46,$A90,'4 x 25 Manikin Carry Women'!$U$7:$U$46)=0,1+MAX('4 x 25 Manikin Carry Women'!$U$7:$U$46),SUMIF('4 x 25 Manikin Carry Women'!$C$7:$C$46,$A90,'4 x 25 Manikin Carry Women'!$U$7:$U$46)))","v":""},{"$f":"IF($A90=\"\",\"\",IF(SUMIF('4 x 12m Line Throw Women'!$C$7:$C$46,$A90,'4 x 12m Line Throw Women'!$U$7:$U$46)=0,1+MAX('4 x 12m Line Throw Women'!$U$7:$U$46),SUMIF('4 x 12m Line Throw Women'!$C$7:$C$46,$A90,'4 x 12m Line Throw Women'!$U$7:$U$46)))","v":""},"",""]
[{"$f":"IF(A21=\"\",\"\",A21)","v":""},"",{"$f":"IF($A91=\"\",\"\",IF(SUMIF('50m Manikin Carry Women'!$C$7:$C$46,$A91,'50m Manikin Carry Women'!$X$7:$X$46)=0,1+MAX('50m Manikin Carry Women'!$X$7:$X$46),SUMIF('50m Manikin Carry Women'!$C$7:$C$46,$A91,'50m Manikin Carry Women'!$X$7:$X$46)))","v":""},{"$f":"IF($A91=\"\",\"\",IF(SUMIF('100m Manikin Carry Women'!$C$7:$C$46,$A91,'100m Manikin Carry Women'!$X$7:$X$46)=0,1+MAX('100m Manikin Carry Women'!$X$7:$X$46),SUMIF('100m Manikin Carry Women'!$C$7:$C$46,$A91,'100m Manikin Carry Women'!$X$7:$X$46)))","v":""},{"$f":"IF($A91=\"\",\"\",IF(SUMIF('100m Manikin Tow Women'!$C$7:$C$46,$A91,'100m Manikin Tow Women'!$X$7:$X$46)=0,1+MAX('100m Manikin Tow Women'!$X$7:$X$46),SUMIF('100m Manikin Tow Women'!$C$7:$C$46,$A91,'100m Manikin Tow Women'!$X$7:$X$46)))","v":""},{"$f":"IF($A91=\"\",\"\",IF(SUMIF('200m Obs Women'!$C$7:$C$46,$A91,'200m Obs Women'!$X$7:$X$46)=0,1+MAX('200m Obs Women'!$X$7:$X$46),SUMIF('200m Obs Women'!$C$7:$C$46,$A91,'200m Obs Women'!$X$7:$X$46)))","v":""},{"$f":"IF($A91=\"\",\"\",IF(SUMIF('200m Super Women'!$C$7:$C$46,$A91,'200m Super Women'!$X$7:$X$46)=0,1+MAX('200m Super Women'!$X$7:$X$46),SUMIF('200m Super Women'!$C$7:$C$46,$A91,'200m Super Women'!$X$7:$X$46)))","v":""},{"$f":"IF($A91=\"\",\"\",IF(SUMIF('100 Resue Women'!$C$7:$C$46,$A91,'100 Resue Women'!$X$7:$X$46)=0,1+MAX('100 Resue Women'!$X$7:$X$46),SUMIF('100 Resue Women'!$C$7:$C$46,$A91,'100 Resue Women'!$X$7:$X$46)))","v":""},{"$f":"IF($A91=\"\",\"\",IF(SUMIF('Line Throw Women'!$C$7:$C$46,$A91,'Line Throw Women'!$Z$7:$Z$46)=0,1+MAX('Line Throw Women'!$Z$7:$Z$46),SUMIF('Line Throw Women'!$C$7:$C$46,$A91,'Line Throw Women'!$Z$7:$Z$46)))","v":""},{"$f":"IF($A91=\"\",\"\",IF(SUMIF('4 x 50 Obs Relay Women'!$C$7:$C$46,$A91,'4 x 50 Obs Relay Women'!$U$7:$U$46)=0,1+MAX('4 x 50 Obs Relay Women'!$U$7:$U$46),SUMIF('4 x 50 Obs Relay Women'!$C$7:$C$46,$A91,'4 x 50 Obs Relay Women'!$U$7:$U$46)))","v":""},{"$f":"IF($A91=\"\",\"\",IF(SUMIF('4 x 50 medley Relay Women'!$C$7:$C$46,$A91,'4 x 50 medley Relay Women'!$U$7:$U$46)=0,1+MAX('4 x 50 medley Relay Women'!$U$7:$U$46),SUMIF('4 x 50 medley Relay Women'!$C$7:$C$46,$A91,'4 x 50 medley Relay Women'!$U$7:$U$46)))","v":""},{"$f":"IF($A91=\"\",\"\",IF(SUMIF('4 x 25 Manikin Carry Women'!$C$7:$C$46,$A91,'4 x 25 Manikin Carry Women'!$U$7:$U$46)=0,1+MAX('4 x 25 Manikin Carry Women'!$U$7:$U$46),SUMIF('4 x 25 Manikin Carry Women'!$C$7:$C$46,$A91,'4 x 25 Manikin Carry Women'!$U$7:$U$46)))","v":""},{"$f":"IF($A91=\"\",\"\",IF(SUMIF('4 x 12m Line Throw Women'!$C$7:$C$46,$A91,'4 x 12m Line Throw Women'!$U$7:$U$46)=0,1+MAX('4 x 12m Line Throw Women'!$U$7:$U$46),SUMIF('4 x 12m Line Throw Women'!$C$7:$C$46,$A91,'4 x 12m Line Throw Women'!$U$7:$U$46)))","v":""},"",""]
["","",{"$f":"IF($A92=\"\",\"\",IF(SUMIF('50m Manikin Carry Women'!$C$7:$C$46,$A92,'50m Manikin Carry Women'!$X$7:$X$46)=0,1+MAX('50m Manikin Carry Women'!$X$7:$X$46),SUMIF('50m Manikin Carry Women'!$C$7:$C$46,$A92,'50m Manikin Carry Women'!$X$7:$X$46)))","v":""},{"$f":"IF($A92=\"\",\"\",IF(SUMIF('100m Manikin Carry Women'!$C$7:$C$46,$A92,'100m Manikin Carry Women'!$X$7:$X$46)=0,1+MAX('100m Manikin Carry Women'!$X$7:$X$46),SUMIF('100m Manikin Carry Women'!$C$7:$C$46,$A92,'100m Manikin Carry Women'!$X$7:$X$46)))","v":""},{"$f":"IF($A92=\"\",\"\",IF(SUMIF('100m Manikin Tow Women'!$C$7:$C$46,$A92,'100m Manikin Tow Women'!$X$7:$X$46)=0,1+MAX('100m Manikin Tow Women'!$X$7:$X$46),SUMIF('100m Manikin Tow Women'!$C$7:$C$46,$A92,'100m Manikin Tow Women'!$X$7:$X$46)))","v":""},{"$f":"IF($A92=\"\",\"\",IF(SUMIF('200m Obs Women'!$C$7:$C$46,$A92,'200m Obs Women'!$X$7:$X$46)=0,1+MAX('200m Obs Women'!$X$7:$X$46),SUMIF('200m Obs Women'!$C$7:$C$46,$A92,'200m Obs Women'!$X$7:$X$46)))","v":""},{"$f":"IF($A92=\"\",\"\",IF(SUMIF('200m Super Women'!$C$7:$C$46,$A92,'200m Super Women'!$X$7:$X$46)=0,1+MAX('200m Super Women'!$X$7:$X$46),SUMIF('200m Super Women'!$C$7:$C$46,$A92,'200m Super Women'!$X$7:$X$46)))","v":""},{"$f":"IF($A92=\"\",\"\",IF(SUMIF('100 Resue Women'!$C$7:$C$46,$A92,'100 Resue Women'!$X$7:$X$46)=0,1+MAX('100 Resue Women'!$X$7:$X$46),SUMIF('100 Resue Women'!$C$7:$C$46,$A92,'100 Resue Women'!$X$7:$X$46)))","v":""},{"$f":"IF($A92=\"\",\"\",IF(SUMIF('Line Throw Women'!$C$7:$C$46,$A92,'Line Throw Women'!$Z$7:$Z$46)=0,1+MAX('Line Throw Women'!$Z$7:$Z$46),SUMIF('Line Throw Women'!$C$7:$C$46,$A92,'Line Throw Women'!$Z$7:$Z$46)))","v":""},{"$f":"IF($A92=\"\",\"\",IF(SUMIF('4 x 50 Obs Relay Women'!$C$7:$C$46,$A92,'4 x 50 Obs Relay Women'!$U$7:$U$46)=0,1+MAX('4 x 50 Obs Relay Women'!$U$7:$U$46),SUMIF('4 x 50 Obs Relay Women'!$C$7:$C$46,$A92,'4 x 50 Obs Relay Women'!$U$7:$U$46)))","v":""},{"$f":"IF($A92=\"\",\"\",IF(SUMIF('4 x 50 medley Relay Women'!$C$7:$C$46,$A92,'4 x 50 medley Relay Women'!$U$7:$U$46)=0,1+MAX('4 x 50 medley Relay Women'!$U$7:$U$46),SUMIF('4 x 50 medley Relay Women'!$C$7:$C$46,$A92,'4 x 50 medley Relay Women'!$U$7:$U$46)))","v":""},{"$f":"IF($A92=\"\",\"\",IF(SUMIF('4 x 25 Manikin Carry Women'!$C$7:$C$46,$A92,'4 x 25 Manikin Carry Women'!$U$7:$U$46)=0,1+MAX('4 x 25 Manikin Carry Women'!$U$7:$U$46),SUMIF('4 x 25 Manikin Carry Women'!$C$7:$C$46,$A92,'4 x 25 Manikin Carry Women'!$U$7:$U$46)))","v":""},{"$f":"IF($A92=\"\",\"\",IF(SUMIF('4 x 12m Line Throw Women'!$C$7:$C$46,$A92,'4 x 12m Line Throw Women'!$U$7:$U$46)=0,1+MAX('4 x 12m Line Throw Women'!$U$7:$U$46),SUMIF('4 x 12m Line Throw Women'!$C$7:$C$46,$A92,'4 x 12m Line Throw Women'!$U$7:$U$46)))","v":""},"",""]
["","",{"$f":"IF($A93=\"\",\"\",IF(SUMIF('50m Manikin Carry Women'!$C$7:$C$46,$A93,'50m Manikin Carry Women'!$X$7:$X$46)=0,1+MAX('50m Manikin Carry Women'!$X$7:$X$46),SUMIF('50m Manikin Carry Women'!$C$7:$C$46,$A93,'50m Manikin Carry Women'!$X$7:$X$46)))","v":""},{"$f":"IF($A93=\"\",\"\",IF(SUMIF('100m Manikin Carry Women'!$C$7:$C$46,$A93,'100m Manikin Carry Women'!$X$7:$X$46)=0,1+MAX('100m Manikin Carry Women'!$X$7:$X$46),SUMIF('100m Manikin Carry Women'!$C$7:$C$46,$A93,'100m Manikin Carry Women'!$X$7:$X$46)))","v":""},{"$f":"IF($A93=\"\",\"\",IF(SUMIF('100m Manikin Tow Women'!$C$7:$C$46,$A93,'100m Manikin Tow Women'!$X$7:$X$46)=0,1+MAX('100m Manikin Tow Women'!$X$7:$X$46),SUMIF('100m Manikin Tow Women'!$C$7:$C$46,$A93,'100m Manikin Tow Women'!$X$7:$X$46)))","v":""},{"$f":"IF($A93=\"\",\"\",IF(SUMIF('200m Obs Women'!$C$7:$C$46,$A93,'200m Obs Women'!$X$7:$X$46)=0,1+MAX('200m Obs Women'!$X$7:$X$46),SUMIF('200m Obs Women'!$C$7:$C$46,$A93,'200m Obs Women'!$X$7:$X$46)))","v":""},{"$f":"IF($A93=\"\",\"\",IF(SUMIF('200m Super Women'!$C$7:$C$46,$A93,'200m Super Women'!$X$7:$X$46)=0,1+MAX('200m Super Women'!$X$7:$X$46),SUMIF('200m Super Women'!$C$7:$C$46,$A93,'200m Super Women'!$X$7:$X$46)))","v":""},{"$f":"IF($A93=\"\",\"\",IF(SUMIF('100 Resue Women'!$C$7:$C$46,$A93,'100 Resue Women'!$X$7:$X$46)=0,1+MAX('100 Resue Women'!$X$7:$X$46),SUMIF('100 Resue Women'!$C$7:$C$46,$A93,'100 Resue Women'!$X$7:$X$46)))","v":""},{"$f":"IF($A93=\"\",\"\",IF(SUMIF('Line Throw Women'!$C$7:$C$46,$A93,'Line Throw Women'!$Z$7:$Z$46)=0,1+MAX('Line Throw Women'!$Z$7:$Z$46),SUMIF('Line Throw Women'!$C$7:$C$46,$A93,'Line Throw Women'!$Z$7:$Z$46)))","v":""},{"$f":"IF($A93=\"\",\"\",IF(SUMIF('4 x 50 Obs Relay Women'!$C$7:$C$46,$A93,'4 x 50 Obs Relay Women'!$U$7:$U$46)=0,1+MAX('4 x 50 Obs Relay Women'!$U$7:$U$46),SUMIF('4 x 50 Obs Relay Women'!$C$7:$C$46,$A93,'4 x 50 Obs Relay Women'!$U$7:$U$46)))","v":""},{"$f":"IF($A93=\"\",\"\",IF(SUMIF('4 x 50 medley Relay Women'!$C$7:$C$46,$A93,'4 x 50 medley Relay Women'!$U$7:$U$46)=0,1+MAX('4 x 50 medley Relay Women'!$U$7:$U$46),SUMIF('4 x 50 medley Relay Women'!$C$7:$C$46,$A93,'4 x 50 medley Relay Women'!$U$7:$U$46)))","v":""},{"$f":"IF($A93=\"\",\"\",IF(SUMIF('4 x 25 Manikin Carry Women'!$C$7:$C$46,$A93,'4 x 25 Manikin Carry Women'!$U$7:$U$46)=0,1+MAX('4 x 25 Manikin Carry Women'!$U$7:$U$46),SUMIF('4 x 25 Manikin Carry Women'!$C$7:$C$46,$A93,'4 x 25 Manikin Carry Women'!$U$7:$U$46)))","v":""},{"$f":"IF($A93=\"\",\"\",IF(SUMIF('4 x 12m Line Throw Women'!$C$7:$C$46,$A93,'4 x 12m Line Throw Women'!$U$7:$U$46)=0,1+MAX('4 x 12m Line Throw Women'!$U$7:$U$46),SUMIF('4 x 12m Line Throw Women'!$C$7:$C$46,$A93,'4 x 12m Line Throw Women'!$U$7:$U$46)))","v":""},"",""]
["","",{"$f":"IF($A94=\"\",\"\",IF(SUMIF('50m Manikin Carry Women'!$C$7:$C$46,$A94,'50m Manikin Carry Women'!$X$7:$X$46)=0,1+MAX('50m Manikin Carry Women'!$X$7:$X$46),SUMIF('50m Manikin Carry Women'!$C$7:$C$46,$A94,'50m Manikin Carry Women'!$X$7:$X$46)))","v":""},{"$f":"IF($A94=\"\",\"\",IF(SUMIF('100m Manikin Carry Women'!$C$7:$C$46,$A94,'100m Manikin Carry Women'!$X$7:$X$46)=0,1+MAX('100m Manikin Carry Women'!$X$7:$X$46),SUMIF('100m Manikin Carry Women'!$C$7:$C$46,$A94,'100m Manikin Carry Women'!$X$7:$X$46)))","v":""},{"$f":"IF($A94=\"\",\"\",IF(SUMIF('100m Manikin Tow Women'!$C$7:$C$46,$A94,'100m Manikin Tow Women'!$X$7:$X$46)=0,1+MAX('100m Manikin Tow Women'!$X$7:$X$46),SUMIF('100m Manikin Tow Women'!$C$7:$C$46,$A94,'100m Manikin Tow Women'!$X$7:$X$46)))","v":""},{"$f":"IF($A94=\"\",\"\",IF(SUMIF('200m Obs Women'!$C$7:$C$46,$A94,'200m Obs Women'!$X$7:$X$46)=0,1+MAX('200m Obs Women'!$X$7:$X$46),SUMIF('200m Obs Women'!$C$7:$C$46,$A94,'200m Obs Women'!$X$7:$X$46)))","v":""},{"$f":"IF($A94=\"\",\"\",IF(SUMIF('200m Super Women'!$C$7:$C$46,$A94,'200m Super Women'!$X$7:$X$46)=0,1+MAX('200m Super Women'!$X$7:$X$46),SUMIF('200m Super Women'!$C$7:$C$46,$A94,'200m Super Women'!$X$7:$X$46)))","v":""},{"$f":"IF($A94=\"\",\"\",IF(SUMIF('100 Resue Women'!$C$7:$C$46,$A94,'100 Resue Women'!$X$7:$X$46)=0,1+MAX('100 Resue Women'!$X$7:$X$46),SUMIF('100 Resue Women'!$C$7:$C$46,$A94,'100 Resue Women'!$X$7:$X$46)))","v":""},{"$f":"IF($A94=\"\",\"\",IF(SUMIF('Line Throw Women'!$C$7:$C$46,$A94,'Line Throw Women'!$Z$7:$Z$46)=0,1+MAX('Line Throw Women'!$Z$7:$Z$46),SUMIF('Line Throw Women'!$C$7:$C$46,$A94,'Line Throw Women'!$Z$7:$Z$46)))","v":""},{"$f":"IF($A94=\"\",\"\",IF(SUMIF('4 x 50 Obs Relay Women'!$C$7:$C$46,$A94,'4 x 50 Obs Relay Women'!$U$7:$U$46)=0,1+MAX('4 x 50 Obs Relay Women'!$U$7:$U$46),SUMIF('4 x 50 Obs Relay Women'!$C$7:$C$46,$A94,'4 x 50 Obs Relay Women'!$U$7:$U$46)))","v":""},{"$f":"IF($A94=\"\",\"\",IF(SUMIF('4 x 50 medley Relay Women'!$C$7:$C$46,$A94,'4 x 50 medley Relay Women'!$U$7:$U$46)=0,1+MAX('4 x 50 medley Relay Women'!$U$7:$U$46),SUMIF('4 x 50 medley Relay Women'!$C$7:$C$46,$A94,'4 x 50 medley Relay Women'!$U$7:$U$46)))","v":""},{"$f":"IF($A94=\"\",\"\",IF(SUMIF('4 x 25 Manikin Carry Women'!$C$7:$C$46,$A94,'4 x 25 Manikin Carry Women'!$U$7:$U$46)=0,1+MAX('4 x 25 Manikin Carry Women'!$U$7:$U$46),SUMIF('4 x 25 Manikin Carry Women'!$C$7:$C$46,$A94,'4 x 25 Manikin Carry Women'!$U$7:$U$46)))","v":""},{"$f":"IF($A94=\"\",\"\",IF(SUMIF('4 x 12m Line Throw Women'!$C$7:$C$46,$A94,'4 x 12m Line Throw Women'!$U$7:$U$46)=0,1+MAX('4 x 12m Line Throw Women'!$U$7:$U$46),SUMIF('4 x 12m Line Throw Women'!$C$7:$C$46,$A94,'4 x 12m Line Throw Women'!$U$7:$U$46)))","v":""},"",""]
["","",{"$f":"IF($A95=\"\",\"\",IF(SUMIF('50m Manikin Carry Women'!$C$7:$C$46,$A95,'50m Manikin Carry Women'!$X$7:$X$46)=0,1+MAX('50m Manikin Carry Women'!$X$7:$X$46),SUMIF('50m Manikin Carry Women'!$C$7:$C$46,$A95,'50m Manikin Carry Women'!$X$7:$X$46)))","v":""},{"$f":"IF($A95=\"\",\"\",IF(SUMIF('100m Manikin Carry Women'!$C$7:$C$46,$A95,'100m Manikin Carry Women'!$X$7:$X$46)=0,1+MAX('100m Manikin Carry Women'!$X$7:$X$46),SUMIF('100m Manikin Carry Women'!$C$7:$C$46,$A95,'100m Manikin Carry Women'!$X$7:$X$46)))","v":""},{"$f":"IF($A95=\"\",\"\",IF(SUMIF('100m Manikin Tow Women'!$C$7:$C$46,$A95,'100m Manikin Tow Women'!$X$7:$X$46)=0,1+MAX('100m Manikin Tow Women'!$X$7:$X$46),SUMIF('100m Manikin Tow Women'!$C$7:$C$46,$A95,'100m Manikin Tow Women'!$X$7:$X$46)))","v":""},{"$f":"IF($A95=\"\",\"\",IF(SUMIF('200m Obs Women'!$C$7:$C$46,$A95,'200m Obs Women'!$X$7:$X$46)=0,1+MAX('200m Obs Women'!$X$7:$X$46),SUMIF('200m Obs Women'!$C$7:$C$46,$A95,'200m Obs Women'!$X$7:$X$46)))","v":""},{"$f":"IF($A95=\"\",\"\",IF(SUMIF('200m Super Women'!$C$7:$C$46,$A95,'200m Super Women'!$X$7:$X$46)=0,1+MAX('200m Super Women'!$X$7:$X$46),SUMIF('200m Super Women'!$C$7:$C$46,$A95,'200m Super Women'!$X$7:$X$46)))","v":""},{"$f":"IF($A95=\"\",\"\",IF(SUMIF('100 Resue Women'!$C$7:$C$46,$A95,'100 Resue Women'!$X$7:$X$46)=0,1+MAX('100 Resue Women'!$X$7:$X$46),SUMIF('100 Resue Women'!$C$7:$C$46,$A95,'100 Resue Women'!$X$7:$X$46)))","v":""},{"$f":"IF($A95=\"\",\"\",IF(SUMIF('Line Throw Women'!$C$7:$C$46,$A95,'Line Throw Women'!$Z$7:$Z$46)=0,1+MAX('Line Throw Women'!$Z$7:$Z$46),SUMIF('Line Throw Women'!$C$7:$C$46,$A95,'Line Throw Women'!$Z$7:$Z$46)))","v":""},{"$f":"IF($A95=\"\",\"\",IF(SUMIF('4 x 50 Obs Relay Women'!$C$7:$C$46,$A95,'4 x 50 Obs Relay Women'!$U$7:$U$46)=0,1+MAX('4 x 50 Obs Relay Women'!$U$7:$U$46),SUMIF('4 x 50 Obs Relay Women'!$C$7:$C$46,$A95,'4 x 50 Obs Relay Women'!$U$7:$U$46)))","v":""},{"$f":"IF($A95=\"\",\"\",IF(SUMIF('4 x 50 medley Relay Women'!$C$7:$C$46,$A95,'4 x 50 medley Relay Women'!$U$7:$U$46)=0,1+MAX('4 x 50 medley Relay Women'!$U$7:$U$46),SUMIF('4 x 50 medley Relay Women'!$C$7:$C$46,$A95,'4 x 50 medley Relay Women'!$U$7:$U$46)))","v":""},{"$f":"IF($A95=\"\",\"\",IF(SUMIF('4 x 25 Manikin Carry Women'!$C$7:$C$46,$A95,'4 x 25 Manikin Carry Women'!$U$7:$U$46)=0,1+MAX('4 x 25 Manikin Carry Women'!$U$7:$U$46),SUMIF('4 x 25 Manikin Carry Women'!$C$7:$C$46,$A95,'4 x 25 Manikin Carry Women'!$U$7:$U$46)))","v":""},{"$f":"IF($A95=\"\",\"\",IF(SUMIF('4 x 12m Line Throw Women'!$C$7:$C$46,$A95,'4 x 12m Line Throw Women'!$U$7:$U$46)=0,1+MAX('4 x 12m Line Throw Women'!$U$7:$U$46),SUMIF('4 x 12m Line Throw Women'!$C$7:$C$46,$A95,'4 x 12m Line Throw Women'!$U$7:$U$46)))","v":""},"",""]
["","",{"$f":"IF($A96=\"\",\"\",IF(SUMIF('50m Manikin Carry Women'!$C$7:$C$46,$A96,'50m Manikin Carry Women'!$X$7:$X$46)=0,1+MAX('50m Manikin Carry Women'!$X$7:$X$46),SUMIF('50m Manikin Carry Women'!$C$7:$C$46,$A96,'50m Manikin Carry Women'!$X$7:$X$46)))","v":""},{"$f":"IF($A96=\"\",\"\",IF(SUMIF('100m Manikin Carry Women'!$C$7:$C$46,$A96,'100m Manikin Carry Women'!$X$7:$X$46)=0,1+MAX('100m Manikin Carry Women'!$X$7:$X$46),SUMIF('100m Manikin Carry Women'!$C$7:$C$46,$A96,'100m Manikin Carry Women'!$X$7:$X$46)))","v":""},{"$f":"IF($A96=\"\",\"\",IF(SUMIF('100m Manikin Tow Women'!$C$7:$C$46,$A96,'100m Manikin Tow Women'!$X$7:$X$46)=0,1+MAX('100m Manikin Tow Women'!$X$7:$X$46),SUMIF('100m Manikin Tow Women'!$C$7:$C$46,$A96,'100m Manikin Tow Women'!$X$7:$X$46)))","v":""},{"$f":"IF($A96=\"\",\"\",IF(SUMIF('200m Obs Women'!$C$7:$C$46,$A96,'200m Obs Women'!$X$7:$X$46)=0,1+MAX('200m Obs Women'!$X$7:$X$46),SUMIF('200m Obs Women'!$C$7:$C$46,$A96,'200m Obs Women'!$X$7:$X$46)))","v":""},{"$f":"IF($A96=\"\",\"\",IF(SUMIF('200m Super Women'!$C$7:$C$46,$A96,'200m Super Women'!$X$7:$X$46)=0,1+MAX('200m Super Women'!$X$7:$X$46),SUMIF('200m Super Women'!$C$7:$C$46,$A96,'200m Super Women'!$X$7:$X$46)))","v":""},{"$f":"IF($A96=\"\",\"\",IF(SUMIF('100 Resue Women'!$C$7:$C$46,$A96,'100 Resue Women'!$X$7:$X$46)=0,1+MAX('100 Resue Women'!$X$7:$X$46),SUMIF('100 Resue Women'!$C$7:$C$46,$A96,'100 Resue Women'!$X$7:$X$46)))","v":""},{"$f":"IF($A96=\"\",\"\",IF(SUMIF('Line Throw Women'!$C$7:$C$46,$A96,'Line Throw Women'!$Z$7:$Z$46)=0,1+MAX('Line Throw Women'!$Z$7:$Z$46),SUMIF('Line Throw Women'!$C$7:$C$46,$A96,'Line Throw Women'!$Z$7:$Z$46)))","v":""},{"$f":"IF($A96=\"\",\"\",IF(SUMIF('4 x 50 Obs Relay Women'!$C$7:$C$46,$A96,'4 x 50 Obs Relay Women'!$U$7:$U$46)=0,1+MAX('4 x 50 Obs Relay Women'!$U$7:$U$46),SUMIF('4 x 50 Obs Relay Women'!$C$7:$C$46,$A96,'4 x 50 Obs Relay Women'!$U$7:$U$46)))","v":""},{"$f":"IF($A96=\"\",\"\",IF(SUMIF('4 x 50 medley Relay Women'!$C$7:$C$46,$A96,'4 x 50 medley Relay Women'!$U$7:$U$46)=0,1+MAX('4 x 50 medley Relay Women'!$U$7:$U$46),SUMIF('4 x 50 medley Relay Women'!$C$7:$C$46,$A96,'4 x 50 medley Relay Women'!$U$7:$U$46)))","v":""},{"$f":"IF($A96=\"\",\"\",IF(SUMIF('4 x 25 Manikin Carry Women'!$C$7:$C$46,$A96,'4 x 25 Manikin Carry Women'!$U$7:$U$46)=0,1+MAX('4 x 25 Manikin Carry Women'!$U$7:$U$46),SUMIF('4 x 25 Manikin Carry Women'!$C$7:$C$46,$A96,'4 x 25 Manikin Carry Women'!$U$7:$U$46)))","v":""},{"$f":"IF($A96=\"\",\"\",IF(SUMIF('4 x 12m Line Throw Women'!$C$7:$C$46,$A96,'4 x 12m Line Throw Women'!$U$7:$U$46)=0,1+MAX('4 x 12m Line Throw Women'!$U$7:$U$46),SUMIF('4 x 12m Line Throw Women'!$C$7:$C$46,$A96,'4 x 12m Line Throw Women'!$U$7:$U$46)))","v":""},"",""]
["","",{"$f":"IF($A97=\"\",\"\",IF(SUMIF('50m Manikin Carry Women'!$C$7:$C$46,$A97,'50m Manikin Carry Women'!$X$7:$X$46)=0,1+MAX('50m Manikin Carry Women'!$X$7:$X$46),SUMIF('50m Manikin Carry Women'!$C$7:$C$46,$A97,'50m Manikin Carry Women'!$X$7:$X$46)))","v":""},{"$f":"IF($A97=\"\",\"\",IF(SUMIF('100m Manikin Carry Women'!$C$7:$C$46,$A97,'100m Manikin Carry Women'!$X$7:$X$46)=0,1+MAX('100m Manikin Carry Women'!$X$7:$X$46),SUMIF('100m Manikin Carry Women'!$C$7:$C$46,$A97,'100m Manikin Carry Women'!$X$7:$X$46)))","v":""},{"$f":"IF($A97=\"\",\"\",IF(SUMIF('100m Manikin Tow Women'!$C$7:$C$46,$A97,'100m Manikin Tow Women'!$X$7:$X$46)=0,1+MAX('100m Manikin Tow Women'!$X$7:$X$46),SUMIF('100m Manikin Tow Women'!$C$7:$C$46,$A97,'100m Manikin Tow Women'!$X$7:$X$46)))","v":""},{"$f":"IF($A97=\"\",\"\",IF(SUMIF('200m Obs Women'!$C$7:$C$46,$A97,'200m Obs Women'!$X$7:$X$46)=0,1+MAX('200m Obs Women'!$X$7:$X$46),SUMIF('200m Obs Women'!$C$7:$C$46,$A97,'200m Obs Women'!$X$7:$X$46)))","v":""},{"$f":"IF($A97=\"\",\"\",IF(SUMIF('200m Super Women'!$C$7:$C$46,$A97,'200m Super Women'!$X$7:$X$46)=0,1+MAX('200m Super Women'!$X$7:$X$46),SUMIF('200m Super Women'!$C$7:$C$46,$A97,'200m Super Women'!$X$7:$X$46)))","v":""},{"$f":"IF($A97=\"\",\"\",IF(SUMIF('100 Resue Women'!$C$7:$C$46,$A97,'100 Resue Women'!$X$7:$X$46)=0,1+MAX('100 Resue Women'!$X$7:$X$46),SUMIF('100 Resue Women'!$C$7:$C$46,$A97,'100 Resue Women'!$X$7:$X$46)))","v":""},{"$f":"IF($A97=\"\",\"\",IF(SUMIF('Line Throw Women'!$C$7:$C$46,$A97,'Line Throw Women'!$Z$7:$Z$46)=0,1+MAX('Line Throw Women'!$Z$7:$Z$46),SUMIF('Line Throw Women'!$C$7:$C$46,$A97,'Line Throw Women'!$Z$7:$Z$46)))","v":""},{"$f":"IF($A97=\"\",\"\",IF(SUMIF('4 x 50 Obs Relay Women'!$C$7:$C$46,$A97,'4 x 50 Obs Relay Women'!$U$7:$U$46)=0,1+MAX('4 x 50 Obs Relay Women'!$U$7:$U$46),SUMIF('4 x 50 Obs Relay Women'!$C$7:$C$46,$A97,'4 x 50 Obs Relay Women'!$U$7:$U$46)))","v":""},{"$f":"IF($A97=\"\",\"\",IF(SUMIF('4 x 50 medley Relay Women'!$C$7:$C$46,$A97,'4 x 50 medley Relay Women'!$U$7:$U$46)=0,1+MAX('4 x 50 medley Relay Women'!$U$7:$U$46),SUMIF('4 x 50 medley Relay Women'!$C$7:$C$46,$A97,'4 x 50 medley Relay Women'!$U$7:$U$46)))","v":""},{"$f":"IF($A97=\"\",\"\",IF(SUMIF('4 x 25 Manikin Carry Women'!$C$7:$C$46,$A97,'4 x 25 Manikin Carry Women'!$U$7:$U$46)=0,1+MAX('4 x 25 Manikin Carry Women'!$U$7:$U$46),SUMIF('4 x 25 Manikin Carry Women'!$C$7:$C$46,$A97,'4 x 25 Manikin Carry Women'!$U$7:$U$46)))","v":""},{"$f":"IF($A97=\"\",\"\",IF(SUMIF('4 x 12m Line Throw Women'!$C$7:$C$46,$A97,'4 x 12m Line Throw Women'!$U$7:$U$46)=0,1+MAX('4 x 12m Line Throw Women'!$U$7:$U$46),SUMIF('4 x 12m Line Throw Women'!$C$7:$C$46,$A97,'4 x 12m Line Throw Women'!$U$7:$U$46)))","v":""},"",""]
["","",{"$f":"IF($A98=\"\",\"\",IF(SUMIF('50m Manikin Carry Women'!$C$7:$C$46,$A98,'50m Manikin Carry Women'!$X$7:$X$46)=0,1+MAX('50m Manikin Carry Women'!$X$7:$X$46),SUMIF('50m Manikin Carry Women'!$C$7:$C$46,$A98,'50m Manikin Carry Women'!$X$7:$X$46)))","v":""},{"$f":"IF($A98=\"\",\"\",IF(SUMIF('100m Manikin Carry Women'!$C$7:$C$46,$A98,'100m Manikin Carry Women'!$X$7:$X$46)=0,1+MAX('100m Manikin Carry Women'!$X$7:$X$46),SUMIF('100m Manikin Carry Women'!$C$7:$C$46,$A98,'100m Manikin Carry Women'!$X$7:$X$46)))","v":""},{"$f":"IF($A98=\"\",\"\",IF(SUMIF('100m Manikin Tow Women'!$C$7:$C$46,$A98,'100m Manikin Tow Women'!$X$7:$X$46)=0,1+MAX('100m Manikin Tow Women'!$X$7:$X$46),SUMIF('100m Manikin Tow Women'!$C$7:$C$46,$A98,'100m Manikin Tow Women'!$X$7:$X$46)))","v":""},{"$f":"IF($A98=\"\",\"\",IF(SUMIF('200m Obs Women'!$C$7:$C$46,$A98,'200m Obs Women'!$X$7:$X$46)=0,1+MAX('200m Obs Women'!$X$7:$X$46),SUMIF('200m Obs Women'!$C$7:$C$46,$A98,'200m Obs Women'!$X$7:$X$46)))","v":""},{"$f":"IF($A98=\"\",\"\",IF(SUMIF('200m Super Women'!$C$7:$C$46,$A98,'200m Super Women'!$X$7:$X$46)=0,1+MAX('200m Super Women'!$X$7:$X$46),SUMIF('200m Super Women'!$C$7:$C$46,$A98,'200m Super Women'!$X$7:$X$46)))","v":""},{"$f":"IF($A98=\"\",\"\",IF(SUMIF('100 Resue Women'!$C$7:$C$46,$A98,'100 Resue Women'!$X$7:$X$46)=0,1+MAX('100 Resue Women'!$X$7:$X$46),SUMIF('100 Resue Women'!$C$7:$C$46,$A98,'100 Resue Women'!$X$7:$X$46)))","v":""},{"$f":"IF($A98=\"\",\"\",IF(SUMIF('Line Throw Women'!$C$7:$C$46,$A98,'Line Throw Women'!$Z$7:$Z$46)=0,1+MAX('Line Throw Women'!$Z$7:$Z$46),SUMIF('Line Throw Women'!$C$7:$C$46,$A98,'Line Throw Women'!$Z$7:$Z$46)))","v":""},{"$f":"IF($A98=\"\",\"\",IF(SUMIF('4 x 50 Obs Relay Women'!$C$7:$C$46,$A98,'4 x 50 Obs Relay Women'!$U$7:$U$46)=0,1+MAX('4 x 50 Obs Relay Women'!$U$7:$U$46),SUMIF('4 x 50 Obs Relay Women'!$C$7:$C$46,$A98,'4 x 50 Obs Relay Women'!$U$7:$U$46)))","v":""},{"$f":"IF($A98=\"\",\"\",IF(SUMIF('4 x 50 medley Relay Women'!$C$7:$C$46,$A98,'4 x 50 medley Relay Women'!$U$7:$U$46)=0,1+MAX('4 x 50 medley Relay Women'!$U$7:$U$46),SUMIF('4 x 50 medley Relay Women'!$C$7:$C$46,$A98,'4 x 50 medley Relay Women'!$U$7:$U$46)))","v":""},{"$f":"IF($A98=\"\",\"\",IF(SUMIF('4 x 25 Manikin Carry Women'!$C$7:$C$46,$A98,'4 x 25 Manikin Carry Women'!$U$7:$U$46)=0,1+MAX('4 x 25 Manikin Carry Women'!$U$7:$U$46),SUMIF('4 x 25 Manikin Carry Women'!$C$7:$C$46,$A98,'4 x 25 Manikin Carry Women'!$U$7:$U$46)))","v":""},{"$f":"IF($A98=\"\",\"\",IF(SUMIF('4 x 12m Line Throw Women'!$C$7:$C$46,$A98,'4 x 12m Line Throw Women'!$U$7:$U$46)=0,1+MAX('4 x 12m Line Throw Women'!$U$7:$U$46),SUMIF('4 x 12m Line Throw Women'!$C$7:$C$46,$A98,'4 x 12m Line Throw Women'!$U$7:$U$46)))","v":""},"",""]
["","",{"$f":"IF($A99=\"\",\"\",IF(SUMIF('50m Manikin Carry Women'!$C$7:$C$46,$A99,'50m Manikin Carry Women'!$X$7:$X$46)=0,1+MAX('50m Manikin Carry Women'!$X$7:$X$46),SUMIF('50m Manikin Carry Women'!$C$7:$C$46,$A99,'50m Manikin Carry Women'!$X$7:$X$46)))","v":""},{"$f":"IF($A99=\"\",\"\",IF(SUMIF('100m Manikin Carry Women'!$C$7:$C$46,$A99,'100m Manikin Carry Women'!$X$7:$X$46)=0,1+MAX('100m Manikin Carry Women'!$X$7:$X$46),SUMIF('100m Manikin Carry Women'!$C$7:$C$46,$A99,'100m Manikin Carry Women'!$X$7:$X$46)))","v":""},{"$f":"IF($A99=\"\",\"\",IF(SUMIF('100m Manikin Tow Women'!$C$7:$C$46,$A99,'100m Manikin Tow Women'!$X$7:$X$46)=0,1+MAX('100m Manikin Tow Women'!$X$7:$X$46),SUMIF('100m Manikin Tow Women'!$C$7:$C$46,$A99,'100m Manikin Tow Women'!$X$7:$X$46)))","v":""},{"$f":"IF($A99=\"\",\"\",IF(SUMIF('200m Obs Women'!$C$7:$C$46,$A99,'200m Obs Women'!$X$7:$X$46)=0,1+MAX('200m Obs Women'!$X$7:$X$46),SUMIF('200m Obs Women'!$C$7:$C$46,$A99,'200m Obs Women'!$X$7:$X$46)))","v":""},{"$f":"IF($A99=\"\",\"\",IF(SUMIF('200m Super Women'!$C$7:$C$46,$A99,'200m Super Women'!$X$7:$X$46)=0,1+MAX('200m Super Women'!$X$7:$X$46),SUMIF('200m Super Women'!$C$7:$C$46,$A99,'200m Super Women'!$X$7:$X$46)))","v":""},{"$f":"IF($A99=\"\",\"\",IF(SUMIF('100 Resue Women'!$C$7:$C$46,$A99,'100 Resue Women'!$X$7:$X$46)=0,1+MAX('100 Resue Women'!$X$7:$X$46),SUMIF('100 Resue Women'!$C$7:$C$46,$A99,'100 Resue Women'!$X$7:$X$46)))","v":""},{"$f":"IF($A99=\"\",\"\",IF(SUMIF('Line Throw Women'!$C$7:$C$46,$A99,'Line Throw Women'!$Z$7:$Z$46)=0,1+MAX('Line Throw Women'!$Z$7:$Z$46),SUMIF('Line Throw Women'!$C$7:$C$46,$A99,'Line Throw Women'!$Z$7:$Z$46)))","v":""},{"$f":"IF($A99=\"\",\"\",IF(SUMIF('4 x 50 Obs Relay Women'!$C$7:$C$46,$A99,'4 x 50 Obs Relay Women'!$U$7:$U$46)=0,1+MAX('4 x 50 Obs Relay Women'!$U$7:$U$46),SUMIF('4 x 50 Obs Relay Women'!$C$7:$C$46,$A99,'4 x 50 Obs Relay Women'!$U$7:$U$46)))","v":""},{"$f":"IF($A99=\"\",\"\",IF(SUMIF('4 x 50 medley Relay Women'!$C$7:$C$46,$A99,'4 x 50 medley Relay Women'!$U$7:$U$46)=0,1+MAX('4 x 50 medley Relay Women'!$U$7:$U$46),SUMIF('4 x 50 medley Relay Women'!$C$7:$C$46,$A99,'4 x 50 medley Relay Women'!$U$7:$U$46)))","v":""},{"$f":"IF($A99=\"\",\"\",IF(SUMIF('4 x 25 Manikin Carry Women'!$C$7:$C$46,$A99,'4 x 25 Manikin Carry Women'!$U$7:$U$46)=0,1+MAX('4 x 25 Manikin Carry Women'!$U$7:$U$46),SUMIF('4 x 25 Manikin Carry Women'!$C$7:$C$46,$A99,'4 x 25 Manikin Carry Women'!$U$7:$U$46)))","v":""},{"$f":"IF($A99=\"\",\"\",IF(SUMIF('4 x 12m Line Throw Women'!$C$7:$C$46,$A99,'4 x 12m Line Throw Women'!$U$7:$U$46)=0,1+MAX('4 x 12m Line Throw Women'!$U$7:$U$46),SUMIF('4 x 12m Line Throw Women'!$C$7:$C$46,$A99,'4 x 12m Line Throw Women'!$U$7:$U$46)))","v":""},"",""]
["","",{"$f":"IF($A100=\"\",\"\",IF(SUMIF('50m Manikin Carry Women'!$C$7:$C$46,$A100,'50m Manikin Carry Women'!$X$7:$X$46)=0,1+MAX('50m Manikin Carry Women'!$X$7:$X$46),SUMIF('50m Manikin Carry Women'!$C$7:$C$46,$A100,'50m Manikin Carry Women'!$X$7:$X$46)))","v":""},{"$f":"IF($A100=\"\",\"\",IF(SUMIF('100m Manikin Carry Women'!$C$7:$C$46,$A100,'100m Manikin Carry Women'!$X$7:$X$46)=0,1+MAX('100m Manikin Carry Women'!$X$7:$X$46),SUMIF('100m Manikin Carry Women'!$C$7:$C$46,$A100,'100m Manikin Carry Women'!$X$7:$X$46)))","v":""},{"$f":"IF($A100=\"\",\"\",IF(SUMIF('100m Manikin Tow Women'!$C$7:$C$46,$A100,'100m Manikin Tow Women'!$X$7:$X$46)=0,1+MAX('100m Manikin Tow Women'!$X$7:$X$46),SUMIF('100m Manikin Tow Women'!$C$7:$C$46,$A100,'100m Manikin Tow Women'!$X$7:$X$46)))","v":""},{"$f":"IF($A100=\"\",\"\",IF(SUMIF('200m Obs Women'!$C$7:$C$46,$A100,'200m Obs Women'!$X$7:$X$46)=0,1+MAX('200m Obs Women'!$X$7:$X$46),SUMIF('200m Obs Women'!$C$7:$C$46,$A100,'200m Obs Women'!$X$7:$X$46)))","v":""},{"$f":"IF($A100=\"\",\"\",IF(SUMIF('200m Super Women'!$C$7:$C$46,$A100,'200m Super Women'!$X$7:$X$46)=0,1+MAX('200m Super Women'!$X$7:$X$46),SUMIF('200m Super Women'!$C$7:$C$46,$A100,'200m Super Women'!$X$7:$X$46)))","v":""},{"$f":"IF($A100=\"\",\"\",IF(SUMIF('100 Resue Women'!$C$7:$C$46,$A100,'100 Resue Women'!$X$7:$X$46)=0,1+MAX('100 Resue Women'!$X$7:$X$46),SUMIF('100 Resue Women'!$C$7:$C$46,$A100,'100 Resue Women'!$X$7:$X$46)))","v":""},{"$f":"IF($A100=\"\",\"\",IF(SUMIF('Line Throw Women'!$C$7:$C$46,$A100,'Line Throw Women'!$Z$7:$Z$46)=0,1+MAX('Line Throw Women'!$Z$7:$Z$46),SUMIF('Line Throw Women'!$C$7:$C$46,$A100,'Line Throw Women'!$Z$7:$Z$46)))","v":""},{"$f":"IF($A100=\"\",\"\",IF(SUMIF('4 x 50 Obs Relay Women'!$C$7:$C$46,$A100,'4 x 50 Obs Relay Women'!$U$7:$U$46)=0,1+MAX('4 x 50 Obs Relay Women'!$U$7:$U$46),SUMIF('4 x 50 Obs Relay Women'!$C$7:$C$46,$A100,'4 x 50 Obs Relay Women'!$U$7:$U$46)))","v":""},{"$f":"IF($A100=\"\",\"\",IF(SUMIF('4 x 50 medley Relay Women'!$C$7:$C$46,$A100,'4 x 50 medley Relay Women'!$U$7:$U$46)=0,1+MAX('4 x 50 medley Relay Women'!$U$7:$U$46),SUMIF('4 x 50 medley Relay Women'!$C$7:$C$46,$A100,'4 x 50 medley Relay Women'!$U$7:$U$46)))","v":""},{"$f":"IF($A100=\"\",\"\",IF(SUMIF('4 x 25 Manikin Carry Women'!$C$7:$C$46,$A100,'4 x 25 Manikin Carry Women'!$U$7:$U$46)=0,1+MAX('4 x 25 Manikin Carry Women'!$U$7:$U$46),SUMIF('4 x 25 Manikin Carry Women'!$C$7:$C$46,$A100,'4 x 25 Manikin Carry Women'!$U$7:$U$46)))","v":""},{"$f":"IF($A100=\"\",\"\",IF(SUMIF('4 x 12m Line Throw Women'!$C$7:$C$46,$A100,'4 x 12m Line Throw Women'!$U$7:$U$46)=0,1+MAX('4 x 12m Line Throw Women'!$U$7:$U$46),SUMIF('4 x 12m Line Throw Women'!$C$7:$C$46,$A100,'4 x 12m Line Throw Women'!$U$7:$U$46)))","v":""},"",""]
["","",{"$f":"IF($A101=\"\",\"\",IF(SUMIF('50m Manikin Carry Women'!$C$7:$C$46,$A101,'50m Manikin Carry Women'!$X$7:$X$46)=0,1+MAX('50m Manikin Carry Women'!$X$7:$X$46),SUMIF('50m Manikin Carry Women'!$C$7:$C$46,$A101,'50m Manikin Carry Women'!$X$7:$X$46)))","v":""},{"$f":"IF($A101=\"\",\"\",IF(SUMIF('100m Manikin Carry Women'!$C$7:$C$46,$A101,'100m Manikin Carry Women'!$X$7:$X$46)=0,1+MAX('100m Manikin Carry Women'!$X$7:$X$46),SUMIF('100m Manikin Carry Women'!$C$7:$C$46,$A101,'100m Manikin Carry Women'!$X$7:$X$46)))","v":""},{"$f":"IF($A101=\"\",\"\",IF(SUMIF('100m Manikin Tow Women'!$C$7:$C$46,$A101,'100m Manikin Tow Women'!$X$7:$X$46)=0,1+MAX('100m Manikin Tow Women'!$X$7:$X$46),SUMIF('100m Manikin Tow Women'!$C$7:$C$46,$A101,'100m Manikin Tow Women'!$X$7:$X$46)))","v":""},{"$f":"IF($A101=\"\",\"\",IF(SUMIF('200m Obs Women'!$C$7:$C$46,$A101,'200m Obs Women'!$X$7:$X$46)=0,1+MAX('200m Obs Women'!$X$7:$X$46),SUMIF('200m Obs Women'!$C$7:$C$46,$A101,'200m Obs Women'!$X$7:$X$46)))","v":""},{"$f":"IF($A101=\"\",\"\",IF(SUMIF('200m Super Women'!$C$7:$C$46,$A101,'200m Super Women'!$X$7:$X$46)=0,1+MAX('200m Super Women'!$X$7:$X$46),SUMIF('200m Super Women'!$C$7:$C$46,$A101,'200m Super Women'!$X$7:$X$46)))","v":""},{"$f":"IF($A101=\"\",\"\",IF(SUMIF('100 Resue Women'!$C$7:$C$46,$A101,'100 Resue Women'!$X$7:$X$46)=0,1+MAX('100 Resue Women'!$X$7:$X$46),SUMIF('100 Resue Women'!$C$7:$C$46,$A101,'100 Resue Women'!$X$7:$X$46)))","v":""},{"$f":"IF($A101=\"\",\"\",IF(SUMIF('Line Throw Women'!$C$7:$C$46,$A101,'Line Throw Women'!$Z$7:$Z$46)=0,1+MAX('Line Throw Women'!$Z$7:$Z$46),SUMIF('Line Throw Women'!$C$7:$C$46,$A101,'Line Throw Women'!$Z$7:$Z$46)))","v":""},{"$f":"IF($A101=\"\",\"\",IF(SUMIF('4 x 50 Obs Relay Women'!$C$7:$C$46,$A101,'4 x 50 Obs Relay Women'!$U$7:$U$46)=0,1+MAX('4 x 50 Obs Relay Women'!$U$7:$U$46),SUMIF('4 x 50 Obs Relay Women'!$C$7:$C$46,$A101,'4 x 50 Obs Relay Women'!$U$7:$U$46)))","v":""},{"$f":"IF($A101=\"\",\"\",IF(SUMIF('4 x 50 medley Relay Women'!$C$7:$C$46,$A101,'4 x 50 medley Relay Women'!$U$7:$U$46)=0,1+MAX('4 x 50 medley Relay Women'!$U$7:$U$46),SUMIF('4 x 50 medley Relay Women'!$C$7:$C$46,$A101,'4 x 50 medley Relay Women'!$U$7:$U$46)))","v":""},{"$f":"IF($A101=\"\",\"\",IF(SUMIF('4 x 25 Manikin Carry Women'!$C$7:$C$46,$A101,'4 x 25 Manikin Carry Women'!$U$7:$U$46)=0,1+MAX('4 x 25 Manikin Carry Women'!$U$7:$U$46),SUMIF('4 x 25 Manikin Carry Women'!$C$7:$C$46,$A101,'4 x 25 Manikin Carry Women'!$U$7:$U$46)))","v":""},{"$f":"IF($A101=\"\",\"\",IF(SUMIF('4 x 12m Line Throw Women'!$C$7:$C$46,$A101,'4 x 12m Line Throw Women'!$U$7:$U$46)=0,1+MAX('4 x 12m Line Throw Women'!$U$7:$U$46),SUMIF('4 x 12m Line Throw Women'!$C$7:$C$46,$A101,'4 x 12m Line Throw Women'!$U$7:$U$46)))","v":""},"",""]
["","",{"$f":"IF($A102=\"\",\"\",IF(SUMIF('50m Manikin Carry Women'!$C$7:$C$46,$A102,'50m Manikin Carry Women'!$X$7:$X$46)=0,1+MAX('50m Manikin Carry Women'!$X$7:$X$46),SUMIF('50m Manikin Carry Women'!$C$7:$C$46,$A102,'50m Manikin Carry Women'!$X$7:$X$46)))","v":""},{"$f":"IF($A102=\"\",\"\",IF(SUMIF('100m Manikin Carry Women'!$C$7:$C$46,$A102,'100m Manikin Carry Women'!$X$7:$X$46)=0,1+MAX('100m Manikin Carry Women'!$X$7:$X$46),SUMIF('100m Manikin Carry Women'!$C$7:$C$46,$A102,'100m Manikin Carry Women'!$X$7:$X$46)))","v":""},{"$f":"IF($A102=\"\",\"\",IF(SUMIF('100m Manikin Tow Women'!$C$7:$C$46,$A102,'100m Manikin Tow Women'!$X$7:$X$46)=0,1+MAX('100m Manikin Tow Women'!$X$7:$X$46),SUMIF('100m Manikin Tow Women'!$C$7:$C$46,$A102,'100m Manikin Tow Women'!$X$7:$X$46)))","v":""},{"$f":"IF($A102=\"\",\"\",IF(SUMIF('200m Obs Women'!$C$7:$C$46,$A102,'200m Obs Women'!$X$7:$X$46)=0,1+MAX('200m Obs Women'!$X$7:$X$46),SUMIF('200m Obs Women'!$C$7:$C$46,$A102,'200m Obs Women'!$X$7:$X$46)))","v":""},{"$f":"IF($A102=\"\",\"\",IF(SUMIF('200m Super Women'!$C$7:$C$46,$A102,'200m Super Women'!$X$7:$X$46)=0,1+MAX('200m Super Women'!$X$7:$X$46),SUMIF('200m Super Women'!$C$7:$C$46,$A102,'200m Super Women'!$X$7:$X$46)))","v":""},{"$f":"IF($A102=\"\",\"\",IF(SUMIF('100 Resue Women'!$C$7:$C$46,$A102,'100 Resue Women'!$X$7:$X$46)=0,1+MAX('100 Resue Women'!$X$7:$X$46),SUMIF('100 Resue Women'!$C$7:$C$46,$A102,'100 Resue Women'!$X$7:$X$46)))","v":""},{"$f":"IF($A102=\"\",\"\",IF(SUMIF('Line Throw Women'!$C$7:$C$46,$A102,'Line Throw Women'!$Z$7:$Z$46)=0,1+MAX('Line Throw Women'!$Z$7:$Z$46),SUMIF('Line Throw Women'!$C$7:$C$46,$A102,'Line Throw Women'!$Z$7:$Z$46)))","v":""},{"$f":"IF($A102=\"\",\"\",IF(SUMIF('4 x 50 Obs Relay Women'!$C$7:$C$46,$A102,'4 x 50 Obs Relay Women'!$U$7:$U$46)=0,1+MAX('4 x 50 Obs Relay Women'!$U$7:$U$46),SUMIF('4 x 50 Obs Relay Women'!$C$7:$C$46,$A102,'4 x 50 Obs Relay Women'!$U$7:$U$46)))","v":""},{"$f":"IF($A102=\"\",\"\",IF(SUMIF('4 x 50 medley Relay Women'!$C$7:$C$46,$A102,'4 x 50 medley Relay Women'!$U$7:$U$46)=0,1+MAX('4 x 50 medley Relay Women'!$U$7:$U$46),SUMIF('4 x 50 medley Relay Women'!$C$7:$C$46,$A102,'4 x 50 medley Relay Women'!$U$7:$U$46)))","v":""},{"$f":"IF($A102=\"\",\"\",IF(SUMIF('4 x 25 Manikin Carry Women'!$C$7:$C$46,$A102,'4 x 25 Manikin Carry Women'!$U$7:$U$46)=0,1+MAX('4 x 25 Manikin Carry Women'!$U$7:$U$46),SUMIF('4 x 25 Manikin Carry Women'!$C$7:$C$46,$A102,'4 x 25 Manikin Carry Women'!$U$7:$U$46)))","v":""},{"$f":"IF($A102=\"\",\"\",IF(SUMIF('4 x 12m Line Throw Women'!$C$7:$C$46,$A102,'4 x 12m Line Throw Women'!$U$7:$U$46)=0,1+MAX('4 x 12m Line Throw Women'!$U$7:$U$46),SUMIF('4 x 12m Line Throw Women'!$C$7:$C$46,$A102,'4 x 12m Line Throw Women'!$U$7:$U$46)))","v":""},"",""]
["","",{"$f":"IF($A103=\"\",\"\",IF(SUMIF('50m Manikin Carry Women'!$C$7:$C$46,$A103,'50m Manikin Carry Women'!$X$7:$X$46)=0,1+MAX('50m Manikin Carry Women'!$X$7:$X$46),SUMIF('50m Manikin Carry Women'!$C$7:$C$46,$A103,'50m Manikin Carry Women'!$X$7:$X$46)))","v":""},{"$f":"IF($A103=\"\",\"\",IF(SUMIF('100m Manikin Carry Women'!$C$7:$C$46,$A103,'100m Manikin Carry Women'!$X$7:$X$46)=0,1+MAX('100m Manikin Carry Women'!$X$7:$X$46),SUMIF('100m Manikin Carry Women'!$C$7:$C$46,$A103,'100m Manikin Carry Women'!$X$7:$X$46)))","v":""},{"$f":"IF($A103=\"\",\"\",IF(SUMIF('100m Manikin Tow Women'!$C$7:$C$46,$A103,'100m Manikin Tow Women'!$X$7:$X$46)=0,1+MAX('100m Manikin Tow Women'!$X$7:$X$46),SUMIF('100m Manikin Tow Women'!$C$7:$C$46,$A103,'100m Manikin Tow Women'!$X$7:$X$46)))","v":""},{"$f":"IF($A103=\"\",\"\",IF(SUMIF('200m Obs Women'!$C$7:$C$46,$A103,'200m Obs Women'!$X$7:$X$46)=0,1+MAX('200m Obs Women'!$X$7:$X$46),SUMIF('200m Obs Women'!$C$7:$C$46,$A103,'200m Obs Women'!$X$7:$X$46)))","v":""},{"$f":"IF($A103=\"\",\"\",IF(SUMIF('200m Super Women'!$C$7:$C$46,$A103,'200m Super Women'!$X$7:$X$46)=0,1+MAX('200m Super Women'!$X$7:$X$46),SUMIF('200m Super Women'!$C$7:$C$46,$A103,'200m Super Women'!$X$7:$X$46)))","v":""},{"$f":"IF($A103=\"\",\"\",IF(SUMIF('100 Resue Women'!$C$7:$C$46,$A103,'100 Resue Women'!$X$7:$X$46)=0,1+MAX('100 Resue Women'!$X$7:$X$46),SUMIF('100 Resue Women'!$C$7:$C$46,$A103,'100 Resue Women'!$X$7:$X$46)))","v":""},{"$f":"IF($A103=\"\",\"\",IF(SUMIF('Line Throw Women'!$C$7:$C$46,$A103,'Line Throw Women'!$Z$7:$Z$46)=0,1+MAX('Line Throw Women'!$Z$7:$Z$46),SUMIF('Line Throw Women'!$C$7:$C$46,$A103,'Line Throw Women'!$Z$7:$Z$46)))","v":""},{"$f":"IF($A103=\"\",\"\",IF(SUMIF('4 x 50 Obs Relay Women'!$C$7:$C$46,$A103,'4 x 50 Obs Relay Women'!$U$7:$U$46)=0,1+MAX('4 x 50 Obs Relay Women'!$U$7:$U$46),SUMIF('4 x 50 Obs Relay Women'!$C$7:$C$46,$A103,'4 x 50 Obs Relay Women'!$U$7:$U$46)))","v":""},{"$f":"IF($A103=\"\",\"\",IF(SUMIF('4 x 50 medley Relay Women'!$C$7:$C$46,$A103,'4 x 50 medley Relay Women'!$U$7:$U$46)=0,1+MAX('4 x 50 medley Relay Women'!$U$7:$U$46),SUMIF('4 x 50 medley Relay Women'!$C$7:$C$46,$A103,'4 x 50 medley Relay Women'!$U$7:$U$46)))","v":""},{"$f":"IF($A103=\"\",\"\",IF(SUMIF('4 x 25 Manikin Carry Women'!$C$7:$C$46,$A103,'4 x 25 Manikin Carry Women'!$U$7:$U$46)=0,1+MAX('4 x 25 Manikin Carry Women'!$U$7:$U$46),SUMIF('4 x 25 Manikin Carry Women'!$C$7:$C$46,$A103,'4 x 25 Manikin Carry Women'!$U$7:$U$46)))","v":""},{"$f":"IF($A103=\"\",\"\",IF(SUMIF('4 x 12m Line Throw Women'!$C$7:$C$46,$A103,'4 x 12m Line Throw Women'!$U$7:$U$46)=0,1+MAX('4 x 12m Line Throw Women'!$U$7:$U$46),SUMIF('4 x 12m Line Throw Women'!$C$7:$C$46,$A103,'4 x 12m Line Throw Women'!$U$7:$U$46)))","v":""},"",""]
["","",{"$f":"IF($A104=\"\",\"\",IF(SUMIF('50m Manikin Carry Women'!$C$7:$C$46,$A104,'50m Manikin Carry Women'!$X$7:$X$46)=0,1+MAX('50m Manikin Carry Women'!$X$7:$X$46),SUMIF('50m Manikin Carry Women'!$C$7:$C$46,$A104,'50m Manikin Carry Women'!$X$7:$X$46)))","v":""},{"$f":"IF($A104=\"\",\"\",IF(SUMIF('100m Manikin Carry Women'!$C$7:$C$46,$A104,'100m Manikin Carry Women'!$X$7:$X$46)=0,1+MAX('100m Manikin Carry Women'!$X$7:$X$46),SUMIF('100m Manikin Carry Women'!$C$7:$C$46,$A104,'100m Manikin Carry Women'!$X$7:$X$46)))","v":""},{"$f":"IF($A104=\"\",\"\",IF(SUMIF('100m Manikin Tow Women'!$C$7:$C$46,$A104,'100m Manikin Tow Women'!$X$7:$X$46)=0,1+MAX('100m Manikin Tow Women'!$X$7:$X$46),SUMIF('100m Manikin Tow Women'!$C$7:$C$46,$A104,'100m Manikin Tow Women'!$X$7:$X$46)))","v":""},{"$f":"IF($A104=\"\",\"\",IF(SUMIF('200m Obs Women'!$C$7:$C$46,$A104,'200m Obs Women'!$X$7:$X$46)=0,1+MAX('200m Obs Women'!$X$7:$X$46),SUMIF('200m Obs Women'!$C$7:$C$46,$A104,'200m Obs Women'!$X$7:$X$46)))","v":""},{"$f":"IF($A104=\"\",\"\",IF(SUMIF('200m Super Women'!$C$7:$C$46,$A104,'200m Super Women'!$X$7:$X$46)=0,1+MAX('200m Super Women'!$X$7:$X$46),SUMIF('200m Super Women'!$C$7:$C$46,$A104,'200m Super Women'!$X$7:$X$46)))","v":""},{"$f":"IF($A104=\"\",\"\",IF(SUMIF('100 Resue Women'!$C$7:$C$46,$A104,'100 Resue Women'!$X$7:$X$46)=0,1+MAX('100 Resue Women'!$X$7:$X$46),SUMIF('100 Resue Women'!$C$7:$C$46,$A104,'100 Resue Women'!$X$7:$X$46)))","v":""},{"$f":"IF($A104=\"\",\"\",IF(SUMIF('Line Throw Women'!$C$7:$C$46,$A104,'Line Throw Women'!$Z$7:$Z$46)=0,1+MAX('Line Throw Women'!$Z$7:$Z$46),SUMIF('Line Throw Women'!$C$7:$C$46,$A104,'Line Throw Women'!$Z$7:$Z$46)))","v":""},{"$f":"IF($A104=\"\",\"\",IF(SUMIF('4 x 50 Obs Relay Women'!$C$7:$C$46,$A104,'4 x 50 Obs Relay Women'!$U$7:$U$46)=0,1+MAX('4 x 50 Obs Relay Women'!$U$7:$U$46),SUMIF('4 x 50 Obs Relay Women'!$C$7:$C$46,$A104,'4 x 50 Obs Relay Women'!$U$7:$U$46)))","v":""},{"$f":"IF($A104=\"\",\"\",IF(SUMIF('4 x 50 medley Relay Women'!$C$7:$C$46,$A104,'4 x 50 medley Relay Women'!$U$7:$U$46)=0,1+MAX('4 x 50 medley Relay Women'!$U$7:$U$46),SUMIF('4 x 50 medley Relay Women'!$C$7:$C$46,$A104,'4 x 50 medley Relay Women'!$U$7:$U$46)))","v":""},{"$f":"IF($A104=\"\",\"\",IF(SUMIF('4 x 25 Manikin Carry Women'!$C$7:$C$46,$A104,'4 x 25 Manikin Carry Women'!$U$7:$U$46)=0,1+MAX('4 x 25 Manikin Carry Women'!$U$7:$U$46),SUMIF('4 x 25 Manikin Carry Women'!$C$7:$C$46,$A104,'4 x 25 Manikin Carry Women'!$U$7:$U$46)))","v":""},{"$f":"IF($A104=\"\",\"\",IF(SUMIF('4 x 12m Line Throw Women'!$C$7:$C$46,$A104,'4 x 12m Line Throw Women'!$U$7:$U$46)=0,1+MAX('4 x 12m Line Throw Women'!$U$7:$U$46),SUMIF('4 x 12m Line Throw Women'!$C$7:$C$46,$A104,'4 x 12m Line Throw Women'!$U$7:$U$46)))","v":""},"",""]

{"sheet":"Overall Student Only","index":3,"n_rows":104,"n_cols":15,"rows_kept":104,"cut":false,"hidden":false,"merged":[]}
[null,"Overall Students"]
[]
["Club Code","Club Name","Men's Points","Men's Position","Women's Points","Women's Position","Overall  Points","Overall  Positions"]
[15,"Bristol University",{"$f":"N39","v":75},{"$f":"O39","v":7},{"$f":"N74","v":103},{"$f":"O74","v":11},{"$f":"IF(A4=\"\",\"\",C4+E4)","v":178},{"$f":"IF(B4=\"\",\"\",RANK(G4,$G$4:$G$34,1))","v":11}]
[49,"Cardiff University",{"$f":"N40","v":118},{"$f":"O40","v":13},{"$f":"N75","v":118},{"$f":"O75","v":13},{"$f":"IF(A5=\"\",\"\",C5+E5)","v":236},{"$f":"IF(B5=\"\",\"\",RANK(G5,$G$4:$G$34,1))","v":13}]
[7,"Loughborough University",29,1,21,1,50,1]
[21,"Swansea Universities Lifesaving",40,2,{"$f":"N77","v":26},2,66,2]
[2,"University of Bath",132,14,118,13,250,14]
[14,"University of Birmingham",67,5,62,4,129,5]
[5,"University of Cambridge",113,12,108,12,221,12]
[16,"University of London Union",80,8,87,10,167,9]
[8,"University of Nottingham",70,6,73,8,143,6]
[18,"University of Oxford",97,11,69,6,166,8]
[9,"University of Plymouth",82,9,69,6,151,7]
[20,"University of Southampton",47,3,30,3,77,3]
[12,"University of Warwick",62,4,65,5,127,4]
[11,"St. Andrews",87,10,84,9,171,10]
[null,null,"","","","","",""]
[null,null,"","","","","",""]
[null,null,"","","","","",""]
[null,null,"","","","","",""]
[null,null,"","","","","",""]
[null,null,"","","","","",""]
[null,null,"","","","","",""]
[null,null,"","","","","",""]
[null,null,"","","","","",""]
[null,null,"","","","","",""]
[null,null,"","","","","",""]
[null,null,"","","","","",""]
[null,null,"","","","","",""]
[null,null,"","","","","",""]
[null,null,"","","","","",""]
[null,null,"","","","","",""]
[null,null,"","","","","",""]
[]
[null,"Men's Students"]
[]
["Club Code","Club Name","50m Manikin Carry","100m Carry with Fins","100m tow with fins","200m Obs","200 Super","100 rescue","Line Throw","4 x 50 obs Relay","4 x 50 medley Relay","4 x 25 Manikin Carry Relay","4 x 12m Line Throw Relay","Totals","Position"]
[{"$f":"IF(A4=\"\",\"\",A4)","v":15},{"$f":"IF(B4=\"\",\"\",B4)","v":"Bristol University"},{"$f":"IF($A39=\"\",\"\",IF(SUMIF('50m Manikin Carry Men'!$C$7:$C$46,$A39,'50m Manikin Carry Men'!$Z$7:$Z$46)=0,1+MAX('50m Manikin Carry Men'!$Z$7:$Z$46),SUMIF('50m Manikin Carry Men'!$C$7:$C$46,$A39,'50m Manikin Carry Men'!$Z$7:$Z$46)))","v":2},{"$f":"IF($A39=\"\",\"\",IF(SUMIF('100m Manikin Carry Men'!$C$7:$C$46,$A39,'100m Manikin Carry Men'!$Z$7:$Z$46)=0,1+MAX('100m Manikin Carry Men'!$Z$7:$Z$46),SUMIF('100m Manikin Carry Men'!$C$7:$C$46,$A39,'100m Manikin Carry Men'!$Z$7:$Z$46)))","v":12},{"$f":"IF($A39=\"\",\"\",IF(SUMIF('100m Manikin Tow Men'!$C$7:$C$46,$A39,'100m Manikin Tow Men'!$Z$7:$Z$46)=0,1+MAX('100m Manikin Tow Men'!$Z$7:$Z$46),SUMIF('100m Manikin Tow Men'!$C$7:$C$46,$A39,'100m Manikin Tow Men'!$Z$7:$Z$46)))","v":1},{"$f":"IF($A39=\"\",\"\",IF(SUMIF('200m Obs Men'!$C$7:$C$46,$A39,'200m Obs Men'!$Z$7:$Z$46)=0,1+MAX('200m Obs Men'!$Z$7:$Z$46),SUMIF('200m Obs Men'!$C$7:$C$46,$A39,'200m Obs Men'!$Z$7:$Z$46)))","v":3},{"$f":"IF($A39=\"\",\"\",IF(SUMIF('200m Super Men'!$C$7:$C$46,$A39,'200m Super Men'!$Z$7:$Z$46)=0,1+MAX('200m Super Men'!$Z$7:$Z$46),SUMIF('200m Super Men'!$C$7:$C$46,$A39,'200m Super Men'!$Z$7:$Z$46)))","v":3},{"$f":"IF($A39=\"\",\"\",IF(SUMIF('100 Resue Men'!$C$7:$C$46,$A39,'100 Resue Men'!$Z$7:$Z$46)=0,1+MAX('100 Resue Men'!$Z$7:$Z$46),SUMIF('100 Resue Men'!$C$7:$C$46,$A39,'100 Resue Men'!$Z$7:$Z$46)))","v":2},{"$f":"IF($A39=\"\",\"\",IF(SUMIF('Line Throw Men'!$C$7:$C$46,$A39,'Line Throw Men'!$AB$7:$AB$46)=0,1+MAX('Line Throw Men'!$AB$7:$AB$46),SUMIF('Line Throw Men'!$C$7:$C$46,$A39,'Line Throw Men'!$AB$7:$AB$46)))","v":12},{"$f":"IF($A39=\"\",\"\",IF(SUMIF('4 x 50 Obs Relay Men'!$C$7:$C$46,$A39,'4 x 50 Obs Relay Men'!$W$7:$W$46)=0,1+MAX('4 x 50 Obs Relay Men'!$W$7:$W$46),SUMIF('4 x 50 Obs Relay Men'!$C$7:$C$46,$A39,'4 x 50 Obs Relay Men'!$W$7:$W$46)))","v":11},{"$f":"IF($A39=\"\",\"\",IF(SUMIF('4 x 50 medley Relay Men'!$C$7:$C$46,$A39,'4 x 50 medley Relay Men'!$W$7:$W$46)=0,1+MAX('4 x 50 medley Relay Men'!$W$7:$W$46),SUMIF('4 x 50 medley Relay Men'!$C$7:$C$46,$A39,'4 x 50 medley Relay Men'!$W$7:$W$46)))","v":11},{"$f":"IF($A39=\"\",\"\",IF(SUMIF('4 x 25 Manikin Carry Relay Men'!$C$7:$C$46,$A39,'4 x 25 Manikin Carry Relay Men'!$W$7:$W$46)=0,1+MAX('4 x 25 Manikin Carry Relay Men'!$W$7:$W$46),SUMIF('4 x 25 Manikin Carry Relay Men'!$C$7:$C$46,$A39,'4 x 25 Manikin Carry Relay Men'!$W$7:$W$46)))","v":10},{"$f":"IF($A39=\"\",\"\",IF(SUMIF('4 x 12m Line Throw Men'!$C$7:$C$46,$A39,'4 x 12m Line Throw Men'!$W$7:$W$46)=0,1+MAX('4 x 12m Line Throw Men'!$W$7:$W$46),SUMIF('4 x 12m Line Throw Men'!$C$7:$C$46,$A39,'4 x 12m Line Throw Men'!$W$7:$W$46)))","v":8},{"$f":"IF(A39=\"\",\"\",SUM(C39:M39))","v":75},{"$f":"IF(A39=\"\",\"\",RANK(N39,$N$39:$N$69,1))","v":7}]
[{"$f":"IF(A5=\"\",\"\",A5)","v":49},{"$f":"IF(B5=\"\",\"\",B5)","v":"Cardiff University"},{"$f":"IF($A40=\"\",\"\",IF(SUMIF('50m Manikin Carry Men'!$C$7:$C$46,$A40,'50m Manikin Carry Men'!$Z$7:$Z$46)=0,1+MAX('50m Manikin Carry Men'!$Z$7:$Z$46),SUMIF('50m Manikin Carry Men'!$C$7:$C$46,$A40,'50m Manikin Carry Men'!$Z$7:$Z$46)))","v":12},{"$f":"IF($A40=\"\",\"\",IF(SUMIF('100m Manikin Carry Men'!$C$7:$C$46,$A40,'100m Manikin Carry Men'!$Z$7:$Z$46)=0,1+MAX('100m Manikin Carry Men'!$Z$7:$Z$46),SUMIF('100m Manikin Carry Men'!$C$7:$C$46,$A40,'100m Manikin Carry Men'!$Z$7:$Z$46)))","v":12},{"$f":"IF($A40=\"\",\"\",IF(SUMIF('100m Manikin Tow Men'!$C$7:$C$46,$A40,'100m Manikin Tow Men'!$Z$7:$Z$46)=0,1+MAX('100m Manikin Tow Men'!$Z$7:$Z$46),SUMIF('100m Manikin Tow Men'!$C$7:$C$46,$A40,'100m Manikin Tow Men'!$Z$7:$Z$46)))","v":3},{"$f":"IF($A40=\"\",\"\",IF(SUMIF('200m Obs Men'!$C$7:$C$46,$A40,'200m Obs Men'!$Z$7:$Z$46)=0,1+MAX('200m Obs Men'!$Z$7:$Z$46),SUMIF('200m Obs Men'!$C$7:$C$46,$A40,'200m Obs Men'!$Z$7:$Z$46)))","v":13},{"$f":"IF($A40=\"\",\"\",IF(SUMIF('200m Super Men'!$C$7:$C$46,$A40,'200m Super Men'!$Z$7:$Z$46)=0,1+MAX('200m Super Men'!$Z$7:$Z$46),SUMIF('200m Super Men'!$C$7:$C$46,$A40,'200m Super Men'!$Z$7:$Z$46)))","v":13},{"$f":"IF($A40=\"\",\"\",IF(SUMIF('100 Resue Men'!$C$7:$C$46,$A40,'100 Resue Men'!$Z$7:$Z$46)=0,1+MAX('100 Resue Men'!$Z$7:$Z$46),SUMIF('100 Resue Men'!$C$7:$C$46,$A40,'100 Resue Men'!$Z$7:$Z$46)))","v":13},{"$f":"IF($A40=\"\",\"\",IF(SUMIF('Line Throw Men'!$C$7:$C$46,$A40,'Line Throw Men'!$AB$7:$AB$46)=0,1+MAX('Line Throw Men'!$AB$7:$AB$46),SUMIF('Line Throw Men'!$C$7:$C$46,$A40,'Line Throw Men'!$AB$7:$AB$46)))","v":12},{"$f":"IF($A40=\"\",\"\",IF(SUMIF('4 x 50 Obs Relay Men'!$C$7:$C$46,$A40,'4 x 50 Obs Relay Men'!$W$7:$W$46)=0,1+MAX('4 x 50 Obs Relay Men'!$W$7:$W$46),SUMIF('4 x 50 Obs Relay Men'!$C$7:$C$46,$A40,'4 x 50 Obs Relay Men'!$W$7:$W$46)))","v":11},{"$f":"IF($A40=\"\",\"\",IF(SUMIF('4 x 50 medley Relay Men'!$C$7:$C$46,$A40,'4 x 50 medley Relay Men'!$W$7:$W$46)=0,1+MAX('4 x 50 medley Relay Men'!$W$7:$W$46),SUMIF('4 x 50 medley Relay Men'!$C$7:$C$46,$A40,'4 x 50 medley Relay Men'!$W$7:$W$46)))","v":11},{"$f":"IF($A40=\"\",\"\",IF(SUMIF('4 x 25 Manikin Carry Relay Men'!$C$7:$C$46,$A40,'4 x 25 Manikin Carry Relay Men'!$W$7:$W$46)=0,1+MAX('4 x 25 Manikin Carry Relay Men'!$W$7:$W$46),SUMIF('4 x 25 Manikin Carry Relay Men'!$C$7:$C$46,$A40,'4 x 25 Manikin Carry Relay Men'!$W$7:$W$46)))","v":10},{"$f":"IF($A40=\"\",\"\",IF(SUMIF('4 x 12m Line Throw Men'!$C$7:$C$46,$A40,'4 x 12m Line Throw Men'!$W$7:$W$46)=0,1+MAX('4 x 12m Line Throw Men'!$W$7:$W$46),SUMIF('4 x 12m Line Throw Men'!$C$7:$C$46,$A40,'4 x 12m Line Throw Men'!$W$7:$W$46)))","v":8},{"$f":"IF(A40=\"\",\"\",SUM(C40:M40))","v":118},{"$f":"IF(A40=\"\",\"\",RANK(N40,$N$39:$N$69,1))","v":13}]
[7,"Loughborough University",{"$f":"IF($A41=\"\",\"\",IF(SUMIF('50m Manikin Carry Men'!$C$7:$C$46,$A41,'50m Manikin Carry Men'!$Z$7:$Z$46)=0,1+MAX('50m Manikin Carry Men'!$Z$7:$Z$46),SUMIF('50m Manikin Carry Men'!$C$7:$C$46,$A41,'50m Manikin Carry Men'!$Z$7:$Z$46)))","v":1},{"$f":"IF($A41=\"\",\"\",IF(SUMIF('100m Manikin Carry Men'!$C$7:$C$46,$A41,'100m Manikin Carry Men'!$Z$7:$Z$46)=0,1+MAX('100m Manikin Carry Men'!$Z$7:$Z$46),SUMIF('100m Manikin Carry Men'!$C$7:$C$46,$A41,'100m Manikin Carry Men'!$Z$7:$Z$46)))","v":1},{"$f":"IF($A41=\"\",\"\",IF(SUMIF('100m Manikin Tow Men'!$C$7:$C$46,$A41,'100m Manikin Tow Men'!$Z$7:$Z$46)=0,1+MAX('100m Manikin Tow Men'!$Z$7:$Z$46),SUMIF('100m Manikin Tow Men'!$C$7:$C$46,$A41,'100m Manikin Tow Men'!$Z$7:$Z$46)))","v":2},{"$f":"IF($A41=\"\",\"\",IF(SUMIF('200m Obs Men'!$C$7:$C$46,$A41,'200m Obs Men'!$Z$7:$Z$46)=0,1+MAX('200m Obs Men'!$Z$7:$Z$46),SUMIF('200m Obs Men'!$C$7:$C$46,$A41,'200m Obs Men'!$Z$7:$Z$46)))","v":1},{"$f":"IF($A41=\"\",\"\",IF(SUMIF('200m Super Men'!$C$7:$C$46,$A41,'200m Super Men'!$Z$7:$Z$46)=0,1+MAX('200m Super Men'!$Z$7:$Z$46),SUMIF('200m Super Men'!$C$7:$C$46,$A41,'200m Super Men'!$Z$7:$Z$46)))","v":2},{"$f":"IF($A41=\"\",\"\",IF(SUMIF('100 Resue Men'!$C$7:$C$46,$A41,'100 Resue Men'!$Z$7:$Z$46)=0,1+MAX('100 Resue Men'!$Z$7:$Z$46),SUMIF('100 Resue Men'!$C$7:$C$46,$A41,'100 Resue Men'!$Z$7:$Z$46)))","v":1},{"$f":"IF($A41=\"\",\"\",IF(SUMIF('Line Throw Men'!$C$7:$C$46,$A41,'Line Throw Men'!$AB$7:$AB$46)=0,1+MAX('Line Throw Men'!$AB$7:$AB$46),SUMIF('Line Throw Men'!$C$7:$C$46,$A41,'Line Throw Men'!$AB$7:$AB$46)))","v":11},{"$f":"IF($A41=\"\",\"\",IF(SUMIF('4 x 50 Obs Relay Men'!$C$7:$C$46,$A41,'4 x 50 Obs Relay Men'!$W$7:$W$46)=0,1+MAX('4 x 50 Obs Relay Men'!$W$7:$W$46),SUMIF('4 x 50 Obs Relay Men'!$C$7:$C$46,$A41,'4 x 50 Obs Relay Men'!$W$7:$W$46)))","v":1},{"$f":"IF($A41=\"\",\"\",IF(SUMIF('4 x 50 medley Relay Men'!$C$7:$C$46,$A41,'4 x 50 medley Relay Men'!$W$7:$W$46)=0,1+MAX('4 x 50 medley Relay Men'!$W$7:$W$46),SUMIF('4 x 50 medley Relay Men'!$C$7:$C$46,$A41,'4 x 50 medley Relay Men'!$W$7:$W$46)))","v":1},{"$f":"IF($A41=\"\",\"\",IF(SUMIF('4 x 25 Manikin Carry Relay Men'!$C$7:$C$46,$A41,'4 x 25 Manikin Carry Relay Men'!$W$7:$W$46)=0,1+MAX('4 x 25 Manikin Carry Relay Men'!$W$7:$W$46),SUMIF('4 x 25 Manikin Carry Relay Men'!$C$7:$C$46,$A41,'4 x 25 Manikin Carry Relay Men'!$W$7:$W$46)))","v":1},{"$f":"IF($A41=\"\",\"\",IF(SUMIF('4 x 12m Line Throw Men'!$C$7:$C$46,$A41,'4 x 12m Line Throw Men'!$W$7:$W$46)=0,1+MAX('4 x 12m Line Throw Men'!$W$7:$W$46),SUMIF('4 x 12m Line Throw Men'!$C$7:$C$46,$A41,'4 x 12m Line Throw Men'!$W$7:$W$46)))","v":7},29,1]
[21,"Swansea Universities Lifesaving",{"$f":"IF($A42=\"\",\"\",IF(SUMIF('50m Manikin Carry Men'!$C$7:$C$46,$A42,'50m Manikin Carry Men'!$Z$7:$Z$46)=0,1+MAX('50m Manikin Carry Men'!$Z$7:$Z$46),SUMIF('50m Manikin Carry Men'!$C$7:$C$46,$A42,'50m Manikin Carry Men'!$Z$7:$Z$46)))","v":3},{"$f":"IF($A42=\"\",\"\",IF(SUMIF('100m Manikin Carry Men'!$C$7:$C$46,$A42,'100m Manikin Carry Men'!$Z$7:$Z$46)=0,1+MAX('100m Manikin Carry Men'!$Z$7:$Z$46),SUMIF('100m Manikin Carry Men'!$C$7:$C$46,$A42,'100m Manikin Carry Men'!$Z$7:$Z$46)))","v":3},{"$f":"IF($A42=\"\",\"\",IF(SUMIF('100m Manikin Tow Men'!$C$7:$C$46,$A42,'100m Manikin Tow Men'!$Z$7:$Z$46)=0,1+MAX('100m Manikin Tow Men'!$Z$7:$Z$46),SUMIF('100m Manikin Tow Men'!$C$7:$C$46,$A42,'100m Manikin Tow Men'!$Z$7:$Z$46)))","v":6},{"$f":"IF($A42=\"\",\"\",IF(SUMIF('200m Obs Men'!$C$7:$C$46,$A42,'200m Obs Men'!$Z$7:$Z$46)=0,1+MAX('200m Obs Men'!$Z$7:$Z$46),SUMIF('200m Obs Men'!$C$7:$C$46,$A42,'200m Obs Men'!$Z$7:$Z$46)))","v":4},{"$f":"IF($A42=\"\",\"\",IF(SUMIF('200m Super Men'!$C$7:$C$46,$A42,'200m Super Men'!$Z$7:$Z$46)=0,1+MAX('200m Super Men'!$Z$7:$Z$46),SUMIF('200m Super Men'!$C$7:$C$46,$A42,'200m Super Men'!$Z$7:$Z$46)))","v":1},{"$f":"IF($A42=\"\",\"\",IF(SUMIF('100 Resue Men'!$C$7:$C$46,$A42,'100 Resue Men'!$Z$7:$Z$46)=0,1+MAX('100 Resue Men'!$Z$7:$Z$46),SUMIF('100 Resue Men'!$C$7:$C$46,$A42,'100 Resue Men'!$Z$7:$Z$46)))","v":3},{"$f":"IF($A42=\"\",\"\",IF(SUMIF('Line Throw Men'!$C$7:$C$46,$A42,'Line Throw Men'!$AB$7:$AB$46)=0,1+MAX('Line Throw Men'!$AB$7:$AB$46),SUMIF('Line Throw Men'!$C$7:$C$46,$A42,'Line Throw Men'!$AB$7:$AB$46)))","v":3},{"$f":"IF($A42=\"\",\"\",IF(SUMIF('4 x 50 Obs Relay Men'!$C$7:$C$46,$A42,'4 x 50 Obs Relay Men'!$W$7:$W$46)=0,1+MAX('4 x 50 Obs Relay Men'!$W$7:$W$46),SUMIF('4 x 50 Obs Relay Men'!$C$7:$C$46,$A42,'4 x 50 Obs Relay Men'!$W$7:$W$46)))","v":2},{"$f":"IF($A42=\"\",\"\",IF(SUMIF('4 x 50 medley Relay Men'!$C$7:$C$46,$A42,'4 x 50 medley Relay Men'!$W$7:$W$46)=0,1+MAX('4 x 50 medley Relay Men'!$W$7:$W$46),SUMIF('4 x 50 medley Relay Men'!$C$7:$C$46,$A42,'4 x 50 medley Relay Men'!$W$7:$W$46)))","v":2},{"$f":"IF($A42=\"\",\"\",IF(SUMIF('4 x 25 Manikin Carry Relay Men'!$C$7:$C$46,$A42,'4 x 25 Manikin Carry Relay Men'!$W$7:$W$46)=0,1+MAX('4 x 25 Manikin Carry Relay Men'!$W$7:$W$46),SUMIF('4 x 25 Manikin Carry Relay Men'!$C$7:$C$46,$A42,'4 x 25 Manikin Carry Relay Men'!$W$7:$W$46)))","v":9},{"$f":"IF($A42=\"\",\"\",IF(SUMIF('4 x 12m Line Throw Men'!$C$7:$C$46,$A42,'4 x 12m Line Throw Men'!$W$7:$W$46)=0,1+MAX('4 x 12m Line Throw Men'!$W$7:$W$46),SUMIF('4 x 12m Line Throw Men'!$C$7:$C$46,$A42,'4 x 12m Line Throw Men'!$W$7:$W$46)))","v":4},40,2]
[2,"University of Bath",{"$f":"IF($A43=\"\",\"\",IF(SUMIF('50m Manikin Carry Men'!$C$7:$C$46,$A43,'50m Manikin Carry Men'!$Z$7:$Z$46)=0,1+MAX('50m Manikin Carry Men'!$Z$7:$Z$46),SUMIF('50m Manikin Carry Men'!$C$7:$C$46,$A43,'50m Manikin Carry Men'!$Z$7:$Z$46)))","v":13},{"$f":"IF($A43=\"\",\"\",IF(SUMIF('100m Manikin Carry Men'!$C$7:$C$46,$A43,'100m Manikin Carry Men'!$Z$7:$Z$46)=0,1+MAX('100m Manikin Carry Men'!$Z$7:$Z$46),SUMIF('100m Manikin Carry Men'!$C$7:$C$46,$A43,'100m Manikin Carry Men'!$Z$7:$Z$46)))","v":13},{"$f":"IF($A43=\"\",\"\",IF(SUMIF('100m Manikin Tow Men'!$C$7:$C$46,$A43,'100m Manikin Tow Men'!$Z$7:$Z$46)=0,1+MAX('100m Manikin Tow Men'!$Z$7:$Z$46),SUMIF('100m Manikin Tow Men'!$C$7:$C$46,$A43,'100m Manikin Tow Men'!$Z$7:$Z$46)))","v":14},{"$f":"IF($A43=\"\",\"\",IF(SUMIF('200m Obs Men'!$C$7:$C$46,$A43,'200m Obs Men'!$Z$7:$Z$46)=0,1+MAX('200m Obs Men'!$Z$7:$Z$46),SUMIF('200m Obs Men'!$C$7:$C$46,$A43,'200m Obs Men'!$Z$7:$Z$46)))","v":13},{"$f":"IF($A43=\"\",\"\",IF(SUMIF('200m Super Men'!$C$7:$C$46,$A43,'200m Super Men'!$Z$7:$Z$46)=0,1+MAX('200m Super Men'!$Z$7:$Z$46),SUMIF('200m Super Men'!$C$7:$C$46,$A43,'200m Super Men'!$Z$7:$Z$46)))","v":13},{"$f":"IF($A43=\"\",\"\",IF(SUMIF('100 Resue Men'!$C$7:$C$46,$A43,'100 Resue Men'!$Z$7:$Z$46)=0,1+MAX('100 Resue Men'!$Z$7:$Z$46),SUMIF('100 Resue Men'!$C$7:$C$46,$A43,'100 Resue Men'!$Z$7:$Z$46)))","v":13},{"$f":"IF($A43=\"\",\"\",IF(SUMIF('Line Throw Men'!$C$7:$C$46,$A43,'Line Throw Men'!$AB$7:$AB$46)=0,1+MAX('Line Throw Men'!$AB$7:$AB$46),SUMIF('Line Throw Men'!$C$7:$C$46,$A43,'Line Throw Men'!$AB$7:$AB$46)))","v":13},{"$f":"IF($A43=\"\",\"\",IF(SUMIF('4 x 50 Obs Relay Men'!$C$7:$C$46,$A43,'4 x 50 Obs Relay Men'!$W$7:$W$46)=0,1+MAX('4 x 50 Obs Relay Men'!$W$7:$W$46),SUMIF('4 x 50 Obs Relay Men'!$C$7:$C$46,$A43,'4 x 50 Obs Relay Men'!$W$7:$W$46)))","v":11},{"$f":"IF($A43=\"\",\"\",IF(SUMIF('4 x 50 medley Relay Men'!$C$7:$C$46,$A43,'4 x 50 medley Relay Men'!$W$7:$W$46)=0,1+MAX('4 x 50 medley Relay Men'!$W$7:$W$46),SUMIF('4 x 50 medley Relay Men'!$C$7:$C$46,$A43,'4 x 50 medley Relay Men'!$W$7:$W$46)))","v":11},{"$f":"IF($A43=\"\",\"\",IF(SUMIF('4 x 25 Manikin Carry Relay Men'!$C$7:$C$46,$A43,'4 x 25 Manikin Carry Relay Men'!$W$7:$W$46)=0,1+MAX('4 x 25 Manikin Carry Relay Men'!$W$7:$W$46),SUMIF('4 x 25 Manikin Carry Relay Men'!$C$7:$C$46,$A43,'4 x 25 Manikin Carry Relay Men'!$W$7:$W$46)))","v":10},{"$f":"IF($A43=\"\",\"\",IF(SUMIF('4 x 12m Line Throw Men'!$C$7:$C$46,$A43,'4 x 12m Line Throw Men'!$W$7:$W$46)=0,1+MAX('4 x 12m Line Throw Men'!$W$7:$W$46),SUMIF('4 x 12m Line Throw Men'!$C$7:$C$46,$A43,'4 x 12m Line Throw Men'!$W$7:$W$46)))","v":8},132,14]
[14,"University of Birmingham",{"$f":"IF($A44=\"\",\"\",IF(SUMIF('50m Manikin Carry Men'!$C$7:$C$46,$A44,'50m Manikin Carry Men'!$Z$7:$Z$46)=0,1+MAX('50m Manikin Carry Men'!$Z$7:$Z$46),SUMIF('50m Manikin Carry Men'!$C$7:$C$46,$A44,'50m Manikin Carry Men'!$Z$7:$Z$46)))","v":4},{"$f":"IF($A44=\"\",\"\",IF(SUMIF('100m Manikin Carry Men'!$C$7:$C$46,$A44,'100m Manikin Carry Men'!$Z$7:$Z$46)=0,1+MAX('100m Manikin Carry Men'!$Z$7:$Z$46),SUMIF('100m Manikin Carry Men'!$C$7:$C$46,$A44,'100m Manikin Carry Men'!$Z$7:$Z$46)))","v":5},{"$f":"IF($A44=\"\",\"\",IF(SUMIF('100m Manikin Tow Men'!$C$7:$C$46,$A44,'100m Manikin Tow Men'!$Z$7:$Z$46)=0,1+MAX('100m Manikin Tow Men'!$Z$7:$Z$46),SUMIF('100m Manikin Tow Men'!$C$7:$C$46,$A44,'100m Manikin Tow Men'!$Z$7:$Z$46)))","v":9},{"$f":"IF($A44=\"\",\"\",IF(SUMIF('200m Obs Men'!$C$7:$C$46,$A44,'200m Obs Men'!$Z$7:$Z$46)=0,1+MAX('200m Obs Men'!$Z$7:$Z$46),SUMIF('200m Obs Men'!$C$7:$C$46,$A44,'200m Obs Men'!$Z$7:$Z$46)))","v":5},{"$f":"IF($A44=\"\",\"\",IF(SUMIF('200m Super Men'!$C$7:$C$46,$A44,'200m Super Men'!$Z$7:$Z$46)=0,1+MAX('200m Super Men'!$Z$7:$Z$46),SUMIF('200m Super Men'!$C$7:$C$46,$A44,'200m Super Men'!$Z$7:$Z$46)))","v":4},{"$f":"IF($A44=\"\",\"\",IF(SUMIF('100 Resue Men'!$C$7:$C$46,$A44,'100 Resue Men'!$Z$7:$Z$46)=0,1+MAX('100 Resue Men'!$Z$7:$Z$46),SUMIF('100 Resue Men'!$C$7:$C$46,$A44,'100 Resue Men'!$Z$7:$Z$46)))","v":7},{"$f":"IF($A44=\"\",\"\",IF(SUMIF('Line Throw Men'!$C$7:$C$46,$A44,'Line Throw Men'!$AB$7:$AB$46)=0,1+MAX('Line Throw Men'!$AB$7:$AB$46),SUMIF('Line Throw Men'!$C$7:$C$46,$A44,'Line Throw Men'!$AB$7:$AB$46)))","v":8},{"$f":"IF($A44=\"\",\"\",IF(SUMIF('4 x 50 Obs Relay Men'!$C$7:$C$46,$A44,'4 x 50 Obs Relay Men'!$W$7:$W$46)=0,1+MAX('4 x 50 Obs Relay Men'!$W$7:$W$46),SUMIF('4 x 50 Obs Relay Men'!$C$7:$C$46,$A44,'4 x 50 Obs Relay Men'!$W$7:$W$46)))","v":10},{"$f":"IF($A44=\"\",\"\",IF(SUMIF('4 x 50 medley Relay Men'!$C$7:$C$46,$A44,'4 x 50 medley Relay Men'!$W$7:$W$46)=0,1+MAX('4 x 50 medley Relay Men'!$W$7:$W$46),SUMIF('4 x 50 medley Relay Men'!$C$7:$C$46,$A44,'4 x 50 medley Relay Men'!$W$7:$W$46)))","v":10},{"$f":"IF($A44=\"\",\"\",IF(SUMIF('4 x 25 Manikin Carry Relay Men'!$C$7:$C$46,$A44,'4 x 25 Manikin Carry Relay Men'!$W$7:$W$46)=0,1+MAX('4 x 25 Manikin Carry Relay Men'!$W$7:$W$46),SUMIF('4 x 25 Manikin Carry Relay Men'!$C$7:$C$46,$A44,'4 x 25 Manikin Carry Relay Men'!$W$7:$W$46)))","v":3},{"$f":"IF($A44=\"\",\"\",IF(SUMIF('4 x 12m Line Throw Men'!$C$7:$C$46,$A44,'4 x 12m Line Throw Men'!$W$7:$W$46)=0,1+MAX('4 x 12m Line Throw Men'!$W$7:$W$46),SUMIF('4 x 12m Line Throw Men'!$C$7:$C$46,$A44,'4 x 12m Line Throw Men'!$W$7:$W$46)))","v":2},67,5]
[5,"University of Cambridge",{"$f":"IF($A45=\"\",\"\",IF(SUMIF('50m Manikin Carry Men'!$C$7:$C$46,$A45,'50m Manikin Carry Men'!$Z$7:$Z$46)=0,1+MAX('50m Manikin Carry Men'!$Z$7:$Z$46),SUMIF('50m Manikin Carry Men'!$C$7:$C$46,$A45,'50m Manikin Carry Men'!$Z$7:$Z$46)))","v":11},{"$f":"IF($A45=\"\",\"\",IF(SUMIF('100m Manikin Carry Men'!$C$7:$C$46,$A45,'100m Manikin Carry Men'!$Z$7:$Z$46)=0,1+MAX('100m Manikin Carry Men'!$Z$7:$Z$46),SUMIF('100m Manikin Carry Men'!$C$7:$C$46,$A45,'100m Manikin Carry Men'!$Z$7:$Z$46)))","v":10},{"$f":"IF($A45=\"\",\"\",IF(SUMIF('100m Manikin Tow Men'!$C$7:$C$46,$A45,'100m Manikin Tow Men'!$Z$7:$Z$46)=0,1+MAX('100m Manikin Tow Men'!$Z$7:$Z$46),SUMIF('100m Manikin Tow Men'!$C$7:$C$46,$A45,'100m Manikin Tow Men'!$Z$7:$Z$46)))","v":10},{"$f":"IF($A45=\"\",\"\",IF(SUMIF('200m Obs Men'!$C$7:$C$46,$A45,'200m Obs Men'!$Z$7:$Z$46)=0,1+MAX('200m Obs Men'!$Z$7:$Z$46),SUMIF('200m Obs Men'!$C$7:$C$46,$A45,'200m Obs Men'!$Z$7:$Z$46)))","v":12},{"$f":"IF($A45=\"\",\"\",IF(SUMIF('200m Super Men'!$C$7:$C$46,$A45,'200m Super Men'!$Z$7:$Z$46)=0,1+MAX('200m Super Men'!$Z$7:$Z$46),SUMIF('200m Super Men'!$C$7:$C$46,$A45,'200m Super Men'!$Z$7:$Z$46)))","v":9},{"$f":"IF($A45=\"\",\"\",IF(SUMIF('100 Resue Men'!$C$7:$C$46,$A45,'100 Resue Men'!$Z$7:$Z$46)=0,1+MAX('100 Resue Men'!$Z$7:$Z$46),SUMIF('100 Resue Men'!$C$7:$C$46,$A45,'100 Resue Men'!$Z$7:$Z$46)))","v":11},{"$f":"IF($A45=\"\",\"\",IF(SUMIF('Line Throw Men'!$C$7:$C$46,$A45,'Line Throw Men'!$AB$7:$AB$46)=0,1+MAX('Line Throw Men'!$AB$7:$AB$46),SUMIF('Line Throw Men'!$C$7:$C$46,$A45,'Line Throw Men'!$AB$7:$AB$46)))","v":10},{"$f":"IF($A45=\"\",\"\",IF(SUMIF('4 x 50 Obs Relay Men'!$C$7:$C$46,$A45,'4 x 50 Obs Relay Men'!$W$7:$W$46)=0,1+MAX('4 x 50 Obs Relay Men'!$W$7:$W$46),SUMIF('4 x 50 Obs Relay Men'!$C$7:$C$46,$A45,'4 x 50 Obs Relay Men'!$W$7:$W$46)))","v":11},{"$f":"IF($A45=\"\",\"\",IF(SUMIF('4 x 50 medley Relay Men'!$C$7:$C$46,$A45,'4 x 50 medley Relay Men'!$W$7:$W$46)=0,1+MAX('4 x 50 medley Relay Men'!$W$7:$W$46),SUMIF('4 x 50 medley Relay Men'!$C$7:$C$46,$A45,'4 x 50 medley Relay Men'!$W$7:$W$46)))","v":11},{"$f":"IF($A45=\"\",\"\",IF(SUMIF('4 x 25 Manikin Carry Relay Men'!$C$7:$C$46,$A45,'4 x 25 Manikin Carry Relay Men'!$W$7:$W$46)=0,1+MAX('4 x 25 Manikin Carry Relay Men'!$W$7:$W$46),SUMIF('4 x 25 Manikin Carry Relay Men'!$C$7:$C$46,$A45,'4 x 25 Manikin Carry Relay Men'!$W$7:$W$46)))","v":10},{"$f":"IF($A45=\"\",\"\",IF(SUMIF('4 x 12m Line Throw Men'!$C$7:$C$46,$A45,'4 x 12m Line Throw Men'!$W$7:$W$46)=0,1+MAX('4 x 12m Line Throw Men'!$W$7:$W$46),SUMIF('4 x 12m Line Throw Men'!$C$7:$C$46,$A45,'4 x 12m Line Throw Men'!$W$7:$W$46)))","v":8},113,12]
[16,"University of London Union",{"$f":"IF($A46=\"\",\"\",IF(SUMIF('50m Manikin Carry Men'!$C$7:$C$46,$A46,'50m Manikin Carry Men'!$Z$7:$Z$46)=0,1+MAX('50m Manikin Carry Men'!$Z$7:$Z$46),SUMIF('50m Manikin Carry Men'!$C$7:$C$46,$A46,'50m Manikin Carry Men'!$Z$7:$Z$46)))","v":6},{"$f":"IF($A46=\"\",\"\",IF(SUMIF('100m Manikin Carry Men'!$C$7:$C$46,$A46,'100m Manikin Carry Men'!$Z$7:$Z$46)=0,1+MAX('100m Manikin Carry Men'!$Z$7:$Z$46),SUMIF('100m Manikin Carry Men'!$C$7:$C$46,$A46,'100m Manikin Carry Men'!$Z$7:$Z$46)))","v":8},{"$f":"IF($A46=\"\",\"\",IF(SUMIF('100m Manikin Tow Men'!$C$7:$C$46,$A46,'100m Manikin Tow Men'!$Z$7:$Z$46)=0,1+MAX('100m Manikin Tow Men'!$Z$7:$Z$46),SUMIF('100m Manikin Tow Men'!$C$7:$C$46,$A46,'100m Manikin Tow Men'!$Z$7:$Z$46)))","v":11},{"$f":"IF($A46=\"\",\"\",IF(SUMIF('200m Obs Men'!$C$7:$C$46,$A46,'200m Obs Men'!$Z$7:$Z$46)=0,1+MAX('200m Obs Men'!$Z$7:$Z$46),SUMIF('200m Obs Men'!$C$7:$C$46,$A46,'200m Obs Men'!$Z$7:$Z$46)))","v":11},{"$f":"IF($A46=\"\",\"\",IF(SUMIF('200m Super Men'!$C$7:$C$46,$A46,'200m Super Men'!$Z$7:$Z$46)=0,1+MAX('200m Super Men'!$Z$7:$Z$46),SUMIF('200m Super Men'!$C$7:$C$46,$A46,'200m Super Men'!$Z$7:$Z$46)))","v":8},{"$f":"IF($A46=\"\",\"\",IF(SUMIF('100 Resue Men'!$C$7:$C$46,$A46,'100 Resue Men'!$Z$7:$Z$46)=0,1+MAX('100 Resue Men'!$Z$7:$Z$46),SUMIF('100 Resue Men'!$C$7:$C$46,$A46,'100 Resue Men'!$Z$7:$Z$46)))","v":6},{"$f":"IF($A46=\"\",\"\",IF(SUMIF('Line Throw Men'!$C$7:$C$46,$A46,'Line Throw Men'!$AB$7:$AB$46)=0,1+MAX('Line Throw Men'!$AB$7:$AB$46),SUMIF('Line Throw Men'!$C$7:$C$46,$A46,'Line Throw Men'!$AB$7:$AB$46)))","v":6},{"$f":"IF($A46=\"\",\"\",IF(SUMIF('4 x 50 Obs Relay Men'!$C$7:$C$46,$A46,'4 x 50 Obs Relay Men'!$W$7:$W$46)=0,1+MAX('4 x 50 Obs Relay Men'!$W$7:$W$46),SUMIF('4 x 50 Obs Relay Men'!$C$7:$C$46,$A46,'4 x 50 Obs Relay Men'!$W$7:$W$46)))","v":9},{"$f":"IF($A46=\"\",\"\",IF(SUMIF('4 x 50 medley Relay Men'!$C$7:$C$46,$A46,'4 x 50 medley Relay Men'!$W$7:$W$46)=0,1+MAX('4 x 50 medley Relay Men'!$W$7:$W$46),SUMIF('4 x 50 medley Relay Men'!$C$7:$C$46,$A46,'4 x 50 medley Relay Men'!$W$7:$W$46)))","v":6},{"$f":"IF($A46=\"\",\"\",IF(SUMIF('4 x 25 Manikin Carry Relay Men'!$C$7:$C$46,$A46,'4 x 25 Manikin Carry Relay Men'!$W$7:$W$46)=0,1+MAX('4 x 25 Manikin Carry Relay Men'!$W$7:$W$46),SUMIF('4 x 25 Manikin Carry Relay Men'!$C$7:$C$46,$A46,'4 x 25 Manikin Carry Relay Men'!$W$7:$W$46)))","v":4},{"$f":"IF($A46=\"\",\"\",IF(SUMIF('4 x 12m Line Throw Men'!$C$7:$C$46,$A46,'4 x 12m Line Throw Men'!$W$7:$W$46)=0,1+MAX('4 x 12m Line Throw Men'!$W$7:$W$46),SUMIF('4 x 12m Line Throw Men'!$C$7:$C$46,$A46,'4 x 12m Line Throw Men'!$W$7:$W$46)))","v":5},80,8]
[8,"University of Nottingham",{"$f":"IF($A47=\"\",\"\",IF(SUMIF('50m Manikin Carry Men'!$C$7:$C$46,$A47,'50m Manikin Carry Men'!$Z$7:$Z$46)=0,1+MAX('50m Manikin Carry Men'!$Z$7:$Z$46),SUMIF('50m Manikin Carry Men'!$C$7:$C$46,$A47,'50m Manikin Carry Men'!$Z$7:$Z$46)))","v":8},{"$f":"IF($A47=\"\",\"\",IF(SUMIF('100m Manikin Carry Men'!$C$7:$C$46,$A47,'100m Manikin Carry Men'!$Z$7:$Z$46)=0,1+MAX('100m Manikin Carry Men'!$Z$7:$Z$46),SUMIF('100m Manikin Carry Men'!$C$7:$C$46,$A47,'100m Manikin Carry Men'!$Z$7:$Z$46)))","v":7},{"$f":"IF($A47=\"\",\"\",IF(SUMIF('100m Manikin Tow Men'!$C$7:$C$46,$A47,'100m Manikin Tow Men'!$Z$7:$Z$46)=0,1+MAX('100m Manikin Tow Men'!$Z$7:$Z$46),SUMIF('100m Manikin Tow Men'!$C$7:$C$46,$A47,'100m Manikin Tow Men'!$Z$7:$Z$46)))","v":7},{"$f":"IF($A47=\"\",\"\",IF(SUMIF('200m Obs Men'!$C$7:$C$46,$A47,'200m Obs Men'!$Z$7:$Z$46)=0,1+MAX('200m Obs Men'!$Z$7:$Z$46),SUMIF('200m Obs Men'!$C$7:$C$46,$A47,'200m Obs Men'!$Z$7:$Z$46)))","v":2},{"$f":"IF($A47=\"\",\"\",IF(SUMIF('200m Super Men'!$C$7:$C$46,$A47,'200m Super Men'!$Z$7:$Z$46)=0,1+MAX('200m Super Men'!$Z$7:$Z$46),SUMIF('200m Super Men'!$C$7:$C$46,$A47,'200m Super Men'!$Z$7:$Z$46)))","v":5},{"$f":"IF($A47=\"\",\"\",IF(SUMIF('100 Resue Men'!$C$7:$C$46,$A47,'100 Resue Men'!$Z$7:$Z$46)=0,1+MAX('100 Resue Men'!$Z$7:$Z$46),SUMIF('100 Resue Men'!$C$7:$C$46,$A47,'100 Resue Men'!$Z$7:$Z$46)))","v":12},{"$f":"IF($A47=\"\",\"\",IF(SUMIF('Line Throw Men'!$C$7:$C$46,$A47,'Line Throw Men'!$AB$7:$AB$46)=0,1+MAX('Line Throw Men'!$AB$7:$AB$46),SUMIF('Line Throw Men'!$C$7:$C$46,$A47,'Line Throw Men'!$AB$7:$AB$46)))","v":9},{"$f":"IF($A47=\"\",\"\",IF(SUMIF('4 x 50 Obs Relay Men'!$C$7:$C$46,$A47,'4 x 50 Obs Relay Men'!$W$7:$W$46)=0,1+MAX('4 x 50 Obs Relay Men'!$W$7:$W$46),SUMIF('4 x 50 Obs Relay Men'!$C$7:$C$46,$A47,'4 x 50 Obs Relay Men'!$W$7:$W$46)))","v":6},{"$f":"IF($A47=\"\",\"\",IF(SUMIF('4 x 50 medley Relay Men'!$C$7:$C$46,$A47,'4 x 50 medley Relay Men'!$W$7:$W$46)=0,1+MAX('4 x 50 medley Relay Men'!$W$7:$W$46),SUMIF('4 x 50 medley Relay Men'!$C$7:$C$46,$A47,'4 x 50 medley Relay Men'!$W$7:$W$46)))","v":8},{"$f":"IF($A47=\"\",\"\",IF(SUMIF('4 x 25 Manikin Carry Relay Men'!$C$7:$C$46,$A47,'4 x 25 Manikin Carry Relay Men'!$W$7:$W$46)=0,1+MAX('4 x 25 Manikin Carry Relay Men'!$W$7:$W$46),SUMIF('4 x 25 Manikin Carry Relay Men'!$C$7:$C$46,$A47,'4 x 25 Manikin Carry Relay Men'!$W$7:$W$46)))","v":5},{"$f":"IF($A47=\"\",\"\",IF(SUMIF('4 x 12m Line Throw Men'!$C$7:$C$46,$A47,'4 x 12m Line Throw Men'!$W$7:$W$46)=0,1+MAX('4 x 12m Line Throw Men'!$W$7:$W$46),SUMIF('4 x 12m Line Throw Men'!$C$7:$C$46,$A47,'4 x 12m Line Throw Men'!$W$7:$W$46)))","v":1},70,6]
[18,"University of Oxford",{"$f":"IF($A48=\"\",\"\",IF(SUMIF('50m Manikin Carry Men'!$C$7:$C$46,$A48,'50m Manikin Carry Men'!$Z$7:$Z$46)=0,1+MAX('50m Manikin Carry Men'!$Z$7:$Z$46),SUMIF('50m Manikin Carry Men'!$C$7:$C$46,$A48,'50m Manikin Carry Men'!$Z$7:$Z$46)))","v":10},{"$f":"IF($A48=\"\",\"\",IF(SUMIF('100m Manikin Carry Men'!$C$7:$C$46,$A48,'100m Manikin Carry Men'!$Z$7:$Z$46)=0,1+MAX('100m Manikin Carry Men'!$Z$7:$Z$46),SUMIF('100m Manikin Carry Men'!$C$7:$C$46,$A48,'100m Manikin Carry Men'!$Z$7:$Z$46)))","v":11},{"$f":"IF($A48=\"\",\"\",IF(SUMIF('100m Manikin Tow Men'!$C$7:$C$46,$A48,'100m Manikin Tow Men'!$Z$7:$Z$46)=0,1+MAX('100m Manikin Tow Men'!$Z$7:$Z$46),SUMIF('100m Manikin Tow Men'!$C$7:$C$46,$A48,'100m Manikin Tow Men'!$Z$7:$Z$46)))","v":13},{"$f":"IF($A48=\"\",\"\",IF(SUMIF('200m Obs Men'!$C$7:$C$46,$A48,'200m Obs Men'!$Z$7:$Z$46)=0,1+MAX('200m Obs Men'!$Z$7:$Z$46),SUMIF('200m Obs Men'!$C$7:$C$46,$A48,'200m Obs Men'!$Z$7:$Z$46)))","v":6},{"$f":"IF($A48=\"\",\"\",IF(SUMIF('200m Super Men'!$C$7:$C$46,$A48,'200m Super Men'!$Z$7:$Z$46)=0,1+MAX('200m Super Men'!$Z$7:$Z$46),SUMIF('200m Super Men'!$C$7:$C$46,$A48,'200m Super Men'!$Z$7:$Z$46)))","v":11},{"$f":"IF($A48=\"\",\"\",IF(SUMIF('100 Resue Men'!$C$7:$C$46,$A48,'100 Resue Men'!$Z$7:$Z$46)=0,1+MAX('100 Resue Men'!$Z$7:$Z$46),SUMIF('100 Resue Men'!$C$7:$C$46,$A48,'100 Resue Men'!$Z$7:$Z$46)))","v":10},{"$f":"IF($A48=\"\",\"\",IF(SUMIF('Line Throw Men'!$C$7:$C$46,$A48,'Line Throw Men'!$AB$7:$AB$46)=0,1+MAX('Line Throw Men'!$AB$7:$AB$46),SUMIF('Line Throw Men'!$C$7:$C$46,$A48,'Line Throw Men'!$AB$7:$AB$46)))","v":7},{"$f":"IF($A48=\"\",\"\",IF(SUMIF('4 x 50 Obs Relay Men'!$C$7:$C$46,$A48,'4 x 50 Obs Relay Men'!$W$7:$W$46)=0,1+MAX('4 x 50 Obs Relay Men'!$W$7:$W$46),SUMIF('4 x 50 Obs Relay Men'!$C$7:$C$46,$A48,'4 x 50 Obs Relay Men'!$W$7:$W$46)))","v":8},{"$f":"IF($A48=\"\",\"\",IF(SUMIF('4 x 50 medley Relay Men'!$C$7:$C$46,$A48,'4 x 50 medley Relay Men'!$W$7:$W$46)=0,1+MAX('4 x 50 medley Relay Men'!$W$7:$W$46),SUMIF('4 x 50 medley Relay Men'!$C$7:$C$46,$A48,'4 x 50 medley Relay Men'!$W$7:$W$46)))","v":9},{"$f":"IF($A48=\"\",\"\",IF(SUMIF('4 x 25 Manikin Carry Relay Men'!$C$7:$C$46,$A48,'4 x 25 Manikin Carry Relay Men'!$W$7:$W$46)=0,1+MAX('4 x 25 Manikin Carry Relay Men'!$W$7:$W$46),SUMIF('4 x 25 Manikin Carry Relay Men'!$C$7:$C$46,$A48,'4 x 25 Manikin Carry Relay Men'!$W$7:$W$46)))","v":6},{"$f":"IF($A48=\"\",\"\",IF(SUMIF('4 x 12m Line Throw Men'!$C$7:$C$46,$A48,'4 x 12m Line Throw Men'!$W$7:$W$46)=0,1+MAX('4 x 12m Line Throw Men'!$W$7:$W$46),SUMIF('4 x 12m Line Throw Men'!$C$7:$C$46,$A48,'4 x 12m Line Throw Men'!$W$7:$W$46)))","v":6},97,11]
[9,"University of Plymouth",12,{"$f":"IF($A49=\"\",\"\",IF(SUMIF('100m Manikin Carry Men'!$C$7:$C$46,$A49,'100m Manikin Carry Men'!$Z$7:$Z$46)=0,1+MAX('100m Manikin Carry Men'!$Z$7:$Z$46),SUMIF('100m Manikin Carry Men'!$C$7:$C$46,$A49,'100m Manikin Carry Men'!$Z$7:$Z$46)))","v":6},{"$f":"IF($A49=\"\",\"\",IF(SUMIF('100m Manikin Tow Men'!$C$7:$C$46,$A49,'100m Manikin Tow Men'!$Z$7:$Z$46)=0,1+MAX('100m Manikin Tow Men'!$Z$7:$Z$46),SUMIF('100m Manikin Tow Men'!$C$7:$C$46,$A49,'100m Manikin Tow Men'!$Z$7:$Z$46)))","v":12},{"$f":"IF($A49=\"\",\"\",IF(SUMIF('200m Obs Men'!$C$7:$C$46,$A49,'200m Obs Men'!$Z$7:$Z$46)=0,1+MAX('200m Obs Men'!$Z$7:$Z$46),SUMIF('200m Obs Men'!$C$7:$C$46,$A49,'200m Obs Men'!$Z$7:$Z$46)))","v":8},{"$f":"IF($A49=\"\",\"\",IF(SUMIF('200m Super Men'!$C$7:$C$46,$A49,'200m Super Men'!$Z$7:$Z$46)=0,1+MAX('200m Super Men'!$Z$7:$Z$46),SUMIF('200m Super Men'!$C$7:$C$46,$A49,'200m Super Men'!$Z$7:$Z$46)))","v":12},{"$f":"IF($A49=\"\",\"\",IF(SUMIF('100 Resue Men'!$C$7:$C$46,$A49,'100 Resue Men'!$Z$7:$Z$46)=0,1+MAX('100 Resue Men'!$Z$7:$Z$46),SUMIF('100 Resue Men'!$C$7:$C$46,$A49,'100 Resue Men'!$Z$7:$Z$46)))","v":8},{"$f":"IF($A49=\"\",\"\",IF(SUMIF('Line Throw Men'!$C$7:$C$46,$A49,'Line Throw Men'!$AB$7:$AB$46)=0,1+MAX('Line Throw Men'!$AB$7:$AB$46),SUMIF('Line Throw Men'!$C$7:$C$46,$A49,'Line Throw Men'!$AB$7:$AB$46)))","v":5},{"$f":"IF($A49=\"\",\"\",IF(SUMIF('4 x 50 Obs Relay Men'!$C$7:$C$46,$A49,'4 x 50 Obs Relay Men'!$W$7:$W$46)=0,1+MAX('4 x 50 Obs Relay Men'!$W$7:$W$46),SUMIF('4 x 50 Obs Relay Men'!$C$7:$C$46,$A49,'4 x 50 Obs Relay Men'!$W$7:$W$46)))","v":4},{"$f":"IF($A49=\"\",\"\",IF(SUMIF('4 x 50 medley Relay Men'!$C$7:$C$46,$A49,'4 x 50 medley Relay Men'!$W$7:$W$46)=0,1+MAX('4 x 50 medley Relay Men'!$W$7:$W$46),SUMIF('4 x 50 medley Relay Men'!$C$7:$C$46,$A49,'4 x 50 medley Relay Men'!$W$7:$W$46)))","v":4},{"$f":"IF($A49=\"\",\"\",IF(SUMIF('4 x 25 Manikin Carry Relay Men'!$C$7:$C$46,$A49,'4 x 25 Manikin Carry Relay Men'!$W$7:$W$46)=0,1+MAX('4 x 25 Manikin Carry Relay Men'!$W$7:$W$46),SUMIF('4 x 25 Manikin Carry Relay Men'!$C$7:$C$46,$A49,'4 x 25 Manikin Carry Relay Men'!$W$7:$W$46)))","v":8},{"$f":"IF($A49=\"\",\"\",IF(SUMIF('4 x 12m Line Throw Men'!$C$7:$C$46,$A49,'4 x 12m Line Throw Men'!$W$7:$W$46)=0,1+MAX('4 x 12m Line Throw Men'!$W$7:$W$46),SUMIF('4 x 12m Line Throw Men'!$C$7:$C$46,$A49,'4 x 12m Line Throw Men'!$W$7:$W$46)))","v":3},82,9]
[20,"University of Southampton",{"$f":"IF($A50=\"\",\"\",IF(SUMIF('50m Manikin Carry Men'!$C$7:$C$46,$A50,'50m Manikin Carry Men'!$Z$7:$Z$46)=0,1+MAX('50m Manikin Carry Men'!$Z$7:$Z$46),SUMIF('50m Manikin Carry Men'!$C$7:$C$46,$A50,'50m Manikin Carry Men'!$Z$7:$Z$46)))","v":5},{"$f":"IF($A50=\"\",\"\",IF(SUMIF('100m Manikin Carry Men'!$C$7:$C$46,$A50,'100m Manikin Carry Men'!$Z$7:$Z$46)=0,1+MAX('100m Manikin Carry Men'!$Z$7:$Z$46),SUMIF('100m Manikin Carry Men'!$C$7:$C$46,$A50,'100m Manikin Carry Men'!$Z$7:$Z$46)))","v":2},{"$f":"IF($A50=\"\",\"\",IF(SUMIF('100m Manikin Tow Men'!$C$7:$C$46,$A50,'100m Manikin Tow Men'!$Z$7:$Z$46)=0,1+MAX('100m Manikin Tow Men'!$Z$7:$Z$46),SUMIF('100m Manikin Tow Men'!$C$7:$C$46,$A50,'100m Manikin Tow Men'!$Z$7:$Z$46)))","v":5},{"$f":"IF($A50=\"\",\"\",IF(SUMIF('200m Obs Men'!$C$7:$C$46,$A50,'200m Obs Men'!$Z$7:$Z$46)=0,1+MAX('200m Obs Men'!$Z$7:$Z$46),SUMIF('200m Obs Men'!$C$7:$C$46,$A50,'200m Obs Men'!$Z$7:$Z$46)))","v":7},{"$f":"IF($A50=\"\",\"\",IF(SUMIF('200m Super Men'!$C$7:$C$46,$A50,'200m Super Men'!$Z$7:$Z$46)=0,1+MAX('200m Super Men'!$Z$7:$Z$46),SUMIF('200m Super Men'!$C$7:$C$46,$A50,'200m Super Men'!$Z$7:$Z$46)))","v":7},{"$f":"IF($A50=\"\",\"\",IF(SUMIF('100 Resue Men'!$C$7:$C$46,$A50,'100 Resue Men'!$Z$7:$Z$46)=0,1+MAX('100 Resue Men'!$Z$7:$Z$46),SUMIF('100 Resue Men'!$C$7:$C$46,$A50,'100 Resue Men'!$Z$7:$Z$46)))","v":4},{"$f":"IF($A50=\"\",\"\",IF(SUMIF('Line Throw Men'!$C$7:$C$46,$A50,'Line Throw Men'!$AB$7:$AB$46)=0,1+MAX('Line Throw Men'!$AB$7:$AB$46),SUMIF('Line Throw Men'!$C$7:$C$46,$A50,'Line Throw Men'!$AB$7:$AB$46)))","v":2},{"$f":"IF($A50=\"\",\"\",IF(SUMIF('4 x 50 Obs Relay Men'!$C$7:$C$46,$A50,'4 x 50 Obs Relay Men'!$W$7:$W$46)=0,1+MAX('4 x 50 Obs Relay Men'!$W$7:$W$46),SUMIF('4 x 50 Obs Relay Men'!$C$7:$C$46,$A50,'4 x 50 Obs Relay Men'!$W$7:$W$46)))","v":3},{"$f":"IF($A50=\"\",\"\",IF(SUMIF('4 x 50 medley Relay Men'!$C$7:$C$46,$A50,'4 x 50 medley Relay Men'!$W$7:$W$46)=0,1+MAX('4 x 50 medley Relay Men'!$W$7:$W$46),SUMIF('4 x 50 medley Relay Men'!$C$7:$C$46,$A50,'4 x 50 medley Relay Men'!$W$7:$W$46)))","v":3},{"$f":"IF($A50=\"\",\"\",IF(SUMIF('4 x 25 Manikin Carry Relay Men'!$C$7:$C$46,$A50,'4 x 25 Manikin Carry Relay Men'!$W$7:$W$46)=0,1+MAX('4 x 25 Manikin Carry Relay Men'!$W$7:$W$46),SUMIF('4 x 25 Manikin Carry Relay Men'!$C$7:$C$46,$A50,'4 x 25 Manikin Carry Relay Men'!$W$7:$W$46)))","v":2},{"$f":"IF($A50=\"\",\"\",IF(SUMIF('4 x 12m Line Throw Men'!$C$7:$C$46,$A50,'4 x 12m Line Throw Men'!$W$7:$W$46)=0,1+MAX('4 x 12m Line Throw Men'!$W$7:$W$46),SUMIF('4 x 12m Line Throw Men'!$C$7:$C$46,$A50,'4 x 12m Line Throw Men'!$W$7:$W$46)))","v":7},47,3]
[12,"University of Warwick",{"$f":"IF($A51=\"\",\"\",IF(SUMIF('50m Manikin Carry Men'!$C$7:$C$46,$A51,'50m Manikin Carry Men'!$Z$7:$Z$46)=0,1+MAX('50m Manikin Carry Men'!$Z$7:$Z$46),SUMIF('50m Manikin Carry Men'!$C$7:$C$46,$A51,'50m Manikin Carry Men'!$Z$7:$Z$46)))","v":7},{"$f":"IF($A51=\"\",\"\",IF(SUMIF('100m Manikin Carry Men'!$C$7:$C$46,$A51,'100m Manikin Carry Men'!$Z$7:$Z$46)=0,1+MAX('100m Manikin Carry Men'!$Z$7:$Z$46),SUMIF('100m Manikin Carry Men'!$C$7:$C$46,$A51,'100m Manikin Carry Men'!$Z$7:$Z$46)))","v":4},{"$f":"IF($A51=\"\",\"\",IF(SUMIF('100m Manikin Tow Men'!$C$7:$C$46,$A51,'100m Manikin Tow Men'!$Z$7:$Z$46)=0,1+MAX('100m Manikin Tow Men'!$Z$7:$Z$46),SUMIF('100m Manikin Tow Men'!$C$7:$C$46,$A51,'100m Manikin Tow Men'!$Z$7:$Z$46)))","v":4},{"$f":"IF($A51=\"\",\"\",IF(SUMIF('200m Obs Men'!$C$7:$C$46,$A51,'200m Obs Men'!$Z$7:$Z$46)=0,1+MAX('200m Obs Men'!$Z$7:$Z$46),SUMIF('200m Obs Men'!$C$7:$C$46,$A51,'200m Obs Men'!$Z$7:$Z$46)))","v":9},{"$f":"IF($A51=\"\",\"\",IF(SUMIF('200m Super Men'!$C$7:$C$46,$A51,'200m Super Men'!$Z$7:$Z$46)=0,1+MAX('200m Super Men'!$Z$7:$Z$46),SUMIF('200m Super Men'!$C$7:$C$46,$A51,'200m Super Men'!$Z$7:$Z$46)))","v":6},{"$f":"IF($A51=\"\",\"\",IF(SUMIF('100 Resue Men'!$C$7:$C$46,$A51,'100 Resue Men'!$Z$7:$Z$46)=0,1+MAX('100 Resue Men'!$Z$7:$Z$46),SUMIF('100 Resue Men'!$C$7:$C$46,$A51,'100 Resue Men'!$Z$7:$Z$46)))","v":5},{"$f":"IF($A51=\"\",\"\",IF(SUMIF('Line Throw Men'!$C$7:$C$46,$A51,'Line Throw Men'!$AB$7:$AB$46)=0,1+MAX('Line Throw Men'!$AB$7:$AB$46),SUMIF('Line Throw Men'!$C$7:$C$46,$A51,'Line Throw Men'!$AB$7:$AB$46)))","v":1},{"$f":"IF($A51=\"\",\"\",IF(SUMIF('4 x 50 Obs Relay Men'!$C$7:$C$46,$A51,'4 x 50 Obs Relay Men'!$W$7:$W$46)=0,1+MAX('4 x 50 Obs Relay Men'!$W$7:$W$46),SUMIF('4 x 50 Obs Relay Men'!$C$7:$C$46,$A51,'4 x 50 Obs Relay Men'!$W$7:$W$46)))","v":5},{"$f":"IF($A51=\"\",\"\",IF(SUMIF('4 x 50 medley Relay Men'!$C$7:$C$46,$A51,'4 x 50 medley Relay Men'!$W$7:$W$46)=0,1+MAX('4 x 50 medley Relay Men'!$W$7:$W$46),SUMIF('4 x 50 medley Relay Men'!$C$7:$C$46,$A51,'4 x 50 medley Relay Men'!$W$7:$W$46)))","v":5},{"$f":"IF($A51=\"\",\"\",IF(SUMIF('4 x 25 Manikin Carry Relay Men'!$C$7:$C$46,$A51,'4 x 25 Manikin Carry Relay Men'!$W$7:$W$46)=0,1+MAX('4 x 25 Manikin Carry Relay Men'!$W$7:$W$46),SUMIF('4 x 25 Manikin Carry Relay Men'!$C$7:$C$46,$A51,'4 x 25 Manikin Carry Relay Men'!$W$7:$W$46)))","v":9},{"$f":"IF($A51=\"\",\"\",IF(SUMIF('4 x 12m Line Throw Men'!$C$7:$C$46,$A51,'4 x 12m Line Throw Men'!$W$7:$W$46)=0,1+MAX('4 x 12m Line Throw Men'!$W$7:$W$46),SUMIF('4 x 12m Line Throw Men'!$C$7:$C$46,$A51,'4 x 12m Line Throw Men'!$W$7:$W$46)))","v":7},62,4]
[11,"St. Andrews",{"$f":"IF($A52=\"\",\"\",IF(SUMIF('50m Manikin Carry Men'!$C$7:$C$46,$A52,'50m Manikin Carry Men'!$Z$7:$Z$46)=0,1+MAX('50m Manikin Carry Men'!$Z$7:$Z$46),SUMIF('50m Manikin Carry Men'!$C$7:$C$46,$A52,'50m Manikin Carry Men'!$Z$7:$Z$46)))","v":9},{"$f":"IF($A52=\"\",\"\",IF(SUMIF('100m Manikin Carry Men'!$C$7:$C$46,$A52,'100m Manikin Carry Men'!$Z$7:$Z$46)=0,1+MAX('100m Manikin Carry Men'!$Z$7:$Z$46),SUMIF('100m Manikin Carry Men'!$C$7:$C$46,$A52,'100m Manikin Carry Men'!$Z$7:$Z$46)))","v":9},{"$f":"IF($A52=\"\",\"\",IF(SUMIF('100m Manikin Tow Men'!$C$7:$C$46,$A52,'100m Manikin Tow Men'!$Z$7:$Z$46)=0,1+MAX('100m Manikin Tow Men'!$Z$7:$Z$46),SUMIF('100m Manikin Tow Men'!$C$7:$C$46,$A52,'100m Manikin Tow Men'!$Z$7:$Z$46)))","v":8},{"$f":"IF($A52=\"\",\"\",IF(SUMIF('200m Obs Men'!$C$7:$C$46,$A52,'200m Obs Men'!$Z$7:$Z$46)=0,1+MAX('200m Obs Men'!$Z$7:$Z$46),SUMIF('200m Obs Men'!$C$7:$C$46,$A52,'200m Obs Men'!$Z$7:$Z$46)))","v":10},{"$f":"IF($A52=\"\",\"\",IF(SUMIF('200m Super Men'!$C$7:$C$46,$A52,'200m Super Men'!$Z$7:$Z$46)=0,1+MAX('200m Super Men'!$Z$7:$Z$46),SUMIF('200m Super Men'!$C$7:$C$46,$A52,'200m Super Men'!$Z$7:$Z$46)))","v":10},{"$f":"IF($A52=\"\",\"\",IF(SUMIF('100 Resue Men'!$C$7:$C$46,$A52,'100 Resue Men'!$Z$7:$Z$46)=0,1+MAX('100 Resue Men'!$Z$7:$Z$46),SUMIF('100 Resue Men'!$C$7:$C$46,$A52,'100 Resue Men'!$Z$7:$Z$46)))","v":9},{"$f":"IF($A52=\"\",\"\",IF(SUMIF('Line Throw Men'!$C$7:$C$46,$A52,'Line Throw Men'!$AB$7:$AB$46)=0,1+MAX('Line Throw Men'!$AB$7:$AB$46),SUMIF('Line Throw Men'!$C$7:$C$46,$A52,'Line Throw Men'!$AB$7:$AB$46)))","v":4},{"$f":"IF($A52=\"\",\"\",IF(SUMIF('4 x 50 Obs Relay Men'!$C$7:$C$46,$A52,'4 x 50 Obs Relay Men'!$W$7:$W$46)=0,1+MAX('4 x 50 Obs Relay Men'!$W$7:$W$46),SUMIF('4 x 50 Obs Relay Men'!$C$7:$C$46,$A52,'4 x 50 Obs Relay Men'!$W$7:$W$46)))","v":7},{"$f":"IF($A52=\"\",\"\",IF(SUMIF('4 x 50 medley Relay Men'!$C$7:$C$46,$A52,'4 x 50 medley Relay Men'!$W$7:$W$46)=0,1+MAX('4 x 50 medley Relay Men'!$W$7:$W$46),SUMIF('4 x 50 medley Relay Men'!$C$7:$C$46,$A52,'4 x 50 medley Relay Men'!$W$7:$W$46)))","v":7},{"$f":"IF($A52=\"\",\"\",IF(SUMIF('4 x 25 Manikin Carry Relay Men'!$C$7:$C$46,$A52,'4 x 25 Manikin Carry Relay Men'!$W$7:$W$46)=0,1+MAX('4 x 25 Manikin Carry Relay Men'!$W$7:$W$46),SUMIF('4 x 25 Manikin Carry Relay Men'!$C$7:$C$46,$A52,'4 x 25 Manikin Carry Relay Men'!$W$7:$W$46)))","v":7},{"$f":"IF($A52=\"\",\"\",IF(SUMIF('4 x 12m Line Throw Men'!$C$7:$C$46,$A52,'4 x 12m Line Throw Men'!$W$7:$W$46)=0,1+MAX('4 x 12m Line Throw Men'!$W$7:$W$46),SUMIF('4 x 12m Line Throw Men'!$C$7:$C$46,$A52,'4 x 12m Line Throw Men'!$W$7:$W$46)))","v":7},87,10]
["","",{"$f":"IF($A53=\"\",\"\",IF(SUMIF('50m Manikin Carry Men'!$C$7:$C$46,$A53,'50m Manikin Carry Men'!$Z$7:$Z$46)=0,1+MAX('50m Manikin Carry Men'!$Z$7:$Z$46),SUMIF('50m Manikin Carry Men'!$C$7:$C$46,$A53,'50m Manikin Carry Men'!$Z$7:$Z$46)))","v":""},{"$f":"IF($A53=\"\",\"\",IF(SUMIF('100m Manikin Carry Men'!$C$7:$C$46,$A53,'100m Manikin Carry Men'!$Z$7:$Z$46)=0,1+MAX('100m Manikin Carry Men'!$Z$7:$Z$46),SUMIF('100m Manikin Carry Men'!$C$7:$C$46,$A53,'100m Manikin Carry Men'!$Z$7:$Z$46)))","v":""},{"$f":"IF($A53=\"\",\"\",IF(SUMIF('100m Manikin Tow Men'!$C$7:$C$46,$A53,'100m Manikin Tow Men'!$Z$7:$Z$46)=0,1+MAX('100m Manikin Tow Men'!$Z$7:$Z$46),SUMIF('100m Manikin Tow Men'!$C$7:$C$46,$A53,'100m Manikin Tow Men'!$Z$7:$Z$46)))","v":""},{"$f":"IF($A53=\"\",\"\",IF(SUMIF('200m Obs Men'!$C$7:$C$46,$A53,'200m Obs Men'!$Z$7:$Z$46)=0,1+MAX('200m Obs Men'!$Z$7:$Z$46),SUMIF('200m Obs Men'!$C$7:$C$46,$A53,'200m Obs Men'!$Z$7:$Z$46)))","v":""},{"$f":"IF($A53=\"\",\"\",IF(SUMIF('200m Super Men'!$C$7:$C$46,$A53,'200m Super Men'!$Z$7:$Z$46)=0,1+MAX('200m Super Men'!$Z$7:$Z$46),SUMIF('200m Super Men'!$C$7:$C$46,$A53,'200m Super Men'!$Z$7:$Z$46)))","v":""},{"$f":"IF($A53=\"\",\"\",IF(SUMIF('100 Resue Men'!$C$7:$C$46,$A53,'100 Resue Men'!$Z$7:$Z$46)=0,1+MAX('100 Resue Men'!$Z$7:$Z$46),SUMIF('100 Resue Men'!$C$7:$C$46,$A53,'100 Resue Men'!$Z$7:$Z$46)))","v":""},{"$f":"IF($A53=\"\",\"\",IF(SUMIF('Line Throw Men'!$C$7:$C$46,$A53,'Line Throw Men'!$AB$7:$AB$46)=0,1+MAX('Line Throw Men'!$AB$7:$AB$46),SUMIF('Line Throw Men'!$C$7:$C$46,$A53,'Line Throw Men'!$AB$7:$AB$46)))","v":""},{"$f":"IF($A53=\"\",\"\",IF(SUMIF('4 x 50 Obs Relay Men'!$C$7:$C$46,$A53,'4 x 50 Obs Relay Men'!$W$7:$W$46)=0,1+MAX('4 x 50 Obs Relay Men'!$W$7:$W$46),SUMIF('4 x 50 Obs Relay Men'!$C$7:$C$46,$A53,'4 x 50 Obs Relay Men'!$W$7:$W$46)))","v":""},{"$f":"IF($A53=\"\",\"\",IF(SUMIF('4 x 50 medley Relay Men'!$C$7:$C$46,$A53,'4 x 50 medley Relay Men'!$W$7:$W$46)=0,1+MAX('4 x 50 medley Relay Men'!$W$7:$W$46),SUMIF('4 x 50 medley Relay Men'!$C$7:$C$46,$A53,'4 x 50 medley Relay Men'!$W$7:$W$46)))","v":""},{"$f":"IF($A53=\"\",\"\",IF(SUMIF('4 x 25 Manikin Carry Relay Men'!$C$7:$C$46,$A53,'4 x 25 Manikin Carry Relay Men'!$W$7:$W$46)=0,1+MAX('4 x 25 Manikin Carry Relay Men'!$W$7:$W$46),SUMIF('4 x 25 Manikin Carry Relay Men'!$C$7:$C$46,$A53,'4 x 25 Manikin Carry Relay Men'!$W$7:$W$46)))","v":""},{"$f":"IF($A53=\"\",\"\",IF(SUMIF('4 x 12m Line Throw Men'!$C$7:$C$46,$A53,'4 x 12m Line Throw Men'!$W$7:$W$46)=0,1+MAX('4 x 12m Line Throw Men'!$W$7:$W$46),SUMIF('4 x 12m Line Throw Men'!$C$7:$C$46,$A53,'4 x 12m Line Throw Men'!$W$7:$W$46)))","v":""},"",""]
["","",{"$f":"IF($A54=\"\",\"\",IF(SUMIF('50m Manikin Carry Men'!$C$7:$C$46,$A54,'50m Manikin Carry Men'!$Z$7:$Z$46)=0,1+MAX('50m Manikin Carry Men'!$Z$7:$Z$46),SUMIF('50m Manikin Carry Men'!$C$7:$C$46,$A54,'50m Manikin Carry Men'!$Z$7:$Z$46)))","v":""},{"$f":"IF($A54=\"\",\"\",IF(SUMIF('100m Manikin Carry Men'!$C$7:$C$46,$A54,'100m Manikin Carry Men'!$Z$7:$Z$46)=0,1+MAX('100m Manikin Carry Men'!$Z$7:$Z$46),SUMIF('100m Manikin Carry Men'!$C$7:$C$46,$A54,'100m Manikin Carry Men'!$Z$7:$Z$46)))","v":""},{"$f":"IF($A54=\"\",\"\",IF(SUMIF('100m Manikin Tow Men'!$C$7:$C$46,$A54,'100m Manikin Tow Men'!$Z$7:$Z$46)=0,1+MAX('100m Manikin Tow Men'!$Z$7:$Z$46),SUMIF('100m Manikin Tow Men'!$C$7:$C$46,$A54,'100m Manikin Tow Men'!$Z$7:$Z$46)))","v":""},{"$f":"IF($A54=\"\",\"\",IF(SUMIF('200m Obs Men'!$C$7:$C$46,$A54,'200m Obs Men'!$Z$7:$Z$46)=0,1+MAX('200m Obs Men'!$Z$7:$Z$46),SUMIF('200m Obs Men'!$C$7:$C$46,$A54,'200m Obs Men'!$Z$7:$Z$46)))","v":""},{"$f":"IF($A54=\"\",\"\",IF(SUMIF('200m Super Men'!$C$7:$C$46,$A54,'200m Super Men'!$Z$7:$Z$46)=0,1+MAX('200m Super Men'!$Z$7:$Z$46),SUMIF('200m Super Men'!$C$7:$C$46,$A54,'200m Super Men'!$Z$7:$Z$46)))","v":""},{"$f":"IF($A54=\"\",\"\",IF(SUMIF('100 Resue Men'!$C$7:$C$46,$A54,'100 Resue Men'!$Z$7:$Z$46)=0,1+MAX('100 Resue Men'!$Z$7:$Z$46),SUMIF('100 Resue Men'!$C$7:$C$46,$A54,'100 Resue Men'!$Z$7:$Z$46)))","v":""},{"$f":"IF($A54=\"\",\"\",IF(SUMIF('Line Throw Men'!$C$7:$C$46,$A54,'Line Throw Men'!$AB$7:$AB$46)=0,1+MAX('Line Throw Men'!$AB$7:$AB$46),SUMIF('Line Throw Men'!$C$7:$C$46,$A54,'Line Throw Men'!$AB$7:$AB$46)))","v":""},{"$f":"IF($A54=\"\",\"\",IF(SUMIF('4 x 50 Obs Relay Men'!$C$7:$C$46,$A54,'4 x 50 Obs Relay Men'!$W$7:$W$46)=0,1+MAX('4 x 50 Obs Relay Men'!$W$7:$W$46),SUMIF('4 x 50 Obs Relay Men'!$C$7:$C$46,$A54,'4 x 50 Obs Relay Men'!$W$7:$W$46)))","v":""},{"$f":"IF($A54=\"\",\"\",IF(SUMIF('4 x 50 medley Relay Men'!$C$7:$C$46,$A54,'4 x 50 medley Relay Men'!$W$7:$W$46)=0,1+MAX('4 x 50 medley Relay Men'!$W$7:$W$46),SUMIF('4 x 50 medley Relay Men'!$C$7:$C$46,$A54,'4 x 50 medley Relay Men'!$W$7:$W$46)))","v":""},{"$f":"IF($A54=\"\",\"\",IF(SUMIF('4 x 25 Manikin Carry Relay Men'!$C$7:$C$46,$A54,'4 x 25 Manikin Carry Relay Men'!$W$7:$W$46)=0,1+MAX('4 x 25 Manikin Carry Relay Men'!$W$7:$W$46),SUMIF('4 x 25 Manikin Carry Relay Men'!$C$7:$C$46,$A54,'4 x 25 Manikin Carry Relay Men'!$W$7:$W$46)))","v":""},{"$f":"IF($A54=\"\",\"\",IF(SUMIF('4 x 12m Line Throw Men'!$C$7:$C$46,$A54,'4 x 12m Line Throw Men'!$W$7:$W$46)=0,1+MAX('4 x 12m Line Throw Men'!$W$7:$W$46),SUMIF('4 x 12m Line Throw Men'!$C$7:$C$46,$A54,'4 x 12m Line Throw Men'!$W$7:$W$46)))","v":""},"",""]
["","",{"$f":"IF($A55=\"\",\"\",IF(SUMIF('50m Manikin Carry Men'!$C$7:$C$46,$A55,'50m Manikin Carry Men'!$Z$7:$Z$46)=0,1+MAX('50m Manikin Carry Men'!$Z$7:$Z$46),SUMIF('50m Manikin Carry Men'!$C$7:$C$46,$A55,'50m Manikin Carry Men'!$Z$7:$Z$46)))","v":""},{"$f":"IF($A55=\"\",\"\",IF(SUMIF('100m Manikin Carry Men'!$C$7:$C$46,$A55,'100m Manikin Carry Men'!$Z$7:$Z$46)=0,1+MAX('100m Manikin Carry Men'!$Z$7:$Z$46),SUMIF('100m Manikin Carry Men'!$C$7:$C$46,$A55,'100m Manikin Carry Men'!$Z$7:$Z$46)))","v":""},{"$f":"IF($A55=\"\",\"\",IF(SUMIF('100m Manikin Tow Men'!$C$7:$C$46,$A55,'100m Manikin Tow Men'!$Z$7:$Z$46)=0,1+MAX('100m Manikin Tow Men'!$Z$7:$Z$46),SUMIF('100m Manikin Tow Men'!$C$7:$C$46,$A55,'100m Manikin Tow Men'!$Z$7:$Z$46)))","v":""},{"$f":"IF($A55=\"\",\"\",IF(SUMIF('200m Obs Men'!$C$7:$C$46,$A55,'200m Obs Men'!$Z$7:$Z$46)=0,1+MAX('200m Obs Men'!$Z$7:$Z$46),SUMIF('200m Obs Men'!$C$7:$C$46,$A55,'200m Obs Men'!$Z$7:$Z$46)))","v":""},{"$f":"IF($A55=\"\",\"\",IF(SUMIF('200m Super Men'!$C$7:$C$46,$A55,'200m Super Men'!$Z$7:$Z$46)=0,1+MAX('200m Super Men'!$Z$7:$Z$46),SUMIF('200m Super Men'!$C$7:$C$46,$A55,'200m Super Men'!$Z$7:$Z$46)))","v":""},{"$f":"IF($A55=\"\",\"\",IF(SUMIF('100 Resue Men'!$C$7:$C$46,$A55,'100 Resue Men'!$Z$7:$Z$46)=0,1+MAX('100 Resue Men'!$Z$7:$Z$46),SUMIF('100 Resue Men'!$C$7:$C$46,$A55,'100 Resue Men'!$Z$7:$Z$46)))","v":""},{"$f":"IF($A55=\"\",\"\",IF(SUMIF('Line Throw Men'!$C$7:$C$46,$A55,'Line Throw Men'!$AB$7:$AB$46)=0,1+MAX('Line Throw Men'!$AB$7:$AB$46),SUMIF('Line Throw Men'!$C$7:$C$46,$A55,'Line Throw Men'!$AB$7:$AB$46)))","v":""},{"$f":"IF($A55=\"\",\"\",IF(SUMIF('4 x 50 Obs Relay Men'!$C$7:$C$46,$A55,'4 x 50 Obs Relay Men'!$W$7:$W$46)=0,1+MAX('4 x 50 Obs Relay Men'!$W$7:$W$46),SUMIF('4 x 50 Obs Relay Men'!$C$7:$C$46,$A55,'4 x 50 Obs Relay Men'!$W$7:$W$46)))","v":""},{"$f":"IF($A55=\"\",\"\",IF(SUMIF('4 x 50 medley Relay Men'!$C$7:$C$46,$A55,'4 x 50 medley Relay Men'!$W$7:$W$46)=0,1+MAX('4 x 50 medley Relay Men'!$W$7:$W$46),SUMIF('4 x 50 medley Relay Men'!$C$7:$C$46,$A55,'4 x 50 medley Relay Men'!$W$7:$W$46)))","v":""},{"$f":"IF($A55=\"\",\"\",IF(SUMIF('4 x 25 Manikin Carry Relay Men'!$C$7:$C$46,$A55,'4 x 25 Manikin Carry Relay Men'!$W$7:$W$46)=0,1+MAX('4 x 25 Manikin Carry Relay Men'!$W$7:$W$46),SUMIF('4 x 25 Manikin Carry Relay Men'!$C$7:$C$46,$A55,'4 x 25 Manikin Carry Relay Men'!$W$7:$W$46)))","v":""},{"$f":"IF($A55=\"\",\"\",IF(SUMIF('4 x 12m Line Throw Men'!$C$7:$C$46,$A55,'4 x 12m Line Throw Men'!$W$7:$W$46)=0,1+MAX('4 x 12m Line Throw Men'!$W$7:$W$46),SUMIF('4 x 12m Line Throw Men'!$C$7:$C$46,$A55,'4 x 12m Line Throw Men'!$W$7:$W$46)))","v":""},"",""]
["","",{"$f":"IF($A56=\"\",\"\",IF(SUMIF('50m Manikin Carry Men'!$C$7:$C$46,$A56,'50m Manikin Carry Men'!$Z$7:$Z$46)=0,1+MAX('50m Manikin Carry Men'!$Z$7:$Z$46),SUMIF('50m Manikin Carry Men'!$C$7:$C$46,$A56,'50m Manikin Carry Men'!$Z$7:$Z$46)))","v":""},{"$f":"IF($A56=\"\",\"\",IF(SUMIF('100m Manikin Carry Men'!$C$7:$C$46,$A56,'100m Manikin Carry Men'!$Z$7:$Z$46)=0,1+MAX('100m Manikin Carry Men'!$Z$7:$Z$46),SUMIF('100m Manikin Carry Men'!$C$7:$C$46,$A56,'100m Manikin Carry Men'!$Z$7:$Z$46)))","v":""},{"$f":"IF($A56=\"\",\"\",IF(SUMIF('100m Manikin Tow Men'!$C$7:$C$46,$A56,'100m Manikin Tow Men'!$Z$7:$Z$46)=0,1+MAX('100m Manikin Tow Men'!$Z$7:$Z$46),SUMIF('100m Manikin Tow Men'!$C$7:$C$46,$A56,'100m Manikin Tow Men'!$Z$7:$Z$46)))","v":""},{"$f":"IF($A56=\"\",\"\",IF(SUMIF('200m Obs Men'!$C$7:$C$46,$A56,'200m Obs Men'!$Z$7:$Z$46)=0,1+MAX('200m Obs Men'!$Z$7:$Z$46),SUMIF('200m Obs Men'!$C$7:$C$46,$A56,'200m Obs Men'!$Z$7:$Z$46)))","v":""},{"$f":"IF($A56=\"\",\"\",IF(SUMIF('200m Super Men'!$C$7:$C$46,$A56,'200m Super Men'!$Z$7:$Z$46)=0,1+MAX('200m Super Men'!$Z$7:$Z$46),SUMIF('200m Super Men'!$C$7:$C$46,$A56,'200m Super Men'!$Z$7:$Z$46)))","v":""},{"$f":"IF($A56=\"\",\"\",IF(SUMIF('100 Resue Men'!$C$7:$C$46,$A56,'100 Resue Men'!$Z$7:$Z$46)=0,1+MAX('100 Resue Men'!$Z$7:$Z$46),SUMIF('100 Resue Men'!$C$7:$C$46,$A56,'100 Resue Men'!$Z$7:$Z$46)))","v":""},{"$f":"IF($A56=\"\",\"\",IF(SUMIF('Line Throw Men'!$C$7:$C$46,$A56,'Line Throw Men'!$AB$7:$AB$46)=0,1+MAX('Line Throw Men'!$AB$7:$AB$46),SUMIF('Line Throw Men'!$C$7:$C$46,$A56,'Line Throw Men'!$AB$7:$AB$46)))","v":""},{"$f":"IF($A56=\"\",\"\",IF(SUMIF('4 x 50 Obs Relay Men'!$C$7:$C$46,$A56,'4 x 50 Obs Relay Men'!$W$7:$W$46)=0,1+MAX('4 x 50 Obs Relay Men'!$W$7:$W$46),SUMIF('4 x 50 Obs Relay Men'!$C$7:$C$46,$A56,'4 x 50 Obs Relay Men'!$W$7:$W$46)))","v":""},{"$f":"IF($A56=\"\",\"\",IF(SUMIF('4 x 50 medley Relay Men'!$C$7:$C$46,$A56,'4 x 50 medley Relay Men'!$W$7:$W$46)=0,1+MAX('4 x 50 medley Relay Men'!$W$7:$W$46),SUMIF('4 x 50 medley Relay Men'!$C$7:$C$46,$A56,'4 x 50 medley Relay Men'!$W$7:$W$46)))","v":""},{"$f":"IF($A56=\"\",\"\",IF(SUMIF('4 x 25 Manikin Carry Relay Men'!$C$7:$C$46,$A56,'4 x 25 Manikin Carry Relay Men'!$W$7:$W$46)=0,1+MAX('4 x 25 Manikin Carry Relay Men'!$W$7:$W$46),SUMIF('4 x 25 Manikin Carry Relay Men'!$C$7:$C$46,$A56,'4 x 25 Manikin Carry Relay Men'!$W$7:$W$46)))","v":""},{"$f":"IF($A56=\"\",\"\",IF(SUMIF('4 x 12m Line Throw Men'!$C$7:$C$46,$A56,'4 x 12m Line Throw Men'!$W$7:$W$46)=0,1+MAX('4 x 12m Line Throw Men'!$W$7:$W$46),SUMIF('4 x 12m Line Throw Men'!$C$7:$C$46,$A56,'4 x 12m Line Throw Men'!$W$7:$W$46)))","v":""},"",""]
["","",{"$f":"IF($A57=\"\",\"\",IF(SUMIF('50m Manikin Carry Men'!$C$7:$C$46,$A57,'50m Manikin Carry Men'!$Z$7:$Z$46)=0,1+MAX('50m Manikin Carry Men'!$Z$7:$Z$46),SUMIF('50m Manikin Carry Men'!$C$7:$C$46,$A57,'50m Manikin Carry Men'!$Z$7:$Z$46)))","v":""},{"$f":"IF($A57=\"\",\"\",IF(SUMIF('100m Manikin Carry Men'!$C$7:$C$46,$A57,'100m Manikin Carry Men'!$Z$7:$Z$46)=0,1+MAX('100m Manikin Carry Men'!$Z$7:$Z$46),SUMIF('100m Manikin Carry Men'!$C$7:$C$46,$A57,'100m Manikin Carry Men'!$Z$7:$Z$46)))","v":""},{"$f":"IF($A57=\"\",\"\",IF(SUMIF('100m Manikin Tow Men'!$C$7:$C$46,$A57,'100m Manikin Tow Men'!$Z$7:$Z$46)=0,1+MAX('100m Manikin Tow Men'!$Z$7:$Z$46),SUMIF('100m Manikin Tow Men'!$C$7:$C$46,$A57,'100m Manikin Tow Men'!$Z$7:$Z$46)))","v":""},{"$f":"IF($A57=\"\",\"\",IF(SUMIF('200m Obs Men'!$C$7:$C$46,$A57,'200m Obs Men'!$Z$7:$Z$46)=0,1+MAX('200m Obs Men'!$Z$7:$Z$46),SUMIF('200m Obs Men'!$C$7:$C$46,$A57,'200m Obs Men'!$Z$7:$Z$46)))","v":""},{"$f":"IF($A57=\"\",\"\",IF(SUMIF('200m Super Men'!$C$7:$C$46,$A57,'200m Super Men'!$Z$7:$Z$46)=0,1+MAX('200m Super Men'!$Z$7:$Z$46),SUMIF('200m Super Men'!$C$7:$C$46,$A57,'200m Super Men'!$Z$7:$Z$46)))","v":""},{"$f":"IF($A57=\"\",\"\",IF(SUMIF('100 Resue Men'!$C$7:$C$46,$A57,'100 Resue Men'!$Z$7:$Z$46)=0,1+MAX('100 Resue Men'!$Z$7:$Z$46),SUMIF('100 Resue Men'!$C$7:$C$46,$A57,'100 Resue Men'!$Z$7:$Z$46)))","v":""},{"$f":"IF($A57=\"\",\"\",IF(SUMIF('Line Throw Men'!$C$7:$C$46,$A57,'Line Throw Men'!$AB$7:$AB$46)=0,1+MAX('Line Throw Men'!$AB$7:$AB$46),SUMIF('Line Throw Men'!$C$7:$C$46,$A57,'Line Throw Men'!$AB$7:$AB$46)))","v":""},{"$f":"IF($A57=\"\",\"\",IF(SUMIF('4 x 50 Obs Relay Men'!$C$7:$C$46,$A57,'4 x 50 Obs Relay Men'!$W$7:$W$46)=0,1+MAX('4 x 50 Obs Relay Men'!$W$7:$W$46),SUMIF('4 x 50 Obs Relay Men'!$C$7:$C$46,$A57,'4 x 50 Obs Relay Men'!$W$7:$W$46)))","v":""},{"$f":"IF($A57=\"\",\"\",IF(SUMIF('4 x 50 medley Relay Men'!$C$7:$C$46,$A57,'4 x 50 medley Relay Men'!$W$7:$W$46)=0,1+MAX('4 x 50 medley Relay Men'!$W$7:$W$46),SUMIF('4 x 50 medley Relay Men'!$C$7:$C$46,$A57,'4 x 50 medley Relay Men'!$W$7:$W$46)))","v":""},{"$f":"IF($A57=\"\",\"\",IF(SUMIF('4 x 25 Manikin Carry Relay Men'!$C$7:$C$46,$A57,'4 x 25 Manikin Carry Relay Men'!$W$7:$W$46)=0,1+MAX('4 x 25 Manikin Carry Relay Men'!$W$7:$W$46),SUMIF('4 x 25 Manikin Carry Relay Men'!$C$7:$C$46,$A57,'4 x 25 Manikin Carry Relay Men'!$W$7:$W$46)))","v":""},{"$f":"IF($A57=\"\",\"\",IF(SUMIF('4 x 12m Line Throw Men'!$C$7:$C$46,$A57,'4 x 12m Line Throw Men'!$W$7:$W$46)=0,1+MAX('4 x 12m Line Throw Men'!$W$7:$W$46),SUMIF('4 x 12m Line Throw Men'!$C$7:$C$46,$A57,'4 x 12m Line Throw Men'!$W$7:$W$46)))","v":""},"",""]
["","",{"$f":"IF($A58=\"\",\"\",IF(SUMIF('50m Manikin Carry Men'!$C$7:$C$46,$A58,'50m Manikin Carry Men'!$Z$7:$Z$46)=0,1+MAX('50m Manikin Carry Men'!$Z$7:$Z$46),SUMIF('50m Manikin Carry Men'!$C$7:$C$46,$A58,'50m Manikin Carry Men'!$Z$7:$Z$46)))","v":""},{"$f":"IF($A58=\"\",\"\",IF(SUMIF('100m Manikin Carry Men'!$C$7:$C$46,$A58,'100m Manikin Carry Men'!$Z$7:$Z$46)=0,1+MAX('100m Manikin Carry Men'!$Z$7:$Z$46),SUMIF('100m Manikin Carry Men'!$C$7:$C$46,$A58,'100m Manikin Carry Men'!$Z$7:$Z$46)))","v":""},{"$f":"IF($A58=\"\",\"\",IF(SUMIF('100m Manikin Tow Men'!$C$7:$C$46,$A58,'100m Manikin Tow Men'!$Z$7:$Z$46)=0,1+MAX('100m Manikin Tow Men'!$Z$7:$Z$46),SUMIF('100m Manikin Tow Men'!$C$7:$C$46,$A58,'100m Manikin Tow Men'!$Z$7:$Z$46)))","v":""},{"$f":"IF($A58=\"\",\"\",IF(SUMIF('200m Obs Men'!$C$7:$C$46,$A58,'200m Obs Men'!$Z$7:$Z$46)=0,1+MAX('200m Obs Men'!$Z$7:$Z$46),SUMIF('200m Obs Men'!$C$7:$C$46,$A58,'200m Obs Men'!$Z$7:$Z$46)))","v":""},{"$f":"IF($A58=\"\",\"\",IF(SUMIF('200m Super Men'!$C$7:$C$46,$A58,'200m Super Men'!$Z$7:$Z$46)=0,1+MAX('200m Super Men'!$Z$7:$Z$46),SUMIF('200m Super Men'!$C$7:$C$46,$A58,'200m Super Men'!$Z$7:$Z$46)))","v":""},{"$f":"IF($A58=\"\",\"\",IF(SUMIF('100 Resue Men'!$C$7:$C$46,$A58,'100 Resue Men'!$Z$7:$Z$46)=0,1+MAX('100 Resue Men'!$Z$7:$Z$46),SUMIF('100 Resue Men'!$C$7:$C$46,$A58,'100 Resue Men'!$Z$7:$Z$46)))","v":""},{"$f":"IF($A58=\"\",\"\",IF(SUMIF('Line Throw Men'!$C$7:$C$46,$A58,'Line Throw Men'!$AB$7:$AB$46)=0,1+MAX('Line Throw Men'!$AB$7:$AB$46),SUMIF('Line Throw Men'!$C$7:$C$46,$A58,'Line Throw Men'!$AB$7:$AB$46)))","v":""},{"$f":"IF($A58=\"\",\"\",IF(SUMIF('4 x 50 Obs Relay Men'!$C$7:$C$46,$A58,'4 x 50 Obs Relay Men'!$W$7:$W$46)=0,1+MAX('4 x 50 Obs Relay Men'!$W$7:$W$46),SUMIF('4 x 50 Obs Relay Men'!$C$7:$C$46,$A58,'4 x 50 Obs Relay Men'!$W$7:$W$46)))","v":""},{"$f":"IF($A58=\"\",\"\",IF(SUMIF('4 x 50 medley Relay Men'!$C$7:$C$46,$A58,'4 x 50 medley Relay Men'!$W$7:$W$46)=0,1+MAX('4 x 50 medley Relay Men'!$W$7:$W$46),SUMIF('4 x 50 medley Relay Men'!$C$7:$C$46,$A58,'4 x 50 medley Relay Men'!$W$7:$W$46)))","v":""},{"$f":"IF($A58=\"\",\"\",IF(SUMIF('4 x 25 Manikin Carry Relay Men'!$C$7:$C$46,$A58,'4 x 25 Manikin Carry Relay Men'!$W$7:$W$46)=0,1+MAX('4 x 25 Manikin Carry Relay Men'!$W$7:$W$46),SUMIF('4 x 25 Manikin Carry Relay Men'!$C$7:$C$46,$A58,'4 x 25 Manikin Carry Relay Men'!$W$7:$W$46)))","v":""},{"$f":"IF($A58=\"\",\"\",IF(SUMIF('4 x 12m Line Throw Men'!$C$7:$C$46,$A58,'4 x 12m Line Throw Men'!$W$7:$W$46)=0,1+MAX('4 x 12m Line Throw Men'!$W$7:$W$46),SUMIF('4 x 12m Line Throw Men'!$C$7:$C$46,$A58,'4 x 12m Line Throw Men'!$W$7:$W$46)))","v":""},"",""]
["","",{"$f":"IF($A59=\"\",\"\",IF(SUMIF('50m Manikin Carry Men'!$C$7:$C$46,$A59,'50m Manikin Carry Men'!$Z$7:$Z$46)=0,1+MAX('50m Manikin Carry Men'!$Z$7:$Z$46),SUMIF('50m Manikin Carry Men'!$C$7:$C$46,$A59,'50m Manikin Carry Men'!$Z$7:$Z$46)))","v":""},{"$f":"IF($A59=\"\",\"\",IF(SUMIF('100m Manikin Carry Men'!$C$7:$C$46,$A59,'100m Manikin Carry Men'!$Z$7:$Z$46)=0,1+MAX('100m Manikin Carry Men'!$Z$7:$Z$46),SUMIF('100m Manikin Carry Men'!$C$7:$C$46,$A59,'100m Manikin Carry Men'!$Z$7:$Z$46)))","v":""},{"$f":"IF($A59=\"\",\"\",IF(SUMIF('100m Manikin Tow Men'!$C$7:$C$46,$A59,'100m Manikin Tow Men'!$Z$7:$Z$46)=0,1+MAX('100m Manikin Tow Men'!$Z$7:$Z$46),SUMIF('100m Manikin Tow Men'!$C$7:$C$46,$A59,'100m Manikin Tow Men'!$Z$7:$Z$46)))","v":""},{"$f":"IF($A59=\"\",\"\",IF(SUMIF('200m Obs Men'!$C$7:$C$46,$A59,'200m Obs Men'!$Z$7:$Z$46)=0,1+MAX('200m Obs Men'!$Z$7:$Z$46),SUMIF('200m Obs Men'!$C$7:$C$46,$A59,'200m Obs Men'!$Z$7:$Z$46)))","v":""},{"$f":"IF($A59=\"\",\"\",IF(SUMIF('200m Super Men'!$C$7:$C$46,$A59,'200m Super Men'!$Z$7:$Z$46)=0,1+MAX('200m Super Men'!$Z$7:$Z$46),SUMIF('200m Super Men'!$C$7:$C$46,$A59,'200m Super Men'!$Z$7:$Z$46)))","v":""},{"$f":"IF($A59=\"\",\"\",IF(SUMIF('100 Resue Men'!$C$7:$C$46,$A59,'100 Resue Men'!$Z$7:$Z$46)=0,1+MAX('100 Resue Men'!$Z$7:$Z$46),SUMIF('100 Resue Men'!$C$7:$C$46,$A59,'100 Resue Men'!$Z$7:$Z$46)))","v":""},{"$f":"IF($A59=\"\",\"\",IF(SUMIF('Line Throw Men'!$C$7:$C$46,$A59,'Line Throw Men'!$AB$7:$AB$46)=0,1+MAX('Line Throw Men'!$AB$7:$AB$46),SUMIF('Line Throw Men'!$C$7:$C$46,$A59,'Line Throw Men'!$AB$7:$AB$46)))","v":""},{"$f":"IF($A59=\"\",\"\",IF(SUMIF('4 x 50 Obs Relay Men'!$C$7:$C$46,$A59,'4 x 50 Obs Relay Men'!$W$7:$W$46)=0,1+MAX('4 x 50 Obs Relay Men'!$W$7:$W$46),SUMIF('4 x 50 Obs Relay Men'!$C$7:$C$46,$A59,'4 x 50 Obs Relay Men'!$W$7:$W$46)))","v":""},{"$f":"IF($A59=\"\",\"\",IF(SUMIF('4 x 50 medley Relay Men'!$C$7:$C$46,$A59,'4 x 50 medley Relay Men'!$W$7:$W$46)=0,1+MAX('4 x 50 medley Relay Men'!$W$7:$W$46),SUMIF('4 x 50 medley Relay Men'!$C$7:$C$46,$A59,'4 x 50 medley Relay Men'!$W$7:$W$46)))","v":""},{"$f":"IF($A59=\"\",\"\",IF(SUMIF('4 x 25 Manikin Carry Relay Men'!$C$7:$C$46,$A59,'4 x 25 Manikin Carry Relay Men'!$W$7:$W$46)=0,1+MAX('4 x 25 Manikin Carry Relay Men'!$W$7:$W$46),SUMIF('4 x 25 Manikin Carry Relay Men'!$C$7:$C$46,$A59,'4 x 25 Manikin Carry Relay Men'!$W$7:$W$46)))","v":""},{"$f":"IF($A59=\"\",\"\",IF(SUMIF('4 x 12m Line Throw Men'!$C$7:$C$46,$A59,'4 x 12m Line Throw Men'!$W$7:$W$46)=0,1+MAX('4 x 12m Line Throw Men'!$W$7:$W$46),SUMIF('4 x 12m Line Throw Men'!$C$7:$C$46,$A59,'4 x 12m Line Throw Men'!$W$7:$W$46)))","v":""},"",""]
["","",{"$f":"IF($A60=\"\",\"\",IF(SUMIF('50m Manikin Carry Men'!$C$7:$C$46,$A60,'50m Manikin Carry Men'!$Z$7:$Z$46)=0,1+MAX('50m Manikin Carry Men'!$Z$7:$Z$46),SUMIF('50m Manikin Carry Men'!$C$7:$C$46,$A60,'50m Manikin Carry Men'!$Z$7:$Z$46)))","v":""},{"$f":"IF($A60=\"\",\"\",IF(SUMIF('100m Manikin Carry Men'!$C$7:$C$46,$A60,'100m Manikin Carry Men'!$Z$7:$Z$46)=0,1+MAX('100m Manikin Carry Men'!$Z$7:$Z$46),SUMIF('100m Manikin Carry Men'!$C$7:$C$46,$A60,'100m Manikin Carry Men'!$Z$7:$Z$46)))","v":""},{"$f":"IF($A60=\"\",\"\",IF(SUMIF('100m Manikin Tow Men'!$C$7:$C$46,$A60,'100m Manikin Tow Men'!$Z$7:$Z$46)=0,1+MAX('100m Manikin Tow Men'!$Z$7:$Z$46),SUMIF('100m Manikin Tow Men'!$C$7:$C$46,$A60,'100m Manikin Tow Men'!$Z$7:$Z$46)))","v":""},{"$f":"IF($A60=\"\",\"\",IF(SUMIF('200m Obs Men'!$C$7:$C$46,$A60,'200m Obs Men'!$Z$7:$Z$46)=0,1+MAX('200m Obs Men'!$Z$7:$Z$46),SUMIF('200m Obs Men'!$C$7:$C$46,$A60,'200m Obs Men'!$Z$7:$Z$46)))","v":""},{"$f":"IF($A60=\"\",\"\",IF(SUMIF('200m Super Men'!$C$7:$C$46,$A60,'200m Super Men'!$Z$7:$Z$46)=0,1+MAX('200m Super Men'!$Z$7:$Z$46),SUMIF('200m Super Men'!$C$7:$C$46,$A60,'200m Super Men'!$Z$7:$Z$46)))","v":""},{"$f":"IF($A60=\"\",\"\",IF(SUMIF('100 Resue Men'!$C$7:$C$46,$A60,'100 Resue Men'!$Z$7:$Z$46)=0,1+MAX('100 Resue Men'!$Z$7:$Z$46),SUMIF('100 Resue Men'!$C$7:$C$46,$A60,'100 Resue Men'!$Z$7:$Z$46)))","v":""},{"$f":"IF($A60=\"\",\"\",IF(SUMIF('Line Throw Men'!$C$7:$C$46,$A60,'Line Throw Men'!$AB$7:$AB$46)=0,1+MAX('Line Throw Men'!$AB$7:$AB$46),SUMIF('Line Throw Men'!$C$7:$C$46,$A60,'Line Throw Men'!$AB$7:$AB$46)))","v":""},{"$f":"IF($A60=\"\",\"\",IF(SUMIF('4 x 50 Obs Relay Men'!$C$7:$C$46,$A60,'4 x 50 Obs Relay Men'!$W$7:$W$46)=0,1+MAX('4 x 50 Obs Relay Men'!$W$7:$W$46),SUMIF('4 x 50 Obs Relay Men'!$C$7:$C$46,$A60,'4 x 50 Obs Relay Men'!$W$7:$W$46)))","v":""},{"$f":"IF($A60=\"\",\"\",IF(SUMIF('4 x 50 medley Relay Men'!$C$7:$C$46,$A60,'4 x 50 medley Relay Men'!$W$7:$W$46)=0,1+MAX('4 x 50 medley Relay Men'!$W$7:$W$46),SUMIF('4 x 50 medley Relay Men'!$C$7:$C$46,$A60,'4 x 50 medley Relay Men'!$W$7:$W$46)))","v":""},{"$f":"IF($A60=\"\",\"\",IF(SUMIF('4 x 25 Manikin Carry Relay Men'!$C$7:$C$46,$A60,'4 x 25 Manikin Carry Relay Men'!$W$7:$W$46)=0,1+MAX('4 x 25 Manikin Carry Relay Men'!$W$7:$W$46),SUMIF('4 x 25 Manikin Carry Relay Men'!$C$7:$C$46,$A60,'4 x 25 Manikin Carry Relay Men'!$W$7:$W$46)))","v":""},{"$f":"IF($A60=\"\",\"\",IF(SUMIF('4 x 12m Line Throw Men'!$C$7:$C$46,$A60,'4 x 12m Line Throw Men'!$W$7:$W$46)=0,1+MAX('4 x 12m Line Throw Men'!$W$7:$W$46),SUMIF('4 x 12m Line Throw Men'!$C$7:$C$46,$A60,'4 x 12m Line Throw Men'!$W$7:$W$46)))","v":""},"",""]
["","",{"$f":"IF($A61=\"\",\"\",IF(SUMIF('50m Manikin Carry Men'!$C$7:$C$46,$A61,'50m Manikin Carry Men'!$Z$7:$Z$46)=0,1+MAX('50m Manikin Carry Men'!$Z$7:$Z$46),SUMIF('50m Manikin Carry Men'!$C$7:$C$46,$A61,'50m Manikin Carry Men'!$Z$7:$Z$46)))","v":""},{"$f":"IF($A61=\"\",\"\",IF(SUMIF('100m Manikin Carry Men'!$C$7:$C$46,$A61,'100m Manikin Carry Men'!$Z$7:$Z$46)=0,1+MAX('100m Manikin Carry Men'!$Z$7:$Z$46),SUMIF('100m Manikin Carry Men'!$C$7:$C$46,$A61,'100m Manikin Carry Men'!$Z$7:$Z$46)))","v":""},{"$f":"IF($A61=\"\",\"\",IF(SUMIF('100m Manikin Tow Men'!$C$7:$C$46,$A61,'100m Manikin Tow Men'!$Z$7:$Z$46)=0,1+MAX('100m Manikin Tow Men'!$Z$7:$Z$46),SUMIF('100m Manikin Tow Men'!$C$7:$C$46,$A61,'100m Manikin Tow Men'!$Z$7:$Z$46)))","v":""},{"$f":"IF($A61=\"\",\"\",IF(SUMIF('200m Obs Men'!$C$7:$C$46,$A61,'200m Obs Men'!$Z$7:$Z$46)=0,1+MAX('200m Obs Men'!$Z$7:$Z$46),SUMIF('200m Obs Men'!$C$7:$C$46,$A61,'200m Obs Men'!$Z$7:$Z$46)))","v":""},{"$f":"IF($A61=\"\",\"\",IF(SUMIF('200m Super Men'!$C$7:$C$46,$A61,'200m Super Men'!$Z$7:$Z$46)=0,1+MAX('200m Super Men'!$Z$7:$Z$46),SUMIF('200m Super Men'!$C$7:$C$46,$A61,'200m Super Men'!$Z$7:$Z$46)))","v":""},{"$f":"IF($A61=\"\",\"\",IF(SUMIF('100 Resue Men'!$C$7:$C$46,$A61,'100 Resue Men'!$Z$7:$Z$46)=0,1+MAX('100 Resue Men'!$Z$7:$Z$46),SUMIF('100 Resue Men'!$C$7:$C$46,$A61,'100 Resue Men'!$Z$7:$Z$46)))","v":""},{"$f":"IF($A61=\"\",\"\",IF(SUMIF('Line Throw Men'!$C$7:$C$46,$A61,'Line Throw Men'!$AB$7:$AB$46)=0,1+MAX('Line Throw Men'!$AB$7:$AB$46),SUMIF('Line Throw Men'!$C$7:$C$46,$A61,'Line Throw Men'!$AB$7:$AB$46)))","v":""},{"$f":"IF($A61=\"\",\"\",IF(SUMIF('4 x 50 Obs Relay Men'!$C$7:$C$46,$A61,'4 x 50 Obs Relay Men'!$W$7:$W$46)=0,1+MAX('4 x 50 Obs Relay Men'!$W$7:$W$46),SUMIF('4 x 50 Obs Relay Men'!$C$7:$C$46,$A61,'4 x 50 Obs Relay Men'!$W$7:$W$46)))","v":""},{"$f":"IF($A61=\"\",\"\",IF(SUMIF('4 x 50 medley Relay Men'!$C$7:$C$46,$A61,'4 x 50 medley Relay Men'!$W$7:$W$46)=0,1+MAX('4 x 50 medley Relay Men'!$W$7:$W$46),SUMIF('4 x 50 medley Relay Men'!$C$7:$C$46,$A61,'4 x 50 medley Relay Men'!$W$7:$W$46)))","v":""},{"$f":"IF($A61=\"\",\"\",IF(SUMIF('4 x 25 Manikin Carry Relay Men'!$C$7:$C$46,$A61,'4 x 25 Manikin Carry Relay Men'!$W$7:$W$46)=0,1+MAX('4 x 25 Manikin Carry Relay Men'!$W$7:$W$46),SUMIF('4 x 25 Manikin Carry Relay Men'!$C$7:$C$46,$A61,'4 x 25 Manikin Carry Relay Men'!$W$7:$W$46)))","v":""},{"$f":"IF($A61=\"\",\"\",IF(SUMIF('4 x 12m Line Throw Men'!$C$7:$C$46,$A61,'4 x 12m Line Throw Men'!$W$7:$W$46)=0,1+MAX('4 x 12m Line Throw Men'!$W$7:$W$46),SUMIF('4 x 12m Line Throw Men'!$C$7:$C$46,$A61,'4 x 12m Line Throw Men'!$W$7:$W$46)))","v":""},"",""]
["","",{"$f":"IF($A62=\"\",\"\",IF(SUMIF('50m Manikin Carry Men'!$C$7:$C$46,$A62,'50m Manikin Carry Men'!$Z$7:$Z$46)=0,1+MAX('50m Manikin Carry Men'!$Z$7:$Z$46),SUMIF('50m Manikin Carry Men'!$C$7:$C$46,$A62,'50m Manikin Carry Men'!$Z$7:$Z$46)))","v":""},{"$f":"IF($A62=\"\",\"\",IF(SUMIF('100m Manikin Carry Men'!$C$7:$C$46,$A62,'100m Manikin Carry Men'!$Z$7:$Z$46)=0,1+MAX('100m Manikin Carry Men'!$Z$7:$Z$46),SUMIF('100m Manikin Carry Men'!$C$7:$C$46,$A62,'100m Manikin Carry Men'!$Z$7:$Z$46)))","v":""},{"$f":"IF($A62=\"\",\"\",IF(SUMIF('100m Manikin Tow Men'!$C$7:$C$46,$A62,'100m Manikin Tow Men'!$Z$7:$Z$46)=0,1+MAX('100m Manikin Tow Men'!$Z$7:$Z$46),SUMIF('100m Manikin Tow Men'!$C$7:$C$46,$A62,'100m Manikin Tow Men'!$Z$7:$Z$46)))","v":""},{"$f":"IF($A62=\"\",\"\",IF(SUMIF('200m Obs Men'!$C$7:$C$46,$A62,'200m Obs Men'!$Z$7:$Z$46)=0,1+MAX('200m Obs Men'!$Z$7:$Z$46),SUMIF('200m Obs Men'!$C$7:$C$46,$A62,'200m Obs Men'!$Z$7:$Z$46)))","v":""},{"$f":"IF($A62=\"\",\"\",IF(SUMIF('200m Super Men'!$C$7:$C$46,$A62,'200m Super Men'!$Z$7:$Z$46)=0,1+MAX('200m Super Men'!$Z$7:$Z$46),SUMIF('200m Super Men'!$C$7:$C$46,$A62,'200m Super Men'!$Z$7:$Z$46)))","v":""},{"$f":"IF($A62=\"\",\"\",IF(SUMIF('100 Resue Men'!$C$7:$C$46,$A62,'100 Resue Men'!$Z$7:$Z$46)=0,1+MAX('100 Resue Men'!$Z$7:$Z$46),SUMIF('100 Resue Men'!$C$7:$C$46,$A62,'100 Resue Men'!$Z$7:$Z$46)))","v":""},{"$f":"IF($A62=\"\",\"\",IF(SUMIF('Line Throw Men'!$C$7:$C$46,$A62,'Line Throw Men'!$AB$7:$AB$46)=0,1+MAX('Line Throw Men'!$AB$7:$AB$46),SUMIF('Line Throw Men'!$C$7:$C$46,$A62,'Line Throw Men'!$AB$7:$AB$46)))","v":""},{"$f":"IF($A62=\"\",\"\",IF(SUMIF('4 x 50 Obs Relay Men'!$C$7:$C$46,$A62,'4 x 50 Obs Relay Men'!$W$7:$W$46)=0,1+MAX('4 x 50 Obs Relay Men'!$W$7:$W$46),SUMIF('4 x 50 Obs Relay Men'!$C$7:$C$46,$A62,'4 x 50 Obs Relay Men'!$W$7:$W$46)))","v":""},{"$f":"IF($A62=\"\",\"\",IF(SUMIF('4 x 50 medley Relay Men'!$C$7:$C$46,$A62,'4 x 50 medley Relay Men'!$W$7:$W$46)=0,1+MAX('4 x 50 medley Relay Men'!$W$7:$W$46),SUMIF('4 x 50 medley Relay Men'!$C$7:$C$46,$A62,'4 x 50 medley Relay Men'!$W$7:$W$46)))","v":""},{"$f":"IF($A62=\"\",\"\",IF(SUMIF('4 x 25 Manikin Carry Relay Men'!$C$7:$C$46,$A62,'4 x 25 Manikin Carry Relay Men'!$W$7:$W$46)=0,1+MAX('4 x 25 Manikin Carry Relay Men'!$W$7:$W$46),SUMIF('4 x 25 Manikin Carry Relay Men'!$C$7:$C$46,$A62,'4 x 25 Manikin Carry Relay Men'!$W$7:$W$46)))","v":""},{"$f":"IF($A62=\"\",\"\",IF(SUMIF('4 x 12m Line Throw Men'!$C$7:$C$46,$A62,'4 x 12m Line Throw Men'!$W$7:$W$46)=0,1+MAX('4 x 12m Line Throw Men'!$W$7:$W$46),SUMIF('4 x 12m Line Throw Men'!$C$7:$C$46,$A62,'4 x 12m Line Throw Men'!$W$7:$W$46)))","v":""},"",""]
["","",{"$f":"IF($A63=\"\",\"\",IF(SUMIF('50m Manikin Carry Men'!$C$7:$C$46,$A63,'50m Manikin Carry Men'!$Z$7:$Z$46)=0,1+MAX('50m Manikin Carry Men'!$Z$7:$Z$46),SUMIF('50m Manikin Carry Men'!$C$7:$C$46,$A63,'50m Manikin Carry Men'!$Z$7:$Z$46)))","v":""},{"$f":"IF($A63=\"\",\"\",IF(SUMIF('100m Manikin Carry Men'!$C$7:$C$46,$A63,'100m Manikin Carry Men'!$Z$7:$Z$46)=0,1+MAX('100m Manikin Carry Men'!$Z$7:$Z$46),SUMIF('100m Manikin Carry Men'!$C$7:$C$46,$A63,'100m Manikin Carry Men'!$Z$7:$Z$46)))","v":""},{"$f":"IF($A63=\"\",\"\",IF(SUMIF('100m Manikin Tow Men'!$C$7:$C$46,$A63,'100m Manikin Tow Men'!$Z$7:$Z$46)=0,1+MAX('100m Manikin Tow Men'!$Z$7:$Z$46),SUMIF('100m Manikin Tow Men'!$C$7:$C$46,$A63,'100m Manikin Tow Men'!$Z$7:$Z$46)))","v":""},{"$f":"IF($A63=\"\",\"\",IF(SUMIF('200m Obs Men'!$C$7:$C$46,$A63,'200m Obs Men'!$Z$7:$Z$46)=0,1+MAX('200m Obs Men'!$Z$7:$Z$46),SUMIF('200m Obs Men'!$C$7:$C$46,$A63,'200m Obs Men'!$Z$7:$Z$46)))","v":""},{"$f":"IF($A63=\"\",\"\",IF(SUMIF('200m Super Men'!$C$7:$C$46,$A63,'200m Super Men'!$Z$7:$Z$46)=0,1+MAX('200m Super Men'!$Z$7:$Z$46),SUMIF('200m Super Men'!$C$7:$C$46,$A63,'200m Super Men'!$Z$7:$Z$46)))","v":""},{"$f":"IF($A63=\"\",\"\",IF(SUMIF('100 Resue Men'!$C$7:$C$46,$A63,'100 Resue Men'!$Z$7:$Z$46)=0,1+MAX('100 Resue Men'!$Z$7:$Z$46),SUMIF('100 Resue Men'!$C$7:$C$46,$A63,'100 Resue Men'!$Z$7:$Z$46)))","v":""},{"$f":"IF($A63=\"\",\"\",IF(SUMIF('Line Throw Men'!$C$7:$C$46,$A63,'Line Throw Men'!$AB$7:$AB$46)=0,1+MAX('Line Throw Men'!$AB$7:$AB$46),SUMIF('Line Throw Men'!$C$7:$C$46,$A63,'Line Throw Men'!$AB$7:$AB$46)))","v":""},{"$f":"IF($A63=\"\",\"\",IF(SUMIF('4 x 50 Obs Relay Men'!$C$7:$C$46,$A63,'4 x 50 Obs Relay Men'!$W$7:$W$46)=0,1+MAX('4 x 50 Obs Relay Men'!$W$7:$W$46),SUMIF('4 x 50 Obs Relay Men'!$C$7:$C$46,$A63,'4 x 50 Obs Relay Men'!$W$7:$W$46)))","v":""},{"$f":"IF($A63=\"\",\"\",IF(SUMIF('4 x 50 medley Relay Men'!$C$7:$C$46,$A63,'4 x 50 medley Relay Men'!$W$7:$W$46)=0,1+MAX('4 x 50 medley Relay Men'!$W$7:$W$46),SUMIF('4 x 50 medley Relay Men'!$C$7:$C$46,$A63,'4 x 50 medley Relay Men'!$W$7:$W$46)))","v":""},{"$f":"IF($A63=\"\",\"\",IF(SUMIF('4 x 25 Manikin Carry Relay Men'!$C$7:$C$46,$A63,'4 x 25 Manikin Carry Relay Men'!$W$7:$W$46)=0,1+MAX('4 x 25 Manikin Carry Relay Men'!$W$7:$W$46),SUMIF('4 x 25 Manikin Carry Relay Men'!$C$7:$C$46,$A63,'4 x 25 Manikin Carry Relay Men'!$W$7:$W$46)))","v":""},{"$f":"IF($A63=\"\",\"\",IF(SUMIF('4 x 12m Line Throw Men'!$C$7:$C$46,$A63,'4 x 12m Line Throw Men'!$W$7:$W$46)=0,1+MAX('4 x 12m Line Throw Men'!$W$7:$W$46),SUMIF('4 x 12m Line Throw Men'!$C$7:$C$46,$A63,'4 x 12m Line Throw Men'!$W$7:$W$46)))","v":""},"",""]
["","",{"$f":"IF($A64=\"\",\"\",IF(SUMIF('50m Manikin Carry Men'!$C$7:$C$46,$A64,'50m Manikin Carry Men'!$Z$7:$Z$46)=0,1+MAX('50m Manikin Carry Men'!$Z$7:$Z$46),SUMIF('50m Manikin Carry Men'!$C$7:$C$46,$A64,'50m Manikin Carry Men'!$Z$7:$Z$46)))","v":""},{"$f":"IF($A64=\"\",\"\",IF(SUMIF('100m Manikin Carry Men'!$C$7:$C$46,$A64,'100m Manikin Carry Men'!$Z$7:$Z$46)=0,1+MAX('100m Manikin Carry Men'!$Z$7:$Z$46),SUMIF('100m Manikin Carry Men'!$C$7:$C$46,$A64,'100m Manikin Carry Men'!$Z$7:$Z$46)))","v":""},{"$f":"IF($A64=\"\",\"\",IF(SUMIF('100m Manikin Tow Men'!$C$7:$C$46,$A64,'100m Manikin Tow Men'!$Z$7:$Z$46)=0,1+MAX('100m Manikin Tow Men'!$Z$7:$Z$46),SUMIF('100m Manikin Tow Men'!$C$7:$C$46,$A64,'100m Manikin Tow Men'!$Z$7:$Z$46)))","v":""},{"$f":"IF($A64=\"\",\"\",IF(SUMIF('200m Obs Men'!$C$7:$C$46,$A64,'200m Obs Men'!$Z$7:$Z$46)=0,1+MAX('200m Obs Men'!$Z$7:$Z$46),SUMIF('200m Obs Men'!$C$7:$C$46,$A64,'200m Obs Men'!$Z$7:$Z$46)))","v":""},{"$f":"IF($A64=\"\",\"\",IF(SUMIF('200m Super Men'!$C$7:$C$46,$A64,'200m Super Men'!$Z$7:$Z$46)=0,1+MAX('200m Super Men'!$Z$7:$Z$46),SUMIF('200m Super Men'!$C$7:$C$46,$A64,'200m Super Men'!$Z$7:$Z$46)))","v":""},{"$f":"IF($A64=\"\",\"\",IF(SUMIF('100 Resue Men'!$C$7:$C$46,$A64,'100 Resue Men'!$Z$7:$Z$46)=0,1+MAX('100 Resue Men'!$Z$7:$Z$46),SUMIF('100 Resue Men'!$C$7:$C$46,$A64,'100 Resue Men'!$Z$7:$Z$46)))","v":""},{"$f":"IF($A64=\"\",\"\",IF(SUMIF('Line Throw Men'!$C$7:$C$46,$A64,'Line Throw Men'!$AB$7:$AB$46)=0,1+MAX('Line Throw Men'!$AB$7:$AB$46),SUMIF('Line Throw Men'!$C$7:$C$46,$A64,'Line Throw Men'!$AB$7:$AB$46)))","v":""},{"$f":"IF($A64=\"\",\"\",IF(SUMIF('4 x 50 Obs Relay Men'!$C$7:$C$46,$A64,'4 x 50 Obs Relay Men'!$W$7:$W$46)=0,1+MAX('4 x 50 Obs Relay Men'!$W$7:$W$46),SUMIF('4 x 50 Obs Relay Men'!$C$7:$C$46,$A64,'4 x 50 Obs Relay Men'!$W$7:$W$46)))","v":""},{"$f":"IF($A64=\"\",\"\",IF(SUMIF('4 x 50 medley Relay Men'!$C$7:$C$46,$A64,'4 x 50 medley Relay Men'!$W$7:$W$46)=0,1+MAX('4 x 50 medley Relay Men'!$W$7:$W$46),SUMIF('4 x 50 medley Relay Men'!$C$7:$C$46,$A64,'4 x 50 medley Relay Men'!$W$7:$W$46)))","v":""},{"$f":"IF($A64=\"\",\"\",IF(SUMIF('4 x 25 Manikin Carry Relay Men'!$C$7:$C$46,$A64,'4 x 25 Manikin Carry Relay Men'!$W$7:$W$46)=0,1+MAX('4 x 25 Manikin Carry Relay Men'!$W$7:$W$46),SUMIF('4 x 25 Manikin Carry Relay Men'!$C$7:$C$46,$A64,'4 x 25 Manikin Carry Relay Men'!$W$7:$W$46)))","v":""},{"$f":"IF($A64=\"\",\"\",IF(SUMIF('4 x 12m Line Throw Men'!$C$7:$C$46,$A64,'4 x 12m Line Throw Men'!$W$7:$W$46)=0,1+MAX('4 x 12m Line Throw Men'!$W$7:$W$46),SUMIF('4 x 12m Line Throw Men'!$C$7:$C$46,$A64,'4 x 12m Line Throw Men'!$W$7:$W$46)))","v":""},"",""]
["","",{"$f":"IF($A65=\"\",\"\",IF(SUMIF('50m Manikin Carry Men'!$C$7:$C$46,$A65,'50m Manikin Carry Men'!$Z$7:$Z$46)=0,1+MAX('50m Manikin Carry Men'!$Z$7:$Z$46),SUMIF('50m Manikin Carry Men'!$C$7:$C$46,$A65,'50m Manikin Carry Men'!$Z$7:$Z$46)))","v":""},{"$f":"IF($A65=\"\",\"\",IF(SUMIF('100m Manikin Carry Men'!$C$7:$C$46,$A65,'100m Manikin Carry Men'!$Z$7:$Z$46)=0,1+MAX('100m Manikin Carry Men'!$Z$7:$Z$46),SUMIF('100m Manikin Carry Men'!$C$7:$C$46,$A65,'100m Manikin Carry Men'!$Z$7:$Z$46)))","v":""},{"$f":"IF($A65=\"\",\"\",IF(SUMIF('100m Manikin Tow Men'!$C$7:$C$46,$A65,'100m Manikin Tow Men'!$Z$7:$Z$46)=0,1+MAX('100m Manikin Tow Men'!$Z$7:$Z$46),SUMIF('100m Manikin Tow Men'!$C$7:$C$46,$A65,'100m Manikin Tow Men'!$Z$7:$Z$46)))","v":""},{"$f":"IF($A65=\"\",\"\",IF(SUMIF('200m Obs Men'!$C$7:$C$46,$A65,'200m Obs Men'!$Z$7:$Z$46)=0,1+MAX('200m Obs Men'!$Z$7:$Z$46),SUMIF('200m Obs Men'!$C$7:$C$46,$A65,'200m Obs Men'!$Z$7:$Z$46)))","v":""},{"$f":"IF($A65=\"\",\"\",IF(SUMIF('200m Super Men'!$C$7:$C$46,$A65,'200m Super Men'!$Z$7:$Z$46)=0,1+MAX('200m Super Men'!$Z$7:$Z$46),SUMIF('200m Super Men'!$C$7:$C$46,$A65,'200m Super Men'!$Z$7:$Z$46)))","v":""},{"$f":"IF($A65=\"\",\"\",IF(SUMIF('100 Resue Men'!$C$7:$C$46,$A65,'100 Resue Men'!$Z$7:$Z$46)=0,1+MAX('100 Resue Men'!$Z$7:$Z$46),SUMIF('100 Resue Men'!$C$7:$C$46,$A65,'100 Resue Men'!$Z$7:$Z$46)))","v":""},{"$f":"IF($A65=\"\",\"\",IF(SUMIF('Line Throw Men'!$C$7:$C$46,$A65,'Line Throw Men'!$AB$7:$AB$46)=0,1+MAX('Line Throw Men'!$AB$7:$AB$46),SUMIF('Line Throw Men'!$C$7:$C$46,$A65,'Line Throw Men'!$AB$7:$AB$46)))","v":""},{"$f":"IF($A65=\"\",\"\",IF(SUMIF('4 x 50 Obs Relay Men'!$C$7:$C$46,$A65,'4 x 50 Obs Relay Men'!$W$7:$W$46)=0,1+MAX('4 x 50 Obs Relay Men'!$W$7:$W$46),SUMIF('4 x 50 Obs Relay Men'!$C$7:$C$46,$A65,'4 x 50 Obs Relay Men'!$W$7:$W$46)))","v":""},{"$f":"IF($A65=\"\",\"\",IF(SUMIF('4 x 50 medley Relay Men'!$C$7:$C$46,$A65,'4 x 50 medley Relay Men'!$W$7:$W$46)=0,1+MAX('4 x 50 medley Relay Men'!$W$7:$W$46),SUMIF('4 x 50 medley Relay Men'!$C$7:$C$46,$A65,'4 x 50 medley Relay Men'!$W$7:$W$46)))","v":""},{"$f":"IF($A65=\"\",\"\",IF(SUMIF('4 x 25 Manikin Carry Relay Men'!$C$7:$C$46,$A65,'4 x 25 Manikin Carry Relay Men'!$W$7:$W$46)=0,1+MAX('4 x 25 Manikin Carry Relay Men'!$W$7:$W$46),SUMIF('4 x 25 Manikin Carry Relay Men'!$C$7:$C$46,$A65,'4 x 25 Manikin Carry Relay Men'!$W$7:$W$46)))","v":""},{"$f":"IF($A65=\"\",\"\",IF(SUMIF('4 x 12m Line Throw Men'!$C$7:$C$46,$A65,'4 x 12m Line Throw Men'!$W$7:$W$46)=0,1+MAX('4 x 12m Line Throw Men'!$W$7:$W$46),SUMIF('4 x 12m Line Throw Men'!$C$7:$C$46,$A65,'4 x 12m Line Throw Men'!$W$7:$W$46)))","v":""},"",""]
["","",{"$f":"IF($A66=\"\",\"\",IF(SUMIF('50m Manikin Carry Men'!$C$7:$C$46,$A66,'50m Manikin Carry Men'!$Z$7:$Z$46)=0,1+MAX('50m Manikin Carry Men'!$Z$7:$Z$46),SUMIF('50m Manikin Carry Men'!$C$7:$C$46,$A66,'50m Manikin Carry Men'!$Z$7:$Z$46)))","v":""},{"$f":"IF($A66=\"\",\"\",IF(SUMIF('100m Manikin Carry Men'!$C$7:$C$46,$A66,'100m Manikin Carry Men'!$Z$7:$Z$46)=0,1+MAX('100m Manikin Carry Men'!$Z$7:$Z$46),SUMIF('100m Manikin Carry Men'!$C$7:$C$46,$A66,'100m Manikin Carry Men'!$Z$7:$Z$46)))","v":""},{"$f":"IF($A66=\"\",\"\",IF(SUMIF('100m Manikin Tow Men'!$C$7:$C$46,$A66,'100m Manikin Tow Men'!$Z$7:$Z$46)=0,1+MAX('100m Manikin Tow Men'!$Z$7:$Z$46),SUMIF('100m Manikin Tow Men'!$C$7:$C$46,$A66,'100m Manikin Tow Men'!$Z$7:$Z$46)))","v":""},{"$f":"IF($A66=\"\",\"\",IF(SUMIF('200m Obs Men'!$C$7:$C$46,$A66,'200m Obs Men'!$Z$7:$Z$46)=0,1+MAX('200m Obs Men'!$Z$7:$Z$46),SUMIF('200m Obs Men'!$C$7:$C$46,$A66,'200m Obs Men'!$Z$7:$Z$46)))","v":""},{"$f":"IF($A66=\"\",\"\",IF(SUMIF('200m Super Men'!$C$7:$C$46,$A66,'200m Super Men'!$Z$7:$Z$46)=0,1+MAX('200m Super Men'!$Z$7:$Z$46),SUMIF('200m Super Men'!$C$7:$C$46,$A66,'200m Super Men'!$Z$7:$Z$46)))","v":""},{"$f":"IF($A66=\"\",\"\",IF(SUMIF('100 Resue Men'!$C$7:$C$46,$A66,'100 Resue Men'!$Z$7:$Z$46)=0,1+MAX('100 Resue Men'!$Z$7:$Z$46),SUMIF('100 Resue Men'!$C$7:$C$46,$A66,'100 Resue Men'!$Z$7:$Z$46)))","v":""},{"$f":"IF($A66=\"\",\"\",IF(SUMIF('Line Throw Men'!$C$7:$C$46,$A66,'Line Throw Men'!$AB$7:$AB$46)=0,1+MAX('Line Throw Men'!$AB$7:$AB$46),SUMIF('Line Throw Men'!$C$7:$C$46,$A66,'Line Throw Men'!$AB$7:$AB$46)))","v":""},{"$f":"IF($A66=\"\",\"\",IF(SUMIF('4 x 50 Obs Relay Men'!$C$7:$C$46,$A66,'4 x 50 Obs Relay Men'!$W$7:$W$46)=0,1+MAX('4 x 50 Obs Relay Men'!$W$7:$W$46),SUMIF('4 x 50 Obs Relay Men'!$C$7:$C$46,$A66,'4 x 50 Obs Relay Men'!$W$7:$W$46)))","v":""},{"$f":"IF($A66=\"\",\"\",IF(SUMIF('4 x 50 medley Relay Men'!$C$7:$C$46,$A66,'4 x 50 medley Relay Men'!$W$7:$W$46)=0,1+MAX('4 x 50 medley Relay Men'!$W$7:$W$46),SUMIF('4 x 50 medley Relay Men'!$C$7:$C$46,$A66,'4 x 50 medley Relay Men'!$W$7:$W$46)))","v":""},{"$f":"IF($A66=\"\",\"\",IF(SUMIF('4 x 25 Manikin Carry Relay Men'!$C$7:$C$46,$A66,'4 x 25 Manikin Carry Relay Men'!$W$7:$W$46)=0,1+MAX('4 x 25 Manikin Carry Relay Men'!$W$7:$W$46),SUMIF('4 x 25 Manikin Carry Relay Men'!$C$7:$C$46,$A66,'4 x 25 Manikin Carry Relay Men'!$W$7:$W$46)))","v":""},{"$f":"IF($A66=\"\",\"\",IF(SUMIF('4 x 12m Line Throw Men'!$C$7:$C$46,$A66,'4 x 12m Line Throw Men'!$W$7:$W$46)=0,1+MAX('4 x 12m Line Throw Men'!$W$7:$W$46),SUMIF('4 x 12m Line Throw Men'!$C$7:$C$46,$A66,'4 x 12m Line Throw Men'!$W$7:$W$46)))","v":""},"",""]
["","",{"$f":"IF($A67=\"\",\"\",IF(SUMIF('50m Manikin Carry Men'!$C$7:$C$46,$A67,'50m Manikin Carry Men'!$Z$7:$Z$46)=0,1+MAX('50m Manikin Carry Men'!$Z$7:$Z$46),SUMIF('50m Manikin Carry Men'!$C$7:$C$46,$A67,'50m Manikin Carry Men'!$Z$7:$Z$46)))","v":""},{"$f":"IF($A67=\"\",\"\",IF(SUMIF('100m Manikin Carry Men'!$C$7:$C$46,$A67,'100m Manikin Carry Men'!$Z$7:$Z$46)=0,1+MAX('100m Manikin Carry Men'!$Z$7:$Z$46),SUMIF('100m Manikin Carry Men'!$C$7:$C$46,$A67,'100m Manikin Carry Men'!$Z$7:$Z$46)))","v":""},{"$f":"IF($A67=\"\",\"\",IF(SUMIF('100m Manikin Tow Men'!$C$7:$C$46,$A67,'100m Manikin Tow Men'!$Z$7:$Z$46)=0,1+MAX('100m Manikin Tow Men'!$Z$7:$Z$46),SUMIF('100m Manikin Tow Men'!$C$7:$C$46,$A67,'100m Manikin Tow Men'!$Z$7:$Z$46)))","v":""},{"$f":"IF($A67=\"\",\"\",IF(SUMIF('200m Obs Men'!$C$7:$C$46,$A67,'200m Obs Men'!$Z$7:$Z$46)=0,1+MAX('200m Obs Men'!$Z$7:$Z$46),SUMIF('200m Obs Men'!$C$7:$C$46,$A67,'200m Obs Men'!$Z$7:$Z$46)))","v":""},{"$f":"IF($A67=\"\",\"\",IF(SUMIF('200m Super Men'!$C$7:$C$46,$A67,'200m Super Men'!$Z$7:$Z$46)=0,1+MAX('200m Super Men'!$Z$7:$Z$46),SUMIF('200m Super Men'!$C$7:$C$46,$A67,'200m Super Men'!$Z$7:$Z$46)))","v":""},{"$f":"IF($A67=\"\",\"\",IF(SUMIF('100 Resue Men'!$C$7:$C$46,$A67,'100 Resue Men'!$Z$7:$Z$46)=0,1+MAX('100 Resue Men'!$Z$7:$Z$46),SUMIF('100 Resue Men'!$C$7:$C$46,$A67,'100 Resue Men'!$Z$7:$Z$46)))","v":""},{"$f":"IF($A67=\"\",\"\",IF(SUMIF('Line Throw Men'!$C$7:$C$46,$A67,'Line Throw Men'!$AB$7:$AB$46)=0,1+MAX('Line Throw Men'!$AB$7:$AB$46),SUMIF('Line Throw Men'!$C$7:$C$46,$A67,'Line Throw Men'!$AB$7:$AB$46)))","v":""},{"$f":"IF($A67=\"\",\"\",IF(SUMIF('4 x 50 Obs Relay Men'!$C$7:$C$46,$A67,'4 x 50 Obs Relay Men'!$W$7:$W$46)=0,1+MAX('4 x 50 Obs Relay Men'!$W$7:$W$46),SUMIF('4 x 50 Obs Relay Men'!$C$7:$C$46,$A67,'4 x 50 Obs Relay Men'!$W$7:$W$46)))","v":""},{"$f":"IF($A67=\"\",\"\",IF(SUMIF('4 x 50 medley Relay Men'!$C$7:$C$46,$A67,'4 x 50 medley Relay Men'!$W$7:$W$46)=0,1+MAX('4 x 50 medley Relay Men'!$W$7:$W$46),SUMIF('4 x 50 medley Relay Men'!$C$7:$C$46,$A67,'4 x 50 medley Relay Men'!$W$7:$W$46)))","v":""},{"$f":"IF($A67=\"\",\"\",IF(SUMIF('4 x 25 Manikin Carry Relay Men'!$C$7:$C$46,$A67,'4 x 25 Manikin Carry Relay Men'!$W$7:$W$46)=0,1+MAX('4 x 25 Manikin Carry Relay Men'!$W$7:$W$46),SUMIF('4 x 25 Manikin Carry Relay Men'!$C$7:$C$46,$A67,'4 x 25 Manikin Carry Relay Men'!$W$7:$W$46)))","v":""},{"$f":"IF($A67=\"\",\"\",IF(SUMIF('4 x 12m Line Throw Men'!$C$7:$C$46,$A67,'4 x 12m Line Throw Men'!$W$7:$W$46)=0,1+MAX('4 x 12m Line Throw Men'!$W$7:$W$46),SUMIF('4 x 12m Line Throw Men'!$C$7:$C$46,$A67,'4 x 12m Line Throw Men'!$W$7:$W$46)))","v":""},"",""]
["","",{"$f":"IF($A68=\"\",\"\",IF(SUMIF('50m Manikin Carry Men'!$C$7:$C$46,$A68,'50m Manikin Carry Men'!$Z$7:$Z$46)=0,1+MAX('50m Manikin Carry Men'!$Z$7:$Z$46),SUMIF('50m Manikin Carry Men'!$C$7:$C$46,$A68,'50m Manikin Carry Men'!$Z$7:$Z$46)))","v":""},{"$f":"IF($A68=\"\",\"\",IF(SUMIF('100m Manikin Carry Men'!$C$7:$C$46,$A68,'100m Manikin Carry Men'!$Z$7:$Z$46)=0,1+MAX('100m Manikin Carry Men'!$Z$7:$Z$46),SUMIF('100m Manikin Carry Men'!$C$7:$C$46,$A68,'100m Manikin Carry Men'!$Z$7:$Z$46)))","v":""},{"$f":"IF($A68=\"\",\"\",IF(SUMIF('100m Manikin Tow Men'!$C$7:$C$46,$A68,'100m Manikin Tow Men'!$Z$7:$Z$46)=0,1+MAX('100m Manikin Tow Men'!$Z$7:$Z$46),SUMIF('100m Manikin Tow Men'!$C$7:$C$46,$A68,'100m Manikin Tow Men'!$Z$7:$Z$46)))","v":""},{"$f":"IF($A68=\"\",\"\",IF(SUMIF('200m Obs Men'!$C$7:$C$46,$A68,'200m Obs Men'!$Z$7:$Z$46)=0,1+MAX('200m Obs Men'!$Z$7:$Z$46),SUMIF('200m Obs Men'!$C$7:$C$46,$A68,'200m Obs Men'!$Z$7:$Z$46)))","v":""},{"$f":"IF($A68=\"\",\"\",IF(SUMIF('200m Super Men'!$C$7:$C$46,$A68,'200m Super Men'!$Z$7:$Z$46)=0,1+MAX('200m Super Men'!$Z$7:$Z$46),SUMIF('200m Super Men'!$C$7:$C$46,$A68,'200m Super Men'!$Z$7:$Z$46)))","v":""},{"$f":"IF($A68=\"\",\"\",IF(SUMIF('100 Resue Men'!$C$7:$C$46,$A68,'100 Resue Men'!$Z$7:$Z$46)=0,1+MAX('100 Resue Men'!$Z$7:$Z$46),SUMIF('100 Resue Men'!$C$7:$C$46,$A68,'100 Resue Men'!$Z$7:$Z$46)))","v":""},{"$f":"IF($A68=\"\",\"\",IF(SUMIF('Line Throw Men'!$C$7:$C$46,$A68,'Line Throw Men'!$AB$7:$AB$46)=0,1+MAX('Line Throw Men'!$AB$7:$AB$46),SUMIF('Line Throw Men'!$C$7:$C$46,$A68,'Line Throw Men'!$AB$7:$AB$46)))","v":""},{"$f":"IF($A68=\"\",\"\",IF(SUMIF('4 x 50 Obs Relay Men'!$C$7:$C$46,$A68,'4 x 50 Obs Relay Men'!$W$7:$W$46)=0,1+MAX('4 x 50 Obs Relay Men'!$W$7:$W$46),SUMIF('4 x 50 Obs Relay Men'!$C$7:$C$46,$A68,'4 x 50 Obs Relay Men'!$W$7:$W$46)))","v":""},{"$f":"IF($A68=\"\",\"\",IF(SUMIF('4 x 50 medley Relay Men'!$C$7:$C$46,$A68,'4 x 50 medley Relay Men'!$W$7:$W$46)=0,1+MAX('4 x 50 medley Relay Men'!$W$7:$W$46),SUMIF('4 x 50 medley Relay Men'!$C$7:$C$46,$A68,'4 x 50 medley Relay Men'!$W$7:$W$46)))","v":""},{"$f":"IF($A68=\"\",\"\",IF(SUMIF('4 x 25 Manikin Carry Relay Men'!$C$7:$C$46,$A68,'4 x 25 Manikin Carry Relay Men'!$W$7:$W$46)=0,1+MAX('4 x 25 Manikin Carry Relay Men'!$W$7:$W$46),SUMIF('4 x 25 Manikin Carry Relay Men'!$C$7:$C$46,$A68,'4 x 25 Manikin Carry Relay Men'!$W$7:$W$46)))","v":""},{"$f":"IF($A68=\"\",\"\",IF(SUMIF('4 x 12m Line Throw Men'!$C$7:$C$46,$A68,'4 x 12m Line Throw Men'!$W$7:$W$46)=0,1+MAX('4 x 12m Line Throw Men'!$W$7:$W$46),SUMIF('4 x 12m Line Throw Men'!$C$7:$C$46,$A68,'4 x 12m Line Throw Men'!$W$7:$W$46)))","v":""},"",""]
["","",{"$f":"IF($A69=\"\",\"\",IF(SUMIF('50m Manikin Carry Men'!$C$7:$C$46,$A69,'50m Manikin Carry Men'!$Z$7:$Z$46)=0,1+MAX('50m Manikin Carry Men'!$Z$7:$Z$46),SUMIF('50m Manikin Carry Men'!$C$7:$C$46,$A69,'50m Manikin Carry Men'!$Z$7:$Z$46)))","v":""},{"$f":"IF($A69=\"\",\"\",IF(SUMIF('100m Manikin Carry Men'!$C$7:$C$46,$A69,'100m Manikin Carry Men'!$Z$7:$Z$46)=0,1+MAX('100m Manikin Carry Men'!$Z$7:$Z$46),SUMIF('100m Manikin Carry Men'!$C$7:$C$46,$A69,'100m Manikin Carry Men'!$Z$7:$Z$46)))","v":""},{"$f":"IF($A69=\"\",\"\",IF(SUMIF('100m Manikin Tow Men'!$C$7:$C$46,$A69,'100m Manikin Tow Men'!$Z$7:$Z$46)=0,1+MAX('100m Manikin Tow Men'!$Z$7:$Z$46),SUMIF('100m Manikin Tow Men'!$C$7:$C$46,$A69,'100m Manikin Tow Men'!$Z$7:$Z$46)))","v":""},{"$f":"IF($A69=\"\",\"\",IF(SUMIF('200m Obs Men'!$C$7:$C$46,$A69,'200m Obs Men'!$Z$7:$Z$46)=0,1+MAX('200m Obs Men'!$Z$7:$Z$46),SUMIF('200m Obs Men'!$C$7:$C$46,$A69,'200m Obs Men'!$Z$7:$Z$46)))","v":""},{"$f":"IF($A69=\"\",\"\",IF(SUMIF('200m Super Men'!$C$7:$C$46,$A69,'200m Super Men'!$Z$7:$Z$46)=0,1+MAX('200m Super Men'!$Z$7:$Z$46),SUMIF('200m Super Men'!$C$7:$C$46,$A69,'200m Super Men'!$Z$7:$Z$46)))","v":""},{"$f":"IF($A69=\"\",\"\",IF(SUMIF('100 Resue Men'!$C$7:$C$46,$A69,'100 Resue Men'!$Z$7:$Z$46)=0,1+MAX('100 Resue Men'!$Z$7:$Z$46),SUMIF('100 Resue Men'!$C$7:$C$46,$A69,'100 Resue Men'!$Z$7:$Z$46)))","v":""},{"$f":"IF($A69=\"\",\"\",IF(SUMIF('Line Throw Men'!$C$7:$C$46,$A69,'Line Throw Men'!$AB$7:$AB$46)=0,1+MAX('Line Throw Men'!$AB$7:$AB$46),SUMIF('Line Throw Men'!$C$7:$C$46,$A69,'Line Throw Men'!$AB$7:$AB$46)))","v":""},{"$f":"IF($A69=\"\",\"\",IF(SUMIF('4 x 50 Obs Relay Men'!$C$7:$C$46,$A69,'4 x 50 Obs Relay Men'!$W$7:$W$46)=0,1+MAX('4 x 50 Obs Relay Men'!$W$7:$W$46),SUMIF('4 x 50 Obs Relay Men'!$C$7:$C$46,$A69,'4 x 50 Obs Relay Men'!$W$7:$W$46)))","v":""},{"$f":"IF($A69=\"\",\"\",IF(SUMIF('4 x 50 medley Relay Men'!$C$7:$C$46,$A69,'4 x 50 medley Relay Men'!$W$7:$W$46)=0,1+MAX('4 x 50 medley Relay Men'!$W$7:$W$46),SUMIF('4 x 50 medley Relay Men'!$C$7:$C$46,$A69,'4 x 50 medley Relay Men'!$W$7:$W$46)))","v":""},{"$f":"IF($A69=\"\",\"\",IF(SUMIF('4 x 25 Manikin Carry Relay Men'!$C$7:$C$46,$A69,'4 x 25 Manikin Carry Relay Men'!$W$7:$W$46)=0,1+MAX('4 x 25 Manikin Carry Relay Men'!$W$7:$W$46),SUMIF('4 x 25 Manikin Carry Relay Men'!$C$7:$C$46,$A69,'4 x 25 Manikin Carry Relay Men'!$W$7:$W$46)))","v":""},{"$f":"IF($A69=\"\",\"\",IF(SUMIF('4 x 12m Line Throw Men'!$C$7:$C$46,$A69,'4 x 12m Line Throw Men'!$W$7:$W$46)=0,1+MAX('4 x 12m Line Throw Men'!$W$7:$W$46),SUMIF('4 x 12m Line Throw Men'!$C$7:$C$46,$A69,'4 x 12m Line Throw Men'!$W$7:$W$46)))","v":""},"",""]
[]
[null,"Women's Students"]
[]
["Club Code","Club Name","50m Manikin Carry","100m Carry with Fins","100m tow with fins","200m Obs","200 Super","100 rescue","Line Throw","4 x 50 obs Relay","4 x 50 medley Relay","4 x 25 Manikin Carry Relay","4 x 12m Line Throw Relay","Totals","Position"]
[{"$f":"IF(A4=\"\",\"\",A4)","v":15},{"$f":"IF(B4=\"\",\"\",B4)","v":"Bristol University"},{"$f":"IF($A74=\"\",\"\",IF(SUMIF('50m Manikin Carry Women'!$C$7:$C$46,$A74,'50m Manikin Carry Women'!$Z$7:$Z$46)=0,1+MAX('50m Manikin Carry Women'!$Z$7:$Z$46),SUMIF('50m Manikin Carry Women'!$C$7:$C$46,$A74,'50m Manikin Carry Women'!$Z$7:$Z$46)))","v":8},{"$f":"IF($A74=\"\",\"\",IF(SUMIF('100m Manikin Carry Women'!$C$7:$C$46,$A74,'100m Manikin Carry Women'!$Z$7:$Z$46)=0,1+MAX('100m Manikin Carry Women'!$Z$7:$Z$46),SUMIF('100m Manikin Carry Women'!$C$7:$C$46,$A74,'100m Manikin Carry Women'!$Z$7:$Z$46)))","v":10},{"$f":"IF($A74=\"\",\"\",IF(SUMIF('100m Manikin Tow Women'!$C$7:$C$46,$A74,'100m Manikin Tow Women'!$Z$7:$Z$46)=0,1+MAX('100m Manikin Tow Women'!$Z$7:$Z$46),SUMIF('100m Manikin Tow Women'!$C$7:$C$46,$A74,'100m Manikin Tow Women'!$Z$7:$Z$46)))","v":12},{"$f":"IF($A74=\"\",\"\",IF(SUMIF('200m Obs Women'!$C$7:$C$46,$A74,'200m Obs Women'!$Z$7:$Z$46)=0,1+MAX('200m Obs Women'!$Z$7:$Z$46),SUMIF('200m Obs Women'!$C$7:$C$46,$A74,'200m Obs Women'!$Z$7:$Z$46)))","v":7},{"$f":"IF($A74=\"\",\"\",IF(SUMIF('200m Super Women'!$C$7:$C$46,$A74,'200m Super Women'!$Z$7:$Z$46)=0,1+MAX('200m Super Women'!$Z$7:$Z$46),SUMIF('200m Super Women'!$C$7:$C$46,$A74,'200m Super Women'!$Z$7:$Z$46)))","v":12},{"$f":"IF($A74=\"\",\"\",IF(SUMIF('100 Resue Women'!$C$7:$C$46,$A74,'100 Resue Women'!$Z$7:$Z$46)=0,1+MAX('100 Resue Women'!$Z$7:$Z$46),SUMIF('100 Resue Women'!$C$7:$C$46,$A74,'100 Resue Women'!$Z$7:$Z$46)))","v":11},{"$f":"IF($A74=\"\",\"\",IF(SUMIF('Line Throw Women'!$C$7:$C$46,$A74,'Line Throw Women'!$AB$7:$AB$46)=0,1+MAX('Line Throw Women'!$AB$7:$AB$46),SUMIF('Line Throw Women'!$C$7:$C$46,$A74,'Line Throw Women'!$AB$7:$AB$46)))","v":9},{"$f":"IF($A74=\"\",\"\",IF(SUMIF('4 x 50 Obs Relay Women'!$C$7:$C$46,$A74,'4 x 50 Obs Relay Women'!$W$7:$W$46)=0,1+MAX('4 x 50 Obs Relay Women'!$W$7:$W$46),SUMIF('4 x 50 Obs Relay Women'!$C$7:$C$46,$A74,'4 x 50 Obs Relay Women'!$W$7:$W$46)))","v":10},{"$f":"IF($A74=\"\",\"\",IF(SUMIF('4 x 50 medley Relay Women'!$C$7:$C$46,$A74,'4 x 50 medley Relay Women'!$W$7:$W$46)=0,1+MAX('4 x 50 medley Relay Women'!$W$7:$W$46),SUMIF('4 x 50 medley Relay Women'!$C$7:$C$46,$A74,'4 x 50 medley Relay Women'!$W$7:$W$46)))","v":10},{"$f":"IF($A74=\"\",\"\",IF(SUMIF('4 x 25 Manikin Carry Women'!$C$7:$C$46,$A74,'4 x 25 Manikin Carry Women'!$W$7:$W$46)=0,1+MAX('4 x 25 Manikin Carry Women'!$W$7:$W$46),SUMIF('4 x 25 Manikin Carry Women'!$C$7:$C$46,$A74,'4 x 25 Manikin Carry Women'!$W$7:$W$46)))","v":10},{"$f":"IF($A74=\"\",\"\",IF(SUMIF('4 x 12m Line Throw Women'!$C$7:$C$46,$A74,'4 x 12m Line Throw Women'!$W$7:$W$46)=0,1+MAX('4 x 12m Line Throw Women'!$W$7:$W$46),SUMIF('4 x 12m Line Throw Women'!$C$7:$C$46,$A74,'4 x 12m Line Throw Women'!$W$7:$W$46)))","v":4},{"$f":"IF(A74=\"\",\"\",SUM(C74:M74))","v":103},{"$f":"IF(A74=\"\",\"\",RANK(N74,$N$74:$N$104,1))","v":11}]
[{"$f":"IF(A5=\"\",\"\",A5)","v":49},{"$f":"IF(B5=\"\",\"\",B5)","v":"Cardiff University"},{"$f":"IF($A75=\"\",\"\",IF(SUMIF('50m Manikin Carry Women'!$C$7:$C$46,$A75,'50m Manikin Carry Women'!$Z$7:$Z$46)=0,1+MAX('50m Manikin Carry Women'!$Z$7:$Z$46),SUMIF('50m Manikin Carry Women'!$C$7:$C$46,$A75,'50m Manikin Carry Women'!$Z$7:$Z$46)))","v":13},{"$f":"IF($A75=\"\",\"\",IF(SUMIF('100m Manikin Carry Women'!$C$7:$C$46,$A75,'100m Manikin Carry Women'!$Z$7:$Z$46)=0,1+MAX('100m Manikin Carry Women'!$Z$7:$Z$46),SUMIF('100m Manikin Carry Women'!$C$7:$C$46,$A75,'100m Manikin Carry Women'!$Z$7:$Z$46)))","v":13},{"$f":"IF($A75=\"\",\"\",IF(SUMIF('100m Manikin Tow Women'!$C$7:$C$46,$A75,'100m Manikin Tow Women'!$Z$7:$Z$46)=0,1+MAX('100m Manikin Tow Women'!$Z$7:$Z$46),SUMIF('100m Manikin Tow Women'!$C$7:$C$46,$A75,'100m Manikin Tow Women'!$Z$7:$Z$46)))","v":13},{"$f":"IF($A75=\"\",\"\",IF(SUMIF('200m Obs Women'!$C$7:$C$46,$A75,'200m Obs Women'!$Z$7:$Z$46)=0,1+MAX('200m Obs Women'!$Z$7:$Z$46),SUMIF('200m Obs Women'!$C$7:$C$46,$A75,'200m Obs Women'!$Z$7:$Z$46)))","v":13},{"$f":"IF($A75=\"\",\"\",IF(SUMIF('200m Super Women'!$C$7:$C$46,$A75,'200m Super Women'!$Z$7:$Z$46)=0,1+MAX('200m Super Women'!$Z$7:$Z$46),SUMIF('200m Super Women'!$C$7:$C$46,$A75,'200m Super Women'!$Z$7:$Z$46)))","v":12},{"$f":"IF($A75=\"\",\"\",IF(SUMIF('100 Resue Women'!$C$7:$C$46,$A75,'100 Resue Women'!$Z$7:$Z$46)=0,1+MAX('100 Resue Women'!$Z$7:$Z$46),SUMIF('100 Resue Women'!$C$7:$C$46,$A75,'100 Resue Women'!$Z$7:$Z$46)))","v":11},{"$f":"IF($A75=\"\",\"\",IF(SUMIF('Line Throw Women'!$C$7:$C$46,$A75,'Line Throw Women'!$AB$7:$AB$46)=0,1+MAX('Line Throw Women'!$AB$7:$AB$46),SUMIF('Line Throw Women'!$C$7:$C$46,$A75,'Line Throw Women'!$AB$7:$AB$46)))","v":9},{"$f":"IF($A75=\"\",\"\",IF(SUMIF('4 x 50 Obs Relay Women'!$C$7:$C$46,$A75,'4 x 50 Obs Relay Women'!$W$7:$W$46)=0,1+MAX('4 x 50 Obs Relay Women'!$W$7:$W$46),SUMIF('4 x 50 Obs Relay Women'!$C$7:$C$46,$A75,'4 x 50 Obs Relay Women'!$W$7:$W$46)))","v":10},{"$f":"IF($A75=\"\",\"\",IF(SUMIF('4 x 50 medley Relay Women'!$C$7:$C$46,$A75,'4 x 50 medley Relay Women'!$W$7:$W$46)=0,1+MAX('4 x 50 medley Relay Women'!$W$7:$W$46),SUMIF('4 x 50 medley Relay Women'!$C$7:$C$46,$A75,'4 x 50 medley Relay Women'!$W$7:$W$46)))","v":10},{"$f":"IF($A75=\"\",\"\",IF(SUMIF('4 x 25 Manikin Carry Women'!$C$7:$C$46,$A75,'4 x 25 Manikin Carry Women'!$W$7:$W$46)=0,1+MAX('4 x 25 Manikin Carry Women'!$W$7:$W$46),SUMIF('4 x 25 Manikin Carry Women'!$C$7:$C$46,$A75,'4 x 25 Manikin Carry Women'!$W$7:$W$46)))","v":10},{"$f":"IF($A75=\"\",\"\",IF(SUMIF('4 x 12m Line Throw Women'!$C$7:$C$46,$A75,'4 x 12m Line Throw Women'!$W$7:$W$46)=0,1+MAX('4 x 12m Line Throw Women'!$W$7:$W$46),SUMIF('4 x 12m Line Throw Women'!$C$7:$C$46,$A75,'4 x 12m Line Throw Women'!$W$7:$W$46)))","v":4},{"$f":"IF(A75=\"\",\"\",SUM(C75:M75))","v":118},{"$f":"IF(A75=\"\",\"\",RANK(N75,$N$74:$N$104,1))","v":13}]
[7,"Loughborough University",{"$f":"IF($A76=\"\",\"\",IF(SUMIF('50m Manikin Carry Women'!$C$7:$C$46,$A76,'50m Manikin Carry Women'!$Z$7:$Z$46)=0,1+MAX('50m Manikin Carry Women'!$Z$7:$Z$46),SUMIF('50m Manikin Carry Women'!$C$7:$C$46,$A76,'50m Manikin Carry Women'!$Z$7:$Z$46)))","v":1},{"$f":"IF($A76=\"\",\"\",IF(SUMIF('100m Manikin Carry Women'!$C$7:$C$46,$A76,'100m Manikin Carry Women'!$Z$7:$Z$46)=0,1+MAX('100m Manikin Carry Women'!$Z$7:$Z$46),SUMIF('100m Manikin Carry Women'!$C$7:$C$46,$A76,'100m Manikin Carry Women'!$Z$7:$Z$46)))","v":2},{"$f":"IF($A76=\"\",\"\",IF(SUMIF('100m Manikin Tow Women'!$C$7:$C$46,$A76,'100m Manikin Tow Women'!$Z$7:$Z$46)=0,1+MAX('100m Manikin Tow Women'!$Z$7:$Z$46),SUMIF('100m Manikin Tow Women'!$C$7:$C$46,$A76,'100m Manikin Tow Women'!$Z$7:$Z$46)))","v":3},{"$f":"IF($A76=\"\",\"\",IF(SUMIF('200m Obs Women'!$C$7:$C$46,$A76,'200m Obs Women'!$Z$7:$Z$46)=0,1+MAX('200m Obs Women'!$Z$7:$Z$46),SUMIF('200m Obs Women'!$C$7:$C$46,$A76,'200m Obs Women'!$Z$7:$Z$46)))","v":2},{"$f":"IF($A76=\"\",\"\",IF(SUMIF('200m Super Women'!$C$7:$C$46,$A76,'200m Super Women'!$Z$7:$Z$46)=0,1+MAX('200m Super Women'!$Z$7:$Z$46),SUMIF('200m Super Women'!$C$7:$C$46,$A76,'200m Super Women'!$Z$7:$Z$46)))","v":3},{"$f":"IF($A76=\"\",\"\",IF(SUMIF('100 Resue Women'!$C$7:$C$46,$A76,'100 Resue Women'!$Z$7:$Z$46)=0,1+MAX('100 Resue Women'!$Z$7:$Z$46),SUMIF('100 Resue Women'!$C$7:$C$46,$A76,'100 Resue Women'!$Z$7:$Z$46)))","v":1},{"$f":"IF($A76=\"\",\"\",IF(SUMIF('Line Throw Women'!$C$7:$C$46,$A76,'Line Throw Women'!$AB$7:$AB$46)=0,1+MAX('Line Throw Women'!$AB$7:$AB$46),SUMIF('Line Throw Women'!$C$7:$C$46,$A76,'Line Throw Women'!$AB$7:$AB$46)))","v":1},{"$f":"IF($A76=\"\",\"\",IF(SUMIF('4 x 50 Obs Relay Women'!$C$7:$C$46,$A76,'4 x 50 Obs Relay Women'!$W$7:$W$46)=0,1+MAX('4 x 50 Obs Relay Women'!$W$7:$W$46),SUMIF('4 x 50 Obs Relay Women'!$C$7:$C$46,$A76,'4 x 50 Obs Relay Women'!$W$7:$W$46)))","v":3},{"$f":"IF($A76=\"\",\"\",IF(SUMIF('4 x 50 medley Relay Women'!$C$7:$C$46,$A76,'4 x 50 medley Relay Women'!$W$7:$W$46)=0,1+MAX('4 x 50 medley Relay Women'!$W$7:$W$46),SUMIF('4 x 50 medley Relay Women'!$C$7:$C$46,$A76,'4 x 50 medley Relay Women'!$W$7:$W$46)))","v":2},{"$f":"IF($A76=\"\",\"\",IF(SUMIF('4 x 25 Manikin Carry Women'!$C$7:$C$46,$A76,'4 x 25 Manikin Carry Women'!$W$7:$W$46)=0,1+MAX('4 x 25 Manikin Carry Women'!$W$7:$W$46),SUMIF('4 x 25 Manikin Carry Women'!$C$7:$C$46,$A76,'4 x 25 Manikin Carry Women'!$W$7:$W$46)))","v":1},{"$f":"IF($A76=\"\",\"\",IF(SUMIF('4 x 12m Line Throw Women'!$C$7:$C$46,$A76,'4 x 12m Line Throw Women'!$W$7:$W$46)=0,1+MAX('4 x 12m Line Throw Women'!$W$7:$W$46),SUMIF('4 x 12m Line Throw Women'!$C$7:$C$46,$A76,'4 x 12m Line Throw Women'!$W$7:$W$46)))","v":2},21,1]
[21,"Swansea Universities Lifesaving",{"$f":"IF($A77=\"\",\"\",IF(SUMIF('50m Manikin Carry Women'!$C$7:$C$46,$A77,'50m Manikin Carry Women'!$Z$7:$Z$46)=0,1+MAX('50m Manikin Carry Women'!$Z$7:$Z$46),SUMIF('50m Manikin Carry Women'!$C$7:$C$46,$A77,'50m Manikin Carry Women'!$Z$7:$Z$46)))","v":3},{"$f":"IF($A77=\"\",\"\",IF(SUMIF('100m Manikin Carry Women'!$C$7:$C$46,$A77,'100m Manikin Carry Women'!$Z$7:$Z$46)=0,1+MAX('100m Manikin Carry Women'!$Z$7:$Z$46),SUMIF('100m Manikin Carry Women'!$C$7:$C$46,$A77,'100m Manikin Carry Women'!$Z$7:$Z$46)))","v":1},{"$f":"IF($A77=\"\",\"\",IF(SUMIF('100m Manikin Tow Women'!$C$7:$C$46,$A77,'100m Manikin Tow Women'!$Z$7:$Z$46)=0,1+MAX('100m Manikin Tow Women'!$Z$7:$Z$46),SUMIF('100m Manikin Tow Women'!$C$7:$C$46,$A77,'100m Manikin Tow Women'!$Z$7:$Z$46)))","v":1},{"$f":"IF($A77=\"\",\"\",IF(SUMIF('200m Obs Women'!$C$7:$C$46,$A77,'200m Obs Women'!$Z$7:$Z$46)=0,1+MAX('200m Obs Women'!$Z$7:$Z$46),SUMIF('200m Obs Women'!$C$7:$C$46,$A77,'200m Obs Women'!$Z$7:$Z$46)))","v":1},{"$f":"IF($A77=\"\",\"\",IF(SUMIF('200m Super Women'!$C$7:$C$46,$A77,'200m Super Women'!$Z$7:$Z$46)=0,1+MAX('200m Super Women'!$Z$7:$Z$46),SUMIF('200m Super Women'!$C$7:$C$46,$A77,'200m Super Women'!$Z$7:$Z$46)))","v":1},{"$f":"IF($A77=\"\",\"\",IF(SUMIF('100 Resue Women'!$C$7:$C$46,$A77,'100 Resue Women'!$Z$7:$Z$46)=0,1+MAX('100 Resue Women'!$Z$7:$Z$46),SUMIF('100 Resue Women'!$C$7:$C$46,$A77,'100 Resue Women'!$Z$7:$Z$46)))","v":6},{"$f":"IF($A77=\"\",\"\",IF(SUMIF('Line Throw Women'!$C$7:$C$46,$A77,'Line Throw Women'!$AB$7:$AB$46)=0,1+MAX('Line Throw Women'!$AB$7:$AB$46),SUMIF('Line Throw Women'!$C$7:$C$46,$A77,'Line Throw Women'!$AB$7:$AB$46)))","v":2},{"$f":"IF($A77=\"\",\"\",IF(SUMIF('4 x 50 Obs Relay Women'!$C$7:$C$46,$A77,'4 x 50 Obs Relay Women'!$W$7:$W$46)=0,1+MAX('4 x 50 Obs Relay Women'!$W$7:$W$46),SUMIF('4 x 50 Obs Relay Women'!$C$7:$C$46,$A77,'4 x 50 Obs Relay Women'!$W$7:$W$46)))","v":1},{"$f":"IF($A77=\"\",\"\",IF(SUMIF('4 x 50 medley Relay Women'!$C$7:$C$46,$A77,'4 x 50 medley Relay Women'!$W$7:$W$46)=0,1+MAX('4 x 50 medley Relay Women'!$W$7:$W$46),SUMIF('4 x 50 medley Relay Women'!$C$7:$C$46,$A77,'4 x 50 medley Relay Women'!$W$7:$W$46)))","v":1},{"$f":"IF($A77=\"\",\"\",IF(SUMIF('4 x 25 Manikin Carry Women'!$C$7:$C$46,$A77,'4 x 25 Manikin Carry Women'!$W$7:$W$46)=0,1+MAX('4 x 25 Manikin Carry Women'!$W$7:$W$46),SUMIF('4 x 25 Manikin Carry Women'!$C$7:$C$46,$A77,'4 x 25 Manikin Carry Women'!$W$7:$W$46)))","v":6},{"$f":"IF($A77=\"\",\"\",IF(SUMIF('4 x 12m Line Throw Women'!$C$7:$C$46,$A77,'4 x 12m Line Throw Women'!$W$7:$W$46)=0,1+MAX('4 x 12m Line Throw Women'!$W$7:$W$46),SUMIF('4 x 12m Line Throw Women'!$C$7:$C$46,$A77,'4 x 12m Line Throw Women'!$W$7:$W$46)))","v":3},26,2]
[2,"University of Bath",{"$f":"IF($A78=\"\",\"\",IF(SUMIF('50m Manikin Carry Women'!$C$7:$C$46,$A78,'50m Manikin Carry Women'!$Z$7:$Z$46)=0,1+MAX('50m Manikin Carry Women'!$Z$7:$Z$46),SUMIF('50m Manikin Carry Women'!$C$7:$C$46,$A78,'50m Manikin Carry Women'!$Z$7:$Z$46)))","v":13},{"$f":"IF($A78=\"\",\"\",IF(SUMIF('100m Manikin Carry Women'!$C$7:$C$46,$A78,'100m Manikin Carry Women'!$Z$7:$Z$46)=0,1+MAX('100m Manikin Carry Women'!$Z$7:$Z$46),SUMIF('100m Manikin Carry Women'!$C$7:$C$46,$A78,'100m Manikin Carry Women'!$Z$7:$Z$46)))","v":13},{"$f":"IF($A78=\"\",\"\",IF(SUMIF('100m Manikin Tow Women'!$C$7:$C$46,$A78,'100m Manikin Tow Women'!$Z$7:$Z$46)=0,1+MAX('100m Manikin Tow Women'!$Z$7:$Z$46),SUMIF('100m Manikin Tow Women'!$C$7:$C$46,$A78,'100m Manikin Tow Women'!$Z$7:$Z$46)))","v":13},{"$f":"IF($A78=\"\",\"\",IF(SUMIF('200m Obs Women'!$C$7:$C$46,$A78,'200m Obs Women'!$Z$7:$Z$46)=0,1+MAX('200m Obs Women'!$Z$7:$Z$46),SUMIF('200m Obs Women'!$C$7:$C$46,$A78,'200m Obs Women'!$Z$7:$Z$46)))","v":13},{"$f":"IF($A78=\"\",\"\",IF(SUMIF('200m Super Women'!$C$7:$C$46,$A78,'200m Super Women'!$Z$7:$Z$46)=0,1+MAX('200m Super Women'!$Z$7:$Z$46),SUMIF('200m Super Women'!$C$7:$C$46,$A78,'200m Super Women'!$Z$7:$Z$46)))","v":12},{"$f":"IF($A78=\"\",\"\",IF(SUMIF('100 Resue Women'!$C$7:$C$46,$A78,'100 Resue Women'!$Z$7:$Z$46)=0,1+MAX('100 Resue Women'!$Z$7:$Z$46),SUMIF('100 Resue Women'!$C$7:$C$46,$A78,'100 Resue Women'!$Z$7:$Z$46)))","v":11},{"$f":"IF($A78=\"\",\"\",IF(SUMIF('Line Throw Women'!$C$7:$C$46,$A78,'Line Throw Women'!$AB$7:$AB$46)=0,1+MAX('Line Throw Women'!$AB$7:$AB$46),SUMIF('Line Throw Women'!$C$7:$C$46,$A78,'Line Throw Women'!$AB$7:$AB$46)))","v":9},{"$f":"IF($A78=\"\",\"\",IF(SUMIF('4 x 50 Obs Relay Women'!$C$7:$C$46,$A78,'4 x 50 Obs Relay Women'!$W$7:$W$46)=0,1+MAX('4 x 50 Obs Relay Women'!$W$7:$W$46),SUMIF('4 x 50 Obs Relay Women'!$C$7:$C$46,$A78,'4 x 50 Obs Relay Women'!$W$7:$W$46)))","v":10},{"$f":"IF($A78=\"\",\"\",IF(SUMIF('4 x 50 medley Relay Women'!$C$7:$C$46,$A78,'4 x 50 medley Relay Women'!$W$7:$W$46)=0,1+MAX('4 x 50 medley Relay Women'!$W$7:$W$46),SUMIF('4 x 50 medley Relay Women'!$C$7:$C$46,$A78,'4 x 50 medley Relay Women'!$W$7:$W$46)))","v":10},{"$f":"IF($A78=\"\",\"\",IF(SUMIF('4 x 25 Manikin Carry Women'!$C$7:$C$46,$A78,'4 x 25 Manikin Carry Women'!$W$7:$W$46)=0,1+MAX('4 x 25 Manikin Carry Women'!$W$7:$W$46),SUMIF('4 x 25 Manikin Carry Women'!$C$7:$C$46,$A78,'4 x 25 Manikin Carry Women'!$W$7:$W$46)))","v":10},{"$f":"IF($A78=\"\",\"\",IF(SUMIF('4 x 12m Line Throw Women'!$C$7:$C$46,$A78,'4 x 12m Line Throw Women'!$W$7:$W$46)=0,1+MAX('4 x 12m Line Throw Women'!$W$7:$W$46),SUMIF('4 x 12m Line Throw Women'!$C$7:$C$46,$A78,'4 x 12m Line Throw Women'!$W$7:$W$46)))","v":4},118,13]
[14,"University of Birmingham",{"$f":"IF($A79=\"\",\"\",IF(SUMIF('50m Manikin Carry Women'!$C$7:$C$46,$A79,'50m Manikin Carry Women'!$Z$7:$Z$46)=0,1+MAX('50m Manikin Carry Women'!$Z$7:$Z$46),SUMIF('50m Manikin Carry Women'!$C$7:$C$46,$A79,'50m Manikin Carry Women'!$Z$7:$Z$46)))","v":7},{"$f":"IF($A79=\"\",\"\",IF(SUMIF('100m Manikin Carry Women'!$C$7:$C$46,$A79,'100m Manikin Carry Women'!$Z$7:$Z$46)=0,1+MAX('100m Manikin Carry Women'!$Z$7:$Z$46),SUMIF('100m Manikin Carry Women'!$C$7:$C$46,$A79,'100m Manikin Carry Women'!$Z$7:$Z$46)))","v":9},{"$f":"IF($A79=\"\",\"\",IF(SUMIF('100m Manikin Tow Women'!$C$7:$C$46,$A79,'100m Manikin Tow Women'!$Z$7:$Z$46)=0,1+MAX('100m Manikin Tow Women'!$Z$7:$Z$46),SUMIF('100m Manikin Tow Women'!$C$7:$C$46,$A79,'100m Manikin Tow Women'!$Z$7:$Z$46)))","v":4},{"$f":"IF($A79=\"\",\"\",IF(SUMIF('200m Obs Women'!$C$7:$C$46,$A79,'200m Obs Women'!$Z$7:$Z$46)=0,1+MAX('200m Obs Women'!$Z$7:$Z$46),SUMIF('200m Obs Women'!$C$7:$C$46,$A79,'200m Obs Women'!$Z$7:$Z$46)))","v":9},{"$f":"IF($A79=\"\",\"\",IF(SUMIF('200m Super Women'!$C$7:$C$46,$A79,'200m Super Women'!$Z$7:$Z$46)=0,1+MAX('200m Super Women'!$Z$7:$Z$46),SUMIF('200m Super Women'!$C$7:$C$46,$A79,'200m Super Women'!$Z$7:$Z$46)))","v":6},{"$f":"IF($A79=\"\",\"\",IF(SUMIF('100 Resue Women'!$C$7:$C$46,$A79,'100 Resue Women'!$Z$7:$Z$46)=0,1+MAX('100 Resue Women'!$Z$7:$Z$46),SUMIF('100 Resue Women'!$C$7:$C$46,$A79,'100 Resue Women'!$Z$7:$Z$46)))","v":4},{"$f":"IF($A79=\"\",\"\",IF(SUMIF('Line Throw Women'!$C$7:$C$46,$A79,'Line Throw Women'!$AB$7:$AB$46)=0,1+MAX('Line Throw Women'!$AB$7:$AB$46),SUMIF('Line Throw Women'!$C$7:$C$46,$A79,'Line Throw Women'!$AB$7:$AB$46)))","v":6},{"$f":"IF($A79=\"\",\"\",IF(SUMIF('4 x 50 Obs Relay Women'!$C$7:$C$46,$A79,'4 x 50 Obs Relay Women'!$W$7:$W$46)=0,1+MAX('4 x 50 Obs Relay Women'!$W$7:$W$46),SUMIF('4 x 50 Obs Relay Women'!$C$7:$C$46,$A79,'4 x 50 Obs Relay Women'!$W$7:$W$46)))","v":6},{"$f":"IF($A79=\"\",\"\",IF(SUMIF('4 x 50 medley Relay Women'!$C$7:$C$46,$A79,'4 x 50 medley Relay Women'!$W$7:$W$46)=0,1+MAX('4 x 50 medley Relay Women'!$W$7:$W$46),SUMIF('4 x 50 medley Relay Women'!$C$7:$C$46,$A79,'4 x 50 medley Relay Women'!$W$7:$W$46)))","v":4},{"$f":"IF($A79=\"\",\"\",IF(SUMIF('4 x 25 Manikin Carry Women'!$C$7:$C$46,$A79,'4 x 25 Manikin Carry Women'!$W$7:$W$46)=0,1+MAX('4 x 25 Manikin Carry Women'!$W$7:$W$46),SUMIF('4 x 25 Manikin Carry Women'!$C$7:$C$46,$A79,'4 x 25 Manikin Carry Women'!$W$7:$W$46)))","v":4},{"$f":"IF($A79=\"\",\"\",IF(SUMIF('4 x 12m Line Throw Women'!$C$7:$C$46,$A79,'4 x 12m Line Throw Women'!$W$7:$W$46)=0,1+MAX('4 x 12m Line Throw Women'!$W$7:$W$46),SUMIF('4 x 12m Line Throw Women'!$C$7:$C$46,$A79,'4 x 12m Line Throw Women'!$W$7:$W$46)))","v":3},62,4]
[5,"University of Cambridge",12,12,{"$f":"IF($A80=\"\",\"\",IF(SUMIF('100m Manikin Tow Women'!$C$7:$C$46,$A80,'100m Manikin Tow Women'!$Z$7:$Z$46)=0,1+MAX('100m Manikin Tow Women'!$Z$7:$Z$46),SUMIF('100m Manikin Tow Women'!$C$7:$C$46,$A80,'100m Manikin Tow Women'!$Z$7:$Z$46)))","v":11},{"$f":"IF($A80=\"\",\"\",IF(SUMIF('200m Obs Women'!$C$7:$C$46,$A80,'200m Obs Women'!$Z$7:$Z$46)=0,1+MAX('200m Obs Women'!$Z$7:$Z$46),SUMIF('200m Obs Women'!$C$7:$C$46,$A80,'200m Obs Women'!$Z$7:$Z$46)))","v":12},{"$f":"IF($A80=\"\",\"\",IF(SUMIF('200m Super Women'!$C$7:$C$46,$A80,'200m Super Women'!$Z$7:$Z$46)=0,1+MAX('200m Super Women'!$Z$7:$Z$46),SUMIF('200m Super Women'!$C$7:$C$46,$A80,'200m Super Women'!$Z$7:$Z$46)))","v":11},{"$f":"IF($A80=\"\",\"\",IF(SUMIF('100 Resue Women'!$C$7:$C$46,$A80,'100 Resue Women'!$Z$7:$Z$46)=0,1+MAX('100 Resue Women'!$Z$7:$Z$46),SUMIF('100 Resue Women'!$C$7:$C$46,$A80,'100 Resue Women'!$Z$7:$Z$46)))","v":8},{"$f":"IF($A80=\"\",\"\",IF(SUMIF('Line Throw Women'!$C$7:$C$46,$A80,'Line Throw Women'!$AB$7:$AB$46)=0,1+MAX('Line Throw Women'!$AB$7:$AB$46),SUMIF('Line Throw Women'!$C$7:$C$46,$A80,'Line Throw Women'!$AB$7:$AB$46)))","v":8},{"$f":"IF($A80=\"\",\"\",IF(SUMIF('4 x 50 Obs Relay Women'!$C$7:$C$46,$A80,'4 x 50 Obs Relay Women'!$W$7:$W$46)=0,1+MAX('4 x 50 Obs Relay Women'!$W$7:$W$46),SUMIF('4 x 50 Obs Relay Women'!$C$7:$C$46,$A80,'4 x 50 Obs Relay Women'!$W$7:$W$46)))","v":10},{"$f":"IF($A80=\"\",\"\",IF(SUMIF('4 x 50 medley Relay Women'!$C$7:$C$46,$A80,'4 x 50 medley Relay Women'!$W$7:$W$46)=0,1+MAX('4 x 50 medley Relay Women'!$W$7:$W$46),SUMIF('4 x 50 medley Relay Women'!$C$7:$C$46,$A80,'4 x 50 medley Relay Women'!$W$7:$W$46)))","v":10},{"$f":"IF($A80=\"\",\"\",IF(SUMIF('4 x 25 Manikin Carry Women'!$C$7:$C$46,$A80,'4 x 25 Manikin Carry Women'!$W$7:$W$46)=0,1+MAX('4 x 25 Manikin Carry Women'!$W$7:$W$46),SUMIF('4 x 25 Manikin Carry Women'!$C$7:$C$46,$A80,'4 x 25 Manikin Carry Women'!$W$7:$W$46)))","v":10},{"$f":"IF($A80=\"\",\"\",IF(SUMIF('4 x 12m Line Throw Women'!$C$7:$C$46,$A80,'4 x 12m Line Throw Women'!$W$7:$W$46)=0,1+MAX('4 x 12m Line Throw Women'!$W$7:$W$46),SUMIF('4 x 12m Line Throw Women'!$C$7:$C$46,$A80,'4 x 12m Line Throw Women'!$W$7:$W$46)))","v":4},108,12]
[16,"University of London Union",{"$f":"IF($A81=\"\",\"\",IF(SUMIF('50m Manikin Carry Women'!$C$7:$C$46,$A81,'50m Manikin Carry Women'!$Z$7:$Z$46)=0,1+MAX('50m Manikin Carry Women'!$Z$7:$Z$46),SUMIF('50m Manikin Carry Women'!$C$7:$C$46,$A81,'50m Manikin Carry Women'!$Z$7:$Z$46)))","v":11},{"$f":"IF($A81=\"\",\"\",IF(SUMIF('100m Manikin Carry Women'!$C$7:$C$46,$A81,'100m Manikin Carry Women'!$Z$7:$Z$46)=0,1+MAX('100m Manikin Carry Women'!$Z$7:$Z$46),SUMIF('100m Manikin Carry Women'!$C$7:$C$46,$A81,'100m Manikin Carry Women'!$Z$7:$Z$46)))","v":11},{"$f":"IF($A81=\"\",\"\",IF(SUMIF('100m Manikin Tow Women'!$C$7:$C$46,$A81,'100m Manikin Tow Women'!$Z$7:$Z$46)=0,1+MAX('100m Manikin Tow Women'!$Z$7:$Z$46),SUMIF('100m Manikin Tow Women'!$C$7:$C$46,$A81,'100m Manikin Tow Women'!$Z$7:$Z$46)))","v":9},{"$f":"IF($A81=\"\",\"\",IF(SUMIF('200m Obs Women'!$C$7:$C$46,$A81,'200m Obs Women'!$Z$7:$Z$46)=0,1+MAX('200m Obs Women'!$Z$7:$Z$46),SUMIF('200m Obs Women'!$C$7:$C$46,$A81,'200m Obs Women'!$Z$7:$Z$46)))","v":11},{"$f":"IF($A81=\"\",\"\",IF(SUMIF('200m Super Women'!$C$7:$C$46,$A81,'200m Super Women'!$Z$7:$Z$46)=0,1+MAX('200m Super Women'!$Z$7:$Z$46),SUMIF('200m Super Women'!$C$7:$C$46,$A81,'200m Super Women'!$Z$7:$Z$46)))","v":7},{"$f":"IF($A81=\"\",\"\",IF(SUMIF('100 Resue Women'!$C$7:$C$46,$A81,'100 Resue Women'!$Z$7:$Z$46)=0,1+MAX('100 Resue Women'!$Z$7:$Z$46),SUMIF('100 Resue Women'!$C$7:$C$46,$A81,'100 Resue Women'!$Z$7:$Z$46)))","v":11},{"$f":"IF($A81=\"\",\"\",IF(SUMIF('Line Throw Women'!$C$7:$C$46,$A81,'Line Throw Women'!$AB$7:$AB$46)=0,1+MAX('Line Throw Women'!$AB$7:$AB$46),SUMIF('Line Throw Women'!$C$7:$C$46,$A81,'Line Throw Women'!$AB$7:$AB$46)))","v":3},{"$f":"IF($A81=\"\",\"\",IF(SUMIF('4 x 50 Obs Relay Women'!$C$7:$C$46,$A81,'4 x 50 Obs Relay Women'!$W$7:$W$46)=0,1+MAX('4 x 50 Obs Relay Women'!$W$7:$W$46),SUMIF('4 x 50 Obs Relay Women'!$C$7:$C$46,$A81,'4 x 50 Obs Relay Women'!$W$7:$W$46)))","v":9},{"$f":"IF($A81=\"\",\"\",IF(SUMIF('4 x 50 medley Relay Women'!$C$7:$C$46,$A81,'4 x 50 medley Relay Women'!$W$7:$W$46)=0,1+MAX('4 x 50 medley Relay Women'!$W$7:$W$46),SUMIF('4 x 50 medley Relay Women'!$C$7:$C$46,$A81,'4 x 50 medley Relay Women'!$W$7:$W$46)))","v":7},{"$f":"IF($A81=\"\",\"\",IF(SUMIF('4 x 25 Manikin Carry Women'!$C$7:$C$46,$A81,'4 x 25 Manikin Carry Women'!$W$7:$W$46)=0,1+MAX('4 x 25 Manikin Carry Women'!$W$7:$W$46),SUMIF('4 x 25 Manikin Carry Women'!$C$7:$C$46,$A81,'4 x 25 Manikin Carry Women'!$W$7:$W$46)))","v":5},{"$f":"IF($A81=\"\",\"\",IF(SUMIF('4 x 12m Line Throw Women'!$C$7:$C$46,$A81,'4 x 12m Line Throw Women'!$W$7:$W$46)=0,1+MAX('4 x 12m Line Throw Women'!$W$7:$W$46),SUMIF('4 x 12m Line Throw Women'!$C$7:$C$46,$A81,'4 x 12m Line Throw Women'!$W$7:$W$46)))","v":3},87,10]
[8,"University of Nottingham",{"$f":"IF($A82=\"\",\"\",IF(SUMIF('50m Manikin Carry Women'!$C$7:$C$46,$A82,'50m Manikin Carry Women'!$Z$7:$Z$46)=0,1+MAX('50m Manikin Carry Women'!$Z$7:$Z$46),SUMIF('50m Manikin Carry Women'!$C$7:$C$46,$A82,'50m Manikin Carry Women'!$Z$7:$Z$46)))","v":6},{"$f":"IF($A82=\"\",\"\",IF(SUMIF('100m Manikin Carry Women'!$C$7:$C$46,$A82,'100m Manikin Carry Women'!$Z$7:$Z$46)=0,1+MAX('100m Manikin Carry Women'!$Z$7:$Z$46),SUMIF('100m Manikin Carry Women'!$C$7:$C$46,$A82,'100m Manikin Carry Women'!$Z$7:$Z$46)))","v":7},{"$f":"IF($A82=\"\",\"\",IF(SUMIF('100m Manikin Tow Women'!$C$7:$C$46,$A82,'100m Manikin Tow Women'!$Z$7:$Z$46)=0,1+MAX('100m Manikin Tow Women'!$Z$7:$Z$46),SUMIF('100m Manikin Tow Women'!$C$7:$C$46,$A82,'100m Manikin Tow Women'!$Z$7:$Z$46)))","v":8},{"$f":"IF($A82=\"\",\"\",IF(SUMIF('200m Obs Women'!$C$7:$C$46,$A82,'200m Obs Women'!$Z$7:$Z$46)=0,1+MAX('200m Obs Women'!$Z$7:$Z$46),SUMIF('200m Obs Women'!$C$7:$C$46,$A82,'200m Obs Women'!$Z$7:$Z$46)))","v":6},{"$f":"IF($A82=\"\",\"\",IF(SUMIF('200m Super Women'!$C$7:$C$46,$A82,'200m Super Women'!$Z$7:$Z$46)=0,1+MAX('200m Super Women'!$Z$7:$Z$46),SUMIF('200m Super Women'!$C$7:$C$46,$A82,'200m Super Women'!$Z$7:$Z$46)))","v":10},{"$f":"IF($A82=\"\",\"\",IF(SUMIF('100 Resue Women'!$C$7:$C$46,$A82,'100 Resue Women'!$Z$7:$Z$46)=0,1+MAX('100 Resue Women'!$Z$7:$Z$46),SUMIF('100 Resue Women'!$C$7:$C$46,$A82,'100 Resue Women'!$Z$7:$Z$46)))","v":9},8,{"$f":"IF($A82=\"\",\"\",IF(SUMIF('4 x 50 Obs Relay Women'!$C$7:$C$46,$A82,'4 x 50 Obs Relay Women'!$W$7:$W$46)=0,1+MAX('4 x 50 Obs Relay Women'!$W$7:$W$46),SUMIF('4 x 50 Obs Relay Women'!$C$7:$C$46,$A82,'4 x 50 Obs Relay Women'!$W$7:$W$46)))","v":4},{"$f":"IF($A82=\"\",\"\",IF(SUMIF('4 x 50 medley Relay Women'!$C$7:$C$46,$A82,'4 x 50 medley Relay Women'!$W$7:$W$46)=0,1+MAX('4 x 50 medley Relay Women'!$W$7:$W$46),SUMIF('4 x 50 medley Relay Women'!$C$7:$C$46,$A82,'4 x 50 medley Relay Women'!$W$7:$W$46)))","v":5},{"$f":"IF($A82=\"\",\"\",IF(SUMIF('4 x 25 Manikin Carry Women'!$C$7:$C$46,$A82,'4 x 25 Manikin Carry Women'!$W$7:$W$46)=0,1+MAX('4 x 25 Manikin Carry Women'!$W$7:$W$46),SUMIF('4 x 25 Manikin Carry Women'!$C$7:$C$46,$A82,'4 x 25 Manikin Carry Women'!$W$7:$W$46)))","v":7},{"$f":"IF($A82=\"\",\"\",IF(SUMIF('4 x 12m Line Throw Women'!$C$7:$C$46,$A82,'4 x 12m Line Throw Women'!$W$7:$W$46)=0,1+MAX('4 x 12m Line Throw Women'!$W$7:$W$46),SUMIF('4 x 12m Line Throw Women'!$C$7:$C$46,$A82,'4 x 12m Line Throw Women'!$W$7:$W$46)))","v":3},73,8]
[18,"University of Oxford",{"$f":"IF($A83=\"\",\"\",IF(SUMIF('50m Manikin Carry Women'!$C$7:$C$46,$A83,'50m Manikin Carry Women'!$Z$7:$Z$46)=0,1+MAX('50m Manikin Carry Women'!$Z$7:$Z$46),SUMIF('50m Manikin Carry Women'!$C$7:$C$46,$A83,'50m Manikin Carry Women'!$Z$7:$Z$46)))","v":4},{"$f":"IF($A83=\"\",\"\",IF(SUMIF('100m Manikin Carry Women'!$C$7:$C$46,$A83,'100m Manikin Carry Women'!$Z$7:$Z$46)=0,1+MAX('100m Manikin Carry Women'!$Z$7:$Z$46),SUMIF('100m Manikin Carry Women'!$C$7:$C$46,$A83,'100m Manikin Carry Women'!$Z$7:$Z$46)))","v":5},{"$f":"IF($A83=\"\",\"\",IF(SUMIF('100m Manikin Tow Women'!$C$7:$C$46,$A83,'100m Manikin Tow Women'!$Z$7:$Z$46)=0,1+MAX('100m Manikin Tow Women'!$Z$7:$Z$46),SUMIF('100m Manikin Tow Women'!$C$7:$C$46,$A83,'100m Manikin Tow Women'!$Z$7:$Z$46)))","v":6},{"$f":"IF($A83=\"\",\"\",IF(SUMIF('200m Obs Women'!$C$7:$C$46,$A83,'200m Obs Women'!$Z$7:$Z$46)=0,1+MAX('200m Obs Women'!$Z$7:$Z$46),SUMIF('200m Obs Women'!$C$7:$C$46,$A83,'200m Obs Women'!$Z$7:$Z$46)))","v":5},{"$f":"IF($A83=\"\",\"\",IF(SUMIF('200m Super Women'!$C$7:$C$46,$A83,'200m Super Women'!$Z$7:$Z$46)=0,1+MAX('200m Super Women'!$Z$7:$Z$46),SUMIF('200m Super Women'!$C$7:$C$46,$A83,'200m Super Women'!$Z$7:$Z$46)))","v":5},{"$f":"IF($A83=\"\",\"\",IF(SUMIF('100 Resue Women'!$C$7:$C$46,$A83,'100 Resue Women'!$Z$7:$Z$46)=0,1+MAX('100 Resue Women'!$Z$7:$Z$46),SUMIF('100 Resue Women'!$C$7:$C$46,$A83,'100 Resue Women'!$Z$7:$Z$46)))","v":3},{"$f":"IF($A83=\"\",\"\",IF(SUMIF('Line Throw Women'!$C$7:$C$46,$A83,'Line Throw Women'!$AB$7:$AB$46)=0,1+MAX('Line Throw Women'!$AB$7:$AB$46),SUMIF('Line Throw Women'!$C$7:$C$46,$A83,'Line Throw Women'!$AB$7:$AB$46)))","v":7},{"$f":"IF($A83=\"\",\"\",IF(SUMIF('4 x 50 Obs Relay Women'!$C$7:$C$46,$A83,'4 x 50 Obs Relay Women'!$W$7:$W$46)=0,1+MAX('4 x 50 Obs Relay Women'!$W$7:$W$46),SUMIF('4 x 50 Obs Relay Women'!$C$7:$C$46,$A83,'4 x 50 Obs Relay Women'!$W$7:$W$46)))","v":10},{"$f":"IF($A83=\"\",\"\",IF(SUMIF('4 x 50 medley Relay Women'!$C$7:$C$46,$A83,'4 x 50 medley Relay Women'!$W$7:$W$46)=0,1+MAX('4 x 50 medley Relay Women'!$W$7:$W$46),SUMIF('4 x 50 medley Relay Women'!$C$7:$C$46,$A83,'4 x 50 medley Relay Women'!$W$7:$W$46)))","v":10},{"$f":"IF($A83=\"\",\"\",IF(SUMIF('4 x 25 Manikin Carry Women'!$C$7:$C$46,$A83,'4 x 25 Manikin Carry Women'!$W$7:$W$46)=0,1+MAX('4 x 25 Manikin Carry Women'!$W$7:$W$46),SUMIF('4 x 25 Manikin Carry Women'!$C$7:$C$46,$A83,'4 x 25 Manikin Carry Women'!$W$7:$W$46)))","v":10},{"$f":"IF($A83=\"\",\"\",IF(SUMIF('4 x 12m Line Throw Women'!$C$7:$C$46,$A83,'4 x 12m Line Throw Women'!$W$7:$W$46)=0,1+MAX('4 x 12m Line Throw Women'!$W$7:$W$46),SUMIF('4 x 12m Line Throw Women'!$C$7:$C$46,$A83,'4 x 12m Line Throw Women'!$W$7:$W$46)))","v":4},69,6]
[9,"University of Plymouth",{"$f":"IF($A84=\"\",\"\",IF(SUMIF('50m Manikin Carry Women'!$C$7:$C$46,$A84,'50m Manikin Carry Women'!$Z$7:$Z$46)=0,1+MAX('50m Manikin Carry Women'!$Z$7:$Z$46),SUMIF('50m Manikin Carry Women'!$C$7:$C$46,$A84,'50m Manikin Carry Women'!$Z$7:$Z$46)))","v":10},{"$f":"IF($A84=\"\",\"\",IF(SUMIF('100m Manikin Carry Women'!$C$7:$C$46,$A84,'100m Manikin Carry Women'!$Z$7:$Z$46)=0,1+MAX('100m Manikin Carry Women'!$Z$7:$Z$46),SUMIF('100m Manikin Carry Women'!$C$7:$C$46,$A84,'100m Manikin Carry Women'!$Z$7:$Z$46)))","v":4},{"$f":"IF($A84=\"\",\"\",IF(SUMIF('100m Manikin Tow Women'!$C$7:$C$46,$A84,'100m Manikin Tow Women'!$Z$7:$Z$46)=0,1+MAX('100m Manikin Tow Women'!$Z$7:$Z$46),SUMIF('100m Manikin Tow Women'!$C$7:$C$46,$A84,'100m Manikin Tow Women'!$Z$7:$Z$46)))","v":10},{"$f":"IF($A84=\"\",\"\",IF(SUMIF('200m Obs Women'!$C$7:$C$46,$A84,'200m Obs Women'!$Z$7:$Z$46)=0,1+MAX('200m Obs Women'!$Z$7:$Z$46),SUMIF('200m Obs Women'!$C$7:$C$46,$A84,'200m Obs Women'!$Z$7:$Z$46)))","v":4},{"$f":"IF($A84=\"\",\"\",IF(SUMIF('200m Super Women'!$C$7:$C$46,$A84,'200m Super Women'!$Z$7:$Z$46)=0,1+MAX('200m Super Women'!$Z$7:$Z$46),SUMIF('200m Super Women'!$C$7:$C$46,$A84,'200m Super Women'!$Z$7:$Z$46)))","v":4},{"$f":"IF($A84=\"\",\"\",IF(SUMIF('100 Resue Women'!$C$7:$C$46,$A84,'100 Resue Women'!$Z$7:$Z$46)=0,1+MAX('100 Resue Women'!$Z$7:$Z$46),SUMIF('100 Resue Women'!$C$7:$C$46,$A84,'100 Resue Women'!$Z$7:$Z$46)))","v":5},8,{"$f":"IF($A84=\"\",\"\",IF(SUMIF('4 x 50 Obs Relay Women'!$C$7:$C$46,$A84,'4 x 50 Obs Relay Women'!$W$7:$W$46)=0,1+MAX('4 x 50 Obs Relay Women'!$W$7:$W$46),SUMIF('4 x 50 Obs Relay Women'!$C$7:$C$46,$A84,'4 x 50 Obs Relay Women'!$W$7:$W$46)))","v":5},{"$f":"IF($A84=\"\",\"\",IF(SUMIF('4 x 50 medley Relay Women'!$C$7:$C$46,$A84,'4 x 50 medley Relay Women'!$W$7:$W$46)=0,1+MAX('4 x 50 medley Relay Women'!$W$7:$W$46),SUMIF('4 x 50 medley Relay Women'!$C$7:$C$46,$A84,'4 x 50 medley Relay Women'!$W$7:$W$46)))","v":8},{"$f":"IF($A84=\"\",\"\",IF(SUMIF('4 x 25 Manikin Carry Women'!$C$7:$C$46,$A84,'4 x 25 Manikin Carry Women'!$W$7:$W$46)=0,1+MAX('4 x 25 Manikin Carry Women'!$W$7:$W$46),SUMIF('4 x 25 Manikin Carry Women'!$C$7:$C$46,$A84,'4 x 25 Manikin Carry Women'!$W$7:$W$46)))","v":8},{"$f":"IF($A84=\"\",\"\",IF(SUMIF('4 x 12m Line Throw Women'!$C$7:$C$46,$A84,'4 x 12m Line Throw Women'!$W$7:$W$46)=0,1+MAX('4 x 12m Line Throw Women'!$W$7:$W$46),SUMIF('4 x 12m Line Throw Women'!$C$7:$C$46,$A84,'4 x 12m Line Throw Women'!$W$7:$W$46)))","v":3},69,6]
[20,"University of Southampton",{"$f":"IF($A85=\"\",\"\",IF(SUMIF('50m Manikin Carry Women'!$C$7:$C$46,$A85,'50m Manikin Carry Women'!$Z$7:$Z$46)=0,1+MAX('50m Manikin Carry Women'!$Z$7:$Z$46),SUMIF('50m Manikin Carry Women'!$C$7:$C$46,$A85,'50m Manikin Carry Women'!$Z$7:$Z$46)))","v":2},{"$f":"IF($A85=\"\",\"\",IF(SUMIF('100m Manikin Carry Women'!$C$7:$C$46,$A85,'100m Manikin Carry Women'!$Z$7:$Z$46)=0,1+MAX('100m Manikin Carry Women'!$Z$7:$Z$46),SUMIF('100m Manikin Carry Women'!$C$7:$C$46,$A85,'100m Manikin Carry Women'!$Z$7:$Z$46)))","v":3},{"$f":"IF($A85=\"\",\"\",IF(SUMIF('100m Manikin Tow Women'!$C$7:$C$46,$A85,'100m Manikin Tow Women'!$Z$7:$Z$46)=0,1+MAX('100m Manikin Tow Women'!$Z$7:$Z$46),SUMIF('100m Manikin Tow Women'!$C$7:$C$46,$A85,'100m Manikin Tow Women'!$Z$7:$Z$46)))","v":2},{"$f":"IF($A85=\"\",\"\",IF(SUMIF('200m Obs Women'!$C$7:$C$46,$A85,'200m Obs Women'!$Z$7:$Z$46)=0,1+MAX('200m Obs Women'!$Z$7:$Z$46),SUMIF('200m Obs Women'!$C$7:$C$46,$A85,'200m Obs Women'!$Z$7:$Z$46)))","v":3},{"$f":"IF($A85=\"\",\"\",IF(SUMIF('200m Super Women'!$C$7:$C$46,$A85,'200m Super Women'!$Z$7:$Z$46)=0,1+MAX('200m Super Women'!$Z$7:$Z$46),SUMIF('200m Super Women'!$C$7:$C$46,$A85,'200m Super Women'!$Z$7:$Z$46)))","v":2},{"$f":"IF($A85=\"\",\"\",IF(SUMIF('100 Resue Women'!$C$7:$C$46,$A85,'100 Resue Women'!$Z$7:$Z$46)=0,1+MAX('100 Resue Women'!$Z$7:$Z$46),SUMIF('100 Resue Women'!$C$7:$C$46,$A85,'100 Resue Women'!$Z$7:$Z$46)))","v":2},8,{"$f":"IF($A85=\"\",\"\",IF(SUMIF('4 x 50 Obs Relay Women'!$C$7:$C$46,$A85,'4 x 50 Obs Relay Women'!$W$7:$W$46)=0,1+MAX('4 x 50 Obs Relay Women'!$W$7:$W$46),SUMIF('4 x 50 Obs Relay Women'!$C$7:$C$46,$A85,'4 x 50 Obs Relay Women'!$W$7:$W$46)))","v":2},{"$f":"IF($A85=\"\",\"\",IF(SUMIF('4 x 50 medley Relay Women'!$C$7:$C$46,$A85,'4 x 50 medley Relay Women'!$W$7:$W$46)=0,1+MAX('4 x 50 medley Relay Women'!$W$7:$W$46),SUMIF('4 x 50 medley Relay Women'!$C$7:$C$46,$A85,'4 x 50 medley Relay Women'!$W$7:$W$46)))","v":3},{"$f":"IF($A85=\"\",\"\",IF(SUMIF('4 x 25 Manikin Carry Women'!$C$7:$C$46,$A85,'4 x 25 Manikin Carry Women'!$W$7:$W$46)=0,1+MAX('4 x 25 Manikin Carry Women'!$W$7:$W$46),SUMIF('4 x 25 Manikin Carry Women'!$C$7:$C$46,$A85,'4 x 25 Manikin Carry Women'!$W$7:$W$46)))","v":2},{"$f":"IF($A85=\"\",\"\",IF(SUMIF('4 x 12m Line Throw Women'!$C$7:$C$46,$A85,'4 x 12m Line Throw Women'!$W$7:$W$46)=0,1+MAX('4 x 12m Line Throw Women'!$W$7:$W$46),SUMIF('4 x 12m Line Throw Women'!$C$7:$C$46,$A85,'4 x 12m Line Throw Women'!$W$7:$W$46)))","v":1},30,3]
[12,"University of Warwick",{"$f":"IF($A86=\"\",\"\",IF(SUMIF('50m Manikin Carry Women'!$C$7:$C$46,$A86,'50m Manikin Carry Women'!$Z$7:$Z$46)=0,1+MAX('50m Manikin Carry Women'!$Z$7:$Z$46),SUMIF('50m Manikin Carry Women'!$C$7:$C$46,$A86,'50m Manikin Carry Women'!$Z$7:$Z$46)))","v":5},{"$f":"IF($A86=\"\",\"\",IF(SUMIF('100m Manikin Carry Women'!$C$7:$C$46,$A86,'100m Manikin Carry Women'!$Z$7:$Z$46)=0,1+MAX('100m Manikin Carry Women'!$Z$7:$Z$46),SUMIF('100m Manikin Carry Women'!$C$7:$C$46,$A86,'100m Manikin Carry Women'!$Z$7:$Z$46)))","v":8},{"$f":"IF($A86=\"\",\"\",IF(SUMIF('100m Manikin Tow Women'!$C$7:$C$46,$A86,'100m Manikin Tow Women'!$Z$7:$Z$46)=0,1+MAX('100m Manikin Tow Women'!$Z$7:$Z$46),SUMIF('100m Manikin Tow Women'!$C$7:$C$46,$A86,'100m Manikin Tow Women'!$Z$7:$Z$46)))","v":5},{"$f":"IF($A86=\"\",\"\",IF(SUMIF('200m Obs Women'!$C$7:$C$46,$A86,'200m Obs Women'!$Z$7:$Z$46)=0,1+MAX('200m Obs Women'!$Z$7:$Z$46),SUMIF('200m Obs Women'!$C$7:$C$46,$A86,'200m Obs Women'!$Z$7:$Z$46)))","v":8},{"$f":"IF($A86=\"\",\"\",IF(SUMIF('200m Super Women'!$C$7:$C$46,$A86,'200m Super Women'!$Z$7:$Z$46)=0,1+MAX('200m Super Women'!$Z$7:$Z$46),SUMIF('200m Super Women'!$C$7:$C$46,$A86,'200m Super Women'!$Z$7:$Z$46)))","v":8},{"$f":"IF($A86=\"\",\"\",IF(SUMIF('100 Resue Women'!$C$7:$C$46,$A86,'100 Resue Women'!$Z$7:$Z$46)=0,1+MAX('100 Resue Women'!$Z$7:$Z$46),SUMIF('100 Resue Women'!$C$7:$C$46,$A86,'100 Resue Women'!$Z$7:$Z$46)))","v":7},{"$f":"IF($A86=\"\",\"\",IF(SUMIF('Line Throw Women'!$C$7:$C$46,$A86,'Line Throw Women'!$AB$7:$AB$46)=0,1+MAX('Line Throw Women'!$AB$7:$AB$46),SUMIF('Line Throw Women'!$C$7:$C$46,$A86,'Line Throw Women'!$AB$7:$AB$46)))","v":5},{"$f":"IF($A86=\"\",\"\",IF(SUMIF('4 x 50 Obs Relay Women'!$C$7:$C$46,$A86,'4 x 50 Obs Relay Women'!$W$7:$W$46)=0,1+MAX('4 x 50 Obs Relay Women'!$W$7:$W$46),SUMIF('4 x 50 Obs Relay Women'!$C$7:$C$46,$A86,'4 x 50 Obs Relay Women'!$W$7:$W$46)))","v":7},{"$f":"IF($A86=\"\",\"\",IF(SUMIF('4 x 50 medley Relay Women'!$C$7:$C$46,$A86,'4 x 50 medley Relay Women'!$W$7:$W$46)=0,1+MAX('4 x 50 medley Relay Women'!$W$7:$W$46),SUMIF('4 x 50 medley Relay Women'!$C$7:$C$46,$A86,'4 x 50 medley Relay Women'!$W$7:$W$46)))","v":6},{"$f":"IF($A86=\"\",\"\",IF(SUMIF('4 x 25 Manikin Carry Women'!$C$7:$C$46,$A86,'4 x 25 Manikin Carry Women'!$W$7:$W$46)=0,1+MAX('4 x 25 Manikin Carry Women'!$W$7:$W$46),SUMIF('4 x 25 Manikin Carry Women'!$C$7:$C$46,$A86,'4 x 25 Manikin Carry Women'!$W$7:$W$46)))","v":3},{"$f":"IF($A86=\"\",\"\",IF(SUMIF('4 x 12m Line Throw Women'!$C$7:$C$46,$A86,'4 x 12m Line Throw Women'!$W$7:$W$46)=0,1+MAX('4 x 12m Line Throw Women'!$W$7:$W$46),SUMIF('4 x 12m Line Throw Women'!$C$7:$C$46,$A86,'4 x 12m Line Throw Women'!$W$7:$W$46)))","v":3},65,5]
[11,"St. Andrews",{"$f":"IF($A87=\"\",\"\",IF(SUMIF('50m Manikin Carry Women'!$C$7:$C$46,$A87,'50m Manikin Carry Women'!$Z$7:$Z$46)=0,1+MAX('50m Manikin Carry Women'!$Z$7:$Z$46),SUMIF('50m Manikin Carry Women'!$C$7:$C$46,$A87,'50m Manikin Carry Women'!$Z$7:$Z$46)))","v":9},{"$f":"IF($A87=\"\",\"\",IF(SUMIF('100m Manikin Carry Women'!$C$7:$C$46,$A87,'100m Manikin Carry Women'!$Z$7:$Z$46)=0,1+MAX('100m Manikin Carry Women'!$Z$7:$Z$46),SUMIF('100m Manikin Carry Women'!$C$7:$C$46,$A87,'100m Manikin Carry Women'!$Z$7:$Z$46)))","v":6},{"$f":"IF($A87=\"\",\"\",IF(SUMIF('100m Manikin Tow Women'!$C$7:$C$46,$A87,'100m Manikin Tow Women'!$Z$7:$Z$46)=0,1+MAX('100m Manikin Tow Women'!$Z$7:$Z$46),SUMIF('100m Manikin Tow Women'!$C$7:$C$46,$A87,'100m Manikin Tow Women'!$Z$7:$Z$46)))","v":7},{"$f":"IF($A87=\"\",\"\",IF(SUMIF('200m Obs Women'!$C$7:$C$46,$A87,'200m Obs Women'!$Z$7:$Z$46)=0,1+MAX('200m Obs Women'!$Z$7:$Z$46),SUMIF('200m Obs Women'!$C$7:$C$46,$A87,'200m Obs Women'!$Z$7:$Z$46)))","v":10},{"$f":"IF($A87=\"\",\"\",IF(SUMIF('200m Super Women'!$C$7:$C$46,$A87,'200m Super Women'!$Z$7:$Z$46)=0,1+MAX('200m Super Women'!$Z$7:$Z$46),SUMIF('200m Super Women'!$C$7:$C$46,$A87,'200m Super Women'!$Z$7:$Z$46)))","v":9},{"$f":"IF($A87=\"\",\"\",IF(SUMIF('100 Resue Women'!$C$7:$C$46,$A87,'100 Resue Women'!$Z$7:$Z$46)=0,1+MAX('100 Resue Women'!$Z$7:$Z$46),SUMIF('100 Resue Women'!$C$7:$C$46,$A87,'100 Resue Women'!$Z$7:$Z$46)))","v":10},{"$f":"IF($A87=\"\",\"\",IF(SUMIF('Line Throw Women'!$C$7:$C$46,$A87,'Line Throw Women'!$AB$7:$AB$46)=0,1+MAX('Line Throw Women'!$AB$7:$AB$46),SUMIF('Line Throw Women'!$C$7:$C$46,$A87,'Line Throw Women'!$AB$7:$AB$46)))","v":4},{"$f":"IF($A87=\"\",\"\",IF(SUMIF('4 x 50 Obs Relay Women'!$C$7:$C$46,$A87,'4 x 50 Obs Relay Women'!$W$7:$W$46)=0,1+MAX('4 x 50 Obs Relay Women'!$W$7:$W$46),SUMIF('4 x 50 Obs Relay Women'!$C$7:$C$46,$A87,'4 x 50 Obs Relay Women'!$W$7:$W$46)))","v":8},{"$f":"IF($A87=\"\",\"\",IF(SUMIF('4 x 50 medley Relay Women'!$C$7:$C$46,$A87,'4 x 50 medley Relay Women'!$W$7:$W$46)=0,1+MAX('4 x 50 medley Relay Women'!$W$7:$W$46),SUMIF('4 x 50 medley Relay Women'!$C$7:$C$46,$A87,'4 x 50 medley Relay Women'!$W$7:$W$46)))","v":9},{"$f":"IF($A87=\"\",\"\",IF(SUMIF('4 x 25 Manikin Carry Women'!$C$7:$C$46,$A87,'4 x 25 Manikin Carry Women'!$W$7:$W$46)=0,1+MAX('4 x 25 Manikin Carry Women'!$W$7:$W$46),SUMIF('4 x 25 Manikin Carry Women'!$C$7:$C$46,$A87,'4 x 25 Manikin Carry Women'!$W$7:$W$46)))","v":9},{"$f":"IF($A87=\"\",\"\",IF(SUMIF('4 x 12m Line Throw Women'!$C$7:$C$46,$A87,'4 x 12m Line Throw Women'!$W$7:$W$46)=0,1+MAX('4 x 12m Line Throw Women'!$W$7:$W$46),SUMIF('4 x 12m Line Throw Women'!$C$7:$C$46,$A87,'4 x 12m Line Throw Women'!$W$7:$W$46)))","v":3},84,9]
["","",{"$f":"IF($A88=\"\",\"\",IF(SUMIF('50m Manikin Carry Women'!$C$7:$C$46,$A88,'50m Manikin Carry Women'!$Z$7:$Z$46)=0,1+MAX('50m Manikin Carry Women'!$Z$7:$Z$46),SUMIF('50m Manikin Carry Women'!$C$7:$C$46,$A88,'50m Manikin Carry Women'!$Z$7:$Z$46)))","v":""},{"$f":"IF($A88=\"\",\"\",IF(SUMIF('100m Manikin Carry Women'!$C$7:$C$46,$A88,'100m Manikin Carry Women'!$Z$7:$Z$46)=0,1+MAX('100m Manikin Carry Women'!$Z$7:$Z$46),SUMIF('100m Manikin Carry Women'!$C$7:$C$46,$A88,'100m Manikin Carry Women'!$Z$7:$Z$46)))","v":""},{"$f":"IF($A88=\"\",\"\",IF(SUMIF('100m Manikin Tow Women'!$C$7:$C$46,$A88,'100m Manikin Tow Women'!$Z$7:$Z$46)=0,1+MAX('100m Manikin Tow Women'!$Z$7:$Z$46),SUMIF('100m Manikin Tow Women'!$C$7:$C$46,$A88,'100m Manikin Tow Women'!$Z$7:$Z$46)))","v":""},{"$f":"IF($A88=\"\",\"\",IF(SUMIF('200m Obs Women'!$C$7:$C$46,$A88,'200m Obs Women'!$Z$7:$Z$46)=0,1+MAX('200m Obs Women'!$Z$7:$Z$46),SUMIF('200m Obs Women'!$C$7:$C$46,$A88,'200m Obs Women'!$Z$7:$Z$46)))","v":""},{"$f":"IF($A88=\"\",\"\",IF(SUMIF('200m Super Women'!$C$7:$C$46,$A88,'200m Super Women'!$Z$7:$Z$46)=0,1+MAX('200m Super Women'!$Z$7:$Z$46),SUMIF('200m Super Women'!$C$7:$C$46,$A88,'200m Super Women'!$Z$7:$Z$46)))","v":""},{"$f":"IF($A88=\"\",\"\",IF(SUMIF('100 Resue Women'!$C$7:$C$46,$A88,'100 Resue Women'!$Z$7:$Z$46)=0,1+MAX('100 Resue Women'!$Z$7:$Z$46),SUMIF('100 Resue Women'!$C$7:$C$46,$A88,'100 Resue Women'!$Z$7:$Z$46)))","v":""},{"$f":"IF($A88=\"\",\"\",IF(SUMIF('Line Throw Women'!$C$7:$C$46,$A88,'Line Throw Women'!$AB$7:$AB$46)=0,1+MAX('Line Throw Women'!$AB$7:$AB$46),SUMIF('Line Throw Women'!$C$7:$C$46,$A88,'Line Throw Women'!$AB$7:$AB$46)))","v":""},{"$f":"IF($A88=\"\",\"\",IF(SUMIF('4 x 50 Obs Relay Women'!$C$7:$C$46,$A88,'4 x 50 Obs Relay Women'!$W$7:$W$46)=0,1+MAX('4 x 50 Obs Relay Women'!$W$7:$W$46),SUMIF('4 x 50 Obs Relay Women'!$C$7:$C$46,$A88,'4 x 50 Obs Relay Women'!$W$7:$W$46)))","v":""},{"$f":"IF($A88=\"\",\"\",IF(SUMIF('4 x 50 medley Relay Women'!$C$7:$C$46,$A88,'4 x 50 medley Relay Women'!$W$7:$W$46)=0,1+MAX('4 x 50 medley Relay Women'!$W$7:$W$46),SUMIF('4 x 50 medley Relay Women'!$C$7:$C$46,$A88,'4 x 50 medley Relay Women'!$W$7:$W$46)))","v":""},{"$f":"IF($A88=\"\",\"\",IF(SUMIF('4 x 25 Manikin Carry Women'!$C$7:$C$46,$A88,'4 x 25 Manikin Carry Women'!$W$7:$W$46)=0,1+MAX('4 x 25 Manikin Carry Women'!$W$7:$W$46),SUMIF('4 x 25 Manikin Carry Women'!$C$7:$C$46,$A88,'4 x 25 Manikin Carry Women'!$W$7:$W$46)))","v":""},{"$f":"IF($A88=\"\",\"\",IF(SUMIF('4 x 12m Line Throw Women'!$C$7:$C$46,$A88,'4 x 12m Line Throw Women'!$W$7:$W$46)=0,1+MAX('4 x 12m Line Throw Women'!$W$7:$W$46),SUMIF('4 x 12m Line Throw Women'!$C$7:$C$46,$A88,'4 x 12m Line Throw Women'!$W$7:$W$46)))","v":""},"",""]
["","",{"$f":"IF($A89=\"\",\"\",IF(SUMIF('50m Manikin Carry Women'!$C$7:$C$46,$A89,'50m Manikin Carry Women'!$Z$7:$Z$46)=0,1+MAX('50m Manikin Carry Women'!$Z$7:$Z$46),SUMIF('50m Manikin Carry Women'!$C$7:$C$46,$A89,'50m Manikin Carry Women'!$Z$7:$Z$46)))","v":""},{"$f":"IF($A89=\"\",\"\",IF(SUMIF('100m Manikin Carry Women'!$C$7:$C$46,$A89,'100m Manikin Carry Women'!$Z$7:$Z$46)=0,1+MAX('100m Manikin Carry Women'!$Z$7:$Z$46),SUMIF('100m Manikin Carry Women'!$C$7:$C$46,$A89,'100m Manikin Carry Women'!$Z$7:$Z$46)))","v":""},{"$f":"IF($A89=\"\",\"\",IF(SUMIF('100m Manikin Tow Women'!$C$7:$C$46,$A89,'100m Manikin Tow Women'!$Z$7:$Z$46)=0,1+MAX('100m Manikin Tow Women'!$Z$7:$Z$46),SUMIF('100m Manikin Tow Women'!$C$7:$C$46,$A89,'100m Manikin Tow Women'!$Z$7:$Z$46)))","v":""},{"$f":"IF($A89=\"\",\"\",IF(SUMIF('200m Obs Women'!$C$7:$C$46,$A89,'200m Obs Women'!$Z$7:$Z$46)=0,1+MAX('200m Obs Women'!$Z$7:$Z$46),SUMIF('200m Obs Women'!$C$7:$C$46,$A89,'200m Obs Women'!$Z$7:$Z$46)))","v":""},{"$f":"IF($A89=\"\",\"\",IF(SUMIF('200m Super Women'!$C$7:$C$46,$A89,'200m Super Women'!$Z$7:$Z$46)=0,1+MAX('200m Super Women'!$Z$7:$Z$46),SUMIF('200m Super Women'!$C$7:$C$46,$A89,'200m Super Women'!$Z$7:$Z$46)))","v":""},{"$f":"IF($A89=\"\",\"\",IF(SUMIF('100 Resue Women'!$C$7:$C$46,$A89,'100 Resue Women'!$Z$7:$Z$46)=0,1+MAX('100 Resue Women'!$Z$7:$Z$46),SUMIF('100 Resue Women'!$C$7:$C$46,$A89,'100 Resue Women'!$Z$7:$Z$46)))","v":""},{"$f":"IF($A89=\"\",\"\",IF(SUMIF('Line Throw Women'!$C$7:$C$46,$A89,'Line Throw Women'!$AB$7:$AB$46)=0,1+MAX('Line Throw Women'!$AB$7:$AB$46),SUMIF('Line Throw Women'!$C$7:$C$46,$A89,'Line Throw Women'!$AB$7:$AB$46)))","v":""},{"$f":"IF($A89=\"\",\"\",IF(SUMIF('4 x 50 Obs Relay Women'!$C$7:$C$46,$A89,'4 x 50 Obs Relay Women'!$W$7:$W$46)=0,1+MAX('4 x 50 Obs Relay Women'!$W$7:$W$46),SUMIF('4 x 50 Obs Relay Women'!$C$7:$C$46,$A89,'4 x 50 Obs Relay Women'!$W$7:$W$46)))","v":""},{"$f":"IF($A89=\"\",\"\",IF(SUMIF('4 x 50 medley Relay Women'!$C$7:$C$46,$A89,'4 x 50 medley Relay Women'!$W$7:$W$46)=0,1+MAX('4 x 50 medley Relay Women'!$W$7:$W$46),SUMIF('4 x 50 medley Relay Women'!$C$7:$C$46,$A89,'4 x 50 medley Relay Women'!$W$7:$W$46)))","v":""},{"$f":"IF($A89=\"\",\"\",IF(SUMIF('4 x 25 Manikin Carry Women'!$C$7:$C$46,$A89,'4 x 25 Manikin Carry Women'!$W$7:$W$46)=0,1+MAX('4 x 25 Manikin Carry Women'!$W$7:$W$46),SUMIF('4 x 25 Manikin Carry Women'!$C$7:$C$46,$A89,'4 x 25 Manikin Carry Women'!$W$7:$W$46)))","v":""},{"$f":"IF($A89=\"\",\"\",IF(SUMIF('4 x 12m Line Throw Women'!$C$7:$C$46,$A89,'4 x 12m Line Throw Women'!$W$7:$W$46)=0,1+MAX('4 x 12m Line Throw Women'!$W$7:$W$46),SUMIF('4 x 12m Line Throw Women'!$C$7:$C$46,$A89,'4 x 12m Line Throw Women'!$W$7:$W$46)))","v":""},"",""]
["","",{"$f":"IF($A90=\"\",\"\",IF(SUMIF('50m Manikin Carry Women'!$C$7:$C$46,$A90,'50m Manikin Carry Women'!$Z$7:$Z$46)=0,1+MAX('50m Manikin Carry Women'!$Z$7:$Z$46),SUMIF('50m Manikin Carry Women'!$C$7:$C$46,$A90,'50m Manikin Carry Women'!$Z$7:$Z$46)))","v":""},{"$f":"IF($A90=\"\",\"\",IF(SUMIF('100m Manikin Carry Women'!$C$7:$C$46,$A90,'100m Manikin Carry Women'!$Z$7:$Z$46)=0,1+MAX('100m Manikin Carry Women'!$Z$7:$Z$46),SUMIF('100m Manikin Carry Women'!$C$7:$C$46,$A90,'100m Manikin Carry Women'!$Z$7:$Z$46)))","v":""},{"$f":"IF($A90=\"\",\"\",IF(SUMIF('100m Manikin Tow Women'!$C$7:$C$46,$A90,'100m Manikin Tow Women'!$Z$7:$Z$46)=0,1+MAX('100m Manikin Tow Women'!$Z$7:$Z$46),SUMIF('100m Manikin Tow Women'!$C$7:$C$46,$A90,'100m Manikin Tow Women'!$Z$7:$Z$46)))","v":""},{"$f":"IF($A90=\"\",\"\",IF(SUMIF('200m Obs Women'!$C$7:$C$46,$A90,'200m Obs Women'!$Z$7:$Z$46)=0,1+MAX('200m Obs Women'!$Z$7:$Z$46),SUMIF('200m Obs Women'!$C$7:$C$46,$A90,'200m Obs Women'!$Z$7:$Z$46)))","v":""},{"$f":"IF($A90=\"\",\"\",IF(SUMIF('200m Super Women'!$C$7:$C$46,$A90,'200m Super Women'!$Z$7:$Z$46)=0,1+MAX('200m Super Women'!$Z$7:$Z$46),SUMIF('200m Super Women'!$C$7:$C$46,$A90,'200m Super Women'!$Z$7:$Z$46)))","v":""},{"$f":"IF($A90=\"\",\"\",IF(SUMIF('100 Resue Women'!$C$7:$C$46,$A90,'100 Resue Women'!$Z$7:$Z$46)=0,1+MAX('100 Resue Women'!$Z$7:$Z$46),SUMIF('100 Resue Women'!$C$7:$C$46,$A90,'100 Resue Women'!$Z$7:$Z$46)))","v":""},{"$f":"IF($A90=\"\",\"\",IF(SUMIF('Line Throw Women'!$C$7:$C$46,$A90,'Line Throw Women'!$AB$7:$AB$46)=0,1+MAX('Line Throw Women'!$AB$7:$AB$46),SUMIF('Line Throw Women'!$C$7:$C$46,$A90,'Line Throw Women'!$AB$7:$AB$46)))","v":""},{"$f":"IF($A90=\"\",\"\",IF(SUMIF('4 x 50 Obs Relay Women'!$C$7:$C$46,$A90,'4 x 50 Obs Relay Women'!$W$7:$W$46)=0,1+MAX('4 x 50 Obs Relay Women'!$W$7:$W$46),SUMIF('4 x 50 Obs Relay Women'!$C$7:$C$46,$A90,'4 x 50 Obs Relay Women'!$W$7:$W$46)))","v":""},{"$f":"IF($A90=\"\",\"\",IF(SUMIF('4 x 50 medley Relay Women'!$C$7:$C$46,$A90,'4 x 50 medley Relay Women'!$W$7:$W$46)=0,1+MAX('4 x 50 medley Relay Women'!$W$7:$W$46),SUMIF('4 x 50 medley Relay Women'!$C$7:$C$46,$A90,'4 x 50 medley Relay Women'!$W$7:$W$46)))","v":""},{"$f":"IF($A90=\"\",\"\",IF(SUMIF('4 x 25 Manikin Carry Women'!$C$7:$C$46,$A90,'4 x 25 Manikin Carry Women'!$W$7:$W$46)=0,1+MAX('4 x 25 Manikin Carry Women'!$W$7:$W$46),SUMIF('4 x 25 Manikin Carry Women'!$C$7:$C$46,$A90,'4 x 25 Manikin Carry Women'!$W$7:$W$46)))","v":""},{"$f":"IF($A90=\"\",\"\",IF(SUMIF('4 x 12m Line Throw Women'!$C$7:$C$46,$A90,'4 x 12m Line Throw Women'!$W$7:$W$46)=0,1+MAX('4 x 12m Line Throw Women'!$W$7:$W$46),SUMIF('4 x 12m Line Throw Women'!$C$7:$C$46,$A90,'4 x 12m Line Throw Women'!$W$7:$W$46)))","v":""},"",""]
["","",{"$f":"IF($A91=\"\",\"\",IF(SUMIF('50m Manikin Carry Women'!$C$7:$C$46,$A91,'50m Manikin Carry Women'!$Z$7:$Z$46)=0,1+MAX('50m Manikin Carry Women'!$Z$7:$Z$46),SUMIF('50m Manikin Carry Women'!$C$7:$C$46,$A91,'50m Manikin Carry Women'!$Z$7:$Z$46)))","v":""},{"$f":"IF($A91=\"\",\"\",IF(SUMIF('100m Manikin Carry Women'!$C$7:$C$46,$A91,'100m Manikin Carry Women'!$Z$7:$Z$46)=0,1+MAX('100m Manikin Carry Women'!$Z$7:$Z$46),SUMIF('100m Manikin Carry Women'!$C$7:$C$46,$A91,'100m Manikin Carry Women'!$Z$7:$Z$46)))","v":""},{"$f":"IF($A91=\"\",\"\",IF(SUMIF('100m Manikin Tow Women'!$C$7:$C$46,$A91,'100m Manikin Tow Women'!$Z$7:$Z$46)=0,1+MAX('100m Manikin Tow Women'!$Z$7:$Z$46),SUMIF('100m Manikin Tow Women'!$C$7:$C$46,$A91,'100m Manikin Tow Women'!$Z$7:$Z$46)))","v":""},{"$f":"IF($A91=\"\",\"\",IF(SUMIF('200m Obs Women'!$C$7:$C$46,$A91,'200m Obs Women'!$Z$7:$Z$46)=0,1+MAX('200m Obs Women'!$Z$7:$Z$46),SUMIF('200m Obs Women'!$C$7:$C$46,$A91,'200m Obs Women'!$Z$7:$Z$46)))","v":""},{"$f":"IF($A91=\"\",\"\",IF(SUMIF('200m Super Women'!$C$7:$C$46,$A91,'200m Super Women'!$Z$7:$Z$46)=0,1+MAX('200m Super Women'!$Z$7:$Z$46),SUMIF('200m Super Women'!$C$7:$C$46,$A91,'200m Super Women'!$Z$7:$Z$46)))","v":""},{"$f":"IF($A91=\"\",\"\",IF(SUMIF('100 Resue Women'!$C$7:$C$46,$A91,'100 Resue Women'!$Z$7:$Z$46)=0,1+MAX('100 Resue Women'!$Z$7:$Z$46),SUMIF('100 Resue Women'!$C$7:$C$46,$A91,'100 Resue Women'!$Z$7:$Z$46)))","v":""},{"$f":"IF($A91=\"\",\"\",IF(SUMIF('Line Throw Women'!$C$7:$C$46,$A91,'Line Throw Women'!$AB$7:$AB$46)=0,1+MAX('Line Throw Women'!$AB$7:$AB$46),SUMIF('Line Throw Women'!$C$7:$C$46,$A91,'Line Throw Women'!$AB$7:$AB$46)))","v":""},{"$f":"IF($A91=\"\",\"\",IF(SUMIF('4 x 50 Obs Relay Women'!$C$7:$C$46,$A91,'4 x 50 Obs Relay Women'!$W$7:$W$46)=0,1+MAX('4 x 50 Obs Relay Women'!$W$7:$W$46),SUMIF('4 x 50 Obs Relay Women'!$C$7:$C$46,$A91,'4 x 50 Obs Relay Women'!$W$7:$W$46)))","v":""},{"$f":"IF($A91=\"\",\"\",IF(SUMIF('4 x 50 medley Relay Women'!$C$7:$C$46,$A91,'4 x 50 medley Relay Women'!$W$7:$W$46)=0,1+MAX('4 x 50 medley Relay Women'!$W$7:$W$46),SUMIF('4 x 50 medley Relay Women'!$C$7:$C$46,$A91,'4 x 50 medley Relay Women'!$W$7:$W$46)))","v":""},{"$f":"IF($A91=\"\",\"\",IF(SUMIF('4 x 25 Manikin Carry Women'!$C$7:$C$46,$A91,'4 x 25 Manikin Carry Women'!$W$7:$W$46)=0,1+MAX('4 x 25 Manikin Carry Women'!$W$7:$W$46),SUMIF('4 x 25 Manikin Carry Women'!$C$7:$C$46,$A91,'4 x 25 Manikin Carry Women'!$W$7:$W$46)))","v":""},{"$f":"IF($A91=\"\",\"\",IF(SUMIF('4 x 12m Line Throw Women'!$C$7:$C$46,$A91,'4 x 12m Line Throw Women'!$W$7:$W$46)=0,1+MAX('4 x 12m Line Throw Women'!$W$7:$W$46),SUMIF('4 x 12m Line Throw Women'!$C$7:$C$46,$A91,'4 x 12m Line Throw Women'!$W$7:$W$46)))","v":""},"",""]
["","",{"$f":"IF($A92=\"\",\"\",IF(SUMIF('50m Manikin Carry Women'!$C$7:$C$46,$A92,'50m Manikin Carry Women'!$Z$7:$Z$46)=0,1+MAX('50m Manikin Carry Women'!$Z$7:$Z$46),SUMIF('50m Manikin Carry Women'!$C$7:$C$46,$A92,'50m Manikin Carry Women'!$Z$7:$Z$46)))","v":""},{"$f":"IF($A92=\"\",\"\",IF(SUMIF('100m Manikin Carry Women'!$C$7:$C$46,$A92,'100m Manikin Carry Women'!$Z$7:$Z$46)=0,1+MAX('100m Manikin Carry Women'!$Z$7:$Z$46),SUMIF('100m Manikin Carry Women'!$C$7:$C$46,$A92,'100m Manikin Carry Women'!$Z$7:$Z$46)))","v":""},{"$f":"IF($A92=\"\",\"\",IF(SUMIF('100m Manikin Tow Women'!$C$7:$C$46,$A92,'100m Manikin Tow Women'!$Z$7:$Z$46)=0,1+MAX('100m Manikin Tow Women'!$Z$7:$Z$46),SUMIF('100m Manikin Tow Women'!$C$7:$C$46,$A92,'100m Manikin Tow Women'!$Z$7:$Z$46)))","v":""},{"$f":"IF($A92=\"\",\"\",IF(SUMIF('200m Obs Women'!$C$7:$C$46,$A92,'200m Obs Women'!$Z$7:$Z$46)=0,1+MAX('200m Obs Women'!$Z$7:$Z$46),SUMIF('200m Obs Women'!$C$7:$C$46,$A92,'200m Obs Women'!$Z$7:$Z$46)))","v":""},{"$f":"IF($A92=\"\",\"\",IF(SUMIF('200m Super Women'!$C$7:$C$46,$A92,'200m Super Women'!$Z$7:$Z$46)=0,1+MAX('200m Super Women'!$Z$7:$Z$46),SUMIF('200m Super Women'!$C$7:$C$46,$A92,'200m Super Women'!$Z$7:$Z$46)))","v":""},{"$f":"IF($A92=\"\",\"\",IF(SUMIF('100 Resue Women'!$C$7:$C$46,$A92,'100 Resue Women'!$Z$7:$Z$46)=0,1+MAX('100 Resue Women'!$Z$7:$Z$46),SUMIF('100 Resue Women'!$C$7:$C$46,$A92,'100 Resue Women'!$Z$7:$Z$46)))","v":""},{"$f":"IF($A92=\"\",\"\",IF(SUMIF('Line Throw Women'!$C$7:$C$46,$A92,'Line Throw Women'!$AB$7:$AB$46)=0,1+MAX('Line Throw Women'!$AB$7:$AB$46),SUMIF('Line Throw Women'!$C$7:$C$46,$A92,'Line Throw Women'!$AB$7:$AB$46)))","v":""},{"$f":"IF($A92=\"\",\"\",IF(SUMIF('4 x 50 Obs Relay Women'!$C$7:$C$46,$A92,'4 x 50 Obs Relay Women'!$W$7:$W$46)=0,1+MAX('4 x 50 Obs Relay Women'!$W$7:$W$46),SUMIF('4 x 50 Obs Relay Women'!$C$7:$C$46,$A92,'4 x 50 Obs Relay Women'!$W$7:$W$46)))","v":""},{"$f":"IF($A92=\"\",\"\",IF(SUMIF('4 x 50 medley Relay Women'!$C$7:$C$46,$A92,'4 x 50 medley Relay Women'!$W$7:$W$46)=0,1+MAX('4 x 50 medley Relay Women'!$W$7:$W$46),SUMIF('4 x 50 medley Relay Women'!$C$7:$C$46,$A92,'4 x 50 medley Relay Women'!$W$7:$W$46)))","v":""},{"$f":"IF($A92=\"\",\"\",IF(SUMIF('4 x 25 Manikin Carry Women'!$C$7:$C$46,$A92,'4 x 25 Manikin Carry Women'!$W$7:$W$46)=0,1+MAX('4 x 25 Manikin Carry Women'!$W$7:$W$46),SUMIF('4 x 25 Manikin Carry Women'!$C$7:$C$46,$A92,'4 x 25 Manikin Carry Women'!$W$7:$W$46)))","v":""},{"$f":"IF($A92=\"\",\"\",IF(SUMIF('4 x 12m Line Throw Women'!$C$7:$C$46,$A92,'4 x 12m Line Throw Women'!$W$7:$W$46)=0,1+MAX('4 x 12m Line Throw Women'!$W$7:$W$46),SUMIF('4 x 12m Line Throw Women'!$C$7:$C$46,$A92,'4 x 12m Line Throw Women'!$W$7:$W$46)))","v":""},"",""]
["","",{"$f":"IF($A93=\"\",\"\",IF(SUMIF('50m Manikin Carry Women'!$C$7:$C$46,$A93,'50m Manikin Carry Women'!$Z$7:$Z$46)=0,1+MAX('50m Manikin Carry Women'!$Z$7:$Z$46),SUMIF('50m Manikin Carry Women'!$C$7:$C$46,$A93,'50m Manikin Carry Women'!$Z$7:$Z$46)))","v":""},{"$f":"IF($A93=\"\",\"\",IF(SUMIF('100m Manikin Carry Women'!$C$7:$C$46,$A93,'100m Manikin Carry Women'!$Z$7:$Z$46)=0,1+MAX('100m Manikin Carry Women'!$Z$7:$Z$46),SUMIF('100m Manikin Carry Women'!$C$7:$C$46,$A93,'100m Manikin Carry Women'!$Z$7:$Z$46)))","v":""},{"$f":"IF($A93=\"\",\"\",IF(SUMIF('100m Manikin Tow Women'!$C$7:$C$46,$A93,'100m Manikin Tow Women'!$Z$7:$Z$46)=0,1+MAX('100m Manikin Tow Women'!$Z$7:$Z$46),SUMIF('100m Manikin Tow Women'!$C$7:$C$46,$A93,'100m Manikin Tow Women'!$Z$7:$Z$46)))","v":""},{"$f":"IF($A93=\"\",\"\",IF(SUMIF('200m Obs Women'!$C$7:$C$46,$A93,'200m Obs Women'!$Z$7:$Z$46)=0,1+MAX('200m Obs Women'!$Z$7:$Z$46),SUMIF('200m Obs Women'!$C$7:$C$46,$A93,'200m Obs Women'!$Z$7:$Z$46)))","v":""},{"$f":"IF($A93=\"\",\"\",IF(SUMIF('200m Super Women'!$C$7:$C$46,$A93,'200m Super Women'!$Z$7:$Z$46)=0,1+MAX('200m Super Women'!$Z$7:$Z$46),SUMIF('200m Super Women'!$C$7:$C$46,$A93,'200m Super Women'!$Z$7:$Z$46)))","v":""},{"$f":"IF($A93=\"\",\"\",IF(SUMIF('100 Resue Women'!$C$7:$C$46,$A93,'100 Resue Women'!$Z$7:$Z$46)=0,1+MAX('100 Resue Women'!$Z$7:$Z$46),SUMIF('100 Resue Women'!$C$7:$C$46,$A93,'100 Resue Women'!$Z$7:$Z$46)))","v":""},{"$f":"IF($A93=\"\",\"\",IF(SUMIF('Line Throw Women'!$C$7:$C$46,$A93,'Line Throw Women'!$AB$7:$AB$46)=0,1+MAX('Line Throw Women'!$AB$7:$AB$46),SUMIF('Line Throw Women'!$C$7:$C$46,$A93,'Line Throw Women'!$AB$7:$AB$46)))","v":""},{"$f":"IF($A93=\"\",\"\",IF(SUMIF('4 x 50 Obs Relay Women'!$C$7:$C$46,$A93,'4 x 50 Obs Relay Women'!$W$7:$W$46)=0,1+MAX('4 x 50 Obs Relay Women'!$W$7:$W$46),SUMIF('4 x 50 Obs Relay Women'!$C$7:$C$46,$A93,'4 x 50 Obs Relay Women'!$W$7:$W$46)))","v":""},{"$f":"IF($A93=\"\",\"\",IF(SUMIF('4 x 50 medley Relay Women'!$C$7:$C$46,$A93,'4 x 50 medley Relay Women'!$W$7:$W$46)=0,1+MAX('4 x 50 medley Relay Women'!$W$7:$W$46),SUMIF('4 x 50 medley Relay Women'!$C$7:$C$46,$A93,'4 x 50 medley Relay Women'!$W$7:$W$46)))","v":""},{"$f":"IF($A93=\"\",\"\",IF(SUMIF('4 x 25 Manikin Carry Women'!$C$7:$C$46,$A93,'4 x 25 Manikin Carry Women'!$W$7:$W$46)=0,1+MAX('4 x 25 Manikin Carry Women'!$W$7:$W$46),SUMIF('4 x 25 Manikin Carry Women'!$C$7:$C$46,$A93,'4 x 25 Manikin Carry Women'!$W$7:$W$46)))","v":""},{"$f":"IF($A93=\"\",\"\",IF(SUMIF('4 x 12m Line Throw Women'!$C$7:$C$46,$A93,'4 x 12m Line Throw Women'!$W$7:$W$46)=0,1+MAX('4 x 12m Line Throw Women'!$W$7:$W$46),SUMIF('4 x 12m Line Throw Women'!$C$7:$C$46,$A93,'4 x 12m Line Throw Women'!$W$7:$W$46)))","v":""},"",""]
["","",{"$f":"IF($A94=\"\",\"\",IF(SUMIF('50m Manikin Carry Women'!$C$7:$C$46,$A94,'50m Manikin Carry Women'!$Z$7:$Z$46)=0,1+MAX('50m Manikin Carry Women'!$Z$7:$Z$46),SUMIF('50m Manikin Carry Women'!$C$7:$C$46,$A94,'50m Manikin Carry Women'!$Z$7:$Z$46)))","v":""},{"$f":"IF($A94=\"\",\"\",IF(SUMIF('100m Manikin Carry Women'!$C$7:$C$46,$A94,'100m Manikin Carry Women'!$Z$7:$Z$46)=0,1+MAX('100m Manikin Carry Women'!$Z$7:$Z$46),SUMIF('100m Manikin Carry Women'!$C$7:$C$46,$A94,'100m Manikin Carry Women'!$Z$7:$Z$46)))","v":""},{"$f":"IF($A94=\"\",\"\",IF(SUMIF('100m Manikin Tow Women'!$C$7:$C$46,$A94,'100m Manikin Tow Women'!$Z$7:$Z$46)=0,1+MAX('100m Manikin Tow Women'!$Z$7:$Z$46),SUMIF('100m Manikin Tow Women'!$C$7:$C$46,$A94,'100m Manikin Tow Women'!$Z$7:$Z$46)))","v":""},{"$f":"IF($A94=\"\",\"\",IF(SUMIF('200m Obs Women'!$C$7:$C$46,$A94,'200m Obs Women'!$Z$7:$Z$46)=0,1+MAX('200m Obs Women'!$Z$7:$Z$46),SUMIF('200m Obs Women'!$C$7:$C$46,$A94,'200m Obs Women'!$Z$7:$Z$46)))","v":""},{"$f":"IF($A94=\"\",\"\",IF(SUMIF('200m Super Women'!$C$7:$C$46,$A94,'200m Super Women'!$Z$7:$Z$46)=0,1+MAX('200m Super Women'!$Z$7:$Z$46),SUMIF('200m Super Women'!$C$7:$C$46,$A94,'200m Super Women'!$Z$7:$Z$46)))","v":""},{"$f":"IF($A94=\"\",\"\",IF(SUMIF('100 Resue Women'!$C$7:$C$46,$A94,'100 Resue Women'!$Z$7:$Z$46)=0,1+MAX('100 Resue Women'!$Z$7:$Z$46),SUMIF('100 Resue Women'!$C$7:$C$46,$A94,'100 Resue Women'!$Z$7:$Z$46)))","v":""},{"$f":"IF($A94=\"\",\"\",IF(SUMIF('Line Throw Women'!$C$7:$C$46,$A94,'Line Throw Women'!$AB$7:$AB$46)=0,1+MAX('Line Throw Women'!$AB$7:$AB$46),SUMIF('Line Throw Women'!$C$7:$C$46,$A94,'Line Throw Women'!$AB$7:$AB$46)))","v":""},{"$f":"IF($A94=\"\",\"\",IF(SUMIF('4 x 50 Obs Relay Women'!$C$7:$C$46,$A94,'4 x 50 Obs Relay Women'!$W$7:$W$46)=0,1+MAX('4 x 50 Obs Relay Women'!$W$7:$W$46),SUMIF('4 x 50 Obs Relay Women'!$C$7:$C$46,$A94,'4 x 50 Obs Relay Women'!$W$7:$W$46)))","v":""},{"$f":"IF($A94=\"\",\"\",IF(SUMIF('4 x 50 medley Relay Women'!$C$7:$C$46,$A94,'4 x 50 medley Relay Women'!$W$7:$W$46)=0,1+MAX('4 x 50 medley Relay Women'!$W$7:$W$46),SUMIF('4 x 50 medley Relay Women'!$C$7:$C$46,$A94,'4 x 50 medley Relay Women'!$W$7:$W$46)))","v":""},{"$f":"IF($A94=\"\",\"\",IF(SUMIF('4 x 25 Manikin Carry Women'!$C$7:$C$46,$A94,'4 x 25 Manikin Carry Women'!$W$7:$W$46)=0,1+MAX('4 x 25 Manikin Carry Women'!$W$7:$W$46),SUMIF('4 x 25 Manikin Carry Women'!$C$7:$C$46,$A94,'4 x 25 Manikin Carry Women'!$W$7:$W$46)))","v":""},{"$f":"IF($A94=\"\",\"\",IF(SUMIF('4 x 12m Line Throw Women'!$C$7:$C$46,$A94,'4 x 12m Line Throw Women'!$W$7:$W$46)=0,1+MAX('4 x 12m Line Throw Women'!$W$7:$W$46),SUMIF('4 x 12m Line Throw Women'!$C$7:$C$46,$A94,'4 x 12m Line Throw Women'!$W$7:$W$46)))","v":""},"",""]
["","",{"$f":"IF($A95=\"\",\"\",IF(SUMIF('50m Manikin Carry Women'!$C$7:$C$46,$A95,'50m Manikin Carry Women'!$Z$7:$Z$46)=0,1+MAX('50m Manikin Carry Women'!$Z$7:$Z$46),SUMIF('50m Manikin Carry Women'!$C$7:$C$46,$A95,'50m Manikin Carry Women'!$Z$7:$Z$46)))","v":""},{"$f":"IF($A95=\"\",\"\",IF(SUMIF('100m Manikin Carry Women'!$C$7:$C$46,$A95,'100m Manikin Carry Women'!$Z$7:$Z$46)=0,1+MAX('100m Manikin Carry Women'!$Z$7:$Z$46),SUMIF('100m Manikin Carry Women'!$C$7:$C$46,$A95,'100m Manikin Carry Women'!$Z$7:$Z$46)))","v":""},{"$f":"IF($A95=\"\",\"\",IF(SUMIF('100m Manikin Tow Women'!$C$7:$C$46,$A95,'100m Manikin Tow Women'!$Z$7:$Z$46)=0,1+MAX('100m Manikin Tow Women'!$Z$7:$Z$46),SUMIF('100m Manikin Tow Women'!$C$7:$C$46,$A95,'100m Manikin Tow Women'!$Z$7:$Z$46)))","v":""},{"$f":"IF($A95=\"\",\"\",IF(SUMIF('200m Obs Women'!$C$7:$C$46,$A95,'200m Obs Women'!$Z$7:$Z$46)=0,1+MAX('200m Obs Women'!$Z$7:$Z$46),SUMIF('200m Obs Women'!$C$7:$C$46,$A95,'200m Obs Women'!$Z$7:$Z$46)))","v":""},{"$f":"IF($A95=\"\",\"\",IF(SUMIF('200m Super Women'!$C$7:$C$46,$A95,'200m Super Women'!$Z$7:$Z$46)=0,1+MAX('200m Super Women'!$Z$7:$Z$46),SUMIF('200m Super Women'!$C$7:$C$46,$A95,'200m Super Women'!$Z$7:$Z$46)))","v":""},{"$f":"IF($A95=\"\",\"\",IF(SUMIF('100 Resue Women'!$C$7:$C$46,$A95,'100 Resue Women'!$Z$7:$Z$46)=0,1+MAX('100 Resue Women'!$Z$7:$Z$46),SUMIF('100 Resue Women'!$C$7:$C$46,$A95,'100 Resue Women'!$Z$7:$Z$46)))","v":""},{"$f":"IF($A95=\"\",\"\",IF(SUMIF('Line Throw Women'!$C$7:$C$46,$A95,'Line Throw Women'!$AB$7:$AB$46)=0,1+MAX('Line Throw Women'!$AB$7:$AB$46),SUMIF('Line Throw Women'!$C$7:$C$46,$A95,'Line Throw Women'!$AB$7:$AB$46)))","v":""},{"$f":"IF($A95=\"\",\"\",IF(SUMIF('4 x 50 Obs Relay Women'!$C$7:$C$46,$A95,'4 x 50 Obs Relay Women'!$W$7:$W$46)=0,1+MAX('4 x 50 Obs Relay Women'!$W$7:$W$46),SUMIF('4 x 50 Obs Relay Women'!$C$7:$C$46,$A95,'4 x 50 Obs Relay Women'!$W$7:$W$46)))","v":""},{"$f":"IF($A95=\"\",\"\",IF(SUMIF('4 x 50 medley Relay Women'!$C$7:$C$46,$A95,'4 x 50 medley Relay Women'!$W$7:$W$46)=0,1+MAX('4 x 50 medley Relay Women'!$W$7:$W$46),SUMIF('4 x 50 medley Relay Women'!$C$7:$C$46,$A95,'4 x 50 medley Relay Women'!$W$7:$W$46)))","v":""},{"$f":"IF($A95=\"\",\"\",IF(SUMIF('4 x 25 Manikin Carry Women'!$C$7:$C$46,$A95,'4 x 25 Manikin Carry Women'!$W$7:$W$46)=0,1+MAX('4 x 25 Manikin Carry Women'!$W$7:$W$46),SUMIF('4 x 25 Manikin Carry Women'!$C$7:$C$46,$A95,'4 x 25 Manikin Carry Women'!$W$7:$W$46)))","v":""},{"$f":"IF($A95=\"\",\"\",IF(SUMIF('4 x 12m Line Throw Women'!$C$7:$C$46,$A95,'4 x 12m Line Throw Women'!$W$7:$W$46)=0,1+MAX('4 x 12m Line Throw Women'!$W$7:$W$46),SUMIF('4 x 12m Line Throw Women'!$C$7:$C$46,$A95,'4 x 12m Line Throw Women'!$W$7:$W$46)))","v":""},"",""]
["","",{"$f":"IF($A96=\"\",\"\",IF(SUMIF('50m Manikin Carry Women'!$C$7:$C$46,$A96,'50m Manikin Carry Women'!$Z$7:$Z$46)=0,1+MAX('50m Manikin Carry Women'!$Z$7:$Z$46),SUMIF('50m Manikin Carry Women'!$C$7:$C$46,$A96,'50m Manikin Carry Women'!$Z$7:$Z$46)))","v":""},{"$f":"IF($A96=\"\",\"\",IF(SUMIF('100m Manikin Carry Women'!$C$7:$C$46,$A96,'100m Manikin Carry Women'!$Z$7:$Z$46)=0,1+MAX('100m Manikin Carry Women'!$Z$7:$Z$46),SUMIF('100m Manikin Carry Women'!$C$7:$C$46,$A96,'100m Manikin Carry Women'!$Z$7:$Z$46)))","v":""},{"$f":"IF($A96=\"\",\"\",IF(SUMIF('100m Manikin Tow Women'!$C$7:$C$46,$A96,'100m Manikin Tow Women'!$Z$7:$Z$46)=0,1+MAX('100m Manikin Tow Women'!$Z$7:$Z$46),SUMIF('100m Manikin Tow Women'!$C$7:$C$46,$A96,'100m Manikin Tow Women'!$Z$7:$Z$46)))","v":""},{"$f":"IF($A96=\"\",\"\",IF(SUMIF('200m Obs Women'!$C$7:$C$46,$A96,'200m Obs Women'!$Z$7:$Z$46)=0,1+MAX('200m Obs Women'!$Z$7:$Z$46),SUMIF('200m Obs Women'!$C$7:$C$46,$A96,'200m Obs Women'!$Z$7:$Z$46)))","v":""},{"$f":"IF($A96=\"\",\"\",IF(SUMIF('200m Super Women'!$C$7:$C$46,$A96,'200m Super Women'!$Z$7:$Z$46)=0,1+MAX('200m Super Women'!$Z$7:$Z$46),SUMIF('200m Super Women'!$C$7:$C$46,$A96,'200m Super Women'!$Z$7:$Z$46)))","v":""},{"$f":"IF($A96=\"\",\"\",IF(SUMIF('100 Resue Women'!$C$7:$C$46,$A96,'100 Resue Women'!$Z$7:$Z$46)=0,1+MAX('100 Resue Women'!$Z$7:$Z$46),SUMIF('100 Resue Women'!$C$7:$C$46,$A96,'100 Resue Women'!$Z$7:$Z$46)))","v":""},{"$f":"IF($A96=\"\",\"\",IF(SUMIF('Line Throw Women'!$C$7:$C$46,$A96,'Line Throw Women'!$AB$7:$AB$46)=0,1+MAX('Line Throw Women'!$AB$7:$AB$46),SUMIF('Line Throw Women'!$C$7:$C$46,$A96,'Line Throw Women'!$AB$7:$AB$46)))","v":""},{"$f":"IF($A96=\"\",\"\",IF(SUMIF('4 x 50 Obs Relay Women'!$C$7:$C$46,$A96,'4 x 50 Obs Relay Women'!$W$7:$W$46)=0,1+MAX('4 x 50 Obs Relay Women'!$W$7:$W$46),SUMIF('4 x 50 Obs Relay Women'!$C$7:$C$46,$A96,'4 x 50 Obs Relay Women'!$W$7:$W$46)))","v":""},{"$f":"IF($A96=\"\",\"\",IF(SUMIF('4 x 50 medley Relay Women'!$C$7:$C$46,$A96,'4 x 50 medley Relay Women'!$W$7:$W$46)=0,1+MAX('4 x 50 medley Relay Women'!$W$7:$W$46),SUMIF('4 x 50 medley Relay Women'!$C$7:$C$46,$A96,'4 x 50 medley Relay Women'!$W$7:$W$46)))","v":""},{"$f":"IF($A96=\"\",\"\",IF(SUMIF('4 x 25 Manikin Carry Women'!$C$7:$C$46,$A96,'4 x 25 Manikin Carry Women'!$W$7:$W$46)=0,1+MAX('4 x 25 Manikin Carry Women'!$W$7:$W$46),SUMIF('4 x 25 Manikin Carry Women'!$C$7:$C$46,$A96,'4 x 25 Manikin Carry Women'!$W$7:$W$46)))","v":""},{"$f":"IF($A96=\"\",\"\",IF(SUMIF('4 x 12m Line Throw Women'!$C$7:$C$46,$A96,'4 x 12m Line Throw Women'!$W$7:$W$46)=0,1+MAX('4 x 12m Line Throw Women'!$W$7:$W$46),SUMIF('4 x 12m Line Throw Women'!$C$7:$C$46,$A96,'4 x 12m Line Throw Women'!$W$7:$W$46)))","v":""},"",""]
["","",{"$f":"IF($A97=\"\",\"\",IF(SUMIF('50m Manikin Carry Women'!$C$7:$C$46,$A97,'50m Manikin Carry Women'!$Z$7:$Z$46)=0,1+MAX('50m Manikin Carry Women'!$Z$7:$Z$46),SUMIF('50m Manikin Carry Women'!$C$7:$C$46,$A97,'50m Manikin Carry Women'!$Z$7:$Z$46)))","v":""},{"$f":"IF($A97=\"\",\"\",IF(SUMIF('100m Manikin Carry Women'!$C$7:$C$46,$A97,'100m Manikin Carry Women'!$Z$7:$Z$46)=0,1+MAX('100m Manikin Carry Women'!$Z$7:$Z$46),SUMIF('100m Manikin Carry Women'!$C$7:$C$46,$A97,'100m Manikin Carry Women'!$Z$7:$Z$46)))","v":""},{"$f":"IF($A97=\"\",\"\",IF(SUMIF('100m Manikin Tow Women'!$C$7:$C$46,$A97,'100m Manikin Tow Women'!$Z$7:$Z$46)=0,1+MAX('100m Manikin Tow Women'!$Z$7:$Z$46),SUMIF('100m Manikin Tow Women'!$C$7:$C$46,$A97,'100m Manikin Tow Women'!$Z$7:$Z$46)))","v":""},{"$f":"IF($A97=\"\",\"\",IF(SUMIF('200m Obs Women'!$C$7:$C$46,$A97,'200m Obs Women'!$Z$7:$Z$46)=0,1+MAX('200m Obs Women'!$Z$7:$Z$46),SUMIF('200m Obs Women'!$C$7:$C$46,$A97,'200m Obs Women'!$Z$7:$Z$46)))","v":""},{"$f":"IF($A97=\"\",\"\",IF(SUMIF('200m Super Women'!$C$7:$C$46,$A97,'200m Super Women'!$Z$7:$Z$46)=0,1+MAX('200m Super Women'!$Z$7:$Z$46),SUMIF('200m Super Women'!$C$7:$C$46,$A97,'200m Super Women'!$Z$7:$Z$46)))","v":""},{"$f":"IF($A97=\"\",\"\",IF(SUMIF('100 Resue Women'!$C$7:$C$46,$A97,'100 Resue Women'!$Z$7:$Z$46)=0,1+MAX('100 Resue Women'!$Z$7:$Z$46),SUMIF('100 Resue Women'!$C$7:$C$46,$A97,'100 Resue Women'!$Z$7:$Z$46)))","v":""},{"$f":"IF($A97=\"\",\"\",IF(SUMIF('Line Throw Women'!$C$7:$C$46,$A97,'Line Throw Women'!$AB$7:$AB$46)=0,1+MAX('Line Throw Women'!$AB$7:$AB$46),SUMIF('Line Throw Women'!$C$7:$C$46,$A97,'Line Throw Women'!$AB$7:$AB$46)))","v":""},{"$f":"IF($A97=\"\",\"\",IF(SUMIF('4 x 50 Obs Relay Women'!$C$7:$C$46,$A97,'4 x 50 Obs Relay Women'!$W$7:$W$46)=0,1+MAX('4 x 50 Obs Relay Women'!$W$7:$W$46),SUMIF('4 x 50 Obs Relay Women'!$C$7:$C$46,$A97,'4 x 50 Obs Relay Women'!$W$7:$W$46)))","v":""},{"$f":"IF($A97=\"\",\"\",IF(SUMIF('4 x 50 medley Relay Women'!$C$7:$C$46,$A97,'4 x 50 medley Relay Women'!$W$7:$W$46)=0,1+MAX('4 x 50 medley Relay Women'!$W$7:$W$46),SUMIF('4 x 50 medley Relay Women'!$C$7:$C$46,$A97,'4 x 50 medley Relay Women'!$W$7:$W$46)))","v":""},{"$f":"IF($A97=\"\",\"\",IF(SUMIF('4 x 25 Manikin Carry Women'!$C$7:$C$46,$A97,'4 x 25 Manikin Carry Women'!$W$7:$W$46)=0,1+MAX('4 x 25 Manikin Carry Women'!$W$7:$W$46),SUMIF('4 x 25 Manikin Carry Women'!$C$7:$C$46,$A97,'4 x 25 Manikin Carry Women'!$W$7:$W$46)))","v":""},{"$f":"IF($A97=\"\",\"\",IF(SUMIF('4 x 12m Line Throw Women'!$C$7:$C$46,$A97,'4 x 12m Line Throw Women'!$W$7:$W$46)=0,1+MAX('4 x 12m Line Throw Women'!$W$7:$W$46),SUMIF('4 x 12m Line Throw Women'!$C$7:$C$46,$A97,'4 x 12m Line Throw Women'!$W$7:$W$46)))","v":""},"",""]
["","",{"$f":"IF($A98=\"\",\"\",IF(SUMIF('50m Manikin Carry Women'!$C$7:$C$46,$A98,'50m Manikin Carry Women'!$Z$7:$Z$46)=0,1+MAX('50m Manikin Carry Women'!$Z$7:$Z$46),SUMIF('50m Manikin Carry Women'!$C$7:$C$46,$A98,'50m Manikin Carry Women'!$Z$7:$Z$46)))","v":""},{"$f":"IF($A98=\"\",\"\",IF(SUMIF('100m Manikin Carry Women'!$C$7:$C$46,$A98,'100m Manikin Carry Women'!$Z$7:$Z$46)=0,1+MAX('100m Manikin Carry Women'!$Z$7:$Z$46),SUMIF('100m Manikin Carry Women'!$C$7:$C$46,$A98,'100m Manikin Carry Women'!$Z$7:$Z$46)))","v":""},{"$f":"IF($A98=\"\",\"\",IF(SUMIF('100m Manikin Tow Women'!$C$7:$C$46,$A98,'100m Manikin Tow Women'!$Z$7:$Z$46)=0,1+MAX('100m Manikin Tow Women'!$Z$7:$Z$46),SUMIF('100m Manikin Tow Women'!$C$7:$C$46,$A98,'100m Manikin Tow Women'!$Z$7:$Z$46)))","v":""},{"$f":"IF($A98=\"\",\"\",IF(SUMIF('200m Obs Women'!$C$7:$C$46,$A98,'200m Obs Women'!$Z$7:$Z$46)=0,1+MAX('200m Obs Women'!$Z$7:$Z$46),SUMIF('200m Obs Women'!$C$7:$C$46,$A98,'200m Obs Women'!$Z$7:$Z$46)))","v":""},{"$f":"IF($A98=\"\",\"\",IF(SUMIF('200m Super Women'!$C$7:$C$46,$A98,'200m Super Women'!$Z$7:$Z$46)=0,1+MAX('200m Super Women'!$Z$7:$Z$46),SUMIF('200m Super Women'!$C$7:$C$46,$A98,'200m Super Women'!$Z$7:$Z$46)))","v":""},{"$f":"IF($A98=\"\",\"\",IF(SUMIF('100 Resue Women'!$C$7:$C$46,$A98,'100 Resue Women'!$Z$7:$Z$46)=0,1+MAX('100 Resue Women'!$Z$7:$Z$46),SUMIF('100 Resue Women'!$C$7:$C$46,$A98,'100 Resue Women'!$Z$7:$Z$46)))","v":""},{"$f":"IF($A98=\"\",\"\",IF(SUMIF('Line Throw Women'!$C$7:$C$46,$A98,'Line Throw Women'!$AB$7:$AB$46)=0,1+MAX('Line Throw Women'!$AB$7:$AB$46),SUMIF('Line Throw Women'!$C$7:$C$46,$A98,'Line Throw Women'!$AB$7:$AB$46)))","v":""},{"$f":"IF($A98=\"\",\"\",IF(SUMIF('4 x 50 Obs Relay Women'!$C$7:$C$46,$A98,'4 x 50 Obs Relay Women'!$W$7:$W$46)=0,1+MAX('4 x 50 Obs Relay Women'!$W$7:$W$46),SUMIF('4 x 50 Obs Relay Women'!$C$7:$C$46,$A98,'4 x 50 Obs Relay Women'!$W$7:$W$46)))","v":""},{"$f":"IF($A98=\"\",\"\",IF(SUMIF('4 x 50 medley Relay Women'!$C$7:$C$46,$A98,'4 x 50 medley Relay Women'!$W$7:$W$46)=0,1+MAX('4 x 50 medley Relay Women'!$W$7:$W$46),SUMIF('4 x 50 medley Relay Women'!$C$7:$C$46,$A98,'4 x 50 medley Relay Women'!$W$7:$W$46)))","v":""},{"$f":"IF($A98=\"\",\"\",IF(SUMIF('4 x 25 Manikin Carry Women'!$C$7:$C$46,$A98,'4 x 25 Manikin Carry Women'!$W$7:$W$46)=0,1+MAX('4 x 25 Manikin Carry Women'!$W$7:$W$46),SUMIF('4 x 25 Manikin Carry Women'!$C$7:$C$46,$A98,'4 x 25 Manikin Carry Women'!$W$7:$W$46)))","v":""},{"$f":"IF($A98=\"\",\"\",IF(SUMIF('4 x 12m Line Throw Women'!$C$7:$C$46,$A98,'4 x 12m Line Throw Women'!$W$7:$W$46)=0,1+MAX('4 x 12m Line Throw Women'!$W$7:$W$46),SUMIF('4 x 12m Line Throw Women'!$C$7:$C$46,$A98,'4 x 12m Line Throw Women'!$W$7:$W$46)))","v":""},"",""]
["","",{"$f":"IF($A99=\"\",\"\",IF(SUMIF('50m Manikin Carry Women'!$C$7:$C$46,$A99,'50m Manikin Carry Women'!$Z$7:$Z$46)=0,1+MAX('50m Manikin Carry Women'!$Z$7:$Z$46),SUMIF('50m Manikin Carry Women'!$C$7:$C$46,$A99,'50m Manikin Carry Women'!$Z$7:$Z$46)))","v":""},{"$f":"IF($A99=\"\",\"\",IF(SUMIF('100m Manikin Carry Women'!$C$7:$C$46,$A99,'100m Manikin Carry Women'!$Z$7:$Z$46)=0,1+MAX('100m Manikin Carry Women'!$Z$7:$Z$46),SUMIF('100m Manikin Carry Women'!$C$7:$C$46,$A99,'100m Manikin Carry Women'!$Z$7:$Z$46)))","v":""},{"$f":"IF($A99=\"\",\"\",IF(SUMIF('100m Manikin Tow Women'!$C$7:$C$46,$A99,'100m Manikin Tow Women'!$Z$7:$Z$46)=0,1+MAX('100m Manikin Tow Women'!$Z$7:$Z$46),SUMIF('100m Manikin Tow Women'!$C$7:$C$46,$A99,'100m Manikin Tow Women'!$Z$7:$Z$46)))","v":""},{"$f":"IF($A99=\"\",\"\",IF(SUMIF('200m Obs Women'!$C$7:$C$46,$A99,'200m Obs Women'!$Z$7:$Z$46)=0,1+MAX('200m Obs Women'!$Z$7:$Z$46),SUMIF('200m Obs Women'!$C$7:$C$46,$A99,'200m Obs Women'!$Z$7:$Z$46)))","v":""},{"$f":"IF($A99=\"\",\"\",IF(SUMIF('200m Super Women'!$C$7:$C$46,$A99,'200m Super Women'!$Z$7:$Z$46)=0,1+MAX('200m Super Women'!$Z$7:$Z$46),SUMIF('200m Super Women'!$C$7:$C$46,$A99,'200m Super Women'!$Z$7:$Z$46)))","v":""},{"$f":"IF($A99=\"\",\"\",IF(SUMIF('100 Resue Women'!$C$7:$C$46,$A99,'100 Resue Women'!$Z$7:$Z$46)=0,1+MAX('100 Resue Women'!$Z$7:$Z$46),SUMIF('100 Resue Women'!$C$7:$C$46,$A99,'100 Resue Women'!$Z$7:$Z$46)))","v":""},{"$f":"IF($A99=\"\",\"\",IF(SUMIF('Line Throw Women'!$C$7:$C$46,$A99,'Line Throw Women'!$AB$7:$AB$46)=0,1+MAX('Line Throw Women'!$AB$7:$AB$46),SUMIF('Line Throw Women'!$C$7:$C$46,$A99,'Line Throw Women'!$AB$7:$AB$46)))","v":""},{"$f":"IF($A99=\"\",\"\",IF(SUMIF('4 x 50 Obs Relay Women'!$C$7:$C$46,$A99,'4 x 50 Obs Relay Women'!$W$7:$W$46)=0,1+MAX('4 x 50 Obs Relay Women'!$W$7:$W$46),SUMIF('4 x 50 Obs Relay Women'!$C$7:$C$46,$A99,'4 x 50 Obs Relay Women'!$W$7:$W$46)))","v":""},{"$f":"IF($A99=\"\",\"\",IF(SUMIF('4 x 50 medley Relay Women'!$C$7:$C$46,$A99,'4 x 50 medley Relay Women'!$W$7:$W$46)=0,1+MAX('4 x 50 medley Relay Women'!$W$7:$W$46),SUMIF('4 x 50 medley Relay Women'!$C$7:$C$46,$A99,'4 x 50 medley Relay Women'!$W$7:$W$46)))","v":""},{"$f":"IF($A99=\"\",\"\",IF(SUMIF('4 x 25 Manikin Carry Women'!$C$7:$C$46,$A99,'4 x 25 Manikin Carry Women'!$W$7:$W$46)=0,1+MAX('4 x 25 Manikin Carry Women'!$W$7:$W$46),SUMIF('4 x 25 Manikin Carry Women'!$C$7:$C$46,$A99,'4 x 25 Manikin Carry Women'!$W$7:$W$46)))","v":""},{"$f":"IF($A99=\"\",\"\",IF(SUMIF('4 x 12m Line Throw Women'!$C$7:$C$46,$A99,'4 x 12m Line Throw Women'!$W$7:$W$46)=0,1+MAX('4 x 12m Line Throw Women'!$W$7:$W$46),SUMIF('4 x 12m Line Throw Women'!$C$7:$C$46,$A99,'4 x 12m Line Throw Women'!$W$7:$W$46)))","v":""},"",""]
["","",{"$f":"IF($A100=\"\",\"\",IF(SUMIF('50m Manikin Carry Women'!$C$7:$C$46,$A100,'50m Manikin Carry Women'!$Z$7:$Z$46)=0,1+MAX('50m Manikin Carry Women'!$Z$7:$Z$46),SUMIF('50m Manikin Carry Women'!$C$7:$C$46,$A100,'50m Manikin Carry Women'!$Z$7:$Z$46)))","v":""},{"$f":"IF($A100=\"\",\"\",IF(SUMIF('100m Manikin Carry Women'!$C$7:$C$46,$A100,'100m Manikin Carry Women'!$Z$7:$Z$46)=0,1+MAX('100m Manikin Carry Women'!$Z$7:$Z$46),SUMIF('100m Manikin Carry Women'!$C$7:$C$46,$A100,'100m Manikin Carry Women'!$Z$7:$Z$46)))","v":""},{"$f":"IF($A100=\"\",\"\",IF(SUMIF('100m Manikin Tow Women'!$C$7:$C$46,$A100,'100m Manikin Tow Women'!$Z$7:$Z$46)=0,1+MAX('100m Manikin Tow Women'!$Z$7:$Z$46),SUMIF('100m Manikin Tow Women'!$C$7:$C$46,$A100,'100m Manikin Tow Women'!$Z$7:$Z$46)))","v":""},{"$f":"IF($A100=\"\",\"\",IF(SUMIF('200m Obs Women'!$C$7:$C$46,$A100,'200m Obs Women'!$Z$7:$Z$46)=0,1+MAX('200m Obs Women'!$Z$7:$Z$46),SUMIF('200m Obs Women'!$C$7:$C$46,$A100,'200m Obs Women'!$Z$7:$Z$46)))","v":""},{"$f":"IF($A100=\"\",\"\",IF(SUMIF('200m Super Women'!$C$7:$C$46,$A100,'200m Super Women'!$Z$7:$Z$46)=0,1+MAX('200m Super Women'!$Z$7:$Z$46),SUMIF('200m Super Women'!$C$7:$C$46,$A100,'200m Super Women'!$Z$7:$Z$46)))","v":""},{"$f":"IF($A100=\"\",\"\",IF(SUMIF('100 Resue Women'!$C$7:$C$46,$A100,'100 Resue Women'!$Z$7:$Z$46)=0,1+MAX('100 Resue Women'!$Z$7:$Z$46),SUMIF('100 Resue Women'!$C$7:$C$46,$A100,'100 Resue Women'!$Z$7:$Z$46)))","v":""},{"$f":"IF($A100=\"\",\"\",IF(SUMIF('Line Throw Women'!$C$7:$C$46,$A100,'Line Throw Women'!$AB$7:$AB$46)=0,1+MAX('Line Throw Women'!$AB$7:$AB$46),SUMIF('Line Throw Women'!$C$7:$C$46,$A100,'Line Throw Women'!$AB$7:$AB$46)))","v":""},{"$f":"IF($A100=\"\",\"\",IF(SUMIF('4 x 50 Obs Relay Women'!$C$7:$C$46,$A100,'4 x 50 Obs Relay Women'!$W$7:$W$46)=0,1+MAX('4 x 50 Obs Relay Women'!$W$7:$W$46),SUMIF('4 x 50 Obs Relay Women'!$C$7:$C$46,$A100,'4 x 50 Obs Relay Women'!$W$7:$W$46)))","v":""},{"$f":"IF($A100=\"\",\"\",IF(SUMIF('4 x 50 medley Relay Women'!$C$7:$C$46,$A100,'4 x 50 medley Relay Women'!$W$7:$W$46)=0,1+MAX('4 x 50 medley Relay Women'!$W$7:$W$46),SUMIF('4 x 50 medley Relay Women'!$C$7:$C$46,$A100,'4 x 50 medley Relay Women'!$W$7:$W$46)))","v":""},{"$f":"IF($A100=\"\",\"\",IF(SUMIF('4 x 25 Manikin Carry Women'!$C$7:$C$46,$A100,'4 x 25 Manikin Carry Women'!$W$7:$W$46)=0,1+MAX('4 x 25 Manikin Carry Women'!$W$7:$W$46),SUMIF('4 x 25 Manikin Carry Women'!$C$7:$C$46,$A100,'4 x 25 Manikin Carry Women'!$W$7:$W$46)))","v":""},{"$f":"IF($A100=\"\",\"\",IF(SUMIF('4 x 12m Line Throw Women'!$C$7:$C$46,$A100,'4 x 12m Line Throw Women'!$W$7:$W$46)=0,1+MAX('4 x 12m Line Throw Women'!$W$7:$W$46),SUMIF('4 x 12m Line Throw Women'!$C$7:$C$46,$A100,'4 x 12m Line Throw Women'!$W$7:$W$46)))","v":""},"",""]
["","",{"$f":"IF($A101=\"\",\"\",IF(SUMIF('50m Manikin Carry Women'!$C$7:$C$46,$A101,'50m Manikin Carry Women'!$Z$7:$Z$46)=0,1+MAX('50m Manikin Carry Women'!$Z$7:$Z$46),SUMIF('50m Manikin Carry Women'!$C$7:$C$46,$A101,'50m Manikin Carry Women'!$Z$7:$Z$46)))","v":""},{"$f":"IF($A101=\"\",\"\",IF(SUMIF('100m Manikin Carry Women'!$C$7:$C$46,$A101,'100m Manikin Carry Women'!$Z$7:$Z$46)=0,1+MAX('100m Manikin Carry Women'!$Z$7:$Z$46),SUMIF('100m Manikin Carry Women'!$C$7:$C$46,$A101,'100m Manikin Carry Women'!$Z$7:$Z$46)))","v":""},{"$f":"IF($A101=\"\",\"\",IF(SUMIF('100m Manikin Tow Women'!$C$7:$C$46,$A101,'100m Manikin Tow Women'!$Z$7:$Z$46)=0,1+MAX('100m Manikin Tow Women'!$Z$7:$Z$46),SUMIF('100m Manikin Tow Women'!$C$7:$C$46,$A101,'100m Manikin Tow Women'!$Z$7:$Z$46)))","v":""},{"$f":"IF($A101=\"\",\"\",IF(SUMIF('200m Obs Women'!$C$7:$C$46,$A101,'200m Obs Women'!$Z$7:$Z$46)=0,1+MAX('200m Obs Women'!$Z$7:$Z$46),SUMIF('200m Obs Women'!$C$7:$C$46,$A101,'200m Obs Women'!$Z$7:$Z$46)))","v":""},{"$f":"IF($A101=\"\",\"\",IF(SUMIF('200m Super Women'!$C$7:$C$46,$A101,'200m Super Women'!$Z$7:$Z$46)=0,1+MAX('200m Super Women'!$Z$7:$Z$46),SUMIF('200m Super Women'!$C$7:$C$46,$A101,'200m Super Women'!$Z$7:$Z$46)))","v":""},{"$f":"IF($A101=\"\",\"\",IF(SUMIF('100 Resue Women'!$C$7:$C$46,$A101,'100 Resue Women'!$Z$7:$Z$46)=0,1+MAX('100 Resue Women'!$Z$7:$Z$46),SUMIF('100 Resue Women'!$C$7:$C$46,$A101,'100 Resue Women'!$Z$7:$Z$46)))","v":""},{"$f":"IF($A101=\"\",\"\",IF(SUMIF('Line Throw Women'!$C$7:$C$46,$A101,'Line Throw Women'!$AB$7:$AB$46)=0,1+MAX('Line Throw Women'!$AB$7:$AB$46),SUMIF('Line Throw Women'!$C$7:$C$46,$A101,'Line Throw Women'!$AB$7:$AB$46)))","v":""},{"$f":"IF($A101=\"\",\"\",IF(SUMIF('4 x 50 Obs Relay Women'!$C$7:$C$46,$A101,'4 x 50 Obs Relay Women'!$W$7:$W$46)=0,1+MAX('4 x 50 Obs Relay Women'!$W$7:$W$46),SUMIF('4 x 50 Obs Relay Women'!$C$7:$C$46,$A101,'4 x 50 Obs Relay Women'!$W$7:$W$46)))","v":""},{"$f":"IF($A101=\"\",\"\",IF(SUMIF('4 x 50 medley Relay Women'!$C$7:$C$46,$A101,'4 x 50 medley Relay Women'!$W$7:$W$46)=0,1+MAX('4 x 50 medley Relay Women'!$W$7:$W$46),SUMIF('4 x 50 medley Relay Women'!$C$7:$C$46,$A101,'4 x 50 medley Relay Women'!$W$7:$W$46)))","v":""},{"$f":"IF($A101=\"\",\"\",IF(SUMIF('4 x 25 Manikin Carry Women'!$C$7:$C$46,$A101,'4 x 25 Manikin Carry Women'!$W$7:$W$46)=0,1+MAX('4 x 25 Manikin Carry Women'!$W$7:$W$46),SUMIF('4 x 25 Manikin Carry Women'!$C$7:$C$46,$A101,'4 x 25 Manikin Carry Women'!$W$7:$W$46)))","v":""},{"$f":"IF($A101=\"\",\"\",IF(SUMIF('4 x 12m Line Throw Women'!$C$7:$C$46,$A101,'4 x 12m Line Throw Women'!$W$7:$W$46)=0,1+MAX('4 x 12m Line Throw Women'!$W$7:$W$46),SUMIF('4 x 12m Line Throw Women'!$C$7:$C$46,$A101,'4 x 12m Line Throw Women'!$W$7:$W$46)))","v":""},"",""]
["","",{"$f":"IF($A102=\"\",\"\",IF(SUMIF('50m Manikin Carry Women'!$C$7:$C$46,$A102,'50m Manikin Carry Women'!$Z$7:$Z$46)=0,1+MAX('50m Manikin Carry Women'!$Z$7:$Z$46),SUMIF('50m Manikin Carry Women'!$C$7:$C$46,$A102,'50m Manikin Carry Women'!$Z$7:$Z$46)))","v":""},{"$f":"IF($A102=\"\",\"\",IF(SUMIF('100m Manikin Carry Women'!$C$7:$C$46,$A102,'100m Manikin Carry Women'!$Z$7:$Z$46)=0,1+MAX('100m Manikin Carry Women'!$Z$7:$Z$46),SUMIF('100m Manikin Carry Women'!$C$7:$C$46,$A102,'100m Manikin Carry Women'!$Z$7:$Z$46)))","v":""},{"$f":"IF($A102=\"\",\"\",IF(SUMIF('100m Manikin Tow Women'!$C$7:$C$46,$A102,'100m Manikin Tow Women'!$Z$7:$Z$46)=0,1+MAX('100m Manikin Tow Women'!$Z$7:$Z$46),SUMIF('100m Manikin Tow Women'!$C$7:$C$46,$A102,'100m Manikin Tow Women'!$Z$7:$Z$46)))","v":""},{"$f":"IF($A102=\"\",\"\",IF(SUMIF('200m Obs Women'!$C$7:$C$46,$A102,'200m Obs Women'!$Z$7:$Z$46)=0,1+MAX('200m Obs Women'!$Z$7:$Z$46),SUMIF('200m Obs Women'!$C$7:$C$46,$A102,'200m Obs Women'!$Z$7:$Z$46)))","v":""},{"$f":"IF($A102=\"\",\"\",IF(SUMIF('200m Super Women'!$C$7:$C$46,$A102,'200m Super Women'!$Z$7:$Z$46)=0,1+MAX('200m Super Women'!$Z$7:$Z$46),SUMIF('200m Super Women'!$C$7:$C$46,$A102,'200m Super Women'!$Z$7:$Z$46)))","v":""},{"$f":"IF($A102=\"\",\"\",IF(SUMIF('100 Resue Women'!$C$7:$C$46,$A102,'100 Resue Women'!$Z$7:$Z$46)=0,1+MAX('100 Resue Women'!$Z$7:$Z$46),SUMIF('100 Resue Women'!$C$7:$C$46,$A102,'100 Resue Women'!$Z$7:$Z$46)))","v":""},{"$f":"IF($A102=\"\",\"\",IF(SUMIF('Line Throw Women'!$C$7:$C$46,$A102,'Line Throw Women'!$AB$7:$AB$46)=0,1+MAX('Line Throw Women'!$AB$7:$AB$46),SUMIF('Line Throw Women'!$C$7:$C$46,$A102,'Line Throw Women'!$AB$7:$AB$46)))","v":""},{"$f":"IF($A102=\"\",\"\",IF(SUMIF('4 x 50 Obs Relay Women'!$C$7:$C$46,$A102,'4 x 50 Obs Relay Women'!$W$7:$W$46)=0,1+MAX('4 x 50 Obs Relay Women'!$W$7:$W$46),SUMIF('4 x 50 Obs Relay Women'!$C$7:$C$46,$A102,'4 x 50 Obs Relay Women'!$W$7:$W$46)))","v":""},{"$f":"IF($A102=\"\",\"\",IF(SUMIF('4 x 50 medley Relay Women'!$C$7:$C$46,$A102,'4 x 50 medley Relay Women'!$W$7:$W$46)=0,1+MAX('4 x 50 medley Relay Women'!$W$7:$W$46),SUMIF('4 x 50 medley Relay Women'!$C$7:$C$46,$A102,'4 x 50 medley Relay Women'!$W$7:$W$46)))","v":""},{"$f":"IF($A102=\"\",\"\",IF(SUMIF('4 x 25 Manikin Carry Women'!$C$7:$C$46,$A102,'4 x 25 Manikin Carry Women'!$W$7:$W$46)=0,1+MAX('4 x 25 Manikin Carry Women'!$W$7:$W$46),SUMIF('4 x 25 Manikin Carry Women'!$C$7:$C$46,$A102,'4 x 25 Manikin Carry Women'!$W$7:$W$46)))","v":""},{"$f":"IF($A102=\"\",\"\",IF(SUMIF('4 x 12m Line Throw Women'!$C$7:$C$46,$A102,'4 x 12m Line Throw Women'!$W$7:$W$46)=0,1+MAX('4 x 12m Line Throw Women'!$W$7:$W$46),SUMIF('4 x 12m Line Throw Women'!$C$7:$C$46,$A102,'4 x 12m Line Throw Women'!$W$7:$W$46)))","v":""},"",""]
["","",{"$f":"IF($A103=\"\",\"\",IF(SUMIF('50m Manikin Carry Women'!$C$7:$C$46,$A103,'50m Manikin Carry Women'!$Z$7:$Z$46)=0,1+MAX('50m Manikin Carry Women'!$Z$7:$Z$46),SUMIF('50m Manikin Carry Women'!$C$7:$C$46,$A103,'50m Manikin Carry Women'!$Z$7:$Z$46)))","v":""},{"$f":"IF($A103=\"\",\"\",IF(SUMIF('100m Manikin Carry Women'!$C$7:$C$46,$A103,'100m Manikin Carry Women'!$Z$7:$Z$46)=0,1+MAX('100m Manikin Carry Women'!$Z$7:$Z$46),SUMIF('100m Manikin Carry Women'!$C$7:$C$46,$A103,'100m Manikin Carry Women'!$Z$7:$Z$46)))","v":""},{"$f":"IF($A103=\"\",\"\",IF(SUMIF('100m Manikin Tow Women'!$C$7:$C$46,$A103,'100m Manikin Tow Women'!$Z$7:$Z$46)=0,1+MAX('100m Manikin Tow Women'!$Z$7:$Z$46),SUMIF('100m Manikin Tow Women'!$C$7:$C$46,$A103,'100m Manikin Tow Women'!$Z$7:$Z$46)))","v":""},{"$f":"IF($A103=\"\",\"\",IF(SUMIF('200m Obs Women'!$C$7:$C$46,$A103,'200m Obs Women'!$Z$7:$Z$46)=0,1+MAX('200m Obs Women'!$Z$7:$Z$46),SUMIF('200m Obs Women'!$C$7:$C$46,$A103,'200m Obs Women'!$Z$7:$Z$46)))","v":""},{"$f":"IF($A103=\"\",\"\",IF(SUMIF('200m Super Women'!$C$7:$C$46,$A103,'200m Super Women'!$Z$7:$Z$46)=0,1+MAX('200m Super Women'!$Z$7:$Z$46),SUMIF('200m Super Women'!$C$7:$C$46,$A103,'200m Super Women'!$Z$7:$Z$46)))","v":""},{"$f":"IF($A103=\"\",\"\",IF(SUMIF('100 Resue Women'!$C$7:$C$46,$A103,'100 Resue Women'!$Z$7:$Z$46)=0,1+MAX('100 Resue Women'!$Z$7:$Z$46),SUMIF('100 Resue Women'!$C$7:$C$46,$A103,'100 Resue Women'!$Z$7:$Z$46)))","v":""},{"$f":"IF($A103=\"\",\"\",IF(SUMIF('Line Throw Women'!$C$7:$C$46,$A103,'Line Throw Women'!$AB$7:$AB$46)=0,1+MAX('Line Throw Women'!$AB$7:$AB$46),SUMIF('Line Throw Women'!$C$7:$C$46,$A103,'Line Throw Women'!$AB$7:$AB$46)))","v":""},{"$f":"IF($A103=\"\",\"\",IF(SUMIF('4 x 50 Obs Relay Women'!$C$7:$C$46,$A103,'4 x 50 Obs Relay Women'!$W$7:$W$46)=0,1+MAX('4 x 50 Obs Relay Women'!$W$7:$W$46),SUMIF('4 x 50 Obs Relay Women'!$C$7:$C$46,$A103,'4 x 50 Obs Relay Women'!$W$7:$W$46)))","v":""},{"$f":"IF($A103=\"\",\"\",IF(SUMIF('4 x 50 medley Relay Women'!$C$7:$C$46,$A103,'4 x 50 medley Relay Women'!$W$7:$W$46)=0,1+MAX('4 x 50 medley Relay Women'!$W$7:$W$46),SUMIF('4 x 50 medley Relay Women'!$C$7:$C$46,$A103,'4 x 50 medley Relay Women'!$W$7:$W$46)))","v":""},{"$f":"IF($A103=\"\",\"\",IF(SUMIF('4 x 25 Manikin Carry Women'!$C$7:$C$46,$A103,'4 x 25 Manikin Carry Women'!$W$7:$W$46)=0,1+MAX('4 x 25 Manikin Carry Women'!$W$7:$W$46),SUMIF('4 x 25 Manikin Carry Women'!$C$7:$C$46,$A103,'4 x 25 Manikin Carry Women'!$W$7:$W$46)))","v":""},{"$f":"IF($A103=\"\",\"\",IF(SUMIF('4 x 12m Line Throw Women'!$C$7:$C$46,$A103,'4 x 12m Line Throw Women'!$W$7:$W$46)=0,1+MAX('4 x 12m Line Throw Women'!$W$7:$W$46),SUMIF('4 x 12m Line Throw Women'!$C$7:$C$46,$A103,'4 x 12m Line Throw Women'!$W$7:$W$46)))","v":""},"",""]
["","",{"$f":"IF($A104=\"\",\"\",IF(SUMIF('50m Manikin Carry Women'!$C$7:$C$46,$A104,'50m Manikin Carry Women'!$Z$7:$Z$46)=0,1+MAX('50m Manikin Carry Women'!$Z$7:$Z$46),SUMIF('50m Manikin Carry Women'!$C$7:$C$46,$A104,'50m Manikin Carry Women'!$Z$7:$Z$46)))","v":""},{"$f":"IF($A104=\"\",\"\",IF(SUMIF('100m Manikin Carry Women'!$C$7:$C$46,$A104,'100m Manikin Carry Women'!$Z$7:$Z$46)=0,1+MAX('100m Manikin Carry Women'!$Z$7:$Z$46),SUMIF('100m Manikin Carry Women'!$C$7:$C$46,$A104,'100m Manikin Carry Women'!$Z$7:$Z$46)))","v":""},{"$f":"IF($A104=\"\",\"\",IF(SUMIF('100m Manikin Tow Women'!$C$7:$C$46,$A104,'100m Manikin Tow Women'!$Z$7:$Z$46)=0,1+MAX('100m Manikin Tow Women'!$Z$7:$Z$46),SUMIF('100m Manikin Tow Women'!$C$7:$C$46,$A104,'100m Manikin Tow Women'!$Z$7:$Z$46)))","v":""},{"$f":"IF($A104=\"\",\"\",IF(SUMIF('200m Obs Women'!$C$7:$C$46,$A104,'200m Obs Women'!$Z$7:$Z$46)=0,1+MAX('200m Obs Women'!$Z$7:$Z$46),SUMIF('200m Obs Women'!$C$7:$C$46,$A104,'200m Obs Women'!$Z$7:$Z$46)))","v":""},{"$f":"IF($A104=\"\",\"\",IF(SUMIF('200m Super Women'!$C$7:$C$46,$A104,'200m Super Women'!$Z$7:$Z$46)=0,1+MAX('200m Super Women'!$Z$7:$Z$46),SUMIF('200m Super Women'!$C$7:$C$46,$A104,'200m Super Women'!$Z$7:$Z$46)))","v":""},{"$f":"IF($A104=\"\",\"\",IF(SUMIF('100 Resue Women'!$C$7:$C$46,$A104,'100 Resue Women'!$Z$7:$Z$46)=0,1+MAX('100 Resue Women'!$Z$7:$Z$46),SUMIF('100 Resue Women'!$C$7:$C$46,$A104,'100 Resue Women'!$Z$7:$Z$46)))","v":""},{"$f":"IF($A104=\"\",\"\",IF(SUMIF('Line Throw Women'!$C$7:$C$46,$A104,'Line Throw Women'!$AB$7:$AB$46)=0,1+MAX('Line Throw Women'!$AB$7:$AB$46),SUMIF('Line Throw Women'!$C$7:$C$46,$A104,'Line Throw Women'!$AB$7:$AB$46)))","v":""},{"$f":"IF($A104=\"\",\"\",IF(SUMIF('4 x 50 Obs Relay Women'!$C$7:$C$46,$A104,'4 x 50 Obs Relay Women'!$W$7:$W$46)=0,1+MAX('4 x 50 Obs Relay Women'!$W$7:$W$46),SUMIF('4 x 50 Obs Relay Women'!$C$7:$C$46,$A104,'4 x 50 Obs Relay Women'!$W$7:$W$46)))","v":""},{"$f":"IF($A104=\"\",\"\",IF(SUMIF('4 x 50 medley Relay Women'!$C$7:$C$46,$A104,'4 x 50 medley Relay Women'!$W$7:$W$46)=0,1+MAX('4 x 50 medley Relay Women'!$W$7:$W$46),SUMIF('4 x 50 medley Relay Women'!$C$7:$C$46,$A104,'4 x 50 medley Relay Women'!$W$7:$W$46)))","v":""},{"$f":"IF($A104=\"\",\"\",IF(SUMIF('4 x 25 Manikin Carry Women'!$C$7:$C$46,$A104,'4 x 25 Manikin Carry Women'!$W$7:$W$46)=0,1+MAX('4 x 25 Manikin Carry Women'!$W$7:$W$46),SUMIF('4 x 25 Manikin Carry Women'!$C$7:$C$46,$A104,'4 x 25 Manikin Carry Women'!$W$7:$W$46)))","v":""},{"$f":"IF($A104=\"\",\"\",IF(SUMIF('4 x 12m Line Throw Women'!$C$7:$C$46,$A104,'4 x 12m Line Throw Women'!$W$7:$W$46)=0,1+MAX('4 x 12m Line Throw Women'!$W$7:$W$46),SUMIF('4 x 12m Line Throw Women'!$C$7:$C$46,$A104,'4 x 12m Line Throw Women'!$W$7:$W$46)))","v":""},"",""]

{"sheet":"50m Manikin Carry Men","index":4,"n_rows":101,"n_cols":26,"rows_kept":101,"cut":false,"hidden":false,"merged":[[4,6,4,7],[4,9,4,10],[4,11,4,13]]}
[]
[null,"Men's",null,"50m Manikin Carry"]
[]
[]
["A University(Boolean)","Club Name","Club Code","Competitor","CompetitorID","AceptanceID","ID code",null,"Entry Time(Seconds)","Entry Time",null,"Time",null,null,"Time(seconds)","Finish \nStatus","Times and  DQs","Rank","Competition \nPlace","Squad List","Rank For \nSquads Members","Top Finisher for there Unit","Top finisher Select Competitor for ranking","Squad \nPoints","Uni Finishers","Student \nPoints"]
[null,null,null,null,null,null,null,null,null,"Mins","Seconds","Mins","Seconds","1/100"]
[1,"Cardiff University",49,"Simon Lewis",999999,null,"S","M",35,{"$f":"INT(I7/60)","v":0},{"$f":"MOD(I7,60)","v":35},0,42,39,{"$f":"L7*60+M7+N7/100","v":42.39},"Disqualified",{"$f":"IF(P7=\"Disqualified\",P7,IF(P7=\"Finished\",IF(O7<=0,\"\",O7),\"\"))","v":"Disqualified"},{"$f":"IF(OR(Q7=\"Disqualified\",Q7=\"\"),\"\",RANK(Q7,$Q$7:$Q$46,1))","v":""},{"$f":"IF(P7=\"Disqualified\",MAX($R$7:$R$46)+1,R7)","v":25},{"$f":"IF(G7=\"S\",S7,\"\")","v":25},{"$f":"IF(T7=\"\",\"\",RANK(T7,$T$7:$T$46,1))","v":22},{"$f":"MIN(IF($C$7:$C$46=C7,$U$7:$U$46,\"\"))","v":22},{"$f":"IF(V7=U7,V7,\"\")","v":22},{"$f":"IF(W7=\"\",\"\",RANK(W7,$W$7:$W$46,1))","v":13},{"$f":"IF(A7=1,X7,\"\")","v":13},{"$f":"IF(Y7=\"\",\"\",RANK(Y7,$Y$7:$Y$46,1))","v":12}]
[1,"Loughborough University",7,"Rob Sheard",589,null,"I","K",40,{"$f":"INT(I8/60)","v":0},{"$f":"MOD(I8,60)","v":40},0,38,71,{"$f":"L8*60+M8+N8/100","v":38.71},"Finished",{"$f":"IF(P8=\"Disqualified\",P8,IF(P8=\"Finished\",IF(O8<=0,\"\",O8),\"\"))","v":38.71},{"$f":"IF(OR(Q8=\"Disqualified\",Q8=\"\"),\"\",RANK(Q8,$Q$7:$Q$46,1))","v":4},{"$f":"IF(P8=\"Disqualified\",MAX($R$7:$R$46)+1,R8)","v":4},{"$f":"IF(G8=\"S\",S8,\"\")","v":""},{"$f":"IF(T8=\"\",\"\",RANK(T8,$T$7:$T$46,1))","v":""},{"$f":"MIN(IF($C$7:$C$46=C8,$U$7:$U$46,\"\"))","v":1},{"$f":"IF(V8=U8,V8,\"\")","v":""},{"$f":"IF(W8=\"\",\"\",RANK(W8,$W$7:$W$46,1))","v":""},{"$f":"IF(A8=1,X8,\"\")","v":""},{"$f":"IF(Y8=\"\",\"\",RANK(Y8,$Y$7:$Y$46,1))","v":""}]
[0,"Northfield",46,"Matt Vaugh",579,null,"S","M",38,0,38,0,40,51,40.51,"Finished",40.51,8,8,8,6,{"$f":"MIN(IF($C$7:$C$46=C9,$U$7:$U$46,\"\"))","v":6},6,6,"",""]
[1,"University of Birmingham",14,"Benjamin Wilkins",616,null,"S","M",69,1,9,0,57,81,57.81,"Finished",57.81,22,22,22,19,{"$f":"MIN(IF($C$7:$C$46=C10,$U$7:$U$46,\"\"))","v":4},"","","",""]
[1,"Bristol University",15,"Ben Lang",942,null,"I","M",90,1,30,0,47,72,47.72,"Finished",47.72,16,16,"","",{"$f":"MIN(IF($C$7:$C$46=C11,$U$7:$U$46,\"\"))","v":2},"","","",""]
[1,"Loughborough University",7,"Graham Thompson",586,null,"I","K",39,0,39,0,39,53,39.53,"Finished",39.53,5,5,"","",{"$f":"MIN(IF($C$7:$C$46=C12,$U$7:$U$46,\"\"))","v":1},"","","",""]
[1,"University of Cambridge",5,"Yat Sum Leung",844,null,"S","M",0,0,0,1,3,17,63.17,"Finished",63.17,24,24,24,21,{"$f":"MIN(IF($C$7:$C$46=C13,$U$7:$U$46,\"\"))","v":18},"","","",""]
[1,"University of Oxford",18,"Patrick Unwin",800,null,"S","M",60,1,0,0,52,93,52.93,"Finished",52.93,19,19,19,16,{"$f":"MIN(IF($C$7:$C$46=C14,$U$7:$U$46,\"\"))","v":16},16,11,11,10]
[1,"University of Nottingham",8,"Mitch Clark",535,null,"S","M",57,0,57,0,52,80,52.8,"Finished",52.8,18,18,18,15,{"$f":"MIN(IF($C$7:$C$46=C15,$U$7:$U$46,\"\"))","v":10},"","","",""]
[1,"University of London Union",16,"Jacob Anders",743,null,"S","M",55,0,55,0,54,53,54.53,"Finished",54.53,20,20,20,17,{"$f":"MIN(IF($C$7:$C$46=C16,$U$7:$U$46,\"\"))","v":7},"","","",""]
[1,"Loughborough University",7,"Chris Baker",778,null,"S","M",48,0,48,0,45,89,45.89,"Finished",45.89,15,15,15,13,{"$f":"MIN(IF($C$7:$C$46=C17,$U$7:$U$46,\"\"))","v":1},"","","",""]
[1,"Swansea Universities Lifesaving",21,"Gareth Abbott-Haigh",906,null,"S","M",46,0,46,0,45,24,45.24,"Finished",45.24,13,13,13,11,{"$f":"MIN(IF($C$7:$C$46=C18,$U$7:$U$46,\"\"))","v":3},"","","",""]
[1,"University of Plymouth",9,"Owen Treacy",866,null,"S","M",46,0,46,0,43,27,43.27,"Disqualified","Disqualified","",25,25,22,{"$f":"MIN(IF($C$7:$C$46=C19,$U$7:$U$46,\"\"))","v":22},22,13,13,12]
[1,"University of Nottingham",8,"Luke Norton",534,null,"S","M",49,0,49,0,44,41,44.41,"Finished",44.41,12,12,12,10,{"$f":"MIN(IF($C$7:$C$46=C20,$U$7:$U$46,\"\"))","v":10},10,9,9,8]
[1,"University of St Andrews",11,"David Brown",552,null,"S","M",55,0,55,0,45,56,45.56,"Finished",45.56,14,14,14,12,{"$f":"MIN(IF($C$7:$C$46=C21,$U$7:$U$46,\"\"))","v":12},12,10,10,9]
[1,"University of Cambridge",5,"Matthew Cox",753,null,"S","M",59,0,59,0,57,11,57.11,"Finished",57.11,21,21,21,18,{"$f":"MIN(IF($C$7:$C$46=C22,$U$7:$U$46,\"\"))","v":18},18,12,12,11]
[1,"University of St Andrews",11,"Andrew Martin",553,null,"S","M",60,1,0,1,1,14,61.14,"Finished",61.14,23,23,23,20,{"$f":"MIN(IF($C$7:$C$46=C23,$U$7:$U$46,\"\"))","v":12},"","","",""]
[1,"University of Plymouth",9,"Mike Dowden",865,null,"S","M",44,0,44,0,46,61,46.61,"Disqualified","Disqualified","",25,25,22,{"$f":"MIN(IF($C$7:$C$46=C24,$U$7:$U$46,\"\"))","v":22},22,13,13,12]
[1,"University of Southampton",20,"Harvey Yules",679,null,"S","M",42,0,42,0,40,49,40.49,"Finished",40.49,7,7,7,5,{"$f":"MIN(IF($C$7:$C$46=C25,$U$7:$U$46,\"\"))","v":5},5,5,5,5]
[1,"University of Warwick",12,"Alexander Blandford",629,null,"S","M",40,0,40,0,42,95,42.95,"Finished",42.95,11,11,11,9,{"$f":"MIN(IF($C$7:$C$46=C26,$U$7:$U$46,\"\"))","v":9},9,8,8,7]
[1,"Bristol University",15,"James Grandfield",929,null,"S","M",38,0,38,0,37,21,37.21,"Finished",37.21,2,2,2,2,{"$f":"MIN(IF($C$7:$C$46=C27,$U$7:$U$46,\"\"))","v":2},2,2,2,2]
[1,"Swansea Universities Lifesaving",21,"Sam Kenvyn",905,null,"S","M",36,0,36,0,37,27,37.270000000000003,"Finished",37.270000000000003,3,3,3,3,{"$f":"MIN(IF($C$7:$C$46=C28,$U$7:$U$46,\"\"))","v":3},3,3,3,3]
[1,"Loughborough University",7,"Alex Mason",777,null,"S","M",36,0,36,0,35,63,35.630000000000003,"Finished",35.630000000000003,1,1,1,1,{"$f":"MIN(IF($C$7:$C$46=C29,$U$7:$U$46,\"\"))","v":1},1,1,1,1]
[1,"University of Birmingham",14,"James Newbon",615,null,"S","M",39,0,39,0,40,41,40.409999999999997,"Finished",40.409999999999997,6,6,6,4,{"$f":"MIN(IF($C$7:$C$46=C30,$U$7:$U$46,\"\"))","v":4},4,4,4,4]
[1,"University of London Union",16,"Yasuaki Shinohara",742,null,"S","M",42,0,42,0,42,64,42.64,"Finished",42.64,9,9,9,7,{"$f":"MIN(IF($C$7:$C$46=C31,$U$7:$U$46,\"\"))","v":7},7,7,7,6]
[1,"University of Warwick",12,"Andrew Bishop",657,null,"S","M",43,0,43,0,47,79,47.79,"Finished",47.79,17,17,17,14,{"$f":"MIN(IF($C$7:$C$46=C32,$U$7:$U$46,\"\"))","v":9},"","","",""]
[1,"University of Southampton",20,"Vincent Farcot",680,null,"S","M",44,0,44,0,42,93,42.93,"Finished",42.93,10,10,10,8,{"$f":"MIN(IF($C$7:$C$46=C33,$U$7:$U$46,\"\"))","v":5},"","","",""]
[null,null,null,null,null,null,null,null,null,0,0,null,null,null,0,null,"","","","","",{"$f":"MIN(IF($C$7:$C$46=C34,$U$7:$U$46,\"\"))","v":0},"","","",""]
[null,null,null,null,null,null,null,null,null,0,0,null,null,null,0,null,"","","","","",{"$f":"MIN(IF($C$7:$C$46=C35,$U$7:$U$46,\"\"))","v":0},"","","",""]
[null,null,null,null,null,null,null,null,null,0,0,null,null,null,0,null,"","","","","",{"$f":"MIN(IF($C$7:$C$46=C36,$U$7:$U$46,\"\"))","v":0},"","","",""]
[null,null,null,null,null,null,null,null,null,{"$f":"INT(I37/60)","v":0},0,null,null,null,0,null,"","","","","",{"$f":"MIN(IF($C$7:$C$46=C37,$U$7:$U$46,\"\"))","v":0},"","","",""]
[null,null,null,null,null,null,null,null,null,0,0,null,null,null,0,null,"","","","","",{"$f":"MIN(IF($C$7:$C$46=C38,$U$7:$U$46,\"\"))","v":0},"","","",""]
[null,null,null,null,null,null,null,null,null,0,0,null,null,null,0,null,"","","","","",{"$f":"MIN(IF($C$7:$C$46=C39,$U$7:$U$46,\"\"))","v":0},"","","",""]
[null,null,null,null,null,null,null,null,null,0,0,null,null,null,0,null,"","","","","",{"$f":"MIN(IF($C$7:$C$46=C40,$U$7:$U$46,\"\"))","v":0},"","","",""]
[null,null,null,null,null,null,null,null,null,0,0,null,null,null,0,null,"","","","","",{"$f":"MIN(IF($C$7:$C$46=C41,$U$7:$U$46,\"\"))","v":0},"","","",""]
[null,null,null,null,null,null,null,null,null,0,0,null,null,null,0,null,"","","","","",{"$f":"MIN(IF($C$7:$C$46=C42,$U$7:$U$46,\"\"))","v":0},"","","",""]
[null,null,null,null,null,null,null,null,null,0,0,null,null,null,0,null,"","","","","",{"$f":"MIN(IF($C$7:$C$46=C43,$U$7:$U$46,\"\"))","v":0},"","","",""]
[null,null,null,null,null,null,null,null,null,0,0,null,null,null,0,null,"","","","","",{"$f":"MIN(IF($C$7:$C$46=C44,$U$7:$U$46,\"\"))","v":0},"","","",""]
[null,null,null,null,null,null,null,null,null,0,0,null,null,null,0,null,"","","","","",{"$f":"MIN(IF($C$7:$C$46=C45,$U$7:$U$46,\"\"))","v":0},"","","",""]
[null,null,null,null,null,null,null,null,null,0,0,null,null,null,0,null,"","","","","",{"$f":"MIN(IF($C$7:$C$46=C46,$U$7:$U$46,\"\"))","v":0},"","","",""]
[]
[]
[]
[]
[]
[]
[]
[]
[]
[]
[]
[]
[]
[]
[]
[]
[]
[]
[]
[]
[]
[]
[]
[]
[]
[]
[]
[]
[]
[]
[]
[]
[]
[]
[]
[]
[]
[]
[]
[]
[]
[]
[]
[]
[]
[]
[]
[]
[]
[]
[]
[]
[]
[null,null,null,null,null,null,null,null,null,null,null,null,null,null,null,"Finished"]
[null,null,null,null,null,null,null,null,null,null,null,null,null,null,null,"Disqualified"]

{"sheet":"50m Manikin Carry Women","index":5,"n_rows":101,"n_cols":26,"rows_kept":101,"cut":false,"hidden":false,"merged":[[4,6,4,7],[4,9,4,10],[4,11,4,13]]}
[]
[null,"Women's",null,"50m Manikin Carry"]
[]
[]
["A University(Boolean)","Club Name","Club Code","Competitor","CompetitorID","AceptanceID","ID code",null,"Entry Time(Seconds)","Entry Time",null,"Time",null,null,"Time(seconds)","Finish \nStatus","Times and  DQs","Rank","Competition \nPlace","Squad List","Rank For \nSquads Members","Top Finisher for there Unit","Top finisher Select Competitor for ranking","Squad\n Points","Uni Finishers","Student \nPoints"]
[null,null,null,null,null,null,null,null,null,"Mins","Seconds","Mins","Seconds","1/100"]
[1,"University of Bath",2,"Hannah Arthur-Almond",828,null,"I","M",140,{"$f":"INT(I7/60)","v":2},{"$f":"MOD(I7,60)","v":20},null,null,null,null,"Disqualified",{"$f":"IF(P7=\"Disqualified\",P7,IF(P7=\"Finished\",IF(O7<=0,\"\",O7),\"\"))","v":"Disqualified"},{"$f":"IF(OR(Q7=\"Disqualified\",Q7=\"\"),\"\",RANK(Q7,$Q$7:$Q$46,1))","v":""},{"$f":"IF(P7=\"Disqualified\",MAX($R$7:$R$46)+1,R7)","v":20},{"$f":"IF(G7=\"S\",S7,\"\")","v":""},{"$f":"IF(T7=\"\",\"\",RANK(T7,$T$7:$T$46,1))","v":""},{"$f":"MIN(IF($C$7:$C$46=C7,$U$7:$U$46,\"\"))","v":0},{"$f":"IF(V7=U7,V7,\"\")","v":""},{"$f":"IF(W7=\"\",\"\",RANK(W7,$W$7:$W$46,1))","v":""},{"$f":"IF(A7=1,X7,\"\")","v":""},{"$f":"IF(Y7=\"\",\"\",RANK(Y7,$Y$7:$Y$46,1))","v":""}]
[1,"University of Oxford",18,"Alice Pooley",799,null,"S","F",90,{"$f":"INT(I8/60)","v":1},{"$f":"MOD(I8,60)","v":30},1,5,87,null,"Finished",{"$f":"IF(P8=\"Disqualified\",P8,IF(P8=\"Finished\",IF(O8<=0,\"\",O8),\"\"))","v":""},{"$f":"IF(OR(Q8=\"Disqualified\",Q8=\"\"),\"\",RANK(Q8,$Q$7:$Q$46,1))","v":""},{"$f":"IF(P8=\"Disqualified\",MAX($R$7:$R$46)+1,R8)","v":""},{"$f":"IF(G8=\"S\",S8,\"\")","v":""},{"$f":"IF(T8=\"\",\"\",RANK(T8,$T$7:$T$46,1))","v":""},{"$f":"MIN(IF($C$7:$C$46=C8,$U$7:$U$46,\"\"))","v":4},{"$f":"IF(V8=U8,V8,\"\")","v":""},{"$f":"IF(W8=\"\",\"\",RANK(W8,$W$7:$W$46,1))","v":""},{"$f":"IF(A8=1,X8,\"\")","v":""},{"$f":"IF(Y8=\"\",\"\",RANK(Y8,$Y$7:$Y$46,1))","v":""}]
[1,"University of St Andrews",11,"Sarah Shapiro",565,null,"S","F",89,1,29,1,14,15,{"$f":"L9*60+M9+N9/100","v":74.150000000000006},"Finished",74.150000000000006,19,19,19,18,{"$f":"MIN(IF($C$7:$C$46=C9,$U$7:$U$46,\"\"))","v":13},"","","",""]
[1,"University of Cambridge",5,"Rebecca Woods",752,null,"S","F",90,1,30,0,59,13,59.13,"Disqualified","Disqualified","",20,20,19,{"$f":"MIN(IF($C$7:$C$46=C10,$U$7:$U$46,\"\"))","v":19},19,12,12,12]
[1,"University of Cambridge",5,"Eleanor Brodie",838,null,"S","F",0,0,0,1,29,7,89.07,"Disqualified","Disqualified","",20,20,19,{"$f":"MIN(IF($C$7:$C$46=C11,$U$7:$U$46,\"\"))","v":19},19,12,12,12]
[1,"Loughborough University",7,"Lucy Bamber",776,null,"S","F",70,1,10,0,54,30,54.3,"Finished",54.3,8,8,8,7,{"$f":"MIN(IF($C$7:$C$46=C12,$U$7:$U$46,\"\"))","v":1},"","","",""]
[1,"University of London Union",16,"Suanne Wong",745,null,"S","F",65,1,5,1,6,9,66.09,"Disqualified","Disqualified","",20,20,19,{"$f":"MIN(IF($C$7:$C$46=C13,$U$7:$U$46,\"\"))","v":17},"","","",""]
[1,"University of Plymouth",9,"Hannah Lucas",879,null,"S","F",63,1,3,1,4,83,64.83,"Finished",64.83,16,16,16,15,{"$f":"MIN(IF($C$7:$C$46=C14,$U$7:$U$46,\"\"))","v":15},15,10,10,10]
[1,"University of London Union",16,"Adeline Loh",744,null,"S","F",60,1,0,1,7,12,67.12,"Finished",67.12,18,18,18,17,{"$f":"MIN(IF($C$7:$C$46=C15,$U$7:$U$46,\"\"))","v":17},17,11,11,11]
[1,"University of Nottingham",8,"Chrissie Butcher",536,null,"S","F",59,0,59,1,1,63,61.63,"Finished",61.63,11,11,11,10,{"$f":"MIN(IF($C$7:$C$46=C16,$U$7:$U$46,\"\"))","v":6},"","","",""]
[1,"Bristol University",15,"Lizzie Boyes",926,null,"S","F",60,1,0,1,2,96,62.96,"Finished",62.96,13,13,13,12,{"$f":"MIN(IF($C$7:$C$46=C17,$U$7:$U$46,\"\"))","v":12},12,8,8,8]
[1,"University of Birmingham",14,"Rebecca Park",601,null,"S","F",60,1,0,1,4,74,64.739999999999995,"Finished",64.739999999999995,15,15,15,14,{"$f":"MIN(IF($C$7:$C$46=C18,$U$7:$U$46,\"\"))","v":11},"","","",""]
[1,"University of Plymouth",9,"Amy Lusher",878,null,"S","F",63,1,3,1,5,43,65.430000000000007,"Finished",65.430000000000007,17,17,17,16,{"$f":"MIN(IF($C$7:$C$46=C19,$U$7:$U$46,\"\"))","v":15},"","","",""]
[1,"University of Birmingham",14,"Ella Moore",602,null,"S","F",66,1,6,1,2,24,62.24,"Finished",62.24,12,12,12,11,{"$f":"MIN(IF($C$7:$C$46=C20,$U$7:$U$46,\"\"))","v":11},11,7,7,7]
[1,"University of St Andrews",11,"Hannah Callaghan",564,null,"S","F",87,1,27,1,3,66,63.66,"Finished",63.66,14,14,14,13,{"$f":"MIN(IF($C$7:$C$46=C21,$U$7:$U$46,\"\"))","v":13},13,9,9,9]
[1,"University of Warwick",12,"Elizabeth Buckingham-Jeffery",640,null,"S","F",54,0,54,0,56,60,56.6,"Finished",56.6,9,9,9,8,{"$f":"MIN(IF($C$7:$C$46=C22,$U$7:$U$46,\"\"))","v":5},"","","",""]
[1,"University of Oxford",18,"Sarah Cousins",832,null,"S","F",51,0,51,0,49,72,49.72,"Finished",49.72,5,5,5,4,{"$f":"MIN(IF($C$7:$C$46=C23,$U$7:$U$46,\"\"))","v":4},4,4,4,4]
[1,"University of Southampton",20,"Glynnis Morgan",734,null,"S","F",50,0,50,1,0,60,60.6,"Finished",60.6,10,10,10,9,{"$f":"MIN(IF($C$7:$C$46=C24,$U$7:$U$46,\"\"))","v":2},"","","",""]
[1,"Swansea Universities Lifesaving",21,"Sara Gwynn",917,null,"S","F",47,0,47,0,45,84,45.84,"Disqualified","Disqualified","",20,20,19,{"$f":"MIN(IF($C$7:$C$46=C25,$U$7:$U$46,\"\"))","v":3},"","","",""]
[1,"University of Southampton",20,"Simmone Bristow",737,null,"S","F",43,0,43,0,46,39,46.39,"Finished",46.39,3,3,3,2,{"$f":"MIN(IF($C$7:$C$46=C26,$U$7:$U$46,\"\"))","v":2},2,2,2,2]
[1,"Loughborough University",7,"Stacey Hudson",810,null,"I","X",44,0,44,0,43,63,43.63,"Finished",43.63,2,2,"","",{"$f":"MIN(IF($C$7:$C$46=C27,$U$7:$U$46,\"\"))","v":1},"","","",""]
[1,"Swansea Universities Lifesaving",21,"Luisa Petta",918,null,"S","F",49,0,49,0,47,55,47.55,"Finished",47.55,4,4,4,3,{"$f":"MIN(IF($C$7:$C$46=C28,$U$7:$U$46,\"\"))","v":3},3,3,3,3]
[1,"University of Warwick",12,"Kirsty Burwood",642,null,"S","F",50,0,50,0,51,20,51.2,"Finished",51.2,6,6,6,5,{"$f":"MIN(IF($C$7:$C$46=C29,$U$7:$U$46,\"\"))","v":5},5,5,5,5]
[1,"Loughborough University",7,"Branwen Harris",775,null,"S","F",52,0,52,0,40,52,40.520000000000003,"Finished",40.520000000000003,1,1,1,1,{"$f":"MIN(IF($C$7:$C$46=C30,$U$7:$U$46,\"\"))","v":1},1,1,1,1]
[1,"University of Nottingham",8,"Sarah Aldridge",770,null,"S","F",57,0,57,0,52,22,52.22,"Finished",52.22,7,7,7,6,{"$f":"MIN(IF($C$7:$C$46=C31,$U$7:$U$46,\"\"))","v":6},6,6,6,6]
[null,null,1,null,null,null,null,null,null,0,0,null,null,null,0,null,"","","","","",{"$f":"MIN(IF($C$7:$C$46=C32,$U$7:$U$46,\"\"))","v":0},"","","",""]
[null,null,null,null,null,null,null,null,null,0,0,null,null,null,0,null,"","","","","",{"$f":"MIN(IF($C$7:$C$46=C33,$U$7:$U$46,\"\"))","v":0},"","","",""]
[null,null,null,null,null,null,null,null,null,0,0,null,null,null,0,null,"","","","","",{"$f":"MIN(IF($C$7:$C$46=C34,$U$7:$U$46,\"\"))","v":0},"","","",""]
[null,null,null,null,null,null,null,null,null,0,0,null,null,null,0,null,"","","","","",{"$f":"MIN(IF($C$7:$C$46=C35,$U$7:$U$46,\"\"))","v":0},"","","",""]
[null,null,null,null,null,null,null,null,null,0,0,null,null,null,0,null,"","","","","",{"$f":"MIN(IF($C$7:$C$46=C36,$U$7:$U$46,\"\"))","v":0},"","","",""]
[null,null,null,null,null,null,null,null,null,0,0,null,null,null,0,null,"","","","","",{"$f":"MIN(IF($C$7:$C$46=C37,$U$7:$U$46,\"\"))","v":0},"","","",""]
[null,null,null,null,null,null,null,null,null,0,0,null,null,null,0,null,"","","","","",{"$f":"MIN(IF($C$7:$C$46=C38,$U$7:$U$46,\"\"))","v":0},"","","",""]
[null,null,null,null,null,null,null,null,null,0,0,null,null,null,0,null,"","","","","",{"$f":"MIN(IF($C$7:$C$46=C39,$U$7:$U$46,\"\"))","v":0},"","","",""]
[null,null,null,null,null,null,null,null,null,0,0,null,null,null,0,null,"","","","","",{"$f":"MIN(IF($C$7:$C$46=C40,$U$7:$U$46,\"\"))","v":0},"","","",""]
[null,null,null,null,null,null,null,null,null,0,0,null,null,null,0,null,"","","","","",{"$f":"MIN(IF($C$7:$C$46=C41,$U$7:$U$46,\"\"))","v":0},"","","",""]
[null,null,null,null,null,null,null,null,null,0,0,null,null,null,0,null,"","","","","",{"$f":"MIN(IF($C$7:$C$46=C42,$U$7:$U$46,\"\"))","v":0},"","","",""]
[null,null,null,null,null,null,null,null,null,0,0,null,null,null,0,null,"","","","","",{"$f":"MIN(IF($C$7:$C$46=C43,$U$7:$U$46,\"\"))","v":0},"","","",""]
[null,null,null,null,null,null,null,null,null,0,0,null,null,null,0,null,"","","","","",{"$f":"MIN(IF($C$7:$C$46=C44,$U$7:$U$46,\"\"))","v":0},"","","",""]
[null,null,null,null,null,null,null,null,null,0,0,null,null,null,0,null,"","","","","",{"$f":"MIN(IF($C$7:$C$46=C45,$U$7:$U$46,\"\"))","v":0},"","","",""]
[null,null,null,null,null,null,null,null,null,0,0,null,null,null,0,null,"","","","","",{"$f":"MIN(IF($C$7:$C$46=C46,$U$7:$U$46,\"\"))","v":0},"","","",""]
[]
[]
[]
[]
[]
[]
[]
[]
[]
[]
[]
[]
[]
[]
[]
[]
[]
[]
[]
[]
[]
[]
[]
[]
[]
[]
[]
[]
[]
[]
[]
[]
[]
[]
[]
[]
[]
[]
[]
[]
[]
[]
[]
[]
[]
[]
[]
[]
[]
[]
[]
[]
[]
[null,null,null,null,null,null,null,null,null,null,null,null,null,null,null,"Finished"]
[null,null,null,null,null,null,null,null,null,null,null,null,null,null,null,"Disqualified"]

{"sheet":"100m Manikin Carry Men","index":6,"n_rows":101,"n_cols":26,"rows_kept":101,"cut":false,"hidden":false,"merged":[[4,6,4,7],[4,9,4,10],[4,11,4,13]]}
[]
[null,"Men's",null,"100m Manikin Carry"]
[]
[]
["A University(Boolean)","Club Name","Club Code","Competitor","CompetitorID","AcceptanceID","ID code",null,"Entry Time(Seconds)","Entry Time",null,"Time",null,null,"Time(seconds)","Finish \nStatus","Times and  DQs","Rank","Competition \nPlace","Squad List","Rank For \nSquads Members","Top Finisher for there Uni","Top finisher Select Competitor for ranking","Squad \nPoints","Uni Finishers","Student \nPoints"]
[null,null,null,null,null,null,null,null,null,"Mins","Seconds","Mins","Seconds","1/100"]
[1,"Cardiff University",49,"Simon Lewis",9999,null,"S","M",61,{"$f":"INT(I7/60)","v":1},{"$f":"MOD(I7,60)","v":1},1,1,56,{"$f":"L7*60+M7+N7/100","v":61.56},"Disqualified",{"$f":"IF(P7=\"Disqualified\",P7,IF(P7=\"Finished\",IF(O7<=0,\"\",O7),\"\"))","v":"Disqualified"},{"$f":"IF(OR(Q7=\"Disqualified\",Q7=\"\"),\"\",RANK(Q7,$Q$7:$Q$46,1))","v":""},{"$f":"IF(P7=\"Disqualified\",MAX($R$7:$R$46)+1,R7)","v":21},{"$f":"IF(G7=\"S\",S7,\"\")","v":21},{"$f":"IF(T7=\"\",\"\",RANK(T7,$T$7:$T$46,1))","v":19},{"$f":"MIN(IF($C$7:$C$46=C7,$U$7:$U$46,\"\"))","v":19},{"$f":"IF(V7=U7,V7,\"\")","v":19},{"$f":"IF(W7=\"\",\"\",RANK(W7,$W$7:$W$46,1))","v":13},{"$f":"IF(A7=1,X7,\"\")","v":13},{"$f":"IF(Y7=\"\",\"\",RANK(Y7,$Y$7:$Y$46,1))","v":12}]
[0,"Northfield",46,"Matt Vaugh",574,null,"S","M",68,{"$f":"INT(I8/60)","v":1},{"$f":"MOD(I8,60)","v":8},1,9,35,{"$f":"L8*60+M8+N8/100","v":69.349999999999994},"Finished",{"$f":"IF(P8=\"Disqualified\",P8,IF(P8=\"Finished\",IF(O8<=0,\"\",O8),\"\"))","v":69.349999999999994},{"$f":"IF(OR(Q8=\"Disqualified\",Q8=\"\"),\"\",RANK(Q8,$Q$7:$Q$46,1))","v":5},{"$f":"IF(P8=\"Disqualified\",MAX($R$7:$R$46)+1,R8)","v":5},{"$f":"IF(G8=\"S\",S8,\"\")","v":5},{"$f":"IF(T8=\"\",\"\",RANK(T8,$T$7:$T$46,1))","v":4},{"$f":"MIN(IF($C$7:$C$46=C8,$U$7:$U$46,\"\"))","v":4},{"$f":"IF(V8=U8,V8,\"\")","v":4},{"$f":"IF(W8=\"\",\"\",RANK(W8,$W$7:$W$46,1))","v":4},{"$f":"IF(A8=1,X8,\"\")","v":""},{"$f":"IF(Y8=\"\",\"\",RANK(Y8,$Y$7:$Y$46,1))","v":""}]
[1,"Loughborough University",7,"Graham Thompson",587,null,"I","K",62,1,2,1,2,34,62.34,"Disqualified","Disqualified","",21,"","",{"$f":"MIN(IF($C$7:$C$46=C9,$U$7:$U$46,\"\"))","v":1},"","","",""]
[1,"University of Warwick",12,"Adam Martin",634,null,"S","M",104,1,44,1,23,20,83.2,"Finished",83.2,15,15,15,14,{"$f":"MIN(IF($C$7:$C$46=C10,$U$7:$U$46,\"\"))","v":5},"","","",""]
[1,"Bristol University",15,"Ben Lang",937,null,"I","M",120,2,0,1,42,27,102.27,"Finished",102.27,20,20,"","",{"$f":"MIN(IF($C$7:$C$46=C11,$U$7:$U$46,\"\"))","v":19},"","","",""]
[1,"Loughborough University",7,"Rob Sheard",590,null,"I","K",64,1,4,1,2,59,62.59,"Finished",62.59,3,3,"","",{"$f":"MIN(IF($C$7:$C$46=C12,$U$7:$U$46,\"\"))","v":1},"","","",""]
[1,"University of Cambridge",5,"Matthew Cox",839,null,"S","M",0,0,0,1,32,12,92.12,"Finished",92.12,18,18,18,17,{"$f":"MIN(IF($C$7:$C$46=C13,$U$7:$U$46,\"\"))","v":12},"","","",""]
[1,"University of London Union",16,"Jacob Anders",713,null,"S","M",90,1,30,1,28,60,88.6,"Finished",88.6,16,16,16,15,{"$f":"MIN(IF($C$7:$C$46=C14,$U$7:$U$46,\"\"))","v":10},"","","",""]
[1,"University of Oxford",18,"Lewis Morgan",802,null,"S","M",90,1,30,1,22,89,82.89,"Finished",82.89,14,14,14,13,{"$f":"MIN(IF($C$7:$C$46=C15,$U$7:$U$46,\"\"))","v":13},13,12,12,11]
[1,"University of Nottingham",8,"Tom Parker",513,null,"S","M",85,1,25,1,29,81,89.81,"Finished",89.81,17,17,17,16,{"$f":"MIN(IF($C$7:$C$46=C16,$U$7:$U$46,\"\"))","v":8},"","","",""]
[1,"University of Nottingham",8,"Luke Norton",512,null,"S","M",81,1,21,1,12,25,72.25,"Finished",72.25,9,9,9,8,{"$f":"MIN(IF($C$7:$C$46=C17,$U$7:$U$46,\"\"))","v":8},8,8,8,7]
[1,"University of Plymouth",9,"Owen Treacy",856,null,"S","M",77,1,17,1,12,18,72.180000000000007,"Finished",72.180000000000007,8,8,8,7,{"$f":"MIN(IF($C$7:$C$46=C18,$U$7:$U$46,\"\"))","v":7},7,7,7,6]
[1,"University of Birmingham",14,"Mark Baslington",617,null,"S","M",80,1,20,1,11,49,71.489999999999995,"Finished",71.489999999999995,7,7,7,6,{"$f":"MIN(IF($C$7:$C$46=C19,$U$7:$U$46,\"\"))","v":6},6,6,6,5]
[1,"University of St Andrews",11,"Christopher Harper",554,null,"S","M",82,1,22,1,19,86,79.86,"Finished",79.86,12,12,12,11,{"$f":"MIN(IF($C$7:$C$46=C20,$U$7:$U$46,\"\"))","v":11},11,10,10,9]
[1,"University of St Andrews",11,"Andrew Martin",555,null,"S","M",87,1,27,1,45,97,105.97,"Disqualified","Disqualified","",21,21,19,{"$f":"MIN(IF($C$7:$C$46=C21,$U$7:$U$46,\"\"))","v":11},"","","",""]
[1,"University of Cambridge",5,"Thomas Watling",747,null,"S","M",90,1,30,1,19,99,79.989999999999995,"Finished",79.989999999999995,13,13,13,12,{"$f":"MIN(IF($C$7:$C$46=C22,$U$7:$U$46,\"\"))","v":12},12,11,11,10]
[1,"University of Birmingham",14,"Roozbeh Reghabi",618,null,"S","M",93,1,33,1,38,86,98.86,"Finished",98.86,19,19,19,18,{"$f":"MIN(IF($C$7:$C$46=C23,$U$7:$U$46,\"\"))","v":6},"","","",""]
[1,"University of Southampton",20,"Christian Wood",682,null,"S","M",74,1,14,1,12,78,72.78,"Disqualified","Disqualified","",21,21,19,{"$f":"MIN(IF($C$7:$C$46=C24,$U$7:$U$46,\"\"))","v":2},"","","",""]
[1,"University of London Union",16,"Yasuaki Shinohara",712,null,"S","M",70,1,10,1,17,54,77.540000000000006,"Finished",77.540000000000006,11,11,11,10,{"$f":"MIN(IF($C$7:$C$46=C25,$U$7:$U$46,\"\"))","v":10},10,9,9,8]
[1,"Swansea Universities Lifesaving",21,"Adam Chial",895,null,"S","M",65,1,5,1,6,16,66.16,"Finished",66.16,4,4,4,3,{"$f":"MIN(IF($C$7:$C$46=C26,$U$7:$U$46,\"\"))","v":3},3,3,3,3]
[1,"Bristol University",15,"James Grandfield",932,null,"S","M",64,1,4,1,1,47,61.47,"Disqualified","Disqualified","",21,21,19,{"$f":"MIN(IF($C$7:$C$46=C27,$U$7:$U$46,\"\"))","v":19},19,13,13,12]
[1,"Loughborough University",7,"Alex Mason",780,null,"S","M",58,0,58,1,0,67,60.67,"Finished",60.67,1,1,1,1,{"$f":"MIN(IF($C$7:$C$46=C28,$U$7:$U$46,\"\"))","v":1},1,1,1,1]
[1,"Loughborough University",7,"Phil Hallam (reserve)",781,null,"I","K",60,1,0,null,null,null,0,"Disqualified","Disqualified","",21,"","",{"$f":"MIN(IF($C$7:$C$46=C29,$U$7:$U$46,\"\"))","v":1},"","","",""]
[1,"University of Southampton",20,"Rhys Clements",681,null,"S","M",64,1,4,1,2,56,62.56,"Finished",62.56,2,2,2,2,{"$f":"MIN(IF($C$7:$C$46=C30,$U$7:$U$46,\"\"))","v":2},2,2,2,2]
[1,"Swansea Universities Lifesaving",21,"Daniel Bryant",896,null,"S","M",67,1,7,null,null,null,0,"Disqualified","Disqualified","",21,21,19,{"$f":"MIN(IF($C$7:$C$46=C31,$U$7:$U$46,\"\"))","v":3},"","","",""]
[1,"University of Plymouth",9,"Matt Neill",855,null,"S","M",74,1,14,1,13,10,73.099999999999994,"Finished",73.099999999999994,10,10,10,9,{"$f":"MIN(IF($C$7:$C$46=C32,$U$7:$U$46,\"\"))","v":7},"","","",""]
[1,"University of Warwick",12,"Elia Maramotti",645,null,"S","M",74,1,14,1,10,44,70.44,"Finished",70.44,6,6,6,5,{"$f":"MIN(IF($C$7:$C$46=C33,$U$7:$U$46,\"\"))","v":5},5,5,5,4]
[null,null,null,null,null,null,null,null,null,0,0,null,null,null,0,null,"","","","","",{"$f":"MIN(IF($C$7:$C$46=C34,$U$7:$U$46,\"\"))","v":0},"","","",""]
[null,null,null,null,null,null,null,null,null,0,0,null,null,null,0,null,"","","","","",{"$f":"MIN(IF($C$7:$C$46=C35,$U$7:$U$46,\"\"))","v":0},"","","",""]
[null,null,null,null,null,null,null,null,null,0,0,null,null,null,0,null,"","","","","",{"$f":"MIN(IF($C$7:$C$46=C36,$U$7:$U$46,\"\"))","v":0},"","","",""]
[null,null,null,null,null,null,null,null,null,0,0,null,null,null,0,null,"","","","","",{"$f":"MIN(IF($C$7:$C$46=C37,$U$7:$U$46,\"\"))","v":0},"","","",""]
[null,null,null,null,null,null,null,null,null,0,0,null,null,null,0,null,"","","","","",{"$f":"MIN(IF($C$7:$C$46=C38,$U$7:$U$46,\"\"))","v":0},"","","",""]
[null,null,null,null,null,null,null,null,null,0,0,null,null,null,0,null,"","","","","",{"$f":"MIN(IF($C$7:$C$46=C39,$U$7:$U$46,\"\"))","v":0},"","","",""]
[null,null,null,null,null,null,null,null,null,0,0,null,null,null,0,null,"","","","","",{"$f":"MIN(IF($C$7:$C$46=C40,$U$7:$U$46,\"\"))","v":0},"","","",""]
[null,null,null,null,null,null,null,null,null,0,0,null,null,null,0,null,"","","","","",{"$f":"MIN(IF($C$7:$C$46=C41,$U$7:$U$46,\"\"))","v":0},"","","",""]
[null,null,null,null,null,null,null,null,null,0,0,null,null,null,0,null,"","","","","",{"$f":"MIN(IF($C$7:$C$46=C42,$U$7:$U$46,\"\"))","v":0},"","","",""]
[null,null,null,null,null,null,null,null,null,0,0,null,null,null,0,null,"","","","","",{"$f":"MIN(IF($C$7:$C$46=C43,$U$7:$U$46,\"\"))","v":0},"","","",""]
[null,null,null,null,null,null,null,null,null,0,0,null,null,null,0,null,"","","","","",{"$f":"MIN(IF($C$7:$C$46=C44,$U$7:$U$46,\"\"))","v":0},"","","",""]
[null,null,null,null,null,null,null,null,null,0,0,null,null,null,0,null,"","","","","",{"$f":"MIN(IF($C$7:$C$46=C45,$U$7:$U$46,\"\"))","v":0},"","","",""]
[null,null,null,null,null,null,null,null,null,0,0,null,null,null,0,null,"","","","","",{"$f":"MIN(IF($C$7:$C$46=C46,$U$7:$U$46,\"\"))","v":0},"","","",""]
[]
[]
[]
[]
[]
[]
[]
[]
[]
[]
[]
[]
[]
[]
[]
[]
[]
[]
[]
[]
[]
[]
[]
[]
[]
[]
[]
[]
[]
[]
[]
[]
[]
[]
[]
[]
[]
[]
[]
[]
[]
[]
[]
[]
[]
[]
[]
[]
[]
[]
[]
[]
[]
[null,null,null,null,null,null,null,null,null,null,null,null,null,null,null,"Finished"]
[null,null,null,null,null,null,null,null,null,null,null,null,null,null,null,"Disqualified"]

{"sheet":"100m Manikin Carry Women","index":7,"n_rows":101,"n_cols":26,"rows_kept":101,"cut":false,"hidden":false,"merged":[[4,6,4,7],[4,9,4,10],[4,11,4,13]]}
[]
[null,"Women's",null,"100m Manikin Carry"]
[]
[]
["A University(Boolean)","Club Name","Club Code","Competitor","CompetitorID","AcceptanceID","ID code",null,"Entry Time(Seconds)","Entry Time",null,"Time",null,null,"Time(seconds)","Finish Status","Times and  DQs","Rank","Competition \nPlace","Squad List","Rank For \nSquads Members","Top Finisher for there Uni","Top finisher Select Competitor for ranking","Squad \nPoints","Uni Finishers","Student \nPoints"]
[null,null,null,null,null,null,null,null,null,"Mins","Seconds","Mins","Seconds","1/100"]
[1,"University of London Union",16,"Suanne Wong",714,null,"S","F",110,{"$f":"INT(I7/60)","v":1},{"$f":"MOD(I7,60)","v":50},1,46,93,{"$f":"L7*60+M7+N7/100","v":106.93},"Finished",{"$f":"IF(P7=\"Disqualified\",P7,IF(P7=\"Finished\",IF(O7<=0,\"\",O7),\"\"))","v":106.93},{"$f":"IF(OR(Q7=\"Disqualified\",Q7=\"\"),\"\",RANK(Q7,$Q$7:$Q$46,1))","v":17},{"$f":"IF(P7=\"Disqualified\",MAX($R$7:$R$46)+1,R7)","v":17},{"$f":"IF(G7=\"S\",S7,\"\")","v":17},{"$f":"IF(T7=\"\",\"\",RANK(T7,$T$7:$T$46,1))","v":17},{"$f":"MIN(IF($C$7:$C$46=C7,$U$7:$U$46,\"\"))","v":16},{"$f":"IF(V7=U7,V7,\"\")","v":""},{"$f":"IF(W7=\"\",\"\",RANK(W7,$W$7:$W$46,1))","v":""},{"$f":"IF(A7=1,X7,\"\")","v":""},{"$f":"IF(Y7=\"\",\"\",RANK(Y7,$Y$7:$Y$46,1))","v":""}]
[1,"University of Cambridge",5,"Rebecka Kiff",748,null,"S","F",105,{"$f":"INT(I8/60)","v":1},{"$f":"MOD(I8,60)","v":45},1,30,83,{"$f":"L8*60+M8+N8/100","v":90.83},"Disqualified",{"$f":"IF(P8=\"Disqualified\",P8,IF(P8=\"Finished\",IF(O8<=0,\"\",O8),\"\"))","v":"Disqualified"},{"$f":"IF(OR(Q8=\"Disqualified\",Q8=\"\"),\"\",RANK(Q8,$Q$7:$Q$46,1))","v":""},{"$f":"IF(P8=\"Disqualified\",MAX($R$7:$R$46)+1,R8)","v":18},{"$f":"IF(G8=\"S\",S8,\"\")","v":18},{"$f":"IF(T8=\"\",\"\",RANK(T8,$T$7:$T$46,1))","v":18},{"$f":"MIN(IF($C$7:$C$46=C8,$U$7:$U$46,\"\"))","v":18},{"$f":"IF(V8=U8,V8,\"\")","v":18},{"$f":"IF(W8=\"\",\"\",RANK(W8,$W$7:$W$46,1))","v":12},{"$f":"IF(A8=1,X8,\"\")","v":12},{"$f":"IF(Y8=\"\",\"\",RANK(Y8,$Y$7:$Y$46,1))","v":12}]
[1,"University of Warwick",12,"Piera Marchetti",660,null,"S","F",97,1,37,1,32,45,92.45,"Disqualified","Disqualified","",18,18,18,{"$f":"MIN(IF($C$7:$C$46=C9,$U$7:$U$46,\"\"))","v":9},"","","",""]
[1,"Bristol University",15,"Lizzie Boyes",923,null,"S","F",100,1,40,1,38,87,98.87,"Finished",98.87,15,15,15,15,{"$f":"MIN(IF($C$7:$C$46=C10,$U$7:$U$46,\"\"))","v":15},15,10,10,10]
[1,"University of London Union",16,"Tara Lee",715,null,"S","F",110,1,50,1,39,2,99.02,"Finished",99.02,16,16,16,16,{"$f":"MIN(IF($C$7:$C$46=C11,$U$7:$U$46,\"\"))","v":16},16,11,11,11]
[1,"University of Cambridge",5,"Rebecca Woods",836,null,"S","F",0,0,0,null,null,null,0,"Disqualified","Disqualified","",18,18,18,{"$f":"MIN(IF($C$7:$C$46=C12,$U$7:$U$46,\"\"))","v":18},18,12,12,12]
[1,"University of Nottingham",8,"Louise Boyle",515,null,"S","F",96,1,36,1,32,48,92.48,"Finished",92.48,12,12,12,12,{"$f":"MIN(IF($C$7:$C$46=C13,$U$7:$U$46,\"\"))","v":8},"","","",""]
[1,"University of St Andrews",11,"Christina Samson",567,null,"S","F",91,1,31,1,37,43,97.43,"Finished",97.43,14,14,14,14,{"$f":"MIN(IF($C$7:$C$46=C14,$U$7:$U$46,\"\"))","v":7},"","","",""]
[1,"University of Birmingham",14,"Anne-Maire Robinson",604,null,"S","F",87,1,27,1,32,27,92.27,"Finished",92.27,11,11,11,11,{"$f":"MIN(IF($C$7:$C$46=C15,$U$7:$U$46,\"\"))","v":10},"","","",""]
[1,"University of St Andrews",11,"Ella Hunt",566,null,"S","F",88,1,28,1,22,57,82.57,"Finished",82.57,7,7,7,7,{"$f":"MIN(IF($C$7:$C$46=C16,$U$7:$U$46,\"\"))","v":7},7,6,6,6]
[1,"University of Warwick",12,"Laura Rumsey",663,null,"S","F",92,1,32,1,25,36,85.36,"Finished",85.36,9,9,9,9,{"$f":"MIN(IF($C$7:$C$46=C17,$U$7:$U$46,\"\"))","v":9},9,8,8,8]
[1,"University of Plymouth",9,"Katie Brownjohn",868,null,"S","F",97,1,37,1,33,98,93.98,"Finished",93.98,13,13,13,13,{"$f":"MIN(IF($C$7:$C$46=C18,$U$7:$U$46,\"\"))","v":4},"","","",""]
[1,"University of Southampton",20,"Natalie Moore",720,null,"S","F",80,1,20,1,20,78,80.78,"Finished",80.78,6,6,6,6,{"$f":"MIN(IF($C$7:$C$46=C19,$U$7:$U$46,\"\"))","v":3},"","","",""]
[1,"Swansea Universities Lifesaving",21,"Luisa Petta",908,null,"S","F",80,1,20,1,19,33,79.33,"Disqualified","Disqualified","",18,18,18,{"$f":"MIN(IF($C$7:$C$46=C20,$U$7:$U$46,\"\"))","v":1},"","","",""]
[1,"University of Oxford",18,"Sarah Cousins",801,null,"S","F",75,1,15,1,19,58,79.58,"Finished",79.58,5,5,5,5,{"$f":"MIN(IF($C$7:$C$46=C21,$U$7:$U$46,\"\"))","v":5},5,5,5,5]
[1,"University of Southampton",20,"Simmone Bristow",719,null,"S","F",74,1,14,1,17,57,77.569999999999993,"Finished",77.569999999999993,3,3,3,3,{"$f":"MIN(IF($C$7:$C$46=C22,$U$7:$U$46,\"\"))","v":3},3,3,3,3]
[1,"Swansea Universities Lifesaving",21,"Rhian Thomas",907,null,"S","F",71,1,11,1,10,51,70.510000000000005,"Finished",70.510000000000005,1,1,1,1,{"$f":"MIN(IF($C$7:$C$46=C23,$U$7:$U$46,\"\"))","v":1},1,1,1,1]
[1,"Loughborough University",7,"Emma Seddon",779,null,"S","F",73,1,13,1,13,60,73.599999999999994,"Finished",73.599999999999994,2,2,2,2,{"$f":"MIN(IF($C$7:$C$46=C24,$U$7:$U$46,\"\"))","v":2},2,2,2,2]
[1,"Loughborough University",7,"Stacey Hudson",813,null,"I","X",75,1,15,1,13,49,73.489999999999995,"Disqualified","Disqualified","",18,"","",{"$f":"MIN(IF($C$7:$C$46=C25,$U$7:$U$46,\"\"))","v":2},"","","",""]
[1,"University of Plymouth",9,"Gracie Dack",867,null,"S","F",77,1,17,1,19,2,79.02,"Finished",79.02,4,4,4,4,{"$f":"MIN(IF($C$7:$C$46=C26,$U$7:$U$46,\"\"))","v":4},4,4,4,4]
[1,"University of Nottingham",8,"Chrissie Butcher",514,null,"S","F",80,1,20,1,24,37,84.37,"Finished",84.37,8,8,8,8,{"$f":"MIN(IF($C$7:$C$46=C27,$U$7:$U$46,\"\"))","v":8},8,7,7,7]
[1,"University of Birmingham",14,"Gemma Sharp",603,null,"S","F",86,1,26,1,30,11,90.11,"Finished",90.11,10,10,10,10,{"$f":"MIN(IF($C$7:$C$46=C28,$U$7:$U$46,\"\"))","v":10},10,9,9,9]
[null,null,null,null,null,null,null,null,null,0,0,null,null,null,0,null,"","","","","",{"$f":"MIN(IF($C$7:$C$46=C29,$U$7:$U$46,\"\"))","v":0},"","","",""]
[null,null,null,null,null,null,null,null,null,0,0,null,null,null,0,null,"","","","","",{"$f":"MIN(IF($C$7:$C$46=C30,$U$7:$U$46,\"\"))","v":0},"","","",""]
[null,null,null,null,null,null,null,null,null,0,0,null,null,null,0,null,"","","","","",{"$f":"MIN(IF($C$7:$C$46=C31,$U$7:$U$46,\"\"))","v":0},"","","",""]
[null,null,1,null,null,null,null,null,null,0,0,null,null,null,0,null,"","","","","",{"$f":"MIN(IF($C$7:$C$46=C32,$U$7:$U$46,\"\"))","v":0},"","","",""]
[null,null,null,null,null,null,null,null,null,0,0,null,null,null,0,null,"","","","","",{"$f":"MIN(IF($C$7:$C$46=C33,$U$7:$U$46,\"\"))","v":0},"","","",""]
[null,null,null,null,null,null,null,null,null,0,0,null,null,null,0,null,"","","","","",{"$f":"MIN(IF($C$7:$C$46=C34,$U$7:$U$46,\"\"))","v":0},"","","",""]
[null,null,null,null,null,null,null,null,null,0,0,null,null,null,0,null,"","","","","",{"$f":"MIN(IF($C$7:$C$46=C35,$U$7:$U$46,\"\"))","v":0},"","","",""]
[null,null,null,null,null,null,null,null,null,0,0,null,null,null,0,null,"","","","","",{"$f":"MIN(IF($C$7:$C$46=C36,$U$7:$U$46,\"\"))","v":0},"","","",""]
[null,null,null,null,null,null,null,null,null,0,0,null,null,null,0,null,"","","","","",{"$f":"MIN(IF($C$7:$C$46=C37,$U$7:$U$46,\"\"))","v":0},"","","",""]
[null,null,null,null,null,null,null,null,null,0,0,null,null,null,0,null,"","","","","",{"$f":"MIN(IF($C$7:$C$46=C38,$U$7:$U$46,\"\"))","v":0},"","","",""]
[null,null,null,null,null,null,null,null,null,0,0,null,null,null,0,null,"","","","","",{"$f":"MIN(IF($C$7:$C$46=C39,$U$7:$U$46,\"\"))","v":0},"","","",""]
[null,null,null,null,null,null,null,null,null,0,0,null,null,null,0,null,"","","","","",{"$f":"MIN(IF($C$7:$C$46=C40,$U$7:$U$46,\"\"))","v":0},"","","",""]
[null,null,null,null,null,null,null,null,null,0,0,null,null,null,0,null,"","","","","",{"$f":"MIN(IF($C$7:$C$46=C41,$U$7:$U$46,\"\"))","v":0},"","","",""]
[null,null,null,null,null,null,null,null,null,0,0,null,null,null,0,null,"","","","","",{"$f":"MIN(IF($C$7:$C$46=C42,$U$7:$U$46,\"\"))","v":0},"","","",""]
[null,null,null,null,null,null,null,null,null,0,0,null,null,null,0,null,"","","","","",{"$f":"MIN(IF($C$7:$C$46=C43,$U$7:$U$46,\"\"))","v":0},"","","",""]
[null,null,null,null,null,null,null,null,null,0,0,null,null,null,0,null,"","","","","",{"$f":"MIN(IF($C$7:$C$46=C44,$U$7:$U$46,\"\"))","v":0},"","","",""]
[null,null,null,null,null,null,null,null,null,0,0,null,null,null,0,null,"","","","","",{"$f":"MIN(IF($C$7:$C$46=C45,$U$7:$U$46,\"\"))","v":0},"","","",""]
[null,null,null,null,null,null,null,null,null,0,0,null,null,null,0,null,"","","","","",{"$f":"MIN(IF($C$7:$C$46=C46,$U$7:$U$46,\"\"))","v":0},"","","",""]
[]
[]
[]
[]
[]
[]
[]
[]
[]
[]
[]
[]
[]
[]
[]
[]
[]
[]
[]
[]
[]
[]
[]
[]
[]
[]
[]
[]
[]
[]
[]
[]
[]
[]
[]
[]
[]
[]
[]
[]
[]
[]
[]
[]
[]
[]
[]
[]
[]
[]
[]
[]
[]
[null,null,null,null,null,null,null,null,null,null,null,null,null,null,null,"Finished"]
[null,null,null,null,null,null,null,null,null,null,null,null,null,null,null,"Disqualified"]

{"sheet":"100m Manikin Tow Men","index":8,"n_rows":101,"n_cols":26,"rows_kept":101,"cut":false,"hidden":false,"merged":[[4,6,4,7],[4,9,4,10],[4,11,4,13]]}
[]
[null,"Men's",null,"100m Manikin Tow"]
[]
[]
["A University(Boolean)","Club Name","Club Code","Competitor","CompetitorID","AcceptanceID","ID code",null,"Entry Time(Seconds)","Entry Time",null,"Time",null,null,"Time(seconds)","Finish Status","Times and  DQs","Rank","Competition Place","Squad List","Rank For Squads Members","Top Finisher for there Uni","Top finisher Select Competitor for ranking","Squad Points","Uni Finishers","Student Points"]
[null,null,null,null,null,null,null,null,null,"Mins","Seconds","Mins","Seconds","1/100"]
[0,"Northfield",46,"Matt Vaugh",575,null,"S","M",66,{"$f":"INT(I7/60)","v":1},{"$f":"MOD(I7,60)","v":6},1,8,48,{"$f":"L7*60+M7+N7/100","v":68.48},"Finished",{"$f":"IF(P7=\"Disqualified\",P7,IF(P7=\"Finished\",IF(O7<=0,\"\",O7),\"\"))","v":68.48},{"$f":"IF(OR(Q7=\"Disqualified\",Q7=\"\"),\"\",RANK(Q7,$Q$7:$Q$46,1))","v":7},{"$f":"IF(P7=\"Disqualified\",MAX($R$7:$R$46)+1,R7)","v":7},{"$f":"IF(G7=\"S\",S7,\"\")","v":7},{"$f":"IF(T7=\"\",\"\",RANK(T7,$T$7:$T$46,1))","v":5},{"$f":"MIN(IF($C$7:$C$46=C7,$U$7:$U$46,\"\"))","v":5},{"$f":"IF(V7=U7,V7,\"\")","v":5},{"$f":"IF(W7=\"\",\"\",RANK(W7,$W$7:$W$46,1))","v":5},{"$f":"IF(A7=1,X7,\"\")","v":""},{"$f":"IF(Y7=\"\",\"\",RANK(Y7,$Y$7:$Y$46,1))","v":""}]
[1,"Loughborough University",7,"Graham Thompson",588,null,"I","K",62,{"$f":"INT(I8/60)","v":1},{"$f":"MOD(I8,60)","v":2},1,5,53,{"$f":"L8*60+M8+N8/100","v":65.53},"Finished",{"$f":"IF(P8=\"Disqualified\",P8,IF(P8=\"Finished\",IF(O8<=0,\"\",O8),\"\"))","v":65.53},{"$f":"IF(OR(Q8=\"Disqualified\",Q8=\"\"),\"\",RANK(Q8,$Q$7:$Q$46,1))","v":5},{"$f":"IF(P8=\"Disqualified\",MAX($R$7:$R$46)+1,R8)","v":5},{"$f":"IF(G8=\"S\",S8,\"\")","v":""},{"$f":"IF(T8=\"\",\"\",RANK(T8,$T$7:$T$46,1))","v":""},{"$f":"MIN(IF($C$7:$C$46=C8,$U$7:$U$46,\"\"))","v":2},{"$f":"IF(V8=U8,V8,\"\")","v":""},{"$f":"IF(W8=\"\",\"\",RANK(W8,$W$7:$W$46,1))","v":""},{"$f":"IF(A8=1,X8,\"\")","v":""},{"$f":"IF(Y8=\"\",\"\",RANK(Y8,$Y$7:$Y$46,1))","v":""}]
[1,"Bristol University",15,"Ben Lang",938,null,"I","M",120,2,0,1,54,57,114.57,"Finished",114.57,23,23,"","",{"$f":"MIN(IF($C$7:$C$46=C9,$U$7:$U$46,\"\"))","v":1},"","","",""]
[1,"University of London Union",16,"Zachary Chambers",716,null,"S","M",90,1,30,null,null,null,0,"Disqualified","Disqualified","",24,24,21,{"$f":"MIN(IF($C$7:$C$46=C10,$U$7:$U$46,\"\"))","v":15},"","","",""]
[1,"Bristol University",15,"Sam Best",936,null,"S","M",170,2,50,1,39,42,99.42,"Finished",99.42,22,22,22,20,{"$f":"MIN(IF($C$7:$C$46=C11,$U$7:$U$46,\"\"))","v":1},"","","",""]
[1,"Loughborough University",7,"Rob Sheard",591,null,"I","K",64,1,4,1,3,18,63.18,"Finished",63.18,2,2,"","",{"$f":"MIN(IF($C$7:$C$46=C12,$U$7:$U$46,\"\"))","v":2},"","","",""]
[1,"University of Cambridge",5,"Matthew Cox",840,null,"S","M",0,0,0,1,27,4,87.04,"Finished",87.04,20,20,20,18,{"$f":"MIN(IF($C$7:$C$46=C13,$U$7:$U$46,\"\"))","v":12},"","","",""]
[1,"University Cardiff",49,"Simon Lewis",9999,null,"S","M",62,1,2,1,4,87,64.87,"Finished",64.87,4,4,4,3,{"$f":"MIN(IF($C$7:$C$46=C14,$U$7:$U$46,\"\"))","v":3},3,3,3,3]
[1,"University of Oxford",18,"Lewis Morgan",806,null,"S","M",90,1,30,1,14,0,74,"Disqualified","Disqualified","",24,24,21,{"$f":"MIN(IF($C$7:$C$46=C15,$U$7:$U$46,\"\"))","v":21},21,14,14,13]
[1,"University of Plymouth",9,"Owen Treacy",857,null,"S","M",90,1,30,1,8,39,68.39,"Disqualified","Disqualified","",24,24,21,{"$f":"MIN(IF($C$7:$C$46=C16,$U$7:$U$46,\"\"))","v":17},"","","",""]
[1,"University of Warwick",12,"Scott Chamberlin-Wibbeke",632,null,"S","M",81,1,21,1,10,65,70.650000000000006,"Disqualified","Disqualified","",24,24,21,{"$f":"MIN(IF($C$7:$C$46=C17,$U$7:$U$46,\"\"))","v":4},"","","",""]
[1,"University of St Andrews",11,"Tashi Sherpa",556,null,"S","M",78,1,18,1,30,96,90.96,"Finished",90.96,21,21,21,19,{"$f":"MIN(IF($C$7:$C$46=C18,$U$7:$U$46,\"\"))","v":9},"","","",""]
[1,"University of London Union",16,"Joe Travers-Jones",717,null,"S","M",75,1,15,1,18,49,78.489999999999995,"Finished",78.489999999999995,17,17,17,15,{"$f":"MIN(IF($C$7:$C$46=C19,$U$7:$U$46,\"\"))","v":15},15,12,12,11]
[1,"University of Birmingham",14,"Mark Baslington",619,null,"S","M",75,1,15,1,11,88,71.88,"Finished",71.88,13,13,13,11,{"$f":"MIN(IF($C$7:$C$46=C20,$U$7:$U$46,\"\"))","v":11},11,10,10,9]
[1,"University of Nottingham",8,"Luke Norton",516,null,"S","M",75,1,15,1,9,97,69.97,"Finished",69.97,10,10,10,8,{"$f":"MIN(IF($C$7:$C$46=C21,$U$7:$U$46,\"\"))","v":8},8,8,8,7]
[1,"University of Nottingham",8,"Tom Parker",517,null,"S","M",76,1,16,1,19,84,79.84,"Finished",79.84,18,18,18,16,{"$f":"MIN(IF($C$7:$C$46=C22,$U$7:$U$46,\"\"))","v":8},"","","",""]
[1,"University of Plymouth",9,"Giles Strong",858,null,"S","M",79,1,19,1,20,68,80.680000000000007,"Finished",80.680000000000007,19,19,19,17,{"$f":"MIN(IF($C$7:$C$46=C23,$U$7:$U$46,\"\"))","v":17},17,13,13,12]
[1,"University of Cambridge",5,"Thomas Watling",755,null,"S","M",90,1,30,1,15,63,75.63,"Finished",75.63,14,14,14,12,{"$f":"MIN(IF($C$7:$C$46=C24,$U$7:$U$46,\"\"))","v":12},12,11,11,10]
[1,"Swansea Universities Lifesaving",21,"Daniel Bryant",898,null,"S","M",90,1,30,1,11,4,71.040000000000006,"Finished",71.040000000000006,12,12,12,10,{"$f":"MIN(IF($C$7:$C$46=C25,$U$7:$U$46,\"\"))","v":7},"","","",""]
[1,"University of Birmingham",14,"Charlie Hutchings",620,null,"S","M",73,1,13,1,17,61,77.61,"Finished",77.61,16,16,16,14,{"$f":"MIN(IF($C$7:$C$46=C26,$U$7:$U$46,\"\"))","v":11},"","","",""]
[1,"University of Southampton",20,"Christopher Finneran",689,null,"S","M",71,1,11,1,15,70,75.7,"Finished",75.7,15,15,15,13,{"$f":"MIN(IF($C$7:$C$46=C27,$U$7:$U$46,\"\"))","v":6},"","","",""]
[1,"University of Southampton",20,"Thomas Chamberlain",688,null,"S","M",69,1,9,1,8,50,68.5,"Finished",68.5,8,8,8,6,{"$f":"MIN(IF($C$7:$C$46=C28,$U$7:$U$46,\"\"))","v":6},6,6,6,5]
[1,"Bristol University",15,"James Grandfield",931,null,"S","M",67,1,7,1,1,40,61.4,"Finished",61.4,1,1,1,1,{"$f":"MIN(IF($C$7:$C$46=C29,$U$7:$U$46,\"\"))","v":1},1,1,1,1]
[1,"Loughborough University",7,"Rich Malloy",786,null,"S","M",60,1,0,1,4,54,64.540000000000006,"Finished",64.540000000000006,3,3,3,2,{"$f":"MIN(IF($C$7:$C$46=C30,$U$7:$U$46,\"\"))","v":2},2,2,2,2]
[1,"Swansea Universities Lifesaving",21,"Adam Chial",897,null,"S","M",64,1,4,1,8,74,68.739999999999995,"Finished",68.739999999999995,9,9,9,7,{"$f":"MIN(IF($C$7:$C$46=C31,$U$7:$U$46,\"\"))","v":7},7,7,7,6]
[1,"University of Warwick",12,"Elia Maramotti",646,null,"S","M",69,1,9,1,5,56,65.56,"Finished",65.56,6,6,6,4,{"$f":"MIN(IF($C$7:$C$46=C32,$U$7:$U$46,\"\"))","v":4},4,4,4,4]
[1,"University of St Andrews",11,"Christopher Harper",557,null,"S","M",71,1,11,1,10,37,70.37,"Finished",70.37,11,11,11,9,{"$f":"MIN(IF($C$7:$C$46=C33,$U$7:$U$46,\"\"))","v":9},9,9,9,8]
[1,"Loughborough University",7,"Chris Baker",787,null,"S","M",71,1,11,1,10,72,70.72,"Disqualified","Disqualified","",24,24,21,{"$f":"MIN(IF($C$7:$C$46=C34,$U$7:$U$46,\"\"))","v":2},"","","",""]
[1,null,null,null,null,null,null,null,null,0,0,null,null,null,0,null,"","","","","",{"$f":"MIN(IF($C$7:$C$46=C35,$U$7:$U$46,\"\"))","v":0},"","","",""]
[null,null,null,null,null,null,null,null,null,0,0,null,null,null,0,null,"","","","","",{"$f":"MIN(IF($C$7:$C$46=C36,$U$7:$U$46,\"\"))","v":0},"","","",""]
[null,null,null,null,null,null,null,null,null,0,0,null,null,null,0,null,"","","","","",{"$f":"MIN(IF($C$7:$C$46=C37,$U$7:$U$46,\"\"))","v":0},"","","",""]
[null,null,null,null,null,null,null,null,null,0,0,null,null,null,0,null,"","","","","",{"$f":"MIN(IF($C$7:$C$46=C38,$U$7:$U$46,\"\"))","v":0},"","","",""]
[null,null,null,null,null,null,null,null,null,0,0,null,null,null,0,null,"","","","","",{"$f":"MIN(IF($C$7:$C$46=C39,$U$7:$U$46,\"\"))","v":0},"","","",""]
[null,null,null,null,null,null,null,null,null,0,0,null,null,null,0,null,"","","","","",{"$f":"MIN(IF($C$7:$C$46=C40,$U$7:$U$46,\"\"))","v":0},"","","",""]
[null,null,null,null,null,null,null,null,null,0,0,null,null,null,0,null,"","","","","",{"$f":"MIN(IF($C$7:$C$46=C41,$U$7:$U$46,\"\"))","v":0},"","","",""]
[null,null,null,null,null,null,null,null,null,0,0,null,null,null,0,null,"","","","","",{"$f":"MIN(IF($C$7:$C$46=C42,$U$7:$U$46,\"\"))","v":0},"","","",""]
[null,null,null,null,null,null,null,null,null,0,0,null,null,null,0,null,"","","","","",{"$f":"MIN(IF($C$7:$C$46=C43,$U$7:$U$46,\"\"))","v":0},"","","",""]
[null,null,null,null,null,null,null,null,null,0,0,null,null,null,0,null,"","","","","",{"$f":"MIN(IF($C$7:$C$46=C44,$U$7:$U$46,\"\"))","v":0},"","","",""]
[null,null,null,null,null,null,null,null,null,0,0,null,null,null,0,null,"","","","","",{"$f":"MIN(IF($C$7:$C$46=C45,$U$7:$U$46,\"\"))","v":0},"","","",""]
[null,null,null,null,null,null,null,null,null,0,0,null,null,null,0,null,"","","","","",{"$f":"MIN(IF($C$7:$C$46=C46,$U$7:$U$46,\"\"))","v":0},"","","",""]
[]
[]
[]
[]
[]
[]
[]
[]
[]
[]
[]
[]
[]
[]
[]
[]
[]
[]
[]
[]
[]
[]
[]
[]
[]
[]
[]
[]
[]
[]
[]
[]
[]
[]
[]
[]
[]
[]
[]
[]
[]
[]
[]
[]
[]
[]
[]
[]
[]
[]
[]
[]
[]
[null,null,null,null,null,null,null,null,null,null,null,null,null,null,null,"Finished"]
[null,null,null,null,null,null,null,null,null,null,null,null,null,null,null,"Disqualified"]

{"sheet":"100m Manikin Tow Women","index":9,"n_rows":101,"n_cols":26,"rows_kept":101,"cut":false,"hidden":false,"merged":[[4,6,4,7],[4,9,4,10],[4,11,4,13]]}
[]
[null,"Women's",null,"100m Manikin Tow"]
[]
[]
["A University(Boolean)","Club Name","Club Code","Competitor","CompetitorID","AcceptanceID","ID code",null,"Entry Time(Seconds)","Entry Time",null,"Time",null,null,"Time(seconds)","Finish \nStatus","Times and  DQs","Rank","Competition\n Place","Squad List","Rank For \nSquads Members","Top Finisher for there Uni","Top finisher Select Competitor for ranking","Squad \nPoints","Uni Finishers","Student \nPoints"]
[null,null,null,null,null,null,null,null,null,"Mins","Seconds","Mins","Seconds","1/100"]
[1,"University of Warwick",12,"Caroline Moore",666,null,"S","F",104,{"$f":"INT(I7/60)","v":1},{"$f":"MOD(I7,60)","v":44},1,30,8,{"$f":"L7*60+M7+N7/100","v":90.08},"Finished",{"$f":"IF(P7=\"Disqualified\",P7,IF(P7=\"Finished\",IF(O7<=0,\"\",O7),\"\"))","v":90.08},{"$f":"IF(OR(Q7=\"Disqualified\",Q7=\"\"),\"\",RANK(Q7,$Q$7:$Q$46,1))","v":18},{"$f":"IF(P7=\"Disqualified\",MAX($R$7:$R$46)+1,R7)","v":18},{"$f":"IF(G7=\"S\",S7,\"\")","v":18},{"$f":"IF(T7=\"\",\"\",RANK(T7,$T$7:$T$46,1))","v":17},{"$f":"MIN(IF($C$7:$C$46=C7,$U$7:$U$46,\"\"))","v":6},{"$f":"IF(V7=U7,V7,\"\")","v":""},{"$f":"IF(W7=\"\",\"\",RANK(W7,$W$7:$W$46,1))","v":""},{"$f":"IF(A7=1,X7,\"\")","v":""},{"$f":"IF(Y7=\"\",\"\",RANK(Y7,$Y$7:$Y$46,1))","v":""}]
[1,"University of Cambridge",5,"Rebecka Kiff",754,null,"S","F",100,{"$f":"INT(I8/60)","v":1},{"$f":"MOD(I8,60)","v":40},1,28,88,{"$f":"L8*60+M8+N8/100","v":88.88},"Finished",{"$f":"IF(P8=\"Disqualified\",P8,IF(P8=\"Finished\",IF(O8<=0,\"\",O8),\"\"))","v":88.88},{"$f":"IF(OR(Q8=\"Disqualified\",Q8=\"\"),\"\",RANK(Q8,$Q$7:$Q$46,1))","v":17},{"$f":"IF(P8=\"Disqualified\",MAX($R$7:$R$46)+1,R8)","v":17},{"$f":"IF(G8=\"S\",S8,\"\")","v":17},{"$f":"IF(T8=\"\",\"\",RANK(T8,$T$7:$T$46,1))","v":16},{"$f":"MIN(IF($C$7:$C$46=C8,$U$7:$U$46,\"\"))","v":16},{"$f":"IF(V8=U8,V8,\"\")","v":16},{"$f":"IF(W8=\"\",\"\",RANK(W8,$W$7:$W$46,1))","v":11},{"$f":"IF(A8=1,X8,\"\")","v":11},{"$f":"IF(Y8=\"\",\"\",RANK(Y8,$Y$7:$Y$46,1))","v":11}]
[1,"Bristol University",15,"Lizzie Boyes",924,null,"S","F",100,1,40,1,22,80,82.8,"Disqualified","Disqualified","",22,22,21,{"$f":"MIN(IF($C$7:$C$46=C9,$U$7:$U$46,\"\"))","v":21},21,12,12,12]
[1,"University of Nottingham",8,"Eve Coomber",520,null,"S","F",100,1,40,1,26,63,86.63,"Finished",86.63,14,14,14,13,{"$f":"MIN(IF($C$7:$C$46=C10,$U$7:$U$46,\"\"))","v":11},"","","",""]
[1,"University of Plymouth",9,"Cindy Burton",871,null,"S","F",102,1,42,1,27,37,87.37,"Disqualified","Disqualified","",22,22,21,{"$f":"MIN(IF($C$7:$C$46=C11,$U$7:$U$46,\"\"))","v":14},"","","",""]
[1,"University of Cambridge",5,"Eleanor Brodie",837,null,"S","F",0,0,0,2,8,56,128.56,"Finished",128.56,21,21,21,20,{"$f":"MIN(IF($C$7:$C$46=C12,$U$7:$U$46,\"\"))","v":16},"","","",""]
[1,"University of Warwick",12,"Kirsty Burwood",644,null,"S","F",91,1,31,1,18,5,78.05,"Finished",78.05,7,7,7,6,{"$f":"MIN(IF($C$7:$C$46=C13,$U$7:$U$46,\"\"))","v":6},6,5,5,5]
[1,"University of Nottingham",8,"Chrissie Butcher",519,null,"S","F",86,1,26,1,24,84,84.84,"Finished",84.84,12,12,12,11,{"$f":"MIN(IF($C$7:$C$46=C14,$U$7:$U$46,\"\"))","v":11},11,8,8,8]
[1,"University of St Andrews",11,"Hannah Callaghan",569,null,"S","F",82,1,22,1,36,48,96.48,"Finished",96.48,20,20,20,19,{"$f":"MIN(IF($C$7:$C$46=C15,$U$7:$U$46,\"\"))","v":9},"","","",""]
[1,"University of Southampton",20,"Polly Nagel",708,null,"S","F",80,1,20,1,18,84,78.84,"Finished",78.84,8,8,8,7,{"$f":"MIN(IF($C$7:$C$46=C16,$U$7:$U$46,\"\"))","v":3},"","","",""]
[1,"Loughborough University",7,"Kate Murphy",784,null,"S","F",86,1,26,1,28,58,88.58,"Finished",88.58,16,16,16,15,{"$f":"MIN(IF($C$7:$C$46=C17,$U$7:$U$46,\"\"))","v":4},"","","",""]
[1,"University of London Union",16,"Stephanie Wilson",718,null,"S","F",90,1,30,1,31,14,91.14,"Finished",91.14,19,19,19,18,{"$f":"MIN(IF($C$7:$C$46=C18,$U$7:$U$46,\"\"))","v":12},"","","",""]
[1,"University of Plymouth",9,"Katie Brownjohn",870,null,"S","F",94,1,34,1,28,47,88.47,"Finished",88.47,15,15,15,14,{"$f":"MIN(IF($C$7:$C$46=C19,$U$7:$U$46,\"\"))","v":14},14,10,10,10]
[1,"University of St Andrews",11,"Ella Hunt",568,null,"S","F",79,1,19,1,21,80,81.8,"Finished",81.8,10,10,10,9,{"$f":"MIN(IF($C$7:$C$46=C20,$U$7:$U$46,\"\"))","v":9},9,7,7,7]
[1,"University of Birmingham",14,"Rebecca Sindall",605,null,"S","F",76,1,16,1,16,93,76.930000000000007,"Finished",76.930000000000007,6,6,6,5,{"$f":"MIN(IF($C$7:$C$46=C21,$U$7:$U$46,\"\"))","v":5},5,4,4,4]
[1,"University of Southampton",20,"Natalie Moore",706,null,"S","F",75,1,15,1,13,70,73.7,"Finished",73.7,4,4,4,3,{"$f":"MIN(IF($C$7:$C$46=C22,$U$7:$U$46,\"\"))","v":3},3,2,2,2]
[1,"Loughborough University",7,"Emma Seddon",783,null,"S","F",72,1,12,1,13,76,73.760000000000005,"Finished",73.760000000000005,5,5,5,4,{"$f":"MIN(IF($C$7:$C$46=C23,$U$7:$U$46,\"\"))","v":4},4,3,3,3]
[1,"Swansea Universities Lifesaving",21,"Rhian Thomas",909,null,"S","F",70,1,10,1,8,8,68.08,"Finished",68.08,1,1,1,1,{"$f":"MIN(IF($C$7:$C$46=C24,$U$7:$U$46,\"\"))","v":1},1,1,1,1]
[1,"Loughborough University",7,"Stacey Hudson",815,null,"I","X",70,1,10,1,12,41,72.41,"Finished",72.41,3,3,"","",{"$f":"MIN(IF($C$7:$C$46=C25,$U$7:$U$46,\"\"))","v":4},"","","",""]
[1,"Swansea Universities Lifesaving",21,"Luisa Petta",910,null,"S","F",74,1,14,1,10,45,70.45,"Finished",70.45,2,2,2,2,{"$f":"MIN(IF($C$7:$C$46=C26,$U$7:$U$46,\"\"))","v":1},"","","",""]
[1,"University of Oxford",18,"Sarah Cousins",804,null,"S","F",76,1,16,1,21,30,81.3,"Finished",81.3,9,9,9,8,{"$f":"MIN(IF($C$7:$C$46=C27,$U$7:$U$46,\"\"))","v":8},8,6,6,6]
[1,"University of Birmingham",14,"Gemma Sharp",606,null,"S","F",78,1,18,1,23,53,83.53,"Finished",83.53,11,11,11,10,{"$f":"MIN(IF($C$7:$C$46=C28,$U$7:$U$46,\"\"))","v":5},"","","",""]
[1,"University of London Union",16,"Tara Lee",721,null,"S","F",80,1,20,1,25,39,85.39,"Finished",85.39,13,13,13,12,{"$f":"MIN(IF($C$7:$C$46=C29,$U$7:$U$46,\"\"))","v":12},12,9,9,9]
[null,null,null,null,null,null,null,null,null,0,0,null,null,null,0,null,"","","","","",{"$f":"MIN(IF($C$7:$C$46=C30,$U$7:$U$46,\"\"))","v":0},"","","",""]
[null,null,null,null,null,null,null,null,null,0,0,null,null,null,0,null,"","","","","",{"$f":"MIN(IF($C$7:$C$46=C31,$U$7:$U$46,\"\"))","v":0},"","","",""]
[null,null,1,null,null,null,null,null,null,0,0,null,null,null,0,null,"","","","","",{"$f":"MIN(IF($C$7:$C$46=C32,$U$7:$U$46,\"\"))","v":0},"","","",""]
[null,null,null,null,null,null,null,null,null,0,0,null,null,null,0,null,"","","","","",{"$f":"MIN(IF($C$7:$C$46=C33,$U$7:$U$46,\"\"))","v":0},"","","",""]
[null,null,null,null,null,null,null,null,null,0,0,null,null,null,0,null,"","","","","",{"$f":"MIN(IF($C$7:$C$46=C34,$U$7:$U$46,\"\"))","v":0},"","","",""]
[null,null,null,null,null,null,null,null,null,0,0,null,null,null,0,null,"","","","","",{"$f":"MIN(IF($C$7:$C$46=C35,$U$7:$U$46,\"\"))","v":0},"","","",""]
[null,null,null,null,null,null,null,null,null,0,0,null,null,null,0,null,"","","","","",{"$f":"MIN(IF($C$7:$C$46=C36,$U$7:$U$46,\"\"))","v":0},"","","",""]
[null,null,null,null,null,null,null,null,null,0,0,null,null,null,0,null,"","","","","",{"$f":"MIN(IF($C$7:$C$46=C37,$U$7:$U$46,\"\"))","v":0},"","","",""]
[null,null,null,null,null,null,null,null,null,0,0,null,null,null,0,null,"","","","","",{"$f":"MIN(IF($C$7:$C$46=C38,$U$7:$U$46,\"\"))","v":0},"","","",""]
[null,null,null,null,null,null,null,null,null,0,0,null,null,null,0,null,"","","","","",{"$f":"MIN(IF($C$7:$C$46=C39,$U$7:$U$46,\"\"))","v":0},"","","",""]
[null,null,null,null,null,null,null,null,null,0,0,null,null,null,0,null,"","","","","",{"$f":"MIN(IF($C$7:$C$46=C40,$U$7:$U$46,\"\"))","v":0},"","","",""]
[null,null,null,null,null,null,null,null,null,0,0,null,null,null,0,null,"","","","","",{"$f":"MIN(IF($C$7:$C$46=C41,$U$7:$U$46,\"\"))","v":0},"","","",""]
[null,null,null,null,null,null,null,null,null,0,0,null,null,null,0,null,"","","","","",{"$f":"MIN(IF($C$7:$C$46=C42,$U$7:$U$46,\"\"))","v":0},"","","",""]
[null,null,null,null,null,null,null,null,null,0,0,null,null,null,0,null,"","","","","",{"$f":"MIN(IF($C$7:$C$46=C43,$U$7:$U$46,\"\"))","v":0},"","","",""]
[null,null,null,null,null,null,null,null,null,0,0,null,null,null,0,null,"","","","","",{"$f":"MIN(IF($C$7:$C$46=C44,$U$7:$U$46,\"\"))","v":0},"","","",""]
[null,null,null,null,null,null,null,null,null,0,0,null,null,null,0,null,"","","","","",{"$f":"MIN(IF($C$7:$C$46=C45,$U$7:$U$46,\"\"))","v":0},"","","",""]
[null,null,null,null,null,null,null,null,null,0,0,null,null,null,0,null,"","","","","",{"$f":"MIN(IF($C$7:$C$46=C46,$U$7:$U$46,\"\"))","v":0},"","","",""]
[]
[]
[]
[]
[]
[]
[]
[]
[]
[]
[]
[]
[]
[]
[]
[]
[]
[]
[]
[]
[]
[]
[]
[]
[]
[]
[]
[]
[]
[]
[]
[]
[]
[]
[]
[]
[]
[]
[]
[]
[]
[]
[]
[]
[]
[]
[]
[]
[]
[]
[]
[]
[]
[null,null,null,null,null,null,null,null,null,null,null,null,null,null,null,"Finished"]
[null,null,null,null,null,null,null,null,null,null,null,null,null,null,null,"Disqualified"]

{"sheet":"200m Obs Men","index":10,"n_rows":101,"n_cols":26,"rows_kept":101,"cut":false,"hidden":false,"merged":[[4,6,4,7],[4,9,4,10],[4,11,4,13]]}
[]
[null,"Men's",null,"200m Obs"]
[]
[]
["A University(Boolean)","Club Name","Club Code","Competitor","CompetitorID","AcceptanceID","ID code",null,"Entry Time(Seconds)","Entry Time",null,"Time",null,null,"Time(seconds)","Finish Status","Times and  DQs","Rank","Competition \nPlace","Squad List","Rank For \nSquads Members","Top Finisher for there Uni","Top finisher Select Competitor for ranking","Squad \nPoints","Uni Finishers","Student \nPoints"]
[null,null,null,null,null,null,null,null,null,"Mins","Seconds","Mins","Seconds","1/100"]
[0,"Northfield",46,"Matt Vaugh",577,null,"S","M",160,{"$f":"INT(I7/60)","v":2},{"$f":"MOD(I7,60)","v":40},2,35,7,{"$f":"L7*60+M7+N7/100","v":155.07},"Finished",{"$f":"IF(P7=\"Disqualified\",P7,IF(P7=\"Finished\",IF(O7<=0,\"\",O7),\"\"))","v":155.07},{"$f":"IF(OR(Q7=\"Disqualified\",Q7=\"\"),\"\",RANK(Q7,$Q$7:$Q$46,1))","v":7},{"$f":"IF(P7=\"Disqualified\",MAX($R$7:$R$46)+1,R7)","v":7},{"$f":"IF(G7=\"S\",S7,\"\")","v":7},{"$f":"IF(T7=\"\",\"\",RANK(T7,$T$7:$T$46,1))","v":7},{"$f":"MIN(IF($C$7:$C$46=C7,$U$7:$U$46,\"\"))","v":7},{"$f":"IF(V7=U7,V7,\"\")","v":7},{"$f":"IF(W7=\"\",\"\",RANK(W7,$W$7:$W$46,1))","v":5},{"$f":"IF(A7=1,X7,\"\")","v":""},{"$f":"IF(Y7=\"\",\"\",RANK(Y7,$Y$7:$Y$46,1))","v":""}]
[1,"Bristol University",15,"Sam Best",935,null,"S","M",240,4,{"$f":"MOD(I8,60)","v":0},null,null,null,{"$f":"L8*60+M8+N8/100","v":0},"Disqualified",{"$f":"IF(P8=\"Disqualified\",P8,IF(P8=\"Finished\",IF(O8<=0,\"\",O8),\"\"))","v":"Disqualified"},{"$f":"IF(OR(Q8=\"Disqualified\",Q8=\"\"),\"\",RANK(Q8,$Q$7:$Q$46,1))","v":""},{"$f":"IF(P8=\"Disqualified\",MAX($R$7:$R$46)+1,R8)","v":25},{"$f":"IF(G8=\"S\",S8,\"\")","v":25},{"$f":"IF(T8=\"\",\"\",RANK(T8,$T$7:$T$46,1))","v":24},{"$f":"MIN(IF($C$7:$C$46=C8,$U$7:$U$46,\"\"))","v":3},{"$f":"IF(V8=U8,V8,\"\")","v":""},{"$f":"IF(W8=\"\",\"\",RANK(W8,$W$7:$W$46,1))","v":""},{"$f":"IF(A8=1,X8,\"\")","v":""},{"$f":"IF(Y8=\"\",\"\",RANK(Y8,$Y$7:$Y$46,1))","v":""}]
[1,"University of Birmingham",14,"Benjamin Wilkins",622,null,"S","M",229,3,49,3,33,3,213.03,"Finished",213.03,21,21,21,20,{"$f":"MIN(IF($C$7:$C$46=C9,$U$7:$U$46,\"\"))","v":8},"","","",""]
[1,"University of Cambridge",5,"Matthew Cox",751,null,"S","M",220,3,40,3,58,47,238.47,"Finished",238.47,24,24,24,23,{"$f":"MIN(IF($C$7:$C$46=C10,$U$7:$U$46,\"\"))","v":22},"","","",""]
[1,"Bristol University",15,"Ben Lang ",940,null,"I","M",240,4,0,3,14,64,194.64,"Finished",194.64,19,19,"","",{"$f":"MIN(IF($C$7:$C$46=C11,$U$7:$U$46,\"\"))","v":3},"","","",""]
[1,"University of Bath",2,"Nathan Sell",829,null,"I","M",260,4,20,null,null,null,0,"Disqualified","Disqualified","",25,"","",{"$f":"MIN(IF($C$7:$C$46=C12,$U$7:$U$46,\"\"))","v":0},"","","",""]
[1,"University of Cambridge",5,"Yat Sum Leung",843,null,"S","M",0,0,0,3,57,34,237.34,"Finished",237.34,23,23,23,22,{"$f":"MIN(IF($C$7:$C$46=C13,$U$7:$U$46,\"\"))","v":22},22,13,13,12]
[1,"University of Plymouth",9,"Martin Egerton",862,null,"S","M",192,3,12,3,12,74,192.74,"Finished",192.74,18,18,18,18,{"$f":"MIN(IF($C$7:$C$46=C14,$U$7:$U$46,\"\"))","v":11},"","","",""]
[1,"University of Nottingham",8,"Dan Harris",527,null,"S","M",190,3,10,3,24,33,204.33,"Finished",204.33,20,20,20,19,{"$f":"MIN(IF($C$7:$C$46=C15,$U$7:$U$46,\"\"))","v":2},"","","",""]
[1,"University of St Andrews",11,"Edward Woodhouse",550,null,"S","M",173,2,53,3,2,43,182.43,"Finished",182.43,16,16,16,16,{"$f":"MIN(IF($C$7:$C$46=C16,$U$7:$U$46,\"\"))","v":16},16,11,11,10]
[1,"University of Southampton",20,"Thomas Chamberlain",686,null,"S","M",165,2,45,2,56,92,176.92,"Finished",176.92,13,13,13,13,{"$f":"MIN(IF($C$7:$C$46=C17,$U$7:$U$46,\"\"))","v":10},"","","",""]
[1,"University of Warwick",12,"Scott Chamberlin-Wibbeke",631,null,"S","M",162,2,42,2,40,71,160.71,"Finished",160.71,12,12,12,12,{"$f":"MIN(IF($C$7:$C$46=C18,$U$7:$U$46,\"\"))","v":12},12,10,10,9]
[1,"University of Oxford",18,"Andrew Bentley",797,null,"S","M",165,2,45,2,57,61,177.61,"Finished",177.61,14,14,14,14,{"$f":"MIN(IF($C$7:$C$46=C19,$U$7:$U$46,\"\"))","v":9},"","","",""]
[1,"University of St Andrews",11,"Tashi Sherpa",551,null,"S","M",169,2,49,3,5,74,185.74,"Finished",185.74,17,17,17,17,{"$f":"MIN(IF($C$7:$C$46=C20,$U$7:$U$46,\"\"))","v":16},"","","",""]
[1,"University of Warwick",12,"Alexander Ooi",658,null,"S","M",175,2,55,2,58,60,178.6,"Finished",178.6,15,15,15,15,{"$f":"MIN(IF($C$7:$C$46=C21,$U$7:$U$46,\"\"))","v":12},"","","",""]
[1,"University of London Union",16,"Andrew Vu Dinh",728,null,"S","M",190,3,10,3,38,15,218.15,"Finished",218.15,22,22,22,21,{"$f":"MIN(IF($C$7:$C$46=C22,$U$7:$U$46,\"\"))","v":21},21,12,12,11]
[1,"University of London Union",16,"Zachary Chambers",727,null,"S","M",210,3,30,null,null,null,0,"Disqualified","Disqualified","",25,25,24,{"$f":"MIN(IF($C$7:$C$46=C23,$U$7:$U$46,\"\"))","v":21},"","","",""]
[1,"University of Oxford",18,"Eli Ball",793,null,"S","M",155,2,35,2,37,69,157.69,"Finished",157.69,9,9,9,9,{"$f":"MIN(IF($C$7:$C$46=C24,$U$7:$U$46,\"\"))","v":9},9,7,7,6]
[1,"University of Southampton",20,"Harvey Yules",684,null,"S","M",150,2,30,2,38,1,158.01,"Finished",158.01,10,10,10,10,{"$f":"MIN(IF($C$7:$C$46=C25,$U$7:$U$46,\"\"))","v":10},10,8,8,7]
[1,"University of Birmingham",14,"James Newbon",621,null,"S","M",144,2,24,2,37,1,157.01,"Finished",157.01,8,8,8,8,{"$f":"MIN(IF($C$7:$C$46=C26,$U$7:$U$46,\"\"))","v":8},8,6,6,5]
[1,"University of Nottingham",8,"Mark McCorquodale",526,null,"S","M",136,2,16,2,16,84,136.84,"Finished",136.84,2,2,2,2,{"$f":"MIN(IF($C$7:$C$46=C27,$U$7:$U$46,\"\"))","v":2},2,2,2,2]
[1,"Swansea Universities Lifesaving",21,"Sam Kenvyn",901,null,"S","M",132,2,12,2,22,38,142.38,"Finished",142.38,5,5,5,5,{"$f":"MIN(IF($C$7:$C$46=C28,$U$7:$U$46,\"\"))","v":5},5,4,4,4]
[1,"Loughborough University",7,"Jack Carroll",796,null,"S","M",135,2,15,2,22,37,142.37,"Finished",142.37,4,4,4,4,{"$f":"MIN(IF($C$7:$C$46=C29,$U$7:$U$46,\"\"))","v":1},"","","",""]
[1,"Bristol University",15,"James Grandfield",928,null,"S","M",139,2,19,2,17,73,137.72999999999999,"Finished",137.72999999999999,3,3,3,3,{"$f":"MIN(IF($C$7:$C$46=C30,$U$7:$U$46,\"\"))","v":3},3,3,3,3]
[1,"Swansea Universities Lifesaving",21,"Simon Perry",902,null,"S","M",147,2,27,2,31,85,151.85,"Finished",151.85,6,6,6,6,{"$f":"MIN(IF($C$7:$C$46=C31,$U$7:$U$46,\"\"))","v":5},"","","",""]
[1,"University of Plymouth",9,"Mike Dowden",861,null,"S","M",154,2,34,2,40,42,160.41999999999999,"Finished",160.41999999999999,11,11,11,11,{"$f":"MIN(IF($C$7:$C$46=C32,$U$7:$U$46,\"\"))","v":11},11,9,9,8]
[1,"Loughborough University",7,"Felix Ng",798,null,"S","M",160,2,40,2,16,73,136.72999999999999,"Finished",136.72999999999999,1,1,1,1,{"$f":"MIN(IF($C$7:$C$46=C33,$U$7:$U$46,\"\"))","v":1},1,1,1,1]
[null,null,null,null,null,null,null,null,null,0,0,null,null,null,0,null,"","","","","",{"$f":"MIN(IF($C$7:$C$46=C34,$U$7:$U$46,\"\"))","v":0},"","","",""]
[null,null,null,null,null,null,null,null,null,0,0,null,null,null,0,null,"","","","","",{"$f":"MIN(IF($C$7:$C$46=C35,$U$7:$U$46,\"\"))","v":0},"","","",""]
[null,null,null,null,null,null,null,null,null,0,0,null,null,null,0,null,"","","","","",{"$f":"MIN(IF($C$7:$C$46=C36,$U$7:$U$46,\"\"))","v":0},"","","",""]
[null,null,null,null,null,null,null,null,null,0,0,null,null,null,0,null,"","","","","",{"$f":"MIN(IF($C$7:$C$46=C37,$U$7:$U$46,\"\"))","v":0},"","","",""]
[null,null,null,null,null,null,null,null,null,0,0,null,null,null,0,null,"","","","","",{"$f":"MIN(IF($C$7:$C$46=C38,$U$7:$U$46,\"\"))","v":0},"","","",""]
[null,null,null,null,null,null,null,null,null,0,0,null,null,null,0,null,"","","","","",{"$f":"MIN(IF($C$7:$C$46=C39,$U$7:$U$46,\"\"))","v":0},"","","",""]
[null,null,null,null,null,null,null,null,null,0,0,null,null,null,0,null,"","","","","",{"$f":"MIN(IF($C$7:$C$46=C40,$U$7:$U$46,\"\"))","v":0},"","","",""]
[null,null,null,null,null,null,null,null,null,0,0,null,null,null,0,null,"","","","","",{"$f":"MIN(IF($C$7:$C$46=C41,$U$7:$U$46,\"\"))","v":0},"","","",""]
[null,null,null,null,null,null,null,null,null,0,0,null,null,null,0,null,"","","","","",{"$f":"MIN(IF($C$7:$C$46=C42,$U$7:$U$46,\"\"))","v":0},"","","",""]
[null,null,null,null,null,null,null,null,null,0,0,null,null,null,0,null,"","","","","",{"$f":"MIN(IF($C$7:$C$46=C43,$U$7:$U$46,\"\"))","v":0},"","","",""]
[null,null,null,null,null,null,null,null,null,0,0,null,null,null,0,null,"","","","","",{"$f":"MIN(IF($C$7:$C$46=C44,$U$7:$U$46,\"\"))","v":0},"","","",""]
[null,null,null,null,null,null,null,null,null,0,0,null,null,null,0,null,"","","","","",{"$f":"MIN(IF($C$7:$C$46=C45,$U$7:$U$46,\"\"))","v":0},"","","",""]
[null,null,null,null,null,null,null,null,null,0,0,null,null,null,0,null,"","","","","",{"$f":"MIN(IF($C$7:$C$46=C46,$U$7:$U$46,\"\"))","v":0},"","","",""]
[]
[]
[]
[]
[]
[]
[]
[]
[]
[]
[]
[]
[]
[]
[]
[]
[]
[]
[]
[]
[]
[]
[]
[]
[]
[]
[]
[]
[]
[]
[]
[]
[]
[]
[]
[]
[]
[]
[]
[]
[]
[]
[]
[]
[]
[]
[]
[]
[]
[]
[]
[]
[]
[null,null,null,null,null,null,null,null,null,null,null,null,null,null,null,"Finished"]
[null,null,null,null,null,null,null,null,null,null,null,null,null,null,null,"Disqualified"]

{"sheet":"200m Obs Women","index":11,"n_rows":101,"n_cols":26,"rows_kept":101,"cut":false,"hidden":false,"merged":[[4,6,4,7],[4,9,4,10],[4,11,4,13]]}
[]
[null,"Women's",null,"200m Obs"]
[]
[]
["A University(Boolean)","Club Name","Club Code","Competitor","CompetitorID","AcceptanceID","ID code",null,"Entry Time(Seconds)","Entry Time",null,"Time",null,null,"Time(seconds)","Finish \nStatus","Times and  DQs","Rank","Competition \nPlace","Squad List","Rank For \nSquads Members","Top Finisher for there Uni","Top finisher Select Competitor for ranking","Squad \nPoints","Uni Finishers","Student \nPoints"]
[null,null,null,null,null,null,null,null,null,"Mins","Seconds","Mins","Seconds","1/100"]
[1,"University of Bath",2,"Hannah Arthur-Almond",827,null,"I","M",270,{"$f":"INT(I7/60)","v":4},{"$f":"MOD(I7,60)","v":30},null,null,null,{"$f":"L7*60+M7+N7/100","v":0},"Disqualified",{"$f":"IF(P7=\"Disqualified\",P7,IF(P7=\"Finished\",IF(O7<=0,\"\",O7),\"\"))","v":"Disqualified"},{"$f":"IF(OR(Q7=\"Disqualified\",Q7=\"\"),\"\",RANK(Q7,$Q$7:$Q$46,1))","v":""},{"$f":"IF(P7=\"Disqualified\",MAX($R$7:$R$46)+1,R7)","v":23},{"$f":"IF(G7=\"S\",S7,\"\")","v":""},{"$f":"IF(T7=\"\",\"\",RANK(T7,$T$7:$T$46,1))","v":""},{"$f":"MIN(IF($C$7:$C$46=C7,$U$7:$U$46,\"\"))","v":0},{"$f":"IF(V7=U7,V7,\"\")","v":""},{"$f":"IF(W7=\"\",\"\",RANK(W7,$W$7:$W$46,1))","v":""},{"$f":"IF(A7=1,X7,\"\")","v":""},{"$f":"IF(Y7=\"\",\"\",RANK(Y7,$Y$7:$Y$46,1))","v":""}]
[1,"University of London Union",16,"Stephanie Wilson",730,null,"S","F",230,{"$f":"INT(I8/60)","v":3},{"$f":"MOD(I8,60)","v":50},3,47,99,{"$f":"L8*60+M8+N8/100","v":227.99},"Finished",{"$f":"IF(P8=\"Disqualified\",P8,IF(P8=\"Finished\",IF(O8<=0,\"\",O8),\"\"))","v":227.99},{"$f":"IF(OR(Q8=\"Disqualified\",Q8=\"\"),\"\",RANK(Q8,$Q$7:$Q$46,1))","v":16},{"$f":"IF(P8=\"Disqualified\",MAX($R$7:$R$46)+1,R8)","v":16},{"$f":"IF(G8=\"S\",S8,\"\")","v":16},{"$f":"IF(T8=\"\",\"\",RANK(T8,$T$7:$T$46,1))","v":16},{"$f":"MIN(IF($C$7:$C$46=C8,$U$7:$U$46,\"\"))","v":16},{"$f":"IF(V8=U8,V8,\"\")","v":16},{"$f":"IF(W8=\"\",\"\",RANK(W8,$W$7:$W$46,1))","v":11},{"$f":"IF(A8=1,X8,\"\")","v":11},{"$f":"IF(Y8=\"\",\"\",RANK(Y8,$Y$7:$Y$46,1))","v":11}]
[1,"University of Plymouth",9,"Catherine Holland",875,null,"S","F",212,3,32,3,29,44,209.44,"Finished",209.44,14,14,14,14,{"$f":"MIN(IF($C$7:$C$46=C9,$U$7:$U$46,\"\"))","v":4},"","","",""]
[1,"University of Warwick",12,"Megan Edney",661,null,"S","F",210,3,30,3,28,80,208.8,"Finished",208.8,13,13,13,13,{"$f":"MIN(IF($C$7:$C$46=C10,$U$7:$U$46,\"\"))","v":11},"","","",""]
[1,"University of London Union",16,"Adeline Loh",739,null,"S","F",230,3,50,4,35,55,275.55,"Finished",275.55,21,21,21,21,{"$f":"MIN(IF($C$7:$C$46=C11,$U$7:$U$46,\"\"))","v":16},"","","",""]
[1,"University of Birmingham",14,"Rebecca Park",608,null,"S","F",242,4,2,3,59,88,239.88,"Finished",239.88,19,19,19,19,{"$f":"MIN(IF($C$7:$C$46=C12,$U$7:$U$46,\"\"))","v":12},"","","",""]
[1,"University of Cambridge",5,"Eleanor Brodie",750,null,"S","F",0,0,0,4,38,5,278.05,"Finished",278.05,22,22,22,22,{"$f":"MIN(IF($C$7:$C$46=C13,$U$7:$U$46,\"\"))","v":17},"","","",""]
[1,"University of Cambridge",5,"Rebecca Woods",749,null,"S","F",205,3,25,3,57,42,237.42,"Finished",237.42,17,17,17,17,{"$f":"MIN(IF($C$7:$C$46=C14,$U$7:$U$46,\"\"))","v":17},17,12,12,12]
[1,"University of Birmingham",14,"Philippa Sturges",607,null,"S","F",199,3,19,3,28,0,208,"Finished",208,12,12,12,12,{"$f":"MIN(IF($C$7:$C$46=C15,$U$7:$U$46,\"\"))","v":12},12,9,9,9]
[1,"University of St Andrews",11,"Christina Samson",562,null,"S","F",193,3,13,3,45,88,225.88,"Finished",225.88,15,15,15,15,{"$f":"MIN(IF($C$7:$C$46=C16,$U$7:$U$46,\"\"))","v":15},15,10,10,10]
[1,"University of Nottingham",8,"Louise Boyle",528,null,"S","F",189,3,9,3,10,68,190.68,"Finished",190.68,9,9,9,9,{"$f":"MIN(IF($C$7:$C$46=C17,$U$7:$U$46,\"\"))","v":8},"","","",""]
[1,"University of Warwick",12,"Laura Rumsey",664,null,"S","F",194,3,14,3,20,67,200.67,"Finished",200.67,11,11,11,11,{"$f":"MIN(IF($C$7:$C$46=C18,$U$7:$U$46,\"\"))","v":11},11,8,8,8]
[1,"University of St Andrews",11,"Sarah Shapiro",563,null,"S","F",200,3,20,4,5,63,245.63,"Finished",245.63,20,20,20,20,{"$f":"MIN(IF($C$7:$C$46=C19,$U$7:$U$46,\"\"))","v":15},"","","",""]
[1,"University of Oxford",18,"Alice Pooley",831,null,"S","F",210,3,30,3,59,48,239.48,"Finished",239.48,18,18,18,18,{"$f":"MIN(IF($C$7:$C$46=C20,$U$7:$U$46,\"\"))","v":6},"","","",""]
[1,"Swansea Universities Lifesaving",21,"Jessica Stokes",914,null,"S","F",182,3,2,2,58,0,178,"Finished",178,7,7,7,7,{"$f":"MIN(IF($C$7:$C$46=C21,$U$7:$U$46,\"\"))","v":1},"","","",""]
[1,"University of Oxford",18,"Sarah Cousins",833,null,"S","F",172,2,52,2,56,18,176.18,"Finished",176.18,6,6,6,6,{"$f":"MIN(IF($C$7:$C$46=C22,$U$7:$U$46,\"\"))","v":6},6,5,5,5]
[1,"University of Southampton",20,"Danielle Burton",731,null,"S","F",160,2,40,2,55,87,175.87,"Finished",175.87,5,5,5,5,{"$f":"MIN(IF($C$7:$C$46=C23,$U$7:$U$46,\"\"))","v":3},"","","",""]
[1,"Bristol University",15,"Lizzie Boyes",927,null,"S","F",160,2,40,3,20,8,200.08,"Finished",200.08,10,10,10,10,{"$f":"MIN(IF($C$7:$C$46=C24,$U$7:$U$46,\"\"))","v":10},10,7,7,7]
[1,"Swansea Universities Lifesaving",21,"Rhian Thomas",913,null,"S","F",144,2,24,2,22,46,142.46,"Finished",142.46,1,1,1,1,{"$f":"MIN(IF($C$7:$C$46=C25,$U$7:$U$46,\"\"))","v":1},1,1,1,1]
[1,"University of Southampton",20,"Simmone Bristow",729,null,"S","F",150,2,30,2,47,69,167.69,"Finished",167.69,3,3,3,3,{"$f":"MIN(IF($C$7:$C$46=C26,$U$7:$U$46,\"\"))","v":3},3,3,3,3]
[1,"Loughborough University",7,"Branwen Harris",794,null,"S","F",160,2,40,2,35,39,155.38999999999999,"Finished",155.38999999999999,2,2,2,2,{"$f":"MIN(IF($C$7:$C$46=C27,$U$7:$U$46,\"\"))","v":2},2,2,2,2]
[1,"University of Plymouth",9,"Gracie Dack",874,null,"S","F",168,2,48,2,54,5,174.05,"Finished",174.05,4,4,4,4,{"$f":"MIN(IF($C$7:$C$46=C28,$U$7:$U$46,\"\"))","v":4},4,4,4,4]
[1,"University of Nottingham",8,"Harriet Colville",529,null,"S","F",179,2,59,3,2,8,182.08,"Finished",182.08,8,8,8,8,{"$f":"MIN(IF($C$7:$C$46=C29,$U$7:$U$46,\"\"))","v":8},8,6,6,6]
[1,"Loughborough University",7,"Kate Murphy",795,null,"S","F",188,3,8,null,null,null,0,"Disqualified","Disqualified","",23,23,23,{"$f":"MIN(IF($C$7:$C$46=C30,$U$7:$U$46,\"\"))","v":2},"","","",""]
[null,null,null,null,null,null,null,null,null,0,0,null,null,null,0,null,"","","","","",{"$f":"MIN(IF($C$7:$C$46=C31,$U$7:$U$46,\"\"))","v":0},"","","",""]
[null,null,null,null,null,null,null,null,null,0,0,null,null,null,0,null,"","","","","",{"$f":"MIN(IF($C$7:$C$46=C32,$U$7:$U$46,\"\"))","v":0},"","","",""]
[null,null,null,null,null,null,null,null,null,0,0,null,null,null,0,null,"","","","","",{"$f":"MIN(IF($C$7:$C$46=C33,$U$7:$U$46,\"\"))","v":0},"","","",""]
[null,null,null,null,null,null,null,null,null,0,0,null,null,null,0,null,"","","","","",{"$f":"MIN(IF($C$7:$C$46=C34,$U$7:$U$46,\"\"))","v":0},"","","",""]
[null,null,null,null,null,null,null,null,null,0,0,null,null,null,0,null,"","","","","",{"$f":"MIN(IF($C$7:$C$46=C35,$U$7:$U$46,\"\"))","v":0},"","","",""]
[null,null,null,null,null,null,null,null,null,0,0,null,null,null,0,null,"","","","","",{"$f":"MIN(IF($C$7:$C$46=C36,$U$7:$U$46,\"\"))","v":0},"","","",""]
[null,null,null,null,null,null,null,null,null,0,0,null,null,null,0,null,"","","","","",{"$f":"MIN(IF($C$7:$C$46=C37,$U$7:$U$46,\"\"))","v":0},"","","",""]
[null,null,null,null,null,null,null,null,null,0,0,null,null,null,0,null,"","","","","",{"$f":"MIN(IF($C$7:$C$46=C38,$U$7:$U$46,\"\"))","v":0},"","","",""]
[null,null,null,null,null,null,null,null,null,0,0,null,null,null,0,null,"","","","","",{"$f":"MIN(IF($C$7:$C$46=C39,$U$7:$U$46,\"\"))","v":0},"","","",""]
[null,null,null,null,null,null,null,null,null,0,0,null,null,null,0,null,"","","","","",{"$f":"MIN(IF($C$7:$C$46=C40,$U$7:$U$46,\"\"))","v":0},"","","",""]
[null,null,null,null,null,null,null,null,null,0,0,null,null,null,0,null,"","","","","",{"$f":"MIN(IF($C$7:$C$46=C41,$U$7:$U$46,\"\"))","v":0},"","","",""]
[null,null,null,null,null,null,null,null,null,0,0,null,null,null,0,null,"","","","","",{"$f":"MIN(IF($C$7:$C$46=C42,$U$7:$U$46,\"\"))","v":0},"","","",""]
[null,null,null,null,null,null,null,null,null,0,0,null,null,null,0,null,"","","","","",{"$f":"MIN(IF($C$7:$C$46=C43,$U$7:$U$46,\"\"))","v":0},"","","",""]
[null,null,null,null,null,null,null,null,null,0,0,null,null,null,0,null,"","","","","",{"$f":"MIN(IF($C$7:$C$46=C44,$U$7:$U$46,\"\"))","v":0},"","","",""]
[null,null,null,null,null,null,null,null,null,0,0,null,null,null,0,null,"","","","","",{"$f":"MIN(IF($C$7:$C$46=C45,$U$7:$U$46,\"\"))","v":0},"","","",""]
[null,null,null,null,null,null,null,null,null,0,0,null,null,null,0,null,"","","","","",{"$f":"MIN(IF($C$7:$C$46=C46,$U$7:$U$46,\"\"))","v":0},"","","",""]
[]
[]
[]
[]
[]
[]
[]
[]
[]
[]
[]
[]
[]
[]
[]
[]
[]
[]
[]
[]
[]
[]
[]
[]
[]
[]
[]
[]
[]
[]
[]
[]
[]
[]
[]
[]
[]
[]
[]
[]
[]
[]
[]
[]
[]
[]
[]
[]
[]
[]
[]
[]
[]
[null,null,null,null,null,null,null,null,null,null,null,null,null,null,null,"Finished"]
[null,null,null,null,null,null,null,null,null,null,null,null,null,null,null,"Disqualified"]

{"sheet":"200m Super Men","index":12,"n_rows":101,"n_cols":26,"rows_kept":101,"cut":false,"hidden":false,"merged":[[4,6,4,7],[4,9,4,10],[4,11,4,13]]}
[]
[null,"Men's",null,"200m Superlifesaver"]
[]
[]
["A University(Boolean)","Club Name","Club Code","Competitor","CompetitorID","AceptanceID","ID code",null,"Entry Time(Seconds)","Entry Time",null,"Time",null,null,"Time(seconds)","Finish Status","Times and  DQs","Rank","Competition \nPlace","Squad List","Rank For \nSquads Members","Top Finisher for there Uni","Top finisher Select Competitor for ranking","Squad \nPoints","Uni Finishers","Student \nPoints"]
[null,null,null,null,null,null,null,null,null,"Mins","Seconds","Mins","Seconds","1/100"]
[1,"Loughborough University",7,"Rob Sheard",592,null,"I","K",160,{"$f":"INT(I7/60)","v":2},{"$f":"MOD(I7,60)","v":40},2,43,36,{"$f":"L7*60+M7+N7/100","v":163.36000000000001},"Finished",{"$f":"IF(P7=\"Disqualified\",P7,IF(P7=\"Finished\",IF(O7<=0,\"\",O7),\"\"))","v":163.36000000000001},{"$f":"IF(OR(Q7=\"Disqualified\",Q7=\"\"),\"\",RANK(Q7,$Q$7:$Q$46,1))","v":4},{"$f":"IF(P7=\"Disqualified\",MAX($R$7:$R$46)+1,R7)","v":4},{"$f":"IF(G7=\"S\",S7,\"\")","v":""},{"$f":"IF(T7=\"\",\"\",RANK(T7,$T$7:$T$46,1))","v":""},{"$f":"MIN(IF($C$7:$C$46=C7,$U$7:$U$46,\"\"))","v":2},{"$f":"IF(V7=U7,V7,\"\")","v":""},{"$f":"IF(W7=\"\",\"\",RANK(W7,$W$7:$W$46,1))","v":""},{"$f":"IF(A7=1,X7,\"\")","v":""},{"$f":"IF(Y7=\"\",\"\",RANK(Y7,$Y$7:$Y$46,1))","v":""}]
[1,"University of Birmingham",14,"Roozbeh Reghabi",624,null,"S","M",241,{"$f":"INT(I8/60)","v":4},{"$f":"MOD(I8,60)","v":1},4,10,3,{"$f":"L8*60+M8+N8/100","v":250.03},"Finished",{"$f":"IF(P8=\"Disqualified\",P8,IF(P8=\"Finished\",IF(O8<=0,\"\",O8),\"\"))","v":250.03},{"$f":"IF(OR(Q8=\"Disqualified\",Q8=\"\"),\"\",RANK(Q8,$Q$7:$Q$46,1))","v":22},{"$f":"IF(P8=\"Disqualified\",MAX($R$7:$R$46)+1,R8)","v":22},{"$f":"IF(G8=\"S\",S8,\"\")","v":22},{"$f":"IF(T8=\"\",\"\",RANK(T8,$T$7:$T$46,1))","v":20},{"$f":"MIN(IF($C$7:$C$46=C8,$U$7:$U$46,\"\"))","v":6},{"$f":"IF(V8=U8,V8,\"\")","v":""},{"$f":"IF(W8=\"\",\"\",RANK(W8,$W$7:$W$46,1))","v":""},{"$f":"IF(A8=1,X8,\"\")","v":""},{"$f":"IF(Y8=\"\",\"\",RANK(Y8,$Y$7:$Y$46,1))","v":""}]
[1,"University of Plymouth",9,"Giles Strong",864,null,"S","M",235,3,55,3,49,76,229.76,"Finished",229.76,21,21,21,19,{"$f":"MIN(IF($C$7:$C$46=C9,$U$7:$U$46,\"\"))","v":18},"","","",""]
[1,"University of London Union",16,"Joe Travers-Jones",736,null,"S","M",205,3,25,3,55,60,235.6,"Disqualified","Disqualified","",23,23,21,{"$f":"MIN(IF($C$7:$C$46=C10,$U$7:$U$46,\"\"))","v":13},"","","",""]
[1,"University of Plymouth",9,"Martin Egerton",863,null,"S","M",240,4,0,3,40,92,220.92,"Finished",220.92,20,20,20,18,{"$f":"MIN(IF($C$7:$C$46=C11,$U$7:$U$46,\"\"))","v":18},18,13,13,12]
[1,"Bristol University",15,"Ben Lang",941,null,"I","M",300,5,0,null,null,null,0,"Disqualified","Disqualified","",23,"","",{"$f":"MIN(IF($C$7:$C$46=C12,$U$7:$U$46,\"\"))","v":3},"","","",""]
[0,"Northfield",46,"Matt Vaugh",578,null,"S","M",210,3,30,2,52,83,172.83,"Finished",172.83,9,9,9,8,{"$f":"MIN(IF($C$7:$C$46=C13,$U$7:$U$46,\"\"))","v":8},8,6,"",""]
[1,"University of St Andrews",11,"David Brown",558,null,"S","M",202,3,22,3,18,20,198.2,"Finished",198.2,17,17,17,15,{"$f":"MIN(IF($C$7:$C$46=C14,$U$7:$U$46,\"\"))","v":15},15,11,11,10]
[1,"University of St Andrews",11,"Christopher Harper",559,null,"S","M",199,3,19,3,18,38,198.38,"Finished",198.38,18,18,18,16,{"$f":"MIN(IF($C$7:$C$46=C15,$U$7:$U$46,\"\"))","v":15},"","","",""]
[1,"University of London Union",16,"Martin May",735,null,"S","M",185,3,5,3,14,71,194.71,"Finished",194.71,15,15,15,13,{"$f":"MIN(IF($C$7:$C$46=C16,$U$7:$U$46,\"\"))","v":13},13,9,9,8]
[1,"University of Warwick",12,"Scott Chamberlin-Wibbeke",633,null,"S","M",180,3,0,2,53,53,173.53,"Finished",173.53,10,10,10,9,{"$f":"MIN(IF($C$7:$C$46=C17,$U$7:$U$46,\"\"))","v":9},9,7,7,6]
[1,"University of Nottingham",8,"Luke Norton",530,null,"S","M",195,3,15,3,9,71,189.71,"Disqualified","Disqualified","",23,23,21,{"$f":"MIN(IF($C$7:$C$46=C18,$U$7:$U$46,\"\"))","v":7},"","","",""]
[1,"University of Oxford",18,"Andrew Bentley",812,null,"S","M",200,3,20,3,28,24,208.24,"Finished",208.24,19,19,19,17,{"$f":"MIN(IF($C$7:$C$46=C19,$U$7:$U$46,\"\"))","v":17},17,12,12,11]
[1,"University of Cambridge",5,"Thomas Watling",759,null,"S","M",205,3,25,3,16,22,196.22,"Finished",196.22,16,16,16,14,{"$f":"MIN(IF($C$7:$C$46=C20,$U$7:$U$46,\"\"))","v":14},14,10,10,9]
[1,"University of Southampton",20,"Rhys Clements",692,null,"S","M",175,2,55,2,59,76,179.76,"Finished",179.76,12,12,12,11,{"$f":"MIN(IF($C$7:$C$46=C21,$U$7:$U$46,\"\"))","v":11},11,8,8,7]
[1,"University of Nottingham",8,"Mark McCorquodale",531,null,"S","M",170,2,50,2,52,67,172.67,"Finished",172.67,8,8,8,7,{"$f":"MIN(IF($C$7:$C$46=C22,$U$7:$U$46,\"\"))","v":7},7,5,5,5]
[1,"Swansea Universities Lifesaving",21,"Simon Perry",904,null,"S","M",161,2,41,2,44,36,164.36,"Finished",164.36,5,5,5,4,{"$f":"MIN(IF($C$7:$C$46=C23,$U$7:$U$46,\"\"))","v":1},"","","",""]
[1,"Swansea Universities Lifesaving",21,"Sam Kenvyn",903,null,"S","M",156,2,36,2,33,13,153.13,"Finished",153.13,1,1,1,1,{"$f":"MIN(IF($C$7:$C$46=C24,$U$7:$U$46,\"\"))","v":1},1,1,1,1]
[1,"Bristol University",15,"James Grandfield",933,null,"S","M",150,2,30,2,36,38,156.38,"Finished",156.38,3,3,3,3,{"$f":"MIN(IF($C$7:$C$46=C25,$U$7:$U$46,\"\"))","v":3},3,3,3,3]
[1,"Loughborough University",7,"Paul Ellard",805,null,"S","M",153,2,33,2,34,20,154.19999999999999,"Finished",154.19999999999999,2,2,2,2,{"$f":"MIN(IF($C$7:$C$46=C26,$U$7:$U$46,\"\"))","v":2},2,2,2,2]
[1,"Loughborough University",7,"Jack Carroll",807,null,"S","M",160,2,40,2,49,13,169.13,"Finished",169.13,6,6,6,5,{"$f":"MIN(IF($C$7:$C$46=C27,$U$7:$U$46,\"\"))","v":2},"","","",""]
[1,"University of Warwick",12,"Elia Maramotti",647,null,"S","M",168,2,48,2,59,47,179.47,"Finished",179.47,11,11,11,10,{"$f":"MIN(IF($C$7:$C$46=C28,$U$7:$U$46,\"\"))","v":9},"","","",""]
[1,"University of Birmingham",14,"Luke Peel",623,null,"S","M",171,2,51,2,51,8,171.08,"Finished",171.08,7,7,7,6,{"$f":"MIN(IF($C$7:$C$46=C29,$U$7:$U$46,\"\"))","v":6},6,4,4,4]
[1,"University of Southampton",20,"Thomas Chamberlain",694,null,"S","M",180,3,0,3,9,6,189.06,"Finished",189.06,13,13,13,12,{"$f":"MIN(IF($C$7:$C$46=C30,$U$7:$U$46,\"\"))","v":11},"","","",""]
[null,"Loughborough University",null,"Stacey Hudson",null,null,"I","X",null,0,0,3,12,1,192.01,"Finished",192.01,14,14,"","",{"$f":"MIN(IF($C$7:$C$46=C31,$U$7:$U$46,\"\"))","v":0},"","","",""]
[null,null,1,null,null,null,null,null,null,0,0,null,null,null,0,null,"","","","","",{"$f":"MIN(IF($C$7:$C$46=C32,$U$7:$U$46,\"\"))","v":0},"","","",""]
[null,null,null,null,null,null,null,null,null,0,0,null,null,null,0,null,"","","","","",{"$f":"MIN(IF($C$7:$C$46=C33,$U$7:$U$46,\"\"))","v":0},"","","",""]
[null,null,null,null,null,null,null,null,null,0,0,null,null,null,0,null,"","","","","",{"$f":"MIN(IF($C$7:$C$46=C34,$U$7:$U$46,\"\"))","v":0},"","","",""]
[null,null,null,null,null,null,null,null,null,0,0,null,null,null,0,null,"","","","","",{"$f":"MIN(IF($C$7:$C$46=C35,$U$7:$U$46,\"\"))","v":0},"","","",""]
[null,null,null,null,null,null,null,null,null,0,0,null,null,null,0,null,"","","","","",{"$f":"MIN(IF($C$7:$C$46=C36,$U$7:$U$46,\"\"))","v":0},"","","",""]
[null,null,null,null,null,null,null,null,null,0,0,null,null,null,0,null,"","","","","",{"$f":"MIN(IF($C$7:$C$46=C37,$U$7:$U$46,\"\"))","v":0},"","","",""]
[null,null,null,null,null,null,null,null,null,0,0,null,null,null,0,null,"","","","","",{"$f":"MIN(IF($C$7:$C$46=C38,$U$7:$U$46,\"\"))","v":0},"","","",""]
[null,null,null,null,null,null,null,null,null,0,0,null,null,null,0,null,"","","","","",{"$f":"MIN(IF($C$7:$C$46=C39,$U$7:$U$46,\"\"))","v":0},"","","",""]
[null,null,null,null,null,null,null,null,null,0,0,null,null,null,0,null,"","","","","",{"$f":"MIN(IF($C$7:$C$46=C40,$U$7:$U$46,\"\"))","v":0},"","","",""]
[null,null,null,null,null,null,null,null,null,0,0,null,null,null,0,null,"","","","","",{"$f":"MIN(IF($C$7:$C$46=C41,$U$7:$U$46,\"\"))","v":0},"","","",""]
[null,null,null,null,null,null,null,null,null,0,0,null,null,null,0,null,"","","","","",{"$f":"MIN(IF($C$7:$C$46=C42,$U$7:$U$46,\"\"))","v":0},"","","",""]
[null,null,null,null,null,null,null,null,null,0,0,null,null,null,0,null,"","","","","",{"$f":"MIN(IF($C$7:$C$46=C43,$U$7:$U$46,\"\"))","v":0},"","","",""]
[null,null,null,null,null,null,null,null,null,0,0,null,null,null,0,null,"","","","","",{"$f":"MIN(IF($C$7:$C$46=C44,$U$7:$U$46,\"\"))","v":0},"","","",""]
[null,null,null,null,null,null,null,null,null,0,0,null,null,null,0,null,"","","","","",{"$f":"MIN(IF($C$7:$C$46=C45,$U$7:$U$46,\"\"))","v":0},"","","",""]
[null,null,null,null,null,null,null,null,null,0,0,null,null,null,0,null,"","","","","",{"$f":"MIN(IF($C$7:$C$46=C46,$U$7:$U$46,\"\"))","v":0},"","","",""]
[]
[]
[]
[]
[]
[]
[]
[]
[]
[]
[]
[]
[]
[]
[]
[]
[]
[]
[]
[]
[]
[]
[]
[]
[]
[]
[]
[]
[]
[]
[]
[]
[]
[]
[]
[]
[]
[]
[]
[]
[]
[]
[]
[]
[]
[]
[]
[]
[]
[]
[]
[]
[]
[null,null,null,null,null,null,null,null,null,null,null,null,null,null,null,"Finished"]
[null,null,null,null,null,null,null,null,null,null,null,null,null,null,null,"Disqualified"]

{"sheet":"200m Super Women","index":13,"n_rows":101,"n_cols":26,"rows_kept":101,"cut":false,"hidden":false,"merged":[[4,6,4,7],[4,9,4,10],[4,11,4,13]]}
[]
[null,"Women's",null,"200m Superlifesaver"]
[]
[]
["A University(Boolean)","Club Name","Club Code","Competitor","CompetitorID","AceptanceID","ID code",null,"Entry Time(Seconds)","Entry Time",null,"Time",null,null,"Time(seconds)","Finish Status","Times and  DQs","Rank","Competition \nPlace","Squad List","Rank For \nSquads Members","Top Finisher for there Uni","Top finisher Select Competitor for ranking","Squad \nPoints","Uni Finishers","Student \nPoints"]
[null,null,null,null,null,null,null,null,null,"Mins","Seconds","Mins","Seconds","1/100"]
[1,"University of Nottingham",8,"Harriet Colville",532,null,"S","F",252,{"$f":"INT(I7/60)","v":4},{"$f":"MOD(I7,60)","v":12},3,58,28,{"$f":"L7*60+M7+N7/100","v":238.28},"Finished",{"$f":"IF(P7=\"Disqualified\",P7,IF(P7=\"Finished\",IF(O7<=0,\"\",O7),\"\"))","v":238.28},{"$f":"IF(OR(Q7=\"Disqualified\",Q7=\"\"),\"\",RANK(Q7,$Q$7:$Q$46,1))","v":15},{"$f":"IF(P7=\"Disqualified\",MAX($R$7:$R$46)+1,R7)","v":15},{"$f":"IF(G7=\"S\",S7,\"\")","v":15},{"$f":"IF(T7=\"\",\"\",RANK(T7,$T$7:$T$46,1))","v":15},{"$f":"MIN(IF($C$7:$C$46=C7,$U$7:$U$46,\"\"))","v":15},{"$f":"IF(V7=U7,V7,\"\")","v":15},{"$f":"IF(W7=\"\",\"\",RANK(W7,$W$7:$W$46,1))","v":10},{"$f":"IF(A7=1,X7,\"\")","v":10},{"$f":"IF(Y7=\"\",\"\",RANK(Y7,$Y$7:$Y$46,1))","v":10}]
[1,"University of Birmingham",14,"Ella Moore",610,null,"S","F",235,{"$f":"INT(I8/60)","v":3},{"$f":"MOD(I8,60)","v":55},3,57,51,{"$f":"L8*60+M8+N8/100","v":237.51},"Finished",{"$f":"IF(P8=\"Disqualified\",P8,IF(P8=\"Finished\",IF(O8<=0,\"\",O8),\"\"))","v":237.51},{"$f":"IF(OR(Q8=\"Disqualified\",Q8=\"\"),\"\",RANK(Q8,$Q$7:$Q$46,1))","v":14},{"$f":"IF(P8=\"Disqualified\",MAX($R$7:$R$46)+1,R8)","v":14},{"$f":"IF(G8=\"S\",S8,\"\")","v":14},{"$f":"IF(T8=\"\",\"\",RANK(T8,$T$7:$T$46,1))","v":14},{"$f":"MIN(IF($C$7:$C$46=C8,$U$7:$U$46,\"\"))","v":6},{"$f":"IF(V8=U8,V8,\"\")","v":""},{"$f":"IF(W8=\"\",\"\",RANK(W8,$W$7:$W$46,1))","v":""},{"$f":"IF(A8=1,X8,\"\")","v":""},{"$f":"IF(Y8=\"\",\"\",RANK(Y8,$Y$7:$Y$46,1))","v":""}]
[1,"University of St Andrews",11,"Hannah Callaghan",571,null,"S","F",234,3,54,null,null,null,0,"Disqualified","Disqualified","",18,18,18,{"$f":"MIN(IF($C$7:$C$46=C9,$U$7:$U$46,\"\"))","v":12},"","","",""]
[1,"University of Nottingham",8,"Eve Coomber",533,null,"S","F",228,3,48,3,58,40,238.4,"Finished",238.4,16,16,16,16,{"$f":"MIN(IF($C$7:$C$46=C10,$U$7:$U$46,\"\"))","v":15},"","","",""]
[1,"University of London Union",16,"Hannah Heslop",741,null,"S","F",225,3,45,3,45,18,225.18,"Finished",225.18,13,13,13,13,{"$f":"MIN(IF($C$7:$C$46=C11,$U$7:$U$46,\"\"))","v":8},"","","",""]
[1,"University of St Andrews",11,"Ella Hunt",570,null,"S","F",228,3,48,3,39,16,219.16,"Finished",219.16,12,12,12,12,{"$f":"MIN(IF($C$7:$C$46=C12,$U$7:$U$46,\"\"))","v":12},12,9,9,9]
[1,"University of Warwick",12,"Laura Rumsey",670,null,"S","F",235,3,55,3,37,75,217.75,"Finished",217.75,11,11,11,11,{"$f":"MIN(IF($C$7:$C$46=C13,$U$7:$U$46,\"\"))","v":10},"","","",""]
[1,"Swansea Universities Lifesaving",21,"Bryony Ballard",916,null,"S","F",239,3,59,3,32,68,212.68,"Finished",212.68,9,9,9,9,{"$f":"MIN(IF($C$7:$C$46=C14,$U$7:$U$46,\"\"))","v":1},"","","",""]
[1,"University of Plymouth",9,"Cindy Burton",877,null,"S","F",270,4,30,4,9,65,249.65,"Finished",249.65,17,17,17,17,{"$f":"MIN(IF($C$7:$C$46=C15,$U$7:$U$46,\"\"))","v":4},"","","",""]
[1,"University of Southampton",20,"Valentine Farcot",702,null,"S","F",220,3,40,3,26,90,206.9,"Finished",206.9,7,7,7,7,{"$f":"MIN(IF($C$7:$C$46=C16,$U$7:$U$46,\"\"))","v":2},"","","",""]
[1,"University of Warwick",12,"Kirsty Burwood",643,null,"S","F",215,3,35,3,34,88,214.88,"Finished",214.88,10,10,10,10,{"$f":"MIN(IF($C$7:$C$46=C17,$U$7:$U$46,\"\"))","v":10},10,8,8,8]
[1,"University of Oxford",18,"Sarah Cousins",811,null,"S","F",192,3,12,3,18,50,198.5,"Finished",198.5,5,5,5,5,{"$f":"MIN(IF($C$7:$C$46=C18,$U$7:$U$46,\"\"))","v":5},5,5,5,5]
[1,"University of Southampton",20,"Natalie Moore",700,null,"S","F",180,3,0,3,1,59,181.59,"Finished",181.59,2,2,2,2,{"$f":"MIN(IF($C$7:$C$46=C19,$U$7:$U$46,\"\"))","v":2},2,2,2,2]
[1,"Swansea Universities Lifesaving",21,"Rhian Thomas",915,null,"S","F",169,2,49,2,53,0,173,"Finished",173,1,1,1,1,{"$f":"MIN(IF($C$7:$C$46=C20,$U$7:$U$46,\"\"))","v":1},1,1,1,1]
[1,"Loughborough University",7,"Emma Seddon",803,null,"S","F",180,3,0,3,13,77,193.77,"Finished",193.77,3,3,3,3,{"$f":"MIN(IF($C$7:$C$46=C21,$U$7:$U$46,\"\"))","v":3},3,3,3,3]
[1,"University of Plymouth",9,"Gracie Dack",876,null,"S","F",182,3,2,3,14,19,194.19,"Finished",194.19,4,4,4,4,{"$f":"MIN(IF($C$7:$C$46=C22,$U$7:$U$46,\"\"))","v":4},4,4,4,4]
[1,"University of Birmingham",14,"Rebecca Sindall",609,null,"S","F",205,3,25,3,18,72,198.72,"Finished",198.72,6,6,6,6,{"$f":"MIN(IF($C$7:$C$46=C23,$U$7:$U$46,\"\"))","v":6},6,6,6,6]
[1,"University of London Union",16,"Tara Lee",740,null,"S","F",220,3,40,3,32,52,212.52,"Finished",212.52,8,8,8,8,{"$f":"MIN(IF($C$7:$C$46=C24,$U$7:$U$46,\"\"))","v":8},8,7,7,7]
[1,"University of Cambridge",5,"Rebecka Kiff",758,null,"S","F",225,3,45,3,57,51,237.51,"Disqualified","Disqualified","",18,18,18,{"$f":"MIN(IF($C$7:$C$46=C25,$U$7:$U$46,\"\"))","v":18},18,11,11,11]
[null,null,null,null,null,null,null,null,null,0,0,null,null,null,0,null,"","","","","",{"$f":"MIN(IF($C$7:$C$46=C26,$U$7:$U$46,\"\"))","v":0},"","","",""]
[null,null,null,null,null,null,null,null,null,0,0,null,null,null,0,null,"","","","","",{"$f":"MIN(IF($C$7:$C$46=C27,$U$7:$U$46,\"\"))","v":0},"","","",""]
[null,null,null,null,null,null,null,null,null,0,0,null,null,null,0,null,"","","","","",{"$f":"MIN(IF($C$7:$C$46=C28,$U$7:$U$46,\"\"))","v":0},"","","",""]
[null,null,null,null,null,null,null,null,null,0,0,null,null,null,0,null,"","","","","",{"$f":"MIN(IF($C$7:$C$46=C29,$U$7:$U$46,\"\"))","v":0},"","","",""]
[null,null,null,null,null,null,null,null,null,0,0,null,null,null,0,null,"","","","","",{"$f":"MIN(IF($C$7:$C$46=C30,$U$7:$U$46,\"\"))","v":0},"","","",""]
[null,null,null,null,null,null,null,null,null,0,0,null,null,null,0,null,"","","","","",{"$f":"MIN(IF($C$7:$C$46=C31,$U$7:$U$46,\"\"))","v":0},"","","",""]
[null,null,1,null,null,null,null,null,null,0,0,null,null,null,0,null,"","","","","",{"$f":"MIN(IF($C$7:$C$46=C32,$U$7:$U$46,\"\"))","v":0},"","","",""]
[null,null,null,null,null,null,null,null,null,0,0,null,null,null,0,null,"","","","","",{"$f":"MIN(IF($C$7:$C$46=C33,$U$7:$U$46,\"\"))","v":0},"","","",""]
[null,null,null,null,null,null,null,null,null,0,0,null,null,null,0,null,"","","","","",{"$f":"MIN(IF($C$7:$C$46=C34,$U$7:$U$46,\"\"))","v":0},"","","",""]
[null,null,null,null,null,null,null,null,null,0,0,null,null,null,0,null,"","","","","",{"$f":"MIN(IF($C$7:$C$46=C35,$U$7:$U$46,\"\"))","v":0},"","","",""]
[null,null,null,null,null,null,null,null,null,0,0,null,null,null,0,null,"","","","","",{"$f":"MIN(IF($C$7:$C$46=C36,$U$7:$U$46,\"\"))","v":0},"","","",""]
[null,null,null,null,null,null,null,null,null,0,0,null,null,null,0,null,"","","","","",{"$f":"MIN(IF($C$7:$C$46=C37,$U$7:$U$46,\"\"))","v":0},"","","",""]
[null,null,null,null,null,null,null,null,null,0,0,null,null,null,0,null,"","","","","",{"$f":"MIN(IF($C$7:$C$46=C38,$U$7:$U$46,\"\"))","v":0},"","","",""]
[null,null,null,null,null,null,null,null,null,0,0,null,null,null,0,null,"","","","","",{"$f":"MIN(IF($C$7:$C$46=C39,$U$7:$U$46,\"\"))","v":0},"","","",""]
[null,null,null,null,null,null,null,null,null,0,0,null,null,null,0,null,"","","","","",{"$f":"MIN(IF($C$7:$C$46=C40,$U$7:$U$46,\"\"))","v":0},"","","",""]
[null,null,null,null,null,null,null,null,null,0,0,null,null,null,0,null,"","","","","",{"$f":"MIN(IF($C$7:$C$46=C41,$U$7:$U$46,\"\"))","v":0},"","","",""]
[null,null,null,null,null,null,null,null,null,0,0,null,null,null,0,null,"","","","","",{"$f":"MIN(IF($C$7:$C$46=C42,$U$7:$U$46,\"\"))","v":0},"","","",""]
[null,null,null,null,null,null,null,null,null,0,0,null,null,null,0,null,"","","","","",{"$f":"MIN(IF($C$7:$C$46=C43,$U$7:$U$46,\"\"))","v":0},"","","",""]
[null,null,null,null,null,null,null,null,null,0,0,null,null,null,0,null,"","","","","",{"$f":"MIN(IF($C$7:$C$46=C44,$U$7:$U$46,\"\"))","v":0},"","","",""]
[null,null,null,null,null,null,null,null,null,0,0,null,null,null,0,null,"","","","","",{"$f":"MIN(IF($C$7:$C$46=C45,$U$7:$U$46,\"\"))","v":0},"","","",""]
[null,null,null,null,null,null,null,null,null,0,0,null,null,null,0,null,"","","","","",{"$f":"MIN(IF($C$7:$C$46=C46,$U$7:$U$46,\"\"))","v":0},"","","",""]
[]
[]
[]
[]
[]
[]
[]
[]
[]
[]
[]
[]
[]
[]
[]
[]
[]
[]
[]
[]
[]
[]
[]
[]
[]
[]
[]
[]
[]
[]
[]
[]
[]
[]
[]
[]
[]
[]
[]
[]
[]
[]
[]
[]
[]
[]
[]
[]
[]
[]
[]
[]
[]
[null,null,null,null,null,null,null,null,null,null,null,null,null,null,null,"Finished"]
[null,null,null,null,null,null,null,null,null,null,null,null,null,null,null,"Disqualified"]

{"sheet":"100 Resue Men","index":14,"n_rows":101,"n_cols":26,"rows_kept":101,"cut":false,"hidden":false,"merged":[[4,6,4,7],[4,9,4,10],[4,11,4,13]]}
[]
[null,"Men's",null,"100m Rescue"]
[]
[]
["A University(Boolean)","Club Name","Club Code","Competitor","CompetitorID","AceptanceID","ID code",null,"Entry Time(Seconds)","Entry Time",null,"Time",null,null,"Time(seconds)","Finish Status","Times and  DQs","Rank","Competition \nPlace","Squad List","Rank For \nSquads Members","Top Finisher for there Uni","Top finisher Select Competitor for ranking","Squad \nPoints","Uni Finishers","Student \nPoints"]
[null,null,null,null,null,null,null,null,null,"Mins","Seconds","Mins","Seconds","1/100"]
[0,"Northfield",46,"Matt Vaugh",576,null,"S","M",100,{"$f":"INT(I7/60)","v":1},{"$f":"MOD(I7,60)","v":40},1,26,75,{"$f":"L7*60+M7+N7/100","v":86.75},"Finished",{"$f":"IF(P7=\"Disqualified\",P7,IF(P7=\"Finished\",IF(O7<=0,\"\",O7),\"\"))","v":86.75},{"$f":"IF(OR(Q7=\"Disqualified\",Q7=\"\"),\"\",RANK(Q7,$Q$7:$Q$46,1))","v":5},{"$f":"IF(P7=\"Disqualified\",MAX($R$7:$R$46)+1,R7)","v":5},{"$f":"IF(G7=\"S\",S7,\"\")","v":5},{"$f":"IF(T7=\"\",\"\",RANK(T7,$T$7:$T$46,1))","v":4},{"$f":"MIN(IF($C$7:$C$46=C7,$U$7:$U$46,\"\"))","v":4},{"$f":"IF(V7=U7,V7,\"\")","v":4},{"$f":"IF(W7=\"\",\"\",RANK(W7,$W$7:$W$46,1))","v":4},{"$f":"IF(A7=1,X7,\"\")","v":""},{"$f":"IF(Y7=\"\",\"\",RANK(Y7,$Y$7:$Y$46,1))","v":""}]
[1,"University of Nottingham",8,"Harry Mycroft",522,null,"S","M",117,{"$f":"INT(I8/60)","v":1},{"$f":"MOD(I8,60)","v":57},1,47,52,{"$f":"L8*60+M8+N8/100","v":107.52},"Finished",{"$f":"IF(P8=\"Disqualified\",P8,IF(P8=\"Finished\",IF(O8<=0,\"\",O8),\"\"))","v":107.52},{"$f":"IF(OR(Q8=\"Disqualified\",Q8=\"\"),\"\",RANK(Q8,$Q$7:$Q$46,1))","v":20},{"$f":"IF(P8=\"Disqualified\",MAX($R$7:$R$46)+1,R8)","v":20},{"$f":"IF(G8=\"S\",S8,\"\")","v":20},{"$f":"IF(T8=\"\",\"\",RANK(T8,$T$7:$T$46,1))","v":17},{"$f":"MIN(IF($C$7:$C$46=C8,$U$7:$U$46,\"\"))","v":17},{"$f":"IF(V8=U8,V8,\"\")","v":17},{"$f":"IF(W8=\"\",\"\",RANK(W8,$W$7:$W$46,1))","v":13},{"$f":"IF(A8=1,X8,\"\")","v":13},{"$f":"IF(Y8=\"\",\"\",RANK(Y8,$Y$7:$Y$46,1))","v":12}]
[1,"University of London Union",16,"Jacob Anders",725,null,"S","M",110,1,50,1,53,9,113.09,"Finished",113.09,21,21,21,18,{"$f":"MIN(IF($C$7:$C$46=C9,$U$7:$U$46,\"\"))","v":9},"","","",""]
[1,"Bristol University",15,"Ben Lang",939,null,"I","M",150,2,30,1,43,38,103.38,"Finished",103.38,17,17,"","",{"$f":"MIN(IF($C$7:$C$46=C10,$U$7:$U$46,\"\"))","v":2},"","","",""]
[1,"University of Cambridge",5,"Yat Sum Leung",842,null,"S","M",0,0,0,2,16,53,136.53,"Disqualified","Disqualified","",23,23,20,{"$f":"MIN(IF($C$7:$C$46=C11,$U$7:$U$46,\"\"))","v":15},"","","",""]
[1,"University of Plymouth",9,"Thomas Wood",860,null,"S","M",108,1,48,1,45,36,105.36,"Finished",105.36,19,19,19,16,{"$f":"MIN(IF($C$7:$C$46=C12,$U$7:$U$46,\"\"))","v":12},"","","",""]
[1,"University of Warwick",12,"Alexander Ooi",659,null,"S","M",102,1,42,1,40,47,100.47,"Disqualified","Disqualified","",23,23,20,{"$f":"MIN(IF($C$7:$C$46=C13,$U$7:$U$46,\"\"))","v":8},"","","",""]
[1,"University of Oxford",18,"Eli Ball",808,null,"S","M",100,1,40,1,38,45,98.45,"Finished",98.45,16,16,16,14,{"$f":"MIN(IF($C$7:$C$46=C14,$U$7:$U$46,\"\"))","v":14},14,11,11,10]
[1,"University of Warwick",12,"Alexander Blandford",630,null,"S","M",98,1,38,1,30,90,90.9,"Finished",90.9,9,9,9,8,{"$f":"MIN(IF($C$7:$C$46=C15,$U$7:$U$46,\"\"))","v":8},8,6,6,5]
[1,"University of Birmingham",14,"Charlie Hutchings",626,null,"S","M",92,1,32,1,34,70,94.7,"Finished",94.7,13,13,13,11,{"$f":"MIN(IF($C$7:$C$46=C16,$U$7:$U$46,\"\"))","v":10},"","","",""]
[1,"University of St Andrews",11,"David Brown",561,null,"S","M",97,1,37,1,38,27,98.27,"Finished",98.27,15,15,15,13,{"$f":"MIN(IF($C$7:$C$46=C17,$U$7:$U$46,\"\"))","v":13},13,10,10,9]
[1,"University of Plymouth",9,"Matt Neill",859,null,"S","M",100,1,40,1,37,15,97.15,"Finished",97.15,14,14,14,12,{"$f":"MIN(IF($C$7:$C$46=C18,$U$7:$U$46,\"\"))","v":12},12,9,9,8]
[1,"University of St Andrews",11,"Tashi Sherpa",560,null,"S","M",100,1,40,2,0,54,120.54,"Finished",120.54,22,22,22,19,{"$f":"MIN(IF($C$7:$C$46=C19,$U$7:$U$46,\"\"))","v":13},"","","",""]
[1,"University of Cambridge",5,"Thomas Watling",841,null,"S","M",105,1,45,1,44,58,104.58,"Finished",104.58,18,18,18,15,{"$f":"MIN(IF($C$7:$C$46=C20,$U$7:$U$46,\"\"))","v":15},15,12,12,11]
[1,"University of Oxford",18,"Andrew Bentley",809,null,"S","M",110,1,50,null,null,null,0,"Disqualified","Disqualified","",23,23,20,{"$f":"MIN(IF($C$7:$C$46=C21,$U$7:$U$46,\"\"))","v":14},"","","",""]
[1,"University of Birmingham",14,"Luke Peel",625,null,"S","M",89,1,29,1,31,63,91.63,"Finished",91.63,12,12,12,10,{"$f":"MIN(IF($C$7:$C$46=C22,$U$7:$U$46,\"\"))","v":10},10,8,8,7]
[1,"Swansea Universities Lifesaving",21,"Adam Chial",900,null,"S","M",85,1,25,1,27,23,87.23,"Finished",87.23,7,7,7,6,{"$f":"MIN(IF($C$7:$C$46=C23,$U$7:$U$46,\"\"))","v":3},"","","",""]
[1,"University of Southampton",20,"Vincent Farcot",691,null,"S","M",80,1,20,1,29,9,89.09,"Finished",89.09,8,8,8,7,{"$f":"MIN(IF($C$7:$C$46=C24,$U$7:$U$46,\"\"))","v":5},"","","",""]
[1,"University of Nottingham",8,"Mark McCorquodale",521,null,"S","M",78,1,18,null,null,null,0,"Disqualified","Disqualified","",23,23,20,{"$f":"MIN(IF($C$7:$C$46=C25,$U$7:$U$46,\"\"))","v":17},"","","",""]
[1,"Loughborough University",7,"Paul Ellard",791,null,"S","M",74,1,14,1,16,50,76.5,"Finished",76.5,1,1,1,1,{"$f":"MIN(IF($C$7:$C$46=C26,$U$7:$U$46,\"\"))","v":1},1,1,1,1]
[1,"Loughborough University",7,"Jack Carroll (reserve)",792,null,"I","M",75,1,15,1,31,27,91.27,"Finished",91.27,10,10,"","",{"$f":"MIN(IF($C$7:$C$46=C27,$U$7:$U$46,\"\"))","v":1},"","","",""]
[1,"Bristol University",15,"James Grandfield",930,null,"S","M",80,1,20,1,17,84,77.84,"Finished",77.84,2,2,2,2,{"$f":"MIN(IF($C$7:$C$46=C28,$U$7:$U$46,\"\"))","v":2},2,2,2,2]
[1,"Swansea Universities Lifesaving",21,"Simon Perry",899,null,"S","M",83,1,23,1,25,65,85.65,"Finished",85.65,4,4,4,3,{"$f":"MIN(IF($C$7:$C$46=C29,$U$7:$U$46,\"\"))","v":3},3,3,3,3]
[1,"University of London Union",16,"Yasuaki Shinohara",723,null,"S","M",85,1,25,1,31,55,91.55,"Finished",91.55,11,11,11,9,{"$f":"MIN(IF($C$7:$C$46=C30,$U$7:$U$46,\"\"))","v":9},9,7,7,6]
[1,"University of Southampton",20,"Harvey Yules",690,null,"S","M",90,1,30,1,26,76,86.76,"Finished",86.76,6,6,6,5,{"$f":"MIN(IF($C$7:$C$46=C31,$U$7:$U$46,\"\"))","v":5},5,5,5,4]
[null,"Loughborough University",1,"Graham Thompson",null,null,"I","K",null,0,0,1,24,94,84.94,"Finished",84.94,3,3,"","",{"$f":"MIN(IF($C$7:$C$46=C32,$U$7:$U$46,\"\"))","v":0},"","","",""]
[null,null,null,null,null,null,null,null,null,0,0,null,null,null,0,null,"","","","","",{"$f":"MIN(IF($C$7:$C$46=C33,$U$7:$U$46,\"\"))","v":0},"","","",""]
[null,null,null,null,null,null,null,null,null,0,0,null,null,null,0,null,"","","","","",{"$f":"MIN(IF($C$7:$C$46=C34,$U$7:$U$46,\"\"))","v":0},"","","",""]
[null,null,null,null,null,null,null,null,null,0,0,null,null,null,0,null,"","","","","",{"$f":"MIN(IF($C$7:$C$46=C35,$U$7:$U$46,\"\"))","v":0},"","","",""]
[null,null,null,null,null,null,null,null,null,0,0,null,null,null,0,null,"","","","","",{"$f":"MIN(IF($C$7:$C$46=C36,$U$7:$U$46,\"\"))","v":0},"","","",""]
[null,null,null,null,null,null,null,null,null,0,0,null,null,null,0,null,"","","","","",{"$f":"MIN(IF($C$7:$C$46=C37,$U$7:$U$46,\"\"))","v":0},"","","",""]
[null,null,null,null,null,null,null,null,null,0,0,null,null,null,0,null,"","","","","",{"$f":"MIN(IF($C$7:$C$46=C38,$U$7:$U$46,\"\"))","v":0},"","","",""]
[null,null,null,null,null,null,null,null,null,0,0,null,null,null,0,null,"","","","","",{"$f":"MIN(IF($C$7:$C$46=C39,$U$7:$U$46,\"\"))","v":0},"","","",""]
[null,null,null,null,null,null,null,null,null,0,0,null,null,null,0,null,"","","","","",{"$f":"MIN(IF($C$7:$C$46=C40,$U$7:$U$46,\"\"))","v":0},"","","",""]
[null,null,null,null,null,null,null,null,null,0,0,null,null,null,0,null,"","","","","",{"$f":"MIN(IF($C$7:$C$46=C41,$U$7:$U$46,\"\"))","v":0},"","","",""]
[null,null,null,null,null,null,null,null,null,0,0,null,null,null,0,null,"","","","","",{"$f":"MIN(IF($C$7:$C$46=C42,$U$7:$U$46,\"\"))","v":0},"","","",""]
[null,null,null,null,null,null,null,null,null,0,0,null,null,null,0,null,"","","","","",{"$f":"MIN(IF($C$7:$C$46=C43,$U$7:$U$46,\"\"))","v":0},"","","",""]
[null,null,null,null,null,null,null,null,null,0,0,null,null,null,0,null,"","","","","",{"$f":"MIN(IF($C$7:$C$46=C44,$U$7:$U$46,\"\"))","v":0},"","","",""]
[null,null,null,null,null,null,null,null,null,0,0,null,null,null,0,null,"","","","","",{"$f":"MIN(IF($C$7:$C$46=C45,$U$7:$U$46,\"\"))","v":0},"","","",""]
[null,null,null,null,null,null,null,null,null,0,0,null,null,null,0,null,"","","","","",{"$f":"MIN(IF($C$7:$C$46=C46,$U$7:$U$46,\"\"))","v":0},"","","",""]
[]
[]
[]
[]
[]
[]
[]
[]
[]
[]
[]
[]
[]
[]
[]
[]
[]
[]
[]
[]
[]
[]
[]
[]
[]
[]
[]
[]
[]
[]
[]
[]
[]
[]
[]
[]
[]
[]
[]
[]
[]
[]
[]
[]
[]
[]
[]
[]
[]
[]
[]
[]
[]
[null,null,null,null,null,null,null,null,null,null,null,null,null,null,null,"Finished"]
[null,null,null,null,null,null,null,null,null,null,null,null,null,null,null,"Disqualified"]

{"sheet":"100 Resue Women","index":15,"n_rows":101,"n_cols":26,"rows_kept":101,"cut":false,"hidden":false,"merged":[[4,6,4,7],[4,9,4,10],[4,11,4,13]]}
[]
[null,"Women's",null,"100m Rescue"]
[]
[]
["A University(Boolean)","Club Name","Club Code","Competitor","CompetitorID","AceptanceID","ID code",null,"Entry Time(Seconds)","Entry Time",null,"Time",null,null,"Time(seconds)","Finish Status","Times and  DQs","Rank","Competition \nPlace","Squad List","Rank For \nSquads Members","Top Finisher for there Uni","Top finisher Select Competitor for ranking","Squad \nPoints","Uni Finishers","Student \nPoints"]
[null,null,null,null,null,null,null,null,null,"Mins","Seconds","Mins","Seconds","1/100"]
[1,"University of St Andrews",11,"Sarah Shapiro",573,null,"S","F",142,{"$f":"INT(I7/60)","v":2},{"$f":"MOD(I7,60)","v":22},2,18,49,{"$f":"L7*60+M7+N7/100","v":138.49},"Disqualified",{"$f":"IF(P7=\"Disqualified\",P7,IF(P7=\"Finished\",IF(O7<=0,\"\",O7),\"\"))","v":"Disqualified"},{"$f":"IF(OR(Q7=\"Disqualified\",Q7=\"\"),\"\",RANK(Q7,$Q$7:$Q$46,1))","v":""},{"$f":"IF(P7=\"Disqualified\",MAX($R$7:$R$46)+1,R7)","v":15},{"$f":"IF(G7=\"S\",S7,\"\")","v":15},{"$f":"IF(T7=\"\",\"\",RANK(T7,$T$7:$T$46,1))","v":15},{"$f":"MIN(IF($C$7:$C$46=C7,$U$7:$U$46,\"\"))","v":13},{"$f":"IF(V7=U7,V7,\"\")","v":""},{"$f":"IF(W7=\"\",\"\",RANK(W7,$W$7:$W$46,1))","v":""},{"$f":"IF(A7=1,X7,\"\")","v":""},{"$f":"IF(Y7=\"\",\"\",RANK(Y7,$Y$7:$Y$46,1))","v":""}]
[1,"University of St Andrews",11,"Christina Samson",572,null,"S","F",134,{"$f":"INT(I8/60)","v":2},{"$f":"MOD(I8,60)","v":14},2,6,49,{"$f":"L8*60+M8+N8/100","v":126.49},"Finished",{"$f":"IF(P8=\"Disqualified\",P8,IF(P8=\"Finished\",IF(O8<=0,\"\",O8),\"\"))","v":126.49},{"$f":"IF(OR(Q8=\"Disqualified\",Q8=\"\"),\"\",RANK(Q8,$Q$7:$Q$46,1))","v":13},{"$f":"IF(P8=\"Disqualified\",MAX($R$7:$R$46)+1,R8)","v":13},{"$f":"IF(G8=\"S\",S8,\"\")","v":13},{"$f":"IF(T8=\"\",\"\",RANK(T8,$T$7:$T$46,1))","v":13},{"$f":"MIN(IF($C$7:$C$46=C8,$U$7:$U$46,\"\"))","v":13},{"$f":"IF(V8=U8,V8,\"\")","v":13},{"$f":"IF(W8=\"\",\"\",RANK(W8,$W$7:$W$46,1))","v":10},{"$f":"IF(A8=1,X8,\"\")","v":10},{"$f":"IF(Y8=\"\",\"\",RANK(Y8,$Y$7:$Y$46,1))","v":10}]
[1,"University of Nottingham",8,"Louise Wood",524,null,"S","F",124,2,4,1,59,87,119.87,"Finished",119.87,10,10,10,10,{"$f":"MIN(IF($C$7:$C$46=C9,$U$7:$U$46,\"\"))","v":10},10,9,9,9]
[1,"University of Plymouth",9,"Catherine Holland",873,null,"S","F",122,2,2,2,4,50,124.5,"Finished",124.5,12,12,12,12,{"$f":"MIN(IF($C$7:$C$46=C10,$U$7:$U$46,\"\"))","v":5},"","","",""]
[1,"University of Warwick",12,"Megan Edney",662,null,"S","F",124,2,4,1,55,0,115,"Finished",115,8,8,8,8,{"$f":"MIN(IF($C$7:$C$46=C11,$U$7:$U$46,\"\"))","v":8},8,7,7,7]
[1,"University of Warwick",12,"Elizabeth Buckingham-Jeffery",641,null,"S","F",130,2,10,null,null,null,0,"Disqualified","Disqualified","",15,15,15,{"$f":"MIN(IF($C$7:$C$46=C12,$U$7:$U$46,\"\"))","v":8},"","","",""]
[1,"University of Cambridge",5,"Rebecka Kiff",757,null,"S","F",140,2,20,1,59,24,119.24,"Finished",119.24,9,9,9,9,{"$f":"MIN(IF($C$7:$C$46=C13,$U$7:$U$46,\"\"))","v":9},9,8,8,8]
[1,"University of Cambridge",5,"Rebecca Woods",756,null,"S","F",155,2,35,2,9,49,129.49,"Finished",129.49,14,14,14,14,{"$f":"MIN(IF($C$7:$C$46=C14,$U$7:$U$46,\"\"))","v":9},"","","",""]
[1,"University of Birmingham",14,"Anne-Maire Robinson",612,null,"S","F",117,1,57,null,null,null,0,"Disqualified","Disqualified","",15,15,15,{"$f":"MIN(IF($C$7:$C$46=C15,$U$7:$U$46,\"\"))","v":4},"","","",""]
[1,"University of Plymouth",9,"Gracie Dack",872,null,"S","F",105,1,45,1,45,98,105.98,"Finished",105.98,5,5,5,5,{"$f":"MIN(IF($C$7:$C$46=C16,$U$7:$U$46,\"\"))","v":5},5,5,5,5]
[1,"University of Oxford",18,"Sarah Cousins",834,null,"S","F",99,1,39,1,38,82,98.82,"Finished",98.82,3,3,3,3,{"$f":"MIN(IF($C$7:$C$46=C17,$U$7:$U$46,\"\"))","v":3},3,3,3,3]
[1,"University of Southampton",20,"Danielle Burton",726,null,"S","F",95,1,35,1,49,66,109.66,"Finished",109.66,7,7,7,7,{"$f":"MIN(IF($C$7:$C$46=C18,$U$7:$U$46,\"\"))","v":2},"","","",""]
[1,"University of Southampton",20,"Simmone Bristow",724,null,"S","F",91,1,31,1,37,93,97.93,"Finished",97.93,2,2,2,2,{"$f":"MIN(IF($C$7:$C$46=C19,$U$7:$U$46,\"\"))","v":2},2,2,2,2]
[1,"Loughborough University",7,"Branwen Harris",790,null,"S","F",92,1,32,1,25,95,85.95,"Finished",85.95,1,1,1,1,{"$f":"MIN(IF($C$7:$C$46=C20,$U$7:$U$46,\"\"))","v":1},1,1,1,1]
[1,"Swansea Universities Lifesaving",21,"Luisa Petta",911,null,"S","F",98,1,38,1,47,47,107.47,"Finished",107.47,6,6,6,6,{"$f":"MIN(IF($C$7:$C$46=C21,$U$7:$U$46,\"\"))","v":6},6,6,6,6]
[1,"University of Birmingham",14,"Rebecca Sindall",611,null,"S","F",104,1,44,1,43,27,103.27,"Finished",103.27,4,4,4,4,{"$f":"MIN(IF($C$7:$C$46=C22,$U$7:$U$46,\"\"))","v":4},4,4,4,4]
[1,"Swansea Universities Lifesaving",21,"Rebecca Redcliffe",912,null,"S","F",110,1,50,1,59,94,119.94,"Finished",119.94,11,11,11,11,{"$f":"MIN(IF($C$7:$C$46=C23,$U$7:$U$46,\"\"))","v":6},"","","",""]
[1,"University of Nottingham",8,"Louise Boyle",523,null,"S","F",119,1,59,1,37,47,97.47,"Disqualified","Disqualified","",15,15,15,{"$f":"MIN(IF($C$7:$C$46=C24,$U$7:$U$46,\"\"))","v":10},"","","",""]
[null,null,null,null,null,null,null,null,null,0,0,null,null,null,0,null,"","","","","",{"$f":"MIN(IF($C$7:$C$46=C25,$U$7:$U$46,\"\"))","v":0},"","","",""]
[null,null,null,null,null,null,null,null,null,0,0,null,null,null,0,null,"","","","","",{"$f":"MIN(IF($C$7:$C$46=C26,$U$7:$U$46,\"\"))","v":0},"","","",""]
[null,null,null,null,null,null,null,null,null,0,0,null,null,null,0,null,"","","","","",{"$f":"MIN(IF($C$7:$C$46=C27,$U$7:$U$46,\"\"))","v":0},"","","",""]
[null,null,null,null,null,null,null,null,null,0,0,null,null,null,0,null,"","","","","",{"$f":"MIN(IF($C$7:$C$46=C28,$U$7:$U$46,\"\"))","v":0},"","","",""]
[null,null,null,null,null,null,null,null,null,0,0,null,null,null,0,null,"","","","","",{"$f":"MIN(IF($C$7:$C$46=C29,$U$7:$U$46,\"\"))","v":0},"","","",""]
[null,null,null,null,null,null,null,null,null,0,0,null,null,null,0,null,"","","","","",{"$f":"MIN(IF($C$7:$C$46=C30,$U$7:$U$46,\"\"))","v":0},"","","",""]
[null,null,null,null,null,null,null,null,null,0,0,null,null,null,0,null,"","","","","",{"$f":"MIN(IF($C$7:$C$46=C31,$U$7:$U$46,\"\"))","v":0},"","","",""]
[null,null,1,null,null,null,null,null,null,0,0,null,null,null,0,null,"","","","","",{"$f":"MIN(IF($C$7:$C$46=C32,$U$7:$U$46,\"\"))","v":0},"","","",""]
[null,null,null,null,null,null,null,null,null,0,0,null,null,null,0,null,"","","","","",{"$f":"MIN(IF($C$7:$C$46=C33,$U$7:$U$46,\"\"))","v":0},"","","",""]
[null,null,null,null,null,null,null,null,null,0,0,null,null,null,0,null,"","","","","",{"$f":"MIN(IF($C$7:$C$46=C34,$U$7:$U$46,\"\"))","v":0},"","","",""]
[null,null,null,null,null,null,null,null,null,0,0,null,null,null,0,null,"","","","","",{"$f":"MIN(IF($C$7:$C$46=C35,$U$7:$U$46,\"\"))","v":0},"","","",""]
[null,null,null,null,null,null,null,null,null,0,0,null,null,null,0,null,"","","","","",{"$f":"MIN(IF($C$7:$C$46=C36,$U$7:$U$46,\"\"))","v":0},"","","",""]
[null,null,null,null,null,null,null,null,null,0,0,null,null,null,0,null,"","","","","",{"$f":"MIN(IF($C$7:$C$46=C37,$U$7:$U$46,\"\"))","v":0},"","","",""]
[null,null,null,null,null,null,null,null,null,0,0,null,null,null,0,null,"","","","","",{"$f":"MIN(IF($C$7:$C$46=C38,$U$7:$U$46,\"\"))","v":0},"","","",""]
[null,null,null,null,null,null,null,null,null,0,0,null,null,null,0,null,"","","","","",{"$f":"MIN(IF($C$7:$C$46=C39,$U$7:$U$46,\"\"))","v":0},"","","",""]
[null,null,null,null,null,null,null,null,null,0,0,null,null,null,0,null,"","","","","",{"$f":"MIN(IF($C$7:$C$46=C40,$U$7:$U$46,\"\"))","v":0},"","","",""]
[null,null,null,null,null,null,null,null,null,0,0,null,null,null,0,null,"","","","","",{"$f":"MIN(IF($C$7:$C$46=C41,$U$7:$U$46,\"\"))","v":0},"","","",""]
[null,null,null,null,null,null,null,null,null,0,0,null,null,null,0,null,"","","","","",{"$f":"MIN(IF($C$7:$C$46=C42,$U$7:$U$46,\"\"))","v":0},"","","",""]
[null,null,null,null,null,null,null,null,null,0,0,null,null,null,0,null,"","","","","",{"$f":"MIN(IF($C$7:$C$46=C43,$U$7:$U$46,\"\"))","v":0},"","","",""]
[null,null,null,null,null,null,null,null,null,0,0,null,null,null,0,null,"","","","","",{"$f":"MIN(IF($C$7:$C$46=C44,$U$7:$U$46,\"\"))","v":0},"","","",""]
[null,null,null,null,null,null,null,null,null,0,0,null,null,null,0,null,"","","","","",{"$f":"MIN(IF($C$7:$C$46=C45,$U$7:$U$46,\"\"))","v":0},"","","",""]
[null,null,null,null,null,null,null,null,null,0,0,null,null,null,0,null,"","","","","",{"$f":"MIN(IF($C$7:$C$46=C46,$U$7:$U$46,\"\"))","v":0},"","","",""]
[]
[]
[]
[]
[]
[]
[]
[]
[]
[]
[]
[]
[]
[]
[]
[]
[]
[]
[]
[]
[]
[]
[]
[]
[]
[]
[]
[]
[]
[]
[]
[]
[]
[]
[]
[]
[]
[]
[]
[]
[]
[]
[]
[]
[]
[]
[]
[]
[]
[]
[]
[]
[]
[null,null,null,null,null,null,null,null,null,null,null,null,null,null,null,"Finished"]
[null,null,null,null,null,null,null,null,null,null,null,null,null,null,null,"Disqualified"]

{"sheet":"Line Throw Men","index":16,"n_rows":101,"n_cols":28,"rows_kept":101,"cut":false,"hidden":false,"merged":[[4,8,4,9],[4,11,4,12],[4,13,4,15]]}
[]
[null,"Men's",null,"Line Throw"]
[]
[]
["A University(Boolean)","Club Name","Club Code","Competitor","CompetitorID","Catcher","Catcher ID","AceptanceID","ID code",null,"Entry Time(Seconds)","Entry Time",null,"Time",null,null,"Time(seconds)","Finish\n Status","Times and  DQs","Rank","Competition \nPlace","Squad List","Rank For \nSquads Members","Top Finisher for there Uni","Top finisher Select Competitor for ranking","Squad\n Points","Uni Finishers","Student\n Points"]
[null,null,null,null,null,null,null,null,null,null,null,"Mins","Seconds","Mins","Seconds","1/100"]
[1,"Cardiff University",49,"Simon Lewis",9999,"?",9998,null,"S","M",10,{"$f":"INT(K7/60)","v":0},{"$f":"MOD(K7,60)","v":10},null,10,4,{"$f":"N7*60+O7+P7/100","v":10.039999999999999},"Disqualified",{"$f":"IF(R7=\"Disqualified\",R7,IF(R7=\"Finished\",IF(Q7<=0,\"\",Q7),\"\"))","v":"Disqualified"},{"$f":"IF(OR(S7=\"Disqualified\",S7=\"\"),\"\",RANK(S7,$S$7:$S$46,1))","v":""},{"$f":"IF(R7=\"Disqualified\",MAX($T$7:$T$46)+1,T7)","v":21},{"$f":"IF(I7=\"S\",U7,\"\")","v":21},{"$f":"IF(V7=\"\",\"\",RANK(V7,$V$7:$V$46,1))","v":20},{"$f":"MIN(IF($C$7:$C$46=C7,$W$7:$W$46,\"\"))","v":20},{"$f":"IF(X7=W7,X7,\"\")","v":20},{"$f":"IF(Y7=\"\",\"\",RANK(Y7,$Y$7:$Y$46,1))","v":13},{"$f":"IF(A7=1,Z7,\"\")","v":13},{"$f":"IF(AA7=\"\",\"\",RANK(AA7,$AA$7:$AA$46,1))","v":12}]
[0,"Northfield",46,"Matt Vaugh",165,"?",165,null,"S","M",13,{"$f":"INT(K8/60)","v":0},{"$f":"MOD(K8,60)","v":13},null,16,84,{"$f":"N8*60+O8+P8/100","v":16.84},"Finished",{"$f":"IF(R8=\"Disqualified\",R8,IF(R8=\"Finished\",IF(Q8<=0,\"\",Q8),\"\"))","v":16.84},{"$f":"IF(OR(S8=\"Disqualified\",S8=\"\"),\"\",RANK(S8,$S$7:$S$46,1))","v":7},{"$f":"IF(R8=\"Disqualified\",MAX($T$7:$T$46)+1,T8)","v":7},{"$f":"IF(I8=\"S\",U8,\"\")","v":7},{"$f":"IF(V8=\"\",\"\",RANK(V8,$V$7:$V$46,1))","v":7},{"$f":"MIN(IF($C$7:$C$46=C8,$W$7:$W$46,\"\"))","v":7},{"$f":"IF(X8=W8,X8,\"\")","v":7},{"$f":"IF(Y8=\"\",\"\",RANK(Y8,$Y$7:$Y$46,1))","v":7},{"$f":"IF(A8=1,Z8,\"\")","v":""},{"$f":"IF(AA8=\"\",\"\",RANK(AA8,$AA$7:$AA$46,1))","v":""}]
[1,"University of Southampton",20,"Rhys Clements",213,"Vincent Farcot",214,null,"S","M",20,0,20,null,17,62,{"$f":"N9*60+O9+P9/100","v":17.62},"Finished",17.62,9,9,9,9,{"$f":"MIN(IF($C$7:$C$46=C9,$W$7:$W$46,\"\"))","v":2},"","","",""]
[1,"Loughborough University",7,"Rob Sheard",167,"Rory Smith",169,null,"I","K",11,0,11,null,26,29,{"$f":"N10*60+O10+P10/100","v":26.29},"Finished",26.29,13,13,"","",{"$f":"MIN(IF($C$7:$C$46=C10,$W$7:$W$46,\"\"))","v":18},"","","",""]
[1,"University of Cambridge",5,"Thomas Watling",229,"Yat Sum Leung",234,null,"S","M",0,0,0,null,30,53,{"$f":"N11*60+O11+P11/100","v":30.53},"Finished",30.53,18,18,18,17,{"$f":"MIN(IF($C$7:$C$46=C11,$W$7:$W$46,\"\"))","v":17},17,11,11,10]
[1,"Loughborough University",7,"Felix Ng",251,"Jack Carroll",248,null,"S","M",20,0,20,null,45,0,{"$f":"N12*60+O12+P12/100","v":45},"Disqualified","Disqualified","",21,21,20,{"$f":"MIN(IF($C$7:$C$46=C12,$W$7:$W$46,\"\"))","v":18},"","","",""]
[1,"Loughborough University",7,"Chris Baker",250,"Rich Malloy",249,null,"S","M",18,0,18,null,31,80,31.8,"Finished",31.8,19,19,19,18,{"$f":"MIN(IF($C$7:$C$46=C13,$W$7:$W$46,\"\"))","v":18},18,12,12,11]
[1,"University of London Union",16,"Joe Travers-Jones",227,"Yasuaki Shinohara",222,null,"I","Y",17,0,17,null,45,0,45,"Disqualified","Disqualified","",21,"","",{"$f":"MIN(IF($C$7:$C$46=C14,$W$7:$W$46,\"\"))","v":6},"","","",""]
[1,"University of London Union",16,"Andrew Vu Dinh",220,"Martin May",225,null,"S","M",19,0,19,null,29,29,29.29,"Finished",29.29,17,17,17,16,{"$f":"MIN(IF($C$7:$C$46=C15,$W$7:$W$46,\"\"))","v":6},"","","",""]
[1,"University of Southampton",20,"Christian Wood",210,"Harvey Yules",211,null,"S","M",20,0,20,null,11,61,11.61,"Finished",11.61,2,2,2,2,{"$f":"MIN(IF($C$7:$C$46=C16,$W$7:$W$46,\"\"))","v":2},2,2,2,2]
[1,"University of Warwick",12,"Adam Martin",194,"Alexander Ooi",201,null,"S","M",15,0,15,null,28,46,28.46,"Finished",28.46,16,16,16,15,{"$f":"MIN(IF($C$7:$C$46=C17,$W$7:$W$46,\"\"))","v":1},"","","",""]
[1,"University of Oxford",18,"Lewis Morgan",257,"Andrew Bentley",256,null,"S","M",15,0,15,null,16,90,16.899999999999999,"Finished",16.899999999999999,8,8,8,8,{"$f":"MIN(IF($C$7:$C$46=C18,$W$7:$W$46,\"\"))","v":8},8,8,8,7]
[1,"University of Birmingham",14,"Mark Baslington",171,"James Newbon",173,null,"S","M",14,0,14,null,26,58,26.58,"Finished",26.58,14,14,14,13,{"$f":"MIN(IF($C$7:$C$46=C19,$W$7:$W$46,\"\"))","v":11},"","","",""]
[1,"University of Nottingham",8,"Mark McCorquodale",139,"Harry Mycroft",141,null,"S","M",14,0,14,null,27,28,27.28,"Finished",27.28,15,15,15,14,{"$f":"MIN(IF($C$7:$C$46=C20,$W$7:$W$46,\"\"))","v":14},14,10,10,9]
[1,"University of Nottingham",8,"Luke Norton",138,"Dan Harris",148,null,"S","M",14,0,14,null,null,null,0,"Disqualified","Disqualified","",21,21,20,{"$f":"MIN(IF($C$7:$C$46=C21,$W$7:$W$46,\"\"))","v":14},"","","",""]
[1,"University of Plymouth",9,"Thomas Wood",268,"Martin Egerton",265,null,"S","M",15,0,15,null,13,3,13.03,"Finished",13.03,5,5,5,5,{"$f":"MIN(IF($C$7:$C$46=C22,$W$7:$W$46,\"\"))","v":5},5,5,5,5]
[1,"University of Oxford",18,"Patrick Unwin",253,"Eli Ball",254,null,"S","M",15,0,15,null,45,0,45,"Disqualified","Disqualified","",21,21,20,{"$f":"MIN(IF($C$7:$C$46=C23,$W$7:$W$46,\"\"))","v":8},"","","",""]
[1,"University of Plymouth",9,"Mike Dowden",267,"Giles Strong",264,null,"S","M",16,0,16,null,18,65,18.649999999999999,"Finished",18.649999999999999,10,10,10,10,{"$f":"MIN(IF($C$7:$C$46=C24,$W$7:$W$46,\"\"))","v":5},"","","",""]
[1,"University of St Andrews",11,"David Brown",152,"Andrew Martin",156,null,"S","M",13,0,13,null,24,2,24.02,"Finished",24.02,12,12,12,12,{"$f":"MIN(IF($C$7:$C$46=C25,$W$7:$W$46,\"\"))","v":4},"","","",""]
[1,"University of London Union",16,"Martin May",225,"Joe Travers-Jones",221,null,"S","M",12.72,0,12.72,null,13,40,13.4,"Finished",13.4,6,6,6,6,{"$f":"MIN(IF($C$7:$C$46=C26,$W$7:$W$46,\"\"))","v":6},6,6,6,6]
[1,"University of Birmingham",14,"Luke Peel",172,"Charlie Hutchings",174,null,"S","M",10,0,10,null,19,31,19.309999999999999,"Finished",19.309999999999999,11,11,11,11,{"$f":"MIN(IF($C$7:$C$46=C27,$W$7:$W$46,\"\"))","v":11},11,9,9,8]
[1,"University of Warwick",12,"Andrew Bishop",199,"Alexander Blandford",184,null,"S","M",9,0,9,null,10,44,10.44,"Finished",10.44,1,1,1,1,{"$f":"MIN(IF($C$7:$C$46=C28,$W$7:$W$46,\"\"))","v":1},1,1,1,1]
[1,"Swansea Universities Lifesaving",21,"Gareth Abbott-Haigh",284,"Sam Kenvyn",279,null,"S","M",10,0,10,null,11,65,11.65,"Finished",11.65,3,3,3,3,{"$f":"MIN(IF($C$7:$C$46=C29,$W$7:$W$46,\"\"))","v":3},3,3,3,3]
[1,"University of St Andrews",11,"Christopher Harper",151,"Tashi Sherpa",155,null,"S","M",11,0,11,null,12,31,12.31,"Finished",12.31,4,4,4,4,{"$f":"MIN(IF($C$7:$C$46=C30,$W$7:$W$46,\"\"))","v":4},4,4,4,4]
[1,"Swansea Universities Lifesaving",21,"Pavlos Ioannidis",283,"Simon Perry",280,null,"S","M",13,0,13,null,34,91,34.909999999999997,"Finished",34.909999999999997,20,20,20,19,{"$f":"MIN(IF($C$7:$C$46=C31,$W$7:$W$46,\"\"))","v":3},"","","",""]
[1,"Bristol University",15,"James Grandfield",276,"Sam Best",277,null,"S","M",14,0,14,null,41,54,41.54,"Disqualified","Disqualified","",21,21,20,{"$f":"MIN(IF($C$7:$C$46=C32,$W$7:$W$46,\"\"))","v":20},20,13,13,12]
[null,null,null,null,null,null,null,null,null,null,null,0,0,null,null,null,0,null,"","","","","",{"$f":"MIN(IF($C$7:$C$46=C33,$W$7:$W$46,\"\"))","v":0},"","","",""]
[null,null,null,null,null,null,null,null,null,null,null,0,0,null,null,null,0,null,"","","","","",{"$f":"MIN(IF($C$7:$C$46=C34,$W$7:$W$46,\"\"))","v":0},"","","",""]
[null,null,null,null,null,null,null,null,null,null,null,0,0,null,null,null,0,null,"","","","","",{"$f":"MIN(IF($C$7:$C$46=C35,$W$7:$W$46,\"\"))","v":0},"","","",""]
[null,null,null,null,null,null,null,null,null,null,null,0,0,null,null,null,0,null,"","","","","",{"$f":"MIN(IF($C$7:$C$46=C36,$W$7:$W$46,\"\"))","v":0},"","","",""]
[null,null,null,null,null,null,null,null,null,null,null,0,0,null,null,null,0,null,"","","","","",{"$f":"MIN(IF($C$7:$C$46=C37,$W$7:$W$46,\"\"))","v":0},"","","",""]
[null,null,null,null,null,null,null,null,null,null,null,0,0,null,null,null,0,null,"","","","","",{"$f":"MIN(IF($C$7:$C$46=C38,$W$7:$W$46,\"\"))","v":0},"","","",""]
[null,null,null,null,null,null,null,null,null,null,null,0,0,null,null,null,0,null,"","","","","",{"$f":"MIN(IF($C$7:$C$46=C39,$W$7:$W$46,\"\"))","v":0},"","","",""]
[null,null,null,null,null,null,null,null,null,null,null,0,0,null,null,null,0,null,"","","","","",{"$f":"MIN(IF($C$7:$C$46=C40,$W$7:$W$46,\"\"))","v":0},"","","",""]
[null,null,null,null,null,null,null,null,null,null,null,0,0,null,null,null,0,null,"","","","","",{"$f":"MIN(IF($C$7:$C$46=C41,$W$7:$W$46,\"\"))","v":0},"","","",""]
[null,null,null,null,null,null,null,null,null,null,null,0,0,null,null,null,0,null,"","","","","",{"$f":"MIN(IF($C$7:$C$46=C42,$W$7:$W$46,\"\"))","v":0},"","","",""]
[null,null,null,null,null,null,null,null,null,null,null,0,0,null,null,null,0,null,"","","","","",{"$f":"MIN(IF($C$7:$C$46=C43,$W$7:$W$46,\"\"))","v":0},"","","",""]
[null,null,null,null,null,null,null,null,null,null,null,0,0,null,null,null,0,null,"","","","","",{"$f":"MIN(IF($C$7:$C$46=C44,$W$7:$W$46,\"\"))","v":0},"","","",""]
[null,null,null,null,null,null,null,null,null,null,null,0,0,null,null,null,0,null,"","","","","",{"$f":"MIN(IF($C$7:$C$46=C45,$W$7:$W$46,\"\"))","v":0},"","","",""]
[null,null,null,null,null,null,null,null,null,null,null,0,0,null,null,null,0,null,"","","","","",{"$f":"MIN(IF($C$7:$C$46=C46,$W$7:$W$46,\"\"))","v":0},"","","",""]
[]
[]
[]
[]
[]
[]
[]
[]
[]
[]
[]
[]
[]
[]
[]
[]
[]
[]
[]
[]
[]
[]
[]
[]
[]
[]
[]
[]
[]
[]
[]
[]
[]
[]
[]
[]
[]
[]
[]
[]
[]
[]
[]
[]
[]
[]
[]
[]
[]
[]
[]
[]
[]
[null,null,null,null,null,null,null,null,null,null,null,null,null,null,null,null,null,"Finished"]
[null,null,null,null,null,null,null,null,null,null,null,null,null,null,null,null,null,"Disqualified"]

{"sheet":"Line Throw Women","index":17,"n_rows":101,"n_cols":28,"rows_kept":101,"cut":false,"hidden":false,"merged":[[4,8,4,9],[4,11,4,12],[4,13,4,15]]}
[]
[null,"Women's",null,"Line Throw"]
[]
[]
["A University(Boolean)","Club Name","Club Code","Competitor","CompetitorID","Catcher","Catcher ID","AceptanceID","ID code",null,"Entry Time(Seconds)","Entry Time",null,"Time",null,null,"Time(seconds)","Finish Status","Times and  DQs","Rank","Competition\n Place","Squad List","Rank For \nSquads Members","Top Finisher for there Uni","Top finisher Select Competitor for ranking","Squad\n Points","Uni Finishers","Student \nPoints"]
[null,null,null,null,null,null,null,null,null,null,null,"Mins","Seconds","Mins","Seconds","1/100"]
[1,"University of Plymouth",9,"Hannah Lucas",269,"Catherine Holland",272,null,"S","F",42,{"$f":"INT(K7/60)","v":0},{"$f":"MOD(K7,60)","v":42},0,45,0,{"$f":"N7*60+O7+P7/100","v":45},"Disqualified",{"$f":"IF(R7=\"Disqualified\",R7,IF(R7=\"Finished\",IF(Q7<=0,\"\",Q7),\"\"))","v":"Disqualified"},{"$f":"IF(OR(S7=\"Disqualified\",S7=\"\"),\"\",RANK(S7,$S$7:$S$46,1))","v":""},{"$f":"IF(R7=\"Disqualified\",MAX($T$7:$T$46)+1,T7)","v":12},{"$f":"IF(I7=\"S\",U7,\"\")","v":12},{"$f":"IF(V7=\"\",\"\",RANK(V7,$V$7:$V$46,1))","v":12},{"$f":"MIN(IF($C$7:$C$46=C7,$W$7:$W$46,\"\"))","v":12},{"$f":"IF(X7=W7,X7,\"\")","v":12},{"$f":"IF(Y7=\"\",\"\",RANK(Y7,$Y$7:$Y$46,1))","v":8},{"$f":"IF(A7=1,Z7,\"\")","v":8},{"$f":"IF(AA7=\"\",\"\",RANK(AA7,$AA$7:$AA$46,1))","v":8}]
[1,"University of Nottingham",8,"Harriet Colville",146,"Louise Wood",143,null,"S","F",40,{"$f":"INT(K8/60)","v":0},{"$f":"MOD(K8,60)","v":40},0,45,0,{"$f":"N8*60+O8+P8/100","v":45},"Disqualified",{"$f":"IF(R8=\"Disqualified\",R8,IF(R8=\"Finished\",IF(Q8<=0,\"\",Q8),\"\"))","v":"Disqualified"},{"$f":"IF(OR(S8=\"Disqualified\",S8=\"\"),\"\",RANK(S8,$S$7:$S$46,1))","v":""},{"$f":"IF(R8=\"Disqualified\",MAX($T$7:$T$46)+1,T8)","v":12},{"$f":"IF(I8=\"S\",U8,\"\")","v":12},{"$f":"IF(V8=\"\",\"\",RANK(V8,$V$7:$V$46,1))","v":12},{"$f":"MIN(IF($C$7:$C$46=C8,$W$7:$W$46,\"\"))","v":12},{"$f":"IF(X8=W8,X8,\"\")","v":12},{"$f":"IF(Y8=\"\",\"\",RANK(Y8,$Y$7:$Y$46,1))","v":8},{"$f":"IF(A8=1,Z8,\"\")","v":8},{"$f":"IF(AA8=\"\",\"\",RANK(AA8,$AA$7:$AA$46,1))","v":8}]
[1,"University of Southampton",20,"Glynnis Morgan",205,"Natalie Moore",208,null,"S","F",35,0,35,0,45,0,45,"Disqualified","Disqualified","",12,12,12,{"$f":"MIN(IF($C$7:$C$46=C9,$W$7:$W$46,\"\"))","v":12},12,8,8,8]
[1,"University of Plymouth",9,"Amy Lusher",274,"Katie Brownjohn",273,null,"S","F",41,0,41,0,45,0,45,"Disqualified","Disqualified","",12,12,12,{"$f":"MIN(IF($C$7:$C$46=C10,$W$7:$W$46,\"\"))","v":12},12,8,8,8]
[1,"University of Cambridge",5,"Rebecca Woods",231,"Eleanor Brodie",233,null,"S","F",0,0,0,0,45,0,45,"Disqualified","Disqualified","",12,12,12,{"$f":"MIN(IF($C$7:$C$46=C11,$W$7:$W$46,\"\"))","v":12},12,8,8,8]
[1,"Loughborough University",7,"Nicola Keenan",243,"Kate Murphy",242,null,"S","F",23,0,23,0,20,89,20.89,"Finished",20.89,6,6,6,6,{"$f":"MIN(IF($C$7:$C$46=C12,$W$7:$W$46,\"\"))","v":1},"","","",""]
[1,"University of London Union",16,"Hannah Heslop",217,"Suanne Wong",215,null,"S","F",19,0,19,0,35,76,35.76,"Finished",35.76,9,9,9,9,{"$f":"MIN(IF($C$7:$C$46=C13,$W$7:$W$46,\"\"))","v":3},"","","",""]
[1,"University of Warwick",12,"Piera Marchetti",200,"Megan Edney",202,null,"S","F",17,0,17,null,null,null,0,"Disqualified","Disqualified","",12,12,12,{"$f":"MIN(IF($C$7:$C$46=C14,$W$7:$W$46,\"\"))","v":5},"","","",""]
[1,"Swansea Universities Lifesaving",21,"Rebecca Redcliffe",288,"Luisa Petta",285,null,"S","F",17,0,17,0,23,78,23.78,"Disqualified","Disqualified","",12,12,12,{"$f":"MIN(IF($C$7:$C$46=C15,$W$7:$W$46,\"\"))","v":2},"","","",""]
[1,"University of London Union",16,"Tara Lee",226,"Alessandra Ferrario",228,null,"I","X",17,0,17,0,17,4,17.04,"Disqualified","Disqualified","",12,"","",{"$f":"MIN(IF($C$7:$C$46=C16,$W$7:$W$46,\"\"))","v":3},"","","",""]
[1,"University of St Andrews",11,"Hannah Callaghan",160,"Sarah Shapiro",159,null,"S","F",17,0,17,0,32,7,32.07,"Finished",32.07,8,8,8,8,{"$f":"MIN(IF($C$7:$C$46=C17,$W$7:$W$46,\"\"))","v":4},"","","",""]
[1,"University of Nottingham",8,"Chrissie Butcher",140,"Sarah Aldridge",149,null,"S","F",20,0,20,0,33,41,33.409999999999997,"Disqualified","Disqualified","",12,12,12,{"$f":"MIN(IF($C$7:$C$46=C18,$W$7:$W$46,\"\"))","v":12},12,8,8,8]
[1,"University of Southampton",20,"Valentine Farcot",207,"Polly Nagel",203,null,"S","F",30,0,30,0,45,0,45,"Disqualified","Disqualified","",12,12,12,{"$f":"MIN(IF($C$7:$C$46=C19,$W$7:$W$46,\"\"))","v":12},12,8,8,8]
[1,"University of London Union",16,"Stephanie Wilson",218,"Adeline Loh",219,null,"S","F",15.15,0,15.15,0,16,29,16.29,"Finished",16.29,3,3,3,3,{"$f":"MIN(IF($C$7:$C$46=C20,$W$7:$W$46,\"\"))","v":3},3,3,3,3]
[1,"University of Birmingham",14,"Philippa Sturges",181,"Ella Moore",182,null,"S","F",14,0,14,0,30,9,30.09,"Finished",30.09,7,7,7,7,{"$f":"MIN(IF($C$7:$C$46=C21,$W$7:$W$46,\"\"))","v":7},7,6,6,6]
[1,"Loughborough University",7,"Polly Scurrah",244,"Lucy Bamber",241,null,"S","F",14,0,14,0,13,46,13.46,"Finished",13.46,1,1,1,1,{"$f":"MIN(IF($C$7:$C$46=C22,$W$7:$W$46,\"\"))","v":1},1,1,1,1]
[1,"University of Birmingham",14,"Rebecca Sindall",178,"Gemma Sharp",183,null,"S","F",13,0,13,0,39,75,39.75,"Finished",39.75,11,11,11,11,{"$f":"MIN(IF($C$7:$C$46=C23,$W$7:$W$46,\"\"))","v":7},"","","",""]
[1,"University of Oxford",18,"Sarah Cousins",235,"Alice Pooley",255,null,"S","F",14,0,14,0,37,68,37.68,"Finished",37.68,10,10,10,10,{"$f":"MIN(IF($C$7:$C$46=C24,$W$7:$W$46,\"\"))","v":10},10,7,7,7]
[1,"University of Warwick",12,"Kirsty Burwood",186,"Elizabeth Buckingham-Jeffery",188,null,"S","F",14,0,14,0,17,9,17.09,"Finished",17.09,5,5,5,5,{"$f":"MIN(IF($C$7:$C$46=C25,$W$7:$W$46,\"\"))","v":5},5,5,5,5]
[1,"University of St Andrews",11,"Ella Hunt",157,"Christina Samson",158,null,"S","F",14,0,14,0,17,4,17.04,"Finished",17.04,4,4,4,4,{"$f":"MIN(IF($C$7:$C$46=C26,$W$7:$W$46,\"\"))","v":4},4,4,4,4]
[1,"Swansea Universities Lifesaving",21,"Sara Gwynn",291,"Rhian Thomas",286,null,"S","F",16,0,16,0,15,56,15.56,"Finished",15.56,2,2,2,2,{"$f":"MIN(IF($C$7:$C$46=C27,$W$7:$W$46,\"\"))","v":2},2,2,2,2]
[null,null,null,null,null,null,null,null,null,null,null,0,0,null,null,null,0,null,"","","","","",{"$f":"MIN(IF($C$7:$C$46=C28,$W$7:$W$46,\"\"))","v":0},"","","",""]
[null,null,null,null,null,null,null,null,null,null,null,0,0,null,null,null,0,null,"","","","","",{"$f":"MIN(IF($C$7:$C$46=C29,$W$7:$W$46,\"\"))","v":0},"","","",""]
[null,null,null,null,null,null,null,null,null,null,null,0,0,null,null,null,0,null,"","","","","",{"$f":"MIN(IF($C$7:$C$46=C30,$W$7:$W$46,\"\"))","v":0},"","","",""]
[null,null,null,null,null,null,null,null,null,null,null,0,0,null,null,null,0,null,"","","","","",{"$f":"MIN(IF($C$7:$C$46=C31,$W$7:$W$46,\"\"))","v":0},"","","",""]
[null,null,1,null,null,null,null,null,null,null,null,0,0,null,null,null,0,null,"","","","","",{"$f":"MIN(IF($C$7:$C$46=C32,$W$7:$W$46,\"\"))","v":0},"","","",""]
[null,null,null,null,null,null,null,null,null,null,null,0,0,null,null,null,0,null,"","","","","",{"$f":"MIN(IF($C$7:$C$46=C33,$W$7:$W$46,\"\"))","v":0},"","","",""]
[null,null,null,null,null,null,null,null,null,null,null,0,0,null,null,null,0,null,"","","","","",{"$f":"MIN(IF($C$7:$C$46=C34,$W$7:$W$46,\"\"))","v":0},"","","",""]
[null,null,null,null,null,null,null,null,null,null,null,0,0,null,null,null,0,null,"","","","","",{"$f":"MIN(IF($C$7:$C$46=C35,$W$7:$W$46,\"\"))","v":0},"","","",""]
[null,null,null,null,null,null,null,null,null,null,null,0,0,null,null,null,0,null,"","","","","",{"$f":"MIN(IF($C$7:$C$46=C36,$W$7:$W$46,\"\"))","v":0},"","","",""]
[null,null,null,null,null,null,null,null,null,null,null,0,0,null,null,null,0,null,"","","","","",{"$f":"MIN(IF($C$7:$C$46=C37,$W$7:$W$46,\"\"))","v":0},"","","",""]
[null,null,null,null,null,null,null,null,null,null,null,0,0,null,null,null,0,null,"","","","","",{"$f":"MIN(IF($C$7:$C$46=C38,$W$7:$W$46,\"\"))","v":0},"","","",""]
[null,null,null,null,null,null,null,null,null,null,null,0,0,null,null,null,0,null,"","","","","",{"$f":"MIN(IF($C$7:$C$46=C39,$W$7:$W$46,\"\"))","v":0},"","","",""]
[null,null,null,null,null,null,null,null,null,null,null,0,0,null,null,null,0,null,"","","","","",{"$f":"MIN(IF($C$7:$C$46=C40,$W$7:$W$46,\"\"))","v":0},"","","",""]
[null,null,null,null,null,null,null,null,null,null,null,0,0,null,null,null,0,null,"","","","","",{"$f":"MIN(IF($C$7:$C$46=C41,$W$7:$W$46,\"\"))","v":0},"","","",""]
[null,null,null,null,null,null,null,null,null,null,null,0,0,null,null,null,0,null,"","","","","",{"$f":"MIN(IF($C$7:$C$46=C42,$W$7:$W$46,\"\"))","v":0},"","","",""]
[null,null,null,null,null,null,null,null,null,null,null,0,0,null,null,null,0,null,"","","","","",{"$f":"MIN(IF($C$7:$C$46=C43,$W$7:$W$46,\"\"))","v":0},"","","",""]
[null,null,null,null,null,null,null,null,null,null,null,0,0,null,null,null,0,null,"","","","","",{"$f":"MIN(IF($C$7:$C$46=C44,$W$7:$W$46,\"\"))","v":0},"","","",""]
[null,null,null,null,null,null,null,null,null,null,null,0,0,null,null,null,0,null,"","","","","",{"$f":"MIN(IF($C$7:$C$46=C45,$W$7:$W$46,\"\"))","v":0},"","","",""]
[null,null,null,null,null,null,null,null,null,null,null,0,0,null,null,null,0,null,"","","","","",{"$f":"MIN(IF($C$7:$C$46=C46,$W$7:$W$46,\"\"))","v":0},"","","",""]
[]
[]
[]
[]
[]
[]
[]
[]
[]
[]
[]
[]
[]
[]
[]
[]
[]
[]
[]
[]
[]
[]
[]
[]
[]
[]
[]
[]
[]
[]
[]
[]
[]
[]
[]
[]
[]
[]
[]
[]
[]
[]
[]
[]
[]
[]
[]
[]
[]
[]
[]
[]
[]
[null,null,null,null,null,null,null,null,null,null,null,null,null,null,null,null,null,"Finished"]
[null,null,null,null,null,null,null,null,null,null,null,null,null,null,null,null,null,"Disqualified"]

{"sheet":"4 x 50 Obs Relay Men","index":18,"n_rows":101,"n_cols":23,"rows_kept":101,"cut":false,"hidden":false,"merged":[[4,3,4,4],[4,6,4,7],[4,8,4,10]]}
[]
[null,"Men's",null,"4 x 50 Obs"]
[]
[]
["A University(Boolean)","Club Name","Club Code","ID code",null,"Entry Time(Seconds)","Entry Time",null,"Time",null,null,"Time(seconds)","Finish Status","Times and  DQs","Rank","Competition\n Place","Squad List","Rank For \nSquads Members","Top Finisher for there Uni","Top finisher Select Competitor for ranking","Squad \nPoints","Uni Finishers","Student\n Points"]
[null,null,null,null,null,null,"Mins","Seconds","Mins","Seconds","1/100"]
[1,"University of St Andrews",11,"S","M",147,{"$f":"INT(F7/60)","v":2},{"$f":"MOD(F7,60)","v":27},2,26,22,{"$f":"I7*60+J7+K7/100","v":146.22},"Finished",{"$f":"IF(M7=\"Disqualified\",M7,IF(M7=\"Finished\",IF(L7<=0,\"\",L7),\"\"))","v":146.22},{"$f":"IF(OR(N7=\"Disqualified\",N7=\"\"),\"\",RANK(N7,$N$7:$N$46,1))","v":9},{"$f":"IF(M7=\"Disqualified\",MAX($O$7:$O$46)+1,O7)","v":9},{"$f":"IF(D7=\"S\",P7,\"\")","v":9},{"$f":"IF(Q7=\"\",\"\",RANK(Q7,$Q$7:$Q$46,1))","v":7},{"$f":"MIN(IF($C$7:$C$46=C7,$R$7:$R$46,\"\"))","v":7},{"$f":"IF(S7=R7,S7,\"\")","v":7},{"$f":"IF(T7=\"\",\"\",RANK(T7,$T$7:$T$46,1))","v":7},{"$f":"IF(A7=1,U7,\"\")","v":7},{"$f":"IF(V7=\"\",\"\",RANK(V7,$V$7:$V$46,1))","v":7}]
[1,"University of Nottingham",8,"S","M",136,{"$f":"INT(F8/60)","v":2},{"$f":"MOD(F8,60)","v":16},2,19,71,{"$f":"I8*60+J8+K8/100","v":139.71},"Finished",{"$f":"IF(M8=\"Disqualified\",M8,IF(M8=\"Finished\",IF(L8<=0,\"\",L8),\"\"))","v":139.71},{"$f":"IF(OR(N8=\"Disqualified\",N8=\"\"),\"\",RANK(N8,$N$7:$N$46,1))","v":8},{"$f":"IF(M8=\"Disqualified\",MAX($O$7:$O$46)+1,O8)","v":8},{"$f":"IF(D8=\"S\",P8,\"\")","v":8},{"$f":"IF(Q8=\"\",\"\",RANK(Q8,$Q$7:$Q$46,1))","v":6},{"$f":"MIN(IF($C$7:$C$46=C8,$R$7:$R$46,\"\"))","v":6},{"$f":"IF(S8=R8,S8,\"\")","v":6},{"$f":"IF(T8=\"\",\"\",RANK(T8,$T$7:$T$46,1))","v":6},6,{"$f":"IF(V8=\"\",\"\",RANK(V8,$V$7:$V$46,1))","v":6}]
[1,"University of Warwick",12,"S","M",134,2,14,2,14,52,134.52000000000001,"Finished",134.52000000000001,7,7,7,5,{"$f":"MIN(IF($C$7:$C$46=C9,$R$7:$R$46,\"\"))","v":5},5,5,5,5]
[1,"University of London Union",16,"S","M",140,2,20,2,28,55,148.55000000000001,"Finished",148.55000000000001,11,11,11,9,{"$f":"MIN(IF($C$7:$C$46=C10,$R$7:$R$46,\"\"))","v":9},9,9,9,9]
[1,"University of Oxford",18,"S","M",150,2,30,2,27,61,147.61000000000001,"Finished",147.61000000000001,10,10,10,8,{"$f":"MIN(IF($C$7:$C$46=C11,$R$7:$R$46,\"\"))","v":8},8,8,8,8]
[1,"University of Plymouth",9,"S","M",125,2,5,2,9,98,129.97999999999999,"Finished",129.97999999999999,6,6,6,4,{"$f":"MIN(IF($C$7:$C$46=C12,$R$7:$R$46,\"\"))","v":4},4,4,4,4]
[1,"Loughborough University",7,"I","K",115,1,55,1,55,51,115.51,"Finished",115.51,1,1,"","",{"$f":"MIN(IF($C$7:$C$46=C13,$R$7:$R$46,\"\"))","v":1},"","","",""]
[1,"Swansea Universities Lifesaving",21,"S","M",115,1,55,2,1,82,121.82,"Finished",121.82,4,4,4,2,{"$f":"MIN(IF($C$7:$C$46=C14,$R$7:$R$46,\"\"))","v":2},2,2,2,2]
[1,"Loughborough University",7,"S","M",115,1,55,1,59,48,119.48,"Finished",119.48,2,2,2,1,{"$f":"MIN(IF($C$7:$C$46=C15,$R$7:$R$46,\"\"))","v":1},1,1,1,1]
[1,"University of Southampton",20,"S","M",120,2,0,2,8,97,128.97,"Finished",128.97,5,5,5,3,{"$f":"MIN(IF($C$7:$C$46=C16,$R$7:$R$46,\"\"))","v":3},3,3,3,3]
[1,"University of Birmingham",14,"S","M",129,2,9,2,13,62,133.62,"Disqualified","Disqualified","",12,12,10,{"$f":"MIN(IF($C$7:$C$46=C17,$R$7:$R$46,\"\"))","v":10},10,10,10,10]
[null,"Black Mamba",null,"I","M",null,0,0,2,1,0,121,"Finished",121,3,3,"","",{"$f":"MIN(IF($C$7:$C$46=C18,$R$7:$R$46,\"\"))","v":0},"","","",""]
[null,null,null,null,null,null,0,0,null,null,null,0,null,"","","","","",{"$f":"MIN(IF($C$7:$C$46=C19,$R$7:$R$46,\"\"))","v":0},"","","",""]
[null,null,null,null,null,null,0,0,null,null,null,0,null,"","","","","",{"$f":"MIN(IF($C$7:$C$46=C20,$R$7:$R$46,\"\"))","v":0},"","","",""]
[null,null,null,null,null,null,0,0,null,null,null,0,null,"","","","","",{"$f":"MIN(IF($C$7:$C$46=C21,$R$7:$R$46,\"\"))","v":0},"","","",""]
[null,null,null,null,null,null,0,0,null,null,null,0,null,"","","","","",{"$f":"MIN(IF($C$7:$C$46=C22,$R$7:$R$46,\"\"))","v":0},"","","",""]
[null,null,null,null,null,null,0,0,null,null,null,0,null,"","","","","",{"$f":"MIN(IF($C$7:$C$46=C23,$R$7:$R$46,\"\"))","v":0},"","","",""]
[null,null,null,null,null,null,0,0,null,null,null,0,null,"","","","","",{"$f":"MIN(IF($C$7:$C$46=C24,$R$7:$R$46,\"\"))","v":0},"","","",""]
[null,null,null,null,null,null,0,0,null,null,null,0,null,"","","","","",{"$f":"MIN(IF($C$7:$C$46=C25,$R$7:$R$46,\"\"))","v":0},"","","",""]
[null,null,null,null,null,null,0,0,null,null,null,0,null,"","","","","",{"$f":"MIN(IF($C$7:$C$46=C26,$R$7:$R$46,\"\"))","v":0},"","","",""]
[null,null,null,null,null,null,0,0,null,null,null,0,null,"","","","","",{"$f":"MIN(IF($C$7:$C$46=C27,$R$7:$R$46,\"\"))","v":0},"","","",""]
[null,null,null,null,null,null,0,0,null,null,null,0,null,"","","","","",{"$f":"MIN(IF($C$7:$C$46=C28,$R$7:$R$46,\"\"))","v":0},"","","",""]
[null,null,null,null,null,null,0,0,null,null,null,0,null,"","","","","",{"$f":"MIN(IF($C$7:$C$46=C29,$R$7:$R$46,\"\"))","v":0},"","","",""]
[null,null,null,null,null,null,0,0,null,null,null,0,null,"","","","","",{"$f":"MIN(IF($C$7:$C$46=C30,$R$7:$R$46,\"\"))","v":0},"","","",""]
[null,null,null,null,null,null,0,0,null,null,null,0,null,"","","","","",{"$f":"MIN(IF($C$7:$C$46=C31,$R$7:$R$46,\"\"))","v":0},"","","",""]
[null,null,1,null,null,null,0,0,null,null,null,0,null,"","","","","",{"$f":"MIN(IF($C$7:$C$46=C32,$R$7:$R$46,\"\"))","v":0},"","","",""]
[null,null,null,null,null,null,0,0,null,null,null,0,null,"","","","","",{"$f":"MIN(IF($C$7:$C$46=C33,$R$7:$R$46,\"\"))","v":0},"","","",""]
[null,null,null,null,null,null,0,0,null,null,null,0,null,"","","","","",{"$f":"MIN(IF($C$7:$C$46=C34,$R$7:$R$46,\"\"))","v":0},"","","",""]
[null,null,null,null,null,null,0,0,null,null,null,0,null,"","","","","",{"$f":"MIN(IF($C$7:$C$46=C35,$R$7:$R$46,\"\"))","v":0},"","","",""]
[null,null,null,null,null,null,0,0,null,null,null,0,null,"","","","","",{"$f":"MIN(IF($C$7:$C$46=C36,$R$7:$R$46,\"\"))","v":0},"","","",""]
[null,null,null,null,null,null,0,0,null,null,null,0,null,"","","","","",{"$f":"MIN(IF($C$7:$C$46=C37,$R$7:$R$46,\"\"))","v":0},"","","",""]
[null,null,null,null,null,null,0,0,null,null,null,0,null,"","","","","",{"$f":"MIN(IF($C$7:$C$46=C38,$R$7:$R$46,\"\"))","v":0},"","","",""]
[null,null,null,null,null,null,0,0,null,null,null,0,null,"","","","","",{"$f":"MIN(IF($C$7:$C$46=C39,$R$7:$R$46,\"\"))","v":0},"","","",""]
[null,null,null,null,null,null,0,0,null,null,null,0,null,"","","","","",{"$f":"MIN(IF($C$7:$C$46=C40,$R$7:$R$46,\"\"))","v":0},"","","",""]
[null,null,null,null,null,null,0,0,null,null,null,0,null,"","","","","",{"$f":"MIN(IF($C$7:$C$46=C41,$R$7:$R$46,\"\"))","v":0},"","","",""]
[null,null,null,null,null,null,0,0,null,null,null,0,null,"","","","","",{"$f":"MIN(IF($C$7:$C$46=C42,$R$7:$R$46,\"\"))","v":0},"","","",""]
[null,null,null,null,null,null,0,0,null,null,null,0,null,"","","","","",{"$f":"MIN(IF($C$7:$C$46=C43,$R$7:$R$46,\"\"))","v":0},"","","",""]
[null,null,null,null,null,null,0,0,null,null,null,0,null,"","","","","",{"$f":"MIN(IF($C$7:$C$46=C44,$R$7:$R$46,\"\"))","v":0},"","","",""]
[null,null,null,null,null,null,0,0,null,null,null,0,null,"","","","","",{"$f":"MIN(IF($C$7:$C$46=C45,$R$7:$R$46,\"\"))","v":0},"","","",""]
[null,null,null,null,null,null,0,0,null,null,null,0,null,"","","","","",{"$f":"MIN(IF($C$7:$C$46=C46,$R$7:$R$46,\"\"))","v":0},"","","",""]
[]
[]
[]
[]
[]
[]
[]
[]
[]
[]
[]
[]
[]
[]
[]
[]
[]
[]
[]
[]
[]
[]
[]
[]
[]
[]
[]
[]
[]
[]
[]
[]
[]
[]
[]
[]
[]
[]
[]
[]
[]
[]
[]
[]
[]
[]
[]
[]
[]
[]
[]
[]
[]
[null,null,null,null,null,null,null,null,null,null,null,null,"Finished"]
[null,null,null,null,null,null,null,null,null,null,null,null,"Disqualified"]

{"sheet":"4 x 50 Obs Relay Women","index":19,"n_rows":101,"n_cols":23,"rows_kept":101,"cut":false,"hidden":false,"merged":[[4,3,4,4],[4,6,4,7],[4,8,4,10]]}
[]
[null,"Women's",null,"4 x 50 Obs"]
[]
[]
["A University(Boolean)","Club Name","Club Code","ID code",null,"Entry Time(Seconds)","Entry Time",null,"Time",null,null,"Time(seconds)","Finish Status","Times and  DQs","Rank","Competition\n Place","Squad List","Rank For \nSquads Members","Top Finisher for there Uni","Top finisher Select Competitor for ranking","Squad \nPoints","Uni Finishers","Student \nPoints"]
[null,null,null,null,null,null,"Mins","Seconds","Mins","Seconds","1/100"]
[1,"University of London Union",16,"S","F",185,{"$f":"INT(F7/60)","v":3},{"$f":"MOD(F7,60)","v":5},3,1,7,{"$f":"I7*60+J7+K7/100","v":181.07},"Finished",{"$f":"IF(M7=\"Disqualified\",M7,IF(M7=\"Finished\",IF(L7<=0,\"\",L7),\"\"))","v":181.07},{"$f":"IF(OR(N7=\"Disqualified\",N7=\"\"),\"\",RANK(N7,$N$7:$N$46,1))","v":9},{"$f":"IF(M7=\"Disqualified\",MAX($O$7:$O$46)+1,O7)","v":9},{"$f":"IF(D7=\"S\",P7,\"\")","v":9},{"$f":"IF(Q7=\"\",\"\",RANK(Q7,$Q$7:$Q$46,1))","v":9},{"$f":"MIN(IF($C$7:$C$46=C7,$R$7:$R$46,\"\"))","v":9},{"$f":"IF(S7=R7,S7,\"\")","v":9},{"$f":"IF(T7=\"\",\"\",RANK(T7,$T$7:$T$46,1))","v":9},{"$f":"IF(A7=1,U7,\"\")","v":9},{"$f":"IF(V7=\"\",\"\",RANK(V7,$V$7:$V$46,1))","v":9}]
[1,"University of Birmingham",14,"S","F",168,{"$f":"INT(F8/60)","v":2},{"$f":"MOD(F8,60)","v":48},2,45,12,{"$f":"I8*60+J8+K8/100","v":165.12},"Finished",{"$f":"IF(M8=\"Disqualified\",M8,IF(M8=\"Finished\",IF(L8<=0,\"\",L8),\"\"))","v":165.12},{"$f":"IF(OR(N8=\"Disqualified\",N8=\"\"),\"\",RANK(N8,$N$7:$N$46,1))","v":6},{"$f":"IF(M8=\"Disqualified\",MAX($O$7:$O$46)+1,O8)","v":6},{"$f":"IF(D8=\"S\",P8,\"\")","v":6},{"$f":"IF(Q8=\"\",\"\",RANK(Q8,$Q$7:$Q$46,1))","v":6},{"$f":"MIN(IF($C$7:$C$46=C8,$R$7:$R$46,\"\"))","v":6},{"$f":"IF(S8=R8,S8,\"\")","v":6},{"$f":"IF(T8=\"\",\"\",RANK(T8,$T$7:$T$46,1))","v":6},6,{"$f":"IF(V8=\"\",\"\",RANK(V8,$V$7:$V$46,1))","v":6}]
[1,"University of Plymouth",9,"S","F",160,2,40,2,42,20,162.19999999999999,"Finished",162.19999999999999,5,5,5,5,{"$f":"MIN(IF($C$7:$C$46=C9,$R$7:$R$46,\"\"))","v":5},5,5,5,5]
[1,"Swansea Universities Lifesaving",21,"S","F",150,2,30,2,21,36,141.36000000000001,"Finished",141.36000000000001,1,1,1,1,{"$f":"MIN(IF($C$7:$C$46=C10,$R$7:$R$46,\"\"))","v":1},1,1,1,1]
[1,"Loughborough University",7,"S","F",140,2,20,2,33,41,153.41,"Finished",153.41,3,3,3,3,{"$f":"MIN(IF($C$7:$C$46=C11,$R$7:$R$46,\"\"))","v":3},3,3,3,3]
[1,"University of Southampton",20,"S","F",145,2,25,2,23,3,143.03,"Finished",143.03,2,2,2,2,{"$f":"MIN(IF($C$7:$C$46=C12,$R$7:$R$46,\"\"))","v":2},2,2,2,2]
[1,"University of Nottingham",8,"S","F",158,2,38,2,37,54,157.54,"Finished",157.54,4,4,4,4,{"$f":"MIN(IF($C$7:$C$46=C13,$R$7:$R$46,\"\"))","v":4},4,4,4,4]
[1,"University of St Andrews",11,"S","F",164,2,44,3,0,26,180.26,"Finished",180.26,8,8,8,8,{"$f":"MIN(IF($C$7:$C$46=C14,$R$7:$R$46,\"\"))","v":8},8,8,8,8]
[1,"University of Warwick",12,"S","F",171,2,51,2,50,28,170.28,"Finished",170.28,7,7,7,7,{"$f":"MIN(IF($C$7:$C$46=C15,$R$7:$R$46,\"\"))","v":7},7,7,7,7]
[1,"Oxbridge Squad",48,"I","F",195,3,15,3,11,82,191.82,"Finished",191.82,10,10,"","",{"$f":"MIN(IF($C$7:$C$46=C16,$R$7:$R$46,\"\"))","v":0},"","","",""]
[null,null,null,null,null,null,0,0,null,null,null,0,null,"","","","","",{"$f":"MIN(IF($C$7:$C$46=C17,$R$7:$R$46,\"\"))","v":0},"","","",""]
[null,null,null,null,null,null,0,0,null,null,null,0,null,"","","","","",{"$f":"MIN(IF($C$7:$C$46=C18,$R$7:$R$46,\"\"))","v":0},"","","",""]
[null,null,null,null,null,null,0,0,null,null,null,0,null,"","","","","",{"$f":"MIN(IF($C$7:$C$46=C19,$R$7:$R$46,\"\"))","v":0},"","","",""]
[null,null,null,null,null,null,0,0,null,null,null,0,null,"","","","","",{"$f":"MIN(IF($C$7:$C$46=C20,$R$7:$R$46,\"\"))","v":0},"","","",""]
[null,null,null,null,null,null,0,0,null,null,null,0,null,"","","","","",{"$f":"MIN(IF($C$7:$C$46=C21,$R$7:$R$46,\"\"))","v":0},"","","",""]
[null,null,null,null,null,null,0,0,null,null,null,0,null,"","","","","",{"$f":"MIN(IF($C$7:$C$46=C22,$R$7:$R$46,\"\"))","v":0},"","","",""]
[null,null,null,null,null,null,0,0,null,null,null,0,null,"","","","","",{"$f":"MIN(IF($C$7:$C$46=C23,$R$7:$R$46,\"\"))","v":0},"","","",""]
[null,null,null,null,null,null,0,0,null,null,null,0,null,"","","","","",{"$f":"MIN(IF($C$7:$C$46=C24,$R$7:$R$46,\"\"))","v":0},"","","",""]
[null,null,null,null,null,null,0,0,null,null,null,0,null,"","","","","",{"$f":"MIN(IF($C$7:$C$46=C25,$R$7:$R$46,\"\"))","v":0},"","","",""]
[null,null,null,null,null,null,0,0,null,null,null,0,null,"","","","","",{"$f":"MIN(IF($C$7:$C$46=C26,$R$7:$R$46,\"\"))","v":0},"","","",""]
[null,null,null,null,null,null,0,0,null,null,null,0,null,"","","","","",{"$f":"MIN(IF($C$7:$C$46=C27,$R$7:$R$46,\"\"))","v":0},"","","",""]
[null,null,null,null,null,null,0,0,null,null,null,0,null,"","","","","",{"$f":"MIN(IF($C$7:$C$46=C28,$R$7:$R$46,\"\"))","v":0},"","","",""]
[null,null,null,null,null,null,0,0,null,null,null,0,null,"","","","","",{"$f":"MIN(IF($C$7:$C$46=C29,$R$7:$R$46,\"\"))","v":0},"","","",""]
[null,null,null,null,null,null,0,0,null,null,null,0,null,"","","","","",{"$f":"MIN(IF($C$7:$C$46=C30,$R$7:$R$46,\"\"))","v":0},"","","",""]
[null,null,null,null,null,null,0,0,null,null,null,0,null,"","","","","",{"$f":"MIN(IF($C$7:$C$46=C31,$R$7:$R$46,\"\"))","v":0},"","","",""]
[null,null,1,null,null,null,0,0,null,null,null,0,null,"","","","","",{"$f":"MIN(IF($C$7:$C$46=C32,$R$7:$R$46,\"\"))","v":0},"","","",""]
[null,null,null,null,null,null,0,0,null,null,null,0,null,"","","","","",{"$f":"MIN(IF($C$7:$C$46=C33,$R$7:$R$46,\"\"))","v":0},"","","",""]
[null,null,null,null,null,null,0,0,null,null,null,0,null,"","","","","",{"$f":"MIN(IF($C$7:$C$46=C34,$R$7:$R$46,\"\"))","v":0},"","","",""]
[null,null,null,null,null,null,0,0,null,null,null,0,null,"","","","","",{"$f":"MIN(IF($C$7:$C$46=C35,$R$7:$R$46,\"\"))","v":0},"","","",""]
[null,null,null,null,null,null,0,0,null,null,null,0,null,"","","","","",{"$f":"MIN(IF($C$7:$C$46=C36,$R$7:$R$46,\"\"))","v":0},"","","",""]
[null,null,null,null,null,null,0,0,null,null,null,0,null,"","","","","",{"$f":"MIN(IF($C$7:$C$46=C37,$R$7:$R$46,\"\"))","v":0},"","","",""]
[null,null,null,null,null,null,0,0,null,null,null,0,null,"","","","","",{"$f":"MIN(IF($C$7:$C$46=C38,$R$7:$R$46,\"\"))","v":0},"","","",""]
[null,null,null,null,null,null,0,0,null,null,null,0,null,"","","","","",{"$f":"MIN(IF($C$7:$C$46=C39,$R$7:$R$46,\"\"))","v":0},"","","",""]
[null,null,null,null,null,null,0,0,null,null,null,0,null,"","","","","",{"$f":"MIN(IF($C$7:$C$46=C40,$R$7:$R$46,\"\"))","v":0},"","","",""]
[null,null,null,null,null,null,0,0,null,null,null,0,null,"","","","","",{"$f":"MIN(IF($C$7:$C$46=C41,$R$7:$R$46,\"\"))","v":0},"","","",""]
[null,null,null,null,null,null,0,0,null,null,null,0,null,"","","","","",{"$f":"MIN(IF($C$7:$C$46=C42,$R$7:$R$46,\"\"))","v":0},"","","",""]
[null,null,null,null,null,null,0,0,null,null,null,0,null,"","","","","",{"$f":"MIN(IF($C$7:$C$46=C43,$R$7:$R$46,\"\"))","v":0},"","","",""]
[null,null,null,null,null,null,0,0,null,null,null,0,null,"","","","","",{"$f":"MIN(IF($C$7:$C$46=C44,$R$7:$R$46,\"\"))","v":0},"","","",""]
[null,null,null,null,null,null,0,0,null,null,null,0,null,"","","","","",{"$f":"MIN(IF($C$7:$C$46=C45,$R$7:$R$46,\"\"))","v":0},"","","",""]
[null,null,null,null,null,null,0,0,null,null,null,0,null,"","","","","",{"$f":"MIN(IF($C$7:$C$46=C46,$R$7:$R$46,\"\"))","v":0},"","","",""]
[]
[]
[]
[]
[]
[]
[]
[]
[]
[]
[]
[]
[]
[]
[]
[]
[]
[]
[]
[]
[]
[]
[]
[]
[]
[]
[]
[]
[]
[]
[]
[]
[]
[]
[]
[]
[]
[]
[]
[]
[]
[]
[]
[]
[]
[]
[]
[]
[]
[]
[]
[]
[]
[null,null,null,null,null,null,null,null,null,null,null,null,"Finished"]
[null,null,null,null,null,null,null,null,null,null,null,null,"Disqualified"]

{"sheet":"4 x 50 medley Relay Men","index":20,"n_rows":101,"n_cols":23,"rows_kept":101,"cut":false,"hidden":false,"merged":[[4,3,4,4],[4,6,4,7],[4,8,4,10]]}
[]
[null,"Men's",null,"4 x 50 Rescue Relay"]
[]
[]
["A University(Boolean)","Club Name","Club Code","ID code",null,"Entry Time(Seconds)","Entry Time",null,"Time",null,null,"Time(seconds)","Finish \nStatus","Times and  DQs","Rank","Competition\n Place","Squad List","Rank For \nSquads Members","Top Finisher for there Uni","Top finisher Select Competitor for ranking","Squad\n Points","Uni Finishers","Student\n Points"]
[null,null,null,null,null,null,"Mins","Seconds","Mins","Seconds","1/100"]
[1,"University of St Andrews",11,"S","M",135,{"$f":"INT(F7/60)","v":2},{"$f":"MOD(F7,60)","v":15},2,10,89,{"$f":"I7*60+J7+K7/100","v":130.88999999999999},"Finished",{"$f":"IF(M7=\"Disqualified\",M7,IF(M7=\"Finished\",IF(L7<=0,\"\",L7),\"\"))","v":130.88999999999999},{"$f":"IF(OR(N7=\"Disqualified\",N7=\"\"),\"\",RANK(N7,$N$7:$N$46,1))","v":9},{"$f":"IF(M7=\"Disqualified\",MAX($O$7:$O$46)+1,O7)","v":9},{"$f":"IF(D7=\"S\",P7,\"\")","v":9},{"$f":"IF(Q7=\"\",\"\",RANK(Q7,$Q$7:$Q$46,1))","v":7},{"$f":"MIN(IF($C$7:$C$46=C7,$R$7:$R$46,\"\"))","v":7},{"$f":"IF(S7=R7,S7,\"\")","v":7},{"$f":"IF(T7=\"\",\"\",RANK(T7,$T$7:$T$46,1))","v":7},{"$f":"IF(A7=1,U7,\"\")","v":7},{"$f":"IF(V7=\"\",\"\",RANK(V7,$V$7:$V$46,1))","v":7}]
[1,"University of Birmingham",14,"S","M",132,{"$f":"INT(F8/60)","v":2},{"$f":"MOD(F8,60)","v":12},2,22,48,{"$f":"I8*60+J8+K8/100","v":142.47999999999999},"Finished",{"$f":"IF(M8=\"Disqualified\",M8,IF(M8=\"Finished\",IF(L8<=0,\"\",L8),\"\"))","v":142.47999999999999},{"$f":"IF(OR(N8=\"Disqualified\",N8=\"\"),\"\",RANK(N8,$N$7:$N$46,1))","v":12},{"$f":"IF(M8=\"Disqualified\",MAX($O$7:$O$46)+1,O8)","v":12},{"$f":"IF(D8=\"S\",P8,\"\")","v":12},{"$f":"IF(Q8=\"\",\"\",RANK(Q8,$Q$7:$Q$46,1))","v":10},{"$f":"MIN(IF($C$7:$C$46=C8,$R$7:$R$46,\"\"))","v":10},{"$f":"IF(S8=R8,S8,\"\")","v":10},{"$f":"IF(T8=\"\",\"\",RANK(T8,$T$7:$T$46,1))","v":10},10,{"$f":"IF(V8=\"\",\"\",RANK(V8,$V$7:$V$46,1))","v":10}]
[1,"University of London Union",16,"S","M",125,2,5,2,7,76,127.76,"Finished",127.76,8,8,8,6,{"$f":"MIN(IF($C$7:$C$46=C9,$R$7:$R$46,\"\"))","v":6},6,6,6,6]
[1,"University of Nottingham",8,"S","M",135,2,15,2,11,12,131.12,"Finished",131.12,10,10,10,8,{"$f":"MIN(IF($C$7:$C$46=C10,$R$7:$R$46,\"\"))","v":8},8,8,8,8]
[1,"University of Oxford",18,"S","M",140,2,20,2,12,89,132.88999999999999,"Finished",132.88999999999999,11,11,11,9,{"$f":"MIN(IF($C$7:$C$46=C11,$R$7:$R$46,\"\"))","v":9},9,9,9,9]
[1,"University of Plymouth",9,"S","M",120,2,0,2,1,34,121.34,"Finished",121.34,6,6,6,4,{"$f":"MIN(IF($C$7:$C$46=C12,$R$7:$R$46,\"\"))","v":4},4,4,4,4]
[1,"Loughborough University",7,"S","M",110,1,50,1,44,73,104.73,"Finished",104.73,1,1,1,1,{"$f":"MIN(IF($C$7:$C$46=C13,$R$7:$R$46,\"\"))","v":1},1,1,1,1]
[1,"Loughborough University",7,"I","K",106,1,46,1,46,18,106.18,"Finished",106.18,2,2,"","",{"$f":"MIN(IF($C$7:$C$46=C14,$R$7:$R$46,\"\"))","v":1},"","","",""]
[1,"Swansea Universities Lifesaving",21,"S","M",107,1,47,1,53,97,113.97,"Finished",113.97,4,4,4,2,{"$f":"MIN(IF($C$7:$C$46=C15,$R$7:$R$46,\"\"))","v":2},2,2,2,2]
[1,"University of Southampton",20,"S","M",110,1,50,1,54,73,114.73,"Finished",114.73,5,5,5,3,{"$f":"MIN(IF($C$7:$C$46=C16,$R$7:$R$46,\"\"))","v":3},3,3,3,3]
[1,"University of Warwick",12,"S","M",120,2,0,2,3,84,123.84,"Finished",123.84,7,7,7,5,{"$f":"MIN(IF($C$7:$C$46=C17,$R$7:$R$46,\"\"))","v":5},5,5,5,5]
[null,"Black Mamba",null,"I","M",null,0,0,1,52,56,112.56,"Finished",112.56,3,3,"","",{"$f":"MIN(IF($C$7:$C$46=C18,$R$7:$R$46,\"\"))","v":0},"","","",""]
[null,null,null,null,null,null,0,0,null,null,null,0,null,"","","","","",{"$f":"MIN(IF($C$7:$C$46=C19,$R$7:$R$46,\"\"))","v":0},"","","",""]
[null,null,null,null,null,null,0,0,null,null,null,0,null,"","","","","",{"$f":"MIN(IF($C$7:$C$46=C20,$R$7:$R$46,\"\"))","v":0},"","","",""]
[null,null,null,null,null,null,0,0,null,null,null,0,null,"","","","","",{"$f":"MIN(IF($C$7:$C$46=C21,$R$7:$R$46,\"\"))","v":0},"","","",""]
[null,null,null,null,null,null,0,0,null,null,null,0,null,"","","","","",{"$f":"MIN(IF($C$7:$C$46=C22,$R$7:$R$46,\"\"))","v":0},"","","",""]
[null,null,null,null,null,null,0,0,null,null,null,0,null,"","","","","",{"$f":"MIN(IF($C$7:$C$46=C23,$R$7:$R$46,\"\"))","v":0},"","","",""]
[null,null,null,null,null,null,0,0,null,null,null,0,null,"","","","","",{"$f":"MIN(IF($C$7:$C$46=C24,$R$7:$R$46,\"\"))","v":0},"","","",""]
[null,null,null,null,null,null,0,0,null,null,null,0,null,"","","","","",{"$f":"MIN(IF($C$7:$C$46=C25,$R$7:$R$46,\"\"))","v":0},"","","",""]
[null,null,null,null,null,null,0,0,null,null,null,0,null,"","","","","",{"$f":"MIN(IF($C$7:$C$46=C26,$R$7:$R$46,\"\"))","v":0},"","","",""]
[null,null,null,null,null,null,0,0,null,null,null,0,null,"","","","","",{"$f":"MIN(IF($C$7:$C$46=C27,$R$7:$R$46,\"\"))","v":0},"","","",""]
[null,null,null,null,null,null,0,0,null,null,null,0,null,"","","","","",{"$f":"MIN(IF($C$7:$C$46=C28,$R$7:$R$46,\"\"))","v":0},"","","",""]
[null,null,null,null,null,null,0,0,null,null,null,0,null,"","","","","",{"$f":"MIN(IF($C$7:$C$46=C29,$R$7:$R$46,\"\"))","v":0},"","","",""]
[null,null,null,null,null,null,0,0,null,null,null,0,null,"","","","","",{"$f":"MIN(IF($C$7:$C$46=C30,$R$7:$R$46,\"\"))","v":0},"","","",""]
[null,null,null,null,null,null,0,0,null,null,null,0,null,"","","","","",{"$f":"MIN(IF($C$7:$C$46=C31,$R$7:$R$46,\"\"))","v":0},"","","",""]
[null,null,1,null,null,null,0,0,null,null,null,0,null,"","","","","",{"$f":"MIN(IF($C$7:$C$46=C32,$R$7:$R$46,\"\"))","v":0},"","","",""]
[null,null,null,null,null,null,0,0,null,null,null,0,null,"","","","","",{"$f":"MIN(IF($C$7:$C$46=C33,$R$7:$R$46,\"\"))","v":0},"","","",""]
[null,null,null,null,null,null,0,0,null,null,null,0,null,"","","","","",{"$f":"MIN(IF($C$7:$C$46=C34,$R$7:$R$46,\"\"))","v":0},"","","",""]
[null,null,null,null,null,null,0,0,null,null,null,0,null,"","","","","",{"$f":"MIN(IF($C$7:$C$46=C35,$R$7:$R$46,\"\"))","v":0},"","","",""]
[null,null,null,null,null,null,0,0,null,null,null,0,null,"","","","","",{"$f":"MIN(IF($C$7:$C$46=C36,$R$7:$R$46,\"\"))","v":0},"","","",""]
[null,null,null,null,null,null,0,0,null,null,null,0,null,"","","","","",{"$f":"MIN(IF($C$7:$C$46=C37,$R$7:$R$46,\"\"))","v":0},"","","",""]
[null,null,null,null,null,null,0,0,null,null,null,0,null,"","","","","",{"$f":"MIN(IF($C$7:$C$46=C38,$R$7:$R$46,\"\"))","v":0},"","","",""]
[null,null,null,null,null,null,0,0,null,null,null,0,null,"","","","","",{"$f":"MIN(IF($C$7:$C$46=C39,$R$7:$R$46,\"\"))","v":0},"","","",""]
[null,null,null,null,null,null,0,0,null,null,null,0,null,"","","","","",{"$f":"MIN(IF($C$7:$C$46=C40,$R$7:$R$46,\"\"))","v":0},"","","",""]
[null,null,null,null,null,null,0,0,null,null,null,0,null,"","","","","",{"$f":"MIN(IF($C$7:$C$46=C41,$R$7:$R$46,\"\"))","v":0},"","","",""]
[null,null,null,null,null,null,0,0,null,null,null,0,null,"","","","","",{"$f":"MIN(IF($C$7:$C$46=C42,$R$7:$R$46,\"\"))","v":0},"","","",""]
[null,null,null,null,null,null,0,0,null,null,null,0,null,"","","","","",{"$f":"MIN(IF($C$7:$C$46=C43,$R$7:$R$46,\"\"))","v":0},"","","",""]
[null,null,null,null,null,null,0,0,null,null,null,0,null,"","","","","",{"$f":"MIN(IF($C$7:$C$46=C44,$R$7:$R$46,\"\"))","v":0},"","","",""]
[null,null,null,null,null,null,0,0,null,null,null,0,null,"","","","","",{"$f":"MIN(IF($C$7:$C$46=C45,$R$7:$R$46,\"\"))","v":0},"","","",""]
[null,null,null,null,null,null,0,0,null,null,null,0,null,"","","","","",{"$f":"MIN(IF($C$7:$C$46=C46,$R$7:$R$46,\"\"))","v":0},"","","",""]
[]
[]
[]
[]
[]
[]
[]
[]
[]
[]
[]
[]
[]
[]
[]
[]
[]
[]
[]
[]
[]
[]
[]
[]
[]
[]
[]
[]
[]
[]
[]
[]
[]
[]
[]
[]
[]
[]
[]
[]
[]
[]
[]
[]
[]
[]
[]
[]
[]
[]
[]
[]
[]
[null,null,null,null,null,null,null,null,null,null,null,null,"Finished"]
[null,null,null,null,null,null,null,null,null,null,null,null,"Disqualified"]

{"sheet":"4 x 50 medley Relay Women","index":21,"n_rows":101,"n_cols":23,"rows_kept":101,"cut":false,"hidden":false,"merged":[[4,3,4,4],[4,6,4,7],[4,8,4,10]]}
[]
[null,"Women's",null,"4 x 50 Rescue Relay"]
[]
[]
["A University(Boolean)","Club Name","Club Code","ID code",null,"Entry Time(Seconds)","Entry Time",null,"Time",null,null,"Time(seconds)","Finish Status","Times and  DQs","Rank","Competition \nPlace","Squad List","Rank For\n Squads Members","Top Finisher for there Uni","Top finisher Select Competitor for ranking","Squad\n Points","Uni Finishers","Student \nPoints"]
[null,null,null,null,null,null,"Mins","Seconds","Mins","Seconds","1/100"]
[1,"University of St Andrews",11,"S","F",166,{"$f":"INT(F7/60)","v":2},{"$f":"MOD(F7,60)","v":46},2,45,8,{"$f":"I7*60+J7+K7/100","v":165.08},"Finished",{"$f":"IF(M7=\"Disqualified\",M7,IF(M7=\"Finished\",IF(L7<=0,\"\",L7),\"\"))","v":165.08},{"$f":"IF(OR(N7=\"Disqualified\",N7=\"\"),\"\",RANK(N7,$N$7:$N$46,1))","v":10},{"$f":"IF(M7=\"Disqualified\",MAX($O$7:$O$46)+1,O7)","v":10},{"$f":"IF(D7=\"S\",P7,\"\")","v":10},{"$f":"IF(Q7=\"\",\"\",RANK(Q7,$Q$7:$Q$46,1))","v":9},{"$f":"MIN(IF($C$7:$C$46=C7,$R$7:$R$46,\"\"))","v":9},{"$f":"IF(S7=R7,S7,\"\")","v":9},{"$f":"IF(T7=\"\",\"\",RANK(T7,$T$7:$T$46,1))","v":9},{"$f":"IF(A7=1,U7,\"\")","v":9},{"$f":"IF(V7=\"\",\"\",RANK(V7,$V$7:$V$46,1))","v":9}]
[1,"University of Plymouth",9,"S","F",160,{"$f":"INT(F8/60)","v":2},{"$f":"MOD(F8,60)","v":40},2,40,53,{"$f":"I8*60+J8+K8/100","v":160.53},"Finished",{"$f":"IF(M8=\"Disqualified\",M8,IF(M8=\"Finished\",IF(L8<=0,\"\",L8),\"\"))","v":160.53},{"$f":"IF(OR(N8=\"Disqualified\",N8=\"\"),\"\",RANK(N8,$N$7:$N$46,1))","v":9},{"$f":"IF(M8=\"Disqualified\",MAX($O$7:$O$46)+1,O8)","v":9},{"$f":"IF(D8=\"S\",P8,\"\")","v":9},{"$f":"IF(Q8=\"\",\"\",RANK(Q8,$Q$7:$Q$46,1))","v":8},{"$f":"MIN(IF($C$7:$C$46=C8,$R$7:$R$46,\"\"))","v":8},{"$f":"IF(S8=R8,S8,\"\")","v":8},{"$f":"IF(T8=\"\",\"\",RANK(T8,$T$7:$T$46,1))","v":8},8,{"$f":"IF(V8=\"\",\"\",RANK(V8,$V$7:$V$46,1))","v":8}]
[1,"University of Birmingham",14,"S","F",156,2,36,2,21,8,141.08000000000001,"Finished",141.08000000000001,4,4,4,4,{"$f":"MIN(IF($C$7:$C$46=C9,$R$7:$R$46,\"\"))","v":4},4,4,4,4]
[1,"Swansea Universities Lifesaving",21,"S","F",137,2,17,2,6,2,126.02,"Finished",126.02,1,1,1,1,{"$f":"MIN(IF($C$7:$C$46=C10,$R$7:$R$46,\"\"))","v":1},1,1,1,1]
[1,"Loughborough University",7,"S","F",120,2,0,2,9,63,129.63,"Finished",129.63,2,2,2,2,{"$f":"MIN(IF($C$7:$C$46=C11,$R$7:$R$46,\"\"))","v":2},2,2,2,2]
[1,"University of Southampton",20,"S","F",133,2,13,2,9,68,129.68,"Finished",129.68,3,3,3,3,{"$f":"MIN(IF($C$7:$C$46=C12,$R$7:$R$46,\"\"))","v":3},3,3,3,3]
[1,"University of Nottingham",8,"S","F",146,2,26,2,27,24,147.24,"Finished",147.24,5,5,5,5,{"$f":"MIN(IF($C$7:$C$46=C13,$R$7:$R$46,\"\"))","v":5},5,5,5,5]
[1,"University of Warwick",12,"S","F",157,2,37,2,29,88,149.88,"Finished",149.88,6,6,6,6,{"$f":"MIN(IF($C$7:$C$46=C14,$R$7:$R$46,\"\"))","v":6},6,6,6,6]
[1,"University of London Union",16,"S","F",160,2,40,2,33,94,153.94,"Finished",153.94,7,7,7,7,{"$f":"MIN(IF($C$7:$C$46=C15,$R$7:$R$46,\"\"))","v":7},7,7,7,7]
[1,"Oxbridge Squad",48,"I","F",185,3,5,2,40,21,160.21,"Finished",160.21,8,8,"","",{"$f":"MIN(IF($C$7:$C$46=C16,$R$7:$R$46,\"\"))","v":0},"","","",""]
[null,null,null,null,null,null,0,0,null,null,null,0,null,"","","","","",{"$f":"MIN(IF($C$7:$C$46=C17,$R$7:$R$46,\"\"))","v":0},"","","",""]
[null,null,null,null,null,null,0,0,null,null,null,0,null,"","","","","",{"$f":"MIN(IF($C$7:$C$46=C18,$R$7:$R$46,\"\"))","v":0},"","","",""]
[null,null,null,null,null,null,0,0,null,null,null,0,null,"","","","","",{"$f":"MIN(IF($C$7:$C$46=C19,$R$7:$R$46,\"\"))","v":0},"","","",""]
[null,null,null,null,null,null,0,0,null,null,null,0,null,"","","","","",{"$f":"MIN(IF($C$7:$C$46=C20,$R$7:$R$46,\"\"))","v":0},"","","",""]
[null,null,null,null,null,null,0,0,null,null,null,0,null,"","","","","",{"$f":"MIN(IF($C$7:$C$46=C21,$R$7:$R$46,\"\"))","v":0},"","","",""]
[null,null,null,null,null,null,0,0,null,null,null,0,null,"","","","","",{"$f":"MIN(IF($C$7:$C$46=C22,$R$7:$R$46,\"\"))","v":0},"","","",""]
[null,null,null,null,null,null,0,0,null,null,null,0,null,"","","","","",{"$f":"MIN(IF($C$7:$C$46=C23,$R$7:$R$46,\"\"))","v":0},"","","",""]
[null,null,null,null,null,null,0,0,null,null,null,0,null,"","","","","",{"$f":"MIN(IF($C$7:$C$46=C24,$R$7:$R$46,\"\"))","v":0},"","","",""]
[null,null,null,null,null,null,0,0,null,null,null,0,null,"","","","","",{"$f":"MIN(IF($C$7:$C$46=C25,$R$7:$R$46,\"\"))","v":0},"","","",""]
[null,null,null,null,null,null,0,0,null,null,null,0,null,"","","","","",{"$f":"MIN(IF($C$7:$C$46=C26,$R$7:$R$46,\"\"))","v":0},"","","",""]
[null,null,null,null,null,null,0,0,null,null,null,0,null,"","","","","",{"$f":"MIN(IF($C$7:$C$46=C27,$R$7:$R$46,\"\"))","v":0},"","","",""]
[null,null,null,null,null,null,0,0,null,null,null,0,null,"","","","","",{"$f":"MIN(IF($C$7:$C$46=C28,$R$7:$R$46,\"\"))","v":0},"","","",""]
[null,null,null,null,null,null,0,0,null,null,null,0,null,"","","","","",{"$f":"MIN(IF($C$7:$C$46=C29,$R$7:$R$46,\"\"))","v":0},"","","",""]
[null,null,null,null,null,null,0,0,null,null,null,0,null,"","","","","",{"$f":"MIN(IF($C$7:$C$46=C30,$R$7:$R$46,\"\"))","v":0},"","","",""]
[null,null,null,null,null,null,0,0,null,null,null,0,null,"","","","","",{"$f":"MIN(IF($C$7:$C$46=C31,$R$7:$R$46,\"\"))","v":0},"","","",""]
[null,null,1,null,null,null,0,0,null,null,null,0,null,"","","","","",{"$f":"MIN(IF($C$7:$C$46=C32,$R$7:$R$46,\"\"))","v":0},"","","",""]
[null,null,null,null,null,null,0,0,null,null,null,0,null,"","","","","",{"$f":"MIN(IF($C$7:$C$46=C33,$R$7:$R$46,\"\"))","v":0},"","","",""]
[null,null,null,null,null,null,0,0,null,null,null,0,null,"","","","","",{"$f":"MIN(IF($C$7:$C$46=C34,$R$7:$R$46,\"\"))","v":0},"","","",""]
[null,null,null,null,null,null,0,0,null,null,null,0,null,"","","","","",{"$f":"MIN(IF($C$7:$C$46=C35,$R$7:$R$46,\"\"))","v":0},"","","",""]
[null,null,null,null,null,null,0,0,null,null,null,0,null,"","","","","",{"$f":"MIN(IF($C$7:$C$46=C36,$R$7:$R$46,\"\"))","v":0},"","","",""]
[null,null,null,null,null,null,0,0,null,null,null,0,null,"","","","","",{"$f":"MIN(IF($C$7:$C$46=C37,$R$7:$R$46,\"\"))","v":0},"","","",""]
[null,null,null,null,null,null,0,0,null,null,null,0,null,"","","","","",{"$f":"MIN(IF($C$7:$C$46=C38,$R$7:$R$46,\"\"))","v":0},"","","",""]
[null,null,null,null,null,null,0,0,null,null,null,0,null,"","","","","",{"$f":"MIN(IF($C$7:$C$46=C39,$R$7:$R$46,\"\"))","v":0},"","","",""]
[null,null,null,null,null,null,0,0,null,null,null,0,null,"","","","","",{"$f":"MIN(IF($C$7:$C$46=C40,$R$7:$R$46,\"\"))","v":0},"","","",""]
[null,null,null,null,null,null,0,0,null,null,null,0,null,"","","","","",{"$f":"MIN(IF($C$7:$C$46=C41,$R$7:$R$46,\"\"))","v":0},"","","",""]
[null,null,null,null,null,null,0,0,null,null,null,0,null,"","","","","",{"$f":"MIN(IF($C$7:$C$46=C42,$R$7:$R$46,\"\"))","v":0},"","","",""]
[null,null,null,null,null,null,0,0,null,null,null,0,null,"","","","","",{"$f":"MIN(IF($C$7:$C$46=C43,$R$7:$R$46,\"\"))","v":0},"","","",""]
[null,null,null,null,null,null,0,0,null,null,null,0,null,"","","","","",{"$f":"MIN(IF($C$7:$C$46=C44,$R$7:$R$46,\"\"))","v":0},"","","",""]
[null,null,null,null,null,null,0,0,null,null,null,0,null,"","","","","",{"$f":"MIN(IF($C$7:$C$46=C45,$R$7:$R$46,\"\"))","v":0},"","","",""]
[null,null,null,null,null,null,0,0,null,null,null,0,null,"","","","","",{"$f":"MIN(IF($C$7:$C$46=C46,$R$7:$R$46,\"\"))","v":0},"","","",""]
[]
[]
[]
[]
[]
[]
[]
[]
[]
[]
[]
[]
[]
[]
[]
[]
[]
[]
[]
[]
[]
[]
[]
[]
[]
[]
[]
[]
[]
[]
[]
[]
[]
[]
[]
[]
[]
[]
[]
[]
[]
[]
[]
[]
[]
[]
[]
[]
[]
[]
[]
[]
[]
[null,null,null,null,null,null,null,null,null,null,null,null,"Finished"]
[null,null,null,null,null,null,null,null,null,null,null,null,"Disqualified"]

{"sheet":"4 x 25 Manikin Carry Relay Men","index":22,"n_rows":101,"n_cols":23,"rows_kept":101,"cut":false,"hidden":false,"merged":[[4,3,4,4],[4,6,4,7],[4,8,4,10]]}
[]
[null,"Men's",null,"4 x 25 Manikin carry"]
[]
[]
["A University(Boolean)","Club Name","Club Code","ID code",null,"Entry Time(Seconds)","Entry Time",null,"Time",null,null,"Time(seconds)","Finish\n Status","Times and  DQs","Rank","Competition \nPlace","Squad List","Rank For\n Squads Members","Top Finisher for there Uni","Top finisher Select Competitor for ranking","Squad \nPoints","Uni Finishers","Student \nPoints"]
[null,null,null,null,null,null,"Mins","Seconds","Mins","Seconds","1/100"]
[1,"University of Oxford",18,"S","M",135,{"$f":"INT(F7/60)","v":2},{"$f":"MOD(F7,60)","v":15},2,12,80,{"$f":"I7*60+J7+K7/100","v":132.80000000000001},"Finished",{"$f":"IF(M7=\"Disqualified\",M7,IF(M7=\"Finished\",IF(L7<=0,\"\",L7),\"\"))","v":132.80000000000001},{"$f":"IF(OR(N7=\"Disqualified\",N7=\"\"),\"\",RANK(N7,$N$7:$N$46,1))","v":7},{"$f":"IF(M7=\"Disqualified\",MAX($O$7:$O$46)+1,O7)","v":7},{"$f":"IF(D7=\"S\",P7,\"\")","v":7},{"$f":"IF(Q7=\"\",\"\",RANK(Q7,$Q$7:$Q$46,1))","v":6},{"$f":"MIN(IF($C$7:$C$46=C7,$R$7:$R$46,\"\"))","v":6},{"$f":"IF(S7=R7,S7,\"\")","v":6},{"$f":"IF(T7=\"\",\"\",RANK(T7,$T$7:$T$46,1))","v":6},{"$f":"IF(A7=1,U7,\"\")","v":6},{"$f":"IF(V7=\"\",\"\",RANK(V7,$V$7:$V$46,1))","v":6}]
[1,"University of London Union",16,"S","M",125,{"$f":"INT(F8/60)","v":2},{"$f":"MOD(F8,60)","v":5},2,2,3,{"$f":"I8*60+J8+K8/100","v":122.03},"Finished",{"$f":"IF(M8=\"Disqualified\",M8,IF(M8=\"Finished\",IF(L8<=0,\"\",L8),\"\"))","v":122.03},{"$f":"IF(OR(N8=\"Disqualified\",N8=\"\"),\"\",RANK(N8,$N$7:$N$46,1))","v":5},{"$f":"IF(M8=\"Disqualified\",MAX($O$7:$O$46)+1,O8)","v":5},{"$f":"IF(D8=\"S\",P8,\"\")","v":5},{"$f":"IF(Q8=\"\",\"\",RANK(Q8,$Q$7:$Q$46,1))","v":4},{"$f":"MIN(IF($C$7:$C$46=C8,$R$7:$R$46,\"\"))","v":4},{"$f":"IF(S8=R8,S8,\"\")","v":4},{"$f":"IF(T8=\"\",\"\",RANK(T8,$T$7:$T$46,1))","v":4},4,{"$f":"IF(V8=\"\",\"\",RANK(V8,$V$7:$V$46,1))","v":4}]
[1,"University of Nottingham",8,"S","M",124,2,4,2,9,51,129.51,"Finished",129.51,6,6,6,5,{"$f":"MIN(IF($C$7:$C$46=C9,$R$7:$R$46,\"\"))","v":5},5,5,5,5]
[1,"University of Plymouth",9,"S","M",130,2,10,2,22,88,142.88,"Finished",142.88,9,9,9,8,{"$f":"MIN(IF($C$7:$C$46=C10,$R$7:$R$46,\"\"))","v":8},8,8,8,8]
[1,"University of St Andrews",11,"S","M",140,2,20,2,21,68,141.68,"Finished",141.68,8,8,8,7,{"$f":"MIN(IF($C$7:$C$46=C11,$R$7:$R$46,\"\"))","v":7},7,7,7,7]
[1,"University of Birmingham",14,"S","M",108,1,48,1,47,93,107.93,"Finished",107.93,4,4,4,3,{"$f":"MIN(IF($C$7:$C$46=C12,$R$7:$R$46,\"\"))","v":3},3,3,3,3]
[1,"Loughborough University",7,"S","M",105,1,45,1,35,88,95.88,"Finished",95.88,2,2,2,1,{"$f":"MIN(IF($C$7:$C$46=C13,$R$7:$R$46,\"\"))","v":1},1,1,1,1]
[1,"Swansea Universities Lifesaving",21,"S","M",99,1,39,1,45,2,105.02,"Disqualified","Disqualified","",10,10,9,{"$f":"MIN(IF($C$7:$C$46=C14,$R$7:$R$46,\"\"))","v":9},9,9,9,9]
[1,"Loughborough University",7,"I","K",99,1,39,1,35,51,95.51,"Finished",95.51,1,1,"","",{"$f":"MIN(IF($C$7:$C$46=C15,$R$7:$R$46,\"\"))","v":1},"","","",""]
[1,"University of Southampton",20,"S","M",105,1,45,1,42,65,102.65,"Finished",102.65,3,3,3,2,{"$f":"MIN(IF($C$7:$C$46=C16,$R$7:$R$46,\"\"))","v":2},2,2,2,2]
[1,"University of Warwick",12,"S","M",113,1,53,1,49,89,109.89,"Disqualified","Disqualified","",10,10,9,{"$f":"MIN(IF($C$7:$C$46=C17,$R$7:$R$46,\"\"))","v":9},9,9,9,9]
[null,"Black Mamber",null,null,"K",null,0,0,1,32,87,92.87,"Disqualified","Disqualified","",10,"","",{"$f":"MIN(IF($C$7:$C$46=C18,$R$7:$R$46,\"\"))","v":0},"","","",""]
[null,null,null,null,null,null,0,0,null,null,null,0,null,"","","","","",{"$f":"MIN(IF($C$7:$C$46=C19,$R$7:$R$46,\"\"))","v":0},"","","",""]
[null,null,null,null,null,null,0,0,null,null,null,0,null,"","","","","",{"$f":"MIN(IF($C$7:$C$46=C20,$R$7:$R$46,\"\"))","v":0},"","","",""]
[null,null,null,null,null,null,0,0,null,null,null,0,null,"","","","","",{"$f":"MIN(IF($C$7:$C$46=C21,$R$7:$R$46,\"\"))","v":0},"","","",""]
[null,null,null,null,null,null,0,0,null,null,null,0,null,"","","","","",{"$f":"MIN(IF($C$7:$C$46=C22,$R$7:$R$46,\"\"))","v":0},"","","",""]
[null,null,null,null,null,null,0,0,null,null,null,0,null,"","","","","",{"$f":"MIN(IF($C$7:$C$46=C23,$R$7:$R$46,\"\"))","v":0},"","","",""]
[null,null,null,null,null,null,0,0,null,null,null,0,null,"","","","","",{"$f":"MIN(IF($C$7:$C$46=C24,$R$7:$R$46,\"\"))","v":0},"","","",""]
[null,null,null,null,null,null,0,0,null,null,null,0,null,"","","","","",{"$f":"MIN(IF($C$7:$C$46=C25,$R$7:$R$46,\"\"))","v":0},"","","",""]
[null,null,null,null,null,null,0,0,null,null,null,0,null,"","","","","",{"$f":"MIN(IF($C$7:$C$46=C26,$R$7:$R$46,\"\"))","v":0},"","","",""]
[null,null,null,null,null,null,0,0,null,null,null,0,null,"","","","","",{"$f":"MIN(IF($C$7:$C$46=C27,$R$7:$R$46,\"\"))","v":0},"","","",""]
[null,null,null,null,null,null,0,0,null,null,null,0,null,"","","","","",{"$f":"MIN(IF($C$7:$C$46=C28,$R$7:$R$46,\"\"))","v":0},"","","",""]
[null,null,null,null,null,null,0,0,null,null,null,0,null,"","","","","",{"$f":"MIN(IF($C$7:$C$46=C29,$R$7:$R$46,\"\"))","v":0},"","","",""]
[null,null,null,null,null,null,0,0,null,null,null,0,null,"","","","","",{"$f":"MIN(IF($C$7:$C$46=C30,$R$7:$R$46,\"\"))","v":0},"","","",""]
[null,null,null,null,null,null,0,0,null,null,null,0,null,"","","","","",{"$f":"MIN(IF($C$7:$C$46=C31,$R$7:$R$46,\"\"))","v":0},"","","",""]
[null,null,1,null,null,null,0,0,null,null,null,0,null,"","","","","",{"$f":"MIN(IF($C$7:$C$46=C32,$R$7:$R$46,\"\"))","v":0},"","","",""]
[null,null,null,null,null,null,0,0,null,null,null,0,null,"","","","","",{"$f":"MIN(IF($C$7:$C$46=C33,$R$7:$R$46,\"\"))","v":0},"","","",""]
[null,null,null,null,null,null,0,0,null,null,null,0,null,"","","","","",{"$f":"MIN(IF($C$7:$C$46=C34,$R$7:$R$46,\"\"))","v":0},"","","",""]
[null,null,null,null,null,null,0,0,null,null,null,0,null,"","","","","",{"$f":"MIN(IF($C$7:$C$46=C35,$R$7:$R$46,\"\"))","v":0},"","","",""]
[null,null,null,null,null,null,0,0,null,null,null,0,null,"","","","","",{"$f":"MIN(IF($C$7:$C$46=C36,$R$7:$R$46,\"\"))","v":0},"","","",""]
[null,null,null,null,null,null,0,0,null,null,null,0,null,"","","","","",{"$f":"MIN(IF($C$7:$C$46=C37,$R$7:$R$46,\"\"))","v":0},"","","",""]
[null,null,null,null,null,null,0,0,null,null,null,0,null,"","","","","",{"$f":"MIN(IF($C$7:$C$46=C38,$R$7:$R$46,\"\"))","v":0},"","","",""]
[null,null,null,null,null,null,0,0,null,null,null,0,null,"","","","","",{"$f":"MIN(IF($C$7:$C$46=C39,$R$7:$R$46,\"\"))","v":0},"","","",""]
[null,null,null,null,null,null,0,0,null,null,null,0,null,"","","","","",{"$f":"MIN(IF($C$7:$C$46=C40,$R$7:$R$46,\"\"))","v":0},"","","",""]
[null,null,null,null,null,null,0,0,null,null,null,0,null,"","","","","",{"$f":"MIN(IF($C$7:$C$46=C41,$R$7:$R$46,\"\"))","v":0},"","","",""]
[null,null,null,null,null,null,0,0,null,null,null,0,null,"","","","","",{"$f":"MIN(IF($C$7:$C$46=C42,$R$7:$R$46,\"\"))","v":0},"","","",""]
[null,null,null,null,null,null,0,0,null,null,null,0,null,"","","","","",{"$f":"MIN(IF($C$7:$C$46=C43,$R$7:$R$46,\"\"))","v":0},"","","",""]
[null,null,null,null,null,null,0,0,null,null,null,0,null,"","","","","",{"$f":"MIN(IF($C$7:$C$46=C44,$R$7:$R$46,\"\"))","v":0},"","","",""]
[null,null,null,null,null,null,0,0,null,null,null,0,null,"","","","","",{"$f":"MIN(IF($C$7:$C$46=C45,$R$7:$R$46,\"\"))","v":0},"","","",""]
[null,null,null,null,null,null,0,0,null,null,null,0,null,"","","","","",{"$f":"MIN(IF($C$7:$C$46=C46,$R$7:$R$46,\"\"))","v":0},"","","",""]
[]
[]
[]
[]
[]
[]
[]
[]
[]
[]
[]
[]
[]
[]
[]
[]
[]
[]
[]
[]
[]
[]
[]
[]
[]
[]
[]
[]
[]
[]
[]
[]
[]
[]
[]
[]
[]
[]
[]
[]
[]
[]
[]
[]
[]
[]
[]
[]
[]
[]
[]
[]
[]
[null,null,null,null,null,null,null,null,null,null,null,null,"Finished"]
[null,null,null,null,null,null,null,null,null,null,null,null,"Disqualified"]

{"sheet":"4 x 25 Manikin Carry Women","index":23,"n_rows":101,"n_cols":23,"rows_kept":101,"cut":false,"hidden":false,"merged":[[4,3,4,4],[4,6,4,7],[4,8,4,10]]}
[]
[null,"Women's",null,"4 x 25 Manikin carry"]
[]
[]
["A University(Boolean)","Club Name","Club Code","ID code",null,"Entry Time(Seconds)","Entry Time",null,"Time",null,null,"Time(seconds)","Finish \nStatus","Times and  DQs","Rank","Competition\n Place","Squad List","Rank For \nSquads Members","Top Finisher for there Uni","Top finisher Select Competitor for ranking","Squad \nPoints","Uni Finishers","Student \nPoints"]
[null,null,null,null,null,null,"Mins","Seconds","Mins","Seconds","1/100"]
[1,"University of Plymouth",9,"S","F",160,{"$f":"INT(F7/60)","v":2},{"$f":"MOD(F7,60)","v":40},2,38,43,{"$f":"I7*60+J7+K7/100","v":158.43},"Finished",{"$f":"IF(M7=\"Disqualified\",M7,IF(M7=\"Finished\",IF(L7<=0,\"\",L7),\"\"))","v":158.43},{"$f":"IF(OR(N7=\"Disqualified\",N7=\"\"),\"\",RANK(N7,$N$7:$N$46,1))","v":8},{"$f":"IF(M7=\"Disqualified\",MAX($O$7:$O$46)+1,O7)","v":8},{"$f":"IF(D7=\"S\",P7,\"\")","v":8},{"$f":"IF(Q7=\"\",\"\",RANK(Q7,$Q$7:$Q$46,1))","v":8},{"$f":"MIN(IF($C$7:$C$46=C7,$R$7:$R$46,\"\"))","v":8},{"$f":"IF(S7=R7,S7,\"\")","v":8},{"$f":"IF(T7=\"\",\"\",RANK(T7,$T$7:$T$46,1))","v":8},{"$f":"IF(A7=1,U7,\"\")","v":8},{"$f":"IF(V7=\"\",\"\",RANK(V7,$V$7:$V$46,1))","v":8}]
[1,"Swansea Universities Lifesaving",21,"S","F",152,{"$f":"INT(F8/60)","v":2},{"$f":"MOD(F8,60)","v":32},2,19,3,{"$f":"I8*60+J8+K8/100","v":139.03},"Finished",{"$f":"IF(M8=\"Disqualified\",M8,IF(M8=\"Finished\",IF(L8<=0,\"\",L8),\"\"))","v":139.03},{"$f":"IF(OR(N8=\"Disqualified\",N8=\"\"),\"\",RANK(N8,$N$7:$N$46,1))","v":6},{"$f":"IF(M8=\"Disqualified\",MAX($O$7:$O$46)+1,O8)","v":6},{"$f":"IF(D8=\"S\",P8,\"\")","v":6},{"$f":"IF(Q8=\"\",\"\",RANK(Q8,$Q$7:$Q$46,1))","v":6},{"$f":"MIN(IF($C$7:$C$46=C8,$R$7:$R$46,\"\"))","v":6},{"$f":"IF(S8=R8,S8,\"\")","v":6},{"$f":"IF(T8=\"\",\"\",RANK(T8,$T$7:$T$46,1))","v":6},6,{"$f":"IF(V8=\"\",\"\",RANK(V8,$V$7:$V$46,1))","v":6}]
[1,"University of Birmingham",14,"S","F",143,2,23,2,17,0,137,"Finished",137,4,4,4,4,{"$f":"MIN(IF($C$7:$C$46=C9,$R$7:$R$46,\"\"))","v":4},4,4,4,4]
[1,"University of Nottingham",8,"S","F",138,2,18,2,20,30,140.30000000000001,"Finished",140.30000000000001,7,7,7,7,{"$f":"MIN(IF($C$7:$C$46=C10,$R$7:$R$46,\"\"))","v":7},7,7,7,7]
[1,"Loughborough University",7,"S","F",130,2,10,2,4,6,124.06,"Finished",124.06,1,1,1,1,{"$f":"MIN(IF($C$7:$C$46=C11,$R$7:$R$46,\"\"))","v":1},1,1,1,1]
[1,"University of Southampton",20,"S","F",130,2,10,2,8,19,128.19,"Finished",128.19,2,2,2,2,{"$f":"MIN(IF($C$7:$C$46=C12,$R$7:$R$46,\"\"))","v":2},2,2,2,2]
[1,"University of Warwick",12,"S","F",138,2,18,2,15,40,135.4,"Finished",135.4,3,3,3,3,{"$f":"MIN(IF($C$7:$C$46=C13,$R$7:$R$46,\"\"))","v":3},3,3,3,3]
[1,"University of London Union",16,"S","F",148,2,28,2,18,65,138.65,"Finished",138.65,5,5,5,5,{"$f":"MIN(IF($C$7:$C$46=C14,$R$7:$R$46,\"\"))","v":5},5,5,5,5]
[1,"University of St Andrews",11,"S","F",152,2,32,2,45,18,165.18,"Finished",165.18,9,9,9,9,{"$f":"MIN(IF($C$7:$C$46=C15,$R$7:$R$46,\"\"))","v":9},9,9,9,9]
[1,"Oxbridge Squad",48,"I","F",195,3,15,2,19,37,139.37,"Disqualified","Disqualified","",10,"","",{"$f":"MIN(IF($C$7:$C$46=C16,$R$7:$R$46,\"\"))","v":0},"","","",""]
[null,null,null,null,null,null,0,0,null,null,null,0,null,"","","","","",{"$f":"MIN(IF($C$7:$C$46=C17,$R$7:$R$46,\"\"))","v":0},"","","",""]
[null,null,null,null,null,null,0,0,null,null,null,0,null,"","","","","",{"$f":"MIN(IF($C$7:$C$46=C18,$R$7:$R$46,\"\"))","v":0},"","","",""]
[null,null,null,null,null,null,0,0,null,null,null,0,null,"","","","","",{"$f":"MIN(IF($C$7:$C$46=C19,$R$7:$R$46,\"\"))","v":0},"","","",""]
[null,null,null,null,null,null,0,0,null,null,null,0,null,"","","","","",{"$f":"MIN(IF($C$7:$C$46=C20,$R$7:$R$46,\"\"))","v":0},"","","",""]
[null,null,null,null,null,null,0,0,null,null,null,0,null,"","","","","",{"$f":"MIN(IF($C$7:$C$46=C21,$R$7:$R$46,\"\"))","v":0},"","","",""]
[null,null,null,null,null,null,0,0,null,null,null,0,null,"","","","","",{"$f":"MIN(IF($C$7:$C$46=C22,$R$7:$R$46,\"\"))","v":0},"","","",""]
[null,null,null,null,null,null,0,0,null,null,null,0,null,"","","","","",{"$f":"MIN(IF($C$7:$C$46=C23,$R$7:$R$46,\"\"))","v":0},"","","",""]
[null,null,null,null,null,null,0,0,null,null,null,0,null,"","","","","",{"$f":"MIN(IF($C$7:$C$46=C24,$R$7:$R$46,\"\"))","v":0},"","","",""]
[null,null,null,null,null,null,0,0,null,null,null,0,null,"","","","","",{"$f":"MIN(IF($C$7:$C$46=C25,$R$7:$R$46,\"\"))","v":0},"","","",""]
[null,null,null,null,null,null,0,0,null,null,null,0,null,"","","","","",{"$f":"MIN(IF($C$7:$C$46=C26,$R$7:$R$46,\"\"))","v":0},"","","",""]
[null,null,null,null,null,null,0,0,null,null,null,0,null,"","","","","",{"$f":"MIN(IF($C$7:$C$46=C27,$R$7:$R$46,\"\"))","v":0},"","","",""]
[null,null,null,null,null,null,0,0,null,null,null,0,null,"","","","","",{"$f":"MIN(IF($C$7:$C$46=C28,$R$7:$R$46,\"\"))","v":0},"","","",""]
[null,null,null,null,null,null,0,0,null,null,null,0,null,"","","","","",{"$f":"MIN(IF($C$7:$C$46=C29,$R$7:$R$46,\"\"))","v":0},"","","",""]
[null,null,null,null,null,null,0,0,null,null,null,0,null,"","","","","",{"$f":"MIN(IF($C$7:$C$46=C30,$R$7:$R$46,\"\"))","v":0},"","","",""]
[null,null,null,null,null,null,0,0,null,null,null,0,null,"","","","","",{"$f":"MIN(IF($C$7:$C$46=C31,$R$7:$R$46,\"\"))","v":0},"","","",""]
[null,null,1,null,null,null,0,0,null,null,null,0,null,"","","","","",{"$f":"MIN(IF($C$7:$C$46=C32,$R$7:$R$46,\"\"))","v":0},"","","",""]
[null,null,null,null,null,null,0,0,null,null,null,0,null,"","","","","",{"$f":"MIN(IF($C$7:$C$46=C33,$R$7:$R$46,\"\"))","v":0},"","","",""]
[null,null,null,null,null,null,0,0,null,null,null,0,null,"","","","","",{"$f":"MIN(IF($C$7:$C$46=C34,$R$7:$R$46,\"\"))","v":0},"","","",""]
[null,null,null,null,null,null,0,0,null,null,null,0,null,"","","","","",{"$f":"MIN(IF($C$7:$C$46=C35,$R$7:$R$46,\"\"))","v":0},"","","",""]
[null,null,null,null,null,null,0,0,null,null,null,0,null,"","","","","",{"$f":"MIN(IF($C$7:$C$46=C36,$R$7:$R$46,\"\"))","v":0},"","","",""]
[null,null,null,null,null,null,0,0,null,null,null,0,null,"","","","","",{"$f":"MIN(IF($C$7:$C$46=C37,$R$7:$R$46,\"\"))","v":0},"","","",""]
[null,null,null,null,null,null,0,0,null,null,null,0,null,"","","","","",{"$f":"MIN(IF($C$7:$C$46=C38,$R$7:$R$46,\"\"))","v":0},"","","",""]
[null,null,null,null,null,null,0,0,null,null,null,0,null,"","","","","",{"$f":"MIN(IF($C$7:$C$46=C39,$R$7:$R$46,\"\"))","v":0},"","","",""]
[null,null,null,null,null,null,0,0,null,null,null,0,null,"","","","","",{"$f":"MIN(IF($C$7:$C$46=C40,$R$7:$R$46,\"\"))","v":0},"","","",""]
[null,null,null,null,null,null,0,0,null,null,null,0,null,"","","","","",{"$f":"MIN(IF($C$7:$C$46=C41,$R$7:$R$46,\"\"))","v":0},"","","",""]
[null,null,null,null,null,null,0,0,null,null,null,0,null,"","","","","",{"$f":"MIN(IF($C$7:$C$46=C42,$R$7:$R$46,\"\"))","v":0},"","","",""]
[null,null,null,null,null,null,0,0,null,null,null,0,null,"","","","","",{"$f":"MIN(IF($C$7:$C$46=C43,$R$7:$R$46,\"\"))","v":0},"","","",""]
[null,null,null,null,null,null,0,0,null,null,null,0,null,"","","","","",{"$f":"MIN(IF($C$7:$C$46=C44,$R$7:$R$46,\"\"))","v":0},"","","",""]
[null,null,null,null,null,null,0,0,null,null,null,0,null,"","","","","",{"$f":"MIN(IF($C$7:$C$46=C45,$R$7:$R$46,\"\"))","v":0},"","","",""]
[null,null,null,null,null,null,0,0,null,null,null,0,null,"","","","","",{"$f":"MIN(IF($C$7:$C$46=C46,$R$7:$R$46,\"\"))","v":0},"","","",""]
[]
[]
[]
[]
[]
[]
[]
[]
[]
[]
[]
[]
[]
[]
[]
[]
[]
[]
[]
[]
[]
[]
[]
[]
[]
[]
[]
[]
[]
[]
[]
[]
[]
[]
[]
[]
[]
[]
[]
[]
[]
[]
[]
[]
[]
[]
[]
[]
[]
[]
[]
[]
[]
[null,null,null,null,null,null,null,null,null,null,null,null,"Finished"]
[null,null,null,null,null,null,null,null,null,null,null,null,"Disqualified"]

{"sheet":"4 x 12m Line Throw Men","index":24,"n_rows":101,"n_cols":23,"rows_kept":101,"cut":false,"hidden":false,"merged":[[4,3,4,4],[4,6,4,7],[4,8,4,10]]}
[]
[null,"Men's",null,"4 x 12m Line Throw"]
[]
[]
["A University(Boolean)","Club Name","Club Code","ID code",null,"Entry Time(Seconds)","Entry Time",null,"Time",null,null,"Time(seconds)","Finish Status","Times and  DQs","Rank","Competition Place","Squad List","Rank For Squads Members","Top Finisher for there Uni","Top finisher Select Competitor for ranking","Squad Points","Uni Finishers","Student Points"]
[null,null,null,null,null,null,"Mins","Seconds","Mins","Seconds","1/100"]
[1,"University of St Andrews",11,"S","M",102,{"$f":"INT(F7/60)","v":1},{"$f":"MOD(F7,60)","v":42},2,30,0,{"$f":"I7*60+J7+K7/100","v":150},"Disqualified",{"$f":"IF(M7=\"Disqualified\",M7,IF(M7=\"Finished\",IF(L7<=0,\"\",L7),\"\"))","v":"Disqualified"},{"$f":"IF(OR(N7=\"Disqualified\",N7=\"\"),\"\",RANK(N7,$N$7:$N$46,1))","v":""},{"$f":"IF(M7=\"Disqualified\",MAX($O$7:$O$46)+1,O7)","v":9},{"$f":"IF(D7=\"S\",P7,\"\")","v":9},{"$f":"IF(Q7=\"\",\"\",RANK(Q7,$Q$7:$Q$46,1))","v":7},{"$f":"MIN(IF($C$7:$C$46=C7,$R$7:$R$46,\"\"))","v":7},{"$f":"IF(S7=R7,S7,\"\")","v":7},{"$f":"IF(T7=\"\",\"\",RANK(T7,$T$7:$T$46,1))","v":7},{"$f":"IF(A7=1,U7,\"\")","v":7},{"$f":"IF(V7=\"\",\"\",RANK(V7,$V$7:$V$46,1))","v":7}]
[1,"Loughborough University",7,"S","M",95,{"$f":"INT(F8/60)","v":1},{"$f":"MOD(F8,60)","v":35},2,30,0,{"$f":"I8*60+J8+K8/100","v":150},"Disqualified",{"$f":"IF(M8=\"Disqualified\",M8,IF(M8=\"Finished\",IF(L8<=0,\"\",L8),\"\"))","v":"Disqualified"},{"$f":"IF(OR(N8=\"Disqualified\",N8=\"\"),\"\",RANK(N8,$N$7:$N$46,1))","v":""},{"$f":"IF(M8=\"Disqualified\",MAX($O$7:$O$46)+1,O8)","v":9},{"$f":"IF(D8=\"S\",P8,\"\")","v":9},{"$f":"IF(Q8=\"\",\"\",RANK(Q8,$Q$7:$Q$46,1))","v":7},{"$f":"MIN(IF($C$7:$C$46=C8,$R$7:$R$46,\"\"))","v":7},{"$f":"IF(S8=R8,S8,\"\")","v":7},{"$f":"IF(T8=\"\",\"\",RANK(T8,$T$7:$T$46,1))","v":7},7,{"$f":"IF(V8=\"\",\"\",RANK(V8,$V$7:$V$46,1))","v":7}]
[1,"University of London Union",16,"S","M",85,1,25,2,4,47,124.47,"Finished",124.47,7,7,7,5,{"$f":"MIN(IF($C$7:$C$46=C9,$R$7:$R$46,\"\"))","v":5},5,5,5,5]
[1,"University of Nottingham",8,"S","M",99,1,39,1,32,42,92.42,"Finished",92.42,3,3,3,1,{"$f":"MIN(IF($C$7:$C$46=C10,$R$7:$R$46,\"\"))","v":1},1,1,1,1]
[1,"University of Oxford",18,"S","M",110,1,50,2,9,29,129.29,"Finished",129.29,8,8,8,6,{"$f":"MIN(IF($C$7:$C$46=C11,$R$7:$R$46,\"\"))","v":6},6,6,6,6]
[1,"University of Birmingham",14,"S","M",78,1,18,1,34,54,94.54,"Finished",94.54,4,4,4,2,{"$f":"MIN(IF($C$7:$C$46=C12,$R$7:$R$46,\"\"))","v":2},2,2,2,2]
[1,"University of Warwick",12,"S","M",75,1,15,2,30,0,150,"Disqualified","Disqualified","",9,9,7,{"$f":"MIN(IF($C$7:$C$46=C13,$R$7:$R$46,\"\"))","v":7},7,7,7,7]
[1,"University of Southampton",20,"S","M",70,1,10,1,13,0,73,"Disqualified","Disqualified","",9,9,7,{"$f":"MIN(IF($C$7:$C$46=C14,$R$7:$R$46,\"\"))","v":7},7,7,7,7]
[1,"Loughborough University",7,"I","K",75,1,15,1,20,87,80.87,"Finished",80.87,2,2,"","",{"$f":"MIN(IF($C$7:$C$46=C15,$R$7:$R$46,\"\"))","v":7},"","","",""]
[1,"Swansea Universities Lifesaving",21,"S","M",78,1,18,1,47,9,107.09,"Finished",107.09,6,6,6,4,{"$f":"MIN(IF($C$7:$C$46=C16,$R$7:$R$46,\"\"))","v":4},4,4,4,4]
[1,"University of Plymouth",9,"S","M",80,1,20,1,43,34,103.34,"Finished",103.34,5,5,5,3,{"$f":"MIN(IF($C$7:$C$46=C17,$R$7:$R$46,\"\"))","v":3},3,3,3,3]
[null,"Black Mamber",null,"I","K",null,0,0,1,17,65,77.650000000000006,"Finished",77.650000000000006,1,1,"","",{"$f":"MIN(IF($C$7:$C$46=C18,$R$7:$R$46,\"\"))","v":0},"","","",""]
[null,null,null,null,null,null,0,0,null,null,null,0,null,"","","","","",{"$f":"MIN(IF($C$7:$C$46=C19,$R$7:$R$46,\"\"))","v":0},"","","",""]
[null,null,null,null,null,null,0,0,null,null,null,0,null,"","","","","",{"$f":"MIN(IF($C$7:$C$46=C20,$R$7:$R$46,\"\"))","v":0},"","","",""]
[null,null,null,null,null,null,0,0,null,null,null,0,null,"","","","","",{"$f":"MIN(IF($C$7:$C$46=C21,$R$7:$R$46,\"\"))","v":0},"","","",""]
[null,null,null,null,null,null,0,0,null,null,null,0,null,"","","","","",{"$f":"MIN(IF($C$7:$C$46=C22,$R$7:$R$46,\"\"))","v":0},"","","",""]
[null,null,null,null,null,null,0,0,null,null,null,0,null,"","","","","",{"$f":"MIN(IF($C$7:$C$46=C23,$R$7:$R$46,\"\"))","v":0},"","","",""]
[null,null,null,null,null,null,0,0,null,null,null,0,null,"","","","","",{"$f":"MIN(IF($C$7:$C$46=C24,$R$7:$R$46,\"\"))","v":0},"","","",""]
[null,null,null,null,null,null,0,0,null,null,null,0,null,"","","","","",{"$f":"MIN(IF($C$7:$C$46=C25,$R$7:$R$46,\"\"))","v":0},"","","",""]
[null,null,null,null,null,null,0,0,null,null,null,0,null,"","","","","",{"$f":"MIN(IF($C$7:$C$46=C26,$R$7:$R$46,\"\"))","v":0},"","","",""]
[null,null,null,null,null,null,0,0,null,null,null,0,null,"","","","","",{"$f":"MIN(IF($C$7:$C$46=C27,$R$7:$R$46,\"\"))","v":0},"","","",""]
[null,null,null,null,null,null,0,0,null,null,null,0,null,"","","","","",{"$f":"MIN(IF($C$7:$C$46=C28,$R$7:$R$46,\"\"))","v":0},"","","",""]
[null,null,null,null,null,null,0,0,null,null,null,0,null,"","","","","",{"$f":"MIN(IF($C$7:$C$46=C29,$R$7:$R$46,\"\"))","v":0},"","","",""]
[null,null,null,null,null,null,0,0,null,null,null,0,null,"","","","","",{"$f":"MIN(IF($C$7:$C$46=C30,$R$7:$R$46,\"\"))","v":0},"","","",""]
[null,null,null,null,null,null,0,0,null,null,null,0,null,"","","","","",{"$f":"MIN(IF($C$7:$C$46=C31,$R$7:$R$46,\"\"))","v":0},"","","",""]
[null,null,1,null,null,null,0,0,null,null,null,0,null,"","","","","",{"$f":"MIN(IF($C$7:$C$46=C32,$R$7:$R$46,\"\"))","v":0},"","","",""]
[null,null,null,null,null,null,0,0,null,null,null,0,null,"","","","","",{"$f":"MIN(IF($C$7:$C$46=C33,$R$7:$R$46,\"\"))","v":0},"","","",""]
[null,null,null,null,null,null,0,0,null,null,null,0,null,"","","","","",{"$f":"MIN(IF($C$7:$C$46=C34,$R$7:$R$46,\"\"))","v":0},"","","",""]
[null,null,null,null,null,null,0,0,null,null,null,0,null,"","","","","",{"$f":"MIN(IF($C$7:$C$46=C35,$R$7:$R$46,\"\"))","v":0},"","","",""]
[null,null,null,null,null,null,0,0,null,null,null,0,null,"","","","","",{"$f":"MIN(IF($C$7:$C$46=C36,$R$7:$R$46,\"\"))","v":0},"","","",""]
[null,null,null,null,null,null,0,0,null,null,null,0,null,"","","","","",{"$f":"MIN(IF($C$7:$C$46=C37,$R$7:$R$46,\"\"))","v":0},"","","",""]
[null,null,null,null,null,null,0,0,null,null,null,0,null,"","","","","",{"$f":"MIN(IF($C$7:$C$46=C38,$R$7:$R$46,\"\"))","v":0},"","","",""]
[null,null,null,null,null,null,0,0,null,null,null,0,null,"","","","","",{"$f":"MIN(IF($C$7:$C$46=C39,$R$7:$R$46,\"\"))","v":0},"","","",""]
[null,null,null,null,null,null,0,0,null,null,null,0,null,"","","","","",{"$f":"MIN(IF($C$7:$C$46=C40,$R$7:$R$46,\"\"))","v":0},"","","",""]
[null,null,null,null,null,null,0,0,null,null,null,0,null,"","","","","",{"$f":"MIN(IF($C$7:$C$46=C41,$R$7:$R$46,\"\"))","v":0},"","","",""]
[null,null,null,null,null,null,0,0,null,null,null,0,null,"","","","","",{"$f":"MIN(IF($C$7:$C$46=C42,$R$7:$R$46,\"\"))","v":0},"","","",""]
[null,null,null,null,null,null,0,0,null,null,null,0,null,"","","","","",{"$f":"MIN(IF($C$7:$C$46=C43,$R$7:$R$46,\"\"))","v":0},"","","",""]
[null,null,null,null,null,null,0,0,null,null,null,0,null,"","","","","",{"$f":"MIN(IF($C$7:$C$46=C44,$R$7:$R$46,\"\"))","v":0},"","","",""]
[null,null,null,null,null,null,0,0,null,null,null,0,null,"","","","","",{"$f":"MIN(IF($C$7:$C$46=C45,$R$7:$R$46,\"\"))","v":0},"","","",""]
[null,null,null,null,null,null,0,0,null,null,null,0,null,"","","","","",{"$f":"MIN(IF($C$7:$C$46=C46,$R$7:$R$46,\"\"))","v":0},"","","",""]
[]
[]
[]
[]
[]
[]
[]
[]
[]
[]
[]
[]
[]
[]
[]
[]
[]
[]
[]
[]
[]
[]
[]
[]
[]
[]
[]
[]
[]
[]
[]
[]
[]
[]
[]
[]
[]
[]
[]
[]
[]
[]
[]
[]
[]
[]
[]
[]
[]
[]
[]
[]
[]
[null,null,null,null,null,null,null,null,null,null,null,null,"Finished"]
[null,null,null,null,null,null,null,null,null,null,null,null,"Disqualified"]

{"sheet":"4 x 12m Line Throw Women","index":25,"n_rows":101,"n_cols":23,"rows_kept":101,"cut":false,"hidden":false,"merged":[[4,3,4,4],[4,6,4,7],[4,8,4,10]]}
[]
[null,"Women's",null,"4 x 12m Line Throw"]
[]
[]
["A University(Boolean)","Club Name","Club Code","ID code",null,"Entry Time(Seconds)","Entry Time",null,"Time",null,null,"Time(seconds)","Finish Status","Times and  DQs","Rank","Competition Place","Squad List","Rank For Squads Members","Top Finisher for there Uni","Top finisher Select Competitor for ranking","Squad Points","Uni Finishers","Student Points"]
[null,null,null,null,null,null,"Mins","Seconds","Mins","Seconds","1/100"]
[1,"University of Southampton",20,"S","F",130,{"$f":"INT(F7/60)","v":2},{"$f":"MOD(F7,60)","v":10},2,7,18,{"$f":"I7*60+J7+K7/100","v":127.18},"Finished",{"$f":"IF(M7=\"Disqualified\",M7,IF(M7=\"Finished\",IF(L7<=0,\"\",L7),\"\"))","v":127.18},{"$f":"IF(OR(N7=\"Disqualified\",N7=\"\"),\"\",RANK(N7,$N$7:$N$46,1))","v":1},{"$f":"IF(M7=\"Disqualified\",MAX($O$7:$O$46)+1,O7)","v":1},{"$f":"IF(D7=\"S\",P7,\"\")","v":1},{"$f":"IF(Q7=\"\",\"\",RANK(Q7,$Q$7:$Q$46,1))","v":1},{"$f":"MIN(IF($C$7:$C$46=C7,$R$7:$R$46,\"\"))","v":1},{"$f":"IF(S7=R7,S7,\"\")","v":1},{"$f":"IF(T7=\"\",\"\",RANK(T7,$T$7:$T$46,1))","v":1},{"$f":"IF(A7=1,U7,\"\")","v":1},{"$f":"IF(V7=\"\",\"\",RANK(V7,$V$7:$V$46,1))","v":1}]
[1,"University of Nottingham",8,"S","F",119,{"$f":"INT(F8/60)","v":1},{"$f":"MOD(F8,60)","v":59},2,30,0,{"$f":"I8*60+J8+K8/100","v":150},"Disqualified",{"$f":"IF(M8=\"Disqualified\",M8,IF(M8=\"Finished\",IF(L8<=0,\"\",L8),\"\"))","v":"Disqualified"},{"$f":"IF(OR(N8=\"Disqualified\",N8=\"\"),\"\",RANK(N8,$N$7:$N$46,1))","v":""},{"$f":"IF(M8=\"Disqualified\",MAX($O$7:$O$46)+1,O8)","v":3},{"$f":"IF(D8=\"S\",P8,\"\")","v":3},{"$f":"IF(Q8=\"\",\"\",RANK(Q8,$Q$7:$Q$46,1))","v":3},{"$f":"MIN(IF($C$7:$C$46=C8,$R$7:$R$46,\"\"))","v":3},{"$f":"IF(S8=R8,S8,\"\")","v":3},{"$f":"IF(T8=\"\",\"\",RANK(T8,$T$7:$T$46,1))","v":3},{"$f":"IF(A8=1,U8,\"\")","v":3},{"$f":"IF(V8=\"\",\"\",RANK(V8,$V$7:$V$46,1))","v":3}]
[1,"University of Warwick",12,"S","F",105,1,45,2,30,0,150,"Disqualified","Disqualified","",3,3,3,{"$f":"MIN(IF($C$7:$C$46=C9,$R$7:$R$46,\"\"))","v":3},3,3,3,3]
[1,"University of London Union",16,"S","F",130,2,10,2,30,0,150,"Disqualified","Disqualified","",3,3,3,{"$f":"MIN(IF($C$7:$C$46=C10,$R$7:$R$46,\"\"))","v":3},3,3,3,3]
[1,"Oxbridge Squad",48,"I","F",0,0,0,2,30,0,150,"Disqualified","Disqualified","",3,"","",{"$f":"MIN(IF($C$7:$C$46=C11,$R$7:$R$46,\"\"))","v":0},"","","",""]
[1,"University of St Andrews",11,"S","F",102,1,42,2,30,0,150,"Disqualified","Disqualified","",3,3,3,{"$f":"MIN(IF($C$7:$C$46=C12,$R$7:$R$46,\"\"))","v":3},3,3,3,3]
[1,"Loughborough University",7,"S","F",100,1,40,2,25,39,145.38999999999999,"Finished",145.38999999999999,2,2,2,2,{"$f":"MIN(IF($C$7:$C$46=C13,$R$7:$R$46,\"\"))","v":2},2,2,2,2]
[1,"University of Plymouth",9,"S","F",100,1,40,2,30,0,150,"Disqualified","Disqualified","",3,3,3,{"$f":"MIN(IF($C$7:$C$46=C14,$R$7:$R$46,\"\"))","v":3},3,3,3,3]
[1,"University of Birmingham",14,"S","F",100,1,40,2,30,0,150,"Disqualified","Disqualified","",3,3,3,{"$f":"MIN(IF($C$7:$C$46=C15,$R$7:$R$46,\"\"))","v":3},3,3,3,3]
[1,"Swansea Universities Lifesaving",21,"S","F",105,1,45,null,null,null,0,"Disqualified","Disqualified","",3,3,3,{"$f":"MIN(IF($C$7:$C$46=C16,$R$7:$R$46,\"\"))","v":3},3,3,{"$f":"IF(A16=1,U16,\"\")","v":3},3]
[null,null,null,null,null,null,0,0,null,null,null,0,null,"","","","","",{"$f":"MIN(IF($C$7:$C$46=C17,$R$7:$R$46,\"\"))","v":0},"","","",""]
[null,null,null,null,null,null,0,0,null,null,null,0,null,"","","","","",{"$f":"MIN(IF($C$7:$C$46=C18,$R$7:$R$46,\"\"))","v":0},"","","",""]
[null,null,null,null,null,null,0,0,null,null,null,0,null,"","","","","",{"$f":"MIN(IF($C$7:$C$46=C19,$R$7:$R$46,\"\"))","v":0},"","","",""]
[null,null,null,null,null,null,0,0,null,null,null,0,null,"","","","","",{"$f":"MIN(IF($C$7:$C$46=C20,$R$7:$R$46,\"\"))","v":0},"","","",""]
[null,null,null,null,null,null,0,0,null,null,null,0,null,"","","","","",{"$f":"MIN(IF($C$7:$C$46=C21,$R$7:$R$46,\"\"))","v":0},"","","",""]
[null,null,null,null,null,null,0,0,null,null,null,0,null,"","","","","",{"$f":"MIN(IF($C$7:$C$46=C22,$R$7:$R$46,\"\"))","v":0},"","","",""]
[null,null,null,null,null,null,0,0,null,null,null,0,null,"","","","","",{"$f":"MIN(IF($C$7:$C$46=C23,$R$7:$R$46,\"\"))","v":0},"","","",""]
[null,null,null,null,null,null,0,0,null,null,null,0,null,"","","","","",{"$f":"MIN(IF($C$7:$C$46=C24,$R$7:$R$46,\"\"))","v":0},"","","",""]
[null,null,null,null,null,null,0,0,null,null,null,0,null,"","","","","",{"$f":"MIN(IF($C$7:$C$46=C25,$R$7:$R$46,\"\"))","v":0},"","","",""]
[null,null,null,null,null,null,0,0,null,null,null,0,null,"","","","","",{"$f":"MIN(IF($C$7:$C$46=C26,$R$7:$R$46,\"\"))","v":0},"","","",""]
[null,null,null,null,null,null,0,0,null,null,null,0,null,"","","","","",{"$f":"MIN(IF($C$7:$C$46=C27,$R$7:$R$46,\"\"))","v":0},"","","",""]
[null,null,null,null,null,null,0,0,null,null,null,0,null,"","","","","",{"$f":"MIN(IF($C$7:$C$46=C28,$R$7:$R$46,\"\"))","v":0},"","","",""]
[null,null,null,null,null,null,0,0,null,null,null,0,null,"","","","","",{"$f":"MIN(IF($C$7:$C$46=C29,$R$7:$R$46,\"\"))","v":0},"","","",""]
[null,null,null,null,null,null,0,0,null,null,null,0,null,"","","","","",{"$f":"MIN(IF($C$7:$C$46=C30,$R$7:$R$46,\"\"))","v":0},"","","",""]
[null,null,null,null,null,null,0,0,null,null,null,0,null,"","","","","",{"$f":"MIN(IF($C$7:$C$46=C31,$R$7:$R$46,\"\"))","v":0},"","","",""]
[null,null,null,null,null,null,0,0,null,null,null,0,null,"","","","","",{"$f":"MIN(IF($C$7:$C$46=C32,$R$7:$R$46,\"\"))","v":0},"","","",""]
[null,null,null,null,null,null,0,0,null,null,null,0,null,"","","","","",{"$f":"MIN(IF($C$7:$C$46=C33,$R$7:$R$46,\"\"))","v":0},"","","",""]
[null,null,null,null,null,null,0,0,null,null,null,0,null,"","","","","",{"$f":"MIN(IF($C$7:$C$46=C34,$R$7:$R$46,\"\"))","v":0},"","","",""]
[null,null,null,null,null,null,0,0,null,null,null,0,null,"","","","","",{"$f":"MIN(IF($C$7:$C$46=C35,$R$7:$R$46,\"\"))","v":0},"","","",""]
[null,null,null,null,null,null,0,0,null,null,null,0,null,"","","","","",{"$f":"MIN(IF($C$7:$C$46=C36,$R$7:$R$46,\"\"))","v":0},"","","",""]
[null,null,null,null,null,null,0,0,null,null,null,0,null,"","","","","",{"$f":"MIN(IF($C$7:$C$46=C37,$R$7:$R$46,\"\"))","v":0},"","","",""]
[null,null,null,null,null,null,0,0,null,null,null,0,null,"","","","","",{"$f":"MIN(IF($C$7:$C$46=C38,$R$7:$R$46,\"\"))","v":0},"","","",""]
[null,null,null,null,null,null,0,0,null,null,null,0,null,"","","","","",{"$f":"MIN(IF($C$7:$C$46=C39,$R$7:$R$46,\"\"))","v":0},"","","",""]
[null,null,null,null,null,null,0,0,null,null,null,0,null,"","","","","",{"$f":"MIN(IF($C$7:$C$46=C40,$R$7:$R$46,\"\"))","v":0},"","","",""]
[null,null,null,null,null,null,0,0,null,null,null,0,null,"","","","","",{"$f":"MIN(IF($C$7:$C$46=C41,$R$7:$R$46,\"\"))","v":0},"","","",""]
[null,null,null,null,null,null,0,0,null,null,null,0,null,"","","","","",{"$f":"MIN(IF($C$7:$C$46=C42,$R$7:$R$46,\"\"))","v":0},"","","",""]
[null,null,null,null,null,null,0,0,null,null,null,0,null,"","","","","",{"$f":"MIN(IF($C$7:$C$46=C43,$R$7:$R$46,\"\"))","v":0},"","","",""]
[null,null,null,null,null,null,0,0,null,null,null,0,null,"","","","","",{"$f":"MIN(IF($C$7:$C$46=C44,$R$7:$R$46,\"\"))","v":0},"","","",""]
[null,null,null,null,null,null,0,0,null,null,null,0,null,"","","","","",{"$f":"MIN(IF($C$7:$C$46=C45,$R$7:$R$46,\"\"))","v":0},"","","",""]
[null,null,null,null,null,null,0,0,null,null,null,0,null,"","","","","",{"$f":"MIN(IF($C$7:$C$46=C46,$R$7:$R$46,\"\"))","v":0},"","","",""]
[]
[]
[]
[]
[]
[]
[]
[]
[]
[]
[]
[]
[]
[]
[]
[]
[]
[]
[]
[]
[]
[]
[]
[]
[]
[]
[]
[]
[]
[]
[]
[]
[]
[]
[]
[]
[]
[]
[]
[]
[]
[]
[]
[]
[]
[]
[]
[]
[]
[]
[]
[]
[]
[null,null,null,null,null,null,null,null,null,null,null,null,"Finished"]
[null,null,null,null,null,null,null,null,null,null,null,null,"Disqualified"]