{"text_format":"1","workbook":"xlsx","n_sheets":58,"sheets":["Version History","detail","DQ codes","Help Sheet for Results Pages","Combined Overalls","Overall Student Only","Overall Non-Student Only","Overall","50m Manikin Carry Men","6x50m Free Women","6x50m Free Men","6x50m Obs Men","6x50m Obs Women","50m Obs Men","50m Obs Women","4 x 25 Obs Relay Women","4 x 25 Obs Relay Men","50m Manikin Tow Women","50m Manikin Tow Men","100m Super Men","100m Super Women","50m Rescue Women","50m Rescue Men","50m Manikin Carry Women Fin","50m Manikin Carry Men Fin","25m Manikin Carry Men","25m Manikin Carry Women","50m Manikin Carry Women","100m Manikin Carry Men","100m Manikin Carry Women","100m Manikin Tow Men","100m Manikin Tow Women","100m Obs Men","200m Obs Men","100m Obs Women","200m Obs Women","200m Super Men","200m Super Women","100 Resue Men","100 Resue Women","Line Throw Men","Line Throw Women","4 x 12.5m Manikin Relay Men","4 x 50 Obs Relay Men","4 x 50 Obs Relay Women","4 x 12.5 Manikin Relay Women","4 x 25  medley Relay Men","4 x 50 medley Relay Men","4 x 25 Medley Relay Women","4 x 50 medley Relay Women","4 x 25 Manikin Carry Relay Men","4 x 25 Manikin Carry Women","Line Throw Relay Men","Line Throw Relay Women","RLSS_Sports_League_Set_UP","Import1","Import4","Data for points"],"not_rendered":{"charts":0,"images":0,"macros":1,"external_links":0,"defined_names":30,"comments":0,"pivot_tables":0},"unopened":[],"bounds":{"document_bytes":16777216,"sheet_cells":100000,"rows_first":2000,"rows_last":500,"rows_between":2000,"halvings":0,"cell_chars":16384,"cell_head_chars":4096},"cells_cut":0,"cells_raw":0,"read":"whole","date_system":"1900"}

{"sheet":"Version History","index":0,"n_rows":92,"n_cols":3,"rows_kept":92,"cut":false,"hidden":false,"merged":[]}
[]
[]
[null,null,"Version History"]
[]
[null,null,"Version 0.1"]
[null,null,"\nDate: June 2010"]
[null,null,"Status: Created Filtering system and created totals tables for Men. Distributed to experience BULSCA to review the process,\n linked field to those found in the BUSLCA online entry system."]
[null,null,"Written By: Oliver Coleman"]
[]
[null,null,"Version 0.2"]
[null,null,"\nDate: June2010"]
[]
[null,null,"Problem / Change Request: Sheet now provides calculation for all the Men's and Women's Speed, including the Student only finishing Positions\nAlso now has cell protection turned on\nHeadings formatted"]
[null,null,"\nStatus: Ready for realse for testing"]
[null,null,"Amended By: Oliver Coleman"]
[]
[null,null,"Version 1"]
[null,null,"\nDate: June2010"]
[]
[null,null,"Problem / Change Request: Format  so cells are readable"]
[null,null,"\nStatus: Ready "]
[null,null,"Amended By: Oliver Coleman"]
[]
[null,null,"Version 1.1"]
[null,null,"\nDate: Oct 2011"]
[]
[null,null,"Problem / Change Request: IF 2 People finish joint last for a squad it is only counted once,  still may have an error if joint in a different position. Manual must check that"]
[null,null,"\nStatus: Ready "]
[null,null,"Amended By: Oliver Coleman"]
[]
[null,null,"Version 2"]
[null,null,"\nDate: Aug 2012"]
[]
[null,null,"Problem / Change Request: To highlight those that have come 1st, 2nd 3rd. To save on highlighting. Requested by Liz Ferris assistant scorer Champ 2012.   Highlighting individual clubs has been added too."]
[null,null,"\nStatus: Ready "]
[null,null,"Amended By: Oliver Coleman"]
[]
[null,null,"Version 2.2"]
[null,null,"\nDate: Aug 2012"]
[]
[null,null,"Problem / Change Request: RLSS have lauch an Online Sport League, names for Relays added as well as code to produce an XML ouput for the RLSS."]
[null,null,"\nStatus: Ready "]
[null,null,"Amended By: Oliver Coleman"]
[]
[null,null,"Version 3"]
[null,null,"\nDate: Jan 2012"]
[]
[null,null,"Problem / Change Request: A new award has been added to the Championships one for only non-student teams, similar to that taken by students. Tabs and Colums added to calculate this"]
[null,null,"\nStatus: Ready "]
[null,null,"Amended By: Oliver Coleman"]
[null,null,"Version 3.1"]
[null,null,"\nDate: Jan 2012"]
[]
[null,null,"Problem / Change Request: Added score for every event with 1000 being the current student record, this meanign tiems by male and femnales or in different evnts could be compared.  In addtion student records are now marked with a UR and highlighted in pink."]
[]
[null,null,"Problem / Change Request: Survie and Save sport Status requested for each result. To allow student to relise they are compettive and may concider entering RLSS  speeds"]
[]
[null,null,"Problem / Change Request: RLSS Uk DQ codes added to the recorded information"]
[null,null,"\nStatus: Ready "]
[null,null,"Amended By: Oliver Coleman"]
[]
[null,null,"Version 3.2"]
[null,null,"\nDate: Aug 2013"]
[]
[null,null,"Problem / Change Request: Seconds and 100th now have leading zeros"]
[]
[]
[]
[]
[null,null,"\nStatus: Ready "]
[null,null,"Amended By: Oliver Coleman"]
[]
[null,null,"Version 3.4"]
[null,null,"\nDate: Dec 2013"]
[]
[null,null,"Problem / Change Request: Short Course Speed deistance as expanded to use for RLSS UK comps"]
[]
[]
[]
[]
[null,null,"\nStatus: Ready "]
[null,null,"Amended By: Oliver Coleman"]
[null,null,"Version 3.5"]
[null,null,"\nDate: Jan 14"]
[]
[null,null,"Problem / Change Request: Minnor alteration to S&S codes and timming for short course found whilst scoring in scotland"]
[]
[]
[]
[]
[null,null,"\nStatus: Ready "]
[null,null,"Amended By: Oliver Coleman"]

{"sheet":"detail","index":1,"n_rows":16,"n_cols":1,"rows_kept":16,"cut":false,"hidden":false,"merged":[]}
[]
["what the Colours Mean"]
[]
["Is a postion for the scorers to enter information"]
["Dead Areas"]
["Colums that are entered before and then hidden"]
["Colums that are entered before and then locked"]
["Calculated Columms to be hidden"]
["Calculated Colums to be viewed"]
[]
[]
[]
["Always check that the transfer of positions to front sheets has been done correctly"]
[]
[]
["A manual scan of the results should be completed"]

{"sheet":"DQ codes","index":2,"n_rows":62,"n_cols":2,"rows_kept":62,"cut":false,"hidden":false,"merged":[]}
[]
["End of Race Options"]
[]
["Finished","Completed race has not been disqualified"]
["DNS","Did not Start"]
["DNF","Did not Finish"]
["DQ1","Not completing the event in accordance with the event description or general rules."]
["DQ2","A competitor or team may be disqualified if a competitor, team or handler is deemed to have competed unfairly.  Examples of \"competing unfairly\" include: \n committing a doping or doping-related infraction\nimpersonating another competitor\n attempting to defeat the ballot or draw for events or positions\ncompeting twice in the same individual event\nreceiving physical or material outside assistance (other than verbal or other direction)\n jostling or obstructing another competitor handler so as to impede his progress\npurposely interfering with a course to gain advantage\n competing twice in the same event in different teams"]
["DQ3","Competitors may not be permitted to start in an event if they are late reporting to the marshalling area."]
["DQ4","A competitor or team absent from the start of an event shall be disqualified except for the A- or B-final."]
["DQ5","Activities that result in wilful damage to the venue sites, accommodation sites or the property of others will result in disqualification of the individuals involved from competition."]
["DQ6","Abuse of officials may result in disqualification from the competition."]
["DQ7","Using sticky, tacky or adhesive substances (liquid, solid or aerosol) on hands or feet, or on the manikin or rescue tube to improve grip or push of the bottom of the pool."]
["DQ8","Competitors shall not take assistance from the pool bottom except where specifically allowed (e.g., Obstacle Swim, 4 x 25 m Manikin Relay)."]
["DQ9","All competitors who start (i.e., commence a starting motion) before the starting signal has been given shall be disqualified."]
["DQ10","Passing over an obstacle without immediately returning over or under that obstacle and then passing under it."]
["DQ11","Failure to surface after the dive entry or after a turn."]
["DQ12","Failure to surface after each obstacle."]
["DQ13","Failure to touch the wall during the turn."]
["DQ14","Failure to touch the finish edge."]
["DQ15","Not surfacing before diving to the manikin."]
["DQ16","Taking assistance from any pool fitting (e.g., lane rope, steps, drains or underwater hockey fittings) when surfacing with the manikin - not including the bottom of the pool."]
["DQ17","Not having the manikin in the correct carrying position before the top of the manikin's head passes the 5 m line."]
["DQ18","Using an incorrect carrying technique (as described in 2.3 Manikins).\n pushing, instead of carrying, the manikin \ncarrying the manikin by throat, or on the mouth or nose\n"]
["DQ19","Not maintaining the manikin's mouth or nose above the surface (2.3 Manikins)."]
["DQ20","Releasing the manikin before touching the finish edge."]
["DQ21","Surfacing after turning and before lifting the manikin."]
["DQ22","Breathing after the feet leave the turning edge and before surfacing with the manikin."]
["DQ23","Not having the manikin in the correct carrying position before the top of the manikin's head passes the 10 m line (100 m Manikin Carry with Fins)."]
["DQ24","Taking assistance from any pool fitting (e.g., lane rope, steps, underwater hockey fittings) when fixing the rescue tube around the manikin."]
["DQ25","Manikin handler positioning the manikin incorrectly or making contact with the manikin after the competitor has touched the turning edge."]
["DQ26","At 50 m / 150 m, not touching the pool edge before touching manikin."]
["DQ27","Manikin handler not releasing the manikin immediately after the competitor has touched the turning edge."]
["DQ28","Manikin handler pushing the manikin towards the competitor or the finish edge."]
["DQ29","Manikin handler intentionally entering the water during the event, or entering the water and interfering with the performance of another competitor or interfering with the judging of the event."]
["DQ30","Incorrect securing of the rescue tube around the manikin (i.e., not around body and under both arms and clipped to an O-ring)."]
["DQ31","Not securing the rescue tube around the manikin within the 5 m pick-up zone (judged at the top of the manikin's head)."]
["DQ32","Pushing or carrying, instead of towing, the manikin."]
["DQ33","The line of the rescue tube not becoming fully extended before the top of the manikin's head passes the 10 m line."]
["DQ34","Not towing the manikin with the line of the rescue tube fully extended beyond the 10 m line."]
["DQ35","The rescue tube and manikin become separated after the rescue tube has been secured correctly around the manikin."]
["DQ36","Touching the finish edge without the rescue tube and manikin in place."]
["DQ37","Releasing the manikin before touching the turn edge or finish edge."]
["DQ38","One competitor repeating two or more legs of the event."]
["DQ39","Leaving the start before the previous competitor has touched the edge."]
["DQ40","The manikin changing hands:\n• Before or beyond the designated changeover zone\n• Before the second competitor touches the pool edge\n• Without the third competitor in touch with the pool edge\n"]
["DQ41","Releasing the manikin before the next competitor has grasped it (i.e., one had of each competitor must be in contact with the manikin)."]
["DQ42","The second and third competitors starting before first and second competitors respectively touch the turning edge."]
["DQ43","The fourth competitor touching the rescue tube harness, line or any part of the rescue tube before the third competitor touches the turning edge."]
["DQ44","The fourth competitor leaving the turning edge before the third competitor touches the wall."]
["DQ45","The victim holding the rescue tube by the rope or clip."]
["DQ46","The victim helping with arm movements, or not holding the rescue tube with both hands."]
["DQ47","The victim losing the rescue tube after crossing the 5 m line."]
["DQ48","The fourth competitor towing the victim without the line of the rescue tube fully extended."]
["DQ49","A competitor re-entering the water after completing his or her leg of the relay."]
["DQ50","The victim's hand moving from the designated mark on the crossbar before touching the throw line."]
["DQ51","Line thrower exiting the throw zone (as judged by both feet) at any time after the start and before the 45-second completion signal."]
["DQ52","Victim grasping the throw line when it falls outside the lane."]
["DQ53","Victim not on his or her front while being pulled to the finish edge."]
["DQ54","Victim not holding the throw line with both hands while being pulled to the finish edge (victim may release the line with one hand for the sole purpose of touching the wall)."]
["DQ55","Victim \"climbing\" the throw line hand-over-hand."]
["DQ56","Victim leaving the water before the 45-second completion signal.Note: Failure to get the victim to the finish edge before the 45-second completion signal shall be designated a DNF, not a DQ."]

{"sheet":"Help Sheet for Results Pages","index":3,"n_rows":52,"n_cols":8,"rows_kept":52,"cut":false,"hidden":true,"merged":[[9,0,9,2],[7,0,7,2],[10,0,10,2],[11,0,11,2],[18,0,18,1],[8,0,8,2],[13,0,13,7],[7,3,7,7],[8,3,8,7],[9,3,9,7],[10,3,10,7],[11,3,11,7],[24,2,24,7],[20,0,20,1],[12,0,12,2],[19,2,19,7],[18,2,18,7],[16,0,16,7],[21,0,21,1],[22,0,22,1],[23,0,23,1],[24,0,24,1],[19,0,19,1],[12,3,12,7],[20,2,20,7],[21,2,21,7],[22,2,22,7],[23,2,23,7]]}
["Speeds Results Sheet Explained"]
["You will notice that next to your Results there are serveral colums each fo those is explained below."]
[]
["Certificates are award for the top 3 in each event inc rope and relays.  (Open to everyone)"]
["Top female and top male squad are awarded medals separtely (Open to everyone)"]
["Top University overall squad wins the speed trophy and are awarded medals  (BULSCA affiliated)"]
[]
["Competition Places",null,null,"The Place you have finished in todays competition"]
["Lifesaving Points",null,null,"This compares your time to the University record \nat the start of the Championships. A score of 1000 means you equalled the record. Other scores are calculated using the % change between your time and the record. This will allow you to compare different event or even between genders"]
["Survie and Save Status",null,null,"As part of the Survive & Save award scheme each event has been given target times needed to achieve different grades. This shows the grade that you have achieved. Details of what they mean, and the times required, are listed below, and can also be found in the Survive & Save Instructors' guide."]
["Squad Points",null,null,"The fastest member of each squad scores points for their Club this is how many points they have scored"]
["Student Points",null,null,"Same as squad point but only comparing BULSCA Affliated clubs"]
["Non-Student Points",null,null,"The same as 'Squad points', but only comparing results for non-BULSCA-affiliated clubs against each other."]
["The DQ are listed with their repective RLSS DQ code to help you understand why you were disqualified"]
["S&S"]
[]
["Each event has been given a set of times in the new awards scehme. Below is what they mean. We have calculated the Relay results too for you. These are based on averages from the last few years"]
[]
["Elite",null,"Should make the world A final. I.E top 8 in the world"]
["Champion",null,"Should get a medal at RLSS speeds  i.e top 3 in the country"]
["Excellent",null,"Shouldamke top 10 at RLSS Speeds  i.e top 10 in the UK"]
["Very Good",null,"Should make top 20 at RLSS Speeds"]
["Good",null,"Should make top 30 at RLSS Speeds"]
["Fair",null,"Should make top 40 at RLSS Speeds"]
["Pass",null,"You can Complete the event without stoping"]
["Time needed to achive each level"]
[]
["Mens","Elite","Champion","Excellent","Very Good","Good","Fair","Pass"]
["50m Manikin Carry","0 min 30.86","0 min 37.63","0 min 40.1","0 min 41.27","0 min 42.57","0 min 44.14","1 min 20"]
["100m Carry with Fins","0 min 50.23","1 min 0.57","1 min 6.56","1 min 9.37","1 min 13.2","1 min 15.33","2 min 0"]
["100m tow with fins","0 min 55.21","1 min 2.4","1 min 7.18","1 min 9.86","1 min 11.69","1 min 14.78","2 min 0"]
["200m Obs","1 min 56.16","2 min 17.41","2 min 25.33","2 min 34.52","2 min 45.27","2 min 49.86","5 min 0"]
["200 Super","2 min 11.37","2 min 39.53","3 min 1.58","3 min 15.17","3 min 21.97","4 min 0","5 min 0"]
["100 rescue","1 min 3.04","1 min 16.89","1 min 23.71","1 min 28.08","1 min 35.01","1 min 39.27","2 min 45"]
["Line Throw","0 min 9.6","0 min 10.4","0 min 12.2","0 min 13.96","0 min 18.66","0 min 22.53","0 min 30"]
["4 x 50 obs ","1 min 46.48","1 min 54.19","2 min 3.09","2 min 15.05","2 min 26.43","2 min 35","5 min 0"]
["4 x 50 medley ","1 min 37.5","1 min 46.19","1 min 55.46","2 min 13.92","2 min 25","2 min 35","5 min 0"]
["4 x 25 Manikin Carry Relay","1 min 16.54","1 min 31.62","1 min 45.11","2 min 4.69","2 min 20","2 min 35","5 min 0"]
["4 x 12m Line Throw ","0 min 53.85","1 min 6.35","1 min 28.6","1 min 45.45","2 min 0","2 min 15","2 min 30"]
[]
["Womens","Elite","Champion","Excellent","Very Good","Good","Fair","Pass"]
["50m Manikin Carry","0 min 36.24","0 min 45.18","0 min 50.26","0 min 52.13","0 min 53.67","0 min 54.96","1 min 20"]
["100m Carry with Fins","0 min 57.87","1 min 31.86","1 min 20.13","1 min 23.73","1 min 30.54","1 min 30.88","2 min 0"]
["100m tow with fins","1 min 2.56","1 min 12.33","1 min 18.55","1 min 21.99","1 min 24.69","1 min 27.26","2 min 0"]
["200m Obs","2 min 8.91","2 min 29.33","2 min 52.45","2 min 58.14","3 min 2.8","3 min 5.28","5 min 0"]
["200 Super","2 min 31.42","2 min 59.32","3 min 23.38","3 min 31.19","3 min 52.4","4 min 15","5 min 0"]
["100 rescue","1 min 14.2","1 min 33.56","1 min 50.01","1 min 59.68","2 min 10.07","2 min 20","2 min 45"]
["Line Throw","0 min 12.07","0 min 13.36","0 min 16","0 min 18.97","0 min 23","0 min 28.4","0 min 30"]
["4 x 50 obs ","2 min 1.24","2 min 16.65","2 min 27.29","2 min 38.93","2 min 45","2 min 55","5 min 0"]
["4 x 50 medley ","1 min 50.22","2 min 4.58","2 min 18.07","2 min 32.89","2 min 45","2 min 55","5 min 0"]
["4 x 25 Manikin Carry Relay","1 min 36.43","1 min 56.74","2 min 12.19","2 min 25.88","2 min 40","2 min 55","5 min 0"]
["4 x 12m Line Throw ","1 min 9.53","1 min 32.15","2 min 14.83","2 min 18","2 min 22","2 min 26","2 min 30"]

{"sheet":"Combined Overalls","index":4,"n_rows":34,"n_cols":8,"rows_kept":34,"cut":false,"hidden":true,"merged":[[0,2,0,4]]}
[null,"Overall All Clubs"]
[]
["Club Code","Club Name","men's Points","men's Position","Women's Points","Women's Position","Overall  Points","Overall  Positions"]
[null,null,{"$f":"Overall!AX5","v":""},{"$f":"Overall!AY5","v":""},{"$f":"Overall!AX40","v":""},{"$f":"Overall!AY40","v":""},{"$f":"IF(A4=\"\",\"\",C4+E4)","v":""},{"$f":"IF(B4=\"\",\"\",RANK(G4,$G$4:$G$34,1))","v":""}]
[null,null,{"$f":"Overall!AX6","v":""},{"$f":"Overall!AY6","v":""},{"$f":"Overall!AX41","v":""},{"$f":"Overall!AY41","v":""},"",""]
[null,null,{"$f":"Overall!AX7","v":""},{"$f":"Overall!AY7","v":""},{"$f":"Overall!AX42","v":""},{"$f":"Overall!AY42","v":""},"",""]
[null,null,{"$f":"Overall!AX8","v":""},{"$f":"Overall!AY8","v":""},{"$f":"Overall!AX43","v":""},{"$f":"Overall!AY43","v":""},"",""]
[null,null,{"$f":"Overall!AX9","v":""},{"$f":"Overall!AY9","v":""},{"$f":"Overall!AX44","v":""},{"$f":"Overall!AY44","v":""},"",""]
[null,null,{"$f":"Overall!AX10","v":""},{"$f":"Overall!AY10","v":""},{"$f":"Overall!AX45","v":""},{"$f":"Overall!AY45","v":""},"",""]
[null,null,{"$f":"Overall!AX11","v":""},{"$f":"Overall!AY11","v":""},{"$f":"Overall!AX46","v":""},{"$f":"Overall!AY46","v":""},"",""]
[null,null,{"$f":"Overall!AX12","v":""},{"$f":"Overall!AY12","v":""},{"$f":"Overall!AX47","v":""},{"$f":"Overall!AY47","v":""},"",""]
[null,null,{"$f":"Overall!AX13","v":""},{"$f":"Overall!AY13","v":""},{"$f":"Overall!AX48","v":""},{"$f":"Overall!AY48","v":""},"",""]
[null,null,{"$f":"Overall!AX14","v":""},{"$f":"Overall!AY14","v":""},{"$f":"Overall!AX49","v":""},{"$f":"Overall!AY49","v":""},"",""]
[null,null,{"$f":"Overall!AX15","v":""},{"$f":"Overall!AY15","v":""},{"$f":"Overall!AX50","v":""},{"$f":"Overall!AY50","v":""},"",""]
[null,null,{"$f":"Overall!AX16","v":""},{"$f":"Overall!AY16","v":""},{"$f":"Overall!AX51","v":""},{"$f":"Overall!AY51","v":""},"",""]
[null,null,{"$f":"Overall!AX17","v":""},{"$f":"Overall!AY17","v":""},{"$f":"Overall!AX52","v":""},{"$f":"Overall!AY52","v":""},"",""]
[null,null,{"$f":"Overall!AX18","v":""},{"$f":"Overall!AY18","v":""},{"$f":"Overall!AX53","v":""},{"$f":"Overall!AY53","v":""},"",""]
[null,null,{"$f":"Overall!AX19","v":""},{"$f":"Overall!AY19","v":""},{"$f":"Overall!AX54","v":""},{"$f":"Overall!AY54","v":""},"",""]
[null,null,{"$f":"Overall!AX20","v":""},{"$f":"Overall!AY20","v":""},{"$f":"Overall!AX55","v":""},{"$f":"Overall!AY55","v":""},"",""]
[null,null,{"$f":"Overall!AX21","v":""},{"$f":"Overall!AY21","v":""},{"$f":"Overall!AX56","v":""},{"$f":"Overall!AY56","v":""},{"$f":"IF(A20=\"\",\"\",C20+E20)","v":""},{"$f":"IF(B20=\"\",\"\",RANK(G20,$G$4:$G$34,1))","v":""}]
[null,null,{"$f":"Overall!AX22","v":""},{"$f":"Overall!AY22","v":""},{"$f":"Overall!AX57","v":""},{"$f":"Overall!AY57","v":""},"",""]
[null,null,{"$f":"Overall!AX23","v":""},{"$f":"Overall!AY23","v":""},{"$f":"Overall!AX58","v":""},{"$f":"Overall!AY58","v":""},"",""]
[null,null,{"$f":"Overall!AX24","v":""},{"$f":"Overall!AY24","v":""},{"$f":"Overall!AX59","v":""},{"$f":"Overall!AY59","v":""},"",""]
[null,null,{"$f":"Overall!AX25","v":""},{"$f":"Overall!AY25","v":""},{"$f":"Overall!AX60","v":""},{"$f":"Overall!AY60","v":""},"",""]
[null,null,{"$f":"Overall!AX26","v":""},{"$f":"Overall!AY26","v":""},{"$f":"Overall!AX61","v":""},{"$f":"Overall!AY61","v":""},"",""]
[null,null,{"$f":"Overall!AX27","v":""},{"$f":"Overall!AY27","v":""},{"$f":"Overall!AX62","v":""},{"$f":"Overall!AY62","v":""},"",""]
[null,null,{"$f":"Overall!AX28","v":""},{"$f":"Overall!AY28","v":""},{"$f":"Overall!AX63","v":""},{"$f":"Overall!AY63","v":""},"",""]
[null,null,{"$f":"Overall!AX29","v":""},{"$f":"Overall!AY29","v":""},{"$f":"Overall!AX64","v":""},{"$f":"Overall!AY64","v":""},"",""]
[null,null,{"$f":"Overall!AX30","v":""},{"$f":"Overall!AY30","v":""},{"$f":"Overall!AX65","v":""},{"$f":"Overall!AY65","v":""},"",""]
[null,null,{"$f":"Overall!AX31","v":""},{"$f":"Overall!AY31","v":""},{"$f":"Overall!AX66","v":""},{"$f":"Overall!AY66","v":""},"",""]
[null,null,{"$f":"Overall!AX32","v":""},{"$f":"Overall!AY32","v":""},{"$f":"Overall!AX67","v":""},{"$f":"Overall!AY67","v":""},"",""]
[null,null,{"$f":"Overall!AX33","v":""},{"$f":"Overall!AY33","v":""},{"$f":"Overall!AX68","v":""},{"$f":"Overall!AY68","v":""},"",""]
[null,null,{"$f":"Overall!AX34","v":""},{"$f":"Overall!AY34","v":""},{"$f":"Overall!AX69","v":""},{"$f":"Overall!AY69","v":""},"",""]
[null,null,{"$f":"Overall!AX35","v":""},{"$f":"Overall!AY35","v":""},{"$f":"Overall!AX70","v":""},{"$f":"Overall!AY70","v":""},"",""]

{"sheet":"Overall Student Only","index":5,"n_rows":104,"n_cols":15,"rows_kept":104,"cut":false,"hidden":true,"merged":[[0,4,0,5]]}
[null,"Overall Students",null,null,"Club to \nHighlight"]
[]
["Club Code","Club Name","Men's Points","Men's Position","Women's Points","Women's Position","Overall  Points","Overall  Positions"]
[null,null,{"$f":"N39","v":""},{"$f":"O39","v":""},{"$f":"N74","v":""},{"$f":"O74","v":""},{"$f":"IF(A4=\"\",\"\",C4+E4)","v":""},{"$f":"IF(B4=\"\",\"\",RANK(G4,$G$4:$G$34,1))","v":""}]
[null,null,"","","","","",""]
[null,null,"","","","","",""]
[null,null,"","","","","",""]
[null,null,"","","","","",""]
[null,null,"","","","","",""]
[null,null,"","","","","",""]
[null,null,"","","","","",""]
[null,null,"","","","","",""]
[null,null,"","","","","",""]
[null,null,"","","","","",""]
[null,null,"","","","","",""]
[null,null,"","","","","",""]
[null,null,"","","","","",""]
[null,null,"","","","","",""]
[null,null,"","","","","",""]
[null,null,"","","","","",""]
[null,null,"","","","","",""]
[null,null,"","","","","",""]
[null,null,"","","","","",""]
[null,null,"","","","","",""]
[null,null,"","","","","",""]
[null,null,"","","","","",""]
[null,null,"","","","","",""]
[null,null,"","","","","",""]
[null,null,"","","","","",""]
[null,null,"","","","","",""]
[null,null,"","","","","",""]
[null,null,"","","","","",""]
[null,null,{"$f":"N68","v":""},{"$f":"O68","v":""},{"$f":"N103","v":""},{"$f":"O103","v":""},{"$f":"IF(A33=\"\",\"\",C33+E33)","v":""},{"$f":"IF(B33=\"\",\"\",RANK(G33,$G$4:$G$34,1))","v":""}]
[null,null,"","","","","",""]
[]
[null,"Men's Students"]
[]
["Club Code","Club Name","50m Manikin Carry","100m Carry with Fins","100m tow with fins","200m Obs","200 Super","100 rescue","Line Throw","4 x 50 obs Relay","4 x 50 medley Relay","4 x 25 Manikin Carry Relay","4 x 12m Line Throw Relay","Totals","Position"]
[{"$f":"IF(A4=\"\",\"\",A4)","v":""},{"$f":"IF(B4=\"\",\"\",B4)","v":""},{"$f":"IF($A39=\"\",\"\",IF(IF(SUMIF('50m Manikin Carry Men'!$C$7:$C$46,$A39,'50m Manikin Carry Men'!$AC$7:$AC$46)=0,1+MAX('50m Manikin Carry Men'!$AC$7:$AC$46),SUMIF('50m Manikin Carry Men'!$C$7:$C$46,$A39,'50m Manikin Carry Men'!$AC$7:$AC$46))>MAX('50m Manikin Carry Men'!$AC$7:$AC$46)+2,MAX('50m Manikin Carry Men'!$AC$7:$AC$46),IF(SUMIF('50m Manikin Carry Men'!$C$7:$C$46,$A39,'50m Manikin Carry Men'!$AC$7:$AC$46)=0,1+MAX('50m Manikin Carry Men'!$AC$7:$AC$46),SUMIF('50m Manikin Carry Men'!$C$7:$C$46,$A39,'50m Manikin Carry Men'!$AC$7:$AC$46))))","v":""},{"$f":"IF($A39=\"\",\"\",IF(IF(SUMIF('100m Manikin Carry Men'!$C$7:$C$46,$A39,'100m Manikin Carry Men'!$AC$7:$AC$46)=0,1+MAX('100m Manikin Carry Men'!$AC$7:$AC$46),SUMIF('100m Manikin Carry Men'!$C$7:$C$46,$A39,'100m Manikin Carry Men'!$AC$7:$AC$46))>2+MAX('100m Manikin Carry Men'!$AC$7:$AC$46),MAX('100m Manikin Carry Men'!$AC$7:$AC$46),IF(SUMIF('100m Manikin Carry Men'!$C$7:$C$46,$A39,'100m Manikin Carry Men'!$AC$7:$AC$46)=0,1+MAX('100m Manikin Carry Men'!$AC$7:$AC$46),SUMIF('100m Manikin Carry Men'!$C$7:$C$46,$A39,'100m Manikin Carry Men'!$AC$7:$AC$46))))","v":""},{"$f":"IF($A39=\"\",\"\",IF(IF(SUMIF('100m Manikin Tow Men'!$C$7:$C$46,$A39,'100m Manikin Tow Men'!$AC$7:$AC$46)=0,1+MAX('100m Manikin Tow Men'!$AC$7:$AC$46),SUMIF('100m Manikin Tow Men'!$C$7:$C$46,$A39,'100m Manikin Tow Men'!$AC$7:$AC$46))>2+MAX('100m Manikin Tow Men'!$AC$7:$AC$46),MAX('100m Manikin Tow Men'!$AC$7:$AC$46),IF(SUMIF('100m Manikin Tow Men'!$C$7:$C$46,$A39,'100m Manikin Tow Men'!$AC$7:$AC$46)=0,1+MAX('100m Manikin Tow Men'!$AC$7:$AC$46),SUMIF('100m Manikin Tow Men'!$C$7:$C$46,$A39,'100m Manikin Tow Men'!$AC$7:$AC$46))))","v":""},{"$f":"IF($A39=\"\",\"\",IF(IF(SUMIF('200m Obs Men'!$C$7:$C$46,$A39,'200m Obs Men'!$AC$7:$AC$46)=0,1+MAX('200m Obs Men'!$AC$7:$AC$46),SUMIF('200m Obs Men'!$C$7:$C$46,$A39,'200m Obs Men'!$AC$7:$AC$46))>2+MAX('200m Obs Men'!$AC$7:$AC$46),MAX('200m Obs Men'!$AC$7:$AC$46),IF(SUMIF('200m Obs Men'!$C$7:$C$46,$A39,'200m Obs Men'!$AC$7:$AC$46)=0,1+MAX('200m Obs Men'!$AC$7:$AC$46),SUMIF('200m Obs Men'!$C$7:$C$46,$A39,'200m Obs Men'!$AC$7:$AC$46))))","v":""},{"$f":"IF($A39=\"\",\"\",IF(IF(SUMIF('200m Super Men'!$C$7:$C$46,$A39,'200m Super Men'!$AC$7:$AC$46)=0,1+MAX('200m Super Men'!$AC$7:$AC$46),SUMIF('200m Super Men'!$C$7:$C$46,$A39,'200m Super Men'!$AC$7:$AC$46))>2+MAX('200m Super Men'!$AC$7:$AC$46),MAX('200m Super Men'!$AC$7:$AC$46),IF(SUMIF('200m Super Men'!$C$7:$C$46,$A39,'200m Super Men'!$AC$7:$AC$46)=0,1+MAX('200m Super Men'!$AC$7:$AC$46),SUMIF('200m Super Men'!$C$7:$C$46,$A39,'200m Super Men'!$AC$7:$AC$46))))","v":""},{"$f":"IF($A39=\"\",\"\",IF(IF(SUMIF('100 Resue Men'!$C$7:$C$46,$A39,'100 Resue Men'!$AC$7:$AC$46)=0,1+MAX('100 Resue Men'!$AC$7:$AC$46),SUMIF('100 Resue Men'!$C$7:$C$46,$A39,'100 Resue Men'!$AC$7:$AC$46))>2+MAX('100 Resue Men'!$AC$7:$AC$46),MAX('100 Resue Men'!$AC$7:$AC$46),IF(SUMIF('100 Resue Men'!$C$7:$C$46,$A39,'100 Resue Men'!$AC$7:$AC$46)=0,1+MAX('100 Resue Men'!$AC$7:$AC$46),SUMIF('100 Resue Men'!$C$7:$C$46,$A39,'100 Resue Men'!$AC$7:$AC$46))))","v":""},{"$f":"IF($A39=\"\",\"\",IF(IF(SUMIF('Line Throw Men'!$C$7:$C$46,$A39,'Line Throw Men'!$AE$7:$AE$46)=0,MAX('Line Throw Men'!$AE$7:$AE$46),SUMIF('Line Throw Men'!$C$7:$C$46,$A39,'Line Throw Men'!$AE$7:$AE$46))>2+MAX('Line Throw Men'!$AE$7:$AE$46),MAX('Line Throw Men'!$AE$7:$AE$46),IF(SUMIF('Line Throw Men'!$C$7:$C$46,$A39,'Line Throw Men'!$AE$7:$AE$46)=0,1+MAX('Line Throw Men'!$AE$7:$AE$46),SUMIF('Line Throw Men'!$C$7:$C$46,$A39,'Line Throw Men'!$AE$7:$AE$46))))","v":""},{"$f":"IF($A39=\"\",\"\",IF(IF(SUMIF('4 x 50 Obs Relay Men'!$C$7:$C$46,$A39,'4 x 50 Obs Relay Men'!$AH$7:$AH$46)=0,1+MAX('4 x 50 Obs Relay Men'!$AH$7:$AH$46),SUMIF('4 x 50 Obs Relay Men'!$C$7:$C$46,$A39,'4 x 50 Obs Relay Men'!$AH$7:$AH$46))>2+MAX('4 x 50 Obs Relay Men'!$AH$7:$AH$46),MAX('4 x 50 Obs Relay Men'!$AH$7:$AH$46),IF(SUMIF('4 x 50 Obs Relay Men'!$C$7:$C$46,$A39,'4 x 50 Obs Relay Men'!$AH$7:$AH$46)=0,1+MAX('4 x 50 Obs Relay Men'!$AH$7:$AH$46),SUMIF('4 x 50 Obs Relay Men'!$C$7:$C$46,$A39,'4 x 50 Obs Relay Men'!$AH$7:$AH$46))))","v":""},{"$f":"IF($A39=\"\",\"\",IF(IF(SUMIF('4 x 50 medley Relay Men'!$C$7:$C$46,$A39,'4 x 50 medley Relay Men'!$AH$7:$AH$46)=0,1+MAX('4 x 50 medley Relay Men'!$AH$7:$AH$46),SUMIF('4 x 50 medley Relay Men'!$C$7:$C$46,$A39,'4 x 50 medley Relay Men'!$AH$7:$AH$46))>2+MAX('4 x 50 medley Relay Men'!$AH$7:$AH$46),MAX('4 x 50 medley Relay Men'!$AH$7:$AH$46),IF(SUMIF('4 x 50 medley Relay Men'!$C$7:$C$46,$A39,'4 x 50 medley Relay Men'!$AH$7:$AH$46)=0,1+MAX('4 x 50 medley Relay Men'!$AH$7:$AH$46),SUMIF('4 x 50 medley Relay Men'!$C$7:$C$46,$A39,'4 x 50 medley Relay Men'!$AH$7:$AH$46))))","v":""},{"$f":"IF($A39=\"\",\"\",IF(IF(SUMIF('4 x 25 Manikin Carry Relay Men'!$C$7:$C$46,$A39,'4 x 25 Manikin Carry Relay Men'!$AH$7:$AH$46)=0,1+MAX('4 x 25 Manikin Carry Relay Men'!$AH$7:$AH$46),SUMIF('4 x 25 Manikin Carry Relay Men'!$C$7:$C$46,$A39,'4 x 25 Manikin Carry Relay Men'!$AH$7:$AH$46))>2+MAX('4 x 25 Manikin Carry Relay Men'!$AH$7:$AH$46),MAX('4 x 25 Manikin Carry Relay Men'!$AH$7:$AH$46),IF(SUMIF('4 x 25 Manikin Carry Relay Men'!$C$7:$C$46,$A39,'4 x 25 Manikin Carry Relay Men'!$AH$7:$AH$46)=0,1+MAX('4 x 25 Manikin Carry Relay Men'!$AH$7:$AH$46),SUMIF('4 x 25 Manikin Carry Relay Men'!$C$7:$C$46,$A39,'4 x 25 Manikin Carry Relay Men'!$AH$7:$AH$46))))","v":""},{"$f":"IF($A39=\"\",\"\",IF(IF(SUMIF('Line Throw Relay Men'!$C$7:$C$46,$A39,'Line Throw Relay Men'!$AH$7:$AH$46)=0,1+MAX('Line Throw Relay Men'!$AH$7:$AH$46),SUMIF('Line Throw Relay Men'!$C$7:$C$46,$A39,'Line Throw Relay Men'!$AH$7:$AH$46))>2+MAX('Line Throw Relay Men'!$AH$7:$AH$46),MAX('Line Throw Relay Men'!$AH$7:$AH$46),IF(SUMIF('Line Throw Relay Men'!$C$7:$C$46,$A39,'Line Throw Relay Men'!$AH$7:$AH$46)=0,1+MAX('Line Throw Relay Men'!$AH$7:$AH$46),SUMIF('Line Throw Relay Men'!$C$7:$C$46,$A39,'Line Throw Relay Men'!$AH$7:$AH$46))))","v":""},{"$f":"IF(A39=\"\",\"\",SUM(C39:M39))","v":""},{"$f":"IF(A39=\"\",\"\",RANK(N39,$N$39:$N$69,1))","v":""}]
[{"$f":"IF(A5=\"\",\"\",A5)","v":""},"",{"$f":"IF($A40=\"\",\"\",IF(IF(SUMIF('50m Manikin Carry Men'!$C$7:$C$46,$A40,'50m Manikin Carry Men'!$AC$7:$AC$46)=0,1+MAX('50m Manikin Carry Men'!$AC$7:$AC$46),SUMIF('50m Manikin Carry Men'!$C$7:$C$46,$A40,'50m Manikin Carry Men'!$AC$7:$AC$46))>MAX('50m Manikin Carry Men'!$AC$7:$AC$46)+2,MAX('50m Manikin Carry Men'!$AC$7:$AC$46),IF(SUMIF('50m Manikin Carry Men'!$C$7:$C$46,$A40,'50m Manikin Carry Men'!$AC$7:$AC$46)=0,1+MAX('50m Manikin Carry Men'!$AC$7:$AC$46),SUMIF('50m Manikin Carry Men'!$C$7:$C$46,$A40,'50m Manikin Carry Men'!$AC$7:$AC$46))))","v":""},{"$f":"IF($A40=\"\",\"\",IF(IF(SUMIF('100m Manikin Carry Men'!$C$7:$C$46,$A40,'100m Manikin Carry Men'!$AC$7:$AC$46)=0,1+MAX('100m Manikin Carry Men'!$AC$7:$AC$46),SUMIF('100m Manikin Carry Men'!$C$7:$C$46,$A40,'100m Manikin Carry Men'!$AC$7:$AC$46))>2+MAX('100m Manikin Carry Men'!$AC$7:$AC$46),MAX('100m Manikin Carry Men'!$AC$7:$AC$46),IF(SUMIF('100m Manikin Carry Men'!$C$7:$C$46,$A40,'100m Manikin Carry Men'!$AC$7:$AC$46)=0,1+MAX('100m Manikin Carry Men'!$AC$7:$AC$46),SUMIF('100m Manikin Carry Men'!$C$7:$C$46,$A40,'100m Manikin Carry Men'!$AC$7:$AC$46))))","v":""},{"$f":"IF($A40=\"\",\"\",IF(IF(SUMIF('100m Manikin Tow Men'!$C$7:$C$46,$A40,'100m Manikin Tow Men'!$AC$7:$AC$46)=0,1+MAX('100m Manikin Tow Men'!$AC$7:$AC$46),SUMIF('100m Manikin Tow Men'!$C$7:$C$46,$A40,'100m Manikin Tow Men'!$AC$7:$AC$46))>2+MAX('100m Manikin Tow Men'!$AC$7:$AC$46),MAX('100m Manikin Tow Men'!$AC$7:$AC$46),IF(SUMIF('100m Manikin Tow Men'!$C$7:$C$46,$A40,'100m Manikin Tow Men'!$AC$7:$AC$46)=0,1+MAX('100m Manikin Tow Men'!$AC$7:$AC$46),SUMIF('100m Manikin Tow Men'!$C$7:$C$46,$A40,'100m Manikin Tow Men'!$AC$7:$AC$46))))","v":""},{"$f":"IF($A40=\"\",\"\",IF(IF(SUMIF('200m Obs Men'!$C$7:$C$46,$A40,'200m Obs Men'!$AC$7:$AC$46)=0,1+MAX('200m Obs Men'!$AC$7:$AC$46),SUMIF('200m Obs Men'!$C$7:$C$46,$A40,'200m Obs Men'!$AC$7:$AC$46))>2+MAX('200m Obs Men'!$AC$7:$AC$46),MAX('200m Obs Men'!$AC$7:$AC$46),IF(SUMIF('200m Obs Men'!$C$7:$C$46,$A40,'200m Obs Men'!$AC$7:$AC$46)=0,1+MAX('200m Obs Men'!$AC$7:$AC$46),SUMIF('200m Obs Men'!$C$7:$C$46,$A40,'200m Obs Men'!$AC$7:$AC$46))))","v":""},{"$f":"IF($A40=\"\",\"\",IF(IF(SUMIF('200m Super Men'!$C$7:$C$46,$A40,'200m Super Men'!$AC$7:$AC$46)=0,1+MAX('200m Super Men'!$AC$7:$AC$46),SUMIF('200m Super Men'!$C$7:$C$46,$A40,'200m Super Men'!$AC$7:$AC$46))>2+MAX('200m Super Men'!$AC$7:$AC$46),MAX('200m Super Men'!$AC$7:$AC$46),IF(SUMIF('200m Super Men'!$C$7:$C$46,$A40,'200m Super Men'!$AC$7:$AC$46)=0,1+MAX('200m Super Men'!$AC$7:$AC$46),SUMIF('200m Super Men'!$C$7:$C$46,$A40,'200m Super Men'!$AC$7:$AC$46))))","v":""},{"$f":"IF($A40=\"\",\"\",IF(IF(SUMIF('100 Resue Men'!$C$7:$C$46,$A40,'100 Resue Men'!$AC$7:$AC$46)=0,1+MAX('100 Resue Men'!$AC$7:$AC$46),SUMIF('100 Resue Men'!$C$7:$C$46,$A40,'100 Resue Men'!$AC$7:$AC$46))>2+MAX('100 Resue Men'!$AC$7:$AC$46),MAX('100 Resue Men'!$AC$7:$AC$46),IF(SUMIF('100 Resue Men'!$C$7:$C$46,$A40,'100 Resue Men'!$AC$7:$AC$46)=0,1+MAX('100 Resue Men'!$AC$7:$AC$46),SUMIF('100 Resue Men'!$C$7:$C$46,$A40,'100 Resue Men'!$AC$7:$AC$46))))","v":""},{"$f":"IF($A40=\"\",\"\",IF(IF(SUMIF('Line Throw Men'!$C$7:$C$46,$A40,'Line Throw Men'!$AE$7:$AE$46)=0,MAX('Line Throw Men'!$AE$7:$AE$46),SUMIF('Line Throw Men'!$C$7:$C$46,$A40,'Line Throw Men'!$AE$7:$AE$46))>2+MAX('Line Throw Men'!$AE$7:$AE$46),MAX('Line Throw Men'!$AE$7:$AE$46),IF(SUMIF('Line Throw Men'!$C$7:$C$46,$A40,'Line Throw Men'!$AE$7:$AE$46)=0,1+MAX('Line Throw Men'!$AE$7:$AE$46),SUMIF('Line Throw Men'!$C$7:$C$46,$A40,'Line Throw Men'!$AE$7:$AE$46))))","v":""},{"$f":"IF($A40=\"\",\"\",IF(IF(SUMIF('4 x 50 Obs Relay Men'!$C$7:$C$46,$A40,'4 x 50 Obs Relay Men'!$AH$7:$AH$46)=0,1+MAX('4 x 50 Obs Relay Men'!$AH$7:$AH$46),SUMIF('4 x 50 Obs Relay Men'!$C$7:$C$46,$A40,'4 x 50 Obs Relay Men'!$AH$7:$AH$46))>2+MAX('4 x 50 Obs Relay Men'!$AH$7:$AH$46),MAX('4 x 50 Obs Relay Men'!$AH$7:$AH$46),IF(SUMIF('4 x 50 Obs Relay Men'!$C$7:$C$46,$A40,'4 x 50 Obs Relay Men'!$AH$7:$AH$46)=0,1+MAX('4 x 50 Obs Relay Men'!$AH$7:$AH$46),SUMIF('4 x 50 Obs Relay Men'!$C$7:$C$46,$A40,'4 x 50 Obs Relay Men'!$AH$7:$AH$46))))","v":""},{"$f":"IF($A40=\"\",\"\",IF(IF(SUMIF('4 x 50 medley Relay Men'!$C$7:$C$46,$A40,'4 x 50 medley Relay Men'!$AH$7:$AH$46)=0,1+MAX('4 x 50 medley Relay Men'!$AH$7:$AH$46),SUMIF('4 x 50 medley Relay Men'!$C$7:$C$46,$A40,'4 x 50 medley Relay Men'!$AH$7:$AH$46))>2+MAX('4 x 50 medley Relay Men'!$AH$7:$AH$46),MAX('4 x 50 medley Relay Men'!$AH$7:$AH$46),IF(SUMIF('4 x 50 medley Relay Men'!$C$7:$C$46,$A40,'4 x 50 medley Relay Men'!$AH$7:$AH$46)=0,1+MAX('4 x 50 medley Relay Men'!$AH$7:$AH$46),SUMIF('4 x 50 medley Relay Men'!$C$7:$C$46,$A40,'4 x 50 medley Relay Men'!$AH$7:$AH$46))))","v":""},{"$f":"IF($A40=\"\",\"\",IF(IF(SUMIF('4 x 25 Manikin Carry Relay Men'!$C$7:$C$46,$A40,'4 x 25 Manikin Carry Relay Men'!$AH$7:$AH$46)=0,1+MAX('4 x 25 Manikin Carry Relay Men'!$AH$7:$AH$46),SUMIF('4 x 25 Manikin Carry Relay Men'!$C$7:$C$46,$A40,'4 x 25 Manikin Carry Relay Men'!$AH$7:$AH$46))>2+MAX('4 x 25 Manikin Carry Relay Men'!$AH$7:$AH$46),MAX('4 x 25 Manikin Carry Relay Men'!$AH$7:$AH$46),IF(SUMIF('4 x 25 Manikin Carry Relay Men'!$C$7:$C$46,$A40,'4 x 25 Manikin Carry Relay Men'!$AH$7:$AH$46)=0,1+MAX('4 x 25 Manikin Carry Relay Men'!$AH$7:$AH$46),SUMIF('4 x 25 Manikin Carry Relay Men'!$C$7:$C$46,$A40,'4 x 25 Manikin Carry Relay Men'!$AH$7:$AH$46))))","v":""},{"$f":"IF($A40=\"\",\"\",IF(IF(SUMIF('Line Throw Relay Men'!$C$7:$C$46,$A40,'Line Throw Relay Men'!$AH$7:$AH$46)=0,1+MAX('Line Throw Relay Men'!$AH$7:$AH$46),SUMIF('Line Throw Relay Men'!$C$7:$C$46,$A40,'Line Throw Relay Men'!$AH$7:$AH$46))>2+MAX('Line Throw Relay Men'!$AH$7:$AH$46),MAX('Line Throw Relay Men'!$AH$7:$AH$46),IF(SUMIF('Line Throw Relay Men'!$C$7:$C$46,$A40,'Line Throw Relay Men'!$AH$7:$AH$46)=0,1+MAX('Line Throw Relay Men'!$AH$7:$AH$46),SUMIF('Line Throw Relay Men'!$C$7:$C$46,$A40,'Line Throw Relay Men'!$AH$7:$AH$46))))","v":""},{"$f":"IF(A40=\"\",\"\",SUM(C40:M40))","v":""},{"$f":"IF(A40=\"\",\"\",RANK(N40,$N$39:$N$69,1))","v":""}]
["","",{"$f":"IF($A41=\"\",\"\",IF(IF(SUMIF('50m Manikin Carry Men'!$C$7:$C$46,$A41,'50m Manikin Carry Men'!$AC$7:$AC$46)=0,1+MAX('50m Manikin Carry Men'!$AC$7:$AC$46),SUMIF('50m Manikin Carry Men'!$C$7:$C$46,$A41,'50m Manikin Carry Men'!$AC$7:$AC$46))>MAX('50m Manikin Carry Men'!$AC$7:$AC$46)+2,MAX('50m Manikin Carry Men'!$AC$7:$AC$46),IF(SUMIF('50m Manikin Carry Men'!$C$7:$C$46,$A41,'50m Manikin Carry Men'!$AC$7:$AC$46)=0,1+MAX('50m Manikin Carry Men'!$AC$7:$AC$46),SUMIF('50m Manikin Carry Men'!$C$7:$C$46,$A41,'50m Manikin Carry Men'!$AC$7:$AC$46))))","v":""},{"$f":"IF($A41=\"\",\"\",IF(IF(SUMIF('100m Manikin Carry Men'!$C$7:$C$46,$A41,'100m Manikin Carry Men'!$AC$7:$AC$46)=0,1+MAX('100m Manikin Carry Men'!$AC$7:$AC$46),SUMIF('100m Manikin Carry Men'!$C$7:$C$46,$A41,'100m Manikin Carry Men'!$AC$7:$AC$46))>2+MAX('100m Manikin Carry Men'!$AC$7:$AC$46),MAX('100m Manikin Carry Men'!$AC$7:$AC$46),IF(SUMIF('100m Manikin Carry Men'!$C$7:$C$46,$A41,'100m Manikin Carry Men'!$AC$7:$AC$46)=0,1+MAX('100m Manikin Carry Men'!$AC$7:$AC$46),SUMIF('100m Manikin Carry Men'!$C$7:$C$46,$A41,'100m Manikin Carry Men'!$AC$7:$AC$46))))","v":""},{"$f":"IF($A41=\"\",\"\",IF(IF(SUMIF('100m Manikin Tow Men'!$C$7:$C$46,$A41,'100m Manikin Tow Men'!$AC$7:$AC$46)=0,1+MAX('100m Manikin Tow Men'!$AC$7:$AC$46),SUMIF('100m Manikin Tow Men'!$C$7:$C$46,$A41,'100m Manikin Tow Men'!$AC$7:$AC$46))>2+MAX('100m Manikin Tow Men'!$AC$7:$AC$46),MAX('100m Manikin Tow Men'!$AC$7:$AC$46),IF(SUMIF('100m Manikin Tow Men'!$C$7:$C$46,$A41,'100m Manikin Tow Men'!$AC$7:$AC$46)=0,1+MAX('100m Manikin Tow Men'!$AC$7:$AC$46),SUMIF('100m Manikin Tow Men'!$C$7:$C$46,$A41,'100m Manikin Tow Men'!$AC$7:$AC$46))))","v":""},{"$f":"IF($A41=\"\",\"\",IF(IF(SUMIF('200m Obs Men'!$C$7:$C$46,$A41,'200m Obs Men'!$AC$7:$AC$46)=0,1+MAX('200m Obs Men'!$AC$7:$AC$46),SUMIF('200m Obs Men'!$C$7:$C$46,$A41,'200m Obs Men'!$AC$7:$AC$46))>2+MAX('200m Obs Men'!$AC$7:$AC$46),MAX('200m Obs Men'!$AC$7:$AC$46),IF(SUMIF('200m Obs Men'!$C$7:$C$46,$A41,'200m Obs Men'!$AC$7:$AC$46)=0,1+MAX('200m Obs Men'!$AC$7:$AC$46),SUMIF('200m Obs Men'!$C$7:$C$46,$A41,'200m Obs Men'!$AC$7:$AC$46))))","v":""},{"$f":"IF($A41=\"\",\"\",IF(IF(SUMIF('200m Super Men'!$C$7:$C$46,$A41,'200m Super Men'!$AC$7:$AC$46)=0,1+MAX('200m Super Men'!$AC$7:$AC$46),SUMIF('200m Super Men'!$C$7:$C$46,$A41,'200m Super Men'!$AC$7:$AC$46))>2+MAX('200m Super Men'!$AC$7:$AC$46),MAX('200m Super Men'!$AC$7:$AC$46),IF(SUMIF('200m Super Men'!$C$7:$C$46,$A41,'200m Super Men'!$AC$7:$AC$46)=0,1+MAX('200m Super Men'!$AC$7:$AC$46),SUMIF('200m Super Men'!$C$7:$C$46,$A41,'200m Super Men'!$AC$7:$AC$46))))","v":""},{"$f":"IF($A41=\"\",\"\",IF(IF(SUMIF('100 Resue Men'!$C$7:$C$46,$A41,'100 Resue Men'!$AC$7:$AC$46)=0,1+MAX('100 Resue Men'!$AC$7:$AC$46),SUMIF('100 Resue Men'!$C$7:$C$46,$A41,'100 Resue Men'!$AC$7:$AC$46))>2+MAX('100 Resue Men'!$AC$7:$AC$46),MAX('100 Resue Men'!$AC$7:$AC$46),IF(SUMIF('100 Resue Men'!$C$7:$C$46,$A41,'100 Resue Men'!$AC$7:$AC$46)=0,1+MAX('100 Resue Men'!$AC$7:$AC$46),SUMIF('100 Resue Men'!$C$7:$C$46,$A41,'100 Resue Men'!$AC$7:$AC$46))))","v":""},{"$f":"IF($A41=\"\",\"\",IF(IF(SUMIF('Line Throw Men'!$C$7:$C$46,$A41,'Line Throw Men'!$AE$7:$AE$46)=0,MAX('Line Throw Men'!$AE$7:$AE$46),SUMIF('Line Throw Men'!$C$7:$C$46,$A41,'Line Throw Men'!$AE$7:$AE$46))>2+MAX('Line Throw Men'!$AE$7:$AE$46),MAX('Line Throw Men'!$AE$7:$AE$46),IF(SUMIF('Line Throw Men'!$C$7:$C$46,$A41,'Line Throw Men'!$AE$7:$AE$46)=0,1+MAX('Line Throw Men'!$AE$7:$AE$46),SUMIF('Line Throw Men'!$C$7:$C$46,$A41,'Line Throw Men'!$AE$7:$AE$46))))","v":""},{"$f":"IF($A41=\"\",\"\",IF(IF(SUMIF('4 x 50 Obs Relay Men'!$C$7:$C$46,$A41,'4 x 50 Obs Relay Men'!$AH$7:$AH$46)=0,1+MAX('4 x 50 Obs Relay Men'!$AH$7:$AH$46),SUMIF('4 x 50 Obs Relay Men'!$C$7:$C$46,$A41,'4 x 50 Obs Relay Men'!$AH$7:$AH$46))>2+MAX('4 x 50 Obs Relay Men'!$AH$7:$AH$46),MAX('4 x 50 Obs Relay Men'!$AH$7:$AH$46),IF(SUMIF('4 x 50 Obs Relay Men'!$C$7:$C$46,$A41,'4 x 50 Obs Relay Men'!$AH$7:$AH$46)=0,1+MAX('4 x 50 Obs Relay Men'!$AH$7:$AH$46),SUMIF('4 x 50 Obs Relay Men'!$C$7:$C$46,$A41,'4 x 50 Obs Relay Men'!$AH$7:$AH$46))))","v":""},{"$f":"IF($A41=\"\",\"\",IF(IF(SUMIF('4 x 50 medley Relay Men'!$C$7:$C$46,$A41,'4 x 50 medley Relay Men'!$AH$7:$AH$46)=0,1+MAX('4 x 50 medley Relay Men'!$AH$7:$AH$46),SUMIF('4 x 50 medley Relay Men'!$C$7:$C$46,$A41,'4 x 50 medley Relay Men'!$AH$7:$AH$46))>2+MAX('4 x 50 medley Relay Men'!$AH$7:$AH$46),MAX('4 x 50 medley Relay Men'!$AH$7:$AH$46),IF(SUMIF('4 x 50 medley Relay Men'!$C$7:$C$46,$A41,'4 x 50 medley Relay Men'!$AH$7:$AH$46)=0,1+MAX('4 x 50 medley Relay Men'!$AH$7:$AH$46),SUMIF('4 x 50 medley Relay Men'!$C$7:$C$46,$A41,'4 x 50 medley Relay Men'!$AH$7:$AH$46))))","v":""},{"$f":"IF($A41=\"\",\"\",IF(IF(SUMIF('4 x 25 Manikin Carry Relay Men'!$C$7:$C$46,$A41,'4 x 25 Manikin Carry Relay Men'!$AH$7:$AH$46)=0,1+MAX('4 x 25 Manikin Carry Relay Men'!$AH$7:$AH$46),SUMIF('4 x 25 Manikin Carry Relay Men'!$C$7:$C$46,$A41,'4 x 25 Manikin Carry Relay Men'!$AH$7:$AH$46))>2+MAX('4 x 25 Manikin Carry Relay Men'!$AH$7:$AH$46),MAX('4 x 25 Manikin Carry Relay Men'!$AH$7:$AH$46),IF(SUMIF('4 x 25 Manikin Carry Relay Men'!$C$7:$C$46,$A41,'4 x 25 Manikin Carry Relay Men'!$AH$7:$AH$46)=0,1+MAX('4 x 25 Manikin Carry Relay Men'!$AH$7:$AH$46),SUMIF('4 x 25 Manikin Carry Relay Men'!$C$7:$C$46,$A41,'4 x 25 Manikin Carry Relay Men'!$AH$7:$AH$46))))","v":""},{"$f":"IF($A41=\"\",\"\",IF(IF(SUMIF('Line Throw Relay Men'!$C$7:$C$46,$A41,'Line Throw Relay Men'!$AH$7:$AH$46)=0,1+MAX('Line Throw Relay Men'!$AH$7:$AH$46),SUMIF('Line Throw Relay Men'!$C$7:$C$46,$A41,'Line Throw Relay Men'!$AH$7:$AH$46))>2+MAX('Line Throw Relay Men'!$AH$7:$AH$46),MAX('Line Throw Relay Men'!$AH$7:$AH$46),IF(SUMIF('Line Throw Relay Men'!$C$7:$C$46,$A41,'Line Throw Relay Men'!$AH$7:$AH$46)=0,1+MAX('Line Throw Relay Men'!$AH$7:$AH$46),SUMIF('Line Throw Relay Men'!$C$7:$C$46,$A41,'Line Throw Relay Men'!$AH$7:$AH$46))))","v":""},"",""]
["","",{"$f":"IF($A42=\"\",\"\",IF(IF(SUMIF('50m Manikin Carry Men'!$C$7:$C$46,$A42,'50m Manikin Carry Men'!$AC$7:$AC$46)=0,1+MAX('50m Manikin Carry Men'!$AC$7:$AC$46),SUMIF('50m Manikin Carry Men'!$C$7:$C$46,$A42,'50m Manikin Carry Men'!$AC$7:$AC$46))>MAX('50m Manikin Carry Men'!$AC$7:$AC$46)+2,MAX('50m Manikin Carry Men'!$AC$7:$AC$46),IF(SUMIF('50m Manikin Carry Men'!$C$7:$C$46,$A42,'50m Manikin Carry Men'!$AC$7:$AC$46)=0,1+MAX('50m Manikin Carry Men'!$AC$7:$AC$46),SUMIF('50m Manikin Carry Men'!$C$7:$C$46,$A42,'50m Manikin Carry Men'!$AC$7:$AC$46))))","v":""},{"$f":"IF($A42=\"\",\"\",IF(IF(SUMIF('100m Manikin Carry Men'!$C$7:$C$46,$A42,'100m Manikin Carry Men'!$AC$7:$AC$46)=0,1+MAX('100m Manikin Carry Men'!$AC$7:$AC$46),SUMIF('100m Manikin Carry Men'!$C$7:$C$46,$A42,'100m Manikin Carry Men'!$AC$7:$AC$46))>2+MAX('100m Manikin Carry Men'!$AC$7:$AC$46),MAX('100m Manikin Carry Men'!$AC$7:$AC$46),IF(SUMIF('100m Manikin Carry Men'!$C$7:$C$46,$A42,'100m Manikin Carry Men'!$AC$7:$AC$46)=0,1+MAX('100m Manikin Carry Men'!$AC$7:$AC$46),SUMIF('100m Manikin Carry Men'!$C$7:$C$46,$A42,'100m Manikin Carry Men'!$AC$7:$AC$46))))","v":""},{"$f":"IF($A42=\"\",\"\",IF(IF(SUMIF('100m Manikin Tow Men'!$C$7:$C$46,$A42,'100m Manikin Tow Men'!$AC$7:$AC$46)=0,1+MAX('100m Manikin Tow Men'!$AC$7:$AC$46),SUMIF('100m Manikin Tow Men'!$C$7:$C$46,$A42,'100m Manikin Tow Men'!$AC$7:$AC$46))>2+MAX('100m Manikin Tow Men'!$AC$7:$AC$46),MAX('100m Manikin Tow Men'!$AC$7:$AC$46),IF(SUMIF('100m Manikin Tow Men'!$C$7:$C$46,$A42,'100m Manikin Tow Men'!$AC$7:$AC$46)=0,1+MAX('100m Manikin Tow Men'!$AC$7:$AC$46),SUMIF('100m Manikin Tow Men'!$C$7:$C$46,$A42,'100m Manikin Tow Men'!$AC$7:$AC$46))))","v":""},{"$f":"IF($A42=\"\",\"\",IF(IF(SUMIF('200m Obs Men'!$C$7:$C$46,$A42,'200m Obs Men'!$AC$7:$AC$46)=0,1+MAX('200m Obs Men'!$AC$7:$AC$46),SUMIF('200m Obs Men'!$C$7:$C$46,$A42,'200m Obs Men'!$AC$7:$AC$46))>2+MAX('200m Obs Men'!$AC$7:$AC$46),MAX('200m Obs Men'!$AC$7:$AC$46),IF(SUMIF('200m Obs Men'!$C$7:$C$46,$A42,'200m Obs Men'!$AC$7:$AC$46)=0,1+MAX('200m Obs Men'!$AC$7:$AC$46),SUMIF('200m Obs Men'!$C$7:$C$46,$A42,'200m Obs Men'!$AC$7:$AC$46))))","v":""},{"$f":"IF($A42=\"\",\"\",IF(IF(SUMIF('200m Super Men'!$C$7:$C$46,$A42,'200m Super Men'!$AC$7:$AC$46)=0,1+MAX('200m Super Men'!$AC$7:$AC$46),SUMIF('200m Super Men'!$C$7:$C$46,$A42,'200m Super Men'!$AC$7:$AC$46))>2+MAX('200m Super Men'!$AC$7:$AC$46),MAX('200m Super Men'!$AC$7:$AC$46),IF(SUMIF('200m Super Men'!$C$7:$C$46,$A42,'200m Super Men'!$AC$7:$AC$46)=0,1+MAX('200m Super Men'!$AC$7:$AC$46),SUMIF('200m Super Men'!$C$7:$C$46,$A42,'200m Super Men'!$AC$7:$AC$46))))","v":""},{"$f":"IF($A42=\"\",\"\",IF(IF(SUMIF('100 Resue Men'!$C$7:$C$46,$A42,'100 Resue Men'!$AC$7:$AC$46)=0,1+MAX('100 Resue Men'!$AC$7:$AC$46),SUMIF('100 Resue Men'!$C$7:$C$46,$A42,'100 Resue Men'!$AC$7:$AC$46))>2+MAX('100 Resue Men'!$AC$7:$AC$46),MAX('100 Resue Men'!$AC$7:$AC$46),IF(SUMIF('100 Resue Men'!$C$7:$C$46,$A42,'100 Resue Men'!$AC$7:$AC$46)=0,1+MAX('100 Resue Men'!$AC$7:$AC$46),SUMIF('100 Resue Men'!$C$7:$C$46,$A42,'100 Resue Men'!$AC$7:$AC$46))))","v":""},{"$f":"IF($A42=\"\",\"\",IF(IF(SUMIF('Line Throw Men'!$C$7:$C$46,$A42,'Line Throw Men'!$AE$7:$AE$46)=0,MAX('Line Throw Men'!$AE$7:$AE$46),SUMIF('Line Throw Men'!$C$7:$C$46,$A42,'Line Throw Men'!$AE$7:$AE$46))>2+MAX('Line Throw Men'!$AE$7:$AE$46),MAX('Line Throw Men'!$AE$7:$AE$46),IF(SUMIF('Line Throw Men'!$C$7:$C$46,$A42,'Line Throw Men'!$AE$7:$AE$46)=0,1+MAX('Line Throw Men'!$AE$7:$AE$46),SUMIF('Line Throw Men'!$C$7:$C$46,$A42,'Line Throw Men'!$AE$7:$AE$46))))","v":""},{"$f":"IF($A42=\"\",\"\",IF(IF(SUMIF('4 x 50 Obs Relay Men'!$C$7:$C$46,$A42,'4 x 50 Obs Relay Men'!$AH$7:$AH$46)=0,1+MAX('4 x 50 Obs Relay Men'!$AH$7:$AH$46),SUMIF('4 x 50 Obs Relay Men'!$C$7:$C$46,$A42,'4 x 50 Obs Relay Men'!$AH$7:$AH$46))>2+MAX('4 x 50 Obs Relay Men'!$AH$7:$AH$46),MAX('4 x 50 Obs Relay Men'!$AH$7:$AH$46),IF(SUMIF('4 x 50 Obs Relay Men'!$C$7:$C$46,$A42,'4 x 50 Obs Relay Men'!$AH$7:$AH$46)=0,1+MAX('4 x 50 Obs Relay Men'!$AH$7:$AH$46),SUMIF('4 x 50 Obs Relay Men'!$C$7:$C$46,$A42,'4 x 50 Obs Relay Men'!$AH$7:$AH$46))))","v":""},{"$f":"IF($A42=\"\",\"\",IF(IF(SUMIF('4 x 50 medley Relay Men'!$C$7:$C$46,$A42,'4 x 50 medley Relay Men'!$AH$7:$AH$46)=0,1+MAX('4 x 50 medley Relay Men'!$AH$7:$AH$46),SUMIF('4 x 50 medley Relay Men'!$C$7:$C$46,$A42,'4 x 50 medley Relay Men'!$AH$7:$AH$46))>2+MAX('4 x 50 medley Relay Men'!$AH$7:$AH$46),MAX('4 x 50 medley Relay Men'!$AH$7:$AH$46),IF(SUMIF('4 x 50 medley Relay Men'!$C$7:$C$46,$A42,'4 x 50 medley Relay Men'!$AH$7:$AH$46)=0,1+MAX('4 x 50 medley Relay Men'!$AH$7:$AH$46),SUMIF('4 x 50 medley Relay Men'!$C$7:$C$46,$A42,'4 x 50 medley Relay Men'!$AH$7:$AH$46))))","v":""},{"$f":"IF($A42=\"\",\"\",IF(IF(SUMIF('4 x 25 Manikin Carry Relay Men'!$C$7:$C$46,$A42,'4 x 25 Manikin Carry Relay Men'!$AH$7:$AH$46)=0,1+MAX('4 x 25 Manikin Carry Relay Men'!$AH$7:$AH$46),SUMIF('4 x 25 Manikin Carry Relay Men'!$C$7:$C$46,$A42,'4 x 25 Manikin Carry Relay Men'!$AH$7:$AH$46))>2+MAX('4 x 25 Manikin Carry Relay Men'!$AH$7:$AH$46),MAX('4 x 25 Manikin Carry Relay Men'!$AH$7:$AH$46),IF(SUMIF('4 x 25 Manikin Carry Relay Men'!$C$7:$C$46,$A42,'4 x 25 Manikin Carry Relay Men'!$AH$7:$AH$46)=0,1+MAX('4 x 25 Manikin Carry Relay Men'!$AH$7:$AH$46),SUMIF('4 x 25 Manikin Carry Relay Men'!$C$7:$C$46,$A42,'4 x 25 Manikin Carry Relay Men'!$AH$7:$AH$46))))","v":""},{"$f":"IF($A42=\"\",\"\",IF(IF(SUMIF('Line Throw Relay Men'!$C$7:$C$46,$A42,'Line Throw Relay Men'!$AH$7:$AH$46)=0,1+MAX('Line Throw Relay Men'!$AH$7:$AH$46),SUMIF('Line Throw Relay Men'!$C$7:$C$46,$A42,'Line Throw Relay Men'!$AH$7:$AH$46))>2+MAX('Line Throw Relay Men'!$AH$7:$AH$46),MAX('Line Throw Relay Men'!$AH$7:$AH$46),IF(SUMIF('Line Throw Relay Men'!$C$7:$C$46,$A42,'Line Throw Relay Men'!$AH$7:$AH$46)=0,1+MAX('Line Throw Relay Men'!$AH$7:$AH$46),SUMIF('Line Throw Relay Men'!$C$7:$C$46,$A42,'Line Throw Relay Men'!$AH$7:$AH$46))))","v":""},"",""]
["","",{"$f":"IF($A43=\"\",\"\",IF(IF(SUMIF('50m Manikin Carry Men'!$C$7:$C$46,$A43,'50m Manikin Carry Men'!$AC$7:$AC$46)=0,1+MAX('50m Manikin Carry Men'!$AC$7:$AC$46),SUMIF('50m Manikin Carry Men'!$C$7:$C$46,$A43,'50m Manikin Carry Men'!$AC$7:$AC$46))>MAX('50m Manikin Carry Men'!$AC$7:$AC$46)+2,MAX('50m Manikin Carry Men'!$AC$7:$AC$46),IF(SUMIF('50m Manikin Carry Men'!$C$7:$C$46,$A43,'50m Manikin Carry Men'!$AC$7:$AC$46)=0,1+MAX('50m Manikin Carry Men'!$AC$7:$AC$46),SUMIF('50m Manikin Carry Men'!$C$7:$C$46,$A43,'50m Manikin Carry Men'!$AC$7:$AC$46))))","v":""},{"$f":"IF($A43=\"\",\"\",IF(IF(SUMIF('100m Manikin Carry Men'!$C$7:$C$46,$A43,'100m Manikin Carry Men'!$AC$7:$AC$46)=0,1+MAX('100m Manikin Carry Men'!$AC$7:$AC$46),SUMIF('100m Manikin Carry Men'!$C$7:$C$46,$A43,'100m Manikin Carry Men'!$AC$7:$AC$46))>2+MAX('100m Manikin Carry Men'!$AC$7:$AC$46),MAX('100m Manikin Carry Men'!$AC$7:$AC$46),IF(SUMIF('100m Manikin Carry Men'!$C$7:$C$46,$A43,'100m Manikin Carry Men'!$AC$7:$AC$46)=0,1+MAX('100m Manikin Carry Men'!$AC$7:$AC$46),SUMIF('100m Manikin Carry Men'!$C$7:$C$46,$A43,'100m Manikin Carry Men'!$AC$7:$AC$46))))","v":""},{"$f":"IF($A43=\"\",\"\",IF(IF(SUMIF('100m Manikin Tow Men'!$C$7:$C$46,$A43,'100m Manikin Tow Men'!$AC$7:$AC$46)=0,1+MAX('100m Manikin Tow Men'!$AC$7:$AC$46),SUMIF('100m Manikin Tow Men'!$C$7:$C$46,$A43,'100m Manikin Tow Men'!$AC$7:$AC$46))>2+MAX('100m Manikin Tow Men'!$AC$7:$AC$46),MAX('100m Manikin Tow Men'!$AC$7:$AC$46),IF(SUMIF('100m Manikin Tow Men'!$C$7:$C$46,$A43,'100m Manikin Tow Men'!$AC$7:$AC$46)=0,1+MAX('100m Manikin Tow Men'!$AC$7:$AC$46),SUMIF('100m Manikin Tow Men'!$C$7:$C$46,$A43,'100m Manikin Tow Men'!$AC$7:$AC$46))))","v":""},{"$f":"IF($A43=\"\",\"\",IF(IF(SUMIF('200m Obs Men'!$C$7:$C$46,$A43,'200m Obs Men'!$AC$7:$AC$46)=0,1+MAX('200m Obs Men'!$AC$7:$AC$46),SUMIF('200m Obs Men'!$C$7:$C$46,$A43,'200m Obs Men'!$AC$7:$AC$46))>2+MAX('200m Obs Men'!$AC$7:$AC$46),MAX('200m Obs Men'!$AC$7:$AC$46),IF(SUMIF('200m Obs Men'!$C$7:$C$46,$A43,'200m Obs Men'!$AC$7:$AC$46)=0,1+MAX('200m Obs Men'!$AC$7:$AC$46),SUMIF('200m Obs Men'!$C$7:$C$46,$A43,'200m Obs Men'!$AC$7:$AC$46))))","v":""},{"$f":"IF($A43=\"\",\"\",IF(IF(SUMIF('200m Super Men'!$C$7:$C$46,$A43,'200m Super Men'!$AC$7:$AC$46)=0,1+MAX('200m Super Men'!$AC$7:$AC$46),SUMIF('200m Super Men'!$C$7:$C$46,$A43,'200m Super Men'!$AC$7:$AC$46))>2+MAX('200m Super Men'!$AC$7:$AC$46),MAX('200m Super Men'!$AC$7:$AC$46),IF(SUMIF('200m Super Men'!$C$7:$C$46,$A43,'200m Super Men'!$AC$7:$AC$46)=0,1+MAX('200m Super Men'!$AC$7:$AC$46),SUMIF('200m Super Men'!$C$7:$C$46,$A43,'200m Super Men'!$AC$7:$AC$46))))","v":""},{"$f":"IF($A43=\"\",\"\",IF(IF(SUMIF('100 Resue Men'!$C$7:$C$46,$A43,'100 Resue Men'!$AC$7:$AC$46)=0,1+MAX('100 Resue Men'!$AC$7:$AC$46),SUMIF('100 Resue Men'!$C$7:$C$46,$A43,'100 Resue Men'!$AC$7:$AC$46))>2+MAX('100 Resue Men'!$AC$7:$AC$46),MAX('100 Resue Men'!$AC$7:$AC$46),IF(SUMIF('100 Resue Men'!$C$7:$C$46,$A43,'100 Resue Men'!$AC$7:$AC$46)=0,1+MAX('100 Resue Men'!$AC$7:$AC$46),SUMIF('100 Resue Men'!$C$7:$C$46,$A43,'100 Resue Men'!$AC$7:$AC$46))))","v":""},{"$f":"IF($A43=\"\",\"\",IF(IF(SUMIF('Line Throw Men'!$C$7:$C$46,$A43,'Line Throw Men'!$AE$7:$AE$46)=0,MAX('Line Throw Men'!$AE$7:$AE$46),SUMIF('Line Throw Men'!$C$7:$C$46,$A43,'Line Throw Men'!$AE$7:$AE$46))>2+MAX('Line Throw Men'!$AE$7:$AE$46),MAX('Line Throw Men'!$AE$7:$AE$46),IF(SUMIF('Line Throw Men'!$C$7:$C$46,$A43,'Line Throw Men'!$AE$7:$AE$46)=0,1+MAX('Line Throw Men'!$AE$7:$AE$46),SUMIF('Line Throw Men'!$C$7:$C$46,$A43,'Line Throw Men'!$AE$7:$AE$46))))","v":""},{"$f":"IF($A43=\"\",\"\",IF(IF(SUMIF('4 x 50 Obs Relay Men'!$C$7:$C$46,$A43,'4 x 50 Obs Relay Men'!$AH$7:$AH$46)=0,1+MAX('4 x 50 Obs Relay Men'!$AH$7:$AH$46),SUMIF('4 x 50 Obs Relay Men'!$C$7:$C$46,$A43,'4 x 50 Obs Relay Men'!$AH$7:$AH$46))>2+MAX('4 x 50 Obs Relay Men'!$AH$7:$AH$46),MAX('4 x 50 Obs Relay Men'!$AH$7:$AH$46),IF(SUMIF('4 x 50 Obs Relay Men'!$C$7:$C$46,$A43,'4 x 50 Obs Relay Men'!$AH$7:$AH$46)=0,1+MAX('4 x 50 Obs Relay Men'!$AH$7:$AH$46),SUMIF('4 x 50 Obs Relay Men'!$C$7:$C$46,$A43,'4 x 50 Obs Relay Men'!$AH$7:$AH$46))))","v":""},{"$f":"IF($A43=\"\",\"\",IF(IF(SUMIF('4 x 50 medley Relay Men'!$C$7:$C$46,$A43,'4 x 50 medley Relay Men'!$AH$7:$AH$46)=0,1+MAX('4 x 50 medley Relay Men'!$AH$7:$AH$46),SUMIF('4 x 50 medley Relay Men'!$C$7:$C$46,$A43,'4 x 50 medley Relay Men'!$AH$7:$AH$46))>2+MAX('4 x 50 medley Relay Men'!$AH$7:$AH$46),MAX('4 x 50 medley Relay Men'!$AH$7:$AH$46),IF(SUMIF('4 x 50 medley Relay Men'!$C$7:$C$46,$A43,'4 x 50 medley Relay Men'!$AH$7:$AH$46)=0,1+MAX('4 x 50 medley Relay Men'!$AH$7:$AH$46),SUMIF('4 x 50 medley Relay Men'!$C$7:$C$46,$A43,'4 x 50 medley Relay Men'!$AH$7:$AH$46))))","v":""},{"$f":"IF($A43=\"\",\"\",IF(IF(SUMIF('4 x 25 Manikin Carry Relay Men'!$C$7:$C$46,$A43,'4 x 25 Manikin Carry Relay Men'!$AH$7:$AH$46)=0,1+MAX('4 x 25 Manikin Carry Relay Men'!$AH$7:$AH$46),SUMIF('4 x 25 Manikin Carry Relay Men'!$C$7:$C$46,$A43,'4 x 25 Manikin Carry Relay Men'!$AH$7:$AH$46))>2+MAX('4 x 25 Manikin Carry Relay Men'!$AH$7:$AH$46),MAX('4 x 25 Manikin Carry Relay Men'!$AH$7:$AH$46),IF(SUMIF('4 x 25 Manikin Carry Relay Men'!$C$7:$C$46,$A43,'4 x 25 Manikin Carry Relay Men'!$AH$7:$AH$46)=0,1+MAX('4 x 25 Manikin Carry Relay Men'!$AH$7:$AH$46),SUMIF('4 x 25 Manikin Carry Relay Men'!$C$7:$C$46,$A43,'4 x 25 Manikin Carry Relay Men'!$AH$7:$AH$46))))","v":""},{"$f":"IF($A43=\"\",\"\",IF(IF(SUMIF('Line Throw Relay Men'!$C$7:$C$46,$A43,'Line Throw Relay Men'!$AH$7:$AH$46)=0,1+MAX('Line Throw Relay Men'!$AH$7:$AH$46),SUMIF('Line Throw Relay Men'!$C$7:$C$46,$A43,'Line Throw Relay Men'!$AH$7:$AH$46))>2+MAX('Line Throw Relay Men'!$AH$7:$AH$46),MAX('Line Throw Relay Men'!$AH$7:$AH$46),IF(SUMIF('Line Throw Relay Men'!$C$7:$C$46,$A43,'Line Throw Relay Men'!$AH$7:$AH$46)=0,1+MAX('Line Throw Relay Men'!$AH$7:$AH$46),SUMIF('Line Throw Relay Men'!$C$7:$C$46,$A43,'Line Throw Relay Men'!$AH$7:$AH$46))))","v":""},"",""]
["","",{"$f":"IF($A44=\"\",\"\",IF(IF(SUMIF('50m Manikin Carry Men'!$C$7:$C$46,$A44,'50m Manikin Carry Men'!$AC$7:$AC$46)=0,1+MAX('50m Manikin Carry Men'!$AC$7:$AC$46),SUMIF('50m Manikin Carry Men'!$C$7:$C$46,$A44,'50m Manikin Carry Men'!$AC$7:$AC$46))>MAX('50m Manikin Carry Men'!$AC$7:$AC$46)+2,MAX('50m Manikin Carry Men'!$AC$7:$AC$46),IF(SUMIF('50m Manikin Carry Men'!$C$7:$C$46,$A44,'50m Manikin Carry Men'!$AC$7:$AC$46)=0,1+MAX('50m Manikin Carry Men'!$AC$7:$AC$46),SUMIF('50m Manikin Carry Men'!$C$7:$C$46,$A44,'50m Manikin Carry Men'!$AC$7:$AC$46))))","v":""},{"$f":"IF($A44=\"\",\"\",IF(IF(SUMIF('100m Manikin Carry Men'!$C$7:$C$46,$A44,'100m Manikin Carry Men'!$AC$7:$AC$46)=0,1+MAX('100m Manikin Carry Men'!$AC$7:$AC$46),SUMIF('100m Manikin Carry Men'!$C$7:$C$46,$A44,'100m Manikin Carry Men'!$AC$7:$AC$46))>2+MAX('100m Manikin Carry Men'!$AC$7:$AC$46),MAX('100m Manikin Carry Men'!$AC$7:$AC$46),IF(SUMIF('100m Manikin Carry Men'!$C$7:$C$46,$A44,'100m Manikin Carry Men'!$AC$7:$AC$46)=0,1+MAX('100m Manikin Carry Men'!$AC$7:$AC$46),SUMIF('100m Manikin Carry Men'!$C$7:$C$46,$A44,'100m Manikin Carry Men'!$AC$7:$AC$46))))","v":""},{"$f":"IF($A44=\"\",\"\",IF(IF(SUMIF('100m Manikin Tow Men'!$C$7:$C$46,$A44,'100m Manikin Tow Men'!$AC$7:$AC$46)=0,1+MAX('100m Manikin Tow Men'!$AC$7:$AC$46),SUMIF('100m Manikin Tow Men'!$C$7:$C$46,$A44,'100m Manikin Tow Men'!$AC$7:$AC$46))>2+MAX('100m Manikin Tow Men'!$AC$7:$AC$46),MAX('100m Manikin Tow Men'!$AC$7:$AC$46),IF(SUMIF('100m Manikin Tow Men'!$C$7:$C$46,$A44,'100m Manikin Tow Men'!$AC$7:$AC$46)=0,1+MAX('100m Manikin Tow Men'!$AC$7:$AC$46),SUMIF('100m Manikin Tow Men'!$C$7:$C$46,$A44,'100m Manikin Tow Men'!$AC$7:$AC$46))))","v":""},{"$f":"IF($A44=\"\",\"\",IF(IF(SUMIF('200m Obs Men'!$C$7:$C$46,$A44,'200m Obs Men'!$AC$7:$AC$46)=0,1+MAX('200m Obs Men'!$AC$7:$AC$46),SUMIF('200m Obs Men'!$C$7:$C$46,$A44,'200m Obs Men'!$AC$7:$AC$46))>2+MAX('200m Obs Men'!$AC$7:$AC$46),MAX('200m Obs Men'!$AC$7:$AC$46),IF(SUMIF('200m Obs Men'!$C$7:$C$46,$A44,'200m Obs Men'!$AC$7:$AC$46)=0,1+MAX('200m Obs Men'!$AC$7:$AC$46),SUMIF('200m Obs Men'!$C$7:$C$46,$A44,'200m Obs Men'!$AC$7:$AC$46))))","v":""},{"$f":"IF($A44=\"\",\"\",IF(IF(SUMIF('200m Super Men'!$C$7:$C$46,$A44,'200m Super Men'!$AC$7:$AC$46)=0,1+MAX('200m Super Men'!$AC$7:$AC$46),SUMIF('200m Super Men'!$C$7:$C$46,$A44,'200m Super Men'!$AC$7:$AC$46))>2+MAX('200m Super Men'!$AC$7:$AC$46),MAX('200m Super Men'!$AC$7:$AC$46),IF(SUMIF('200m Super Men'!$C$7:$C$46,$A44,'200m Super Men'!$AC$7:$AC$46)=0,1+MAX('200m Super Men'!$AC$7:$AC$46),SUMIF('200m Super Men'!$C$7:$C$46,$A44,'200m Super Men'!$AC$7:$AC$46))))","v":""},{"$f":"IF($A44=\"\",\"\",IF(IF(SUMIF('100 Resue Men'!$C$7:$C$46,$A44,'100 Resue Men'!$AC$7:$AC$46)=0,1+MAX('100 Resue Men'!$AC$7:$AC$46),SUMIF('100 Resue Men'!$C$7:$C$46,$A44,'100 Resue Men'!$AC$7:$AC$46))>2+MAX('100 Resue Men'!$AC$7:$AC$46),MAX('100 Resue Men'!$AC$7:$AC$46),IF(SUMIF('100 Resue Men'!$C$7:$C$46,$A44,'100 Resue Men'!$AC$7:$AC$46)=0,1+MAX('100 Resue Men'!$AC$7:$AC$46),SUMIF('100 Resue Men'!$C$7:$C$46,$A44,'100 Resue Men'!$AC$7:$AC$46))))","v":""},{"$f":"IF($A44=\"\",\"\",IF(IF(SUMIF('Line Throw Men'!$C$7:$C$46,$A44,'Line Throw Men'!$AE$7:$AE$46)=0,MAX('Line Throw Men'!$AE$7:$AE$46),SUMIF('Line Throw Men'!$C$7:$C$46,$A44,'Line Throw Men'!$AE$7:$AE$46))>2+MAX('Line Throw Men'!$AE$7:$AE$46),MAX('Line Throw Men'!$AE$7:$AE$46),IF(SUMIF('Line Throw Men'!$C$7:$C$46,$A44,'Line Throw Men'!$AE$7:$AE$46)=0,1+MAX('Line Throw Men'!$AE$7:$AE$46),SUMIF('Line Throw Men'!$C$7:$C$46,$A44,'Line Throw Men'!$AE$7:$AE$46))))","v":""},{"$f":"IF($A44=\"\",\"\",IF(IF(SUMIF('4 x 50 Obs Relay Men'!$C$7:$C$46,$A44,'4 x 50 Obs Relay Men'!$AH$7:$AH$46)=0,1+MAX('4 x 50 Obs Relay Men'!$AH$7:$AH$46),SUMIF('4 x 50 Obs Relay Men'!$C$7:$C$46,$A44,'4 x 50 Obs Relay Men'!$AH$7:$AH$46))>2+MAX('4 x 50 Obs Relay Men'!$AH$7:$AH$46),MAX('4 x 50 Obs Relay Men'!$AH$7:$AH$46),IF(SUMIF('4 x 50 Obs Relay Men'!$C$7:$C$46,$A44,'4 x 50 Obs Relay Men'!$AH$7:$AH$46)=0,1+MAX('4 x 50 Obs Relay Men'!$AH$7:$AH$46),SUMIF('4 x 50 Obs Relay Men'!$C$7:$C$46,$A44,'4 x 50 Obs Relay Men'!$AH$7:$AH$46))))","v":""},{"$f":"IF($A44=\"\",\"\",IF(IF(SUMIF('4 x 50 medley Relay Men'!$C$7:$C$46,$A44,'4 x 50 medley Relay Men'!$AH$7:$AH$46)=0,1+MAX('4 x 50 medley Relay Men'!$AH$7:$AH$46),SUMIF('4 x 50 medley Relay Men'!$C$7:$C$46,$A44,'4 x 50 medley Relay Men'!$AH$7:$AH$46))>2+MAX('4 x 50 medley Relay Men'!$AH$7:$AH$46),MAX('4 x 50 medley Relay Men'!$AH$7:$AH$46),IF(SUMIF('4 x 50 medley Relay Men'!$C$7:$C$46,$A44,'4 x 50 medley Relay Men'!$AH$7:$AH$46)=0,1+MAX('4 x 50 medley Relay Men'!$AH$7:$AH$46),SUMIF('4 x 50 medley Relay Men'!$C$7:$C$46,$A44,'4 x 50 medley Relay Men'!$AH$7:$AH$46))))","v":""},{"$f":"IF($A44=\"\",\"\",IF(IF(SUMIF('4 x 25 Manikin Carry Relay Men'!$C$7:$C$46,$A44,'4 x 25 Manikin Carry Relay Men'!$AH$7:$AH$46)=0,1+MAX('4 x 25 Manikin Carry Relay Men'!$AH$7:$AH$46),SUMIF('4 x 25 Manikin Carry Relay Men'!$C$7:$C$46,$A44,'4 x 25 Manikin Carry Relay Men'!$AH$7:$AH$46))>2+MAX('4 x 25 Manikin Carry Relay Men'!$AH$7:$AH$46),MAX('4 x 25 Manikin Carry Relay Men'!$AH$7:$AH$46),IF(SUMIF('4 x 25 Manikin Carry Relay Men'!$C$7:$C$46,$A44,'4 x 25 Manikin Carry Relay Men'!$AH$7:$AH$46)=0,1+MAX('4 x 25 Manikin Carry Relay Men'!$AH$7:$AH$46),SUMIF('4 x 25 Manikin Carry Relay Men'!$C$7:$C$46,$A44,'4 x 25 Manikin Carry Relay Men'!$AH$7:$AH$46))))","v":""},{"$f":"IF($A44=\"\",\"\",IF(IF(SUMIF('Line Throw Relay Men'!$C$7:$C$46,$A44,'Line Throw Relay Men'!$AH$7:$AH$46)=0,1+MAX('Line Throw Relay Men'!$AH$7:$AH$46),SUMIF('Line Throw Relay Men'!$C$7:$C$46,$A44,'Line Throw Relay Men'!$AH$7:$AH$46))>2+MAX('Line Throw Relay Men'!$AH$7:$AH$46),MAX('Line Throw Relay Men'!$AH$7:$AH$46),IF(SUMIF('Line Throw Relay Men'!$C$7:$C$46,$A44,'Line Throw Relay Men'!$AH$7:$AH$46)=0,1+MAX('Line Throw Relay Men'!$AH$7:$AH$46),SUMIF('Line Throw Relay Men'!$C$7:$C$46,$A44,'Line Throw Relay Men'!$AH$7:$AH$46))))","v":""},"",""]
["","",{"$f":"IF($A45=\"\",\"\",IF(IF(SUMIF('50m Manikin Carry Men'!$C$7:$C$46,$A45,'50m Manikin Carry Men'!$AC$7:$AC$46)=0,1+MAX('50m Manikin Carry Men'!$AC$7:$AC$46),SUMIF('50m Manikin Carry Men'!$C$7:$C$46,$A45,'50m Manikin Carry Men'!$AC$7:$AC$46))>MAX('50m Manikin Carry Men'!$AC$7:$AC$46)+2,MAX('50m Manikin Carry Men'!$AC$7:$AC$46),IF(SUMIF('50m Manikin Carry Men'!$C$7:$C$46,$A45,'50m Manikin Carry Men'!$AC$7:$AC$46)=0,1+MAX('50m Manikin Carry Men'!$AC$7:$AC$46),SUMIF('50m Manikin Carry Men'!$C$7:$C$46,$A45,'50m Manikin Carry Men'!$AC$7:$AC$46))))","v":""},{"$f":"IF($A45=\"\",\"\",IF(IF(SUMIF('100m Manikin Carry Men'!$C$7:$C$46,$A45,'100m Manikin Carry Men'!$AC$7:$AC$46)=0,1+MAX('100m Manikin Carry Men'!$AC$7:$AC$46),SUMIF('100m Manikin Carry Men'!$C$7:$C$46,$A45,'100m Manikin Carry Men'!$AC$7:$AC$46))>2+MAX('100m Manikin Carry Men'!$AC$7:$AC$46),MAX('100m Manikin Carry Men'!$AC$7:$AC$46),IF(SUMIF('100m Manikin Carry Men'!$C$7:$C$46,$A45,'100m Manikin Carry Men'!$AC$7:$AC$46)=0,1+MAX('100m Manikin Carry Men'!$AC$7:$AC$46),SUMIF('100m Manikin Carry Men'!$C$7:$C$46,$A45,'100m Manikin Carry Men'!$AC$7:$AC$46))))","v":""},{"$f":"IF($A45=\"\",\"\",IF(IF(SUMIF('100m Manikin Tow Men'!$C$7:$C$46,$A45,'100m Manikin Tow Men'!$AC$7:$AC$46)=0,1+MAX('100m Manikin Tow Men'!$AC$7:$AC$46),SUMIF('100m Manikin Tow Men'!$C$7:$C$46,$A45,'100m Manikin Tow Men'!$AC$7:$AC$46))>2+MAX('100m Manikin Tow Men'!$AC$7:$AC$46),MAX('100m Manikin Tow Men'!$AC$7:$AC$46),IF(SUMIF('100m Manikin Tow Men'!$C$7:$C$46,$A45,'100m Manikin Tow Men'!$AC$7:$AC$46)=0,1+MAX('100m Manikin Tow Men'!$AC$7:$AC$46),SUMIF('100m Manikin Tow Men'!$C$7:$C$46,$A45,'100m Manikin Tow Men'!$AC$7:$AC$46))))","v":""},{"$f":"IF($A45=\"\",\"\",IF(IF(SUMIF('200m Obs Men'!$C$7:$C$46,$A45,'200m Obs Men'!$AC$7:$AC$46)=0,1+MAX('200m Obs Men'!$AC$7:$AC$46),SUMIF('200m Obs Men'!$C$7:$C$46,$A45,'200m Obs Men'!$AC$7:$AC$46))>2+MAX('200m Obs Men'!$AC$7:$AC$46),MAX('200m Obs Men'!$AC$7:$AC$46),IF(SUMIF('200m Obs Men'!$C$7:$C$46,$A45,'200m Obs Men'!$AC$7:$AC$46)=0,1+MAX('200m Obs Men'!$AC$7:$AC$46),SUMIF('200m Obs Men'!$C$7:$C$46,$A45,'200m Obs Men'!$AC$7:$AC$46))))","v":""},{"$f":"IF($A45=\"\",\"\",IF(IF(SUMIF('200m Super Men'!$C$7:$C$46,$A45,'200m Super Men'!$AC$7:$AC$46)=0,1+MAX('200m Super Men'!$AC$7:$AC$46),SUMIF('200m Super Men'!$C$7:$C$46,$A45,'200m Super Men'!$AC$7:$AC$46))>2+MAX('200m Super Men'!$AC$7:$AC$46),MAX('200m Super Men'!$AC$7:$AC$46),IF(SUMIF('200m Super Men'!$C$7:$C$46,$A45,'200m Super Men'!$AC$7:$AC$46)=0,1+MAX('200m Super Men'!$AC$7:$AC$46),SUMIF('200m Super Men'!$C$7:$C$46,$A45,'200m Super Men'!$AC$7:$AC$46))))","v":""},{"$f":"IF($A45=\"\",\"\",IF(IF(SUMIF('100 Resue Men'!$C$7:$C$46,$A45,'100 Resue Men'!$AC$7:$AC$46)=0,1+MAX('100 Resue Men'!$AC$7:$AC$46),SUMIF('100 Resue Men'!$C$7:$C$46,$A45,'100 Resue Men'!$AC$7:$AC$46))>2+MAX('100 Resue Men'!$AC$7:$AC$46),MAX('100 Resue Men'!$AC$7:$AC$46),IF(SUMIF('100 Resue Men'!$C$7:$C$46,$A45,'100 Resue Men'!$AC$7:$AC$46)=0,1+MAX('100 Resue Men'!$AC$7:$AC$46),SUMIF('100 Resue Men'!$C$7:$C$46,$A45,'100 Resue Men'!$AC$7:$AC$46))))","v":""},{"$f":"IF($A45=\"\",\"\",IF(IF(SUMIF('Line Throw Men'!$C$7:$C$46,$A45,'Line Throw Men'!$AE$7:$AE$46)=0,MAX('Line Throw Men'!$AE$7:$AE$46),SUMIF('Line Throw Men'!$C$7:$C$46,$A45,'Line Throw Men'!$AE$7:$AE$46))>2+MAX('Line Throw Men'!$AE$7:$AE$46),MAX('Line Throw Men'!$AE$7:$AE$46),IF(SUMIF('Line Throw Men'!$C$7:$C$46,$A45,'Line Throw Men'!$AE$7:$AE$46)=0,1+MAX('Line Throw Men'!$AE$7:$AE$46),SUMIF('Line Throw Men'!$C$7:$C$46,$A45,'Line Throw Men'!$AE$7:$AE$46))))","v":""},{"$f":"IF($A45=\"\",\"\",IF(IF(SUMIF('4 x 50 Obs Relay Men'!$C$7:$C$46,$A45,'4 x 50 Obs Relay Men'!$AH$7:$AH$46)=0,1+MAX('4 x 50 Obs Relay Men'!$AH$7:$AH$46),SUMIF('4 x 50 Obs Relay Men'!$C$7:$C$46,$A45,'4 x 50 Obs Relay Men'!$AH$7:$AH$46))>2+MAX('4 x 50 Obs Relay Men'!$AH$7:$AH$46),MAX('4 x 50 Obs Relay Men'!$AH$7:$AH$46),IF(SUMIF('4 x 50 Obs Relay Men'!$C$7:$C$46,$A45,'4 x 50 Obs Relay Men'!$AH$7:$AH$46)=0,1+MAX('4 x 50 Obs Relay Men'!$AH$7:$AH$46),SUMIF('4 x 50 Obs Relay Men'!$C$7:$C$46,$A45,'4 x 50 Obs Relay Men'!$AH$7:$AH$46))))","v":""},{"$f":"IF($A45=\"\",\"\",IF(IF(SUMIF('4 x 50 medley Relay Men'!$C$7:$C$46,$A45,'4 x 50 medley Relay Men'!$AH$7:$AH$46)=0,1+MAX('4 x 50 medley Relay Men'!$AH$7:$AH$46),SUMIF('4 x 50 medley Relay Men'!$C$7:$C$46,$A45,'4 x 50 medley Relay Men'!$AH$7:$AH$46))>2+MAX('4 x 50 medley Relay Men'!$AH$7:$AH$46),MAX('4 x 50 medley Relay Men'!$AH$7:$AH$46),IF(SUMIF('4 x 50 medley Relay Men'!$C$7:$C$46,$A45,'4 x 50 medley Relay Men'!$AH$7:$AH$46)=0,1+MAX('4 x 50 medley Relay Men'!$AH$7:$AH$46),SUMIF('4 x 50 medley Relay Men'!$C$7:$C$46,$A45,'4 x 50 medley Relay Men'!$AH$7:$AH$46))))","v":""},{"$f":"IF($A45=\"\",\"\",IF(IF(SUMIF('4 x 25 Manikin Carry Relay Men'!$C$7:$C$46,$A45,'4 x 25 Manikin Carry Relay Men'!$AH$7:$AH$46)=0,1+MAX('4 x 25 Manikin Carry Relay Men'!$AH$7:$AH$46),SUMIF('4 x 25 Manikin Carry Relay Men'!$C$7:$C$46,$A45,'4 x 25 Manikin Carry Relay Men'!$AH$7:$AH$46))>2+MAX('4 x 25 Manikin Carry Relay Men'!$AH$7:$AH$46),MAX('4 x 25 Manikin Carry Relay Men'!$AH$7:$AH$46),IF(SUMIF('4 x 25 Manikin Carry Relay Men'!$C$7:$C$46,$A45,'4 x 25 Manikin Carry Relay Men'!$AH$7:$AH$46)=0,1+MAX('4 x 25 Manikin Carry Relay Men'!$AH$7:$AH$46),SUMIF('4 x 25 Manikin Carry Relay Men'!$C$7:$C$46,$A45,'4 x 25 Manikin Carry Relay Men'!$AH$7:$AH$46))))","v":""},{"$f":"IF($A45=\"\",\"\",IF(IF(SUMIF('Line Throw Relay Men'!$C$7:$C$46,$A45,'Line Throw Relay Men'!$AH$7:$AH$46)=0,1+MAX('Line Throw Relay Men'!$AH$7:$AH$46),SUMIF('Line Throw Relay Men'!$C$7:$C$46,$A45,'Line Throw Relay Men'!$AH$7:$AH$46))>2+MAX('Line Throw Relay Men'!$AH$7:$AH$46),MAX('Line Throw Relay Men'!$AH$7:$AH$46),IF(SUMIF('Line Throw Relay Men'!$C$7:$C$46,$A45,'Line Throw Relay Men'!$AH$7:$AH$46)=0,1+MAX('Line Throw Relay Men'!$AH$7:$AH$46),SUMIF('Line Throw Relay Men'!$C$7:$C$46,$A45,'Line Throw Relay Men'!$AH$7:$AH$46))))","v":""},"",""]
["","",{"$f":"IF($A46=\"\",\"\",IF(IF(SUMIF('50m Manikin Carry Men'!$C$7:$C$46,$A46,'50m Manikin Carry Men'!$AC$7:$AC$46)=0,1+MAX('50m Manikin Carry Men'!$AC$7:$AC$46),SUMIF('50m Manikin Carry Men'!$C$7:$C$46,$A46,'50m Manikin Carry Men'!$AC$7:$AC$46))>MAX('50m Manikin Carry Men'!$AC$7:$AC$46)+2,MAX('50m Manikin Carry Men'!$AC$7:$AC$46),IF(SUMIF('50m Manikin Carry Men'!$C$7:$C$46,$A46,'50m Manikin Carry Men'!$AC$7:$AC$46)=0,1+MAX('50m Manikin Carry Men'!$AC$7:$AC$46),SUMIF('50m Manikin Carry Men'!$C$7:$C$46,$A46,'50m Manikin Carry Men'!$AC$7:$AC$46))))","v":""},{"$f":"IF($A46=\"\",\"\",IF(IF(SUMIF('100m Manikin Carry Men'!$C$7:$C$46,$A46,'100m Manikin Carry Men'!$AC$7:$AC$46)=0,1+MAX('100m Manikin Carry Men'!$AC$7:$AC$46),SUMIF('100m Manikin Carry Men'!$C$7:$C$46,$A46,'100m Manikin Carry Men'!$AC$7:$AC$46))>2+MAX('100m Manikin Carry Men'!$AC$7:$AC$46),MAX('100m Manikin Carry Men'!$AC$7:$AC$46),IF(SUMIF('100m Manikin Carry Men'!$C$7:$C$46,$A46,'100m Manikin Carry Men'!$AC$7:$AC$46)=0,1+MAX('100m Manikin Carry Men'!$AC$7:$AC$46),SUMIF('100m Manikin Carry Men'!$C$7:$C$46,$A46,'100m Manikin Carry Men'!$AC$7:$AC$46))))","v":""},{"$f":"IF($A46=\"\",\"\",IF(IF(SUMIF('100m Manikin Tow Men'!$C$7:$C$46,$A46,'100m Manikin Tow Men'!$AC$7:$AC$46)=0,1+MAX('100m Manikin Tow Men'!$AC$7:$AC$46),SUMIF('100m Manikin Tow Men'!$C$7:$C$46,$A46,'100m Manikin Tow Men'!$AC$7:$AC$46))>2+MAX('100m Manikin Tow Men'!$AC$7:$AC$46),MAX('100m Manikin Tow Men'!$AC$7:$AC$46),IF(SUMIF('100m Manikin Tow Men'!$C$7:$C$46,$A46,'100m Manikin Tow Men'!$AC$7:$AC$46)=0,1+MAX('100m Manikin Tow Men'!$AC$7:$AC$46),SUMIF('100m Manikin Tow Men'!$C$7:$C$46,$A46,'100m Manikin Tow Men'!$AC$7:$AC$46))))","v":""},{"$f":"IF($A46=\"\",\"\",IF(IF(SUMIF('200m Obs Men'!$C$7:$C$46,$A46,'200m Obs Men'!$AC$7:$AC$46)=0,1+MAX('200m Obs Men'!$AC$7:$AC$46),SUMIF('200m Obs Men'!$C$7:$C$46,$A46,'200m Obs Men'!$AC$7:$AC$46))>2+MAX('200m Obs Men'!$AC$7:$AC$46),MAX('200m Obs Men'!$AC$7:$AC$46),IF(SUMIF('200m Obs Men'!$C$7:$C$46,$A46,'200m Obs Men'!$AC$7:$AC$46)=0,1+MAX('200m Obs Men'!$AC$7:$AC$46),SUMIF('200m Obs Men'!$C$7:$C$46,$A46,'200m Obs Men'!$AC$7:$AC$46))))","v":""},{"$f":"IF($A46=\"\",\"\",IF(IF(SUMIF('200m Super Men'!$C$7:$C$46,$A46,'200m Super Men'!$AC$7:$AC$46)=0,1+MAX('200m Super Men'!$AC$7:$AC$46),SUMIF('200m Super Men'!$C$7:$C$46,$A46,'200m Super Men'!$AC$7:$AC$46))>2+MAX('200m Super Men'!$AC$7:$AC$46),MAX('200m Super Men'!$AC$7:$AC$46),IF(SUMIF('200m Super Men'!$C$7:$C$46,$A46,'200m Super Men'!$AC$7:$AC$46)=0,1+MAX('200m Super Men'!$AC$7:$AC$46),SUMIF('200m Super Men'!$C$7:$C$46,$A46,'200m Super Men'!$AC$7:$AC$46))))","v":""},{"$f":"IF($A46=\"\",\"\",IF(IF(SUMIF('100 Resue Men'!$C$7:$C$46,$A46,'100 Resue Men'!$AC$7:$AC$46)=0,1+MAX('100 Resue Men'!$AC$7:$AC$46),SUMIF('100 Resue Men'!$C$7:$C$46,$A46,'100 Resue Men'!$AC$7:$AC$46))>2+MAX('100 Resue Men'!$AC$7:$AC$46),MAX('100 Resue Men'!$AC$7:$AC$46),IF(SUMIF('100 Resue Men'!$C$7:$C$46,$A46,'100 Resue Men'!$AC$7:$AC$46)=0,1+MAX('100 Resue Men'!$AC$7:$AC$46),SUMIF('100 Resue Men'!$C$7:$C$46,$A46,'100 Resue Men'!$AC$7:$AC$46))))","v":""},{"$f":"IF($A46=\"\",\"\",IF(IF(SUMIF('Line Throw Men'!$C$7:$C$46,$A46,'Line Throw Men'!$AE$7:$AE$46)=0,MAX('Line Throw Men'!$AE$7:$AE$46),SUMIF('Line Throw Men'!$C$7:$C$46,$A46,'Line Throw Men'!$AE$7:$AE$46))>2+MAX('Line Throw Men'!$AE$7:$AE$46),MAX('Line Throw Men'!$AE$7:$AE$46),IF(SUMIF('Line Throw Men'!$C$7:$C$46,$A46,'Line Throw Men'!$AE$7:$AE$46)=0,1+MAX('Line Throw Men'!$AE$7:$AE$46),SUMIF('Line Throw Men'!$C$7:$C$46,$A46,'Line Throw Men'!$AE$7:$AE$46))))","v":""},{"$f":"IF($A46=\"\",\"\",IF(IF(SUMIF('4 x 50 Obs Relay Men'!$C$7:$C$46,$A46,'4 x 50 Obs Relay Men'!$AH$7:$AH$46)=0,1+MAX('4 x 50 Obs Relay Men'!$AH$7:$AH$46),SUMIF('4 x 50 Obs Relay Men'!$C$7:$C$46,$A46,'4 x 50 Obs Relay Men'!$AH$7:$AH$46))>2+MAX('4 x 50 Obs Relay Men'!$AH$7:$AH$46),MAX('4 x 50 Obs Relay Men'!$AH$7:$AH$46),IF(SUMIF('4 x 50 Obs Relay Men'!$C$7:$C$46,$A46,'4 x 50 Obs Relay Men'!$AH$7:$AH$46)=0,1+MAX('4 x 50 Obs Relay Men'!$AH$7:$AH$46),SUMIF('4 x 50 Obs Relay Men'!$C$7:$C$46,$A46,'4 x 50 Obs Relay Men'!$AH$7:$AH$46))))","v":""},{"$f":"IF($A46=\"\",\"\",IF(IF(SUMIF('4 x 50 medley Relay Men'!$C$7:$C$46,$A46,'4 x 50 medley Relay Men'!$AH$7:$AH$46)=0,1+MAX('4 x 50 medley Relay Men'!$AH$7:$AH$46),SUMIF('4 x 50 medley Relay Men'!$C$7:$C$46,$A46,'4 x 50 medley Relay Men'!$AH$7:$AH$46))>2+MAX('4 x 50 medley Relay Men'!$AH$7:$AH$46),MAX('4 x 50 medley Relay Men'!$AH$7:$AH$46),IF(SUMIF('4 x 50 medley Relay Men'!$C$7:$C$46,$A46,'4 x 50 medley Relay Men'!$AH$7:$AH$46)=0,1+MAX('4 x 50 medley Relay Men'!$AH$7:$AH$46),SUMIF('4 x 50 medley Relay Men'!$C$7:$C$46,$A46,'4 x 50 medley Relay Men'!$AH$7:$AH$46))))","v":""},{"$f":"IF($A46=\"\",\"\",IF(IF(SUMIF('4 x 25 Manikin Carry Relay Men'!$C$7:$C$46,$A46,'4 x 25 Manikin Carry Relay Men'!$AH$7:$AH$46)=0,1+MAX('4 x 25 Manikin Carry Relay Men'!$AH$7:$AH$46),SUMIF('4 x 25 Manikin Carry Relay Men'!$C$7:$C$46,$A46,'4 x 25 Manikin Carry Relay Men'!$AH$7:$AH$46))>2+MAX('4 x 25 Manikin Carry Relay Men'!$AH$7:$AH$46),MAX('4 x 25 Manikin Carry Relay Men'!$AH$7:$AH$46),IF(SUMIF('4 x 25 Manikin Carry Relay Men'!$C$7:$C$46,$A46,'4 x 25 Manikin Carry Relay Men'!$AH$7:$AH$46)=0,1+MAX('4 x 25 Manikin Carry Relay Men'!$AH$7:$AH$46),SUMIF('4 x 25 Manikin Carry Relay Men'!$C$7:$C$46,$A46,'4 x 25 Manikin Carry Relay Men'!$AH$7:$AH$46))))","v":""},{"$f":"IF($A46=\"\",\"\",IF(IF(SUMIF('Line Throw Relay Men'!$C$7:$C$46,$A46,'Line Throw Relay Men'!$AH$7:$AH$46)=0,1+MAX('Line Throw Relay Men'!$AH$7:$AH$46),SUMIF('Line Throw Relay Men'!$C$7:$C$46,$A46,'Line Throw Relay Men'!$AH$7:$AH$46))>2+MAX('Line Throw Relay Men'!$AH$7:$AH$46),MAX('Line Throw Relay Men'!$AH$7:$AH$46),IF(SUMIF('Line Throw Relay Men'!$C$7:$C$46,$A46,'Line Throw Relay Men'!$AH$7:$AH$46)=0,1+MAX('Line Throw Relay Men'!$AH$7:$AH$46),SUMIF('Line Throw Relay Men'!$C$7:$C$46,$A46,'Line Throw Relay Men'!$AH$7:$AH$46))))","v":""},"",""]
["","",{"$f":"IF($A47=\"\",\"\",IF(IF(SUMIF('50m Manikin Carry Men'!$C$7:$C$46,$A47,'50m Manikin Carry Men'!$AC$7:$AC$46)=0,1+MAX('50m Manikin Carry Men'!$AC$7:$AC$46),SUMIF('50m Manikin Carry Men'!$C$7:$C$46,$A47,'50m Manikin Carry Men'!$AC$7:$AC$46))>MAX('50m Manikin Carry Men'!$AC$7:$AC$46)+2,MAX('50m Manikin Carry Men'!$AC$7:$AC$46),IF(SUMIF('50m Manikin Carry Men'!$C$7:$C$46,$A47,'50m Manikin Carry Men'!$AC$7:$AC$46)=0,1+MAX('50m Manikin Carry Men'!$AC$7:$AC$46),SUMIF('50m Manikin Carry Men'!$C$7:$C$46,$A47,'50m Manikin Carry Men'!$AC$7:$AC$46))))","v":""},{"$f":"IF($A47=\"\",\"\",IF(IF(SUMIF('100m Manikin Carry Men'!$C$7:$C$46,$A47,'100m Manikin Carry Men'!$AC$7:$AC$46)=0,1+MAX('100m Manikin Carry Men'!$AC$7:$AC$46),SUMIF('100m Manikin Carry Men'!$C$7:$C$46,$A47,'100m Manikin Carry Men'!$AC$7:$AC$46))>2+MAX('100m Manikin Carry Men'!$AC$7:$AC$46),MAX('100m Manikin Carry Men'!$AC$7:$AC$46),IF(SUMIF('100m Manikin Carry Men'!$C$7:$C$46,$A47,'100m Manikin Carry Men'!$AC$7:$AC$46)=0,1+MAX('100m Manikin Carry Men'!$AC$7:$AC$46),SUMIF('100m Manikin Carry Men'!$C$7:$C$46,$A47,'100m Manikin Carry Men'!$AC$7:$AC$46))))","v":""},{"$f":"IF($A47=\"\",\"\",IF(IF(SUMIF('100m Manikin Tow Men'!$C$7:$C$46,$A47,'100m Manikin Tow Men'!$AC$7:$AC$46)=0,1+MAX('100m Manikin Tow Men'!$AC$7:$AC$46),SUMIF('100m Manikin Tow Men'!$C$7:$C$46,$A47,'100m Manikin Tow Men'!$AC$7:$AC$46))>2+MAX('100m Manikin Tow Men'!$AC$7:$AC$46),MAX('100m Manikin Tow Men'!$AC$7:$AC$46),IF(SUMIF('100m Manikin Tow Men'!$C$7:$C$46,$A47,'100m Manikin Tow Men'!$AC$7:$AC$46)=0,1+MAX('100m Manikin Tow Men'!$AC$7:$AC$46),SUMIF('100m Manikin Tow Men'!$C$7:$C$46,$A47,'100m Manikin Tow Men'!$AC$7:$AC$46))))","v":""},{"$f":"IF($A47=\"\",\"\",IF(IF(SUMIF('200m Obs Men'!$C$7:$C$46,$A47,'200m Obs Men'!$AC$7:$AC$46)=0,1+MAX('200m Obs Men'!$AC$7:$AC$46),SUMIF('200m Obs Men'!$C$7:$C$46,$A47,'200m Obs Men'!$AC$7:$AC$46))>2+MAX('200m Obs Men'!$AC$7:$AC$46),MAX('200m Obs Men'!$AC$7:$AC$46),IF(SUMIF('200m Obs Men'!$C$7:$C$46,$A47,'200m Obs Men'!$AC$7:$AC$46)=0,1+MAX('200m Obs Men'!$AC$7:$AC$46),SUMIF('200m Obs Men'!$C$7:$C$46,$A47,'200m Obs Men'!$AC$7:$AC$46))))","v":""},{"$f":"IF($A47=\"\",\"\",IF(IF(SUMIF('200m Super Men'!$C$7:$C$46,$A47,'200m Super Men'!$AC$7:$AC$46)=0,1+MAX('200m Super Men'!$AC$7:$AC$46),SUMIF('200m Super Men'!$C$7:$C$46,$A47,'200m Super Men'!$AC$7:$AC$46))>2+MAX('200m Super Men'!$AC$7:$AC$46),MAX('200m Super Men'!$AC$7:$AC$46),IF(SUMIF('200m Super Men'!$C$7:$C$46,$A47,'200m Super Men'!$AC$7:$AC$46)=0,1+MAX('200m Super Men'!$AC$7:$AC$46),SUMIF('200m Super Men'!$C$7:$C$46,$A47,'200m Super Men'!$AC$7:$AC$46))))","v":""},{"$f":"IF($A47=\"\",\"\",IF(IF(SUMIF('100 Resue Men'!$C$7:$C$46,$A47,'100 Resue Men'!$AC$7:$AC$46)=0,1+MAX('100 Resue Men'!$AC$7:$AC$46),SUMIF('100 Resue Men'!$C$7:$C$46,$A47,'100 Resue Men'!$AC$7:$AC$46))>2+MAX('100 Resue Men'!$AC$7:$AC$46),MAX('100 Resue Men'!$AC$7:$AC$46),IF(SUMIF('100 Resue Men'!$C$7:$C$46,$A47,'100 Resue Men'!$AC$7:$AC$46)=0,1+MAX('100 Resue Men'!$AC$7:$AC$46),SUMIF('100 Resue Men'!$C$7:$C$46,$A47,'100 Resue Men'!$AC$7:$AC$46))))","v":""},{"$f":"IF($A47=\"\",\"\",IF(IF(SUMIF('Line Throw Men'!$C$7:$C$46,$A47,'Line Throw Men'!$AE$7:$AE$46)=0,MAX('Line Throw Men'!$AE$7:$AE$46),SUMIF('Line Throw Men'!$C$7:$C$46,$A47,'Line Throw Men'!$AE$7:$AE$46))>2+MAX('Line Throw Men'!$AE$7:$AE$46),MAX('Line Throw Men'!$AE$7:$AE$46),IF(SUMIF('Line Throw Men'!$C$7:$C$46,$A47,'Line Throw Men'!$AE$7:$AE$46)=0,1+MAX('Line Throw Men'!$AE$7:$AE$46),SUMIF('Line Throw Men'!$C$7:$C$46,$A47,'Line Throw Men'!$AE$7:$AE$46))))","v":""},{"$f":"IF($A47=\"\",\"\",IF(IF(SUMIF('4 x 50 Obs Relay Men'!$C$7:$C$46,$A47,'4 x 50 Obs Relay Men'!$AH$7:$AH$46)=0,1+MAX('4 x 50 Obs Relay Men'!$AH$7:$AH$46),SUMIF('4 x 50 Obs Relay Men'!$C$7:$C$46,$A47,'4 x 50 Obs Relay Men'!$AH$7:$AH$46))>2+MAX('4 x 50 Obs Relay Men'!$AH$7:$AH$46),MAX('4 x 50 Obs Relay Men'!$AH$7:$AH$46),IF(SUMIF('4 x 50 Obs Relay Men'!$C$7:$C$46,$A47,'4 x 50 Obs Relay Men'!$AH$7:$AH$46)=0,1+MAX('4 x 50 Obs Relay Men'!$AH$7:$AH$46),SUMIF('4 x 50 Obs Relay Men'!$C$7:$C$46,$A47,'4 x 50 Obs Relay Men'!$AH$7:$AH$46))))","v":""},{"$f":"IF($A47=\"\",\"\",IF(IF(SUMIF('4 x 50 medley Relay Men'!$C$7:$C$46,$A47,'4 x 50 medley Relay Men'!$AH$7:$AH$46)=0,1+MAX('4 x 50 medley Relay Men'!$AH$7:$AH$46),SUMIF('4 x 50 medley Relay Men'!$C$7:$C$46,$A47,'4 x 50 medley Relay Men'!$AH$7:$AH$46))>2+MAX('4 x 50 medley Relay Men'!$AH$7:$AH$46),MAX('4 x 50 medley Relay Men'!$AH$7:$AH$46),IF(SUMIF('4 x 50 medley Relay Men'!$C$7:$C$46,$A47,'4 x 50 medley Relay Men'!$AH$7:$AH$46)=0,1+MAX('4 x 50 medley Relay Men'!$AH$7:$AH$46),SUMIF('4 x 50 medley Relay Men'!$C$7:$C$46,$A47,'4 x 50 medley Relay Men'!$AH$7:$AH$46))))","v":""},{"$f":"IF($A47=\"\",\"\",IF(IF(SUMIF('4 x 25 Manikin Carry Relay Men'!$C$7:$C$46,$A47,'4 x 25 Manikin Carry Relay Men'!$AH$7:$AH$46)=0,1+MAX('4 x 25 Manikin Carry Relay Men'!$AH$7:$AH$46),SUMIF('4 x 25 Manikin Carry Relay Men'!$C$7:$C$46,$A47,'4 x 25 Manikin Carry Relay Men'!$AH$7:$AH$46))>2+MAX('4 x 25 Manikin Carry Relay Men'!$AH$7:$AH$46),MAX('4 x 25 Manikin Carry Relay Men'!$AH$7:$AH$46),IF(SUMIF('4 x 25 Manikin Carry Relay Men'!$C$7:$C$46,$A47,'4 x 25 Manikin Carry Relay Men'!$AH$7:$AH$46)=0,1+MAX('4 x 25 Manikin Carry Relay Men'!$AH$7:$AH$46),SUMIF('4 x 25 Manikin Carry Relay Men'!$C$7:$C$46,$A47,'4 x 25 Manikin Carry Relay Men'!$AH$7:$AH$46))))","v":""},{"$f":"IF($A47=\"\",\"\",IF(IF(SUMIF('Line Throw Relay Men'!$C$7:$C$46,$A47,'Line Throw Relay Men'!$AH$7:$AH$46)=0,1+MAX('Line Throw Relay Men'!$AH$7:$AH$46),SUMIF('Line Throw Relay Men'!$C$7:$C$46,$A47,'Line Throw Relay Men'!$AH$7:$AH$46))>2+MAX('Line Throw Relay Men'!$AH$7:$AH$46),MAX('Line Throw Relay Men'!$AH$7:$AH$46),IF(SUMIF('Line Throw Relay Men'!$C$7:$C$46,$A47,'Line Throw Relay Men'!$AH$7:$AH$46)=0,1+MAX('Line Throw Relay Men'!$AH$7:$AH$46),SUMIF('Line Throw Relay Men'!$C$7:$C$46,$A47,'Line Throw Relay Men'!$AH$7:$AH$46))))","v":""},"",""]
["","",{"$f":"IF($A48=\"\",\"\",IF(IF(SUMIF('50m Manikin Carry Men'!$C$7:$C$46,$A48,'50m Manikin Carry Men'!$AC$7:$AC$46)=0,1+MAX('50m Manikin Carry Men'!$AC$7:$AC$46),SUMIF('50m Manikin Carry Men'!$C$7:$C$46,$A48,'50m Manikin Carry Men'!$AC$7:$AC$46))>MAX('50m Manikin Carry Men'!$AC$7:$AC$46)+2,MAX('50m Manikin Carry Men'!$AC$7:$AC$46),IF(SUMIF('50m Manikin Carry Men'!$C$7:$C$46,$A48,'50m Manikin Carry Men'!$AC$7:$AC$46)=0,1+MAX('50m Manikin Carry Men'!$AC$7:$AC$46),SUMIF('50m Manikin Carry Men'!$C$7:$C$46,$A48,'50m Manikin Carry Men'!$AC$7:$AC$46))))","v":""},{"$f":"IF($A48=\"\",\"\",IF(IF(SUMIF('100m Manikin Carry Men'!$C$7:$C$46,$A48,'100m Manikin Carry Men'!$AC$7:$AC$46)=0,1+MAX('100m Manikin Carry Men'!$AC$7:$AC$46),SUMIF('100m Manikin Carry Men'!$C$7:$C$46,$A48,'100m Manikin Carry Men'!$AC$7:$AC$46))>2+MAX('100m Manikin Carry Men'!$AC$7:$AC$46),MAX('100m Manikin Carry Men'!$AC$7:$AC$46),IF(SUMIF('100m Manikin Carry Men'!$C$7:$C$46,$A48,'100m Manikin Carry Men'!$AC$7:$AC$46)=0,1+MAX('100m Manikin Carry Men'!$AC$7:$AC$46),SUMIF('100m Manikin Carry Men'!$C$7:$C$46,$A48,'100m Manikin Carry Men'!$AC$7:$AC$46))))","v":""},{"$f":"IF($A48=\"\",\"\",IF(IF(SUMIF('100m Manikin Tow Men'!$C$7:$C$46,$A48,'100m Manikin Tow Men'!$AC$7:$AC$46)=0,1+MAX('100m Manikin Tow Men'!$AC$7:$AC$46),SUMIF('100m Manikin Tow Men'!$C$7:$C$46,$A48,'100m Manikin Tow Men'!$AC$7:$AC$46))>2+MAX('100m Manikin Tow Men'!$AC$7:$AC$46),MAX('100m Manikin Tow Men'!$AC$7:$AC$46),IF(SUMIF('100m Manikin Tow Men'!$C$7:$C$46,$A48,'100m Manikin Tow Men'!$AC$7:$AC$46)=0,1+MAX('100m Manikin Tow Men'!$AC$7:$AC$46),SUMIF('100m Manikin Tow Men'!$C$7:$C$46,$A48,'100m Manikin Tow Men'!$AC$7:$AC$46))))","v":""},{"$f":"IF($A48=\"\",\"\",IF(IF(SUMIF('200m Obs Men'!$C$7:$C$46,$A48,'200m Obs Men'!$AC$7:$AC$46)=0,1+MAX('200m Obs Men'!$AC$7:$AC$46),SUMIF('200m Obs Men'!$C$7:$C$46,$A48,'200m Obs Men'!$AC$7:$AC$46))>2+MAX('200m Obs Men'!$AC$7:$AC$46),MAX('200m Obs Men'!$AC$7:$AC$46),IF(SUMIF('200m Obs Men'!$C$7:$C$46,$A48,'200m Obs Men'!$AC$7:$AC$46)=0,1+MAX('200m Obs Men'!$AC$7:$AC$46),SUMIF('200m Obs Men'!$C$7:$C$46,$A48,'200m Obs Men'!$AC$7:$AC$46))))","v":""},{"$f":"IF($A48=\"\",\"\",IF(IF(SUMIF('200m Super Men'!$C$7:$C$46,$A48,'200m Super Men'!$AC$7:$AC$46)=0,1+MAX('200m Super Men'!$AC$7:$AC$46),SUMIF('200m Super Men'!$C$7:$C$46,$A48,'200m Super Men'!$AC$7:$AC$46))>2+MAX('200m Super Men'!$AC$7:$AC$46),MAX('200m Super Men'!$AC$7:$AC$46),IF(SUMIF('200m Super Men'!$C$7:$C$46,$A48,'200m Super Men'!$AC$7:$AC$46)=0,1+MAX('200m Super Men'!$AC$7:$AC$46),SUMIF('200m Super Men'!$C$7:$C$46,$A48,'200m Super Men'!$AC$7:$AC$46))))","v":""},{"$f":"IF($A48=\"\",\"\",IF(IF(SUMIF('100 Resue Men'!$C$7:$C$46,$A48,'100 Resue Men'!$AC$7:$AC$46)=0,1+MAX('100 Resue Men'!$AC$7:$AC$46),SUMIF('100 Resue Men'!$C$7:$C$46,$A48,'100 Resue Men'!$AC$7:$AC$46))>2+MAX('100 Resue Men'!$AC$7:$AC$46),MAX('100 Resue Men'!$AC$7:$AC$46),IF(SUMIF('100 Resue Men'!$C$7:$C$46,$A48,'100 Resue Men'!$AC$7:$AC$46)=0,1+MAX('100 Resue Men'!$AC$7:$AC$46),SUMIF('100 Resue Men'!$C$7:$C$46,$A48,'100 Resue Men'!$AC$7:$AC$46))))","v":""},{"$f":"IF($A48=\"\",\"\",IF(IF(SUMIF('Line Throw Men'!$C$7:$C$46,$A48,'Line Throw Men'!$AE$7:$AE$46)=0,MAX('Line Throw Men'!$AE$7:$AE$46),SUMIF('Line Throw Men'!$C$7:$C$46,$A48,'Line Throw Men'!$AE$7:$AE$46))>2+MAX('Line Throw Men'!$AE$7:$AE$46),MAX('Line Throw Men'!$AE$7:$AE$46),IF(SUMIF('Line Throw Men'!$C$7:$C$46,$A48,'Line Throw Men'!$AE$7:$AE$46)=0,1+MAX('Line Throw Men'!$AE$7:$AE$46),SUMIF('Line Throw Men'!$C$7:$C$46,$A48,'Line Throw Men'!$AE$7:$AE$46))))","v":""},{"$f":"IF($A48=\"\",\"\",IF(IF(SUMIF('4 x 50 Obs Relay Men'!$C$7:$C$46,$A48,'4 x 50 Obs Relay Men'!$AH$7:$AH$46)=0,1+MAX('4 x 50 Obs Relay Men'!$AH$7:$AH$46),SUMIF('4 x 50 Obs Relay Men'!$C$7:$C$46,$A48,'4 x 50 Obs Relay Men'!$AH$7:$AH$46))>2+MAX('4 x 50 Obs Relay Men'!$AH$7:$AH$46),MAX('4 x 50 Obs Relay Men'!$AH$7:$AH$46),IF(SUMIF('4 x 50 Obs Relay Men'!$C$7:$C$46,$A48,'4 x 50 Obs Relay Men'!$AH$7:$AH$46)=0,1+MAX('4 x 50 Obs Relay Men'!$AH$7:$AH$46),SUMIF('4 x 50 Obs Relay Men'!$C$7:$C$46,$A48,'4 x 50 Obs Relay Men'!$AH$7:$AH$46))))","v":""},{"$f":"IF($A48=\"\",\"\",IF(IF(SUMIF('4 x 50 medley Relay Men'!$C$7:$C$46,$A48,'4 x 50 medley Relay Men'!$AH$7:$AH$46)=0,1+MAX('4 x 50 medley Relay Men'!$AH$7:$AH$46),SUMIF('4 x 50 medley Relay Men'!$C$7:$C$46,$A48,'4 x 50 medley Relay Men'!$AH$7:$AH$46))>2+MAX('4 x 50 medley Relay Men'!$AH$7:$AH$46),MAX('4 x 50 medley Relay Men'!$AH$7:$AH$46),IF(SUMIF('4 x 50 medley Relay Men'!$C$7:$C$46,$A48,'4 x 50 medley Relay Men'!$AH$7:$AH$46)=0,1+MAX('4 x 50 medley Relay Men'!$AH$7:$AH$46),SUMIF('4 x 50 medley Relay Men'!$C$7:$C$46,$A48,'4 x 50 medley Relay Men'!$AH$7:$AH$46))))","v":""},{"$f":"IF($A48=\"\",\"\",IF(IF(SUMIF('4 x 25 Manikin Carry Relay Men'!$C$7:$C$46,$A48,'4 x 25 Manikin Carry Relay Men'!$AH$7:$AH$46)=0,1+MAX('4 x 25 Manikin Carry Relay Men'!$AH$7:$AH$46),SUMIF('4 x 25 Manikin Carry Relay Men'!$C$7:$C$46,$A48,'4 x 25 Manikin Carry Relay Men'!$AH$7:$AH$46))>2+MAX('4 x 25 Manikin Carry Relay Men'!$AH$7:$AH$46),MAX('4 x 25 Manikin Carry Relay Men'!$AH$7:$AH$46),IF(SUMIF('4 x 25 Manikin Carry Relay Men'!$C$7:$C$46,$A48,'4 x 25 Manikin Carry Relay Men'!$AH$7:$AH$46)=0,1+MAX('4 x 25 Manikin Carry Relay Men'!$AH$7:$AH$46),SUMIF('4 x 25 Manikin Carry Relay Men'!$C$7:$C$46,$A48,'4 x 25 Manikin Carry Relay Men'!$AH$7:$AH$46))))","v":""},{"$f":"IF($A48=\"\",\"\",IF(IF(SUMIF('Line Throw Relay Men'!$C$7:$C$46,$A48,'Line Throw Relay Men'!$AH$7:$AH$46)=0,1+MAX('Line Throw Relay Men'!$AH$7:$AH$46),SUMIF('Line Throw Relay Men'!$C$7:$C$46,$A48,'Line Throw Relay Men'!$AH$7:$AH$46))>2+MAX('Line Throw Relay Men'!$AH$7:$AH$46),MAX('Line Throw Relay Men'!$AH$7:$AH$46),IF(SUMIF('Line Throw Relay Men'!$C$7:$C$46,$A48,'Line Throw Relay Men'!$AH$7:$AH$46)=0,1+MAX('Line Throw Relay Men'!$AH$7:$AH$46),SUMIF('Line Throw Relay Men'!$C$7:$C$46,$A48,'Line Throw Relay Men'!$AH$7:$AH$46))))","v":""},"",""]
["","",{"$f":"IF($A49=\"\",\"\",IF(IF(SUMIF('50m Manikin Carry Men'!$C$7:$C$46,$A49,'50m Manikin Carry Men'!$AC$7:$AC$46)=0,1+MAX('50m Manikin Carry Men'!$AC$7:$AC$46),SUMIF('50m Manikin Carry Men'!$C$7:$C$46,$A49,'50m Manikin Carry Men'!$AC$7:$AC$46))>MAX('50m Manikin Carry Men'!$AC$7:$AC$46)+2,MAX('50m Manikin Carry Men'!$AC$7:$AC$46),IF(SUMIF('50m Manikin Carry Men'!$C$7:$C$46,$A49,'50m Manikin Carry Men'!$AC$7:$AC$46)=0,1+MAX('50m Manikin Carry Men'!$AC$7:$AC$46),SUMIF('50m Manikin Carry Men'!$C$7:$C$46,$A49,'50m Manikin Carry Men'!$AC$7:$AC$46))))","v":""},{"$f":"IF($A49=\"\",\"\",IF(IF(SUMIF('100m Manikin Carry Men'!$C$7:$C$46,$A49,'100m Manikin Carry Men'!$AC$7:$AC$46)=0,1+MAX('100m Manikin Carry Men'!$AC$7:$AC$46),SUMIF('100m Manikin Carry Men'!$C$7:$C$46,$A49,'100m Manikin Carry Men'!$AC$7:$AC$46))>2+MAX('100m Manikin Carry Men'!$AC$7:$AC$46),MAX('100m Manikin Carry Men'!$AC$7:$AC$46),IF(SUMIF('100m Manikin Carry Men'!$C$7:$C$46,$A49,'100m Manikin Carry Men'!$AC$7:$AC$46)=0,1+MAX('100m Manikin Carry Men'!$AC$7:$AC$46),SUMIF('100m Manikin Carry Men'!$C$7:$C$46,$A49,'100m Manikin Carry Men'!$AC$7:$AC$46))))","v":""},{"$f":"IF($A49=\"\",\"\",IF(IF(SUMIF('100m Manikin Tow Men'!$C$7:$C$46,$A49,'100m Manikin Tow Men'!$AC$7:$AC$46)=0,1+MAX('100m Manikin Tow Men'!$AC$7:$AC$46),SUMIF('100m Manikin Tow Men'!$C$7:$C$46,$A49,'100m Manikin Tow Men'!$AC$7:$AC$46))>2+MAX('100m Manikin Tow Men'!$AC$7:$AC$46),MAX('100m Manikin Tow Men'!$AC$7:$AC$46),IF(SUMIF('100m Manikin Tow Men'!$C$7:$C$46,$A49,'100m Manikin Tow Men'!$AC$7:$AC$46)=0,1+MAX('100m Manikin Tow Men'!$AC$7:$AC$46),SUMIF('100m Manikin Tow Men'!$C$7:$C$46,$A49,'100m Manikin Tow Men'!$AC$7:$AC$46))))","v":""},{"$f":"IF($A49=\"\",\"\",IF(IF(SUMIF('200m Obs Men'!$C$7:$C$46,$A49,'200m Obs Men'!$AC$7:$AC$46)=0,1+MAX('200m Obs Men'!$AC$7:$AC$46),SUMIF('200m Obs Men'!$C$7:$C$46,$A49,'200m Obs Men'!$AC$7:$AC$46))>2+MAX('200m Obs Men'!$AC$7:$AC$46),MAX('200m Obs Men'!$AC$7:$AC$46),IF(SUMIF('200m Obs Men'!$C$7:$C$46,$A49,'200m Obs Men'!$AC$7:$AC$46)=0,1+MAX('200m Obs Men'!$AC$7:$AC$46),SUMIF('200m Obs Men'!$C$7:$C$46,$A49,'200m Obs Men'!$AC$7:$AC$46))))","v":""},{"$f":"IF($A49=\"\",\"\",IF(IF(SUMIF('200m Super Men'!$C$7:$C$46,$A49,'200m Super Men'!$AC$7:$AC$46)=0,1+MAX('200m Super Men'!$AC$7:$AC$46),SUMIF('200m Super Men'!$C$7:$C$46,$A49,'200m Super Men'!$AC$7:$AC$46))>2+MAX('200m Super Men'!$AC$7:$AC$46),MAX('200m Super Men'!$AC$7:$AC$46),IF(SUMIF('200m Super Men'!$C$7:$C$46,$A49,'200m Super Men'!$AC$7:$AC$46)=0,1+MAX('200m Super Men'!$AC$7:$AC$46),SUMIF('200m Super Men'!$C$7:$C$46,$A49,'200m Super Men'!$AC$7:$AC$46))))","v":""},{"$f":"IF($A49=\"\",\"\",IF(IF(SUMIF('100 Resue Men'!$C$7:$C$46,$A49,'100 Resue Men'!$AC$7:$AC$46)=0,1+MAX('100 Resue Men'!$AC$7:$AC$46),SUMIF('100 Resue Men'!$C$7:$C$46,$A49,'100 Resue Men'!$AC$7:$AC$46))>2+MAX('100 Resue Men'!$AC$7:$AC$46),MAX('100 Resue Men'!$AC$7:$AC$46),IF(SUMIF('100 Resue Men'!$C$7:$C$46,$A49,'100 Resue Men'!$AC$7:$AC$46)=0,1+MAX('100 Resue Men'!$AC$7:$AC$46),SUMIF('100 Resue Men'!$C$7:$C$46,$A49,'100 Resue Men'!$AC$7:$AC$46))))","v":""},{"$f":"IF($A49=\"\",\"\",IF(IF(SUMIF('Line Throw Men'!$C$7:$C$46,$A49,'Line Throw Men'!$AE$7:$AE$46)=0,MAX('Line Throw Men'!$AE$7:$AE$46),SUMIF('Line Throw Men'!$C$7:$C$46,$A49,'Line Throw Men'!$AE$7:$AE$46))>2+MAX('Line Throw Men'!$AE$7:$AE$46),MAX('Line Throw Men'!$AE$7:$AE$46),IF(SUMIF('Line Throw Men'!$C$7:$C$46,$A49,'Line Throw Men'!$AE$7:$AE$46)=0,1+MAX('Line Throw Men'!$AE$7:$AE$46),SUMIF('Line Throw Men'!$C$7:$C$46,$A49,'Line Throw Men'!$AE$7:$AE$46))))","v":""},{"$f":"IF($A49=\"\",\"\",IF(IF(SUMIF('4 x 50 Obs Relay Men'!$C$7:$C$46,$A49,'4 x 50 Obs Relay Men'!$AH$7:$AH$46)=0,1+MAX('4 x 50 Obs Relay Men'!$AH$7:$AH$46),SUMIF('4 x 50 Obs Relay Men'!$C$7:$C$46,$A49,'4 x 50 Obs Relay Men'!$AH$7:$AH$46))>2+MAX('4 x 50 Obs Relay Men'!$AH$7:$AH$46),MAX('4 x 50 Obs Relay Men'!$AH$7:$AH$46),IF(SUMIF('4 x 50 Obs Relay Men'!$C$7:$C$46,$A49,'4 x 50 Obs Relay Men'!$AH$7:$AH$46)=0,1+MAX('4 x 50 Obs Relay Men'!$AH$7:$AH$46),SUMIF('4 x 50 Obs Relay Men'!$C$7:$C$46,$A49,'4 x 50 Obs Relay Men'!$AH$7:$AH$46))))","v":""},{"$f":"IF($A49=\"\",\"\",IF(IF(SUMIF('4 x 50 medley Relay Men'!$C$7:$C$46,$A49,'4 x 50 medley Relay Men'!$AH$7:$AH$46)=0,1+MAX('4 x 50 medley Relay Men'!$AH$7:$AH$46),SUMIF('4 x 50 medley Relay Men'!$C$7:$C$46,$A49,'4 x 50 medley Relay Men'!$AH$7:$AH$46))>2+MAX('4 x 50 medley Relay Men'!$AH$7:$AH$46),MAX('4 x 50 medley Relay Men'!$AH$7:$AH$46),IF(SUMIF('4 x 50 medley Relay Men'!$C$7:$C$46,$A49,'4 x 50 medley Relay Men'!$AH$7:$AH$46)=0,1+MAX('4 x 50 medley Relay Men'!$AH$7:$AH$46),SUMIF('4 x 50 medley Relay Men'!$C$7:$C$46,$A49,'4 x 50 medley Relay Men'!$AH$7:$AH$46))))","v":""},{"$f":"IF($A49=\"\",\"\",IF(IF(SUMIF('4 x 25 Manikin Carry Relay Men'!$C$7:$C$46,$A49,'4 x 25 Manikin Carry Relay Men'!$AH$7:$AH$46)=0,1+MAX('4 x 25 Manikin Carry Relay Men'!$AH$7:$AH$46),SUMIF('4 x 25 Manikin Carry Relay Men'!$C$7:$C$46,$A49,'4 x 25 Manikin Carry Relay Men'!$AH$7:$AH$46))>2+MAX('4 x 25 Manikin Carry Relay Men'!$AH$7:$AH$46),MAX('4 x 25 Manikin Carry Relay Men'!$AH$7:$AH$46),IF(SUMIF('4 x 25 Manikin Carry Relay Men'!$C$7:$C$46,$A49,'4 x 25 Manikin Carry Relay Men'!$AH$7:$AH$46)=0,1+MAX('4 x 25 Manikin Carry Relay Men'!$AH$7:$AH$46),SUMIF('4 x 25 Manikin Carry Relay Men'!$C$7:$C$46,$A49,'4 x 25 Manikin Carry Relay Men'!$AH$7:$AH$46))))","v":""},{"$f":"IF($A49=\"\",\"\",IF(IF(SUMIF('Line Throw Relay Men'!$C$7:$C$46,$A49,'Line Throw Relay Men'!$AH$7:$AH$46)=0,1+MAX('Line Throw Relay Men'!$AH$7:$AH$46),SUMIF('Line Throw Relay Men'!$C$7:$C$46,$A49,'Line Throw Relay Men'!$AH$7:$AH$46))>2+MAX('Line Throw Relay Men'!$AH$7:$AH$46),MAX('Line Throw Relay Men'!$AH$7:$AH$46),IF(SUMIF('Line Throw Relay Men'!$C$7:$C$46,$A49,'Line Throw Relay Men'!$AH$7:$AH$46)=0,1+MAX('Line Throw Relay Men'!$AH$7:$AH$46),SUMIF('Line Throw Relay Men'!$C$7:$C$46,$A49,'Line Throw Relay Men'!$AH$7:$AH$46))))","v":""},"",""]
["","",{"$f":"IF($A50=\"\",\"\",IF(IF(SUMIF('50m Manikin Carry Men'!$C$7:$C$46,$A50,'50m Manikin Carry Men'!$AC$7:$AC$46)=0,1+MAX('50m Manikin Carry Men'!$AC$7:$AC$46),SUMIF('50m Manikin Carry Men'!$C$7:$C$46,$A50,'50m Manikin Carry Men'!$AC$7:$AC$46))>MAX('50m Manikin Carry Men'!$AC$7:$AC$46)+2,MAX('50m Manikin Carry Men'!$AC$7:$AC$46),IF(SUMIF('50m Manikin Carry Men'!$C$7:$C$46,$A50,'50m Manikin Carry Men'!$AC$7:$AC$46)=0,1+MAX('50m Manikin Carry Men'!$AC$7:$AC$46),SUMIF('50m Manikin Carry Men'!$C$7:$C$46,$A50,'50m Manikin Carry Men'!$AC$7:$AC$46))))","v":""},{"$f":"IF($A50=\"\",\"\",IF(IF(SUMIF('100m Manikin Carry Men'!$C$7:$C$46,$A50,'100m Manikin Carry Men'!$AC$7:$AC$46)=0,1+MAX('100m Manikin Carry Men'!$AC$7:$AC$46),SUMIF('100m Manikin Carry Men'!$C$7:$C$46,$A50,'100m Manikin Carry Men'!$AC$7:$AC$46))>2+MAX('100m Manikin Carry Men'!$AC$7:$AC$46),MAX('100m Manikin Carry Men'!$AC$7:$AC$46),IF(SUMIF('100m Manikin Carry Men'!$C$7:$C$46,$A50,'100m Manikin Carry Men'!$AC$7:$AC$46)=0,1+MAX('100m Manikin Carry Men'!$AC$7:$AC$46),SUMIF('100m Manikin Carry Men'!$C$7:$C$46,$A50,'100m Manikin Carry Men'!$AC$7:$AC$46))))","v":""},{"$f":"IF($A50=\"\",\"\",IF(IF(SUMIF('100m Manikin Tow Men'!$C$7:$C$46,$A50,'100m Manikin Tow Men'!$AC$7:$AC$46)=0,1+MAX('100m Manikin Tow Men'!$AC$7:$AC$46),SUMIF('100m Manikin Tow Men'!$C$7:$C$46,$A50,'100m Manikin Tow Men'!$AC$7:$AC$46))>2+MAX('100m Manikin Tow Men'!$AC$7:$AC$46),MAX('100m Manikin Tow Men'!$AC$7:$AC$46),IF(SUMIF('100m Manikin Tow Men'!$C$7:$C$46,$A50,'100m Manikin Tow Men'!$AC$7:$AC$46)=0,1+MAX('100m Manikin Tow Men'!$AC$7:$AC$46),SUMIF('100m Manikin Tow Men'!$C$7:$C$46,$A50,'100m Manikin Tow Men'!$AC$7:$AC$46))))","v":""},{"$f":"IF($A50=\"\",\"\",IF(IF(SUMIF('200m Obs Men'!$C$7:$C$46,$A50,'200m Obs Men'!$AC$7:$AC$46)=0,1+MAX('200m Obs Men'!$AC$7:$AC$46),SUMIF('200m Obs Men'!$C$7:$C$46,$A50,'200m Obs Men'!$AC$7:$AC$46))>2+MAX('200m Obs Men'!$AC$7:$AC$46),MAX('200m Obs Men'!$AC$7:$AC$46),IF(SUMIF('200m Obs Men'!$C$7:$C$46,$A50,'200m Obs Men'!$AC$7:$AC$46)=0,1+MAX('200m Obs Men'!$AC$7:$AC$46),SUMIF('200m Obs Men'!$C$7:$C$46,$A50,'200m Obs Men'!$AC$7:$AC$46))))","v":""},{"$f":"IF($A50=\"\",\"\",IF(IF(SUMIF('200m Super Men'!$C$7:$C$46,$A50,'200m Super Men'!$AC$7:$AC$46)=0,1+MAX('200m Super Men'!$AC$7:$AC$46),SUMIF('200m Super Men'!$C$7:$C$46,$A50,'200m Super Men'!$AC$7:$AC$46))>2+MAX('200m Super Men'!$AC$7:$AC$46),MAX('200m Super Men'!$AC$7:$AC$46),IF(SUMIF('200m Super Men'!$C$7:$C$46,$A50,'200m Super Men'!$AC$7:$AC$46)=0,1+MAX('200m Super Men'!$AC$7:$AC$46),SUMIF('200m Super Men'!$C$7:$C$46,$A50,'200m Super Men'!$AC$7:$AC$46))))","v":""},{"$f":"IF($A50=\"\",\"\",IF(IF(SUMIF('100 Resue Men'!$C$7:$C$46,$A50,'100 Resue Men'!$AC$7:$AC$46)=0,1+MAX('100 Resue Men'!$AC$7:$AC$46),SUMIF('100 Resue Men'!$C$7:$C$46,$A50,'100 Resue Men'!$AC$7:$AC$46))>2+MAX('100 Resue Men'!$AC$7:$AC$46),MAX('100 Resue Men'!$AC$7:$AC$46),IF(SUMIF('100 Resue Men'!$C$7:$C$46,$A50,'100 Resue Men'!$AC$7:$AC$46)=0,1+MAX('100 Resue Men'!$AC$7:$AC$46),SUMIF('100 Resue Men'!$C$7:$C$46,$A50,'100 Resue Men'!$AC$7:$AC$46))))","v":""},{"$f":"IF($A50=\"\",\"\",IF(IF(SUMIF('Line Throw Men'!$C$7:$C$46,$A50,'Line Throw Men'!$AE$7:$AE$46)=0,MAX('Line Throw Men'!$AE$7:$AE$46),SUMIF('Line Throw Men'!$C$7:$C$46,$A50,'Line Throw Men'!$AE$7:$AE$46))>2+MAX('Line Throw Men'!$AE$7:$AE$46),MAX('Line Throw Men'!$AE$7:$AE$46),IF(SUMIF('Line Throw Men'!$C$7:$C$46,$A50,'Line Throw Men'!$AE$7:$AE$46)=0,1+MAX('Line Throw Men'!$AE$7:$AE$46),SUMIF('Line Throw Men'!$C$7:$C$46,$A50,'Line Throw Men'!$AE$7:$AE$46))))","v":""},{"$f":"IF($A50=\"\",\"\",IF(IF(SUMIF('4 x 50 Obs Relay Men'!$C$7:$C$46,$A50,'4 x 50 Obs Relay Men'!$AH$7:$AH$46)=0,1+MAX('4 x 50 Obs Relay Men'!$AH$7:$AH$46),SUMIF('4 x 50 Obs Relay Men'!$C$7:$C$46,$A50,'4 x 50 Obs Relay Men'!$AH$7:$AH$46))>2+MAX('4 x 50 Obs Relay Men'!$AH$7:$AH$46),MAX('4 x 50 Obs Relay Men'!$AH$7:$AH$46),IF(SUMIF('4 x 50 Obs Relay Men'!$C$7:$C$46,$A50,'4 x 50 Obs Relay Men'!$AH$7:$AH$46)=0,1+MAX('4 x 50 Obs Relay Men'!$AH$7:$AH$46),SUMIF('4 x 50 Obs Relay Men'!$C$7:$C$46,$A50,'4 x 50 Obs Relay Men'!$AH$7:$AH$46))))","v":""},{"$f":"IF($A50=\"\",\"\",IF(IF(SUMIF('4 x 50 medley Relay Men'!$C$7:$C$46,$A50,'4 x 50 medley Relay Men'!$AH$7:$AH$46)=0,1+MAX('4 x 50 medley Relay Men'!$AH$7:$AH$46),SUMIF('4 x 50 medley Relay Men'!$C$7:$C$46,$A50,'4 x 50 medley Relay Men'!$AH$7:$AH$46))>2+MAX('4 x 50 medley Relay Men'!$AH$7:$AH$46),MAX('4 x 50 medley Relay Men'!$AH$7:$AH$46),IF(SUMIF('4 x 50 medley Relay Men'!$C$7:$C$46,$A50,'4 x 50 medley Relay Men'!$AH$7:$AH$46)=0,1+MAX('4 x 50 medley Relay Men'!$AH$7:$AH$46),SUMIF('4 x 50 medley Relay Men'!$C$7:$C$46,$A50,'4 x 50 medley Relay Men'!$AH$7:$AH$46))))","v":""},{"$f":"IF($A50=\"\",\"\",IF(IF(SUMIF('4 x 25 Manikin Carry Relay Men'!$C$7:$C$46,$A50,'4 x 25 Manikin Carry Relay Men'!$AH$7:$AH$46)=0,1+MAX('4 x 25 Manikin Carry Relay Men'!$AH$7:$AH$46),SUMIF('4 x 25 Manikin Carry Relay Men'!$C$7:$C$46,$A50,'4 x 25 Manikin Carry Relay Men'!$AH$7:$AH$46))>2+MAX('4 x 25 Manikin Carry Relay Men'!$AH$7:$AH$46),MAX('4 x 25 Manikin Carry Relay Men'!$AH$7:$AH$46),IF(SUMIF('4 x 25 Manikin Carry Relay Men'!$C$7:$C$46,$A50,'4 x 25 Manikin Carry Relay Men'!$AH$7:$AH$46)=0,1+MAX('4 x 25 Manikin Carry Relay Men'!$AH$7:$AH$46),SUMIF('4 x 25 Manikin Carry Relay Men'!$C$7:$C$46,$A50,'4 x 25 Manikin Carry Relay Men'!$AH$7:$AH$46))))","v":""},{"$f":"IF($A50=\"\",\"\",IF(IF(SUMIF('Line Throw Relay Men'!$C$7:$C$46,$A50,'Line Throw Relay Men'!$AH$7:$AH$46)=0,1+MAX('Line Throw Relay Men'!$AH$7:$AH$46),SUMIF('Line Throw Relay Men'!$C$7:$C$46,$A50,'Line Throw Relay Men'!$AH$7:$AH$46))>2+MAX('Line Throw Relay Men'!$AH$7:$AH$46),MAX('Line Throw Relay Men'!$AH$7:$AH$46),IF(SUMIF('Line Throw Relay Men'!$C$7:$C$46,$A50,'Line Throw Relay Men'!$AH$7:$AH$46)=0,1+MAX('Line Throw Relay Men'!$AH$7:$AH$46),SUMIF('Line Throw Relay Men'!$C$7:$C$46,$A50,'Line Throw Relay Men'!$AH$7:$AH$46))))","v":""},"",""]
["","",{"$f":"IF($A51=\"\",\"\",IF(IF(SUMIF('50m Manikin Carry Men'!$C$7:$C$46,$A51,'50m Manikin Carry Men'!$AC$7:$AC$46)=0,1+MAX('50m Manikin Carry Men'!$AC$7:$AC$46),SUMIF('50m Manikin Carry Men'!$C$7:$C$46,$A51,'50m Manikin Carry Men'!$AC$7:$AC$46))>MAX('50m Manikin Carry Men'!$AC$7:$AC$46)+2,MAX('50m Manikin Carry Men'!$AC$7:$AC$46),IF(SUMIF('50m Manikin Carry Men'!$C$7:$C$46,$A51,'50m Manikin Carry Men'!$AC$7:$AC$46)=0,1+MAX('50m Manikin Carry Men'!$AC$7:$AC$46),SUMIF('50m Manikin Carry Men'!$C$7:$C$46,$A51,'50m Manikin Carry Men'!$AC$7:$AC$46))))","v":""},{"$f":"IF($A51=\"\",\"\",IF(IF(SUMIF('100m Manikin Carry Men'!$C$7:$C$46,$A51,'100m Manikin Carry Men'!$AC$7:$AC$46)=0,1+MAX('100m Manikin Carry Men'!$AC$7:$AC$46),SUMIF('100m Manikin Carry Men'!$C$7:$C$46,$A51,'100m Manikin Carry Men'!$AC$7:$AC$46))>2+MAX('100m Manikin Carry Men'!$AC$7:$AC$46),MAX('100m Manikin Carry Men'!$AC$7:$AC$46),IF(SUMIF('100m Manikin Carry Men'!$C$7:$C$46,$A51,'100m Manikin Carry Men'!$AC$7:$AC$46)=0,1+MAX('100m Manikin Carry Men'!$AC$7:$AC$46),SUMIF('100m Manikin Carry Men'!$C$7:$C$46,$A51,'100m Manikin Carry Men'!$AC$7:$AC$46))))","v":""},{"$f":"IF($A51=\"\",\"\",IF(IF(SUMIF('100m Manikin Tow Men'!$C$7:$C$46,$A51,'100m Manikin Tow Men'!$AC$7:$AC$46)=0,1+MAX('100m Manikin Tow Men'!$AC$7:$AC$46),SUMIF('100m Manikin Tow Men'!$C$7:$C$46,$A51,'100m Manikin Tow Men'!$AC$7:$AC$46))>2+MAX('100m Manikin Tow Men'!$AC$7:$AC$46),MAX('100m Manikin Tow Men'!$AC$7:$AC$46),IF(SUMIF('100m Manikin Tow Men'!$C$7:$C$46,$A51,'100m Manikin Tow Men'!$AC$7:$AC$46)=0,1+MAX('100m Manikin Tow Men'!$AC$7:$AC$46),SUMIF('100m Manikin Tow Men'!$C$7:$C$46,$A51,'100m Manikin Tow Men'!$AC$7:$AC$46))))","v":""},{"$f":"IF($A51=\"\",\"\",IF(IF(SUMIF('200m Obs Men'!$C$7:$C$46,$A51,'200m Obs Men'!$AC$7:$AC$46)=0,1+MAX('200m Obs Men'!$AC$7:$AC$46),SUMIF('200m Obs Men'!$C$7:$C$46,$A51,'200m Obs Men'!$AC$7:$AC$46))>2+MAX('200m Obs Men'!$AC$7:$AC$46),MAX('200m Obs Men'!$AC$7:$AC$46),IF(SUMIF('200m Obs Men'!$C$7:$C$46,$A51,'200m Obs Men'!$AC$7:$AC$46)=0,1+MAX('200m Obs Men'!$AC$7:$AC$46),SUMIF('200m Obs Men'!$C$7:$C$46,$A51,'200m Obs Men'!$AC$7:$AC$46))))","v":""},{"$f":"IF($A51=\"\",\"\",IF(IF(SUMIF('200m Super Men'!$C$7:$C$46,$A51,'200m Super Men'!$AC$7:$AC$46)=0,1+MAX('200m Super Men'!$AC$7:$AC$46),SUMIF('200m Super Men'!$C$7:$C$46,$A51,'200m Super Men'!$AC$7:$AC$46))>2+MAX('200m Super Men'!$AC$7:$AC$46),MAX('200m Super Men'!$AC$7:$AC$46),IF(SUMIF('200m Super Men'!$C$7:$C$46,$A51,'200m Super Men'!$AC$7:$AC$46)=0,1+MAX('200m Super Men'!$AC$7:$AC$46),SUMIF('200m Super Men'!$C$7:$C$46,$A51,'200m Super Men'!$AC$7:$AC$46))))","v":""},{"$f":"IF($A51=\"\",\"\",IF(IF(SUMIF('100 Resue Men'!$C$7:$C$46,$A51,'100 Resue Men'!$AC$7:$AC$46)=0,1+MAX('100 Resue Men'!$AC$7:$AC$46),SUMIF('100 Resue Men'!$C$7:$C$46,$A51,'100 Resue Men'!$AC$7:$AC$46))>2+MAX('100 Resue Men'!$AC$7:$AC$46),MAX('100 Resue Men'!$AC$7:$AC$46),IF(SUMIF('100 Resue Men'!$C$7:$C$46,$A51,'100 Resue Men'!$AC$7:$AC$46)=0,1+MAX('100 Resue Men'!$AC$7:$AC$46),SUMIF('100 Resue Men'!$C$7:$C$46,$A51,'100 Resue Men'!$AC$7:$AC$46))))","v":""},{"$f":"IF($A51=\"\",\"\",IF(IF(SUMIF('Line Throw Men'!$C$7:$C$46,$A51,'Line Throw Men'!$AE$7:$AE$46)=0,MAX('Line Throw Men'!$AE$7:$AE$46),SUMIF('Line Throw Men'!$C$7:$C$46,$A51,'Line Throw Men'!$AE$7:$AE$46))>2+MAX('Line Throw Men'!$AE$7:$AE$46),MAX('Line Throw Men'!$AE$7:$AE$46),IF(SUMIF('Line Throw Men'!$C$7:$C$46,$A51,'Line Throw Men'!$AE$7:$AE$46)=0,1+MAX('Line Throw Men'!$AE$7:$AE$46),SUMIF('Line Throw Men'!$C$7:$C$46,$A51,'Line Throw Men'!$AE$7:$AE$46))))","v":""},{"$f":"IF($A51=\"\",\"\",IF(IF(SUMIF('4 x 50 Obs Relay Men'!$C$7:$C$46,$A51,'4 x 50 Obs Relay Men'!$AH$7:$AH$46)=0,1+MAX('4 x 50 Obs Relay Men'!$AH$7:$AH$46),SUMIF('4 x 50 Obs Relay Men'!$C$7:$C$46,$A51,'4 x 50 Obs Relay Men'!$AH$7:$AH$46))>2+MAX('4 x 50 Obs Relay Men'!$AH$7:$AH$46),MAX('4 x 50 Obs Relay Men'!$AH$7:$AH$46),IF(SUMIF('4 x 50 Obs Relay Men'!$C$7:$C$46,$A51,'4 x 50 Obs Relay Men'!$AH$7:$AH$46)=0,1+MAX('4 x 50 Obs Relay Men'!$AH$7:$AH$46),SUMIF('4 x 50 Obs Relay Men'!$C$7:$C$46,$A51,'4 x 50 Obs Relay Men'!$AH$7:$AH$46))))","v":""},{"$f":"IF($A51=\"\",\"\",IF(IF(SUMIF('4 x 50 medley Relay Men'!$C$7:$C$46,$A51,'4 x 50 medley Relay Men'!$AH$7:$AH$46)=0,1+MAX('4 x 50 medley Relay Men'!$AH$7:$AH$46),SUMIF('4 x 50 medley Relay Men'!$C$7:$C$46,$A51,'4 x 50 medley Relay Men'!$AH$7:$AH$46))>2+MAX('4 x 50 medley Relay Men'!$AH$7:$AH$46),MAX('4 x 50 medley Relay Men'!$AH$7:$AH$46),IF(SUMIF('4 x 50 medley Relay Men'!$C$7:$C$46,$A51,'4 x 50 medley Relay Men'!$AH$7:$AH$46)=0,1+MAX('4 x 50 medley Relay Men'!$AH$7:$AH$46),SUMIF('4 x 50 medley Relay Men'!$C$7:$C$46,$A51,'4 x 50 medley Relay Men'!$AH$7:$AH$46))))","v":""},{"$f":"IF($A51=\"\",\"\",IF(IF(SUMIF('4 x 25 Manikin Carry Relay Men'!$C$7:$C$46,$A51,'4 x 25 Manikin Carry Relay Men'!$AH$7:$AH$46)=0,1+MAX('4 x 25 Manikin Carry Relay Men'!$AH$7:$AH$46),SUMIF('4 x 25 Manikin Carry Relay Men'!$C$7:$C$46,$A51,'4 x 25 Manikin Carry Relay Men'!$AH$7:$AH$46))>2+MAX('4 x 25 Manikin Carry Relay Men'!$AH$7:$AH$46),MAX('4 x 25 Manikin Carry Relay Men'!$AH$7:$AH$46),IF(SUMIF('4 x 25 Manikin Carry Relay Men'!$C$7:$C$46,$A51,'4 x 25 Manikin Carry Relay Men'!$AH$7:$AH$46)=0,1+MAX('4 x 25 Manikin Carry Relay Men'!$AH$7:$AH$46),SUMIF('4 x 25 Manikin Carry Relay Men'!$C$7:$C$46,$A51,'4 x 25 Manikin Carry Relay Men'!$AH$7:$AH$46))))","v":""},{"$f":"IF($A51=\"\",\"\",IF(IF(SUMIF('Line Throw Relay Men'!$C$7:$C$46,$A51,'Line Throw Relay Men'!$AH$7:$AH$46)=0,1+MAX('Line Throw Relay Men'!$AH$7:$AH$46),SUMIF('Line Throw Relay Men'!$C$7:$C$46,$A51,'Line Throw Relay Men'!$AH$7:$AH$46))>2+MAX('Line Throw Relay Men'!$AH$7:$AH$46),MAX('Line Throw Relay Men'!$AH$7:$AH$46),IF(SUMIF('Line Throw Relay Men'!$C$7:$C$46,$A51,'Line Throw Relay Men'!$AH$7:$AH$46)=0,1+MAX('Line Throw Relay Men'!$AH$7:$AH$46),SUMIF('Line Throw Relay Men'!$C$7:$C$46,$A51,'Line Throw Relay Men'!$AH$7:$AH$46))))","v":""},"",""]
["","",{"$f":"IF($A52=\"\",\"\",IF(IF(SUMIF('50m Manikin Carry Men'!$C$7:$C$46,$A52,'50m Manikin Carry Men'!$AC$7:$AC$46)=0,1+MAX('50m Manikin Carry Men'!$AC$7:$AC$46),SUMIF('50m Manikin Carry Men'!$C$7:$C$46,$A52,'50m Manikin Carry Men'!$AC$7:$AC$46))>MAX('50m Manikin Carry Men'!$AC$7:$AC$46)+2,MAX('50m Manikin Carry Men'!$AC$7:$AC$46),IF(SUMIF('50m Manikin Carry Men'!$C$7:$C$46,$A52,'50m Manikin Carry Men'!$AC$7:$AC$46)=0,1+MAX('50m Manikin Carry Men'!$AC$7:$AC$46),SUMIF('50m Manikin Carry Men'!$C$7:$C$46,$A52,'50m Manikin Carry Men'!$AC$7:$AC$46))))","v":""},{"$f":"IF($A52=\"\",\"\",IF(IF(SUMIF('100m Manikin Carry Men'!$C$7:$C$46,$A52,'100m Manikin Carry Men'!$AC$7:$AC$46)=0,1+MAX('100m Manikin Carry Men'!$AC$7:$AC$46),SUMIF('100m Manikin Carry Men'!$C$7:$C$46,$A52,'100m Manikin Carry Men'!$AC$7:$AC$46))>2+MAX('100m Manikin Carry Men'!$AC$7:$AC$46),MAX('100m Manikin Carry Men'!$AC$7:$AC$46),IF(SUMIF('100m Manikin Carry Men'!$C$7:$C$46,$A52,'100m Manikin Carry Men'!$AC$7:$AC$46)=0,1+MAX('100m Manikin Carry Men'!$AC$7:$AC$46),SUMIF('100m Manikin Carry Men'!$C$7:$C$46,$A52,'100m Manikin Carry Men'!$AC$7:$AC$46))))","v":""},{"$f":"IF($A52=\"\",\"\",IF(IF(SUMIF('100m Manikin Tow Men'!$C$7:$C$46,$A52,'100m Manikin Tow Men'!$AC$7:$AC$46)=0,1+MAX('100m Manikin Tow Men'!$AC$7:$AC$46),SUMIF('100m Manikin Tow Men'!$C$7:$C$46,$A52,'100m Manikin Tow Men'!$AC$7:$AC$46))>2+MAX('100m Manikin Tow Men'!$AC$7:$AC$46),MAX('100m Manikin Tow Men'!$AC$7:$AC$46),IF(SUMIF('100m Manikin Tow Men'!$C$7:$C$46,$A52,'100m Manikin Tow Men'!$AC$7:$AC$46)=0,1+MAX('100m Manikin Tow Men'!$AC$7:$AC$46),SUMIF('100m Manikin Tow Men'!$C$7:$C$46,$A52,'100m Manikin Tow Men'!$AC$7:$AC$46))))","v":""},{"$f":"IF($A52=\"\",\"\",IF(IF(SUMIF('200m Obs Men'!$C$7:$C$46,$A52,'200m Obs Men'!$AC$7:$AC$46)=0,1+MAX('200m Obs Men'!$AC$7:$AC$46),SUMIF('200m Obs Men'!$C$7:$C$46,$A52,'200m Obs Men'!$AC$7:$AC$46))>2+MAX('200m Obs Men'!$AC$7:$AC$46),MAX('200m Obs Men'!$AC$7:$AC$46),IF(SUMIF('200m Obs Men'!$C$7:$C$46,$A52,'200m Obs Men'!$AC$7:$AC$46)=0,1+MAX('200m Obs Men'!$AC$7:$AC$46),SUMIF('200m Obs Men'!$C$7:$C$46,$A52,'200m Obs Men'!$AC$7:$AC$46))))","v":""},{"$f":"IF($A52=\"\",\"\",IF(IF(SUMIF('200m Super Men'!$C$7:$C$46,$A52,'200m Super Men'!$AC$7:$AC$46)=0,1+MAX('200m Super Men'!$AC$7:$AC$46),SUMIF('200m Super Men'!$C$7:$C$46,$A52,'200m Super Men'!$AC$7:$AC$46))>2+MAX('200m Super Men'!$AC$7:$AC$46),MAX('200m Super Men'!$AC$7:$AC$46),IF(SUMIF('200m Super Men'!$C$7:$C$46,$A52,'200m Super Men'!$AC$7:$AC$46)=0,1+MAX('200m Super Men'!$AC$7:$AC$46),SUMIF('200m Super Men'!$C$7:$C$46,$A52,'200m Super Men'!$AC$7:$AC$46))))","v":""},{"$f":"IF($A52=\"\",\"\",IF(IF(SUMIF('100 Resue Men'!$C$7:$C$46,$A52,'100 Resue Men'!$AC$7:$AC$46)=0,1+MAX('100 Resue Men'!$AC$7:$AC$46),SUMIF('100 Resue Men'!$C$7:$C$46,$A52,'100 Resue Men'!$AC$7:$AC$46))>2+MAX('100 Resue Men'!$AC$7:$AC$46),MAX('100 Resue Men'!$AC$7:$AC$46),IF(SUMIF('100 Resue Men'!$C$7:$C$46,$A52,'100 Resue Men'!$AC$7:$AC$46)=0,1+MAX('100 Resue Men'!$AC$7:$AC$46),SUMIF('100 Resue Men'!$C$7:$C$46,$A52,'100 Resue Men'!$AC$7:$AC$46))))","v":""},{"$f":"IF($A52=\"\",\"\",IF(IF(SUMIF('Line Throw Men'!$C$7:$C$46,$A52,'Line Throw Men'!$AE$7:$AE$46)=0,MAX('Line Throw Men'!$AE$7:$AE$46),SUMIF('Line Throw Men'!$C$7:$C$46,$A52,'Line Throw Men'!$AE$7:$AE$46))>2+MAX('Line Throw Men'!$AE$7:$AE$46),MAX('Line Throw Men'!$AE$7:$AE$46),IF(SUMIF('Line Throw Men'!$C$7:$C$46,$A52,'Line Throw Men'!$AE$7:$AE$46)=0,1+MAX('Line Throw Men'!$AE$7:$AE$46),SUMIF('Line Throw Men'!$C$7:$C$46,$A52,'Line Throw Men'!$AE$7:$AE$46))))","v":""},{"$f":"IF($A52=\"\",\"\",IF(IF(SUMIF('4 x 50 Obs Relay Men'!$C$7:$C$46,$A52,'4 x 50 Obs Relay Men'!$AH$7:$AH$46)=0,1+MAX('4 x 50 Obs Relay Men'!$AH$7:$AH$46),SUMIF('4 x 50 Obs Relay Men'!$C$7:$C$46,$A52,'4 x 50 Obs Relay Men'!$AH$7:$AH$46))>2+MAX('4 x 50 Obs Relay Men'!$AH$7:$AH$46),MAX('4 x 50 Obs Relay Men'!$AH$7:$AH$46),IF(SUMIF('4 x 50 Obs Relay Men'!$C$7:$C$46,$A52,'4 x 50 Obs Relay Men'!$AH$7:$AH$46)=0,1+MAX('4 x 50 Obs Relay Men'!$AH$7:$AH$46),SUMIF('4 x 50 Obs Relay Men'!$C$7:$C$46,$A52,'4 x 50 Obs Relay Men'!$AH$7:$AH$46))))","v":""},{"$f":"IF($A52=\"\",\"\",IF(IF(SUMIF('4 x 50 medley Relay Men'!$C$7:$C$46,$A52,'4 x 50 medley Relay Men'!$AH$7:$AH$46)=0,1+MAX('4 x 50 medley Relay Men'!$AH$7:$AH$46),SUMIF('4 x 50 medley Relay Men'!$C$7:$C$46,$A52,'4 x 50 medley Relay Men'!$AH$7:$AH$46))>2+MAX('4 x 50 medley Relay Men'!$AH$7:$AH$46),MAX('4 x 50 medley Relay Men'!$AH$7:$AH$46),IF(SUMIF('4 x 50 medley Relay Men'!$C$7:$C$46,$A52,'4 x 50 medley Relay Men'!$AH$7:$AH$46)=0,1+MAX('4 x 50 medley Relay Men'!$AH$7:$AH$46),SUMIF('4 x 50 medley Relay Men'!$C$7:$C$46,$A52,'4 x 50 medley Relay Men'!$AH$7:$AH$46))))","v":""},{"$f":"IF($A52=\"\",\"\",IF(IF(SUMIF('4 x 25 Manikin Carry Relay Men'!$C$7:$C$46,$A52,'4 x 25 Manikin Carry Relay Men'!$AH$7:$AH$46)=0,1+MAX('4 x 25 Manikin Carry Relay Men'!$AH$7:$AH$46),SUMIF('4 x 25 Manikin Carry Relay Men'!$C$7:$C$46,$A52,'4 x 25 Manikin Carry Relay Men'!$AH$7:$AH$46))>2+MAX('4 x 25 Manikin Carry Relay Men'!$AH$7:$AH$46),MAX('4 x 25 Manikin Carry Relay Men'!$AH$7:$AH$46),IF(SUMIF('4 x 25 Manikin Carry Relay Men'!$C$7:$C$46,$A52,'4 x 25 Manikin Carry Relay Men'!$AH$7:$AH$46)=0,1+MAX('4 x 25 Manikin Carry Relay Men'!$AH$7:$AH$46),SUMIF('4 x 25 Manikin Carry Relay Men'!$C$7:$C$46,$A52,'4 x 25 Manikin Carry Relay Men'!$AH$7:$AH$46))))","v":""},{"$f":"IF($A52=\"\",\"\",IF(IF(SUMIF('Line Throw Relay Men'!$C$7:$C$46,$A52,'Line Throw Relay Men'!$AH$7:$AH$46)=0,1+MAX('Line Throw Relay Men'!$AH$7:$AH$46),SUMIF('Line Throw Relay Men'!$C$7:$C$46,$A52,'Line Throw Relay Men'!$AH$7:$AH$46))>2+MAX('Line Throw Relay Men'!$AH$7:$AH$46),MAX('Line Throw Relay Men'!$AH$7:$AH$46),IF(SUMIF('Line Throw Relay Men'!$C$7:$C$46,$A52,'Line Throw Relay Men'!$AH$7:$AH$46)=0,1+MAX('Line Throw Relay Men'!$AH$7:$AH$46),SUMIF('Line Throw Relay Men'!$C$7:$C$46,$A52,'Line Throw Relay Men'!$AH$7:$AH$46))))","v":""},"",""]
["","",{"$f":"IF($A53=\"\",\"\",IF(IF(SUMIF('50m Manikin Carry Men'!$C$7:$C$46,$A53,'50m Manikin Carry Men'!$AC$7:$AC$46)=0,1+MAX('50m Manikin Carry Men'!$AC$7:$AC$46),SUMIF('50m Manikin Carry Men'!$C$7:$C$46,$A53,'50m Manikin Carry Men'!$AC$7:$AC$46))>MAX('50m Manikin Carry Men'!$AC$7:$AC$46)+2,MAX('50m Manikin Carry Men'!$AC$7:$AC$46),IF(SUMIF('50m Manikin Carry Men'!$C$7:$C$46,$A53,'50m Manikin Carry Men'!$AC$7:$AC$46)=0,1+MAX('50m Manikin Carry Men'!$AC$7:$AC$46),SUMIF('50m Manikin Carry Men'!$C$7:$C$46,$A53,'50m Manikin Carry Men'!$AC$7:$AC$46))))","v":""},{"$f":"IF($A53=\"\",\"\",IF(IF(SUMIF('100m Manikin Carry Men'!$C$7:$C$46,$A53,'100m Manikin Carry Men'!$AC$7:$AC$46)=0,1+MAX('100m Manikin Carry Men'!$AC$7:$AC$46),SUMIF('100m Manikin Carry Men'!$C$7:$C$46,$A53,'100m Manikin Carry Men'!$AC$7:$AC$46))>2+MAX('100m Manikin Carry Men'!$AC$7:$AC$46),MAX('100m Manikin Carry Men'!$AC$7:$AC$46),IF(SUMIF('100m Manikin Carry Men'!$C$7:$C$46,$A53,'100m Manikin Carry Men'!$AC$7:$AC$46)=0,1+MAX('100m Manikin Carry Men'!$AC$7:$AC$46),SUMIF('100m Manikin Carry Men'!$C$7:$C$46,$A53,'100m Manikin Carry Men'!$AC$7:$AC$46))))","v":""},{"$f":"IF($A53=\"\",\"\",IF(IF(SUMIF('100m Manikin Tow Men'!$C$7:$C$46,$A53,'100m Manikin Tow Men'!$AC$7:$AC$46)=0,1+MAX('100m Manikin Tow Men'!$AC$7:$AC$46),SUMIF('100m Manikin Tow Men'!$C$7:$C$46,$A53,'100m Manikin Tow Men'!$AC$7:$AC$46))>2+MAX('100m Manikin Tow Men'!$AC$7:$AC$46),MAX('100m Manikin Tow Men'!$AC$7:$AC$46),IF(SUMIF('100m Manikin Tow Men'!$C$7:$C$46,$A53,'100m Manikin Tow Men'!$AC$7:$AC$46)=0,1+MAX('100m Manikin Tow Men'!$AC$7:$AC$46),SUMIF('100m Manikin Tow Men'!$C$7:$C$46,$A53,'100m Manikin Tow Men'!$AC$7:$AC$46))))","v":""},{"$f":"IF($A53=\"\",\"\",IF(IF(SUMIF('200m Obs Men'!$C$7:$C$46,$A53,'200m Obs Men'!$AC$7:$AC$46)=0,1+MAX('200m Obs Men'!$AC$7:$AC$46),SUMIF('200m Obs Men'!$C$7:$C$46,$A53,'200m Obs Men'!$AC$7:$AC$46))>2+MAX('200m Obs Men'!$AC$7:$AC$46),MAX('200m Obs Men'!$AC$7:$AC$46),IF(SUMIF('200m Obs Men'!$C$7:$C$46,$A53,'200m Obs Men'!$AC$7:$AC$46)=0,1+MAX('200m Obs Men'!$AC$7:$AC$46),SUMIF('200m Obs Men'!$C$7:$C$46,$A53,'200m Obs Men'!$AC$7:$AC$46))))","v":""},{"$f":"IF($A53=\"\",\"\",IF(IF(SUMIF('200m Super Men'!$C$7:$C$46,$A53,'200m Super Men'!$AC$7:$AC$46)=0,1+MAX('200m Super Men'!$AC$7:$AC$46),SUMIF('200m Super Men'!$C$7:$C$46,$A53,'200m Super Men'!$AC$7:$AC$46))>2+MAX('200m Super Men'!$AC$7:$AC$46),MAX('200m Super Men'!$AC$7:$AC$46),IF(SUMIF('200m Super Men'!$C$7:$C$46,$A53,'200m Super Men'!$AC$7:$AC$46)=0,1+MAX('200m Super Men'!$AC$7:$AC$46),SUMIF('200m Super Men'!$C$7:$C$46,$A53,'200m Super Men'!$AC$7:$AC$46))))","v":""},{"$f":"IF($A53=\"\",\"\",IF(IF(SUMIF('100 Resue Men'!$C$7:$C$46,$A53,'100 Resue Men'!$AC$7:$AC$46)=0,1+MAX('100 Resue Men'!$AC$7:$AC$46),SUMIF('100 Resue Men'!$C$7:$C$46,$A53,'100 Resue Men'!$AC$7:$AC$46))>2+MAX('100 Resue Men'!$AC$7:$AC$46),MAX('100 Resue Men'!$AC$7:$AC$46),IF(SUMIF('100 Resue Men'!$C$7:$C$46,$A53,'100 Resue Men'!$AC$7:$AC$46)=0,1+MAX('100 Resue Men'!$AC$7:$AC$46),SUMIF('100 Resue Men'!$C$7:$C$46,$A53,'100 Resue Men'!$AC$7:$AC$46))))","v":""},{"$f":"IF($A53=\"\",\"\",IF(IF(SUMIF('Line Throw Men'!$C$7:$C$46,$A53,'Line Throw Men'!$AE$7:$AE$46)=0,MAX('Line Throw Men'!$AE$7:$AE$46),SUMIF('Line Throw Men'!$C$7:$C$46,$A53,'Line Throw Men'!$AE$7:$AE$46))>2+MAX('Line Throw Men'!$AE$7:$AE$46),MAX('Line Throw Men'!$AE$7:$AE$46),IF(SUMIF('Line Throw Men'!$C$7:$C$46,$A53,'Line Throw Men'!$AE$7:$AE$46)=0,1+MAX('Line Throw Men'!$AE$7:$AE$46),SUMIF('Line Throw Men'!$C$7:$C$46,$A53,'Line Throw Men'!$AE$7:$AE$46))))","v":""},{"$f":"IF($A53=\"\",\"\",IF(IF(SUMIF('4 x 50 Obs Relay Men'!$C$7:$C$46,$A53,'4 x 50 Obs Relay Men'!$AH$7:$AH$46)=0,1+MAX('4 x 50 Obs Relay Men'!$AH$7:$AH$46),SUMIF('4 x 50 Obs Relay Men'!$C$7:$C$46,$A53,'4 x 50 Obs Relay Men'!$AH$7:$AH$46))>2+MAX('4 x 50 Obs Relay Men'!$AH$7:$AH$46),MAX('4 x 50 Obs Relay Men'!$AH$7:$AH$46),IF(SUMIF('4 x 50 Obs Relay Men'!$C$7:$C$46,$A53,'4 x 50 Obs Relay Men'!$AH$7:$AH$46)=0,1+MAX('4 x 50 Obs Relay Men'!$AH$7:$AH$46),SUMIF('4 x 50 Obs Relay Men'!$C$7:$C$46,$A53,'4 x 50 Obs Relay Men'!$AH$7:$AH$46))))","v":""},{"$f":"IF($A53=\"\",\"\",IF(IF(SUMIF('4 x 50 medley Relay Men'!$C$7:$C$46,$A53,'4 x 50 medley Relay Men'!$AH$7:$AH$46)=0,1+MAX('4 x 50 medley Relay Men'!$AH$7:$AH$46),SUMIF('4 x 50 medley Relay Men'!$C$7:$C$46,$A53,'4 x 50 medley Relay Men'!$AH$7:$AH$46))>2+MAX('4 x 50 medley Relay Men'!$AH$7:$AH$46),MAX('4 x 50 medley Relay Men'!$AH$7:$AH$46),IF(SUMIF('4 x 50 medley Relay Men'!$C$7:$C$46,$A53,'4 x 50 medley Relay Men'!$AH$7:$AH$46)=0,1+MAX('4 x 50 medley Relay Men'!$AH$7:$AH$46),SUMIF('4 x 50 medley Relay Men'!$C$7:$C$46,$A53,'4 x 50 medley Relay Men'!$AH$7:$AH$46))))","v":""},{"$f":"IF($A53=\"\",\"\",IF(IF(SUMIF('4 x 25 Manikin Carry Relay Men'!$C$7:$C$46,$A53,'4 x 25 Manikin Carry Relay Men'!$AH$7:$AH$46)=0,1+MAX('4 x 25 Manikin Carry Relay Men'!$AH$7:$AH$46),SUMIF('4 x 25 Manikin Carry Relay Men'!$C$7:$C$46,$A53,'4 x 25 Manikin Carry Relay Men'!$AH$7:$AH$46))>2+MAX('4 x 25 Manikin Carry Relay Men'!$AH$7:$AH$46),MAX('4 x 25 Manikin Carry Relay Men'!$AH$7:$AH$46),IF(SUMIF('4 x 25 Manikin Carry Relay Men'!$C$7:$C$46,$A53,'4 x 25 Manikin Carry Relay Men'!$AH$7:$AH$46)=0,1+MAX('4 x 25 Manikin Carry Relay Men'!$AH$7:$AH$46),SUMIF('4 x 25 Manikin Carry Relay Men'!$C$7:$C$46,$A53,'4 x 25 Manikin Carry Relay Men'!$AH$7:$AH$46))))","v":""},{"$f":"IF($A53=\"\",\"\",IF(IF(SUMIF('Line Throw Relay Men'!$C$7:$C$46,$A53,'Line Throw Relay Men'!$AH$7:$AH$46)=0,1+MAX('Line Throw Relay Men'!$AH$7:$AH$46),SUMIF('Line Throw Relay Men'!$C$7:$C$46,$A53,'Line Throw Relay Men'!$AH$7:$AH$46))>2+MAX('Line Throw Relay Men'!$AH$7:$AH$46),MAX('Line Throw Relay Men'!$AH$7:$AH$46),IF(SUMIF('Line Throw Relay Men'!$C$7:$C$46,$A53,'Line Throw Relay Men'!$AH$7:$AH$46)=0,1+MAX('Line Throw Relay Men'!$AH$7:$AH$46),SUMIF('Line Throw Relay Men'!$C$7:$C$46,$A53,'Line Throw Relay Men'!$AH$7:$AH$46))))","v":""},"",""]
["","",{"$f":"IF($A54=\"\",\"\",IF(IF(SUMIF('50m Manikin Carry Men'!$C$7:$C$46,$A54,'50m Manikin Carry Men'!$AC$7:$AC$46)=0,1+MAX('50m Manikin Carry Men'!$AC$7:$AC$46),SUMIF('50m Manikin Carry Men'!$C$7:$C$46,$A54,'50m Manikin Carry Men'!$AC$7:$AC$46))>MAX('50m Manikin Carry Men'!$AC$7:$AC$46)+2,MAX('50m Manikin Carry Men'!$AC$7:$AC$46),IF(SUMIF('50m Manikin Carry Men'!$C$7:$C$46,$A54,'50m Manikin Carry Men'!$AC$7:$AC$46)=0,1+MAX('50m Manikin Carry Men'!$AC$7:$AC$46),SUMIF('50m Manikin Carry Men'!$C$7:$C$46,$A54,'50m Manikin Carry Men'!$AC$7:$AC$46))))","v":""},{"$f":"IF($A54=\"\",\"\",IF(IF(SUMIF('100m Manikin Carry Men'!$C$7:$C$46,$A54,'100m Manikin Carry Men'!$AC$7:$AC$46)=0,1+MAX('100m Manikin Carry Men'!$AC$7:$AC$46),SUMIF('100m Manikin Carry Men'!$C$7:$C$46,$A54,'100m Manikin Carry Men'!$AC$7:$AC$46))>2+MAX('100m Manikin Carry Men'!$AC$7:$AC$46),MAX('100m Manikin Carry Men'!$AC$7:$AC$46),IF(SUMIF('100m Manikin Carry Men'!$C$7:$C$46,$A54,'100m Manikin Carry Men'!$AC$7:$AC$46)=0,1+MAX('100m Manikin Carry Men'!$AC$7:$AC$46),SUMIF('100m Manikin Carry Men'!$C$7:$C$46,$A54,'100m Manikin Carry Men'!$AC$7:$AC$46))))","v":""},{"$f":"IF($A54=\"\",\"\",IF(IF(SUMIF('100m Manikin Tow Men'!$C$7:$C$46,$A54,'100m Manikin Tow Men'!$AC$7:$AC$46)=0,1+MAX('100m Manikin Tow Men'!$AC$7:$AC$46),SUMIF('100m Manikin Tow Men'!$C$7:$C$46,$A54,'100m Manikin Tow Men'!$AC$7:$AC$46))>2+MAX('100m Manikin Tow Men'!$AC$7:$AC$46),MAX('100m Manikin Tow Men'!$AC$7:$AC$46),IF(SUMIF('100m Manikin Tow Men'!$C$7:$C$46,$A54,'100m Manikin Tow Men'!$AC$7:$AC$46)=0,1+MAX('100m Manikin Tow Men'!$AC$7:$AC$46),SUMIF('100m Manikin Tow Men'!$C$7:$C$46,$A54,'100m Manikin Tow Men'!$AC$7:$AC$46))))","v":""},{"$f":"IF($A54=\"\",\"\",IF(IF(SUMIF('200m Obs Men'!$C$7:$C$46,$A54,'200m Obs Men'!$AC$7:$AC$46)=0,1+MAX('200m Obs Men'!$AC$7:$AC$46),SUMIF('200m Obs Men'!$C$7:$C$46,$A54,'200m Obs Men'!$AC$7:$AC$46))>2+MAX('200m Obs Men'!$AC$7:$AC$46),MAX('200m Obs Men'!$AC$7:$AC$46),IF(SUMIF('200m Obs Men'!$C$7:$C$46,$A54,'200m Obs Men'!$AC$7:$AC$46)=0,1+MAX('200m Obs Men'!$AC$7:$AC$46),SUMIF('200m Obs Men'!$C$7:$C$46,$A54,'200m Obs Men'!$AC$7:$AC$46))))","v":""},{"$f":"IF($A54=\"\",\"\",IF(IF(SUMIF('200m Super Men'!$C$7:$C$46,$A54,'200m Super Men'!$AC$7:$AC$46)=0,1+MAX('200m Super Men'!$AC$7:$AC$46),SUMIF('200m Super Men'!$C$7:$C$46,$A54,'200m Super Men'!$AC$7:$AC$46))>2+MAX('200m Super Men'!$AC$7:$AC$46),MAX('200m Super Men'!$AC$7:$AC$46),IF(SUMIF('200m Super Men'!$C$7:$C$46,$A54,'200m Super Men'!$AC$7:$AC$46)=0,1+MAX('200m Super Men'!$AC$7:$AC$46),SUMIF('200m Super Men'!$C$7:$C$46,$A54,'200m Super Men'!$AC$7:$AC$46))))","v":""},{"$f":"IF($A54=\"\",\"\",IF(IF(SUMIF('100 Resue Men'!$C$7:$C$46,$A54,'100 Resue Men'!$AC$7:$AC$46)=0,1+MAX('100 Resue Men'!$AC$7:$AC$46),SUMIF('100 Resue Men'!$C$7:$C$46,$A54,'100 Resue Men'!$AC$7:$AC$46))>2+MAX('100 Resue Men'!$AC$7:$AC$46),MAX('100 Resue Men'!$AC$7:$AC$46),IF(SUMIF('100 Resue Men'!$C$7:$C$46,$A54,'100 Resue Men'!$AC$7:$AC$46)=0,1+MAX('100 Resue Men'!$AC$7:$AC$46),SUMIF('100 Resue Men'!$C$7:$C$46,$A54,'100 Resue Men'!$AC$7:$AC$46))))","v":""},{"$f":"IF($A54=\"\",\"\",IF(IF(SUMIF('Line Throw Men'!$C$7:$C$46,$A54,'Line Throw Men'!$AE$7:$AE$46)=0,MAX('Line Throw Men'!$AE$7:$AE$46),SUMIF('Line Throw Men'!$C$7:$C$46,$A54,'Line Throw Men'!$AE$7:$AE$46))>2+MAX('Line Throw Men'!$AE$7:$AE$46),MAX('Line Throw Men'!$AE$7:$AE$46),IF(SUMIF('Line Throw Men'!$C$7:$C$46,$A54,'Line Throw Men'!$AE$7:$AE$46)=0,1+MAX('Line Throw Men'!$AE$7:$AE$46),SUMIF('Line Throw Men'!$C$7:$C$46,$A54,'Line Throw Men'!$AE$7:$AE$46))))","v":""},{"$f":"IF($A54=\"\",\"\",IF(IF(SUMIF('4 x 50 Obs Relay Men'!$C$7:$C$46,$A54,'4 x 50 Obs Relay Men'!$AH$7:$AH$46)=0,1+MAX('4 x 50 Obs Relay Men'!$AH$7:$AH$46),SUMIF('4 x 50 Obs Relay Men'!$C$7:$C$46,$A54,'4 x 50 Obs Relay Men'!$AH$7:$AH$46))>2+MAX('4 x 50 Obs Relay Men'!$AH$7:$AH$46),MAX('4 x 50 Obs Relay Men'!$AH$7:$AH$46),IF(SUMIF('4 x 50 Obs Relay Men'!$C$7:$C$46,$A54,'4 x 50 Obs Relay Men'!$AH$7:$AH$46)=0,1+MAX('4 x 50 Obs Relay Men'!$AH$7:$AH$46),SUMIF('4 x 50 Obs Relay Men'!$C$7:$C$46,$A54,'4 x 50 Obs Relay Men'!$AH$7:$AH$46))))","v":""},{"$f":"IF($A54=\"\",\"\",IF(IF(SUMIF('4 x 50 medley Relay Men'!$C$7:$C$46,$A54,'4 x 50 medley Relay Men'!$AH$7:$AH$46)=0,1+MAX('4 x 50 medley Relay Men'!$AH$7:$AH$46),SUMIF('4 x 50 medley Relay Men'!$C$7:$C$46,$A54,'4 x 50 medley Relay Men'!$AH$7:$AH$46))>2+MAX('4 x 50 medley Relay Men'!$AH$7:$AH$46),MAX('4 x 50 medley Relay Men'!$AH$7:$AH$46),IF(SUMIF('4 x 50 medley Relay Men'!$C$7:$C$46,$A54,'4 x 50 medley Relay Men'!$AH$7:$AH$46)=0,1+MAX('4 x 50 medley Relay Men'!$AH$7:$AH$46),SUMIF('4 x 50 medley Relay Men'!$C$7:$C$46,$A54,'4 x 50 medley Relay Men'!$AH$7:$AH$46))))","v":""},{"$f":"IF($A54=\"\",\"\",IF(IF(SUMIF('4 x 25 Manikin Carry Relay Men'!$C$7:$C$46,$A54,'4 x 25 Manikin Carry Relay Men'!$AH$7:$AH$46)=0,1+MAX('4 x 25 Manikin Carry Relay Men'!$AH$7:$AH$46),SUMIF('4 x 25 Manikin Carry Relay Men'!$C$7:$C$46,$A54,'4 x 25 Manikin Carry Relay Men'!$AH$7:$AH$46))>2+MAX('4 x 25 Manikin Carry Relay Men'!$AH$7:$AH$46),MAX('4 x 25 Manikin Carry Relay Men'!$AH$7:$AH$46),IF(SUMIF('4 x 25 Manikin Carry Relay Men'!$C$7:$C$46,$A54,'4 x 25 Manikin Carry Relay Men'!$AH$7:$AH$46)=0,1+MAX('4 x 25 Manikin Carry Relay Men'!$AH$7:$AH$46),SUMIF('4 x 25 Manikin Carry Relay Men'!$C$7:$C$46,$A54,'4 x 25 Manikin Carry Relay Men'!$AH$7:$AH$46))))","v":""},{"$f":"IF($A54=\"\",\"\",IF(IF(SUMIF('Line Throw Relay Men'!$C$7:$C$46,$A54,'Line Throw Relay Men'!$AH$7:$AH$46)=0,1+MAX('Line Throw Relay Men'!$AH$7:$AH$46),SUMIF('Line Throw Relay Men'!$C$7:$C$46,$A54,'Line Throw Relay Men'!$AH$7:$AH$46))>2+MAX('Line Throw Relay Men'!$AH$7:$AH$46),MAX('Line Throw Relay Men'!$AH$7:$AH$46),IF(SUMIF('Line Throw Relay Men'!$C$7:$C$46,$A54,'Line Throw Relay Men'!$AH$7:$AH$46)=0,1+MAX('Line Throw Relay Men'!$AH$7:$AH$46),SUMIF('Line Throw Relay Men'!$C$7:$C$46,$A54,'Line Throw Relay Men'!$AH$7:$AH$46))))","v":""},"",""]
["","",{"$f":"IF($A55=\"\",\"\",IF(IF(SUMIF('50m Manikin Carry Men'!$C$7:$C$46,$A55,'50m Manikin Carry Men'!$AC$7:$AC$46)=0,1+MAX('50m Manikin Carry Men'!$AC$7:$AC$46),SUMIF('50m Manikin Carry Men'!$C$7:$C$46,$A55,'50m Manikin Carry Men'!$AC$7:$AC$46))>MAX('50m Manikin Carry Men'!$AC$7:$AC$46)+2,MAX('50m Manikin Carry Men'!$AC$7:$AC$46),IF(SUMIF('50m Manikin Carry Men'!$C$7:$C$46,$A55,'50m Manikin Carry Men'!$AC$7:$AC$46)=0,1+MAX('50m Manikin Carry Men'!$AC$7:$AC$46),SUMIF('50m Manikin Carry Men'!$C$7:$C$46,$A55,'50m Manikin Carry Men'!$AC$7:$AC$46))))","v":""},{"$f":"IF($A55=\"\",\"\",IF(IF(SUMIF('100m Manikin Carry Men'!$C$7:$C$46,$A55,'100m Manikin Carry Men'!$AC$7:$AC$46)=0,1+MAX('100m Manikin Carry Men'!$AC$7:$AC$46),SUMIF('100m Manikin Carry Men'!$C$7:$C$46,$A55,'100m Manikin Carry Men'!$AC$7:$AC$46))>2+MAX('100m Manikin Carry Men'!$AC$7:$AC$46),MAX('100m Manikin Carry Men'!$AC$7:$AC$46),IF(SUMIF('100m Manikin Carry Men'!$C$7:$C$46,$A55,'100m Manikin Carry Men'!$AC$7:$AC$46)=0,1+MAX('100m Manikin Carry Men'!$AC$7:$AC$46),SUMIF('100m Manikin Carry Men'!$C$7:$C$46,$A55,'100m Manikin Carry Men'!$AC$7:$AC$46))))","v":""},{"$f":"IF($A55=\"\",\"\",IF(IF(SUMIF('100m Manikin Tow Men'!$C$7:$C$46,$A55,'100m Manikin Tow Men'!$AC$7:$AC$46)=0,1+MAX('100m Manikin Tow Men'!$AC$7:$AC$46),SUMIF('100m Manikin Tow Men'!$C$7:$C$46,$A55,'100m Manikin Tow Men'!$AC$7:$AC$46))>2+MAX('100m Manikin Tow Men'!$AC$7:$AC$46),MAX('100m Manikin Tow Men'!$AC$7:$AC$46),IF(SUMIF('100m Manikin Tow Men'!$C$7:$C$46,$A55,'100m Manikin Tow Men'!$AC$7:$AC$46)=0,1+MAX('100m Manikin Tow Men'!$AC$7:$AC$46),SUMIF('100m Manikin Tow Men'!$C$7:$C$46,$A55,'100m Manikin Tow Men'!$AC$7:$AC$46))))","v":""},{"$f":"IF($A55=\"\",\"\",IF(IF(SUMIF('200m Obs Men'!$C$7:$C$46,$A55,'200m Obs Men'!$AC$7:$AC$46)=0,1+MAX('200m Obs Men'!$AC$7:$AC$46),SUMIF('200m Obs Men'!$C$7:$C$46,$A55,'200m Obs Men'!$AC$7:$AC$46))>2+MAX('200m Obs Men'!$AC$7:$AC$46),MAX('200m Obs Men'!$AC$7:$AC$46),IF(SUMIF('200m Obs Men'!$C$7:$C$46,$A55,'200m Obs Men'!$AC$7:$AC$46)=0,1+MAX('200m Obs Men'!$AC$7:$AC$46),SUMIF('200m Obs Men'!$C$7:$C$46,$A55,'200m Obs Men'!$AC$7:$AC$46))))","v":""},{"$f":"IF($A55=\"\",\"\",IF(IF(SUMIF('200m Super Men'!$C$7:$C$46,$A55,'200m Super Men'!$AC$7:$AC$46)=0,1+MAX('200m Super Men'!$AC$7:$AC$46),SUMIF('200m Super Men'!$C$7:$C$46,$A55,'200m Super Men'!$AC$7:$AC$46))>2+MAX('200m Super Men'!$AC$7:$AC$46),MAX('200m Super Men'!$AC$7:$AC$46),IF(SUMIF('200m Super Men'!$C$7:$C$46,$A55,'200m Super Men'!$AC$7:$AC$46)=0,1+MAX('200m Super Men'!$AC$7:$AC$46),SUMIF('200m Super Men'!$C$7:$C$46,$A55,'200m Super Men'!$AC$7:$AC$46))))","v":""},{"$f":"IF($A55=\"\",\"\",IF(IF(SUMIF('100 Resue Men'!$C$7:$C$46,$A55,'100 Resue Men'!$AC$7:$AC$46)=0,1+MAX('100 Resue Men'!$AC$7:$AC$46),SUMIF('100 Resue Men'!$C$7:$C$46,$A55,'100 Resue Men'!$AC$7:$AC$46))>2+MAX('100 Resue Men'!$AC$7:$AC$46),MAX('100 Resue Men'!$AC$7:$AC$46),IF(SUMIF('100 Resue Men'!$C$7:$C$46,$A55,'100 Resue Men'!$AC$7:$AC$46)=0,1+MAX('100 Resue Men'!$AC$7:$AC$46),SUMIF('100 Resue Men'!$C$7:$C$46,$A55,'100 Resue Men'!$AC$7:$AC$46))))","v":""},{"$f":"IF($A55=\"\",\"\",IF(IF(SUMIF('Line Throw Men'!$C$7:$C$46,$A55,'Line Throw Men'!$AE$7:$AE$46)=0,MAX('Line Throw Men'!$AE$7:$AE$46),SUMIF('Line Throw Men'!$C$7:$C$46,$A55,'Line Throw Men'!$AE$7:$AE$46))>2+MAX('Line Throw Men'!$AE$7:$AE$46),MAX('Line Throw Men'!$AE$7:$AE$46),IF(SUMIF('Line Throw Men'!$C$7:$C$46,$A55,'Line Throw Men'!$AE$7:$AE$46)=0,1+MAX('Line Throw Men'!$AE$7:$AE$46),SUMIF('Line Throw Men'!$C$7:$C$46,$A55,'Line Throw Men'!$AE$7:$AE$46))))","v":""},{"$f":"IF($A55=\"\",\"\",IF(IF(SUMIF('4 x 50 Obs Relay Men'!$C$7:$C$46,$A55,'4 x 50 Obs Relay Men'!$AH$7:$AH$46)=0,1+MAX('4 x 50 Obs Relay Men'!$AH$7:$AH$46),SUMIF('4 x 50 Obs Relay Men'!$C$7:$C$46,$A55,'4 x 50 Obs Relay Men'!$AH$7:$AH$46))>2+MAX('4 x 50 Obs Relay Men'!$AH$7:$AH$46),MAX('4 x 50 Obs Relay Men'!$AH$7:$AH$46),IF(SUMIF('4 x 50 Obs Relay Men'!$C$7:$C$46,$A55,'4 x 50 Obs Relay Men'!$AH$7:$AH$46)=0,1+MAX('4 x 50 Obs Relay Men'!$AH$7:$AH$46),SUMIF('4 x 50 Obs Relay Men'!$C$7:$C$46,$A55,'4 x 50 Obs Relay Men'!$AH$7:$AH$46))))","v":""},{"$f":"IF($A55=\"\",\"\",IF(IF(SUMIF('4 x 50 medley Relay Men'!$C$7:$C$46,$A55,'4 x 50 medley Relay Men'!$AH$7:$AH$46)=0,1+MAX('4 x 50 medley Relay Men'!$AH$7:$AH$46),SUMIF('4 x 50 medley Relay Men'!$C$7:$C$46,$A55,'4 x 50 medley Relay Men'!$AH$7:$AH$46))>2+MAX('4 x 50 medley Relay Men'!$AH$7:$AH$46),MAX('4 x 50 medley Relay Men'!$AH$7:$AH$46),IF(SUMIF('4 x 50 medley Relay Men'!$C$7:$C$46,$A55,'4 x 50 medley Relay Men'!$AH$7:$AH$46)=0,1+MAX('4 x 50 medley Relay Men'!$AH$7:$AH$46),SUMIF('4 x 50 medley Relay Men'!$C$7:$C$46,$A55,'4 x 50 medley Relay Men'!$AH$7:$AH$46))))","v":""},{"$f":"IF($A55=\"\",\"\",IF(IF(SUMIF('4 x 25 Manikin Carry Relay Men'!$C$7:$C$46,$A55,'4 x 25 Manikin Carry Relay Men'!$AH$7:$AH$46)=0,1+MAX('4 x 25 Manikin Carry Relay Men'!$AH$7:$AH$46),SUMIF('4 x 25 Manikin Carry Relay Men'!$C$7:$C$46,$A55,'4 x 25 Manikin Carry Relay Men'!$AH$7:$AH$46))>2+MAX('4 x 25 Manikin Carry Relay Men'!$AH$7:$AH$46),MAX('4 x 25 Manikin Carry Relay Men'!$AH$7:$AH$46),IF(SUMIF('4 x 25 Manikin Carry Relay Men'!$C$7:$C$46,$A55,'4 x 25 Manikin Carry Relay Men'!$AH$7:$AH$46)=0,1+MAX('4 x 25 Manikin Carry Relay Men'!$AH$7:$AH$46),SUMIF('4 x 25 Manikin Carry Relay Men'!$C$7:$C$46,$A55,'4 x 25 Manikin Carry Relay Men'!$AH$7:$AH$46))))","v":""},{"$f":"IF($A55=\"\",\"\",IF(IF(SUMIF('Line Throw Relay Men'!$C$7:$C$46,$A55,'Line Throw Relay Men'!$AH$7:$AH$46)=0,1+MAX('Line Throw Relay Men'!$AH$7:$AH$46),SUMIF('Line Throw Relay Men'!$C$7:$C$46,$A55,'Line Throw Relay Men'!$AH$7:$AH$46))>2+MAX('Line Throw Relay Men'!$AH$7:$AH$46),MAX('Line Throw Relay Men'!$AH$7:$AH$46),IF(SUMIF('Line Throw Relay Men'!$C$7:$C$46,$A55,'Line Throw Relay Men'!$AH$7:$AH$46)=0,1+MAX('Line Throw Relay Men'!$AH$7:$AH$46),SUMIF('Line Throw Relay Men'!$C$7:$C$46,$A55,'Line Throw Relay Men'!$AH$7:$AH$46))))","v":""},"",""]
["","",{"$f":"IF($A56=\"\",\"\",IF(IF(SUMIF('50m Manikin Carry Men'!$C$7:$C$46,$A56,'50m Manikin Carry Men'!$AC$7:$AC$46)=0,1+MAX('50m Manikin Carry Men'!$AC$7:$AC$46),SUMIF('50m Manikin Carry Men'!$C$7:$C$46,$A56,'50m Manikin Carry Men'!$AC$7:$AC$46))>MAX('50m Manikin Carry Men'!$AC$7:$AC$46)+2,MAX('50m Manikin Carry Men'!$AC$7:$AC$46),IF(SUMIF('50m Manikin Carry Men'!$C$7:$C$46,$A56,'50m Manikin Carry Men'!$AC$7:$AC$46)=0,1+MAX('50m Manikin Carry Men'!$AC$7:$AC$46),SUMIF('50m Manikin Carry Men'!$C$7:$C$46,$A56,'50m Manikin Carry Men'!$AC$7:$AC$46))))","v":""},{"$f":"IF($A56=\"\",\"\",IF(IF(SUMIF('100m Manikin Carry Men'!$C$7:$C$46,$A56,'100m Manikin Carry Men'!$AC$7:$AC$46)=0,1+MAX('100m Manikin Carry Men'!$AC$7:$AC$46),SUMIF('100m Manikin Carry Men'!$C$7:$C$46,$A56,'100m Manikin Carry Men'!$AC$7:$AC$46))>2+MAX('100m Manikin Carry Men'!$AC$7:$AC$46),MAX('100m Manikin Carry Men'!$AC$7:$AC$46),IF(SUMIF('100m Manikin Carry Men'!$C$7:$C$46,$A56,'100m Manikin Carry Men'!$AC$7:$AC$46)=0,1+MAX('100m Manikin Carry Men'!$AC$7:$AC$46),SUMIF('100m Manikin Carry Men'!$C$7:$C$46,$A56,'100m Manikin Carry Men'!$AC$7:$AC$46))))","v":""},{"$f":"IF($A56=\"\",\"\",IF(IF(SUMIF('100m Manikin Tow Men'!$C$7:$C$46,$A56,'100m Manikin Tow Men'!$AC$7:$AC$46)=0,1+MAX('100m Manikin Tow Men'!$AC$7:$AC$46),SUMIF('100m Manikin Tow Men'!$C$7:$C$46,$A56,'100m Manikin Tow Men'!$AC$7:$AC$46))>2+MAX('100m Manikin Tow Men'!$AC$7:$AC$46),MAX('100m Manikin Tow Men'!$AC$7:$AC$46),IF(SUMIF('100m Manikin Tow Men'!$C$7:$C$46,$A56,'100m Manikin Tow Men'!$AC$7:$AC$46)=0,1+MAX('100m Manikin Tow Men'!$AC$7:$AC$46),SUMIF('100m Manikin Tow Men'!$C$7:$C$46,$A56,'100m Manikin Tow Men'!$AC$7:$AC$46))))","v":""},{"$f":"IF($A56=\"\",\"\",IF(IF(SUMIF('200m Obs Men'!$C$7:$C$46,$A56,'200m Obs Men'!$AC$7:$AC$46)=0,1+MAX('200m Obs Men'!$AC$7:$AC$46),SUMIF('200m Obs Men'!$C$7:$C$46,$A56,'200m Obs Men'!$AC$7:$AC$46))>2+MAX('200m Obs Men'!$AC$7:$AC$46),MAX('200m Obs Men'!$AC$7:$AC$46),IF(SUMIF('200m Obs Men'!$C$7:$C$46,$A56,'200m Obs Men'!$AC$7:$AC$46)=0,1+MAX('200m Obs Men'!$AC$7:$AC$46),SUMIF('200m Obs Men'!$C$7:$C$46,$A56,'200m Obs Men'!$AC$7:$AC$46))))","v":""},{"$f":"IF($A56=\"\",\"\",IF(IF(SUMIF('200m Super Men'!$C$7:$C$46,$A56,'200m Super Men'!$AC$7:$AC$46)=0,1+MAX('200m Super Men'!$AC$7:$AC$46),SUMIF('200m Super Men'!$C$7:$C$46,$A56,'200m Super Men'!$AC$7:$AC$46))>2+MAX('200m Super Men'!$AC$7:$AC$46),MAX('200m Super Men'!$AC$7:$AC$46),IF(SUMIF('200m Super Men'!$C$7:$C$46,$A56,'200m Super Men'!$AC$7:$AC$46)=0,1+MAX('200m Super Men'!$AC$7:$AC$46),SUMIF('200m Super Men'!$C$7:$C$46,$A56,'200m Super Men'!$AC$7:$AC$46))))","v":""},{"$f":"IF($A56=\"\",\"\",IF(IF(SUMIF('100 Resue Men'!$C$7:$C$46,$A56,'100 Resue Men'!$AC$7:$AC$46)=0,1+MAX('100 Resue Men'!$AC$7:$AC$46),SUMIF('100 Resue Men'!$C$7:$C$46,$A56,'100 Resue Men'!$AC$7:$AC$46))>2+MAX('100 Resue Men'!$AC$7:$AC$46),MAX('100 Resue Men'!$AC$7:$AC$46),IF(SUMIF('100 Resue Men'!$C$7:$C$46,$A56,'100 Resue Men'!$AC$7:$AC$46)=0,1+MAX('100 Resue Men'!$AC$7:$AC$46),SUMIF('100 Resue Men'!$C$7:$C$46,$A56,'100 Resue Men'!$AC$7:$AC$46))))","v":""},{"$f":"IF($A56=\"\",\"\",IF(IF(SUMIF('Line Throw Men'!$C$7:$C$46,$A56,'Line Throw Men'!$AE$7:$AE$46)=0,MAX('Line Throw Men'!$AE$7:$AE$46),SUMIF('Line Throw Men'!$C$7:$C$46,$A56,'Line Throw Men'!$AE$7:$AE$46))>2+MAX('Line Throw Men'!$AE$7:$AE$46),MAX('Line Throw Men'!$AE$7:$AE$46),IF(SUMIF('Line Throw Men'!$C$7:$C$46,$A56,'Line Throw Men'!$AE$7:$AE$46)=0,1+MAX('Line Throw Men'!$AE$7:$AE$46),SUMIF('Line Throw Men'!$C$7:$C$46,$A56,'Line Throw Men'!$AE$7:$AE$46))))","v":""},{"$f":"IF($A56=\"\",\"\",IF(IF(SUMIF('4 x 50 Obs Relay Men'!$C$7:$C$46,$A56,'4 x 50 Obs Relay Men'!$AH$7:$AH$46)=0,1+MAX('4 x 50 Obs Relay Men'!$AH$7:$AH$46),SUMIF('4 x 50 Obs Relay Men'!$C$7:$C$46,$A56,'4 x 50 Obs Relay Men'!$AH$7:$AH$46))>2+MAX('4 x 50 Obs Relay Men'!$AH$7:$AH$46),MAX('4 x 50 Obs Relay Men'!$AH$7:$AH$46),IF(SUMIF('4 x 50 Obs Relay Men'!$C$7:$C$46,$A56,'4 x 50 Obs Relay Men'!$AH$7:$AH$46)=0,1+MAX('4 x 50 Obs Relay Men'!$AH$7:$AH$46),SUMIF('4 x 50 Obs Relay Men'!$C$7:$C$46,$A56,'4 x 50 Obs Relay Men'!$AH$7:$AH$46))))","v":""},{"$f":"IF($A56=\"\",\"\",IF(IF(SUMIF('4 x 50 medley Relay Men'!$C$7:$C$46,$A56,'4 x 50 medley Relay Men'!$AH$7:$AH$46)=0,1+MAX('4 x 50 medley Relay Men'!$AH$7:$AH$46),SUMIF('4 x 50 medley Relay Men'!$C$7:$C$46,$A56,'4 x 50 medley Relay Men'!$AH$7:$AH$46))>2+MAX('4 x 50 medley Relay Men'!$AH$7:$AH$46),MAX('4 x 50 medley Relay Men'!$AH$7:$AH$46),IF(SUMIF('4 x 50 medley Relay Men'!$C$7:$C$46,$A56,'4 x 50 medley Relay Men'!$AH$7:$AH$46)=0,1+MAX('4 x 50 medley Relay Men'!$AH$7:$AH$46),SUMIF('4 x 50 medley Relay Men'!$C$7:$C$46,$A56,'4 x 50 medley Relay Men'!$AH$7:$AH$46))))","v":""},{"$f":"IF($A56=\"\",\"\",IF(IF(SUMIF('4 x 25 Manikin Carry Relay Men'!$C$7:$C$46,$A56,'4 x 25 Manikin Carry Relay Men'!$AH$7:$AH$46)=0,1+MAX('4 x 25 Manikin Carry Relay Men'!$AH$7:$AH$46),SUMIF('4 x 25 Manikin Carry Relay Men'!$C$7:$C$46,$A56,'4 x 25 Manikin Carry Relay Men'!$AH$7:$AH$46))>2+MAX('4 x 25 Manikin Carry Relay Men'!$AH$7:$AH$46),MAX('4 x 25 Manikin Carry Relay Men'!$AH$7:$AH$46),IF(SUMIF('4 x 25 Manikin Carry Relay Men'!$C$7:$C$46,$A56,'4 x 25 Manikin Carry Relay Men'!$AH$7:$AH$46)=0,1+MAX('4 x 25 Manikin Carry Relay Men'!$AH$7:$AH$46),SUMIF('4 x 25 Manikin Carry Relay Men'!$C$7:$C$46,$A56,'4 x 25 Manikin Carry Relay Men'!$AH$7:$AH$46))))","v":""},{"$f":"IF($A56=\"\",\"\",IF(IF(SUMIF('Line Throw Relay Men'!$C$7:$C$46,$A56,'Line Throw Relay Men'!$AH$7:$AH$46)=0,1+MAX('Line Throw Relay Men'!$AH$7:$AH$46),SUMIF('Line Throw Relay Men'!$C$7:$C$46,$A56,'Line Throw Relay Men'!$AH$7:$AH$46))>2+MAX('Line Throw Relay Men'!$AH$7:$AH$46),MAX('Line Throw Relay Men'!$AH$7:$AH$46),IF(SUMIF('Line Throw Relay Men'!$C$7:$C$46,$A56,'Line Throw Relay Men'!$AH$7:$AH$46)=0,1+MAX('Line Throw Relay Men'!$AH$7:$AH$46),SUMIF('Line Throw Relay Men'!$C$7:$C$46,$A56,'Line Throw Relay Men'!$AH$7:$AH$46))))","v":""},"",""]
["","",{"$f":"IF($A57=\"\",\"\",IF(IF(SUMIF('50m Manikin Carry Men'!$C$7:$C$46,$A57,'50m Manikin Carry Men'!$AC$7:$AC$46)=0,1+MAX('50m Manikin Carry Men'!$AC$7:$AC$46),SUMIF('50m Manikin Carry Men'!$C$7:$C$46,$A57,'50m Manikin Carry Men'!$AC$7:$AC$46))>MAX('50m Manikin Carry Men'!$AC$7:$AC$46)+2,MAX('50m Manikin Carry Men'!$AC$7:$AC$46),IF(SUMIF('50m Manikin Carry Men'!$C$7:$C$46,$A57,'50m Manikin Carry Men'!$AC$7:$AC$46)=0,1+MAX('50m Manikin Carry Men'!$AC$7:$AC$46),SUMIF('50m Manikin Carry Men'!$C$7:$C$46,$A57,'50m Manikin Carry Men'!$AC$7:$AC$46))))","v":""},{"$f":"IF($A57=\"\",\"\",IF(IF(SUMIF('100m Manikin Carry Men'!$C$7:$C$46,$A57,'100m Manikin Carry Men'!$AC$7:$AC$46)=0,1+MAX('100m Manikin Carry Men'!$AC$7:$AC$46),SUMIF('100m Manikin Carry Men'!$C$7:$C$46,$A57,'100m Manikin Carry Men'!$AC$7:$AC$46))>2+MAX('100m Manikin Carry Men'!$AC$7:$AC$46),MAX('100m Manikin Carry Men'!$AC$7:$AC$46),IF(SUMIF('100m Manikin Carry Men'!$C$7:$C$46,$A57,'100m Manikin Carry Men'!$AC$7:$AC$46)=0,1+MAX('100m Manikin Carry Men'!$AC$7:$AC$46),SUMIF('100m Manikin Carry Men'!$C$7:$C$46,$A57,'100m Manikin Carry Men'!$AC$7:$AC$46))))","v":""},{"$f":"IF($A57=\"\",\"\",IF(IF(SUMIF('100m Manikin Tow Men'!$C$7:$C$46,$A57,'100m Manikin Tow Men'!$AC$7:$AC$46)=0,1+MAX('100m Manikin Tow Men'!$AC$7:$AC$46),SUMIF('100m Manikin Tow Men'!$C$7:$C$46,$A57,'100m Manikin Tow Men'!$AC$7:$AC$46))>2+MAX('100m Manikin Tow Men'!$AC$7:$AC$46),MAX('100m Manikin Tow Men'!$AC$7:$AC$46),IF(SUMIF('100m Manikin Tow Men'!$C$7:$C$46,$A57,'100m Manikin Tow Men'!$AC$7:$AC$46)=0,1+MAX('100m Manikin Tow Men'!$AC$7:$AC$46),SUMIF('100m Manikin Tow Men'!$C$7:$C$46,$A57,'100m Manikin Tow Men'!$AC$7:$AC$46))))","v":""},{"$f":"IF($A57=\"\",\"\",IF(IF(SUMIF('200m Obs Men'!$C$7:$C$46,$A57,'200m Obs Men'!$AC$7:$AC$46)=0,1+MAX('200m Obs Men'!$AC$7:$AC$46),SUMIF('200m Obs Men'!$C$7:$C$46,$A57,'200m Obs Men'!$AC$7:$AC$46))>2+MAX('200m Obs Men'!$AC$7:$AC$46),MAX('200m Obs Men'!$AC$7:$AC$46),IF(SUMIF('200m Obs Men'!$C$7:$C$46,$A57,'200m Obs Men'!$AC$7:$AC$46)=0,1+MAX('200m Obs Men'!$AC$7:$AC$46),SUMIF('200m Obs Men'!$C$7:$C$46,$A57,'200m Obs Men'!$AC$7:$AC$46))))","v":""},{"$f":"IF($A57=\"\",\"\",IF(IF(SUMIF('200m Super Men'!$C$7:$C$46,$A57,'200m Super Men'!$AC$7:$AC$46)=0,1+MAX('200m Super Men'!$AC$7:$AC$46),SUMIF('200m Super Men'!$C$7:$C$46,$A57,'200m Super Men'!$AC$7:$AC$46))>2+MAX('200m Super Men'!$AC$7:$AC$46),MAX('200m Super Men'!$AC$7:$AC$46),IF(SUMIF('200m Super Men'!$C$7:$C$46,$A57,'200m Super Men'!$AC$7:$AC$46)=0,1+MAX('200m Super Men'!$AC$7:$AC$46),SUMIF('200m Super Men'!$C$7:$C$46,$A57,'200m Super Men'!$AC$7:$AC$46))))","v":""},{"$f":"IF($A57=\"\",\"\",IF(IF(SUMIF('100 Resue Men'!$C$7:$C$46,$A57,'100 Resue Men'!$AC$7:$AC$46)=0,1+MAX('100 Resue Men'!$AC$7:$AC$46),SUMIF('100 Resue Men'!$C$7:$C$46,$A57,'100 Resue Men'!$AC$7:$AC$46))>2+MAX('100 Resue Men'!$AC$7:$AC$46),MAX('100 Resue Men'!$AC$7:$AC$46),IF(SUMIF('100 Resue Men'!$C$7:$C$46,$A57,'100 Resue Men'!$AC$7:$AC$46)=0,1+MAX('100 Resue Men'!$AC$7:$AC$46),SUMIF('100 Resue Men'!$C$7:$C$46,$A57,'100 Resue Men'!$AC$7:$AC$46))))","v":""},{"$f":"IF($A57=\"\",\"\",IF(IF(SUMIF('Line Throw Men'!$C$7:$C$46,$A57,'Line Throw Men'!$AE$7:$AE$46)=0,MAX('Line Throw Men'!$AE$7:$AE$46),SUMIF('Line Throw Men'!$C$7:$C$46,$A57,'Line Throw Men'!$AE$7:$AE$46))>2+MAX('Line Throw Men'!$AE$7:$AE$46),MAX('Line Throw Men'!$AE$7:$AE$46),IF(SUMIF('Line Throw Men'!$C$7:$C$46,$A57,'Line Throw Men'!$AE$7:$AE$46)=0,1+MAX('Line Throw Men'!$AE$7:$AE$46),SUMIF('Line Throw Men'!$C$7:$C$46,$A57,'Line Throw Men'!$AE$7:$AE$46))))","v":""},{"$f":"IF($A57=\"\",\"\",IF(IF(SUMIF('4 x 50 Obs Relay Men'!$C$7:$C$46,$A57,'4 x 50 Obs Relay Men'!$AH$7:$AH$46)=0,1+MAX('4 x 50 Obs Relay Men'!$AH$7:$AH$46),SUMIF('4 x 50 Obs Relay Men'!$C$7:$C$46,$A57,'4 x 50 Obs Relay Men'!$AH$7:$AH$46))>2+MAX('4 x 50 Obs Relay Men'!$AH$7:$AH$46),MAX('4 x 50 Obs Relay Men'!$AH$7:$AH$46),IF(SUMIF('4 x 50 Obs Relay Men'!$C$7:$C$46,$A57,'4 x 50 Obs Relay Men'!$AH$7:$AH$46)=0,1+MAX('4 x 50 Obs Relay Men'!$AH$7:$AH$46),SUMIF('4 x 50 Obs Relay Men'!$C$7:$C$46,$A57,'4 x 50 Obs Relay Men'!$AH$7:$AH$46))))","v":""},{"$f":"IF($A57=\"\",\"\",IF(IF(SUMIF('4 x 50 medley Relay Men'!$C$7:$C$46,$A57,'4 x 50 medley Relay Men'!$AH$7:$AH$46)=0,1+MAX('4 x 50 medley Relay Men'!$AH$7:$AH$46),SUMIF('4 x 50 medley Relay Men'!$C$7:$C$46,$A57,'4 x 50 medley Relay Men'!$AH$7:$AH$46))>2+MAX('4 x 50 medley Relay Men'!$AH$7:$AH$46),MAX('4 x 50 medley Relay Men'!$AH$7:$AH$46),IF(SUMIF('4 x 50 medley Relay Men'!$C$7:$C$46,$A57,'4 x 50 medley Relay Men'!$AH$7:$AH$46)=0,1+MAX('4 x 50 medley Relay Men'!$AH$7:$AH$46),SUMIF('4 x 50 medley Relay Men'!$C$7:$C$46,$A57,'4 x 50 medley Relay Men'!$AH$7:$AH$46))))","v":""},{"$f":"IF($A57=\"\",\"\",IF(IF(SUMIF('4 x 25 Manikin Carry Relay Men'!$C$7:$C$46,$A57,'4 x 25 Manikin Carry Relay Men'!$AH$7:$AH$46)=0,1+MAX('4 x 25 Manikin Carry Relay Men'!$AH$7:$AH$46),SUMIF('4 x 25 Manikin Carry Relay Men'!$C$7:$C$46,$A57,'4 x 25 Manikin Carry Relay Men'!$AH$7:$AH$46))>2+MAX('4 x 25 Manikin Carry Relay Men'!$AH$7:$AH$46),MAX('4 x 25 Manikin Carry Relay Men'!$AH$7:$AH$46),IF(SUMIF('4 x 25 Manikin Carry Relay Men'!$C$7:$C$46,$A57,'4 x 25 Manikin Carry Relay Men'!$AH$7:$AH$46)=0,1+MAX('4 x 25 Manikin Carry Relay Men'!$AH$7:$AH$46),SUMIF('4 x 25 Manikin Carry Relay Men'!$C$7:$C$46,$A57,'4 x 25 Manikin Carry Relay Men'!$AH$7:$AH$46))))","v":""},{"$f":"IF($A57=\"\",\"\",IF(IF(SUMIF('Line Throw Relay Men'!$C$7:$C$46,$A57,'Line Throw Relay Men'!$AH$7:$AH$46)=0,1+MAX('Line Throw Relay Men'!$AH$7:$AH$46),SUMIF('Line Throw Relay Men'!$C$7:$C$46,$A57,'Line Throw Relay Men'!$AH$7:$AH$46))>2+MAX('Line Throw Relay Men'!$AH$7:$AH$46),MAX('Line Throw Relay Men'!$AH$7:$AH$46),IF(SUMIF('Line Throw Relay Men'!$C$7:$C$46,$A57,'Line Throw Relay Men'!$AH$7:$AH$46)=0,1+MAX('Line Throw Relay Men'!$AH$7:$AH$46),SUMIF('Line Throw Relay Men'!$C$7:$C$46,$A57,'Line Throw Relay Men'!$AH$7:$AH$46))))","v":""},"",""]
["","",{"$f":"IF($A58=\"\",\"\",IF(IF(SUMIF('50m Manikin Carry Men'!$C$7:$C$46,$A58,'50m Manikin Carry Men'!$AC$7:$AC$46)=0,1+MAX('50m Manikin Carry Men'!$AC$7:$AC$46),SUMIF('50m Manikin Carry Men'!$C$7:$C$46,$A58,'50m Manikin Carry Men'!$AC$7:$AC$46))>MAX('50m Manikin Carry Men'!$AC$7:$AC$46)+2,MAX('50m Manikin Carry Men'!$AC$7:$AC$46),IF(SUMIF('50m Manikin Carry Men'!$C$7:$C$46,$A58,'50m Manikin Carry Men'!$AC$7:$AC$46)=0,1+MAX('50m Manikin Carry Men'!$AC$7:$AC$46),SUMIF('50m Manikin Carry Men'!$C$7:$C$46,$A58,'50m Manikin Carry Men'!$AC$7:$AC$46))))","v":""},{"$f":"IF($A58=\"\",\"\",IF(IF(SUMIF('100m Manikin Carry Men'!$C$7:$C$46,$A58,'100m Manikin Carry Men'!$AC$7:$AC$46)=0,1+MAX('100m Manikin Carry Men'!$AC$7:$AC$46),SUMIF('100m Manikin Carry Men'!$C$7:$C$46,$A58,'100m Manikin Carry Men'!$AC$7:$AC$46))>2+MAX('100m Manikin Carry Men'!$AC$7:$AC$46),MAX('100m Manikin Carry Men'!$AC$7:$AC$46),IF(SUMIF('100m Manikin Carry Men'!$C$7:$C$46,$A58,'100m Manikin Carry Men'!$AC$7:$AC$46)=0,1+MAX('100m Manikin Carry Men'!$AC$7:$AC$46),SUMIF('100m Manikin Carry Men'!$C$7:$C$46,$A58,'100m Manikin Carry Men'!$AC$7:$AC$46))))","v":""},{"$f":"IF($A58=\"\",\"\",IF(IF(SUMIF('100m Manikin Tow Men'!$C$7:$C$46,$A58,'100m Manikin Tow Men'!$AC$7:$AC$46)=0,1+MAX('100m Manikin Tow Men'!$AC$7:$AC$46),SUMIF('100m Manikin Tow Men'!$C$7:$C$46,$A58,'100m Manikin Tow Men'!$AC$7:$AC$46))>2+MAX('100m Manikin Tow Men'!$AC$7:$AC$46),MAX('100m Manikin Tow Men'!$AC$7:$AC$46),IF(SUMIF('100m Manikin Tow Men'!$C$7:$C$46,$A58,'100m Manikin Tow Men'!$AC$7:$AC$46)=0,1+MAX('100m Manikin Tow Men'!$AC$7:$AC$46),SUMIF('100m Manikin Tow Men'!$C$7:$C$46,$A58,'100m Manikin Tow Men'!$AC$7:$AC$46))))","v":""},{"$f":"IF($A58=\"\",\"\",IF(IF(SUMIF('200m Obs Men'!$C$7:$C$46,$A58,'200m Obs Men'!$AC$7:$AC$46)=0,1+MAX('200m Obs Men'!$AC$7:$AC$46),SUMIF('200m Obs Men'!$C$7:$C$46,$A58,'200m Obs Men'!$AC$7:$AC$46))>2+MAX('200m Obs Men'!$AC$7:$AC$46),MAX('200m Obs Men'!$AC$7:$AC$46),IF(SUMIF('200m Obs Men'!$C$7:$C$46,$A58,'200m Obs Men'!$AC$7:$AC$46)=0,1+MAX('200m Obs Men'!$AC$7:$AC$46),SUMIF('200m Obs Men'!$C$7:$C$46,$A58,'200m Obs Men'!$AC$7:$AC$46))))","v":""},{"$f":"IF($A58=\"\",\"\",IF(IF(SUMIF('200m Super Men'!$C$7:$C$46,$A58,'200m Super Men'!$AC$7:$AC$46)=0,1+MAX('200m Super Men'!$AC$7:$AC$46),SUMIF('200m Super Men'!$C$7:$C$46,$A58,'200m Super Men'!$AC$7:$AC$46))>2+MAX('200m Super Men'!$AC$7:$AC$46),MAX('200m Super Men'!$AC$7:$AC$46),IF(SUMIF('200m Super Men'!$C$7:$C$46,$A58,'200m Super Men'!$AC$7:$AC$46)=0,1+MAX('200m Super Men'!$AC$7:$AC$46),SUMIF('200m Super Men'!$C$7:$C$46,$A58,'200m Super Men'!$AC$7:$AC$46))))","v":""},{"$f":"IF($A58=\"\",\"\",IF(IF(SUMIF('100 Resue Men'!$C$7:$C$46,$A58,'100 Resue Men'!$AC$7:$AC$46)=0,1+MAX('100 Resue Men'!$AC$7:$AC$46),SUMIF('100 Resue Men'!$C$7:$C$46,$A58,'100 Resue Men'!$AC$7:$AC$46))>2+MAX('100 Resue Men'!$AC$7:$AC$46),MAX('100 Resue Men'!$AC$7:$AC$46),IF(SUMIF('100 Resue Men'!$C$7:$C$46,$A58,'100 Resue Men'!$AC$7:$AC$46)=0,1+MAX('100 Resue Men'!$AC$7:$AC$46),SUMIF('100 Resue Men'!$C$7:$C$46,$A58,'100 Resue Men'!$AC$7:$AC$46))))","v":""},{"$f":"IF($A58=\"\",\"\",IF(IF(SUMIF('Line Throw Men'!$C$7:$C$46,$A58,'Line Throw Men'!$AE$7:$AE$46)=0,MAX('Line Throw Men'!$AE$7:$AE$46),SUMIF('Line Throw Men'!$C$7:$C$46,$A58,'Line Throw Men'!$AE$7:$AE$46))>2+MAX('Line Throw Men'!$AE$7:$AE$46),MAX('Line Throw Men'!$AE$7:$AE$46),IF(SUMIF('Line Throw Men'!$C$7:$C$46,$A58,'Line Throw Men'!$AE$7:$AE$46)=0,1+MAX('Line Throw Men'!$AE$7:$AE$46),SUMIF('Line Throw Men'!$C$7:$C$46,$A58,'Line Throw Men'!$AE$7:$AE$46))))","v":""},{"$f":"IF($A58=\"\",\"\",IF(IF(SUMIF('4 x 50 Obs Relay Men'!$C$7:$C$46,$A58,'4 x 50 Obs Relay Men'!$AH$7:$AH$46)=0,1+MAX('4 x 50 Obs Relay Men'!$AH$7:$AH$46),SUMIF('4 x 50 Obs Relay Men'!$C$7:$C$46,$A58,'4 x 50 Obs Relay Men'!$AH$7:$AH$46))>2+MAX('4 x 50 Obs Relay Men'!$AH$7:$AH$46),MAX('4 x 50 Obs Relay Men'!$AH$7:$AH$46),IF(SUMIF('4 x 50 Obs Relay Men'!$C$7:$C$46,$A58,'4 x 50 Obs Relay Men'!$AH$7:$AH$46)=0,1+MAX('4 x 50 Obs Relay Men'!$AH$7:$AH$46),SUMIF('4 x 50 Obs Relay Men'!$C$7:$C$46,$A58,'4 x 50 Obs Relay Men'!$AH$7:$AH$46))))","v":""},{"$f":"IF($A58=\"\",\"\",IF(IF(SUMIF('4 x 50 medley Relay Men'!$C$7:$C$46,$A58,'4 x 50 medley Relay Men'!$AH$7:$AH$46)=0,1+MAX('4 x 50 medley Relay Men'!$AH$7:$AH$46),SUMIF('4 x 50 medley Relay Men'!$C$7:$C$46,$A58,'4 x 50 medley Relay Men'!$AH$7:$AH$46))>2+MAX('4 x 50 medley Relay Men'!$AH$7:$AH$46),MAX('4 x 50 medley Relay Men'!$AH$7:$AH$46),IF(SUMIF('4 x 50 medley Relay Men'!$C$7:$C$46,$A58,'4 x 50 medley Relay Men'!$AH$7:$AH$46)=0,1+MAX('4 x 50 medley Relay Men'!$AH$7:$AH$46),SUMIF('4 x 50 medley Relay Men'!$C$7:$C$46,$A58,'4 x 50 medley Relay Men'!$AH$7:$AH$46))))","v":""},{"$f":"IF($A58=\"\",\"\",IF(IF(SUMIF('4 x 25 Manikin Carry Relay Men'!$C$7:$C$46,$A58,'4 x 25 Manikin Carry Relay Men'!$AH$7:$AH$46)=0,1+MAX('4 x 25 Manikin Carry Relay Men'!$AH$7:$AH$46),SUMIF('4 x 25 Manikin Carry Relay Men'!$C$7:$C$46,$A58,'4 x 25 Manikin Carry Relay Men'!$AH$7:$AH$46))>2+MAX('4 x 25 Manikin Carry Relay Men'!$AH$7:$AH$46),MAX('4 x 25 Manikin Carry Relay Men'!$AH$7:$AH$46),IF(SUMIF('4 x 25 Manikin Carry Relay Men'!$C$7:$C$46,$A58,'4 x 25 Manikin Carry Relay Men'!$AH$7:$AH$46)=0,1+MAX('4 x 25 Manikin Carry Relay Men'!$AH$7:$AH$46),SUMIF('4 x 25 Manikin Carry Relay Men'!$C$7:$C$46,$A58,'4 x 25 Manikin Carry Relay Men'!$AH$7:$AH$46))))","v":""},{"$f":"IF($A58=\"\",\"\",IF(IF(SUMIF('Line Throw Relay Men'!$C$7:$C$46,$A58,'Line Throw Relay Men'!$AH$7:$AH$46)=0,1+MAX('Line Throw Relay Men'!$AH$7:$AH$46),SUMIF('Line Throw Relay Men'!$C$7:$C$46,$A58,'Line Throw Relay Men'!$AH$7:$AH$46))>2+MAX('Line Throw Relay Men'!$AH$7:$AH$46),MAX('Line Throw Relay Men'!$AH$7:$AH$46),IF(SUMIF('Line Throw Relay Men'!$C$7:$C$46,$A58,'Line Throw Relay Men'!$AH$7:$AH$46)=0,1+MAX('Line Throw Relay Men'!$AH$7:$AH$46),SUMIF('Line Throw Relay Men'!$C$7:$C$46,$A58,'Line Throw Relay Men'!$AH$7:$AH$46))))","v":""},"",""]
["","",{"$f":"IF($A59=\"\",\"\",IF(IF(SUMIF('50m Manikin Carry Men'!$C$7:$C$46,$A59,'50m Manikin Carry Men'!$AC$7:$AC$46)=0,1+MAX('50m Manikin Carry Men'!$AC$7:$AC$46),SUMIF('50m Manikin Carry Men'!$C$7:$C$46,$A59,'50m Manikin Carry Men'!$AC$7:$AC$46))>MAX('50m Manikin Carry Men'!$AC$7:$AC$46)+2,MAX('50m Manikin Carry Men'!$AC$7:$AC$46),IF(SUMIF('50m Manikin Carry Men'!$C$7:$C$46,$A59,'50m Manikin Carry Men'!$AC$7:$AC$46)=0,1+MAX('50m Manikin Carry Men'!$AC$7:$AC$46),SUMIF('50m Manikin Carry Men'!$C$7:$C$46,$A59,'50m Manikin Carry Men'!$AC$7:$AC$46))))","v":""},{"$f":"IF($A59=\"\",\"\",IF(IF(SUMIF('100m Manikin Carry Men'!$C$7:$C$46,$A59,'100m Manikin Carry Men'!$AC$7:$AC$46)=0,1+MAX('100m Manikin Carry Men'!$AC$7:$AC$46),SUMIF('100m Manikin Carry Men'!$C$7:$C$46,$A59,'100m Manikin Carry Men'!$AC$7:$AC$46))>2+MAX('100m Manikin Carry Men'!$AC$7:$AC$46),MAX('100m Manikin Carry Men'!$AC$7:$AC$46),IF(SUMIF('100m Manikin Carry Men'!$C$7:$C$46,$A59,'100m Manikin Carry Men'!$AC$7:$AC$46)=0,1+MAX('100m Manikin Carry Men'!$AC$7:$AC$46),SUMIF('100m Manikin Carry Men'!$C$7:$C$46,$A59,'100m Manikin Carry Men'!$AC$7:$AC$46))))","v":""},{"$f":"IF($A59=\"\",\"\",IF(IF(SUMIF('100m Manikin Tow Men'!$C$7:$C$46,$A59,'100m Manikin Tow Men'!$AC$7:$AC$46)=0,1+MAX('100m Manikin Tow Men'!$AC$7:$AC$46),SUMIF('100m Manikin Tow Men'!$C$7:$C$46,$A59,'100m Manikin Tow Men'!$AC$7:$AC$46))>2+MAX('100m Manikin Tow Men'!$AC$7:$AC$46),MAX('100m Manikin Tow Men'!$AC$7:$AC$46),IF(SUMIF('100m Manikin Tow Men'!$C$7:$C$46,$A59,'100m Manikin Tow Men'!$AC$7:$AC$46)=0,1+MAX('100m Manikin Tow Men'!$AC$7:$AC$46),SUMIF('100m Manikin Tow Men'!$C$7:$C$46,$A59,'100m Manikin Tow Men'!$AC$7:$AC$46))))","v":""},{"$f":"IF($A59=\"\",\"\",IF(IF(SUMIF('200m Obs Men'!$C$7:$C$46,$A59,'200m Obs Men'!$AC$7:$AC$46)=0,1+MAX('200m Obs Men'!$AC$7:$AC$46),SUMIF('200m Obs Men'!$C$7:$C$46,$A59,'200m Obs Men'!$AC$7:$AC$46))>2+MAX('200m Obs Men'!$AC$7:$AC$46),MAX('200m Obs Men'!$AC$7:$AC$46),IF(SUMIF('200m Obs Men'!$C$7:$C$46,$A59,'200m Obs Men'!$AC$7:$AC$46)=0,1+MAX('200m Obs Men'!$AC$7:$AC$46),SUMIF('200m Obs Men'!$C$7:$C$46,$A59,'200m Obs Men'!$AC$7:$AC$46))))","v":""},{"$f":"IF($A59=\"\",\"\",IF(IF(SUMIF('200m Super Men'!$C$7:$C$46,$A59,'200m Super Men'!$AC$7:$AC$46)=0,1+MAX('200m Super Men'!$AC$7:$AC$46),SUMIF('200m Super Men'!$C$7:$C$46,$A59,'200m Super Men'!$AC$7:$AC$46))>2+MAX('200m Super Men'!$AC$7:$AC$46),MAX('200m Super Men'!$AC$7:$AC$46),IF(SUMIF('200m Super Men'!$C$7:$C$46,$A59,'200m Super Men'!$AC$7:$AC$46)=0,1+MAX('200m Super Men'!$AC$7:$AC$46),SUMIF('200m Super Men'!$C$7:$C$46,$A59,'200m Super Men'!$AC$7:$AC$46))))","v":""},{"$f":"IF($A59=\"\",\"\",IF(IF(SUMIF('100 Resue Men'!$C$7:$C$46,$A59,'100 Resue Men'!$AC$7:$AC$46)=0,1+MAX('100 Resue Men'!$AC$7:$AC$46),SUMIF('100 Resue Men'!$C$7:$C$46,$A59,'100 Resue Men'!$AC$7:$AC$46))>2+MAX('100 Resue Men'!$AC$7:$AC$46),MAX('100 Resue Men'!$AC$7:$AC$46),IF(SUMIF('100 Resue Men'!$C$7:$C$46,$A59,'100 Resue Men'!$AC$7:$AC$46)=0,1+MAX('100 Resue Men'!$AC$7:$AC$46),SUMIF('100 Resue Men'!$C$7:$C$46,$A59,'100 Resue Men'!$AC$7:$AC$46))))","v":""},{"$f":"IF($A59=\"\",\"\",IF(IF(SUMIF('Line Throw Men'!$C$7:$C$46,$A59,'Line Throw Men'!$AE$7:$AE$46)=0,MAX('Line Throw Men'!$AE$7:$AE$46),SUMIF('Line Throw Men'!$C$7:$C$46,$A59,'Line Throw Men'!$AE$7:$AE$46))>2+MAX('Line Throw Men'!$AE$7:$AE$46),MAX('Line Throw Men'!$AE$7:$AE$46),IF(SUMIF('Line Throw Men'!$C$7:$C$46,$A59,'Line Throw Men'!$AE$7:$AE$46)=0,1+MAX('Line Throw Men'!$AE$7:$AE$46),SUMIF('Line Throw Men'!$C$7:$C$46,$A59,'Line Throw Men'!$AE$7:$AE$46))))","v":""},{"$f":"IF($A59=\"\",\"\",IF(IF(SUMIF('4 x 50 Obs Relay Men'!$C$7:$C$46,$A59,'4 x 50 Obs Relay Men'!$AH$7:$AH$46)=0,1+MAX('4 x 50 Obs Relay Men'!$AH$7:$AH$46),SUMIF('4 x 50 Obs Relay Men'!$C$7:$C$46,$A59,'4 x 50 Obs Relay Men'!$AH$7:$AH$46))>2+MAX('4 x 50 Obs Relay Men'!$AH$7:$AH$46),MAX('4 x 50 Obs Relay Men'!$AH$7:$AH$46),IF(SUMIF('4 x 50 Obs Relay Men'!$C$7:$C$46,$A59,'4 x 50 Obs Relay Men'!$AH$7:$AH$46)=0,1+MAX('4 x 50 Obs Relay Men'!$AH$7:$AH$46),SUMIF('4 x 50 Obs Relay Men'!$C$7:$C$46,$A59,'4 x 50 Obs Relay Men'!$AH$7:$AH$46))))","v":""},{"$f":"IF($A59=\"\",\"\",IF(IF(SUMIF('4 x 50 medley Relay Men'!$C$7:$C$46,$A59,'4 x 50 medley Relay Men'!$AH$7:$AH$46)=0,1+MAX('4 x 50 medley Relay Men'!$AH$7:$AH$46),SUMIF('4 x 50 medley Relay Men'!$C$7:$C$46,$A59,'4 x 50 medley Relay Men'!$AH$7:$AH$46))>2+MAX('4 x 50 medley Relay Men'!$AH$7:$AH$46),MAX('4 x 50 medley Relay Men'!$AH$7:$AH$46),IF(SUMIF('4 x 50 medley Relay Men'!$C$7:$C$46,$A59,'4 x 50 medley Relay Men'!$AH$7:$AH$46)=0,1+MAX('4 x 50 medley Relay Men'!$AH$7:$AH$46),SUMIF('4 x 50 medley Relay Men'!$C$7:$C$46,$A59,'4 x 50 medley Relay Men'!$AH$7:$AH$46))))","v":""},{"$f":"IF($A59=\"\",\"\",IF(IF(SUMIF('4 x 25 Manikin Carry Relay Men'!$C$7:$C$46,$A59,'4 x 25 Manikin Carry Relay Men'!$AH$7:$AH$46)=0,1+MAX('4 x 25 Manikin Carry Relay Men'!$AH$7:$AH$46),SUMIF('4 x 25 Manikin Carry Relay Men'!$C$7:$C$46,$A59,'4 x 25 Manikin Carry Relay Men'!$AH$7:$AH$46))>2+MAX('4 x 25 Manikin Carry Relay Men'!$AH$7:$AH$46),MAX('4 x 25 Manikin Carry Relay Men'!$AH$7:$AH$46),IF(SUMIF('4 x 25 Manikin Carry Relay Men'!$C$7:$C$46,$A59,'4 x 25 Manikin Carry Relay Men'!$AH$7:$AH$46)=0,1+MAX('4 x 25 Manikin Carry Relay Men'!$AH$7:$AH$46),SUMIF('4 x 25 Manikin Carry Relay Men'!$C$7:$C$46,$A59,'4 x 25 Manikin Carry Relay Men'!$AH$7:$AH$46))))","v":""},{"$f":"IF($A59=\"\",\"\",IF(IF(SUMIF('Line Throw Relay Men'!$C$7:$C$46,$A59,'Line Throw Relay Men'!$AH$7:$AH$46)=0,1+MAX('Line Throw Relay Men'!$AH$7:$AH$46),SUMIF('Line Throw Relay Men'!$C$7:$C$46,$A59,'Line Throw Relay Men'!$AH$7:$AH$46))>2+MAX('Line Throw Relay Men'!$AH$7:$AH$46),MAX('Line Throw Relay Men'!$AH$7:$AH$46),IF(SUMIF('Line Throw Relay Men'!$C$7:$C$46,$A59,'Line Throw Relay Men'!$AH$7:$AH$46)=0,1+MAX('Line Throw Relay Men'!$AH$7:$AH$46),SUMIF('Line Throw Relay Men'!$C$7:$C$46,$A59,'Line Throw Relay Men'!$AH$7:$AH$46))))","v":""},"",""]
["","",{"$f":"IF($A60=\"\",\"\",IF(IF(SUMIF('50m Manikin Carry Men'!$C$7:$C$46,$A60,'50m Manikin Carry Men'!$AC$7:$AC$46)=0,1+MAX('50m Manikin Carry Men'!$AC$7:$AC$46),SUMIF('50m Manikin Carry Men'!$C$7:$C$46,$A60,'50m Manikin Carry Men'!$AC$7:$AC$46))>MAX('50m Manikin Carry Men'!$AC$7:$AC$46)+2,MAX('50m Manikin Carry Men'!$AC$7:$AC$46),IF(SUMIF('50m Manikin Carry Men'!$C$7:$C$46,$A60,'50m Manikin Carry Men'!$AC$7:$AC$46)=0,1+MAX('50m Manikin Carry Men'!$AC$7:$AC$46),SUMIF('50m Manikin Carry Men'!$C$7:$C$46,$A60,'50m Manikin Carry Men'!$AC$7:$AC$46))))","v":""},{"$f":"IF($A60=\"\",\"\",IF(IF(SUMIF('100m Manikin Carry Men'!$C$7:$C$46,$A60,'100m Manikin Carry Men'!$AC$7:$AC$46)=0,1+MAX('100m Manikin Carry Men'!$AC$7:$AC$46),SUMIF('100m Manikin Carry Men'!$C$7:$C$46,$A60,'100m Manikin Carry Men'!$AC$7:$AC$46))>2+MAX('100m Manikin Carry Men'!$AC$7:$AC$46),MAX('100m Manikin Carry Men'!$AC$7:$AC$46),IF(SUMIF('100m Manikin Carry Men'!$C$7:$C$46,$A60,'100m Manikin Carry Men'!$AC$7:$AC$46)=0,1+MAX('100m Manikin Carry Men'!$AC$7:$AC$46),SUMIF('100m Manikin Carry Men'!$C$7:$C$46,$A60,'100m Manikin Carry Men'!$AC$7:$AC$46))))","v":""},{"$f":"IF($A60=\"\",\"\",IF(IF(SUMIF('100m Manikin Tow Men'!$C$7:$C$46,$A60,'100m Manikin Tow Men'!$AC$7:$AC$46)=0,1+MAX('100m Manikin Tow Men'!$AC$7:$AC$46),SUMIF('100m Manikin Tow Men'!$C$7:$C$46,$A60,'100m Manikin Tow Men'!$AC$7:$AC$46))>2+MAX('100m Manikin Tow Men'!$AC$7:$AC$46),MAX('100m Manikin Tow Men'!$AC$7:$AC$46),IF(SUMIF('100m Manikin Tow Men'!$C$7:$C$46,$A60,'100m Manikin Tow Men'!$AC$7:$AC$46)=0,1+MAX('100m Manikin Tow Men'!$AC$7:$AC$46),SUMIF('100m Manikin Tow Men'!$C$7:$C$46,$A60,'100m Manikin Tow Men'!$AC$7:$AC$46))))","v":""},{"$f":"IF($A60=\"\",\"\",IF(IF(SUMIF('200m Obs Men'!$C$7:$C$46,$A60,'200m Obs Men'!$AC$7:$AC$46)=0,1+MAX('200m Obs Men'!$AC$7:$AC$46),SUMIF('200m Obs Men'!$C$7:$C$46,$A60,'200m Obs Men'!$AC$7:$AC$46))>2+MAX('200m Obs Men'!$AC$7:$AC$46),MAX('200m Obs Men'!$AC$7:$AC$46),IF(SUMIF('200m Obs Men'!$C$7:$C$46,$A60,'200m Obs Men'!$AC$7:$AC$46)=0,1+MAX('200m Obs Men'!$AC$7:$AC$46),SUMIF('200m Obs Men'!$C$7:$C$46,$A60,'200m Obs Men'!$AC$7:$AC$46))))","v":""},{"$f":"IF($A60=\"\",\"\",IF(IF(SUMIF('200m Super Men'!$C$7:$C$46,$A60,'200m Super Men'!$AC$7:$AC$46)=0,1+MAX('200m Super Men'!$AC$7:$AC$46),SUMIF('200m Super Men'!$C$7:$C$46,$A60,'200m Super Men'!$AC$7:$AC$46))>2+MAX('200m Super Men'!$AC$7:$AC$46),MAX('200m Super Men'!$AC$7:$AC$46),IF(SUMIF('200m Super Men'!$C$7:$C$46,$A60,'200m Super Men'!$AC$7:$AC$46)=0,1+MAX('200m Super Men'!$AC$7:$AC$46),SUMIF('200m Super Men'!$C$7:$C$46,$A60,'200m Super Men'!$AC$7:$AC$46))))","v":""},{"$f":"IF($A60=\"\",\"\",IF(IF(SUMIF('100 Resue Men'!$C$7:$C$46,$A60,'100 Resue Men'!$AC$7:$AC$46)=0,1+MAX('100 Resue Men'!$AC$7:$AC$46),SUMIF('100 Resue Men'!$C$7:$C$46,$A60,'100 Resue Men'!$AC$7:$AC$46))>2+MAX('100 Resue Men'!$AC$7:$AC$46),MAX('100 Resue Men'!$AC$7:$AC$46),IF(SUMIF('100 Resue Men'!$C$7:$C$46,$A60,'100 Resue Men'!$AC$7:$AC$46)=0,1+MAX('100 Resue Men'!$AC$7:$AC$46),SUMIF('100 Resue Men'!$C$7:$C$46,$A60,'100 Resue Men'!$AC$7:$AC$46))))","v":""},{"$f":"IF($A60=\"\",\"\",IF(IF(SUMIF('Line Throw Men'!$C$7:$C$46,$A60,'Line Throw Men'!$AE$7:$AE$46)=0,MAX('Line Throw Men'!$AE$7:$AE$46),SUMIF('Line Throw Men'!$C$7:$C$46,$A60,'Line Throw Men'!$AE$7:$AE$46))>2+MAX('Line Throw Men'!$AE$7:$AE$46),MAX('Line Throw Men'!$AE$7:$AE$46),IF(SUMIF('Line Throw Men'!$C$7:$C$46,$A60,'Line Throw Men'!$AE$7:$AE$46)=0,1+MAX('Line Throw Men'!$AE$7:$AE$46),SUMIF('Line Throw Men'!$C$7:$C$46,$A60,'Line Throw Men'!$AE$7:$AE$46))))","v":""},{"$f":"IF($A60=\"\",\"\",IF(IF(SUMIF('4 x 50 Obs Relay Men'!$C$7:$C$46,$A60,'4 x 50 Obs Relay Men'!$AH$7:$AH$46)=0,1+MAX('4 x 50 Obs Relay Men'!$AH$7:$AH$46),SUMIF('4 x 50 Obs Relay Men'!$C$7:$C$46,$A60,'4 x 50 Obs Relay Men'!$AH$7:$AH$46))>2+MAX('4 x 50 Obs Relay Men'!$AH$7:$AH$46),MAX('4 x 50 Obs Relay Men'!$AH$7:$AH$46),IF(SUMIF('4 x 50 Obs Relay Men'!$C$7:$C$46,$A60,'4 x 50 Obs Relay Men'!$AH$7:$AH$46)=0,1+MAX('4 x 50 Obs Relay Men'!$AH$7:$AH$46),SUMIF('4 x 50 Obs Relay Men'!$C$7:$C$46,$A60,'4 x 50 Obs Relay Men'!$AH$7:$AH$46))))","v":""},{"$f":"IF($A60=\"\",\"\",IF(IF(SUMIF('4 x 50 medley Relay Men'!$C$7:$C$46,$A60,'4 x 50 medley Relay Men'!$AH$7:$AH$46)=0,1+MAX('4 x 50 medley Relay Men'!$AH$7:$AH$46),SUMIF('4 x 50 medley Relay Men'!$C$7:$C$46,$A60,'4 x 50 medley Relay Men'!$AH$7:$AH$46))>2+MAX('4 x 50 medley Relay Men'!$AH$7:$AH$46),MAX('4 x 50 medley Relay Men'!$AH$7:$AH$46),IF(SUMIF('4 x 50 medley Relay Men'!$C$7:$C$46,$A60,'4 x 50 medley Relay Men'!$AH$7:$AH$46)=0,1+MAX('4 x 50 medley Relay Men'!$AH$7:$AH$46),SUMIF('4 x 50 medley Relay Men'!$C$7:$C$46,$A60,'4 x 50 medley Relay Men'!$AH$7:$AH$46))))","v":""},{"$f":"IF($A60=\"\",\"\",IF(IF(SUMIF('4 x 25 Manikin Carry Relay Men'!$C$7:$C$46,$A60,'4 x 25 Manikin Carry Relay Men'!$AH$7:$AH$46)=0,1+MAX('4 x 25 Manikin Carry Relay Men'!$AH$7:$AH$46),SUMIF('4 x 25 Manikin Carry Relay Men'!$C$7:$C$46,$A60,'4 x 25 Manikin Carry Relay Men'!$AH$7:$AH$46))>2+MAX('4 x 25 Manikin Carry Relay Men'!$AH$7:$AH$46),MAX('4 x 25 Manikin Carry Relay Men'!$AH$7:$AH$46),IF(SUMIF('4 x 25 Manikin Carry Relay Men'!$C$7:$C$46,$A60,'4 x 25 Manikin Carry Relay Men'!$AH$7:$AH$46)=0,1+MAX('4 x 25 Manikin Carry Relay Men'!$AH$7:$AH$46),SUMIF('4 x 25 Manikin Carry Relay Men'!$C$7:$C$46,$A60,'4 x 25 Manikin Carry Relay Men'!$AH$7:$AH$46))))","v":""},{"$f":"IF($A60=\"\",\"\",IF(IF(SUMIF('Line Throw Relay Men'!$C$7:$C$46,$A60,'Line Throw Relay Men'!$AH$7:$AH$46)=0,1+MAX('Line Throw Relay Men'!$AH$7:$AH$46),SUMIF('Line Throw Relay Men'!$C$7:$C$46,$A60,'Line Throw Relay Men'!$AH$7:$AH$46))>2+MAX('Line Throw Relay Men'!$AH$7:$AH$46),MAX('Line Throw Relay Men'!$AH$7:$AH$46),IF(SUMIF('Line Throw Relay Men'!$C$7:$C$46,$A60,'Line Throw Relay Men'!$AH$7:$AH$46)=0,1+MAX('Line Throw Relay Men'!$AH$7:$AH$46),SUMIF('Line Throw Relay Men'!$C$7:$C$46,$A60,'Line Throw Relay Men'!$AH$7:$AH$46))))","v":""},"",""]
["","",{"$f":"IF($A61=\"\",\"\",IF(IF(SUMIF('50m Manikin Carry Men'!$C$7:$C$46,$A61,'50m Manikin Carry Men'!$AC$7:$AC$46)=0,1+MAX('50m Manikin Carry Men'!$AC$7:$AC$46),SUMIF('50m Manikin Carry Men'!$C$7:$C$46,$A61,'50m Manikin Carry Men'!$AC$7:$AC$46))>MAX('50m Manikin Carry Men'!$AC$7:$AC$46)+2,MAX('50m Manikin Carry Men'!$AC$7:$AC$46),IF(SUMIF('50m Manikin Carry Men'!$C$7:$C$46,$A61,'50m Manikin Carry Men'!$AC$7:$AC$46)=0,1+MAX('50m Manikin Carry Men'!$AC$7:$AC$46),SUMIF('50m Manikin Carry Men'!$C$7:$C$46,$A61,'50m Manikin Carry Men'!$AC$7:$AC$46))))","v":""},{"$f":"IF($A61=\"\",\"\",IF(IF(SUMIF('100m Manikin Carry Men'!$C$7:$C$46,$A61,'100m Manikin Carry Men'!$AC$7:$AC$46)=0,1+MAX('100m Manikin Carry Men'!$AC$7:$AC$46),SUMIF('100m Manikin Carry Men'!$C$7:$C$46,$A61,'100m Manikin Carry Men'!$AC$7:$AC$46))>2+MAX('100m Manikin Carry Men'!$AC$7:$AC$46),MAX('100m Manikin Carry Men'!$AC$7:$AC$46),IF(SUMIF('100m Manikin Carry Men'!$C$7:$C$46,$A61,'100m Manikin Carry Men'!$AC$7:$AC$46)=0,1+MAX('100m Manikin Carry Men'!$AC$7:$AC$46),SUMIF('100m Manikin Carry Men'!$C$7:$C$46,$A61,'100m Manikin Carry Men'!$AC$7:$AC$46))))","v":""},{"$f":"IF($A61=\"\",\"\",IF(IF(SUMIF('100m Manikin Tow Men'!$C$7:$C$46,$A61,'100m Manikin Tow Men'!$AC$7:$AC$46)=0,1+MAX('100m Manikin Tow Men'!$AC$7:$AC$46),SUMIF('100m Manikin Tow Men'!$C$7:$C$46,$A61,'100m Manikin Tow Men'!$AC$7:$AC$46))>2+MAX('100m Manikin Tow Men'!$AC$7:$AC$46),MAX('100m Manikin Tow Men'!$AC$7:$AC$46),IF(SUMIF('100m Manikin Tow Men'!$C$7:$C$46,$A61,'100m Manikin Tow Men'!$AC$7:$AC$46)=0,1+MAX('100m Manikin Tow Men'!$AC$7:$AC$46),SUMIF('100m Manikin Tow Men'!$C$7:$C$46,$A61,'100m Manikin Tow Men'!$AC$7:$AC$46))))","v":""},{"$f":"IF($A61=\"\",\"\",IF(IF(SUMIF('200m Obs Men'!$C$7:$C$46,$A61,'200m Obs Men'!$AC$7:$AC$46)=0,1+MAX('200m Obs Men'!$AC$7:$AC$46),SUMIF('200m Obs Men'!$C$7:$C$46,$A61,'200m Obs Men'!$AC$7:$AC$46))>2+MAX('200m Obs Men'!$AC$7:$AC$46),MAX('200m Obs Men'!$AC$7:$AC$46),IF(SUMIF('200m Obs Men'!$C$7:$C$46,$A61,'200m Obs Men'!$AC$7:$AC$46)=0,1+MAX('200m Obs Men'!$AC$7:$AC$46),SUMIF('200m Obs Men'!$C$7:$C$46,$A61,'200m Obs Men'!$AC$7:$AC$46))))","v":""},{"$f":"IF($A61=\"\",\"\",IF(IF(SUMIF('200m Super Men'!$C$7:$C$46,$A61,'200m Super Men'!$AC$7:$AC$46)=0,1+MAX('200m Super Men'!$AC$7:$AC$46),SUMIF('200m Super Men'!$C$7:$C$46,$A61,'200m Super Men'!$AC$7:$AC$46))>2+MAX('200m Super Men'!$AC$7:$AC$46),MAX('200m Super Men'!$AC$7:$AC$46),IF(SUMIF('200m Super Men'!$C$7:$C$46,$A61,'200m Super Men'!$AC$7:$AC$46)=0,1+MAX('200m Super Men'!$AC$7:$AC$46),SUMIF('200m Super Men'!$C$7:$C$46,$A61,'200m Super Men'!$AC$7:$AC$46))))","v":""},{"$f":"IF($A61=\"\",\"\",IF(IF(SUMIF('100 Resue Men'!$C$7:$C$46,$A61,'100 Resue Men'!$AC$7:$AC$46)=0,1+MAX('100 Resue Men'!$AC$7:$AC$46),SUMIF('100 Resue Men'!$C$7:$C$46,$A61,'100 Resue Men'!$AC$7:$AC$46))>2+MAX('100 Resue Men'!$AC$7:$AC$46),MAX('100 Resue Men'!$AC$7:$AC$46),IF(SUMIF('100 Resue Men'!$C$7:$C$46,$A61,'100 Resue Men'!$AC$7:$AC$46)=0,1+MAX('100 Resue Men'!$AC$7:$AC$46),SUMIF('100 Resue Men'!$C$7:$C$46,$A61,'100 Resue Men'!$AC$7:$AC$46))))","v":""},{"$f":"IF($A61=\"\",\"\",IF(IF(SUMIF('Line Throw Men'!$C$7:$C$46,$A61,'Line Throw Men'!$AE$7:$AE$46)=0,MAX('Line Throw Men'!$AE$7:$AE$46),SUMIF('Line Throw Men'!$C$7:$C$46,$A61,'Line Throw Men'!$AE$7:$AE$46))>2+MAX('Line Throw Men'!$AE$7:$AE$46),MAX('Line Throw Men'!$AE$7:$AE$46),IF(SUMIF('Line Throw Men'!$C$7:$C$46,$A61,'Line Throw Men'!$AE$7:$AE$46)=0,1+MAX('Line Throw Men'!$AE$7:$AE$46),SUMIF('Line Throw Men'!$C$7:$C$46,$A61,'Line Throw Men'!$AE$7:$AE$46))))","v":""},{"$f":"IF($A61=\"\",\"\",IF(IF(SUMIF('4 x 50 Obs Relay Men'!$C$7:$C$46,$A61,'4 x 50 Obs Relay Men'!$AH$7:$AH$46)=0,1+MAX('4 x 50 Obs Relay Men'!$AH$7:$AH$46),SUMIF('4 x 50 Obs Relay Men'!$C$7:$C$46,$A61,'4 x 50 Obs Relay Men'!$AH$7:$AH$46))>2+MAX('4 x 50 Obs Relay Men'!$AH$7:$AH$46),MAX('4 x 50 Obs Relay Men'!$AH$7:$AH$46),IF(SUMIF('4 x 50 Obs Relay Men'!$C$7:$C$46,$A61,'4 x 50 Obs Relay Men'!$AH$7:$AH$46)=0,1+MAX('4 x 50 Obs Relay Men'!$AH$7:$AH$46),SUMIF('4 x 50 Obs Relay Men'!$C$7:$C$46,$A61,'4 x 50 Obs Relay Men'!$AH$7:$AH$46))))","v":""},{"$f":"IF($A61=\"\",\"\",IF(IF(SUMIF('4 x 50 medley Relay Men'!$C$7:$C$46,$A61,'4 x 50 medley Relay Men'!$AH$7:$AH$46)=0,1+MAX('4 x 50 medley Relay Men'!$AH$7:$AH$46),SUMIF('4 x 50 medley Relay Men'!$C$7:$C$46,$A61,'4 x 50 medley Relay Men'!$AH$7:$AH$46))>2+MAX('4 x 50 medley Relay Men'!$AH$7:$AH$46),MAX('4 x 50 medley Relay Men'!$AH$7:$AH$46),IF(SUMIF('4 x 50 medley Relay Men'!$C$7:$C$46,$A61,'4 x 50 medley Relay Men'!$AH$7:$AH$46)=0,1+MAX('4 x 50 medley Relay Men'!$AH$7:$AH$46),SUMIF('4 x 50 medley Relay Men'!$C$7:$C$46,$A61,'4 x 50 medley Relay Men'!$AH$7:$AH$46))))","v":""},{"$f":"IF($A61=\"\",\"\",IF(IF(SUMIF('4 x 25 Manikin Carry Relay Men'!$C$7:$C$46,$A61,'4 x 25 Manikin Carry Relay Men'!$AH$7:$AH$46)=0,1+MAX('4 x 25 Manikin Carry Relay Men'!$AH$7:$AH$46),SUMIF('4 x 25 Manikin Carry Relay Men'!$C$7:$C$46,$A61,'4 x 25 Manikin Carry Relay Men'!$AH$7:$AH$46))>2+MAX('4 x 25 Manikin Carry Relay Men'!$AH$7:$AH$46),MAX('4 x 25 Manikin Carry Relay Men'!$AH$7:$AH$46),IF(SUMIF('4 x 25 Manikin Carry Relay Men'!$C$7:$C$46,$A61,'4 x 25 Manikin Carry Relay Men'!$AH$7:$AH$46)=0,1+MAX('4 x 25 Manikin Carry Relay Men'!$AH$7:$AH$46),SUMIF('4 x 25 Manikin Carry Relay Men'!$C$7:$C$46,$A61,'4 x 25 Manikin Carry Relay Men'!$AH$7:$AH$46))))","v":""},{"$f":"IF($A61=\"\",\"\",IF(IF(SUMIF('Line Throw Relay Men'!$C$7:$C$46,$A61,'Line Throw Relay Men'!$AH$7:$AH$46)=0,1+MAX('Line Throw Relay Men'!$AH$7:$AH$46),SUMIF('Line Throw Relay Men'!$C$7:$C$46,$A61,'Line Throw Relay Men'!$AH$7:$AH$46))>2+MAX('Line Throw Relay Men'!$AH$7:$AH$46),MAX('Line Throw Relay Men'!$AH$7:$AH$46),IF(SUMIF('Line Throw Relay Men'!$C$7:$C$46,$A61,'Line Throw Relay Men'!$AH$7:$AH$46)=0,1+MAX('Line Throw Relay Men'!$AH$7:$AH$46),SUMIF('Line Throw Relay Men'!$C$7:$C$46,$A61,'Line Throw Relay Men'!$AH$7:$AH$46))))","v":""},"",""]
["","",{"$f":"IF($A62=\"\",\"\",IF(IF(SUMIF('50m Manikin Carry Men'!$C$7:$C$46,$A62,'50m Manikin Carry Men'!$AC$7:$AC$46)=0,1+MAX('50m Manikin Carry Men'!$AC$7:$AC$46),SUMIF('50m Manikin Carry Men'!$C$7:$C$46,$A62,'50m Manikin Carry Men'!$AC$7:$AC$46))>MAX('50m Manikin Carry Men'!$AC$7:$AC$46)+2,MAX('50m Manikin Carry Men'!$AC$7:$AC$46),IF(SUMIF('50m Manikin Carry Men'!$C$7:$C$46,$A62,'50m Manikin Carry Men'!$AC$7:$AC$46)=0,1+MAX('50m Manikin Carry Men'!$AC$7:$AC$46),SUMIF('50m Manikin Carry Men'!$C$7:$C$46,$A62,'50m Manikin Carry Men'!$AC$7:$AC$46))))","v":""},{"$f":"IF($A62=\"\",\"\",IF(IF(SUMIF('100m Manikin Carry Men'!$C$7:$C$46,$A62,'100m Manikin Carry Men'!$AC$7:$AC$46)=0,1+MAX('100m Manikin Carry Men'!$AC$7:$AC$46),SUMIF('100m Manikin Carry Men'!$C$7:$C$46,$A62,'100m Manikin Carry Men'!$AC$7:$AC$46))>2+MAX('100m Manikin Carry Men'!$AC$7:$AC$46),MAX('100m Manikin Carry Men'!$AC$7:$AC$46),IF(SUMIF('100m Manikin Carry Men'!$C$7:$C$46,$A62,'100m Manikin Carry Men'!$AC$7:$AC$46)=0,1+MAX('100m Manikin Carry Men'!$AC$7:$AC$46),SUMIF('100m Manikin Carry Men'!$C$7:$C$46,$A62,'100m Manikin Carry Men'!$AC$7:$AC$46))))","v":""},{"$f":"IF($A62=\"\",\"\",IF(IF(SUMIF('100m Manikin Tow Men'!$C$7:$C$46,$A62,'100m Manikin Tow Men'!$AC$7:$AC$46)=0,1+MAX('100m Manikin Tow Men'!$AC$7:$AC$46),SUMIF('100m Manikin Tow Men'!$C$7:$C$46,$A62,'100m Manikin Tow Men'!$AC$7:$AC$46))>2+MAX('100m Manikin Tow Men'!$AC$7:$AC$46),MAX('100m Manikin Tow Men'!$AC$7:$AC$46),IF(SUMIF('100m Manikin Tow Men'!$C$7:$C$46,$A62,'100m Manikin Tow Men'!$AC$7:$AC$46)=0,1+MAX('100m Manikin Tow Men'!$AC$7:$AC$46),SUMIF('100m Manikin Tow Men'!$C$7:$C$46,$A62,'100m Manikin Tow Men'!$AC$7:$AC$46))))","v":""},{"$f":"IF($A62=\"\",\"\",IF(IF(SUMIF('200m Obs Men'!$C$7:$C$46,$A62,'200m Obs Men'!$AC$7:$AC$46)=0,1+MAX('200m Obs Men'!$AC$7:$AC$46),SUMIF('200m Obs Men'!$C$7:$C$46,$A62,'200m Obs Men'!$AC$7:$AC$46))>2+MAX('200m Obs Men'!$AC$7:$AC$46),MAX('200m Obs Men'!$AC$7:$AC$46),IF(SUMIF('200m Obs Men'!$C$7:$C$46,$A62,'200m Obs Men'!$AC$7:$AC$46)=0,1+MAX('200m Obs Men'!$AC$7:$AC$46),SUMIF('200m Obs Men'!$C$7:$C$46,$A62,'200m Obs Men'!$AC$7:$AC$46))))","v":""},{"$f":"IF($A62=\"\",\"\",IF(IF(SUMIF('200m Super Men'!$C$7:$C$46,$A62,'200m Super Men'!$AC$7:$AC$46)=0,1+MAX('200m Super Men'!$AC$7:$AC$46),SUMIF('200m Super Men'!$C$7:$C$46,$A62,'200m Super Men'!$AC$7:$AC$46))>2+MAX('200m Super Men'!$AC$7:$AC$46),MAX('200m Super Men'!$AC$7:$AC$46),IF(SUMIF('200m Super Men'!$C$7:$C$46,$A62,'200m Super Men'!$AC$7:$AC$46)=0,1+MAX('200m Super Men'!$AC$7:$AC$46),SUMIF('200m Super Men'!$C$7:$C$46,$A62,'200m Super Men'!$AC$7:$AC$46))))","v":""},{"$f":"IF($A62=\"\",\"\",IF(IF(SUMIF('100 Resue Men'!$C$7:$C$46,$A62,'100 Resue Men'!$AC$7:$AC$46)=0,1+MAX('100 Resue Men'!$AC$7:$AC$46),SUMIF('100 Resue Men'!$C$7:$C$46,$A62,'100 Resue Men'!$AC$7:$AC$46))>2+MAX('100 Resue Men'!$AC$7:$AC$46),MAX('100 Resue Men'!$AC$7:$AC$46),IF(SUMIF('100 Resue Men'!$C$7:$C$46,$A62,'100 Resue Men'!$AC$7:$AC$46)=0,1+MAX('100 Resue Men'!$AC$7:$AC$46),SUMIF('100 Resue Men'!$C$7:$C$46,$A62,'100 Resue Men'!$AC$7:$AC$46))))","v":""},{"$f":"IF($A62=\"\",\"\",IF(IF(SUMIF('Line Throw Men'!$C$7:$C$46,$A62,'Line Throw Men'!$AE$7:$AE$46)=0,MAX('Line Throw Men'!$AE$7:$AE$46),SUMIF('Line Throw Men'!$C$7:$C$46,$A62,'Line Throw Men'!$AE$7:$AE$46))>2+MAX('Line Throw Men'!$AE$7:$AE$46),MAX('Line Throw Men'!$AE$7:$AE$46),IF(SUMIF('Line Throw Men'!$C$7:$C$46,$A62,'Line Throw Men'!$AE$7:$AE$46)=0,1+MAX('Line Throw Men'!$AE$7:$AE$46),SUMIF('Line Throw Men'!$C$7:$C$46,$A62,'Line Throw Men'!$AE$7:$AE$46))))","v":""},{"$f":"IF($A62=\"\",\"\",IF(IF(SUMIF('4 x 50 Obs Relay Men'!$C$7:$C$46,$A62,'4 x 50 Obs Relay Men'!$AH$7:$AH$46)=0,1+MAX('4 x 50 Obs Relay Men'!$AH$7:$AH$46),SUMIF('4 x 50 Obs Relay Men'!$C$7:$C$46,$A62,'4 x 50 Obs Relay Men'!$AH$7:$AH$46))>2+MAX('4 x 50 Obs Relay Men'!$AH$7:$AH$46),MAX('4 x 50 Obs Relay Men'!$AH$7:$AH$46),IF(SUMIF('4 x 50 Obs Relay Men'!$C$7:$C$46,$A62,'4 x 50 Obs Relay Men'!$AH$7:$AH$46)=0,1+MAX('4 x 50 Obs Relay Men'!$AH$7:$AH$46),SUMIF('4 x 50 Obs Relay Men'!$C$7:$C$46,$A62,'4 x 50 Obs Relay Men'!$AH$7:$AH$46))))","v":""},{"$f":"IF($A62=\"\",\"\",IF(IF(SUMIF('4 x 50 medley Relay Men'!$C$7:$C$46,$A62,'4 x 50 medley Relay Men'!$AH$7:$AH$46)=0,1+MAX('4 x 50 medley Relay Men'!$AH$7:$AH$46),SUMIF('4 x 50 medley Relay Men'!$C$7:$C$46,$A62,'4 x 50 medley Relay Men'!$AH$7:$AH$46))>2+MAX('4 x 50 medley Relay Men'!$AH$7:$AH$46),MAX('4 x 50 medley Relay Men'!$AH$7:$AH$46),IF(SUMIF('4 x 50 medley Relay Men'!$C$7:$C$46,$A62,'4 x 50 medley Relay Men'!$AH$7:$AH$46)=0,1+MAX('4 x 50 medley Relay Men'!$AH$7:$AH$46),SUMIF('4 x 50 medley Relay Men'!$C$7:$C$46,$A62,'4 x 50 medley Relay Men'!$AH$7:$AH$46))))","v":""},{"$f":"IF($A62=\"\",\"\",IF(IF(SUMIF('4 x 25 Manikin Carry Relay Men'!$C$7:$C$46,$A62,'4 x 25 Manikin Carry Relay Men'!$AH$7:$AH$46)=0,1+MAX('4 x 25 Manikin Carry Relay Men'!$AH$7:$AH$46),SUMIF('4 x 25 Manikin Carry Relay Men'!$C$7:$C$46,$A62,'4 x 25 Manikin Carry Relay Men'!$AH$7:$AH$46))>2+MAX('4 x 25 Manikin Carry Relay Men'!$AH$7:$AH$46),MAX('4 x 25 Manikin Carry Relay Men'!$AH$7:$AH$46),IF(SUMIF('4 x 25 Manikin Carry Relay Men'!$C$7:$C$46,$A62,'4 x 25 Manikin Carry Relay Men'!$AH$7:$AH$46)=0,1+MAX('4 x 25 Manikin Carry Relay Men'!$AH$7:$AH$46),SUMIF('4 x 25 Manikin Carry Relay Men'!$C$7:$C$46,$A62,'4 x 25 Manikin Carry Relay Men'!$AH$7:$AH$46))))","v":""},{"$f":"IF($A62=\"\",\"\",IF(IF(SUMIF('Line Throw Relay Men'!$C$7:$C$46,$A62,'Line Throw Relay Men'!$AH$7:$AH$46)=0,1+MAX('Line Throw Relay Men'!$AH$7:$AH$46),SUMIF('Line Throw Relay Men'!$C$7:$C$46,$A62,'Line Throw Relay Men'!$AH$7:$AH$46))>2+MAX('Line Throw Relay Men'!$AH$7:$AH$46),MAX('Line Throw Relay Men'!$AH$7:$AH$46),IF(SUMIF('Line Throw Relay Men'!$C$7:$C$46,$A62,'Line Throw Relay Men'!$AH$7:$AH$46)=0,1+MAX('Line Throw Relay Men'!$AH$7:$AH$46),SUMIF('Line Throw Relay Men'!$C$7:$C$46,$A62,'Line Throw Relay Men'!$AH$7:$AH$46))))","v":""},"",""]
["","",{"$f":"IF($A63=\"\",\"\",IF(IF(SUMIF('50m Manikin Carry Men'!$C$7:$C$46,$A63,'50m Manikin Carry Men'!$AC$7:$AC$46)=0,1+MAX('50m Manikin Carry Men'!$AC$7:$AC$46),SUMIF('50m Manikin Carry Men'!$C$7:$C$46,$A63,'50m Manikin Carry Men'!$AC$7:$AC$46))>MAX('50m Manikin Carry Men'!$AC$7:$AC$46)+2,MAX('50m Manikin Carry Men'!$AC$7:$AC$46),IF(SUMIF('50m Manikin Carry Men'!$C$7:$C$46,$A63,'50m Manikin Carry Men'!$AC$7:$AC$46)=0,1+MAX('50m Manikin Carry Men'!$AC$7:$AC$46),SUMIF('50m Manikin Carry Men'!$C$7:$C$46,$A63,'50m Manikin Carry Men'!$AC$7:$AC$46))))","v":""},{"$f":"IF($A63=\"\",\"\",IF(IF(SUMIF('100m Manikin Carry Men'!$C$7:$C$46,$A63,'100m Manikin Carry Men'!$AC$7:$AC$46)=0,1+MAX('100m Manikin Carry Men'!$AC$7:$AC$46),SUMIF('100m Manikin Carry Men'!$C$7:$C$46,$A63,'100m Manikin Carry Men'!$AC$7:$AC$46))>2+MAX('100m Manikin Carry Men'!$AC$7:$AC$46),MAX('100m Manikin Carry Men'!$AC$7:$AC$46),IF(SUMIF('100m Manikin Carry Men'!$C$7:$C$46,$A63,'100m Manikin Carry Men'!$AC$7:$AC$46)=0,1+MAX('100m Manikin Carry Men'!$AC$7:$AC$46),SUMIF('100m Manikin Carry Men'!$C$7:$C$46,$A63,'100m Manikin Carry Men'!$AC$7:$AC$46))))","v":""},{"$f":"IF($A63=\"\",\"\",IF(IF(SUMIF('100m Manikin Tow Men'!$C$7:$C$46,$A63,'100m Manikin Tow Men'!$AC$7:$AC$46)=0,1+MAX('100m Manikin Tow Men'!$AC$7:$AC$46),SUMIF('100m Manikin Tow Men'!$C$7:$C$46,$A63,'100m Manikin Tow Men'!$AC$7:$AC$46))>2+MAX('100m Manikin Tow Men'!$AC$7:$AC$46),MAX('100m Manikin Tow Men'!$AC$7:$AC$46),IF(SUMIF('100m Manikin Tow Men'!$C$7:$C$46,$A63,'100m Manikin Tow Men'!$AC$7:$AC$46)=0,1+MAX('100m Manikin Tow Men'!$AC$7:$AC$46),SUMIF('100m Manikin Tow Men'!$C$7:$C$46,$A63,'100m Manikin Tow Men'!$AC$7:$AC$46))))","v":""},{"$f":"IF($A63=\"\",\"\",IF(IF(SUMIF('200m Obs Men'!$C$7:$C$46,$A63,'200m Obs Men'!$AC$7:$AC$46)=0,1+MAX('200m Obs Men'!$AC$7:$AC$46),SUMIF('200m Obs Men'!$C$7:$C$46,$A63,'200m Obs Men'!$AC$7:$AC$46))>2+MAX('200m Obs Men'!$AC$7:$AC$46),MAX('200m Obs Men'!$AC$7:$AC$46),IF(SUMIF('200m Obs Men'!$C$7:$C$46,$A63,'200m Obs Men'!$AC$7:$AC$46)=0,1+MAX('200m Obs Men'!$AC$7:$AC$46),SUMIF('200m Obs Men'!$C$7:$C$46,$A63,'200m Obs Men'!$AC$7:$AC$46))))","v":""},{"$f":"IF($A63=\"\",\"\",IF(IF(SUMIF('200m Super Men'!$C$7:$C$46,$A63,'200m Super Men'!$AC$7:$AC$46)=0,1+MAX('200m Super Men'!$AC$7:$AC$46),SUMIF('200m Super Men'!$C$7:$C$46,$A63,'200m Super Men'!$AC$7:$AC$46))>2+MAX('200m Super Men'!$AC$7:$AC$46),MAX('200m Super Men'!$AC$7:$AC$46),IF(SUMIF('200m Super Men'!$C$7:$C$46,$A63,'200m Super Men'!$AC$7:$AC$46)=0,1+MAX('200m Super Men'!$AC$7:$AC$46),SUMIF('200m Super Men'!$C$7:$C$46,$A63,'200m Super Men'!$AC$7:$AC$46))))","v":""},{"$f":"IF($A63=\"\",\"\",IF(IF(SUMIF('100 Resue Men'!$C$7:$C$46,$A63,'100 Resue Men'!$AC$7:$AC$46)=0,1+MAX('100 Resue Men'!$AC$7:$AC$46),SUMIF('100 Resue Men'!$C$7:$C$46,$A63,'100 Resue Men'!$AC$7:$AC$46))>2+MAX('100 Resue Men'!$AC$7:$AC$46),MAX('100 Resue Men'!$AC$7:$AC$46),IF(SUMIF('100 Resue Men'!$C$7:$C$46,$A63,'100 Resue Men'!$AC$7:$AC$46)=0,1+MAX('100 Resue Men'!$AC$7:$AC$46),SUMIF('100 Resue Men'!$C$7:$C$46,$A63,'100 Resue Men'!$AC$7:$AC$46))))","v":""},{"$f":"IF($A63=\"\",\"\",IF(IF(SUMIF('Line Throw Men'!$C$7:$C$46,$A63,'Line Throw Men'!$AE$7:$AE$46)=0,MAX('Line Throw Men'!$AE$7:$AE$46),SUMIF('Line Throw Men'!$C$7:$C$46,$A63,'Line Throw Men'!$AE$7:$AE$46))>2+MAX('Line Throw Men'!$AE$7:$AE$46),MAX('Line Throw Men'!$AE$7:$AE$46),IF(SUMIF('Line Throw Men'!$C$7:$C$46,$A63,'Line Throw Men'!$AE$7:$AE$46)=0,1+MAX('Line Throw Men'!$AE$7:$AE$46),SUMIF('Line Throw Men'!$C$7:$C$46,$A63,'Line Throw Men'!$AE$7:$AE$46))))","v":""},{"$f":"IF($A63=\"\",\"\",IF(IF(SUMIF('4 x 50 Obs Relay Men'!$C$7:$C$46,$A63,'4 x 50 Obs Relay Men'!$AH$7:$AH$46)=0,1+MAX('4 x 50 Obs Relay Men'!$AH$7:$AH$46),SUMIF('4 x 50 Obs Relay Men'!$C$7:$C$46,$A63,'4 x 50 Obs Relay Men'!$AH$7:$AH$46))>2+MAX('4 x 50 Obs Relay Men'!$AH$7:$AH$46),MAX('4 x 50 Obs Relay Men'!$AH$7:$AH$46),IF(SUMIF('4 x 50 Obs Relay Men'!$C$7:$C$46,$A63,'4 x 50 Obs Relay Men'!$AH$7:$AH$46)=0,1+MAX('4 x 50 Obs Relay Men'!$AH$7:$AH$46),SUMIF('4 x 50 Obs Relay Men'!$C$7:$C$46,$A63,'4 x 50 Obs Relay Men'!$AH$7:$AH$46))))","v":""},{"$f":"IF($A63=\"\",\"\",IF(IF(SUMIF('4 x 50 medley Relay Men'!$C$7:$C$46,$A63,'4 x 50 medley Relay Men'!$AH$7:$AH$46)=0,1+MAX('4 x 50 medley Relay Men'!$AH$7:$AH$46),SUMIF('4 x 50 medley Relay Men'!$C$7:$C$46,$A63,'4 x 50 medley Relay Men'!$AH$7:$AH$46))>2+MAX('4 x 50 medley Relay Men'!$AH$7:$AH$46),MAX('4 x 50 medley Relay Men'!$AH$7:$AH$46),IF(SUMIF('4 x 50 medley Relay Men'!$C$7:$C$46,$A63,'4 x 50 medley Relay Men'!$AH$7:$AH$46)=0,1+MAX('4 x 50 medley Relay Men'!$AH$7:$AH$46),SUMIF('4 x 50 medley Relay Men'!$C$7:$C$46,$A63,'4 x 50 medley Relay Men'!$AH$7:$AH$46))))","v":""},{"$f":"IF($A63=\"\",\"\",IF(IF(SUMIF('4 x 25 Manikin Carry Relay Men'!$C$7:$C$46,$A63,'4 x 25 Manikin Carry Relay Men'!$AH$7:$AH$46)=0,1+MAX('4 x 25 Manikin Carry Relay Men'!$AH$7:$AH$46),SUMIF('4 x 25 Manikin Carry Relay Men'!$C$7:$C$46,$A63,'4 x 25 Manikin Carry Relay Men'!$AH$7:$AH$46))>2+MAX('4 x 25 Manikin Carry Relay Men'!$AH$7:$AH$46),MAX('4 x 25 Manikin Carry Relay Men'!$AH$7:$AH$46),IF(SUMIF('4 x 25 Manikin Carry Relay Men'!$C$7:$C$46,$A63,'4 x 25 Manikin Carry Relay Men'!$AH$7:$AH$46)=0,1+MAX('4 x 25 Manikin Carry Relay Men'!$AH$7:$AH$46),SUMIF('4 x 25 Manikin Carry Relay Men'!$C$7:$C$46,$A63,'4 x 25 Manikin Carry Relay Men'!$AH$7:$AH$46))))","v":""},{"$f":"IF($A63=\"\",\"\",IF(IF(SUMIF('Line Throw Relay Men'!$C$7:$C$46,$A63,'Line Throw Relay Men'!$AH$7:$AH$46)=0,1+MAX('Line Throw Relay Men'!$AH$7:$AH$46),SUMIF('Line Throw Relay Men'!$C$7:$C$46,$A63,'Line Throw Relay Men'!$AH$7:$AH$46))>2+MAX('Line Throw Relay Men'!$AH$7:$AH$46),MAX('Line Throw Relay Men'!$AH$7:$AH$46),IF(SUMIF('Line Throw Relay Men'!$C$7:$C$46,$A63,'Line Throw Relay Men'!$AH$7:$AH$46)=0,1+MAX('Line Throw Relay Men'!$AH$7:$AH$46),SUMIF('Line Throw Relay Men'!$C$7:$C$46,$A63,'Line Throw Relay Men'!$AH$7:$AH$46))))","v":""},"",""]
["","",{"$f":"IF($A64=\"\",\"\",IF(IF(SUMIF('50m Manikin Carry Men'!$C$7:$C$46,$A64,'50m Manikin Carry Men'!$AC$7:$AC$46)=0,1+MAX('50m Manikin Carry Men'!$AC$7:$AC$46),SUMIF('50m Manikin Carry Men'!$C$7:$C$46,$A64,'50m Manikin Carry Men'!$AC$7:$AC$46))>MAX('50m Manikin Carry Men'!$AC$7:$AC$46)+2,MAX('50m Manikin Carry Men'!$AC$7:$AC$46),IF(SUMIF('50m Manikin Carry Men'!$C$7:$C$46,$A64,'50m Manikin Carry Men'!$AC$7:$AC$46)=0,1+MAX('50m Manikin Carry Men'!$AC$7:$AC$46),SUMIF('50m Manikin Carry Men'!$C$7:$C$46,$A64,'50m Manikin Carry Men'!$AC$7:$AC$46))))","v":""},{"$f":"IF($A64=\"\",\"\",IF(IF(SUMIF('100m Manikin Carry Men'!$C$7:$C$46,$A64,'100m Manikin Carry Men'!$AC$7:$AC$46)=0,1+MAX('100m Manikin Carry Men'!$AC$7:$AC$46),SUMIF('100m Manikin Carry Men'!$C$7:$C$46,$A64,'100m Manikin Carry Men'!$AC$7:$AC$46))>2+MAX('100m Manikin Carry Men'!$AC$7:$AC$46),MAX('100m Manikin Carry Men'!$AC$7:$AC$46),IF(SUMIF('100m Manikin Carry Men'!$C$7:$C$46,$A64,'100m Manikin Carry Men'!$AC$7:$AC$46)=0,1+MAX('100m Manikin Carry Men'!$AC$7:$AC$46),SUMIF('100m Manikin Carry Men'!$C$7:$C$46,$A64,'100m Manikin Carry Men'!$AC$7:$AC$46))))","v":""},{"$f":"IF($A64=\"\",\"\",IF(IF(SUMIF('100m Manikin Tow Men'!$C$7:$C$46,$A64,'100m Manikin Tow Men'!$AC$7:$AC$46)=0,1+MAX('100m Manikin Tow Men'!$AC$7:$AC$46),SUMIF('100m Manikin Tow Men'!$C$7:$C$46,$A64,'100m Manikin Tow Men'!$AC$7:$AC$46))>2+MAX('100m Manikin Tow Men'!$AC$7:$AC$46),MAX('100m Manikin Tow Men'!$AC$7:$AC$46),IF(SUMIF('100m Manikin Tow Men'!$C$7:$C$46,$A64,'100m Manikin Tow Men'!$AC$7:$AC$46)=0,1+MAX('100m Manikin Tow Men'!$AC$7:$AC$46),SUMIF('100m Manikin Tow Men'!$C$7:$C$46,$A64,'100m Manikin Tow Men'!$AC$7:$AC$46))))","v":""},{"$f":"IF($A64=\"\",\"\",IF(IF(SUMIF('200m Obs Men'!$C$7:$C$46,$A64,'200m Obs Men'!$AC$7:$AC$46)=0,1+MAX('200m Obs Men'!$AC$7:$AC$46),SUMIF('200m Obs Men'!$C$7:$C$46,$A64,'200m Obs Men'!$AC$7:$AC$46))>2+MAX('200m Obs Men'!$AC$7:$AC$46),MAX('200m Obs Men'!$AC$7:$AC$46),IF(SUMIF('200m Obs Men'!$C$7:$C$46,$A64,'200m Obs Men'!$AC$7:$AC$46)=0,1+MAX('200m Obs Men'!$AC$7:$AC$46),SUMIF('200m Obs Men'!$C$7:$C$46,$A64,'200m Obs Men'!$AC$7:$AC$46))))","v":""},{"$f":"IF($A64=\"\",\"\",IF(IF(SUMIF('200m Super Men'!$C$7:$C$46,$A64,'200m Super Men'!$AC$7:$AC$46)=0,1+MAX('200m Super Men'!$AC$7:$AC$46),SUMIF('200m Super Men'!$C$7:$C$46,$A64,'200m Super Men'!$AC$7:$AC$46))>2+MAX('200m Super Men'!$AC$7:$AC$46),MAX('200m Super Men'!$AC$7:$AC$46),IF(SUMIF('200m Super Men'!$C$7:$C$46,$A64,'200m Super Men'!$AC$7:$AC$46)=0,1+MAX('200m Super Men'!$AC$7:$AC$46),SUMIF('200m Super Men'!$C$7:$C$46,$A64,'200m Super Men'!$AC$7:$AC$46))))","v":""},{"$f":"IF($A64=\"\",\"\",IF(IF(SUMIF('100 Resue Men'!$C$7:$C$46,$A64,'100 Resue Men'!$AC$7:$AC$46)=0,1+MAX('100 Resue Men'!$AC$7:$AC$46),SUMIF('100 Resue Men'!$C$7:$C$46,$A64,'100 Resue Men'!$AC$7:$AC$46))>2+MAX('100 Resue Men'!$AC$7:$AC$46),MAX('100 Resue Men'!$AC$7:$AC$46),IF(SUMIF('100 Resue Men'!$C$7:$C$46,$A64,'100 Resue Men'!$AC$7:$AC$46)=0,1+MAX('100 Resue Men'!$AC$7:$AC$46),SUMIF('100 Resue Men'!$C$7:$C$46,$A64,'100 Resue Men'!$AC$7:$AC$46))))","v":""},{"$f":"IF($A64=\"\",\"\",IF(IF(SUMIF('Line Throw Men'!$C$7:$C$46,$A64,'Line Throw Men'!$AE$7:$AE$46)=0,MAX('Line Throw Men'!$AE$7:$AE$46),SUMIF('Line Throw Men'!$C$7:$C$46,$A64,'Line Throw Men'!$AE$7:$AE$46))>2+MAX('Line Throw Men'!$AE$7:$AE$46),MAX('Line Throw Men'!$AE$7:$AE$46),IF(SUMIF('Line Throw Men'!$C$7:$C$46,$A64,'Line Throw Men'!$AE$7:$AE$46)=0,1+MAX('Line Throw Men'!$AE$7:$AE$46),SUMIF('Line Throw Men'!$C$7:$C$46,$A64,'Line Throw Men'!$AE$7:$AE$46))))","v":""},{"$f":"IF($A64=\"\",\"\",IF(IF(SUMIF('4 x 50 Obs Relay Men'!$C$7:$C$46,$A64,'4 x 50 Obs Relay Men'!$AH$7:$AH$46)=0,1+MAX('4 x 50 Obs Relay Men'!$AH$7:$AH$46),SUMIF('4 x 50 Obs Relay Men'!$C$7:$C$46,$A64,'4 x 50 Obs Relay Men'!$AH$7:$AH$46))>2+MAX('4 x 50 Obs Relay Men'!$AH$7:$AH$46),MAX('4 x 50 Obs Relay Men'!$AH$7:$AH$46),IF(SUMIF('4 x 50 Obs Relay Men'!$C$7:$C$46,$A64,'4 x 50 Obs Relay Men'!$AH$7:$AH$46)=0,1+MAX('4 x 50 Obs Relay Men'!$AH$7:$AH$46),SUMIF('4 x 50 Obs Relay Men'!$C$7:$C$46,$A64,'4 x 50 Obs Relay Men'!$AH$7:$AH$46))))","v":""},{"$f":"IF($A64=\"\",\"\",IF(IF(SUMIF('4 x 50 medley Relay Men'!$C$7:$C$46,$A64,'4 x 50 medley Relay Men'!$AH$7:$AH$46)=0,1+MAX('4 x 50 medley Relay Men'!$AH$7:$AH$46),SUMIF('4 x 50 medley Relay Men'!$C$7:$C$46,$A64,'4 x 50 medley Relay Men'!$AH$7:$AH$46))>2+MAX('4 x 50 medley Relay Men'!$AH$7:$AH$46),MAX('4 x 50 medley Relay Men'!$AH$7:$AH$46),IF(SUMIF('4 x 50 medley Relay Men'!$C$7:$C$46,$A64,'4 x 50 medley Relay Men'!$AH$7:$AH$46)=0,1+MAX('4 x 50 medley Relay Men'!$AH$7:$AH$46),SUMIF('4 x 50 medley Relay Men'!$C$7:$C$46,$A64,'4 x 50 medley Relay Men'!$AH$7:$AH$46))))","v":""},{"$f":"IF($A64=\"\",\"\",IF(IF(SUMIF('4 x 25 Manikin Carry Relay Men'!$C$7:$C$46,$A64,'4 x 25 Manikin Carry Relay Men'!$AH$7:$AH$46)=0,1+MAX('4 x 25 Manikin Carry Relay Men'!$AH$7:$AH$46),SUMIF('4 x 25 Manikin Carry Relay Men'!$C$7:$C$46,$A64,'4 x 25 Manikin Carry Relay Men'!$AH$7:$AH$46))>2+MAX('4 x 25 Manikin Carry Relay Men'!$AH$7:$AH$46),MAX('4 x 25 Manikin Carry Relay Men'!$AH$7:$AH$46),IF(SUMIF('4 x 25 Manikin Carry Relay Men'!$C$7:$C$46,$A64,'4 x 25 Manikin Carry Relay Men'!$AH$7:$AH$46)=0,1+MAX('4 x 25 Manikin Carry Relay Men'!$AH$7:$AH$46),SUMIF('4 x 25 Manikin Carry Relay Men'!$C$7:$C$46,$A64,'4 x 25 Manikin Carry Relay Men'!$AH$7:$AH$46))))","v":""},{"$f":"IF($A64=\"\",\"\",IF(IF(SUMIF('Line Throw Relay Men'!$C$7:$C$46,$A64,'Line Throw Relay Men'!$AH$7:$AH$46)=0,1+MAX('Line Throw Relay Men'!$AH$7:$AH$46),SUMIF('Line Throw Relay Men'!$C$7:$C$46,$A64,'Line Throw Relay Men'!$AH$7:$AH$46))>2+MAX('Line Throw Relay Men'!$AH$7:$AH$46),MAX('Line Throw Relay Men'!$AH$7:$AH$46),IF(SUMIF('Line Throw Relay Men'!$C$7:$C$46,$A64,'Line Throw Relay Men'!$AH$7:$AH$46)=0,1+MAX('Line Throw Relay Men'!$AH$7:$AH$46),SUMIF('Line Throw Relay Men'!$C$7:$C$46,$A64,'Line Throw Relay Men'!$AH$7:$AH$46))))","v":""},"",""]
["","",{"$f":"IF($A65=\"\",\"\",IF(IF(SUMIF('50m Manikin Carry Men'!$C$7:$C$46,$A65,'50m Manikin Carry Men'!$AC$7:$AC$46)=0,1+MAX('50m Manikin Carry Men'!$AC$7:$AC$46),SUMIF('50m Manikin Carry Men'!$C$7:$C$46,$A65,'50m Manikin Carry Men'!$AC$7:$AC$46))>MAX('50m Manikin Carry Men'!$AC$7:$AC$46)+2,MAX('50m Manikin Carry Men'!$AC$7:$AC$46),IF(SUMIF('50m Manikin Carry Men'!$C$7:$C$46,$A65,'50m Manikin Carry Men'!$AC$7:$AC$46)=0,1+MAX('50m Manikin Carry Men'!$AC$7:$AC$46),SUMIF('50m Manikin Carry Men'!$C$7:$C$46,$A65,'50m Manikin Carry Men'!$AC$7:$AC$46))))","v":""},{"$f":"IF($A65=\"\",\"\",IF(IF(SUMIF('100m Manikin Carry Men'!$C$7:$C$46,$A65,'100m Manikin Carry Men'!$AC$7:$AC$46)=0,1+MAX('100m Manikin Carry Men'!$AC$7:$AC$46),SUMIF('100m Manikin Carry Men'!$C$7:$C$46,$A65,'100m Manikin Carry Men'!$AC$7:$AC$46))>2+MAX('100m Manikin Carry Men'!$AC$7:$AC$46),MAX('100m Manikin Carry Men'!$AC$7:$AC$46),IF(SUMIF('100m Manikin Carry Men'!$C$7:$C$46,$A65,'100m Manikin Carry Men'!$AC$7:$AC$46)=0,1+MAX('100m Manikin Carry Men'!$AC$7:$AC$46),SUMIF('100m Manikin Carry Men'!$C$7:$C$46,$A65,'100m Manikin Carry Men'!$AC$7:$AC$46))))","v":""},{"$f":"IF($A65=\"\",\"\",IF(IF(SUMIF('100m Manikin Tow Men'!$C$7:$C$46,$A65,'100m Manikin Tow Men'!$AC$7:$AC$46)=0,1+MAX('100m Manikin Tow Men'!$AC$7:$AC$46),SUMIF('100m Manikin Tow Men'!$C$7:$C$46,$A65,'100m Manikin Tow Men'!$AC$7:$AC$46))>2+MAX('100m Manikin Tow Men'!$AC$7:$AC$46),MAX('100m Manikin Tow Men'!$AC$7:$AC$46),IF(SUMIF('100m Manikin Tow Men'!$C$7:$C$46,$A65,'100m Manikin Tow Men'!$AC$7:$AC$46)=0,1+MAX('100m Manikin Tow Men'!$AC$7:$AC$46),SUMIF('100m Manikin Tow Men'!$C$7:$C$46,$A65,'100m Manikin Tow Men'!$AC$7:$AC$46))))","v":""},{"$f":"IF($A65=\"\",\"\",IF(IF(SUMIF('200m Obs Men'!$C$7:$C$46,$A65,'200m Obs Men'!$AC$7:$AC$46)=0,1+MAX('200m Obs Men'!$AC$7:$AC$46),SUMIF('200m Obs Men'!$C$7:$C$46,$A65,'200m Obs Men'!$AC$7:$AC$46))>2+MAX('200m Obs Men'!$AC$7:$AC$46),MAX('200m Obs Men'!$AC$7:$AC$46),IF(SUMIF('200m Obs Men'!$C$7:$C$46,$A65,'200m Obs Men'!$AC$7:$AC$46)=0,1+MAX('200m Obs Men'!$AC$7:$AC$46),SUMIF('200m Obs Men'!$C$7:$C$46,$A65,'200m Obs Men'!$AC$7:$AC$46))))","v":""},{"$f":"IF($A65=\"\",\"\",IF(IF(SUMIF('200m Super Men'!$C$7:$C$46,$A65,'200m Super Men'!$AC$7:$AC$46)=0,1+MAX('200m Super Men'!$AC$7:$AC$46),SUMIF('200m Super Men'!$C$7:$C$46,$A65,'200m Super Men'!$AC$7:$AC$46))>2+MAX('200m Super Men'!$AC$7:$AC$46),MAX('200m Super Men'!$AC$7:$AC$46),IF(SUMIF('200m Super Men'!$C$7:$C$46,$A65,'200m Super Men'!$AC$7:$AC$46)=0,1+MAX('200m Super Men'!$AC$7:$AC$46),SUMIF('200m Super Men'!$C$7:$C$46,$A65,'200m Super Men'!$AC$7:$AC$46))))","v":""},{"$f":"IF($A65=\"\",\"\",IF(IF(SUMIF('100 Resue Men'!$C$7:$C$46,$A65,'100 Resue Men'!$AC$7:$AC$46)=0,1+MAX('100 Resue Men'!$AC$7:$AC$46),SUMIF('100 Resue Men'!$C$7:$C$46,$A65,'100 Resue Men'!$AC$7:$AC$46))>2+MAX('100 Resue Men'!$AC$7:$AC$46),MAX('100 Resue Men'!$AC$7:$AC$46),IF(SUMIF('100 Resue Men'!$C$7:$C$46,$A65,'100 Resue Men'!$AC$7:$AC$46)=0,1+MAX('100 Resue Men'!$AC$7:$AC$46),SUMIF('100 Resue Men'!$C$7:$C$46,$A65,'100 Resue Men'!$AC$7:$AC$46))))","v":""},{"$f":"IF($A65=\"\",\"\",IF(IF(SUMIF('Line Throw Men'!$C$7:$C$46,$A65,'Line Throw Men'!$AE$7:$AE$46)=0,MAX('Line Throw Men'!$AE$7:$AE$46),SUMIF('Line Throw Men'!$C$7:$C$46,$A65,'Line Throw Men'!$AE$7:$AE$46))>2+MAX('Line Throw Men'!$AE$7:$AE$46),MAX('Line Throw Men'!$AE$7:$AE$46),IF(SUMIF('Line Throw Men'!$C$7:$C$46,$A65,'Line Throw Men'!$AE$7:$AE$46)=0,1+MAX('Line Throw Men'!$AE$7:$AE$46),SUMIF('Line Throw Men'!$C$7:$C$46,$A65,'Line Throw Men'!$AE$7:$AE$46))))","v":""},{"$f":"IF($A65=\"\",\"\",IF(IF(SUMIF('4 x 50 Obs Relay Men'!$C$7:$C$46,$A65,'4 x 50 Obs Relay Men'!$AH$7:$AH$46)=0,1+MAX('4 x 50 Obs Relay Men'!$AH$7:$AH$46),SUMIF('4 x 50 Obs Relay Men'!$C$7:$C$46,$A65,'4 x 50 Obs Relay Men'!$AH$7:$AH$46))>2+MAX('4 x 50 Obs Relay Men'!$AH$7:$AH$46),MAX('4 x 50 Obs Relay Men'!$AH$7:$AH$46),IF(SUMIF('4 x 50 Obs Relay Men'!$C$7:$C$46,$A65,'4 x 50 Obs Relay Men'!$AH$7:$AH$46)=0,1+MAX('4 x 50 Obs Relay Men'!$AH$7:$AH$46),SUMIF('4 x 50 Obs Relay Men'!$C$7:$C$46,$A65,'4 x 50 Obs Relay Men'!$AH$7:$AH$46))))","v":""},{"$f":"IF($A65=\"\",\"\",IF(IF(SUMIF('4 x 50 medley Relay Men'!$C$7:$C$46,$A65,'4 x 50 medley Relay Men'!$AH$7:$AH$46)=0,1+MAX('4 x 50 medley Relay Men'!$AH$7:$AH$46),SUMIF('4 x 50 medley Relay Men'!$C$7:$C$46,$A65,'4 x 50 medley Relay Men'!$AH$7:$AH$46))>2+MAX('4 x 50 medley Relay Men'!$AH$7:$AH$46),MAX('4 x 50 medley Relay Men'!$AH$7:$AH$46),IF(SUMIF('4 x 50 medley Relay Men'!$C$7:$C$46,$A65,'4 x 50 medley Relay Men'!$AH$7:$AH$46)=0,1+MAX('4 x 50 medley Relay Men'!$AH$7:$AH$46),SUMIF('4 x 50 medley Relay Men'!$C$7:$C$46,$A65,'4 x 50 medley Relay Men'!$AH$7:$AH$46))))","v":""},{"$f":"IF($A65=\"\",\"\",IF(IF(SUMIF('4 x 25 Manikin Carry Relay Men'!$C$7:$C$46,$A65,'4 x 25 Manikin Carry Relay Men'!$AH$7:$AH$46)=0,1+MAX('4 x 25 Manikin Carry Relay Men'!$AH$7:$AH$46),SUMIF('4 x 25 Manikin Carry Relay Men'!$C$7:$C$46,$A65,'4 x 25 Manikin Carry Relay Men'!$AH$7:$AH$46))>2+MAX('4 x 25 Manikin Carry Relay Men'!$AH$7:$AH$46),MAX('4 x 25 Manikin Carry Relay Men'!$AH$7:$AH$46),IF(SUMIF('4 x 25 Manikin Carry Relay Men'!$C$7:$C$46,$A65,'4 x 25 Manikin Carry Relay Men'!$AH$7:$AH$46)=0,1+MAX('4 x 25 Manikin Carry Relay Men'!$AH$7:$AH$46),SUMIF('4 x 25 Manikin Carry Relay Men'!$C$7:$C$46,$A65,'4 x 25 Manikin Carry Relay Men'!$AH$7:$AH$46))))","v":""},{"$f":"IF($A65=\"\",\"\",IF(IF(SUMIF('Line Throw Relay Men'!$C$7:$C$46,$A65,'Line Throw Relay Men'!$AH$7:$AH$46)=0,1+MAX('Line Throw Relay Men'!$AH$7:$AH$46),SUMIF('Line Throw Relay Men'!$C$7:$C$46,$A65,'Line Throw Relay Men'!$AH$7:$AH$46))>2+MAX('Line Throw Relay Men'!$AH$7:$AH$46),MAX('Line Throw Relay Men'!$AH$7:$AH$46),IF(SUMIF('Line Throw Relay Men'!$C$7:$C$46,$A65,'Line Throw Relay Men'!$AH$7:$AH$46)=0,1+MAX('Line Throw Relay Men'!$AH$7:$AH$46),SUMIF('Line Throw Relay Men'!$C$7:$C$46,$A65,'Line Throw Relay Men'!$AH$7:$AH$46))))","v":""},"",""]
["","",{"$f":"IF($A66=\"\",\"\",IF(IF(SUMIF('50m Manikin Carry Men'!$C$7:$C$46,$A66,'50m Manikin Carry Men'!$AC$7:$AC$46)=0,1+MAX('50m Manikin Carry Men'!$AC$7:$AC$46),SUMIF('50m Manikin Carry Men'!$C$7:$C$46,$A66,'50m Manikin Carry Men'!$AC$7:$AC$46))>MAX('50m Manikin Carry Men'!$AC$7:$AC$46)+2,MAX('50m Manikin Carry Men'!$AC$7:$AC$46),IF(SUMIF('50m Manikin Carry Men'!$C$7:$C$46,$A66,'50m Manikin Carry Men'!$AC$7:$AC$46)=0,1+MAX('50m Manikin Carry Men'!$AC$7:$AC$46),SUMIF('50m Manikin Carry Men'!$C$7:$C$46,$A66,'50m Manikin Carry Men'!$AC$7:$AC$46))))","v":""},{"$f":"IF($A66=\"\",\"\",IF(IF(SUMIF('100m Manikin Carry Men'!$C$7:$C$46,$A66,'100m Manikin Carry Men'!$AC$7:$AC$46)=0,1+MAX('100m Manikin Carry Men'!$AC$7:$AC$46),SUMIF('100m Manikin Carry Men'!$C$7:$C$46,$A66,'100m Manikin Carry Men'!$AC$7:$AC$46))>2+MAX('100m Manikin Carry Men'!$AC$7:$AC$46),MAX('100m Manikin Carry Men'!$AC$7:$AC$46),IF(SUMIF('100m Manikin Carry Men'!$C$7:$C$46,$A66,'100m Manikin Carry Men'!$AC$7:$AC$46)=0,1+MAX('100m Manikin Carry Men'!$AC$7:$AC$46),SUMIF('100m Manikin Carry Men'!$C$7:$C$46,$A66,'100m Manikin Carry Men'!$AC$7:$AC$46))))","v":""},{"$f":"IF($A66=\"\",\"\",IF(IF(SUMIF('100m Manikin Tow Men'!$C$7:$C$46,$A66,'100m Manikin Tow Men'!$AC$7:$AC$46)=0,1+MAX('100m Manikin Tow Men'!$AC$7:$AC$46),SUMIF('100m Manikin Tow Men'!$C$7:$C$46,$A66,'100m Manikin Tow Men'!$AC$7:$AC$46))>2+MAX('100m Manikin Tow Men'!$AC$7:$AC$46),MAX('100m Manikin Tow Men'!$AC$7:$AC$46),IF(SUMIF('100m Manikin Tow Men'!$C$7:$C$46,$A66,'100m Manikin Tow Men'!$AC$7:$AC$46)=0,1+MAX('100m Manikin Tow Men'!$AC$7:$AC$46),SUMIF('100m Manikin Tow Men'!$C$7:$C$46,$A66,'100m Manikin Tow Men'!$AC$7:$AC$46))))","v":""},{"$f":"IF($A66=\"\",\"\",IF(IF(SUMIF('200m Obs Men'!$C$7:$C$46,$A66,'200m Obs Men'!$AC$7:$AC$46)=0,1+MAX('200m Obs Men'!$AC$7:$AC$46),SUMIF('200m Obs Men'!$C$7:$C$46,$A66,'200m Obs Men'!$AC$7:$AC$46))>2+MAX('200m Obs Men'!$AC$7:$AC$46),MAX('200m Obs Men'!$AC$7:$AC$46),IF(SUMIF('200m Obs Men'!$C$7:$C$46,$A66,'200m Obs Men'!$AC$7:$AC$46)=0,1+MAX('200m Obs Men'!$AC$7:$AC$46),SUMIF('200m Obs Men'!$C$7:$C$46,$A66,'200m Obs Men'!$AC$7:$AC$46))))","v":""},{"$f":"IF($A66=\"\",\"\",IF(IF(SUMIF('200m Super Men'!$C$7:$C$46,$A66,'200m Super Men'!$AC$7:$AC$46)=0,1+MAX('200m Super Men'!$AC$7:$AC$46),SUMIF('200m Super Men'!$C$7:$C$46,$A66,'200m Super Men'!$AC$7:$AC$46))>2+MAX('200m Super Men'!$AC$7:$AC$46),MAX('200m Super Men'!$AC$7:$AC$46),IF(SUMIF('200m Super Men'!$C$7:$C$46,$A66,'200m Super Men'!$AC$7:$AC$46)=0,1+MAX('200m Super Men'!$AC$7:$AC$46),SUMIF('200m Super Men'!$C$7:$C$46,$A66,'200m Super Men'!$AC$7:$AC$46))))","v":""},{"$f":"IF($A66=\"\",\"\",IF(IF(SUMIF('100 Resue Men'!$C$7:$C$46,$A66,'100 Resue Men'!$AC$7:$AC$46)=0,1+MAX('100 Resue Men'!$AC$7:$AC$46),SUMIF('100 Resue Men'!$C$7:$C$46,$A66,'100 Resue Men'!$AC$7:$AC$46))>2+MAX('100 Resue Men'!$AC$7:$AC$46),MAX('100 Resue Men'!$AC$7:$AC$46),IF(SUMIF('100 Resue Men'!$C$7:$C$46,$A66,'100 Resue Men'!$AC$7:$AC$46)=0,1+MAX('100 Resue Men'!$AC$7:$AC$46),SUMIF('100 Resue Men'!$C$7:$C$46,$A66,'100 Resue Men'!$AC$7:$AC$46))))","v":""},{"$f":"IF($A66=\"\",\"\",IF(IF(SUMIF('Line Throw Men'!$C$7:$C$46,$A66,'Line Throw Men'!$AE$7:$AE$46)=0,MAX('Line Throw Men'!$AE$7:$AE$46),SUMIF('Line Throw Men'!$C$7:$C$46,$A66,'Line Throw Men'!$AE$7:$AE$46))>2+MAX('Line Throw Men'!$AE$7:$AE$46),MAX('Line Throw Men'!$AE$7:$AE$46),IF(SUMIF('Line Throw Men'!$C$7:$C$46,$A66,'Line Throw Men'!$AE$7:$AE$46)=0,1+MAX('Line Throw Men'!$AE$7:$AE$46),SUMIF('Line Throw Men'!$C$7:$C$46,$A66,'Line Throw Men'!$AE$7:$AE$46))))","v":""},{"$f":"IF($A66=\"\",\"\",IF(IF(SUMIF('4 x 50 Obs Relay Men'!$C$7:$C$46,$A66,'4 x 50 Obs Relay Men'!$AH$7:$AH$46)=0,1+MAX('4 x 50 Obs Relay Men'!$AH$7:$AH$46),SUMIF('4 x 50 Obs Relay Men'!$C$7:$C$46,$A66,'4 x 50 Obs Relay Men'!$AH$7:$AH$46))>2+MAX('4 x 50 Obs Relay Men'!$AH$7:$AH$46),MAX('4 x 50 Obs Relay Men'!$AH$7:$AH$46),IF(SUMIF('4 x 50 Obs Relay Men'!$C$7:$C$46,$A66,'4 x 50 Obs Relay Men'!$AH$7:$AH$46)=0,1+MAX('4 x 50 Obs Relay Men'!$AH$7:$AH$46),SUMIF('4 x 50 Obs Relay Men'!$C$7:$C$46,$A66,'4 x 50 Obs Relay Men'!$AH$7:$AH$46))))","v":""},{"$f":"IF($A66=\"\",\"\",IF(IF(SUMIF('4 x 50 medley Relay Men'!$C$7:$C$46,$A66,'4 x 50 medley Relay Men'!$AH$7:$AH$46)=0,1+MAX('4 x 50 medley Relay Men'!$AH$7:$AH$46),SUMIF('4 x 50 medley Relay Men'!$C$7:$C$46,$A66,'4 x 50 medley Relay Men'!$AH$7:$AH$46))>2+MAX('4 x 50 medley Relay Men'!$AH$7:$AH$46),MAX('4 x 50 medley Relay Men'!$AH$7:$AH$46),IF(SUMIF('4 x 50 medley Relay Men'!$C$7:$C$46,$A66,'4 x 50 medley Relay Men'!$AH$7:$AH$46)=0,1+MAX('4 x 50 medley Relay Men'!$AH$7:$AH$46),SUMIF('4 x 50 medley Relay Men'!$C$7:$C$46,$A66,'4 x 50 medley Relay Men'!$AH$7:$AH$46))))","v":""},{"$f":"IF($A66=\"\",\"\",IF(IF(SUMIF('4 x 25 Manikin Carry Relay Men'!$C$7:$C$46,$A66,'4 x 25 Manikin Carry Relay Men'!$AH$7:$AH$46)=0,1+MAX('4 x 25 Manikin Carry Relay Men'!$AH$7:$AH$46),SUMIF('4 x 25 Manikin Carry Relay Men'!$C$7:$C$46,$A66,'4 x 25 Manikin Carry Relay Men'!$AH$7:$AH$46))>2+MAX('4 x 25 Manikin Carry Relay Men'!$AH$7:$AH$46),MAX('4 x 25 Manikin Carry Relay Men'!$AH$7:$AH$46),IF(SUMIF('4 x 25 Manikin Carry Relay Men'!$C$7:$C$46,$A66,'4 x 25 Manikin Carry Relay Men'!$AH$7:$AH$46)=0,1+MAX('4 x 25 Manikin Carry Relay Men'!$AH$7:$AH$46),SUMIF('4 x 25 Manikin Carry Relay Men'!$C$7:$C$46,$A66,'4 x 25 Manikin Carry Relay Men'!$AH$7:$AH$46))))","v":""},{"$f":"IF($A66=\"\",\"\",IF(IF(SUMIF('Line Throw Relay Men'!$C$7:$C$46,$A66,'Line Throw Relay Men'!$AH$7:$AH$46)=0,1+MAX('Line Throw Relay Men'!$AH$7:$AH$46),SUMIF('Line Throw Relay Men'!$C$7:$C$46,$A66,'Line Throw Relay Men'!$AH$7:$AH$46))>2+MAX('Line Throw Relay Men'!$AH$7:$AH$46),MAX('Line Throw Relay Men'!$AH$7:$AH$46),IF(SUMIF('Line Throw Relay Men'!$C$7:$C$46,$A66,'Line Throw Relay Men'!$AH$7:$AH$46)=0,1+MAX('Line Throw Relay Men'!$AH$7:$AH$46),SUMIF('Line Throw Relay Men'!$C$7:$C$46,$A66,'Line Throw Relay Men'!$AH$7:$AH$46))))","v":""},"",""]
["","",{"$f":"IF($A67=\"\",\"\",IF(IF(SUMIF('50m Manikin Carry Men'!$C$7:$C$46,$A67,'50m Manikin Carry Men'!$AC$7:$AC$46)=0,1+MAX('50m Manikin Carry Men'!$AC$7:$AC$46),SUMIF('50m Manikin Carry Men'!$C$7:$C$46,$A67,'50m Manikin Carry Men'!$AC$7:$AC$46))>MAX('50m Manikin Carry Men'!$AC$7:$AC$46)+2,MAX('50m Manikin Carry Men'!$AC$7:$AC$46),IF(SUMIF('50m Manikin Carry Men'!$C$7:$C$46,$A67,'50m Manikin Carry Men'!$AC$7:$AC$46)=0,1+MAX('50m Manikin Carry Men'!$AC$7:$AC$46),SUMIF('50m Manikin Carry Men'!$C$7:$C$46,$A67,'50m Manikin Carry Men'!$AC$7:$AC$46))))","v":""},{"$f":"IF($A67=\"\",\"\",IF(IF(SUMIF('100m Manikin Carry Men'!$C$7:$C$46,$A67,'100m Manikin Carry Men'!$AC$7:$AC$46)=0,1+MAX('100m Manikin Carry Men'!$AC$7:$AC$46),SUMIF('100m Manikin Carry Men'!$C$7:$C$46,$A67,'100m Manikin Carry Men'!$AC$7:$AC$46))>2+MAX('100m Manikin Carry Men'!$AC$7:$AC$46),MAX('100m Manikin Carry Men'!$AC$7:$AC$46),IF(SUMIF('100m Manikin Carry Men'!$C$7:$C$46,$A67,'100m Manikin Carry Men'!$AC$7:$AC$46)=0,1+MAX('100m Manikin Carry Men'!$AC$7:$AC$46),SUMIF('100m Manikin Carry Men'!$C$7:$C$46,$A67,'100m Manikin Carry Men'!$AC$7:$AC$46))))","v":""},{"$f":"IF($A67=\"\",\"\",IF(IF(SUMIF('100m Manikin Tow Men'!$C$7:$C$46,$A67,'100m Manikin Tow Men'!$AC$7:$AC$46)=0,1+MAX('100m Manikin Tow Men'!$AC$7:$AC$46),SUMIF('100m Manikin Tow Men'!$C$7:$C$46,$A67,'100m Manikin Tow Men'!$AC$7:$AC$46))>2+MAX('100m Manikin Tow Men'!$AC$7:$AC$46),MAX('100m Manikin Tow Men'!$AC$7:$AC$46),IF(SUMIF('100m Manikin Tow Men'!$C$7:$C$46,$A67,'100m Manikin Tow Men'!$AC$7:$AC$46)=0,1+MAX('100m Manikin Tow Men'!$AC$7:$AC$46),SUMIF('100m Manikin Tow Men'!$C$7:$C$46,$A67,'100m Manikin Tow Men'!$AC$7:$AC$46))))","v":""},{"$f":"IF($A67=\"\",\"\",IF(IF(SUMIF('200m Obs Men'!$C$7:$C$46,$A67,'200m Obs Men'!$AC$7:$AC$46)=0,1+MAX('200m Obs Men'!$AC$7:$AC$46),SUMIF('200m Obs Men'!$C$7:$C$46,$A67,'200m Obs Men'!$AC$7:$AC$46))>2+MAX('200m Obs Men'!$AC$7:$AC$46),MAX('200m Obs Men'!$AC$7:$AC$46),IF(SUMIF('200m Obs Men'!$C$7:$C$46,$A67,'200m Obs Men'!$AC$7:$AC$46)=0,1+MAX('200m Obs Men'!$AC$7:$AC$46),SUMIF('200m Obs Men'!$C$7:$C$46,$A67,'200m Obs Men'!$AC$7:$AC$46))))","v":""},{"$f":"IF($A67=\"\",\"\",IF(IF(SUMIF('200m Super Men'!$C$7:$C$46,$A67,'200m Super Men'!$AC$7:$AC$46)=0,1+MAX('200m Super Men'!$AC$7:$AC$46),SUMIF('200m Super Men'!$C$7:$C$46,$A67,'200m Super Men'!$AC$7:$AC$46))>2+MAX('200m Super Men'!$AC$7:$AC$46),MAX('200m Super Men'!$AC$7:$AC$46),IF(SUMIF('200m Super Men'!$C$7:$C$46,$A67,'200m Super Men'!$AC$7:$AC$46)=0,1+MAX('200m Super Men'!$AC$7:$AC$46),SUMIF('200m Super Men'!$C$7:$C$46,$A67,'200m Super Men'!$AC$7:$AC$46))))","v":""},{"$f":"IF($A67=\"\",\"\",IF(IF(SUMIF('100 Resue Men'!$C$7:$C$46,$A67,'100 Resue Men'!$AC$7:$AC$46)=0,1+MAX('100 Resue Men'!$AC$7:$AC$46),SUMIF('100 Resue Men'!$C$7:$C$46,$A67,'100 Resue Men'!$AC$7:$AC$46))>2+MAX('100 Resue Men'!$AC$7:$AC$46),MAX('100 Resue Men'!$AC$7:$AC$46),IF(SUMIF('100 Resue Men'!$C$7:$C$46,$A67,'100 Resue Men'!$AC$7:$AC$46)=0,1+MAX('100 Resue Men'!$AC$7:$AC$46),SUMIF('100 Resue Men'!$C$7:$C$46,$A67,'100 Resue Men'!$AC$7:$AC$46))))","v":""},{"$f":"IF($A67=\"\",\"\",IF(IF(SUMIF('Line Throw Men'!$C$7:$C$46,$A67,'Line Throw Men'!$AE$7:$AE$46)=0,MAX('Line Throw Men'!$AE$7:$AE$46),SUMIF('Line Throw Men'!$C$7:$C$46,$A67,'Line Throw Men'!$AE$7:$AE$46))>2+MAX('Line Throw Men'!$AE$7:$AE$46),MAX('Line Throw Men'!$AE$7:$AE$46),IF(SUMIF('Line Throw Men'!$C$7:$C$46,$A67,'Line Throw Men'!$AE$7:$AE$46)=0,1+MAX('Line Throw Men'!$AE$7:$AE$46),SUMIF('Line Throw Men'!$C$7:$C$46,$A67,'Line Throw Men'!$AE$7:$AE$46))))","v":""},{"$f":"IF($A67=\"\",\"\",IF(IF(SUMIF('4 x 50 Obs Relay Men'!$C$7:$C$46,$A67,'4 x 50 Obs Relay Men'!$AH$7:$AH$46)=0,1+MAX('4 x 50 Obs Relay Men'!$AH$7:$AH$46),SUMIF('4 x 50 Obs Relay Men'!$C$7:$C$46,$A67,'4 x 50 Obs Relay Men'!$AH$7:$AH$46))>2+MAX('4 x 50 Obs Relay Men'!$AH$7:$AH$46),MAX('4 x 50 Obs Relay Men'!$AH$7:$AH$46),IF(SUMIF('4 x 50 Obs Relay Men'!$C$7:$C$46,$A67,'4 x 50 Obs Relay Men'!$AH$7:$AH$46)=0,1+MAX('4 x 50 Obs Relay Men'!$AH$7:$AH$46),SUMIF('4 x 50 Obs Relay Men'!$C$7:$C$46,$A67,'4 x 50 Obs Relay Men'!$AH$7:$AH$46))))","v":""},{"$f":"IF($A67=\"\",\"\",IF(IF(SUMIF('4 x 50 medley Relay Men'!$C$7:$C$46,$A67,'4 x 50 medley Relay Men'!$AH$7:$AH$46)=0,1+MAX('4 x 50 medley Relay Men'!$AH$7:$AH$46),SUMIF('4 x 50 medley Relay Men'!$C$7:$C$46,$A67,'4 x 50 medley Relay Men'!$AH$7:$AH$46))>2+MAX('4 x 50 medley Relay Men'!$AH$7:$AH$46),MAX('4 x 50 medley Relay Men'!$AH$7:$AH$46),IF(SUMIF('4 x 50 medley Relay Men'!$C$7:$C$46,$A67,'4 x 50 medley Relay Men'!$AH$7:$AH$46)=0,1+MAX('4 x 50 medley Relay Men'!$AH$7:$AH$46),SUMIF('4 x 50 medley Relay Men'!$C$7:$C$46,$A67,'4 x 50 medley Relay Men'!$AH$7:$AH$46))))","v":""},{"$f":"IF($A67=\"\",\"\",IF(IF(SUMIF('4 x 25 Manikin Carry Relay Men'!$C$7:$C$46,$A67,'4 x 25 Manikin Carry Relay Men'!$AH$7:$AH$46)=0,1+MAX('4 x 25 Manikin Carry Relay Men'!$AH$7:$AH$46),SUMIF('4 x 25 Manikin Carry Relay Men'!$C$7:$C$46,$A67,'4 x 25 Manikin Carry Relay Men'!$AH$7:$AH$46))>2+MAX('4 x 25 Manikin Carry Relay Men'!$AH$7:$AH$46),MAX('4 x 25 Manikin Carry Relay Men'!$AH$7:$AH$46),IF(SUMIF('4 x 25 Manikin Carry Relay Men'!$C$7:$C$46,$A67,'4 x 25 Manikin Carry Relay Men'!$AH$7:$AH$46)=0,1+MAX('4 x 25 Manikin Carry Relay Men'!$AH$7:$AH$46),SUMIF('4 x 25 Manikin Carry Relay Men'!$C$7:$C$46,$A67,'4 x 25 Manikin Carry Relay Men'!$AH$7:$AH$46))))","v":""},{"$f":"IF($A67=\"\",\"\",IF(IF(SUMIF('Line Throw Relay Men'!$C$7:$C$46,$A67,'Line Throw Relay Men'!$AH$7:$AH$46)=0,1+MAX('Line Throw Relay Men'!$AH$7:$AH$46),SUMIF('Line Throw Relay Men'!$C$7:$C$46,$A67,'Line Throw Relay Men'!$AH$7:$AH$46))>2+MAX('Line Throw Relay Men'!$AH$7:$AH$46),MAX('Line Throw Relay Men'!$AH$7:$AH$46),IF(SUMIF('Line Throw Relay Men'!$C$7:$C$46,$A67,'Line Throw Relay Men'!$AH$7:$AH$46)=0,1+MAX('Line Throw Relay Men'!$AH$7:$AH$46),SUMIF('Line Throw Relay Men'!$C$7:$C$46,$A67,'Line Throw Relay Men'!$AH$7:$AH$46))))","v":""},"",""]
["","",{"$f":"IF($A68=\"\",\"\",IF(IF(SUMIF('50m Manikin Carry Men'!$C$7:$C$46,$A68,'50m Manikin Carry Men'!$AC$7:$AC$46)=0,1+MAX('50m Manikin Carry Men'!$AC$7:$AC$46),SUMIF('50m Manikin Carry Men'!$C$7:$C$46,$A68,'50m Manikin Carry Men'!$AC$7:$AC$46))>MAX('50m Manikin Carry Men'!$AC$7:$AC$46)+2,MAX('50m Manikin Carry Men'!$AC$7:$AC$46),IF(SUMIF('50m Manikin Carry Men'!$C$7:$C$46,$A68,'50m Manikin Carry Men'!$AC$7:$AC$46)=0,1+MAX('50m Manikin Carry Men'!$AC$7:$AC$46),SUMIF('50m Manikin Carry Men'!$C$7:$C$46,$A68,'50m Manikin Carry Men'!$AC$7:$AC$46))))","v":""},{"$f":"IF($A68=\"\",\"\",IF(IF(SUMIF('100m Manikin Carry Men'!$C$7:$C$46,$A68,'100m Manikin Carry Men'!$AC$7:$AC$46)=0,1+MAX('100m Manikin Carry Men'!$AC$7:$AC$46),SUMIF('100m Manikin Carry Men'!$C$7:$C$46,$A68,'100m Manikin Carry Men'!$AC$7:$AC$46))>2+MAX('100m Manikin Carry Men'!$AC$7:$AC$46),MAX('100m Manikin Carry Men'!$AC$7:$AC$46),IF(SUMIF('100m Manikin Carry Men'!$C$7:$C$46,$A68,'100m Manikin Carry Men'!$AC$7:$AC$46)=0,1+MAX('100m Manikin Carry Men'!$AC$7:$AC$46),SUMIF('100m Manikin Carry Men'!$C$7:$C$46,$A68,'100m Manikin Carry Men'!$AC$7:$AC$46))))","v":""},{"$f":"IF($A68=\"\",\"\",IF(IF(SUMIF('100m Manikin Tow Men'!$C$7:$C$46,$A68,'100m Manikin Tow Men'!$AC$7:$AC$46)=0,1+MAX('100m Manikin Tow Men'!$AC$7:$AC$46),SUMIF('100m Manikin Tow Men'!$C$7:$C$46,$A68,'100m Manikin Tow Men'!$AC$7:$AC$46))>2+MAX('100m Manikin Tow Men'!$AC$7:$AC$46),MAX('100m Manikin Tow Men'!$AC$7:$AC$46),IF(SUMIF('100m Manikin Tow Men'!$C$7:$C$46,$A68,'100m Manikin Tow Men'!$AC$7:$AC$46)=0,1+MAX('100m Manikin Tow Men'!$AC$7:$AC$46),SUMIF('100m Manikin Tow Men'!$C$7:$C$46,$A68,'100m Manikin Tow Men'!$AC$7:$AC$46))))","v":""},{"$f":"IF($A68=\"\",\"\",IF(IF(SUMIF('200m Obs Men'!$C$7:$C$46,$A68,'200m Obs Men'!$AC$7:$AC$46)=0,1+MAX('200m Obs Men'!$AC$7:$AC$46),SUMIF('200m Obs Men'!$C$7:$C$46,$A68,'200m Obs Men'!$AC$7:$AC$46))>2+MAX('200m Obs Men'!$AC$7:$AC$46),MAX('200m Obs Men'!$AC$7:$AC$46),IF(SUMIF('200m Obs Men'!$C$7:$C$46,$A68,'200m Obs Men'!$AC$7:$AC$46)=0,1+MAX('200m Obs Men'!$AC$7:$AC$46),SUMIF('200m Obs Men'!$C$7:$C$46,$A68,'200m Obs Men'!$AC$7:$AC$46))))","v":""},{"$f":"IF($A68=\"\",\"\",IF(IF(SUMIF('200m Super Men'!$C$7:$C$46,$A68,'200m Super Men'!$AC$7:$AC$46)=0,1+MAX('200m Super Men'!$AC$7:$AC$46),SUMIF('200m Super Men'!$C$7:$C$46,$A68,'200m Super Men'!$AC$7:$AC$46))>2+MAX('200m Super Men'!$AC$7:$AC$46),MAX('200m Super Men'!$AC$7:$AC$46),IF(SUMIF('200m Super Men'!$C$7:$C$46,$A68,'200m Super Men'!$AC$7:$AC$46)=0,1+MAX('200m Super Men'!$AC$7:$AC$46),SUMIF('200m Super Men'!$C$7:$C$46,$A68,'200m Super Men'!$AC$7:$AC$46))))","v":""},{"$f":"IF($A68=\"\",\"\",IF(IF(SUMIF('100 Resue Men'!$C$7:$C$46,$A68,'100 Resue Men'!$AC$7:$AC$46)=0,1+MAX('100 Resue Men'!$AC$7:$AC$46),SUMIF('100 Resue Men'!$C$7:$C$46,$A68,'100 Resue Men'!$AC$7:$AC$46))>2+MAX('100 Resue Men'!$AC$7:$AC$46),MAX('100 Resue Men'!$AC$7:$AC$46),IF(SUMIF('100 Resue Men'!$C$7:$C$46,$A68,'100 Resue Men'!$AC$7:$AC$46)=0,1+MAX('100 Resue Men'!$AC$7:$AC$46),SUMIF('100 Resue Men'!$C$7:$C$46,$A68,'100 Resue Men'!$AC$7:$AC$46))))","v":""},{"$f":"IF($A68=\"\",\"\",IF(IF(SUMIF('Line Throw Men'!$C$7:$C$46,$A68,'Line Throw Men'!$AE$7:$AE$46)=0,MAX('Line Throw Men'!$AE$7:$AE$46),SUMIF('Line Throw Men'!$C$7:$C$46,$A68,'Line Throw Men'!$AE$7:$AE$46))>2+MAX('Line Throw Men'!$AE$7:$AE$46),MAX('Line Throw Men'!$AE$7:$AE$46),IF(SUMIF('Line Throw Men'!$C$7:$C$46,$A68,'Line Throw Men'!$AE$7:$AE$46)=0,1+MAX('Line Throw Men'!$AE$7:$AE$46),SUMIF('Line Throw Men'!$C$7:$C$46,$A68,'Line Throw Men'!$AE$7:$AE$46))))","v":""},{"$f":"IF($A68=\"\",\"\",IF(IF(SUMIF('4 x 50 Obs Relay Men'!$C$7:$C$46,$A68,'4 x 50 Obs Relay Men'!$AH$7:$AH$46)=0,1+MAX('4 x 50 Obs Relay Men'!$AH$7:$AH$46),SUMIF('4 x 50 Obs Relay Men'!$C$7:$C$46,$A68,'4 x 50 Obs Relay Men'!$AH$7:$AH$46))>2+MAX('4 x 50 Obs Relay Men'!$AH$7:$AH$46),MAX('4 x 50 Obs Relay Men'!$AH$7:$AH$46),IF(SUMIF('4 x 50 Obs Relay Men'!$C$7:$C$46,$A68,'4 x 50 Obs Relay Men'!$AH$7:$AH$46)=0,1+MAX('4 x 50 Obs Relay Men'!$AH$7:$AH$46),SUMIF('4 x 50 Obs Relay Men'!$C$7:$C$46,$A68,'4 x 50 Obs Relay Men'!$AH$7:$AH$46))))","v":""},{"$f":"IF($A68=\"\",\"\",IF(IF(SUMIF('4 x 50 medley Relay Men'!$C$7:$C$46,$A68,'4 x 50 medley Relay Men'!$AH$7:$AH$46)=0,1+MAX('4 x 50 medley Relay Men'!$AH$7:$AH$46),SUMIF('4 x 50 medley Relay Men'!$C$7:$C$46,$A68,'4 x 50 medley Relay Men'!$AH$7:$AH$46))>2+MAX('4 x 50 medley Relay Men'!$AH$7:$AH$46),MAX('4 x 50 medley Relay Men'!$AH$7:$AH$46),IF(SUMIF('4 x 50 medley Relay Men'!$C$7:$C$46,$A68,'4 x 50 medley Relay Men'!$AH$7:$AH$46)=0,1+MAX('4 x 50 medley Relay Men'!$AH$7:$AH$46),SUMIF('4 x 50 medley Relay Men'!$C$7:$C$46,$A68,'4 x 50 medley Relay Men'!$AH$7:$AH$46))))","v":""},{"$f":"IF($A68=\"\",\"\",IF(IF(SUMIF('4 x 25 Manikin Carry Relay Men'!$C$7:$C$46,$A68,'4 x 25 Manikin Carry Relay Men'!$AH$7:$AH$46)=0,1+MAX('4 x 25 Manikin Carry Relay Men'!$AH$7:$AH$46),SUMIF('4 x 25 Manikin Carry Relay Men'!$C$7:$C$46,$A68,'4 x 25 Manikin Carry Relay Men'!$AH$7:$AH$46))>2+MAX('4 x 25 Manikin Carry Relay Men'!$AH$7:$AH$46),MAX('4 x 25 Manikin Carry Relay Men'!$AH$7:$AH$46),IF(SUMIF('4 x 25 Manikin Carry Relay Men'!$C$7:$C$46,$A68,'4 x 25 Manikin Carry Relay Men'!$AH$7:$AH$46)=0,1+MAX('4 x 25 Manikin Carry Relay Men'!$AH$7:$AH$46),SUMIF('4 x 25 Manikin Carry Relay Men'!$C$7:$C$46,$A68,'4 x 25 Manikin Carry Relay Men'!$AH$7:$AH$46))))","v":""},{"$f":"IF($A68=\"\",\"\",IF(IF(SUMIF('Line Throw Relay Men'!$C$7:$C$46,$A68,'Line Throw Relay Men'!$AH$7:$AH$46)=0,1+MAX('Line Throw Relay Men'!$AH$7:$AH$46),SUMIF('Line Throw Relay Men'!$C$7:$C$46,$A68,'Line Throw Relay Men'!$AH$7:$AH$46))>2+MAX('Line Throw Relay Men'!$AH$7:$AH$46),MAX('Line Throw Relay Men'!$AH$7:$AH$46),IF(SUMIF('Line Throw Relay Men'!$C$7:$C$46,$A68,'Line Throw Relay Men'!$AH$7:$AH$46)=0,1+MAX('Line Throw Relay Men'!$AH$7:$AH$46),SUMIF('Line Throw Relay Men'!$C$7:$C$46,$A68,'Line Throw Relay Men'!$AH$7:$AH$46))))","v":""},"",""]
["","",{"$f":"IF($A69=\"\",\"\",IF(IF(SUMIF('50m Manikin Carry Men'!$C$7:$C$46,$A69,'50m Manikin Carry Men'!$AC$7:$AC$46)=0,1+MAX('50m Manikin Carry Men'!$AC$7:$AC$46),SUMIF('50m Manikin Carry Men'!$C$7:$C$46,$A69,'50m Manikin Carry Men'!$AC$7:$AC$46))>MAX('50m Manikin Carry Men'!$AC$7:$AC$46)+2,MAX('50m Manikin Carry Men'!$AC$7:$AC$46),IF(SUMIF('50m Manikin Carry Men'!$C$7:$C$46,$A69,'50m Manikin Carry Men'!$AC$7:$AC$46)=0,1+MAX('50m Manikin Carry Men'!$AC$7:$AC$46),SUMIF('50m Manikin Carry Men'!$C$7:$C$46,$A69,'50m Manikin Carry Men'!$AC$7:$AC$46))))","v":""},{"$f":"IF($A69=\"\",\"\",IF(IF(SUMIF('100m Manikin Carry Men'!$C$7:$C$46,$A69,'100m Manikin Carry Men'!$AC$7:$AC$46)=0,1+MAX('100m Manikin Carry Men'!$AC$7:$AC$46),SUMIF('100m Manikin Carry Men'!$C$7:$C$46,$A69,'100m Manikin Carry Men'!$AC$7:$AC$46))>2+MAX('100m Manikin Carry Men'!$AC$7:$AC$46),MAX('100m Manikin Carry Men'!$AC$7:$AC$46),IF(SUMIF('100m Manikin Carry Men'!$C$7:$C$46,$A69,'100m Manikin Carry Men'!$AC$7:$AC$46)=0,1+MAX('100m Manikin Carry Men'!$AC$7:$AC$46),SUMIF('100m Manikin Carry Men'!$C$7:$C$46,$A69,'100m Manikin Carry Men'!$AC$7:$AC$46))))","v":""},{"$f":"IF($A69=\"\",\"\",IF(IF(SUMIF('100m Manikin Tow Men'!$C$7:$C$46,$A69,'100m Manikin Tow Men'!$AC$7:$AC$46)=0,1+MAX('100m Manikin Tow Men'!$AC$7:$AC$46),SUMIF('100m Manikin Tow Men'!$C$7:$C$46,$A69,'100m Manikin Tow Men'!$AC$7:$AC$46))>2+MAX('100m Manikin Tow Men'!$AC$7:$AC$46),MAX('100m Manikin Tow Men'!$AC$7:$AC$46),IF(SUMIF('100m Manikin Tow Men'!$C$7:$C$46,$A69,'100m Manikin Tow Men'!$AC$7:$AC$46)=0,1+MAX('100m Manikin Tow Men'!$AC$7:$AC$46),SUMIF('100m Manikin Tow Men'!$C$7:$C$46,$A69,'100m Manikin Tow Men'!$AC$7:$AC$46))))","v":""},{"$f":"IF($A69=\"\",\"\",IF(IF(SUMIF('200m Obs Men'!$C$7:$C$46,$A69,'200m Obs Men'!$AC$7:$AC$46)=0,1+MAX('200m Obs Men'!$AC$7:$AC$46),SUMIF('200m Obs Men'!$C$7:$C$46,$A69,'200m Obs Men'!$AC$7:$AC$46))>2+MAX('200m Obs Men'!$AC$7:$AC$46),MAX('200m Obs Men'!$AC$7:$AC$46),IF(SUMIF('200m Obs Men'!$C$7:$C$46,$A69,'200m Obs Men'!$AC$7:$AC$46)=0,1+MAX('200m Obs Men'!$AC$7:$AC$46),SUMIF('200m Obs Men'!$C$7:$C$46,$A69,'200m Obs Men'!$AC$7:$AC$46))))","v":""},{"$f":"IF($A69=\"\",\"\",IF(IF(SUMIF('200m Super Men'!$C$7:$C$46,$A69,'200m Super Men'!$AC$7:$AC$46)=0,1+MAX('200m Super Men'!$AC$7:$AC$46),SUMIF('200m Super Men'!$C$7:$C$46,$A69,'200m Super Men'!$AC$7:$AC$46))>2+MAX('200m Super Men'!$AC$7:$AC$46),MAX('200m Super Men'!$AC$7:$AC$46),IF(SUMIF('200m Super Men'!$C$7:$C$46,$A69,'200m Super Men'!$AC$7:$AC$46)=0,1+MAX('200m Super Men'!$AC$7:$AC$46),SUMIF('200m Super Men'!$C$7:$C$46,$A69,'200m Super Men'!$AC$7:$AC$46))))","v":""},{"$f":"IF($A69=\"\",\"\",IF(IF(SUMIF('100 Resue Men'!$C$7:$C$46,$A69,'100 Resue Men'!$AC$7:$AC$46)=0,1+MAX('100 Resue Men'!$AC$7:$AC$46),SUMIF('100 Resue Men'!$C$7:$C$46,$A69,'100 Resue Men'!$AC$7:$AC$46))>2+MAX('100 Resue Men'!$AC$7:$AC$46),MAX('100 Resue Men'!$AC$7:$AC$46),IF(SUMIF('100 Resue Men'!$C$7:$C$46,$A69,'100 Resue Men'!$AC$7:$AC$46)=0,1+MAX('100 Resue Men'!$AC$7:$AC$46),SUMIF('100 Resue Men'!$C$7:$C$46,$A69,'100 Resue Men'!$AC$7:$AC$46))))","v":""},{"$f":"IF($A69=\"\",\"\",IF(IF(SUMIF('Line Throw Men'!$C$7:$C$46,$A69,'Line Throw Men'!$AE$7:$AE$46)=0,MAX('Line Throw Men'!$AE$7:$AE$46),SUMIF('Line Throw Men'!$C$7:$C$46,$A69,'Line Throw Men'!$AE$7:$AE$46))>2+MAX('Line Throw Men'!$AE$7:$AE$46),MAX('Line Throw Men'!$AE$7:$AE$46),IF(SUMIF('Line Throw Men'!$C$7:$C$46,$A69,'Line Throw Men'!$AE$7:$AE$46)=0,1+MAX('Line Throw Men'!$AE$7:$AE$46),SUMIF('Line Throw Men'!$C$7:$C$46,$A69,'Line Throw Men'!$AE$7:$AE$46))))","v":""},{"$f":"IF($A69=\"\",\"\",IF(IF(SUMIF('4 x 50 Obs Relay Men'!$C$7:$C$46,$A69,'4 x 50 Obs Relay Men'!$AH$7:$AH$46)=0,1+MAX('4 x 50 Obs Relay Men'!$AH$7:$AH$46),SUMIF('4 x 50 Obs Relay Men'!$C$7:$C$46,$A69,'4 x 50 Obs Relay Men'!$AH$7:$AH$46))>2+MAX('4 x 50 Obs Relay Men'!$AH$7:$AH$46),MAX('4 x 50 Obs Relay Men'!$AH$7:$AH$46),IF(SUMIF('4 x 50 Obs Relay Men'!$C$7:$C$46,$A69,'4 x 50 Obs Relay Men'!$AH$7:$AH$46)=0,1+MAX('4 x 50 Obs Relay Men'!$AH$7:$AH$46),SUMIF('4 x 50 Obs Relay Men'!$C$7:$C$46,$A69,'4 x 50 Obs Relay Men'!$AH$7:$AH$46))))","v":""},{"$f":"IF($A69=\"\",\"\",IF(IF(SUMIF('4 x 50 medley Relay Men'!$C$7:$C$46,$A69,'4 x 50 medley Relay Men'!$AH$7:$AH$46)=0,1+MAX('4 x 50 medley Relay Men'!$AH$7:$AH$46),SUMIF('4 x 50 medley Relay Men'!$C$7:$C$46,$A69,'4 x 50 medley Relay Men'!$AH$7:$AH$46))>2+MAX('4 x 50 medley Relay Men'!$AH$7:$AH$46),MAX('4 x 50 medley Relay Men'!$AH$7:$AH$46),IF(SUMIF('4 x 50 medley Relay Men'!$C$7:$C$46,$A69,'4 x 50 medley Relay Men'!$AH$7:$AH$46)=0,1+MAX('4 x 50 medley Relay Men'!$AH$7:$AH$46),SUMIF('4 x 50 medley Relay Men'!$C$7:$C$46,$A69,'4 x 50 medley Relay Men'!$AH$7:$AH$46))))","v":""},{"$f":"IF($A69=\"\",\"\",IF(IF(SUMIF('4 x 25 Manikin Carry Relay Men'!$C$7:$C$46,$A69,'4 x 25 Manikin Carry Relay Men'!$AH$7:$AH$46)=0,1+MAX('4 x 25 Manikin Carry Relay Men'!$AH$7:$AH$46),SUMIF('4 x 25 Manikin Carry Relay Men'!$C$7:$C$46,$A69,'4 x 25 Manikin Carry Relay Men'!$AH$7:$AH$46))>2+MAX('4 x 25 Manikin Carry Relay Men'!$AH$7:$AH$46),MAX('4 x 25 Manikin Carry Relay Men'!$AH$7:$AH$46),IF(SUMIF('4 x 25 Manikin Carry Relay Men'!$C$7:$C$46,$A69,'4 x 25 Manikin Carry Relay Men'!$AH$7:$AH$46)=0,1+MAX('4 x 25 Manikin Carry Relay Men'!$AH$7:$AH$46),SUMIF('4 x 25 Manikin Carry Relay Men'!$C$7:$C$46,$A69,'4 x 25 Manikin Carry Relay Men'!$AH$7:$AH$46))))","v":""},{"$f":"IF($A69=\"\",\"\",IF(IF(SUMIF('Line Throw Relay Men'!$C$7:$C$46,$A69,'Line Throw Relay Men'!$AH$7:$AH$46)=0,1+MAX('Line Throw Relay Men'!$AH$7:$AH$46),SUMIF('Line Throw Relay Men'!$C$7:$C$46,$A69,'Line Throw Relay Men'!$AH$7:$AH$46))>2+MAX('Line Throw Relay Men'!$AH$7:$AH$46),MAX('Line Throw Relay Men'!$AH$7:$AH$46),IF(SUMIF('Line Throw Relay Men'!$C$7:$C$46,$A69,'Line Throw Relay Men'!$AH$7:$AH$46)=0,1+MAX('Line Throw Relay Men'!$AH$7:$AH$46),SUMIF('Line Throw Relay Men'!$C$7:$C$46,$A69,'Line Throw Relay Men'!$AH$7:$AH$46))))","v":""},"",""]
[]
[null,"Women's Students"]
[]
["Club Code","Club Name","50m Manikin Carry","100m Carry with Fins","100m tow with fins","200m Obs","200 Super","100 rescue","Line Throw","4 x 50 obs Relay","4 x 50 medley Relay","4 x 25 Manikin Carry Relay","4 x 12m Line Throw Relay","Totals","Position"]
[{"$f":"IF(A4=\"\",\"\",A4)","v":""},{"$f":"IF(B4=\"\",\"\",B4)","v":""},{"$f":"IF($A74=\"\",\"\",IF(IF(SUMIF('50m Manikin Carry Women'!$C$7:$C$46,$A74,'50m Manikin Carry Women'!$AC$7:$AC$46)=0,1+MAX('50m Manikin Carry Women'!$AC$7:$AC$46),SUMIF('50m Manikin Carry Women'!$C$7:$C$46,$A74,'50m Manikin Carry Women'!$AC$7:$AC$46))>MAX('50m Manikin Carry Women'!$AC$7:$AC$46)+2,MAX('50m Manikin Carry Women'!$AC$7:$AC$46),IF(SUMIF('50m Manikin Carry Women'!$C$7:$C$46,$A74,'50m Manikin Carry Women'!$AC$7:$AC$46)=0,1+MAX('50m Manikin Carry Women'!$AC$7:$AC$46),SUMIF('50m Manikin Carry Women'!$C$7:$C$46,$A74,'50m Manikin Carry Women'!$AC$7:$AC$46))))","v":""},{"$f":"IF($A74=\"\",\"\",IF(IF(SUMIF('100m Manikin Carry Women'!$C$7:$C$46,$A74,'100m Manikin Carry Women'!$AC$7:$AC$46)=0,1+MAX('100m Manikin Carry Women'!$AC$7:$AC$46),SUMIF('100m Manikin Carry Women'!$C$7:$C$46,$A74,'100m Manikin Carry Women'!$AC$7:$AC$46))>2+MAX('100m Manikin Carry Women'!$AC$7:$AC$46),MAX('100m Manikin Carry Women'!$AC$7:$AC$46),IF(SUMIF('100m Manikin Carry Women'!$C$7:$C$46,$A74,'100m Manikin Carry Women'!$AC$7:$AC$46)=0,1+MAX('100m Manikin Carry Women'!$AC$7:$AC$46),SUMIF('100m Manikin Carry Women'!$C$7:$C$46,$A74,'100m Manikin Carry Women'!$AC$7:$AC$46))))","v":""},{"$f":"IF($A74=\"\",\"\",IF(IF(SUMIF('100m Manikin Tow Women'!$C$7:$C$46,$A74,'100m Manikin Tow Women'!$AC$7:$AC$46)=0,1+MAX('100m Manikin Tow Women'!$AC$7:$AC$46),SUMIF('100m Manikin Tow Women'!$C$7:$C$46,$A74,'100m Manikin Tow Women'!$AC$7:$AC$46))>2+MAX('100m Manikin Tow Women'!$AC$7:$AC$46),MAX('100m Manikin Tow Women'!$AC$7:$AC$46),IF(SUMIF('100m Manikin Tow Women'!$C$7:$C$46,$A74,'100m Manikin Tow Women'!$AC$7:$AC$46)=0,1+MAX('100m Manikin Tow Women'!$AC$7:$AC$46),SUMIF('100m Manikin Tow Women'!$C$7:$C$46,$A74,'100m Manikin Tow Women'!$AC$7:$AC$46))))","v":""},{"$f":"IF($A74=\"\",\"\",IF(IF(SUMIF('200m Obs Women'!$C$7:$C$46,$A74,'200m Obs Women'!$AC$7:$AC$46)=0,1+MAX('200m Obs Women'!$AC$7:$AC$46),SUMIF('200m Obs Women'!$C$7:$C$46,$A74,'200m Obs Women'!$AC$7:$AC$46))>2+MAX('200m Obs Women'!$AC$7:$AC$46),MAX('200m Obs Women'!$AC$7:$AC$46),IF(SUMIF('200m Obs Women'!$C$7:$C$46,$A74,'200m Obs Women'!$AC$7:$AC$46)=0,1+MAX('200m Obs Women'!$AC$7:$AC$46),SUMIF('200m Obs Women'!$C$7:$C$46,$A74,'200m Obs Women'!$AC$7:$AC$46))))","v":""},{"$f":"IF($A74=\"\",\"\",IF(IF(SUMIF('200m Super Women'!$C$7:$C$46,$A74,'200m Super Women'!$AC$7:$AC$46)=0,1+MAX('200m Super Women'!$AC$7:$AC$46),SUMIF('200m Super Women'!$C$7:$C$46,$A74,'200m Super Women'!$AC$7:$AC$46))>2+MAX('200m Super Women'!$AC$7:$AC$46),MAX('200m Super Women'!$AC$7:$AC$46),IF(SUMIF('200m Super Women'!$C$7:$C$46,$A74,'200m Super Women'!$AC$7:$AC$46)=0,1+MAX('200m Super Women'!$AC$7:$AC$46),SUMIF('200m Super Women'!$C$7:$C$46,$A74,'200m Super Women'!$AC$7:$AC$46))))","v":""},{"$f":"IF($A74=\"\",\"\",IF(IF(SUMIF('100 Resue Women'!$C$7:$C$46,$A74,'100 Resue Women'!$AC$7:$AC$46)=0,1+MAX('100 Resue Women'!$AC$7:$AC$46),SUMIF('100 Resue Women'!$C$7:$C$46,$A74,'100 Resue Women'!$AC$7:$AC$46))>2+MAX('100 Resue Women'!$AC$7:$AC$46),MAX('100 Resue Women'!$AC$7:$AC$46),IF(SUMIF('100 Resue Women'!$C$7:$C$46,$A74,'100 Resue Women'!$AC$7:$AC$46)=0,1+MAX('100 Resue Women'!$AC$7:$AC$46),SUMIF('100 Resue Women'!$C$7:$C$46,$A74,'100 Resue Women'!$AC$7:$AC$46))))","v":""},{"$f":"IF($A74=\"\",\"\",IF(IF(SUMIF('Line Throw Women'!$C$7:$C$46,$A74,'Line Throw Women'!$AE$7:$AE$46)=0,MAX('Line Throw Women'!$AE$7:$AE$46),SUMIF('Line Throw Women'!$C$7:$C$46,$A74,'Line Throw Women'!$AE$7:$AE$46))>2+MAX('Line Throw Women'!$AE$7:$AE$46),MAX('Line Throw Women'!$AE$7:$AE$46),IF(SUMIF('Line Throw Women'!$C$7:$C$46,$A74,'Line Throw Women'!$AE$7:$AE$46)=0,1+MAX('Line Throw Women'!$AE$7:$AE$46),SUMIF('Line Throw Women'!$C$7:$C$46,$A74,'Line Throw Women'!$AE$7:$AE$46))))","v":""},{"$f":"IF($A74=\"\",\"\",IF(IF(SUMIF('4 x 50 Obs Relay Women'!$C$7:$C$46,$A74,'4 x 50 Obs Relay Women'!$AH$7:$AH$46)=0,1+MAX('4 x 50 Obs Relay Women'!$AH$7:$AH$46),SUMIF('4 x 50 Obs Relay Women'!$C$7:$C$46,$A74,'4 x 50 Obs Relay Women'!$AH$7:$AH$46))>2+MAX('4 x 50 Obs Relay Women'!$AH$7:$AH$46),MAX('4 x 50 Obs Relay Women'!$AH$7:$AH$46),IF(SUMIF('4 x 50 Obs Relay Women'!$C$7:$C$46,$A74,'4 x 50 Obs Relay Women'!$AH$7:$AH$46)=0,1+MAX('4 x 50 Obs Relay Women'!$AH$7:$AH$46),SUMIF('4 x 50 Obs Relay Women'!$C$7:$C$46,$A74,'4 x 50 Obs Relay Women'!$AH$7:$AH$46))))","v":""},{"$f":"IF($A74=\"\",\"\",IF(IF(SUMIF('4 x 50 medley Relay Women'!$C$7:$C$46,$A74,'4 x 50 medley Relay Women'!$AH$7:$AH$46)=0,1+MAX('4 x 50 medley Relay Women'!$AH$7:$AH$46),SUMIF('4 x 50 medley Relay Women'!$C$7:$C$46,$A74,'4 x 50 medley Relay Women'!$AH$7:$AH$46))>2+MAX('4 x 50 medley Relay Women'!$AH$7:$AH$46),MAX('4 x 50 medley Relay Women'!$AH$7:$AH$46),IF(SUMIF('4 x 50 medley Relay Women'!$C$7:$C$46,$A74,'4 x 50 medley Relay Women'!$AH$7:$AH$46)=0,1+MAX('4 x 50 medley Relay Women'!$AH$7:$AH$46),SUMIF('4 x 50 medley Relay Women'!$C$7:$C$46,$A74,'4 x 50 medley Relay Women'!$AH$7:$AH$46))))","v":""},{"$f":"IF($A74=\"\",\"\",IF(IF(SUMIF('4 x 25 Manikin Carry Women'!$C$7:$C$46,$A74,'4 x 25 Manikin Carry Women'!$AH$7:$AH$46)=0,1+MAX('4 x 25 Manikin Carry Women'!$AH$7:$AH$46),SUMIF('4 x 25 Manikin Carry Women'!$C$7:$C$46,$A74,'4 x 25 Manikin Carry Women'!$AH$7:$AH$46))>2+MAX('4 x 25 Manikin Carry Women'!$AH$7:$AH$46),MAX('4 x 25 Manikin Carry Women'!$AH$7:$AH$46),IF(SUMIF('4 x 25 Manikin Carry Women'!$C$7:$C$46,$A74,'4 x 25 Manikin Carry Women'!$AH$7:$AH$46)=0,1+MAX('4 x 25 Manikin Carry Women'!$AH$7:$AH$46),SUMIF('4 x 25 Manikin Carry Women'!$C$7:$C$46,$A74,'4 x 25 Manikin Carry Women'!$AH$7:$AH$46))))","v":""},{"$f":"IF($A74=\"\",\"\",IF(IF(SUMIF('Line Throw Relay Women'!$C$7:$C$46,$A74,'Line Throw Relay Women'!$AH$7:$AH$46)=0,1+MAX('Line Throw Relay Women'!$AH$7:$AH$46),SUMIF('Line Throw Relay Women'!$C$7:$C$46,$A74,'Line Throw Relay Women'!$AH$7:$AH$46))>2+MAX('Line Throw Relay Women'!$AH$7:$AH$46),MAX('Line Throw Relay Women'!$AH$7:$AH$46),IF(SUMIF('Line Throw Relay Women'!$C$7:$C$46,$A74,'Line Throw Relay Women'!$AH$7:$AH$46)=0,1+MAX('Line Throw Relay Women'!$AH$7:$AH$46),SUMIF('Line Throw Relay Women'!$C$7:$C$46,$A74,'Line Throw Relay Women'!$AH$7:$AH$46))))","v":""},{"$f":"IF(A74=\"\",\"\",SUM(C74:M74))","v":""},{"$f":"IF(A74=\"\",\"\",RANK(N74,$N$74:$N$104,1))","v":""}]
[{"$f":"IF(A5=\"\",\"\",A5)","v":""},"",{"$f":"IF($A75=\"\",\"\",IF(IF(SUMIF('50m Manikin Carry Women'!$C$7:$C$46,$A75,'50m Manikin Carry Women'!$AC$7:$AC$46)=0,1+MAX('50m Manikin Carry Women'!$AC$7:$AC$46),SUMIF('50m Manikin Carry Women'!$C$7:$C$46,$A75,'50m Manikin Carry Women'!$AC$7:$AC$46))>MAX('50m Manikin Carry Women'!$AC$7:$AC$46)+2,MAX('50m Manikin Carry Women'!$AC$7:$AC$46),IF(SUMIF('50m Manikin Carry Women'!$C$7:$C$46,$A75,'50m Manikin Carry Women'!$AC$7:$AC$46)=0,1+MAX('50m Manikin Carry Women'!$AC$7:$AC$46),SUMIF('50m Manikin Carry Women'!$C$7:$C$46,$A75,'50m Manikin Carry Women'!$AC$7:$AC$46))))","v":""},{"$f":"IF($A75=\"\",\"\",IF(IF(SUMIF('100m Manikin Carry Women'!$C$7:$C$46,$A75,'100m Manikin Carry Women'!$AC$7:$AC$46)=0,1+MAX('100m Manikin Carry Women'!$AC$7:$AC$46),SUMIF('100m Manikin Carry Women'!$C$7:$C$46,$A75,'100m Manikin Carry Women'!$AC$7:$AC$46))>2+MAX('100m Manikin Carry Women'!$AC$7:$AC$46),MAX('100m Manikin Carry Women'!$AC$7:$AC$46),IF(SUMIF('100m Manikin Carry Women'!$C$7:$C$46,$A75,'100m Manikin Carry Women'!$AC$7:$AC$46)=0,1+MAX('100m Manikin Carry Women'!$AC$7:$AC$46),SUMIF('100m Manikin Carry Women'!$C$7:$C$46,$A75,'100m Manikin Carry Women'!$AC$7:$AC$46))))","v":""},{"$f":"IF($A75=\"\",\"\",IF(IF(SUMIF('100m Manikin Tow Women'!$C$7:$C$46,$A75,'100m Manikin Tow Women'!$AC$7:$AC$46)=0,1+MAX('100m Manikin Tow Women'!$AC$7:$AC$46),SUMIF('100m Manikin Tow Women'!$C$7:$C$46,$A75,'100m Manikin Tow Women'!$AC$7:$AC$46))>2+MAX('100m Manikin Tow Women'!$AC$7:$AC$46),MAX('100m Manikin Tow Women'!$AC$7:$AC$46),IF(SUMIF('100m Manikin Tow Women'!$C$7:$C$46,$A75,'100m Manikin Tow Women'!$AC$7:$AC$46)=0,1+MAX('100m Manikin Tow Women'!$AC$7:$AC$46),SUMIF('100m Manikin Tow Women'!$C$7:$C$46,$A75,'100m Manikin Tow Women'!$AC$7:$AC$46))))","v":""},{"$f":"IF($A75=\"\",\"\",IF(IF(SUMIF('200m Obs Women'!$C$7:$C$46,$A75,'200m Obs Women'!$AC$7:$AC$46)=0,1+MAX('200m Obs Women'!$AC$7:$AC$46),SUMIF('200m Obs Women'!$C$7:$C$46,$A75,'200m Obs Women'!$AC$7:$AC$46))>2+MAX('200m Obs Women'!$AC$7:$AC$46),MAX('200m Obs Women'!$AC$7:$AC$46),IF(SUMIF('200m Obs Women'!$C$7:$C$46,$A75,'200m Obs Women'!$AC$7:$AC$46)=0,1+MAX('200m Obs Women'!$AC$7:$AC$46),SUMIF('200m Obs Women'!$C$7:$C$46,$A75,'200m Obs Women'!$AC$7:$AC$46))))","v":""},{"$f":"IF($A75=\"\",\"\",IF(IF(SUMIF('200m Super Women'!$C$7:$C$46,$A75,'200m Super Women'!$AC$7:$AC$46)=0,1+MAX('200m Super Women'!$AC$7:$AC$46),SUMIF('200m Super Women'!$C$7:$C$46,$A75,'200m Super Women'!$AC$7:$AC$46))>2+MAX('200m Super Women'!$AC$7:$AC$46),MAX('200m Super Women'!$AC$7:$AC$46),IF(SUMIF('200m Super Women'!$C$7:$C$46,$A75,'200m Super Women'!$AC$7:$AC$46)=0,1+MAX('200m Super Women'!$AC$7:$AC$46),SUMIF('200m Super Women'!$C$7:$C$46,$A75,'200m Super Women'!$AC$7:$AC$46))))","v":""},{"$f":"IF($A75=\"\",\"\",IF(IF(SUMIF('100 Resue Women'!$C$7:$C$46,$A75,'100 Resue Women'!$AC$7:$AC$46)=0,1+MAX('100 Resue Women'!$AC$7:$AC$46),SUMIF('100 Resue Women'!$C$7:$C$46,$A75,'100 Resue Women'!$AC$7:$AC$46))>2+MAX('100 Resue Women'!$AC$7:$AC$46),MAX('100 Resue Women'!$AC$7:$AC$46),IF(SUMIF('100 Resue Women'!$C$7:$C$46,$A75,'100 Resue Women'!$AC$7:$AC$46)=0,1+MAX('100 Resue Women'!$AC$7:$AC$46),SUMIF('100 Resue Women'!$C$7:$C$46,$A75,'100 Resue Women'!$AC$7:$AC$46))))","v":""},{"$f":"IF($A75=\"\",\"\",IF(IF(SUMIF('Line Throw Women'!$C$7:$C$46,$A75,'Line Throw Women'!$AE$7:$AE$46)=0,MAX('Line Throw Women'!$AE$7:$AE$46),SUMIF('Line Throw Women'!$C$7:$C$46,$A75,'Line Throw Women'!$AE$7:$AE$46))>2+MAX('Line Throw Women'!$AE$7:$AE$46),MAX('Line Throw Women'!$AE$7:$AE$46),IF(SUMIF('Line Throw Women'!$C$7:$C$46,$A75,'Line Throw Women'!$AE$7:$AE$46)=0,1+MAX('Line Throw Women'!$AE$7:$AE$46),SUMIF('Line Throw Women'!$C$7:$C$46,$A75,'Line Throw Women'!$AE$7:$AE$46))))","v":""},{"$f":"IF($A75=\"\",\"\",IF(IF(SUMIF('4 x 50 Obs Relay Women'!$C$7:$C$46,$A75,'4 x 50 Obs Relay Women'!$AH$7:$AH$46)=0,1+MAX('4 x 50 Obs Relay Women'!$AH$7:$AH$46),SUMIF('4 x 50 Obs Relay Women'!$C$7:$C$46,$A75,'4 x 50 Obs Relay Women'!$AH$7:$AH$46))>2+MAX('4 x 50 Obs Relay Women'!$AH$7:$AH$46),MAX('4 x 50 Obs Relay Women'!$AH$7:$AH$46),IF(SUMIF('4 x 50 Obs Relay Women'!$C$7:$C$46,$A75,'4 x 50 Obs Relay Women'!$AH$7:$AH$46)=0,1+MAX('4 x 50 Obs Relay Women'!$AH$7:$AH$46),SUMIF('4 x 50 Obs Relay Women'!$C$7:$C$46,$A75,'4 x 50 Obs Relay Women'!$AH$7:$AH$46))))","v":""},{"$f":"IF($A75=\"\",\"\",IF(IF(SUMIF('4 x 50 medley Relay Women'!$C$7:$C$46,$A75,'4 x 50 medley Relay Women'!$AH$7:$AH$46)=0,1+MAX('4 x 50 medley Relay Women'!$AH$7:$AH$46),SUMIF('4 x 50 medley Relay Women'!$C$7:$C$46,$A75,'4 x 50 medley Relay Women'!$AH$7:$AH$46))>2+MAX('4 x 50 medley Relay Women'!$AH$7:$AH$46),MAX('4 x 50 medley Relay Women'!$AH$7:$AH$46),IF(SUMIF('4 x 50 medley Relay Women'!$C$7:$C$46,$A75,'4 x 50 medley Relay Women'!$AH$7:$AH$46)=0,1+MAX('4 x 50 medley Relay Women'!$AH$7:$AH$46),SUMIF('4 x 50 medley Relay Women'!$C$7:$C$46,$A75,'4 x 50 medley Relay Women'!$AH$7:$AH$46))))","v":""},{"$f":"IF($A75=\"\",\"\",IF(IF(SUMIF('4 x 25 Manikin Carry Women'!$C$7:$C$46,$A75,'4 x 25 Manikin Carry Women'!$AH$7:$AH$46)=0,1+MAX('4 x 25 Manikin Carry Women'!$AH$7:$AH$46),SUMIF('4 x 25 Manikin Carry Women'!$C$7:$C$46,$A75,'4 x 25 Manikin Carry Women'!$AH$7:$AH$46))>2+MAX('4 x 25 Manikin Carry Women'!$AH$7:$AH$46),MAX('4 x 25 Manikin Carry Women'!$AH$7:$AH$46),IF(SUMIF('4 x 25 Manikin Carry Women'!$C$7:$C$46,$A75,'4 x 25 Manikin Carry Women'!$AH$7:$AH$46)=0,1+MAX('4 x 25 Manikin Carry Women'!$AH$7:$AH$46),SUMIF('4 x 25 Manikin Carry Women'!$C$7:$C$46,$A75,'4 x 25 Manikin Carry Women'!$AH$7:$AH$46))))","v":""},{"$f":"IF($A75=\"\",\"\",IF(IF(SUMIF('Line Throw Relay Women'!$C$7:$C$46,$A75,'Line Throw Relay Women'!$AH$7:$AH$46)=0,1+MAX('Line Throw Relay Women'!$AH$7:$AH$46),SUMIF('Line Throw Relay Women'!$C$7:$C$46,$A75,'Line Throw Relay Women'!$AH$7:$AH$46))>2+MAX('Line Throw Relay Women'!$AH$7:$AH$46),MAX('Line Throw Relay Women'!$AH$7:$AH$46),IF(SUMIF('Line Throw Relay Women'!$C$7:$C$46,$A75,'Line Throw Relay Women'!$AH$7:$AH$46)=0,1+MAX('Line Throw Relay Women'!$AH$7:$AH$46),SUMIF('Line Throw Relay Women'!$C$7:$C$46,$A75,'Line Throw Relay Women'!$AH$7:$AH$46))))","v":""},{"$f":"IF(A75=\"\",\"\",SUM(C75:M75))","v":""},{"$f":"IF(A75=\"\",\"\",RANK(N75,$N$74:$N$104,1))","v":""}]
["","",{"$f":"IF($A76=\"\",\"\",IF(IF(SUMIF('50m Manikin Carry Women'!$C$7:$C$46,$A76,'50m Manikin Carry Women'!$AC$7:$AC$46)=0,1+MAX('50m Manikin Carry Women'!$AC$7:$AC$46),SUMIF('50m Manikin Carry Women'!$C$7:$C$46,$A76,'50m Manikin Carry Women'!$AC$7:$AC$46))>MAX('50m Manikin Carry Women'!$AC$7:$AC$46)+2,MAX('50m Manikin Carry Women'!$AC$7:$AC$46),IF(SUMIF('50m Manikin Carry Women'!$C$7:$C$46,$A76,'50m Manikin Carry Women'!$AC$7:$AC$46)=0,1+MAX('50m Manikin Carry Women'!$AC$7:$AC$46),SUMIF('50m Manikin Carry Women'!$C$7:$C$46,$A76,'50m Manikin Carry Women'!$AC$7:$AC$46))))","v":""},{"$f":"IF($A76=\"\",\"\",IF(IF(SUMIF('100m Manikin Carry Women'!$C$7:$C$46,$A76,'100m Manikin Carry Women'!$AC$7:$AC$46)=0,1+MAX('100m Manikin Carry Women'!$AC$7:$AC$46),SUMIF('100m Manikin Carry Women'!$C$7:$C$46,$A76,'100m Manikin Carry Women'!$AC$7:$AC$46))>2+MAX('100m Manikin Carry Women'!$AC$7:$AC$46),MAX('100m Manikin Carry Women'!$AC$7:$AC$46),IF(SUMIF('100m Manikin Carry Women'!$C$7:$C$46,$A76,'100m Manikin Carry Women'!$AC$7:$AC$46)=0,1+MAX('100m Manikin Carry Women'!$AC$7:$AC$46),SUMIF('100m Manikin Carry Women'!$C$7:$C$46,$A76,'100m Manikin Carry Women'!$AC$7:$AC$46))))","v":""},{"$f":"IF($A76=\"\",\"\",IF(IF(SUMIF('100m Manikin Tow Women'!$C$7:$C$46,$A76,'100m Manikin Tow Women'!$AC$7:$AC$46)=0,1+MAX('100m Manikin Tow Women'!$AC$7:$AC$46),SUMIF('100m Manikin Tow Women'!$C$7:$C$46,$A76,'100m Manikin Tow Women'!$AC$7:$AC$46))>2+MAX('100m Manikin Tow Women'!$AC$7:$AC$46),MAX('100m Manikin Tow Women'!$AC$7:$AC$46),IF(SUMIF('100m Manikin Tow Women'!$C$7:$C$46,$A76,'100m Manikin Tow Women'!$AC$7:$AC$46)=0,1+MAX('100m Manikin Tow Women'!$AC$7:$AC$46),SUMIF('100m Manikin Tow Women'!$C$7:$C$46,$A76,'100m Manikin Tow Women'!$AC$7:$AC$46))))","v":""},{"$f":"IF($A76=\"\",\"\",IF(IF(SUMIF('200m Obs Women'!$C$7:$C$46,$A76,'200m Obs Women'!$AC$7:$AC$46)=0,1+MAX('200m Obs Women'!$AC$7:$AC$46),SUMIF('200m Obs Women'!$C$7:$C$46,$A76,'200m Obs Women'!$AC$7:$AC$46))>2+MAX('200m Obs Women'!$AC$7:$AC$46),MAX('200m Obs Women'!$AC$7:$AC$46),IF(SUMIF('200m Obs Women'!$C$7:$C$46,$A76,'200m Obs Women'!$AC$7:$AC$46)=0,1+MAX('200m Obs Women'!$AC$7:$AC$46),SUMIF('200m Obs Women'!$C$7:$C$46,$A76,'200m Obs Women'!$AC$7:$AC$46))))","v":""},{"$f":"IF($A76=\"\",\"\",IF(IF(SUMIF('200m Super Women'!$C$7:$C$46,$A76,'200m Super Women'!$AC$7:$AC$46)=0,1+MAX('200m Super Women'!$AC$7:$AC$46),SUMIF('200m Super Women'!$C$7:$C$46,$A76,'200m Super Women'!$AC$7:$AC$46))>2+MAX('200m Super Women'!$AC$7:$AC$46),MAX('200m Super Women'!$AC$7:$AC$46),IF(SUMIF('200m Super Women'!$C$7:$C$46,$A76,'200m Super Women'!$AC$7:$AC$46)=0,1+MAX('200m Super Women'!$AC$7:$AC$46),SUMIF('200m Super Women'!$C$7:$C$46,$A76,'200m Super Women'!$AC$7:$AC$46))))","v":""},{"$f":"IF($A76=\"\",\"\",IF(IF(SUMIF('100 Resue Women'!$C$7:$C$46,$A76,'100 Resue Women'!$AC$7:$AC$46)=0,1+MAX('100 Resue Women'!$AC$7:$AC$46),SUMIF('100 Resue Women'!$C$7:$C$46,$A76,'100 Resue Women'!$AC$7:$AC$46))>2+MAX('100 Resue Women'!$AC$7:$AC$46),MAX('100 Resue Women'!$AC$7:$AC$46),IF(SUMIF('100 Resue Women'!$C$7:$C$46,$A76,'100 Resue Women'!$AC$7:$AC$46)=0,1+MAX('100 Resue Women'!$AC$7:$AC$46),SUMIF('100 Resue Women'!$C$7:$C$46,$A76,'100 Resue Women'!$AC$7:$AC$46))))","v":""},{"$f":"IF($A76=\"\",\"\",IF(IF(SUMIF('Line Throw Women'!$C$7:$C$46,$A76,'Line Throw Women'!$AE$7:$AE$46)=0,MAX('Line Throw Women'!$AE$7:$AE$46),SUMIF('Line Throw Women'!$C$7:$C$46,$A76,'Line Throw Women'!$AE$7:$AE$46))>2+MAX('Line Throw Women'!$AE$7:$AE$46),MAX('Line Throw Women'!$AE$7:$AE$46),IF(SUMIF('Line Throw Women'!$C$7:$C$46,$A76,'Line Throw Women'!$AE$7:$AE$46)=0,1+MAX('Line Throw Women'!$AE$7:$AE$46),SUMIF('Line Throw Women'!$C$7:$C$46,$A76,'Line Throw Women'!$AE$7:$AE$46))))","v":""},{"$f":"IF($A76=\"\",\"\",IF(IF(SUMIF('4 x 50 Obs Relay Women'!$C$7:$C$46,$A76,'4 x 50 Obs Relay Women'!$AH$7:$AH$46)=0,1+MAX('4 x 50 Obs Relay Women'!$AH$7:$AH$46),SUMIF('4 x 50 Obs Relay Women'!$C$7:$C$46,$A76,'4 x 50 Obs Relay Women'!$AH$7:$AH$46))>2+MAX('4 x 50 Obs Relay Women'!$AH$7:$AH$46),MAX('4 x 50 Obs Relay Women'!$AH$7:$AH$46),IF(SUMIF('4 x 50 Obs Relay Women'!$C$7:$C$46,$A76,'4 x 50 Obs Relay Women'!$AH$7:$AH$46)=0,1+MAX('4 x 50 Obs Relay Women'!$AH$7:$AH$46),SUMIF('4 x 50 Obs Relay Women'!$C$7:$C$46,$A76,'4 x 50 Obs Relay Women'!$AH$7:$AH$46))))","v":""},{"$f":"IF($A76=\"\",\"\",IF(IF(SUMIF('4 x 50 medley Relay Women'!$C$7:$C$46,$A76,'4 x 50 medley Relay Women'!$AH$7:$AH$46)=0,1+MAX('4 x 50 medley Relay Women'!$AH$7:$AH$46),SUMIF('4 x 50 medley Relay Women'!$C$7:$C$46,$A76,'4 x 50 medley Relay Women'!$AH$7:$AH$46))>2+MAX('4 x 50 medley Relay Women'!$AH$7:$AH$46),MAX('4 x 50 medley Relay Women'!$AH$7:$AH$46),IF(SUMIF('4 x 50 medley Relay Women'!$C$7:$C$46,$A76,'4 x 50 medley Relay Women'!$AH$7:$AH$46)=0,1+MAX('4 x 50 medley Relay Women'!$AH$7:$AH$46),SUMIF('4 x 50 medley Relay Women'!$C$7:$C$46,$A76,'4 x 50 medley Relay Women'!$AH$7:$AH$46))))","v":""},{"$f":"IF($A76=\"\",\"\",IF(IF(SUMIF('4 x 25 Manikin Carry Women'!$C$7:$C$46,$A76,'4 x 25 Manikin Carry Women'!$AH$7:$AH$46)=0,1+MAX('4 x 25 Manikin Carry Women'!$AH$7:$AH$46),SUMIF('4 x 25 Manikin Carry Women'!$C$7:$C$46,$A76,'4 x 25 Manikin Carry Women'!$AH$7:$AH$46))>2+MAX('4 x 25 Manikin Carry Women'!$AH$7:$AH$46),MAX('4 x 25 Manikin Carry Women'!$AH$7:$AH$46),IF(SUMIF('4 x 25 Manikin Carry Women'!$C$7:$C$46,$A76,'4 x 25 Manikin Carry Women'!$AH$7:$AH$46)=0,1+MAX('4 x 25 Manikin Carry Women'!$AH$7:$AH$46),SUMIF('4 x 25 Manikin Carry Women'!$C$7:$C$46,$A76,'4 x 25 Manikin Carry Women'!$AH$7:$AH$46))))","v":""},{"$f":"IF($A76=\"\",\"\",IF(IF(SUMIF('Line Throw Relay Women'!$C$7:$C$46,$A76,'Line Throw Relay Women'!$AH$7:$AH$46)=0,1+MAX('Line Throw Relay Women'!$AH$7:$AH$46),SUMIF('Line Throw Relay Women'!$C$7:$C$46,$A76,'Line Throw Relay Women'!$AH$7:$AH$46))>2+MAX('Line Throw Relay Women'!$AH$7:$AH$46),MAX('Line Throw Relay Women'!$AH$7:$AH$46),IF(SUMIF('Line Throw Relay Women'!$C$7:$C$46,$A76,'Line Throw Relay Women'!$AH$7:$AH$46)=0,1+MAX('Line Throw Relay Women'!$AH$7:$AH$46),SUMIF('Line Throw Relay Women'!$C$7:$C$46,$A76,'Line Throw Relay Women'!$AH$7:$AH$46))))","v":""},"",""]
["","",{"$f":"IF($A77=\"\",\"\",IF(IF(SUMIF('50m Manikin Carry Women'!$C$7:$C$46,$A77,'50m Manikin Carry Women'!$AC$7:$AC$46)=0,1+MAX('50m Manikin Carry Women'!$AC$7:$AC$46),SUMIF('50m Manikin Carry Women'!$C$7:$C$46,$A77,'50m Manikin Carry Women'!$AC$7:$AC$46))>MAX('50m Manikin Carry Women'!$AC$7:$AC$46)+2,MAX('50m Manikin Carry Women'!$AC$7:$AC$46),IF(SUMIF('50m Manikin Carry Women'!$C$7:$C$46,$A77,'50m Manikin Carry Women'!$AC$7:$AC$46)=0,1+MAX('50m Manikin Carry Women'!$AC$7:$AC$46),SUMIF('50m Manikin Carry Women'!$C$7:$C$46,$A77,'50m Manikin Carry Women'!$AC$7:$AC$46))))","v":""},{"$f":"IF($A77=\"\",\"\",IF(IF(SUMIF('100m Manikin Carry Women'!$C$7:$C$46,$A77,'100m Manikin Carry Women'!$AC$7:$AC$46)=0,1+MAX('100m Manikin Carry Women'!$AC$7:$AC$46),SUMIF('100m Manikin Carry Women'!$C$7:$C$46,$A77,'100m Manikin Carry Women'!$AC$7:$AC$46))>2+MAX('100m Manikin Carry Women'!$AC$7:$AC$46),MAX('100m Manikin Carry Women'!$AC$7:$AC$46),IF(SUMIF('100m Manikin Carry Women'!$C$7:$C$46,$A77,'100m Manikin Carry Women'!$AC$7:$AC$46)=0,1+MAX('100m Manikin Carry Women'!$AC$7:$AC$46),SUMIF('100m Manikin Carry Women'!$C$7:$C$46,$A77,'100m Manikin Carry Women'!$AC$7:$AC$46))))","v":""},{"$f":"IF($A77=\"\",\"\",IF(IF(SUMIF('100m Manikin Tow Women'!$C$7:$C$46,$A77,'100m Manikin Tow Women'!$AC$7:$AC$46)=0,1+MAX('100m Manikin Tow Women'!$AC$7:$AC$46),SUMIF('100m Manikin Tow Women'!$C$7:$C$46,$A77,'100m Manikin Tow Women'!$AC$7:$AC$46))>2+MAX('100m Manikin Tow Women'!$AC$7:$AC$46),MAX('100m Manikin Tow Women'!$AC$7:$AC$46),IF(SUMIF('100m Manikin Tow Women'!$C$7:$C$46,$A77,'100m Manikin Tow Women'!$AC$7:$AC$46)=0,1+MAX('100m Manikin Tow Women'!$AC$7:$AC$46),SUMIF('100m Manikin Tow Women'!$C$7:$C$46,$A77,'100m Manikin Tow Women'!$AC$7:$AC$46))))","v":""},{"$f":"IF($A77=\"\",\"\",IF(IF(SUMIF('200m Obs Women'!$C$7:$C$46,$A77,'200m Obs Women'!$AC$7:$AC$46)=0,1+MAX('200m Obs Women'!$AC$7:$AC$46),SUMIF('200m Obs Women'!$C$7:$C$46,$A77,'200m Obs Women'!$AC$7:$AC$46))>2+MAX('200m Obs Women'!$AC$7:$AC$46),MAX('200m Obs Women'!$AC$7:$AC$46),IF(SUMIF('200m Obs Women'!$C$7:$C$46,$A77,'200m Obs Women'!$AC$7:$AC$46)=0,1+MAX('200m Obs Women'!$AC$7:$AC$46),SUMIF('200m Obs Women'!$C$7:$C$46,$A77,'200m Obs Women'!$AC$7:$AC$46))))","v":""},{"$f":"IF($A77=\"\",\"\",IF(IF(SUMIF('200m Super Women'!$C$7:$C$46,$A77,'200m Super Women'!$AC$7:$AC$46)=0,1+MAX('200m Super Women'!$AC$7:$AC$46),SUMIF('200m Super Women'!$C$7:$C$46,$A77,'200m Super Women'!$AC$7:$AC$46))>2+MAX('200m Super Women'!$AC$7:$AC$46),MAX('200m Super Women'!$AC$7:$AC$46),IF(SUMIF('200m Super Women'!$C$7:$C$46,$A77,'200m Super Women'!$AC$7:$AC$46)=0,1+MAX('200m Super Women'!$AC$7:$AC$46),SUMIF('200m Super Women'!$C$7:$C$46,$A77,'200m Super Women'!$AC$7:$AC$46))))","v":""},{"$f":"IF($A77=\"\",\"\",IF(IF(SUMIF('100 Resue Women'!$C$7:$C$46,$A77,'100 Resue Women'!$AC$7:$AC$46)=0,1+MAX('100 Resue Women'!$AC$7:$AC$46),SUMIF('100 Resue Women'!$C$7:$C$46,$A77,'100 Resue Women'!$AC$7:$AC$46))>2+MAX('100 Resue Women'!$AC$7:$AC$46),MAX('100 Resue Women'!$AC$7:$AC$46),IF(SUMIF('100 Resue Women'!$C$7:$C$46,$A77,'100 Resue Women'!$AC$7:$AC$46)=0,1+MAX('100 Resue Women'!$AC$7:$AC$46),SUMIF('100 Resue Women'!$C$7:$C$46,$A77,'100 Resue Women'!$AC$7:$AC$46))))","v":""},{"$f":"IF($A77=\"\",\"\",IF(IF(SUMIF('Line Throw Women'!$C$7:$C$46,$A77,'Line Throw Women'!$AE$7:$AE$46)=0,MAX('Line Throw Women'!$AE$7:$AE$46),SUMIF('Line Throw Women'!$C$7:$C$46,$A77,'Line Throw Women'!$AE$7:$AE$46))>2+MAX('Line Throw Women'!$AE$7:$AE$46),MAX('Line Throw Women'!$AE$7:$AE$46),IF(SUMIF('Line Throw Women'!$C$7:$C$46,$A77,'Line Throw Women'!$AE$7:$AE$46)=0,1+MAX('Line Throw Women'!$AE$7:$AE$46),SUMIF('Line Throw Women'!$C$7:$C$46,$A77,'Line Throw Women'!$AE$7:$AE$46))))","v":""},{"$f":"IF($A77=\"\",\"\",IF(IF(SUMIF('4 x 50 Obs Relay Women'!$C$7:$C$46,$A77,'4 x 50 Obs Relay Women'!$AH$7:$AH$46)=0,1+MAX('4 x 50 Obs Relay Women'!$AH$7:$AH$46),SUMIF('4 x 50 Obs Relay Women'!$C$7:$C$46,$A77,'4 x 50 Obs Relay Women'!$AH$7:$AH$46))>2+MAX('4 x 50 Obs Relay Women'!$AH$7:$AH$46),MAX('4 x 50 Obs Relay Women'!$AH$7:$AH$46),IF(SUMIF('4 x 50 Obs Relay Women'!$C$7:$C$46,$A77,'4 x 50 Obs Relay Women'!$AH$7:$AH$46)=0,1+MAX('4 x 50 Obs Relay Women'!$AH$7:$AH$46),SUMIF('4 x 50 Obs Relay Women'!$C$7:$C$46,$A77,'4 x 50 Obs Relay Women'!$AH$7:$AH$46))))","v":""},{"$f":"IF($A77=\"\",\"\",IF(IF(SUMIF('4 x 50 medley Relay Women'!$C$7:$C$46,$A77,'4 x 50 medley Relay Women'!$AH$7:$AH$46)=0,1+MAX('4 x 50 medley Relay Women'!$AH$7:$AH$46),SUMIF('4 x 50 medley Relay Women'!$C$7:$C$46,$A77,'4 x 50 medley Relay Women'!$AH$7:$AH$46))>2+MAX('4 x 50 medley Relay Women'!$AH$7:$AH$46),MAX('4 x 50 medley Relay Women'!$AH$7:$AH$46),IF(SUMIF('4 x 50 medley Relay Women'!$C$7:$C$46,$A77,'4 x 50 medley Relay Women'!$AH$7:$AH$46)=0,1+MAX('4 x 50 medley Relay Women'!$AH$7:$AH$46),SUMIF('4 x 50 medley Relay Women'!$C$7:$C$46,$A77,'4 x 50 medley Relay Women'!$AH$7:$AH$46))))","v":""},{"$f":"IF($A77=\"\",\"\",IF(IF(SUMIF('4 x 25 Manikin Carry Women'!$C$7:$C$46,$A77,'4 x 25 Manikin Carry Women'!$AH$7:$AH$46)=0,1+MAX('4 x 25 Manikin Carry Women'!$AH$7:$AH$46),SUMIF('4 x 25 Manikin Carry Women'!$C$7:$C$46,$A77,'4 x 25 Manikin Carry Women'!$AH$7:$AH$46))>2+MAX('4 x 25 Manikin Carry Women'!$AH$7:$AH$46),MAX('4 x 25 Manikin Carry Women'!$AH$7:$AH$46),IF(SUMIF('4 x 25 Manikin Carry Women'!$C$7:$C$46,$A77,'4 x 25 Manikin Carry Women'!$AH$7:$AH$46)=0,1+MAX('4 x 25 Manikin Carry Women'!$AH$7:$AH$46),SUMIF('4 x 25 Manikin Carry Women'!$C$7:$C$46,$A77,'4 x 25 Manikin Carry Women'!$AH$7:$AH$46))))","v":""},{"$f":"IF($A77=\"\",\"\",IF(IF(SUMIF('Line Throw Relay Women'!$C$7:$C$46,$A77,'Line Throw Relay Women'!$AH$7:$AH$46)=0,1+MAX('Line Throw Relay Women'!$AH$7:$AH$46),SUMIF('Line Throw Relay Women'!$C$7:$C$46,$A77,'Line Throw Relay Women'!$AH$7:$AH$46))>2+MAX('Line Throw Relay Women'!$AH$7:$AH$46),MAX('Line Throw Relay Women'!$AH$7:$AH$46),IF(SUMIF('Line Throw Relay Women'!$C$7:$C$46,$A77,'Line Throw Relay Women'!$AH$7:$AH$46)=0,1+MAX('Line Throw Relay Women'!$AH$7:$AH$46),SUMIF('Line Throw Relay Women'!$C$7:$C$46,$A77,'Line Throw Relay Women'!$AH$7:$AH$46))))","v":""},"",""]
["","",{"$f":"IF($A78=\"\",\"\",IF(IF(SUMIF('50m Manikin Carry Women'!$C$7:$C$46,$A78,'50m Manikin Carry Women'!$AC$7:$AC$46)=0,1+MAX('50m Manikin Carry Women'!$AC$7:$AC$46),SUMIF('50m Manikin Carry Women'!$C$7:$C$46,$A78,'50m Manikin Carry Women'!$AC$7:$AC$46))>MAX('50m Manikin Carry Women'!$AC$7:$AC$46)+2,MAX('50m Manikin Carry Women'!$AC$7:$AC$46),IF(SUMIF('50m Manikin Carry Women'!$C$7:$C$46,$A78,'50m Manikin Carry Women'!$AC$7:$AC$46)=0,1+MAX('50m Manikin Carry Women'!$AC$7:$AC$46),SUMIF('50m Manikin Carry Women'!$C$7:$C$46,$A78,'50m Manikin Carry Women'!$AC$7:$AC$46))))","v":""},{"$f":"IF($A78=\"\",\"\",IF(IF(SUMIF('100m Manikin Carry Women'!$C$7:$C$46,$A78,'100m Manikin Carry Women'!$AC$7:$AC$46)=0,1+MAX('100m Manikin Carry Women'!$AC$7:$AC$46),SUMIF('100m Manikin Carry Women'!$C$7:$C$46,$A78,'100m Manikin Carry Women'!$AC$7:$AC$46))>2+MAX('100m Manikin Carry Women'!$AC$7:$AC$46),MAX('100m Manikin Carry Women'!$AC$7:$AC$46),IF(SUMIF('100m Manikin Carry Women'!$C$7:$C$46,$A78,'100m Manikin Carry Women'!$AC$7:$AC$46)=0,1+MAX('100m Manikin Carry Women'!$AC$7:$AC$46),SUMIF('100m Manikin Carry Women'!$C$7:$C$46,$A78,'100m Manikin Carry Women'!$AC$7:$AC$46))))","v":""},{"$f":"IF($A78=\"\",\"\",IF(IF(SUMIF('100m Manikin Tow Women'!$C$7:$C$46,$A78,'100m Manikin Tow Women'!$AC$7:$AC$46)=0,1+MAX('100m Manikin Tow Women'!$AC$7:$AC$46),SUMIF('100m Manikin Tow Women'!$C$7:$C$46,$A78,'100m Manikin Tow Women'!$AC$7:$AC$46))>2+MAX('100m Manikin Tow Women'!$AC$7:$AC$46),MAX('100m Manikin Tow Women'!$AC$7:$AC$46),IF(SUMIF('100m Manikin Tow Women'!$C$7:$C$46,$A78,'100m Manikin Tow Women'!$AC$7:$AC$46)=0,1+MAX('100m Manikin Tow Women'!$AC$7:$AC$46),SUMIF('100m Manikin Tow Women'!$C$7:$C$46,$A78,'100m Manikin Tow Women'!$AC$7:$AC$46))))","v":""},{"$f":"IF($A78=\"\",\"\",IF(IF(SUMIF('200m Obs Women'!$C$7:$C$46,$A78,'200m Obs Women'!$AC$7:$AC$46)=0,1+MAX('200m Obs Women'!$AC$7:$AC$46),SUMIF('200m Obs Women'!$C$7:$C$46,$A78,'200m Obs Women'!$AC$7:$AC$46))>2+MAX('200m Obs Women'!$AC$7:$AC$46),MAX('200m Obs Women'!$AC$7:$AC$46),IF(SUMIF('200m Obs Women'!$C$7:$C$46,$A78,'200m Obs Women'!$AC$7:$AC$46)=0,1+MAX('200m Obs Women'!$AC$7:$AC$46),SUMIF('200m Obs Women'!$C$7:$C$46,$A78,'200m Obs Women'!$AC$7:$AC$46))))","v":""},{"$f":"IF($A78=\"\",\"\",IF(IF(SUMIF('200m Super Women'!$C$7:$C$46,$A78,'200m Super Women'!$AC$7:$AC$46)=0,1+MAX('200m Super Women'!$AC$7:$AC$46),SUMIF('200m Super Women'!$C$7:$C$46,$A78,'200m Super Women'!$AC$7:$AC$46))>2+MAX('200m Super Women'!$AC$7:$AC$46),MAX('200m Super Women'!$AC$7:$AC$46),IF(SUMIF('200m Super Women'!$C$7:$C$46,$A78,'200m Super Women'!$AC$7:$AC$46)=0,1+MAX('200m Super Women'!$AC$7:$AC$46),SUMIF('200m Super Women'!$C$7:$C$46,$A78,'200m Super Women'!$AC$7:$AC$46))))","v":""},{"$f":"IF($A78=\"\",\"\",IF(IF(SUMIF('100 Resue Women'!$C$7:$C$46,$A78,'100 Resue Women'!$AC$7:$AC$46)=0,1+MAX('100 Resue Women'!$AC$7:$AC$46),SUMIF('100 Resue Women'!$C$7:$C$46,$A78,'100 Resue Women'!$AC$7:$AC$46))>2+MAX('100 Resue Women'!$AC$7:$AC$46),MAX('100 Resue Women'!$AC$7:$AC$46),IF(SUMIF('100 Resue Women'!$C$7:$C$46,$A78,'100 Resue Women'!$AC$7:$AC$46)=0,1+MAX('100 Resue Women'!$AC$7:$AC$46),SUMIF('100 Resue Women'!$C$7:$C$46,$A78,'100 Resue Women'!$AC$7:$AC$46))))","v":""},{"$f":"IF($A78=\"\",\"\",IF(IF(SUMIF('Line Throw Women'!$C$7:$C$46,$A78,'Line Throw Women'!$AE$7:$AE$46)=0,MAX('Line Throw Women'!$AE$7:$AE$46),SUMIF('Line Throw Women'!$C$7:$C$46,$A78,'Line Throw Women'!$AE$7:$AE$46))>2+MAX('Line Throw Women'!$AE$7:$AE$46),MAX('Line Throw Women'!$AE$7:$AE$46),IF(SUMIF('Line Throw Women'!$C$7:$C$46,$A78,'Line Throw Women'!$AE$7:$AE$46)=0,1+MAX('Line Throw Women'!$AE$7:$AE$46),SUMIF('Line Throw Women'!$C$7:$C$46,$A78,'Line Throw Women'!$AE$7:$AE$46))))","v":""},{"$f":"IF($A78=\"\",\"\",IF(IF(SUMIF('4 x 50 Obs Relay Women'!$C$7:$C$46,$A78,'4 x 50 Obs Relay Women'!$AH$7:$AH$46)=0,1+MAX('4 x 50 Obs Relay Women'!$AH$7:$AH$46),SUMIF('4 x 50 Obs Relay Women'!$C$7:$C$46,$A78,'4 x 50 Obs Relay Women'!$AH$7:$AH$46))>2+MAX('4 x 50 Obs Relay Women'!$AH$7:$AH$46),MAX('4 x 50 Obs Relay Women'!$AH$7:$AH$46),IF(SUMIF('4 x 50 Obs Relay Women'!$C$7:$C$46,$A78,'4 x 50 Obs Relay Women'!$AH$7:$AH$46)=0,1+MAX('4 x 50 Obs Relay Women'!$AH$7:$AH$46),SUMIF('4 x 50 Obs Relay Women'!$C$7:$C$46,$A78,'4 x 50 Obs Relay Women'!$AH$7:$AH$46))))","v":""},{"$f":"IF($A78=\"\",\"\",IF(IF(SUMIF('4 x 50 medley Relay Women'!$C$7:$C$46,$A78,'4 x 50 medley Relay Women'!$AH$7:$AH$46)=0,1+MAX('4 x 50 medley Relay Women'!$AH$7:$AH$46),SUMIF('4 x 50 medley Relay Women'!$C$7:$C$46,$A78,'4 x 50 medley Relay Women'!$AH$7:$AH$46))>2+MAX('4 x 50 medley Relay Women'!$AH$7:$AH$46),MAX('4 x 50 medley Relay Women'!$AH$7:$AH$46),IF(SUMIF('4 x 50 medley Relay Women'!$C$7:$C$46,$A78,'4 x 50 medley Relay Women'!$AH$7:$AH$46)=0,1+MAX('4 x 50 medley Relay Women'!$AH$7:$AH$46),SUMIF('4 x 50 medley Relay Women'!$C$7:$C$46,$A78,'4 x 50 medley Relay Women'!$AH$7:$AH$46))))","v":""},{"$f":"IF($A78=\"\",\"\",IF(IF(SUMIF('4 x 25 Manikin Carry Women'!$C$7:$C$46,$A78,'4 x 25 Manikin Carry Women'!$AH$7:$AH$46)=0,1+MAX('4 x 25 Manikin Carry Women'!$AH$7:$AH$46),SUMIF('4 x 25 Manikin Carry Women'!$C$7:$C$46,$A78,'4 x 25 Manikin Carry Women'!$AH$7:$AH$46))>2+MAX('4 x 25 Manikin Carry Women'!$AH$7:$AH$46),MAX('4 x 25 Manikin Carry Women'!$AH$7:$AH$46),IF(SUMIF('4 x 25 Manikin Carry Women'!$C$7:$C$46,$A78,'4 x 25 Manikin Carry Women'!$AH$7:$AH$46)=0,1+MAX('4 x 25 Manikin Carry Women'!$AH$7:$AH$46),SUMIF('4 x 25 Manikin Carry Women'!$C$7:$C$46,$A78,'4 x 25 Manikin Carry Women'!$AH$7:$AH$46))))","v":""},{"$f":"IF($A78=\"\",\"\",IF(IF(SUMIF('Line Throw Relay Women'!$C$7:$C$46,$A78,'Line Throw Relay Women'!$AH$7:$AH$46)=0,1+MAX('Line Throw Relay Women'!$AH$7:$AH$46),SUMIF('Line Throw Relay Women'!$C$7:$C$46,$A78,'Line Throw Relay Women'!$AH$7:$AH$46))>2+MAX('Line Throw Relay Women'!$AH$7:$AH$46),MAX('Line Throw Relay Women'!$AH$7:$AH$46),IF(SUMIF('Line Throw Relay Women'!$C$7:$C$46,$A78,'Line Throw Relay Women'!$AH$7:$AH$46)=0,1+MAX('Line Throw Relay Women'!$AH$7:$AH$46),SUMIF('Line Throw Relay Women'!$C$7:$C$46,$A78,'Line Throw Relay Women'!$AH$7:$AH$46))))","v":""},"",""]
["","",{"$f":"IF($A79=\"\",\"\",IF(IF(SUMIF('50m Manikin Carry Women'!$C$7:$C$46,$A79,'50m Manikin Carry Women'!$AC$7:$AC$46)=0,1+MAX('50m Manikin Carry Women'!$AC$7:$AC$46),SUMIF('50m Manikin Carry Women'!$C$7:$C$46,$A79,'50m Manikin Carry Women'!$AC$7:$AC$46))>MAX('50m Manikin Carry Women'!$AC$7:$AC$46)+2,MAX('50m Manikin Carry Women'!$AC$7:$AC$46),IF(SUMIF('50m Manikin Carry Women'!$C$7:$C$46,$A79,'50m Manikin Carry Women'!$AC$7:$AC$46)=0,1+MAX('50m Manikin Carry Women'!$AC$7:$AC$46),SUMIF('50m Manikin Carry Women'!$C$7:$C$46,$A79,'50m Manikin Carry Women'!$AC$7:$AC$46))))","v":""},{"$f":"IF($A79=\"\",\"\",IF(IF(SUMIF('100m Manikin Carry Women'!$C$7:$C$46,$A79,'100m Manikin Carry Women'!$AC$7:$AC$46)=0,1+MAX('100m Manikin Carry Women'!$AC$7:$AC$46),SUMIF('100m Manikin Carry Women'!$C$7:$C$46,$A79,'100m Manikin Carry Women'!$AC$7:$AC$46))>2+MAX('100m Manikin Carry Women'!$AC$7:$AC$46),MAX('100m Manikin Carry Women'!$AC$7:$AC$46),IF(SUMIF('100m Manikin Carry Women'!$C$7:$C$46,$A79,'100m Manikin Carry Women'!$AC$7:$AC$46)=0,1+MAX('100m Manikin Carry Women'!$AC$7:$AC$46),SUMIF('100m Manikin Carry Women'!$C$7:$C$46,$A79,'100m Manikin Carry Women'!$AC$7:$AC$46))))","v":""},{"$f":"IF($A79=\"\",\"\",IF(IF(SUMIF('100m Manikin Tow Women'!$C$7:$C$46,$A79,'100m Manikin Tow Women'!$AC$7:$AC$46)=0,1+MAX('100m Manikin Tow Women'!$AC$7:$AC$46),SUMIF('100m Manikin Tow Women'!$C$7:$C$46,$A79,'100m Manikin Tow Women'!$AC$7:$AC$46))>2+MAX('100m Manikin Tow Women'!$AC$7:$AC$46),MAX('100m Manikin Tow Women'!$AC$7:$AC$46),IF(SUMIF('100m Manikin Tow Women'!$C$7:$C$46,$A79,'100m Manikin Tow Women'!$AC$7:$AC$46)=0,1+MAX('100m Manikin Tow Women'!$AC$7:$AC$46),SUMIF('100m Manikin Tow Women'!$C$7:$C$46,$A79,'100m Manikin Tow Women'!$AC$7:$AC$46))))","v":""},{"$f":"IF($A79=\"\",\"\",IF(IF(SUMIF('200m Obs Women'!$C$7:$C$46,$A79,'200m Obs Women'!$AC$7:$AC$46)=0,1+MAX('200m Obs Women'!$AC$7:$AC$46),SUMIF('200m Obs Women'!$C$7:$C$46,$A79,'200m Obs Women'!$AC$7:$AC$46))>2+MAX('200m Obs Women'!$AC$7:$AC$46),MAX('200m Obs Women'!$AC$7:$AC$46),IF(SUMIF('200m Obs Women'!$C$7:$C$46,$A79,'200m Obs Women'!$AC$7:$AC$46)=0,1+MAX('200m Obs Women'!$AC$7:$AC$46),SUMIF('200m Obs Women'!$C$7:$C$46,$A79,'200m Obs Women'!$AC$7:$AC$46))))","v":""},{"$f":"IF($A79=\"\",\"\",IF(IF(SUMIF('200m Super Women'!$C$7:$C$46,$A79,'200m Super Women'!$AC$7:$AC$46)=0,1+MAX('200m Super Women'!$AC$7:$AC$46),SUMIF('200m Super Women'!$C$7:$C$46,$A79,'200m Super Women'!$AC$7:$AC$46))>2+MAX('200m Super Women'!$AC$7:$AC$46),MAX('200m Super Women'!$AC$7:$AC$46),IF(SUMIF('200m Super Women'!$C$7:$C$46,$A79,'200m Super Women'!$AC$7:$AC$46)=0,1+MAX('200m Super Women'!$AC$7:$AC$46),SUMIF('200m Super Women'!$C$7:$C$46,$A79,'200m Super Women'!$AC$7:$AC$46))))","v":""},{"$f":"IF($A79=\"\",\"\",IF(IF(SUMIF('100 Resue Women'!$C$7:$C$46,$A79,'100 Resue Women'!$AC$7:$AC$46)=0,1+MAX('100 Resue Women'!$AC$7:$AC$46),SUMIF('100 Resue Women'!$C$7:$C$46,$A79,'100 Resue Women'!$AC$7:$AC$46))>2+MAX('100 Resue Women'!$AC$7:$AC$46),MAX('100 Resue Women'!$AC$7:$AC$46),IF(SUMIF('100 Resue Women'!$C$7:$C$46,$A79,'100 Resue Women'!$AC$7:$AC$46)=0,1+MAX('100 Resue Women'!$AC$7:$AC$46),SUMIF('100 Resue Women'!$C$7:$C$46,$A79,'100 Resue Women'!$AC$7:$AC$46))))","v":""},{"$f":"IF($A79=\"\",\"\",IF(IF(SUMIF('Line Throw Women'!$C$7:$C$46,$A79,'Line Throw Women'!$AE$7:$AE$46)=0,MAX('Line Throw Women'!$AE$7:$AE$46),SUMIF('Line Throw Women'!$C$7:$C$46,$A79,'Line Throw Women'!$AE$7:$AE$46))>2+MAX('Line Throw Women'!$AE$7:$AE$46),MAX('Line Throw Women'!$AE$7:$AE$46),IF(SUMIF('Line Throw Women'!$C$7:$C$46,$A79,'Line Throw Women'!$AE$7:$AE$46)=0,1+MAX('Line Throw Women'!$AE$7:$AE$46),SUMIF('Line Throw Women'!$C$7:$C$46,$A79,'Line Throw Women'!$AE$7:$AE$46))))","v":""},{"$f":"IF($A79=\"\",\"\",IF(IF(SUMIF('4 x 50 Obs Relay Women'!$C$7:$C$46,$A79,'4 x 50 Obs Relay Women'!$AH$7:$AH$46)=0,1+MAX('4 x 50 Obs Relay Women'!$AH$7:$AH$46),SUMIF('4 x 50 Obs Relay Women'!$C$7:$C$46,$A79,'4 x 50 Obs Relay Women'!$AH$7:$AH$46))>2+MAX('4 x 50 Obs Relay Women'!$AH$7:$AH$46),MAX('4 x 50 Obs Relay Women'!$AH$7:$AH$46),IF(SUMIF('4 x 50 Obs Relay Women'!$C$7:$C$46,$A79,'4 x 50 Obs Relay Women'!$AH$7:$AH$46)=0,1+MAX('4 x 50 Obs Relay Women'!$AH$7:$AH$46),SUMIF('4 x 50 Obs Relay Women'!$C$7:$C$46,$A79,'4 x 50 Obs Relay Women'!$AH$7:$AH$46))))","v":""},{"$f":"IF($A79=\"\",\"\",IF(IF(SUMIF('4 x 50 medley Relay Women'!$C$7:$C$46,$A79,'4 x 50 medley Relay Women'!$AH$7:$AH$46)=0,1+MAX('4 x 50 medley Relay Women'!$AH$7:$AH$46),SUMIF('4 x 50 medley Relay Women'!$C$7:$C$46,$A79,'4 x 50 medley Relay Women'!$AH$7:$AH$46))>2+MAX('4 x 50 medley Relay Women'!$AH$7:$AH$46),MAX('4 x 50 medley Relay Women'!$AH$7:$AH$46),IF(SUMIF('4 x 50 medley Relay Women'!$C$7:$C$46,$A79,'4 x 50 medley Relay Women'!$AH$7:$AH$46)=0,1+MAX('4 x 50 medley Relay Women'!$AH$7:$AH$46),SUMIF('4 x 50 medley Relay Women'!$C$7:$C$46,$A79,'4 x 50 medley Relay Women'!$AH$7:$AH$46))))","v":""},{"$f":"IF($A79=\"\",\"\",IF(IF(SUMIF('4 x 25 Manikin Carry Women'!$C$7:$C$46,$A79,'4 x 25 Manikin Carry Women'!$AH$7:$AH$46)=0,1+MAX('4 x 25 Manikin Carry Women'!$AH$7:$AH$46),SUMIF('4 x 25 Manikin Carry Women'!$C$7:$C$46,$A79,'4 x 25 Manikin Carry Women'!$AH$7:$AH$46))>2+MAX('4 x 25 Manikin Carry Women'!$AH$7:$AH$46),MAX('4 x 25 Manikin Carry Women'!$AH$7:$AH$46),IF(SUMIF('4 x 25 Manikin Carry Women'!$C$7:$C$46,$A79,'4 x 25 Manikin Carry Women'!$AH$7:$AH$46)=0,1+MAX('4 x 25 Manikin Carry Women'!$AH$7:$AH$46),SUMIF('4 x 25 Manikin Carry Women'!$C$7:$C$46,$A79,'4 x 25 Manikin Carry Women'!$AH$7:$AH$46))))","v":""},{"$f":"IF($A79=\"\",\"\",IF(IF(SUMIF('Line Throw Relay Women'!$C$7:$C$46,$A79,'Line Throw Relay Women'!$AH$7:$AH$46)=0,1+MAX('Line Throw Relay Women'!$AH$7:$AH$46),SUMIF('Line Throw Relay Women'!$C$7:$C$46,$A79,'Line Throw Relay Women'!$AH$7:$AH$46))>2+MAX('Line Throw Relay Women'!$AH$7:$AH$46),MAX('Line Throw Relay Women'!$AH$7:$AH$46),IF(SUMIF('Line Throw Relay Women'!$C$7:$C$46,$A79,'Line Throw Relay Women'!$AH$7:$AH$46)=0,1+MAX('Line Throw Relay Women'!$AH$7:$AH$46),SUMIF('Line Throw Relay Women'!$C$7:$C$46,$A79,'Line Throw Relay Women'!$AH$7:$AH$46))))","v":""},"",""]
["","",{"$f":"IF($A80=\"\",\"\",IF(IF(SUMIF('50m Manikin Carry Women'!$C$7:$C$46,$A80,'50m Manikin Carry Women'!$AC$7:$AC$46)=0,1+MAX('50m Manikin Carry Women'!$AC$7:$AC$46),SUMIF('50m Manikin Carry Women'!$C$7:$C$46,$A80,'50m Manikin Carry Women'!$AC$7:$AC$46))>MAX('50m Manikin Carry Women'!$AC$7:$AC$46)+2,MAX('50m Manikin Carry Women'!$AC$7:$AC$46),IF(SUMIF('50m Manikin Carry Women'!$C$7:$C$46,$A80,'50m Manikin Carry Women'!$AC$7:$AC$46)=0,1+MAX('50m Manikin Carry Women'!$AC$7:$AC$46),SUMIF('50m Manikin Carry Women'!$C$7:$C$46,$A80,'50m Manikin Carry Women'!$AC$7:$AC$46))))","v":""},{"$f":"IF($A80=\"\",\"\",IF(IF(SUMIF('100m Manikin Carry Women'!$C$7:$C$46,$A80,'100m Manikin Carry Women'!$AC$7:$AC$46)=0,1+MAX('100m Manikin Carry Women'!$AC$7:$AC$46),SUMIF('100m Manikin Carry Women'!$C$7:$C$46,$A80,'100m Manikin Carry Women'!$AC$7:$AC$46))>2+MAX('100m Manikin Carry Women'!$AC$7:$AC$46),MAX('100m Manikin Carry Women'!$AC$7:$AC$46),IF(SUMIF('100m Manikin Carry Women'!$C$7:$C$46,$A80,'100m Manikin Carry Women'!$AC$7:$AC$46)=0,1+MAX('100m Manikin Carry Women'!$AC$7:$AC$46),SUMIF('100m Manikin Carry Women'!$C$7:$C$46,$A80,'100m Manikin Carry Women'!$AC$7:$AC$46))))","v":""},{"$f":"IF($A80=\"\",\"\",IF(IF(SUMIF('100m Manikin Tow Women'!$C$7:$C$46,$A80,'100m Manikin Tow Women'!$AC$7:$AC$46)=0,1+MAX('100m Manikin Tow Women'!$AC$7:$AC$46),SUMIF('100m Manikin Tow Women'!$C$7:$C$46,$A80,'100m Manikin Tow Women'!$AC$7:$AC$46))>2+MAX('100m Manikin Tow Women'!$AC$7:$AC$46),MAX('100m Manikin Tow Women'!$AC$7:$AC$46),IF(SUMIF('100m Manikin Tow Women'!$C$7:$C$46,$A80,'100m Manikin Tow Women'!$AC$7:$AC$46)=0,1+MAX('100m Manikin Tow Women'!$AC$7:$AC$46),SUMIF('100m Manikin Tow Women'!$C$7:$C$46,$A80,'100m Manikin Tow Women'!$AC$7:$AC$46))))","v":""},{"$f":"IF($A80=\"\",\"\",IF(IF(SUMIF('200m Obs Women'!$C$7:$C$46,$A80,'200m Obs Women'!$AC$7:$AC$46)=0,1+MAX('200m Obs Women'!$AC$7:$AC$46),SUMIF('200m Obs Women'!$C$7:$C$46,$A80,'200m Obs Women'!$AC$7:$AC$46))>2+MAX('200m Obs Women'!$AC$7:$AC$46),MAX('200m Obs Women'!$AC$7:$AC$46),IF(SUMIF('200m Obs Women'!$C$7:$C$46,$A80,'200m Obs Women'!$AC$7:$AC$46)=0,1+MAX('200m Obs Women'!$AC$7:$AC$46),SUMIF('200m Obs Women'!$C$7:$C$46,$A80,'200m Obs Women'!$AC$7:$AC$46))))","v":""},{"$f":"IF($A80=\"\",\"\",IF(IF(SUMIF('200m Super Women'!$C$7:$C$46,$A80,'200m Super Women'!$AC$7:$AC$46)=0,1+MAX('200m Super Women'!$AC$7:$AC$46),SUMIF('200m Super Women'!$C$7:$C$46,$A80,'200m Super Women'!$AC$7:$AC$46))>2+MAX('200m Super Women'!$AC$7:$AC$46),MAX('200m Super Women'!$AC$7:$AC$46),IF(SUMIF('200m Super Women'!$C$7:$C$46,$A80,'200m Super Women'!$AC$7:$AC$46)=0,1+MAX('200m Super Women'!$AC$7:$AC$46),SUMIF('200m Super Women'!$C$7:$C$46,$A80,'200m Super Women'!$AC$7:$AC$46))))","v":""},{"$f":"IF($A80=\"\",\"\",IF(IF(SUMIF('100 Resue Women'!$C$7:$C$46,$A80,'100 Resue Women'!$AC$7:$AC$46)=0,1+MAX('100 Resue Women'!$AC$7:$AC$46),SUMIF('100 Resue Women'!$C$7:$C$46,$A80,'100 Resue Women'!$AC$7:$AC$46))>2+MAX('100 Resue Women'!$AC$7:$AC$46),MAX('100 Resue Women'!$AC$7:$AC$46),IF(SUMIF('100 Resue Women'!$C$7:$C$46,$A80,'100 Resue Women'!$AC$7:$AC$46)=0,1+MAX('100 Resue Women'!$AC$7:$AC$46),SUMIF('100 Resue Women'!$C$7:$C$46,$A80,'100 Resue Women'!$AC$7:$AC$46))))","v":""},{"$f":"IF($A80=\"\",\"\",IF(IF(SUMIF('Line Throw Women'!$C$7:$C$46,$A80,'Line Throw Women'!$AE$7:$AE$46)=0,MAX('Line Throw Women'!$AE$7:$AE$46),SUMIF('Line Throw Women'!$C$7:$C$46,$A80,'Line Throw Women'!$AE$7:$AE$46))>2+MAX('Line Throw Women'!$AE$7:$AE$46),MAX('Line Throw Women'!$AE$7:$AE$46),IF(SUMIF('Line Throw Women'!$C$7:$C$46,$A80,'Line Throw Women'!$AE$7:$AE$46)=0,1+MAX('Line Throw Women'!$AE$7:$AE$46),SUMIF('Line Throw Women'!$C$7:$C$46,$A80,'Line Throw Women'!$AE$7:$AE$46))))","v":""},{"$f":"IF($A80=\"\",\"\",IF(IF(SUMIF('4 x 50 Obs Relay Women'!$C$7:$C$46,$A80,'4 x 50 Obs Relay Women'!$AH$7:$AH$46)=0,1+MAX('4 x 50 Obs Relay Women'!$AH$7:$AH$46),SUMIF('4 x 50 Obs Relay Women'!$C$7:$C$46,$A80,'4 x 50 Obs Relay Women'!$AH$7:$AH$46))>2+MAX('4 x 50 Obs Relay Women'!$AH$7:$AH$46),MAX('4 x 50 Obs Relay Women'!$AH$7:$AH$46),IF(SUMIF('4 x 50 Obs Relay Women'!$C$7:$C$46,$A80,'4 x 50 Obs Relay Women'!$AH$7:$AH$46)=0,1+MAX('4 x 50 Obs Relay Women'!$AH$7:$AH$46),SUMIF('4 x 50 Obs Relay Women'!$C$7:$C$46,$A80,'4 x 50 Obs Relay Women'!$AH$7:$AH$46))))","v":""},{"$f":"IF($A80=\"\",\"\",IF(IF(SUMIF('4 x 50 medley Relay Women'!$C$7:$C$46,$A80,'4 x 50 medley Relay Women'!$AH$7:$AH$46)=0,1+MAX('4 x 50 medley Relay Women'!$AH$7:$AH$46),SUMIF('4 x 50 medley Relay Women'!$C$7:$C$46,$A80,'4 x 50 medley Relay Women'!$AH$7:$AH$46))>2+MAX('4 x 50 medley Relay Women'!$AH$7:$AH$46),MAX('4 x 50 medley Relay Women'!$AH$7:$AH$46),IF(SUMIF('4 x 50 medley Relay Women'!$C$7:$C$46,$A80,'4 x 50 medley Relay Women'!$AH$7:$AH$46)=0,1+MAX('4 x 50 medley Relay Women'!$AH$7:$AH$46),SUMIF('4 x 50 medley Relay Women'!$C$7:$C$46,$A80,'4 x 50 medley Relay Women'!$AH$7:$AH$46))))","v":""},{"$f":"IF($A80=\"\",\"\",IF(IF(SUMIF('4 x 25 Manikin Carry Women'!$C$7:$C$46,$A80,'4 x 25 Manikin Carry Women'!$AH$7:$AH$46)=0,1+MAX('4 x 25 Manikin Carry Women'!$AH$7:$AH$46),SUMIF('4 x 25 Manikin Carry Women'!$C$7:$C$46,$A80,'4 x 25 Manikin Carry Women'!$AH$7:$AH$46))>2+MAX('4 x 25 Manikin Carry Women'!$AH$7:$AH$46),MAX('4 x 25 Manikin Carry Women'!$AH$7:$AH$46),IF(SUMIF('4 x 25 Manikin Carry Women'!$C$7:$C$46,$A80,'4 x 25 Manikin Carry Women'!$AH$7:$AH$46)=0,1+MAX('4 x 25 Manikin Carry Women'!$AH$7:$AH$46),SUMIF('4 x 25 Manikin Carry Women'!$C$7:$C$46,$A80,'4 x 25 Manikin Carry Women'!$AH$7:$AH$46))))","v":""},{"$f":"IF($A80=\"\",\"\",IF(IF(SUMIF('Line Throw Relay Women'!$C$7:$C$46,$A80,'Line Throw Relay Women'!$AH$7:$AH$46)=0,1+MAX('Line Throw Relay Women'!$AH$7:$AH$46),SUMIF('Line Throw Relay Women'!$C$7:$C$46,$A80,'Line Throw Relay Women'!$AH$7:$AH$46))>2+MAX('Line Throw Relay Women'!$AH$7:$AH$46),MAX('Line Throw Relay Women'!$AH$7:$AH$46),IF(SUMIF('Line Throw Relay Women'!$C$7:$C$46,$A80,'Line Throw Relay Women'!$AH$7:$AH$46)=0,1+MAX('Line Throw Relay Women'!$AH$7:$AH$46),SUMIF('Line Throw Relay Women'!$C$7:$C$46,$A80,'Line Throw Relay Women'!$AH$7:$AH$46))))","v":""},"",""]
["","",{"$f":"IF($A81=\"\",\"\",IF(IF(SUMIF('50m Manikin Carry Women'!$C$7:$C$46,$A81,'50m Manikin Carry Women'!$AC$7:$AC$46)=0,1+MAX('50m Manikin Carry Women'!$AC$7:$AC$46),SUMIF('50m Manikin Carry Women'!$C$7:$C$46,$A81,'50m Manikin Carry Women'!$AC$7:$AC$46))>MAX('50m Manikin Carry Women'!$AC$7:$AC$46)+2,MAX('50m Manikin Carry Women'!$AC$7:$AC$46),IF(SUMIF('50m Manikin Carry Women'!$C$7:$C$46,$A81,'50m Manikin Carry Women'!$AC$7:$AC$46)=0,1+MAX('50m Manikin Carry Women'!$AC$7:$AC$46),SUMIF('50m Manikin Carry Women'!$C$7:$C$46,$A81,'50m Manikin Carry Women'!$AC$7:$AC$46))))","v":""},{"$f":"IF($A81=\"\",\"\",IF(IF(SUMIF('100m Manikin Carry Women'!$C$7:$C$46,$A81,'100m Manikin Carry Women'!$AC$7:$AC$46)=0,1+MAX('100m Manikin Carry Women'!$AC$7:$AC$46),SUMIF('100m Manikin Carry Women'!$C$7:$C$46,$A81,'100m Manikin Carry Women'!$AC$7:$AC$46))>2+MAX('100m Manikin Carry Women'!$AC$7:$AC$46),MAX('100m Manikin Carry Women'!$AC$7:$AC$46),IF(SUMIF('100m Manikin Carry Women'!$C$7:$C$46,$A81,'100m Manikin Carry Women'!$AC$7:$AC$46)=0,1+MAX('100m Manikin Carry Women'!$AC$7:$AC$46),SUMIF('100m Manikin Carry Women'!$C$7:$C$46,$A81,'100m Manikin Carry Women'!$AC$7:$AC$46))))","v":""},{"$f":"IF($A81=\"\",\"\",IF(IF(SUMIF('100m Manikin Tow Women'!$C$7:$C$46,$A81,'100m Manikin Tow Women'!$AC$7:$AC$46)=0,1+MAX('100m Manikin Tow Women'!$AC$7:$AC$46),SUMIF('100m Manikin Tow Women'!$C$7:$C$46,$A81,'100m Manikin Tow Women'!$AC$7:$AC$46))>2+MAX('100m Manikin Tow Women'!$AC$7:$AC$46),MAX('100m Manikin Tow Women'!$AC$7:$AC$46),IF(SUMIF('100m Manikin Tow Women'!$C$7:$C$46,$A81,'100m Manikin Tow Women'!$AC$7:$AC$46)=0,1+MAX('100m Manikin Tow Women'!$AC$7:$AC$46),SUMIF('100m Manikin Tow Women'!$C$7:$C$46,$A81,'100m Manikin Tow Women'!$AC$7:$AC$46))))","v":""},{"$f":"IF($A81=\"\",\"\",IF(IF(SUMIF('200m Obs Women'!$C$7:$C$46,$A81,'200m Obs Women'!$AC$7:$AC$46)=0,1+MAX('200m Obs Women'!$AC$7:$AC$46),SUMIF('200m Obs Women'!$C$7:$C$46,$A81,'200m Obs Women'!$AC$7:$AC$46))>2+MAX('200m Obs Women'!$AC$7:$AC$46),MAX('200m Obs Women'!$AC$7:$AC$46),IF(SUMIF('200m Obs Women'!$C$7:$C$46,$A81,'200m Obs Women'!$AC$7:$AC$46)=0,1+MAX('200m Obs Women'!$AC$7:$AC$46),SUMIF('200m Obs Women'!$C$7:$C$46,$A81,'200m Obs Women'!$AC$7:$AC$46))))","v":""},{"$f":"IF($A81=\"\",\"\",IF(IF(SUMIF('200m Super Women'!$C$7:$C$46,$A81,'200m Super Women'!$AC$7:$AC$46)=0,1+MAX('200m Super Women'!$AC$7:$AC$46),SUMIF('200m Super Women'!$C$7:$C$46,$A81,'200m Super Women'!$AC$7:$AC$46))>2+MAX('200m Super Women'!$AC$7:$AC$46),MAX('200m Super Women'!$AC$7:$AC$46),IF(SUMIF('200m Super Women'!$C$7:$C$46,$A81,'200m Super Women'!$AC$7:$AC$46)=0,1+MAX('200m Super Women'!$AC$7:$AC$46),SUMIF('200m Super Women'!$C$7:$C$46,$A81,'200m Super Women'!$AC$7:$AC$46))))","v":""},{"$f":"IF($A81=\"\",\"\",IF(IF(SUMIF('100 Resue Women'!$C$7:$C$46,$A81,'100 Resue Women'!$AC$7:$AC$46)=0,1+MAX('100 Resue Women'!$AC$7:$AC$46),SUMIF('100 Resue Women'!$C$7:$C$46,$A81,'100 Resue Women'!$AC$7:$AC$46))>2+MAX('100 Resue Women'!$AC$7:$AC$46),MAX('100 Resue Women'!$AC$7:$AC$46),IF(SUMIF('100 Resue Women'!$C$7:$C$46,$A81,'100 Resue Women'!$AC$7:$AC$46)=0,1+MAX('100 Resue Women'!$AC$7:$AC$46),SUMIF('100 Resue Women'!$C$7:$C$46,$A81,'100 Resue Women'!$AC$7:$AC$46))))","v":""},{"$f":"IF($A81=\"\",\"\",IF(IF(SUMIF('Line Throw Women'!$C$7:$C$46,$A81,'Line Throw Women'!$AE$7:$AE$46)=0,MAX('Line Throw Women'!$AE$7:$AE$46),SUMIF('Line Throw Women'!$C$7:$C$46,$A81,'Line Throw Women'!$AE$7:$AE$46))>2+MAX('Line Throw Women'!$AE$7:$AE$46),MAX('Line Throw Women'!$AE$7:$AE$46),IF(SUMIF('Line Throw Women'!$C$7:$C$46,$A81,'Line Throw Women'!$AE$7:$AE$46)=0,1+MAX('Line Throw Women'!$AE$7:$AE$46),SUMIF('Line Throw Women'!$C$7:$C$46,$A81,'Line Throw Women'!$AE$7:$AE$46))))","v":""},{"$f":"IF($A81=\"\",\"\",IF(IF(SUMIF('4 x 50 Obs Relay Women'!$C$7:$C$46,$A81,'4 x 50 Obs Relay Women'!$AH$7:$AH$46)=0,1+MAX('4 x 50 Obs Relay Women'!$AH$7:$AH$46),SUMIF('4 x 50 Obs Relay Women'!$C$7:$C$46,$A81,'4 x 50 Obs Relay Women'!$AH$7:$AH$46))>2+MAX('4 x 50 Obs Relay Women'!$AH$7:$AH$46),MAX('4 x 50 Obs Relay Women'!$AH$7:$AH$46),IF(SUMIF('4 x 50 Obs Relay Women'!$C$7:$C$46,$A81,'4 x 50 Obs Relay Women'!$AH$7:$AH$46)=0,1+MAX('4 x 50 Obs Relay Women'!$AH$7:$AH$46),SUMIF('4 x 50 Obs Relay Women'!$C$7:$C$46,$A81,'4 x 50 Obs Relay Women'!$AH$7:$AH$46))))","v":""},{"$f":"IF($A81=\"\",\"\",IF(IF(SUMIF('4 x 50 medley Relay Women'!$C$7:$C$46,$A81,'4 x 50 medley Relay Women'!$AH$7:$AH$46)=0,1+MAX('4 x 50 medley Relay Women'!$AH$7:$AH$46),SUMIF('4 x 50 medley Relay Women'!$C$7:$C$46,$A81,'4 x 50 medley Relay Women'!$AH$7:$AH$46))>2+MAX('4 x 50 medley Relay Women'!$AH$7:$AH$46),MAX('4 x 50 medley Relay Women'!$AH$7:$AH$46),IF(SUMIF('4 x 50 medley Relay Women'!$C$7:$C$46,$A81,'4 x 50 medley Relay Women'!$AH$7:$AH$46)=0,1+MAX('4 x 50 medley Relay Women'!$AH$7:$AH$46),SUMIF('4 x 50 medley Relay Women'!$C$7:$C$46,$A81,'4 x 50 medley Relay Women'!$AH$7:$AH$46))))","v":""},{"$f":"IF($A81=\"\",\"\",IF(IF(SUMIF('4 x 25 Manikin Carry Women'!$C$7:$C$46,$A81,'4 x 25 Manikin Carry Women'!$AH$7:$AH$46)=0,1+MAX('4 x 25 Manikin Carry Women'!$AH$7:$AH$46),SUMIF('4 x 25 Manikin Carry Women'!$C$7:$C$46,$A81,'4 x 25 Manikin Carry Women'!$AH$7:$AH$46))>2+MAX('4 x 25 Manikin Carry Women'!$AH$7:$AH$46),MAX('4 x 25 Manikin Carry Women'!$AH$7:$AH$46),IF(SUMIF('4 x 25 Manikin Carry Women'!$C$7:$C$46,$A81,'4 x 25 Manikin Carry Women'!$AH$7:$AH$46)=0,1+MAX('4 x 25 Manikin Carry Women'!$AH$7:$AH$46),SUMIF('4 x 25 Manikin Carry Women'!$C$7:$C$46,$A81,'4 x 25 Manikin Carry Women'!$AH$7:$AH$46))))","v":""},{"$f":"IF($A81=\"\",\"\",IF(IF(SUMIF('Line Throw Relay Women'!$C$7:$C$46,$A81,'Line Throw Relay Women'!$AH$7:$AH$46)=0,1+MAX('Line Throw Relay Women'!$AH$7:$AH$46),SUMIF('Line Throw Relay Women'!$C$7:$C$46,$A81,'Line Throw Relay Women'!$AH$7:$AH$46))>2+MAX('Line Throw Relay Women'!$AH$7:$AH$46),MAX('Line Throw Relay Women'!$AH$7:$AH$46),IF(SUMIF('Line Throw Relay Women'!$C$7:$C$46,$A81,'Line Throw Relay Women'!$AH$7:$AH$46)=0,1+MAX('Line Throw Relay Women'!$AH$7:$AH$46),SUMIF('Line Throw Relay Women'!$C$7:$C$46,$A81,'Line Throw Relay Women'!$AH$7:$AH$46))))","v":""},"",""]
["","",{"$f":"IF($A82=\"\",\"\",IF(IF(SUMIF('50m Manikin Carry Women'!$C$7:$C$46,$A82,'50m Manikin Carry Women'!$AC$7:$AC$46)=0,1+MAX('50m Manikin Carry Women'!$AC$7:$AC$46),SUMIF('50m Manikin Carry Women'!$C$7:$C$46,$A82,'50m Manikin Carry Women'!$AC$7:$AC$46))>MAX('50m Manikin Carry Women'!$AC$7:$AC$46)+2,MAX('50m Manikin Carry Women'!$AC$7:$AC$46),IF(SUMIF('50m Manikin Carry Women'!$C$7:$C$46,$A82,'50m Manikin Carry Women'!$AC$7:$AC$46)=0,1+MAX('50m Manikin Carry Women'!$AC$7:$AC$46),SUMIF('50m Manikin Carry Women'!$C$7:$C$46,$A82,'50m Manikin Carry Women'!$AC$7:$AC$46))))","v":""},{"$f":"IF($A82=\"\",\"\",IF(IF(SUMIF('100m Manikin Carry Women'!$C$7:$C$46,$A82,'100m Manikin Carry Women'!$AC$7:$AC$46)=0,1+MAX('100m Manikin Carry Women'!$AC$7:$AC$46),SUMIF('100m Manikin Carry Women'!$C$7:$C$46,$A82,'100m Manikin Carry Women'!$AC$7:$AC$46))>2+MAX('100m Manikin Carry Women'!$AC$7:$AC$46),MAX('100m Manikin Carry Women'!$AC$7:$AC$46),IF(SUMIF('100m Manikin Carry Women'!$C$7:$C$46,$A82,'100m Manikin Carry Women'!$AC$7:$AC$46)=0,1+MAX('100m Manikin Carry Women'!$AC$7:$AC$46),SUMIF('100m Manikin Carry Women'!$C$7:$C$46,$A82,'100m Manikin Carry Women'!$AC$7:$AC$46))))","v":""},{"$f":"IF($A82=\"\",\"\",IF(IF(SUMIF('100m Manikin Tow Women'!$C$7:$C$46,$A82,'100m Manikin Tow Women'!$AC$7:$AC$46)=0,1+MAX('100m Manikin Tow Women'!$AC$7:$AC$46),SUMIF('100m Manikin Tow Women'!$C$7:$C$46,$A82,'100m Manikin Tow Women'!$AC$7:$AC$46))>2+MAX('100m Manikin Tow Women'!$AC$7:$AC$46),MAX('100m Manikin Tow Women'!$AC$7:$AC$46),IF(SUMIF('100m Manikin Tow Women'!$C$7:$C$46,$A82,'100m Manikin Tow Women'!$AC$7:$AC$46)=0,1+MAX('100m Manikin Tow Women'!$AC$7:$AC$46),SUMIF('100m Manikin Tow Women'!$C$7:$C$46,$A82,'100m Manikin Tow Women'!$AC$7:$AC$46))))","v":""},{"$f":"IF($A82=\"\",\"\",IF(IF(SUMIF('200m Obs Women'!$C$7:$C$46,$A82,'200m Obs Women'!$AC$7:$AC$46)=0,1+MAX('200m Obs Women'!$AC$7:$AC$46),SUMIF('200m Obs Women'!$C$7:$C$46,$A82,'200m Obs Women'!$AC$7:$AC$46))>2+MAX('200m Obs Women'!$AC$7:$AC$46),MAX('200m Obs Women'!$AC$7:$AC$46),IF(SUMIF('200m Obs Women'!$C$7:$C$46,$A82,'200m Obs Women'!$AC$7:$AC$46)=0,1+MAX('200m Obs Women'!$AC$7:$AC$46),SUMIF('200m Obs Women'!$C$7:$C$46,$A82,'200m Obs Women'!$AC$7:$AC$46))))","v":""},{"$f":"IF($A82=\"\",\"\",IF(IF(SUMIF('200m Super Women'!$C$7:$C$46,$A82,'200m Super Women'!$AC$7:$AC$46)=0,1+MAX('200m Super Women'!$AC$7:$AC$46),SUMIF('200m Super Women'!$C$7:$C$46,$A82,'200m Super Women'!$AC$7:$AC$46))>2+MAX('200m Super Women'!$AC$7:$AC$46),MAX('200m Super Women'!$AC$7:$AC$46),IF(SUMIF('200m Super Women'!$C$7:$C$46,$A82,'200m Super Women'!$AC$7:$AC$46)=0,1+MAX('200m Super Women'!$AC$7:$AC$46),SUMIF('200m Super Women'!$C$7:$C$46,$A82,'200m Super Women'!$AC$7:$AC$46))))","v":""},{"$f":"IF($A82=\"\",\"\",IF(IF(SUMIF('100 Resue Women'!$C$7:$C$46,$A82,'100 Resue Women'!$AC$7:$AC$46)=0,1+MAX('100 Resue Women'!$AC$7:$AC$46),SUMIF('100 Resue Women'!$C$7:$C$46,$A82,'100 Resue Women'!$AC$7:$AC$46))>2+MAX('100 Resue Women'!$AC$7:$AC$46),MAX('100 Resue Women'!$AC$7:$AC$46),IF(SUMIF('100 Resue Women'!$C$7:$C$46,$A82,'100 Resue Women'!$AC$7:$AC$46)=0,1+MAX('100 Resue Women'!$AC$7:$AC$46),SUMIF('100 Resue Women'!$C$7:$C$46,$A82,'100 Resue Women'!$AC$7:$AC$46))))","v":""},{"$f":"IF($A82=\"\",\"\",IF(IF(SUMIF('Line Throw Women'!$C$7:$C$46,$A82,'Line Throw Women'!$AE$7:$AE$46)=0,MAX('Line Throw Women'!$AE$7:$AE$46),SUMIF('Line Throw Women'!$C$7:$C$46,$A82,'Line Throw Women'!$AE$7:$AE$46))>2+MAX('Line Throw Women'!$AE$7:$AE$46),MAX('Line Throw Women'!$AE$7:$AE$46),IF(SUMIF('Line Throw Women'!$C$7:$C$46,$A82,'Line Throw Women'!$AE$7:$AE$46)=0,1+MAX('Line Throw Women'!$AE$7:$AE$46),SUMIF('Line Throw Women'!$C$7:$C$46,$A82,'Line Throw Women'!$AE$7:$AE$46))))","v":""},{"$f":"IF($A82=\"\",\"\",IF(IF(SUMIF('4 x 50 Obs Relay Women'!$C$7:$C$46,$A82,'4 x 50 Obs Relay Women'!$AH$7:$AH$46)=0,1+MAX('4 x 50 Obs Relay Women'!$AH$7:$AH$46),SUMIF('4 x 50 Obs Relay Women'!$C$7:$C$46,$A82,'4 x 50 Obs Relay Women'!$AH$7:$AH$46))>2+MAX('4 x 50 Obs Relay Women'!$AH$7:$AH$46),MAX('4 x 50 Obs Relay Women'!$AH$7:$AH$46),IF(SUMIF('4 x 50 Obs Relay Women'!$C$7:$C$46,$A82,'4 x 50 Obs Relay Women'!$AH$7:$AH$46)=0,1+MAX('4 x 50 Obs Relay Women'!$AH$7:$AH$46),SUMIF('4 x 50 Obs Relay Women'!$C$7:$C$46,$A82,'4 x 50 Obs Relay Women'!$AH$7:$AH$46))))","v":""},{"$f":"IF($A82=\"\",\"\",IF(IF(SUMIF('4 x 50 medley Relay Women'!$C$7:$C$46,$A82,'4 x 50 medley Relay Women'!$AH$7:$AH$46)=0,1+MAX('4 x 50 medley Relay Women'!$AH$7:$AH$46),SUMIF('4 x 50 medley Relay Women'!$C$7:$C$46,$A82,'4 x 50 medley Relay Women'!$AH$7:$AH$46))>2+MAX('4 x 50 medley Relay Women'!$AH$7:$AH$46),MAX('4 x 50 medley Relay Women'!$AH$7:$AH$46),IF(SUMIF('4 x 50 medley Relay Women'!$C$7:$C$46,$A82,'4 x 50 medley Relay Women'!$AH$7:$AH$46)=0,1+MAX('4 x 50 medley Relay Women'!$AH$7:$AH$46),SUMIF('4 x 50 medley Relay Women'!$C$7:$C$46,$A82,'4 x 50 medley Relay Women'!$AH$7:$AH$46))))","v":""},{"$f":"IF($A82=\"\",\"\",IF(IF(SUMIF('4 x 25 Manikin Carry Women'!$C$7:$C$46,$A82,'4 x 25 Manikin Carry Women'!$AH$7:$AH$46)=0,1+MAX('4 x 25 Manikin Carry Women'!$AH$7:$AH$46),SUMIF('4 x 25 Manikin Carry Women'!$C$7:$C$46,$A82,'4 x 25 Manikin Carry Women'!$AH$7:$AH$46))>2+MAX('4 x 25 Manikin Carry Women'!$AH$7:$AH$46),MAX('4 x 25 Manikin Carry Women'!$AH$7:$AH$46),IF(SUMIF('4 x 25 Manikin Carry Women'!$C$7:$C$46,$A82,'4 x 25 Manikin Carry Women'!$AH$7:$AH$46)=0,1+MAX('4 x 25 Manikin Carry Women'!$AH$7:$AH$46),SUMIF('4 x 25 Manikin Carry Women'!$C$7:$C$46,$A82,'4 x 25 Manikin Carry Women'!$AH$7:$AH$46))))","v":""},{"$f":"IF($A82=\"\",\"\",IF(IF(SUMIF('Line Throw Relay Women'!$C$7:$C$46,$A82,'Line Throw Relay Women'!$AH$7:$AH$46)=0,1+MAX('Line Throw Relay Women'!$AH$7:$AH$46),SUMIF('Line Throw Relay Women'!$C$7:$C$46,$A82,'Line Throw Relay Women'!$AH$7:$AH$46))>2+MAX('Line Throw Relay Women'!$AH$7:$AH$46),MAX('Line Throw Relay Women'!$AH$7:$AH$46),IF(SUMIF('Line Throw Relay Women'!$C$7:$C$46,$A82,'Line Throw Relay Women'!$AH$7:$AH$46)=0,1+MAX('Line Throw Relay Women'!$AH$7:$AH$46),SUMIF('Line Throw Relay Women'!$C$7:$C$46,$A82,'Line Throw Relay Women'!$AH$7:$AH$46))))","v":""},"",""]
["","",{"$f":"IF($A83=\"\",\"\",IF(IF(SUMIF('50m Manikin Carry Women'!$C$7:$C$46,$A83,'50m Manikin Carry Women'!$AC$7:$AC$46)=0,1+MAX('50m Manikin Carry Women'!$AC$7:$AC$46),SUMIF('50m Manikin Carry Women'!$C$7:$C$46,$A83,'50m Manikin Carry Women'!$AC$7:$AC$46))>MAX('50m Manikin Carry Women'!$AC$7:$AC$46)+2,MAX('50m Manikin Carry Women'!$AC$7:$AC$46),IF(SUMIF('50m Manikin Carry Women'!$C$7:$C$46,$A83,'50m Manikin Carry Women'!$AC$7:$AC$46)=0,1+MAX('50m Manikin Carry Women'!$AC$7:$AC$46),SUMIF('50m Manikin Carry Women'!$C$7:$C$46,$A83,'50m Manikin Carry Women'!$AC$7:$AC$46))))","v":""},{"$f":"IF($A83=\"\",\"\",IF(IF(SUMIF('100m Manikin Carry Women'!$C$7:$C$46,$A83,'100m Manikin Carry Women'!$AC$7:$AC$46)=0,1+MAX('100m Manikin Carry Women'!$AC$7:$AC$46),SUMIF('100m Manikin Carry Women'!$C$7:$C$46,$A83,'100m Manikin Carry Women'!$AC$7:$AC$46))>2+MAX('100m Manikin Carry Women'!$AC$7:$AC$46),MAX('100m Manikin Carry Women'!$AC$7:$AC$46),IF(SUMIF('100m Manikin Carry Women'!$C$7:$C$46,$A83,'100m Manikin Carry Women'!$AC$7:$AC$46)=0,1+MAX('100m Manikin Carry Women'!$AC$7:$AC$46),SUMIF('100m Manikin Carry Women'!$C$7:$C$46,$A83,'100m Manikin Carry Women'!$AC$7:$AC$46))))","v":""},{"$f":"IF($A83=\"\",\"\",IF(IF(SUMIF('100m Manikin Tow Women'!$C$7:$C$46,$A83,'100m Manikin Tow Women'!$AC$7:$AC$46)=0,1+MAX('100m Manikin Tow Women'!$AC$7:$AC$46),SUMIF('100m Manikin Tow Women'!$C$7:$C$46,$A83,'100m Manikin Tow Women'!$AC$7:$AC$46))>2+MAX('100m Manikin Tow Women'!$AC$7:$AC$46),MAX('100m Manikin Tow Women'!$AC$7:$AC$46),IF(SUMIF('100m Manikin Tow Women'!$C$7:$C$46,$A83,'100m Manikin Tow Women'!$AC$7:$AC$46)=0,1+MAX('100m Manikin Tow Women'!$AC$7:$AC$46),SUMIF('100m Manikin Tow Women'!$C$7:$C$46,$A83,'100m Manikin Tow Women'!$AC$7:$AC$46))))","v":""},{"$f":"IF($A83=\"\",\"\",IF(IF(SUMIF('200m Obs Women'!$C$7:$C$46,$A83,'200m Obs Women'!$AC$7:$AC$46)=0,1+MAX('200m Obs Women'!$AC$7:$AC$46),SUMIF('200m Obs Women'!$C$7:$C$46,$A83,'200m Obs Women'!$AC$7:$AC$46))>2+MAX('200m Obs Women'!$AC$7:$AC$46),MAX('200m Obs Women'!$AC$7:$AC$46),IF(SUMIF('200m Obs Women'!$C$7:$C$46,$A83,'200m Obs Women'!$AC$7:$AC$46)=0,1+MAX('200m Obs Women'!$AC$7:$AC$46),SUMIF('200m Obs Women'!$C$7:$C$46,$A83,'200m Obs Women'!$AC$7:$AC$46))))","v":""},{"$f":"IF($A83=\"\",\"\",IF(IF(SUMIF('200m Super Women'!$C$7:$C$46,$A83,'200m Super Women'!$AC$7:$AC$46)=0,1+MAX('200m Super Women'!$AC$7:$AC$46),SUMIF('200m Super Women'!$C$7:$C$46,$A83,'200m Super Women'!$AC$7:$AC$46))>2+MAX('200m Super Women'!$AC$7:$AC$46),MAX('200m Super Women'!$AC$7:$AC$46),IF(SUMIF('200m Super Women'!$C$7:$C$46,$A83,'200m Super Women'!$AC$7:$AC$46)=0,1+MAX('200m Super Women'!$AC$7:$AC$46),SUMIF('200m Super Women'!$C$7:$C$46,$A83,'200m Super Women'!$AC$7:$AC$46))))","v":""},{"$f":"IF($A83=\"\",\"\",IF(IF(SUMIF('100 Resue Women'!$C$7:$C$46,$A83,'100 Resue Women'!$AC$7:$AC$46)=0,1+MAX('100 Resue Women'!$AC$7:$AC$46),SUMIF('100 Resue Women'!$C$7:$C$46,$A83,'100 Resue Women'!$AC$7:$AC$46))>2+MAX('100 Resue Women'!$AC$7:$AC$46),MAX('100 Resue Women'!$AC$7:$AC$46),IF(SUMIF('100 Resue Women'!$C$7:$C$46,$A83,'100 Resue Women'!$AC$7:$AC$46)=0,1+MAX('100 Resue Women'!$AC$7:$AC$46),SUMIF('100 Resue Women'!$C$7:$C$46,$A83,'100 Resue Women'!$AC$7:$AC$46))))","v":""},{"$f":"IF($A83=\"\",\"\",IF(IF(SUMIF('Line Throw Women'!$C$7:$C$46,$A83,'Line Throw Women'!$AE$7:$AE$46)=0,MAX('Line Throw Women'!$AE$7:$AE$46),SUMIF('Line Throw Women'!$C$7:$C$46,$A83,'Line Throw Women'!$AE$7:$AE$46))>2+MAX('Line Throw Women'!$AE$7:$AE$46),MAX('Line Throw Women'!$AE$7:$AE$46),IF(SUMIF('Line Throw Women'!$C$7:$C$46,$A83,'Line Throw Women'!$AE$7:$AE$46)=0,1+MAX('Line Throw Women'!$AE$7:$AE$46),SUMIF('Line Throw Women'!$C$7:$C$46,$A83,'Line Throw Women'!$AE$7:$AE$46))))","v":""},{"$f":"IF($A83=\"\",\"\",IF(IF(SUMIF('4 x 50 Obs Relay Women'!$C$7:$C$46,$A83,'4 x 50 Obs Relay Women'!$AH$7:$AH$46)=0,1+MAX('4 x 50 Obs Relay Women'!$AH$7:$AH$46),SUMIF('4 x 50 Obs Relay Women'!$C$7:$C$46,$A83,'4 x 50 Obs Relay Women'!$AH$7:$AH$46))>2+MAX('4 x 50 Obs Relay Women'!$AH$7:$AH$46),MAX('4 x 50 Obs Relay Women'!$AH$7:$AH$46),IF(SUMIF('4 x 50 Obs Relay Women'!$C$7:$C$46,$A83,'4 x 50 Obs Relay Women'!$AH$7:$AH$46)=0,1+MAX('4 x 50 Obs Relay Women'!$AH$7:$AH$46),SUMIF('4 x 50 Obs Relay Women'!$C$7:$C$46,$A83,'4 x 50 Obs Relay Women'!$AH$7:$AH$46))))","v":""},{"$f":"IF($A83=\"\",\"\",IF(IF(SUMIF('4 x 50 medley Relay Women'!$C$7:$C$46,$A83,'4 x 50 medley Relay Women'!$AH$7:$AH$46)=0,1+MAX('4 x 50 medley Relay Women'!$AH$7:$AH$46),SUMIF('4 x 50 medley Relay Women'!$C$7:$C$46,$A83,'4 x 50 medley Relay Women'!$AH$7:$AH$46))>2+MAX('4 x 50 medley Relay Women'!$AH$7:$AH$46),MAX('4 x 50 medley Relay Women'!$AH$7:$AH$46),IF(SUMIF('4 x 50 medley Relay Women'!$C$7:$C$46,$A83,'4 x 50 medley Relay Women'!$AH$7:$AH$46)=0,1+MAX('4 x 50 medley Relay Women'!$AH$7:$AH$46),SUMIF('4 x 50 medley Relay Women'!$C$7:$C$46,$A83,'4 x 50 medley Relay Women'!$AH$7:$AH$46))))","v":""},{"$f":"IF($A83=\"\",\"\",IF(IF(SUMIF('4 x 25 Manikin Carry Women'!$C$7:$C$46,$A83,'4 x 25 Manikin Carry Women'!$AH$7:$AH$46)=0,1+MAX('4 x 25 Manikin Carry Women'!$AH$7:$AH$46),SUMIF('4 x 25 Manikin Carry Women'!$C$7:$C$46,$A83,'4 x 25 Manikin Carry Women'!$AH$7:$AH$46))>2+MAX('4 x 25 Manikin Carry Women'!$AH$7:$AH$46),MAX('4 x 25 Manikin Carry Women'!$AH$7:$AH$46),IF(SUMIF('4 x 25 Manikin Carry Women'!$C$7:$C$46,$A83,'4 x 25 Manikin Carry Women'!$AH$7:$AH$46)=0,1+MAX('4 x 25 Manikin Carry Women'!$AH$7:$AH$46),SUMIF('4 x 25 Manikin Carry Women'!$C$7:$C$46,$A83,'4 x 25 Manikin Carry Women'!$AH$7:$AH$46))))","v":""},{"$f":"IF($A83=\"\",\"\",IF(IF(SUMIF('Line Throw Relay Women'!$C$7:$C$46,$A83,'Line Throw Relay Women'!$AH$7:$AH$46)=0,1+MAX('Line Throw Relay Women'!$AH$7:$AH$46),SUMIF('Line Throw Relay Women'!$C$7:$C$46,$A83,'Line Throw Relay Women'!$AH$7:$AH$46))>2+MAX('Line Throw Relay Women'!$AH$7:$AH$46),MAX('Line Throw Relay Women'!$AH$7:$AH$46),IF(SUMIF('Line Throw Relay Women'!$C$7:$C$46,$A83,'Line Throw Relay Women'!$AH$7:$AH$46)=0,1+MAX('Line Throw Relay Women'!$AH$7:$AH$46),SUMIF('Line Throw Relay Women'!$C$7:$C$46,$A83,'Line Throw Relay Women'!$AH$7:$AH$46))))","v":""},"",""]
["","",{"$f":"IF($A84=\"\",\"\",IF(IF(SUMIF('50m Manikin Carry Women'!$C$7:$C$46,$A84,'50m Manikin Carry Women'!$AC$7:$AC$46)=0,1+MAX('50m Manikin Carry Women'!$AC$7:$AC$46),SUMIF('50m Manikin Carry Women'!$C$7:$C$46,$A84,'50m Manikin Carry Women'!$AC$7:$AC$46))>MAX('50m Manikin Carry Women'!$AC$7:$AC$46)+2,MAX('50m Manikin Carry Women'!$AC$7:$AC$46),IF(SUMIF('50m Manikin Carry Women'!$C$7:$C$46,$A84,'50m Manikin Carry Women'!$AC$7:$AC$46)=0,1+MAX('50m Manikin Carry Women'!$AC$7:$AC$46),SUMIF('50m Manikin Carry Women'!$C$7:$C$46,$A84,'50m Manikin Carry Women'!$AC$7:$AC$46))))","v":""},{"$f":"IF($A84=\"\",\"\",IF(IF(SUMIF('100m Manikin Carry Women'!$C$7:$C$46,$A84,'100m Manikin Carry Women'!$AC$7:$AC$46)=0,1+MAX('100m Manikin Carry Women'!$AC$7:$AC$46),SUMIF('100m Manikin Carry Women'!$C$7:$C$46,$A84,'100m Manikin Carry Women'!$AC$7:$AC$46))>2+MAX('100m Manikin Carry Women'!$AC$7:$AC$46),MAX('100m Manikin Carry Women'!$AC$7:$AC$46),IF(SUMIF('100m Manikin Carry Women'!$C$7:$C$46,$A84,'100m Manikin Carry Women'!$AC$7:$AC$46)=0,1+MAX('100m Manikin Carry Women'!$AC$7:$AC$46),SUMIF('100m Manikin Carry Women'!$C$7:$C$46,$A84,'100m Manikin Carry Women'!$AC$7:$AC$46))))","v":""},{"$f":"IF($A84=\"\",\"\",IF(IF(SUMIF('100m Manikin Tow Women'!$C$7:$C$46,$A84,'100m Manikin Tow Women'!$AC$7:$AC$46)=0,1+MAX('100m Manikin Tow Women'!$AC$7:$AC$46),SUMIF('100m Manikin Tow Women'!$C$7:$C$46,$A84,'100m Manikin Tow Women'!$AC$7:$AC$46))>2+MAX('100m Manikin Tow Women'!$AC$7:$AC$46),MAX('100m Manikin Tow Women'!$AC$7:$AC$46),IF(SUMIF('100m Manikin Tow Women'!$C$7:$C$46,$A84,'100m Manikin Tow Women'!$AC$7:$AC$46)=0,1+MAX('100m Manikin Tow Women'!$AC$7:$AC$46),SUMIF('100m Manikin Tow Women'!$C$7:$C$46,$A84,'100m Manikin Tow Women'!$AC$7:$AC$46))))","v":""},{"$f":"IF($A84=\"\",\"\",IF(IF(SUMIF('200m Obs Women'!$C$7:$C$46,$A84,'200m Obs Women'!$AC$7:$AC$46)=0,1+MAX('200m Obs Women'!$AC$7:$AC$46),SUMIF('200m Obs Women'!$C$7:$C$46,$A84,'200m Obs Women'!$AC$7:$AC$46))>2+MAX('200m Obs Women'!$AC$7:$AC$46),MAX('200m Obs Women'!$AC$7:$AC$46),IF(SUMIF('200m Obs Women'!$C$7:$C$46,$A84,'200m Obs Women'!$AC$7:$AC$46)=0,1+MAX('200m Obs Women'!$AC$7:$AC$46),SUMIF('200m Obs Women'!$C$7:$C$46,$A84,'200m Obs Women'!$AC$7:$AC$46))))","v":""},{"$f":"IF($A84=\"\",\"\",IF(IF(SUMIF('200m Super Women'!$C$7:$C$46,$A84,'200m Super Women'!$AC$7:$AC$46)=0,1+MAX('200m Super Women'!$AC$7:$AC$46),SUMIF('200m Super Women'!$C$7:$C$46,$A84,'200m Super Women'!$AC$7:$AC$46))>2+MAX('200m Super Women'!$AC$7:$AC$46),MAX('200m Super Women'!$AC$7:$AC$46),IF(SUMIF('200m Super Women'!$C$7:$C$46,$A84,'200m Super Women'!$AC$7:$AC$46)=0,1+MAX('200m Super Women'!$AC$7:$AC$46),SUMIF('200m Super Women'!$C$7:$C$46,$A84,'200m Super Women'!$AC$7:$AC$46))))","v":""},{"$f":"IF($A84=\"\",\"\",IF(IF(SUMIF('100 Resue Women'!$C$7:$C$46,$A84,'100 Resue Women'!$AC$7:$AC$46)=0,1+MAX('100 Resue Women'!$AC$7:$AC$46),SUMIF('100 Resue Women'!$C$7:$C$46,$A84,'100 Resue Women'!$AC$7:$AC$46))>2+MAX('100 Resue Women'!$AC$7:$AC$46),MAX('100 Resue Women'!$AC$7:$AC$46),IF(SUMIF('100 Resue Women'!$C$7:$C$46,$A84,'100 Resue Women'!$AC$7:$AC$46)=0,1+MAX('100 Resue Women'!$AC$7:$AC$46),SUMIF('100 Resue Women'!$C$7:$C$46,$A84,'100 Resue Women'!$AC$7:$AC$46))))","v":""},{"$f":"IF($A84=\"\",\"\",IF(IF(SUMIF('Line Throw Women'!$C$7:$C$46,$A84,'Line Throw Women'!$AE$7:$AE$46)=0,MAX('Line Throw Women'!$AE$7:$AE$46),SUMIF('Line Throw Women'!$C$7:$C$46,$A84,'Line Throw Women'!$AE$7:$AE$46))>2+MAX('Line Throw Women'!$AE$7:$AE$46),MAX('Line Throw Women'!$AE$7:$AE$46),IF(SUMIF('Line Throw Women'!$C$7:$C$46,$A84,'Line Throw Women'!$AE$7:$AE$46)=0,1+MAX('Line Throw Women'!$AE$7:$AE$46),SUMIF('Line Throw Women'!$C$7:$C$46,$A84,'Line Throw Women'!$AE$7:$AE$46))))","v":""},{"$f":"IF($A84=\"\",\"\",IF(IF(SUMIF('4 x 50 Obs Relay Women'!$C$7:$C$46,$A84,'4 x 50 Obs Relay Women'!$AH$7:$AH$46)=0,1+MAX('4 x 50 Obs Relay Women'!$AH$7:$AH$46),SUMIF('4 x 50 Obs Relay Women'!$C$7:$C$46,$A84,'4 x 50 Obs Relay Women'!$AH$7:$AH$46))>2+MAX('4 x 50 Obs Relay Women'!$AH$7:$AH$46),MAX('4 x 50 Obs Relay Women'!$AH$7:$AH$46),IF(SUMIF('4 x 50 Obs Relay Women'!$C$7:$C$46,$A84,'4 x 50 Obs Relay Women'!$AH$7:$AH$46)=0,1+MAX('4 x 50 Obs Relay Women'!$AH$7:$AH$46),SUMIF('4 x 50 Obs Relay Women'!$C$7:$C$46,$A84,'4 x 50 Obs Relay Women'!$AH$7:$AH$46))))","v":""},{"$f":"IF($A84=\"\",\"\",IF(IF(SUMIF('4 x 50 medley Relay Women'!$C$7:$C$46,$A84,'4 x 50 medley Relay Women'!$AH$7:$AH$46)=0,1+MAX('4 x 50 medley Relay Women'!$AH$7:$AH$46),SUMIF('4 x 50 medley Relay Women'!$C$7:$C$46,$A84,'4 x 50 medley Relay Women'!$AH$7:$AH$46))>2+MAX('4 x 50 medley Relay Women'!$AH$7:$AH$46),MAX('4 x 50 medley Relay Women'!$AH$7:$AH$46),IF(SUMIF('4 x 50 medley Relay Women'!$C$7:$C$46,$A84,'4 x 50 medley Relay Women'!$AH$7:$AH$46)=0,1+MAX('4 x 50 medley Relay Women'!$AH$7:$AH$46),SUMIF('4 x 50 medley Relay Women'!$C$7:$C$46,$A84,'4 x 50 medley Relay Women'!$AH$7:$AH$46))))","v":""},{"$f":"IF($A84=\"\",\"\",IF(IF(SUMIF('4 x 25 Manikin Carry Women'!$C$7:$C$46,$A84,'4 x 25 Manikin Carry Women'!$AH$7:$AH$46)=0,1+MAX('4 x 25 Manikin Carry Women'!$AH$7:$AH$46),SUMIF('4 x 25 Manikin Carry Women'!$C$7:$C$46,$A84,'4 x 25 Manikin Carry Women'!$AH$7:$AH$46))>2+MAX('4 x 25 Manikin Carry Women'!$AH$7:$AH$46),MAX('4 x 25 Manikin Carry Women'!$AH$7:$AH$46),IF(SUMIF('4 x 25 Manikin Carry Women'!$C$7:$C$46,$A84,'4 x 25 Manikin Carry Women'!$AH$7:$AH$46)=0,1+MAX('4 x 25 Manikin Carry Women'!$AH$7:$AH$46),SUMIF('4 x 25 Manikin Carry Women'!$C$7:$C$46,$A84,'4 x 25 Manikin Carry Women'!$AH$7:$AH$46))))","v":""},{"$f":"IF($A84=\"\",\"\",IF(IF(SUMIF('Line Throw Relay Women'!$C$7:$C$46,$A84,'Line Throw Relay Women'!$AH$7:$AH$46)=0,1+MAX('Line Throw Relay Women'!$AH$7:$AH$46),SUMIF('Line Throw Relay Women'!$C$7:$C$46,$A84,'Line Throw Relay Women'!$AH$7:$AH$46))>2+MAX('Line Throw Relay Women'!$AH$7:$AH$46),MAX('Line Throw Relay Women'!$AH$7:$AH$46),IF(SUMIF('Line Throw Relay Women'!$C$7:$C$46,$A84,'Line Throw Relay Women'!$AH$7:$AH$46)=0,1+MAX('Line Throw Relay Women'!$AH$7:$AH$46),SUMIF('Line Throw Relay Women'!$C$7:$C$46,$A84,'Line Throw Relay Women'!$AH$7:$AH$46))))","v":""},"",""]
["","",{"$f":"IF($A85=\"\",\"\",IF(IF(SUMIF('50m Manikin Carry Women'!$C$7:$C$46,$A85,'50m Manikin Carry Women'!$AC$7:$AC$46)=0,1+MAX('50m Manikin Carry Women'!$AC$7:$AC$46),SUMIF('50m Manikin Carry Women'!$C$7:$C$46,$A85,'50m Manikin Carry Women'!$AC$7:$AC$46))>MAX('50m Manikin Carry Women'!$AC$7:$AC$46)+2,MAX('50m Manikin Carry Women'!$AC$7:$AC$46),IF(SUMIF('50m Manikin Carry Women'!$C$7:$C$46,$A85,'50m Manikin Carry Women'!$AC$7:$AC$46)=0,1+MAX('50m Manikin Carry Women'!$AC$7:$AC$46),SUMIF('50m Manikin Carry Women'!$C$7:$C$46,$A85,'50m Manikin Carry Women'!$AC$7:$AC$46))))","v":""},{"$f":"IF($A85=\"\",\"\",IF(IF(SUMIF('100m Manikin Carry Women'!$C$7:$C$46,$A85,'100m Manikin Carry Women'!$AC$7:$AC$46)=0,1+MAX('100m Manikin Carry Women'!$AC$7:$AC$46),SUMIF('100m Manikin Carry Women'!$C$7:$C$46,$A85,'100m Manikin Carry Women'!$AC$7:$AC$46))>2+MAX('100m Manikin Carry Women'!$AC$7:$AC$46),MAX('100m Manikin Carry Women'!$AC$7:$AC$46),IF(SUMIF('100m Manikin Carry Women'!$C$7:$C$46,$A85,'100m Manikin Carry Women'!$AC$7:$AC$46)=0,1+MAX('100m Manikin Carry Women'!$AC$7:$AC$46),SUMIF('100m Manikin Carry Women'!$C$7:$C$46,$A85,'100m Manikin Carry Women'!$AC$7:$AC$46))))","v":""},{"$f":"IF($A85=\"\",\"\",IF(IF(SUMIF('100m Manikin Tow Women'!$C$7:$C$46,$A85,'100m Manikin Tow Women'!$AC$7:$AC$46)=0,1+MAX('100m Manikin Tow Women'!$AC$7:$AC$46),SUMIF('100m Manikin Tow Women'!$C$7:$C$46,$A85,'100m Manikin Tow Women'!$AC$7:$AC$46))>2+MAX('100m Manikin Tow Women'!$AC$7:$AC$46),MAX('100m Manikin Tow Women'!$AC$7:$AC$46),IF(SUMIF('100m Manikin Tow Women'!$C$7:$C$46,$A85,'100m Manikin Tow Women'!$AC$7:$AC$46)=0,1+MAX('100m Manikin Tow Women'!$AC$7:$AC$46),SUMIF('100m Manikin Tow Women'!$C$7:$C$46,$A85,'100m Manikin Tow Women'!$AC$7:$AC$46))))","v":""},{"$f":"IF($A85=\"\",\"\",IF(IF(SUMIF('200m Obs Women'!$C$7:$C$46,$A85,'200m Obs Women'!$AC$7:$AC$46)=0,1+MAX('200m Obs Women'!$AC$7:$AC$46),SUMIF('200m Obs Women'!$C$7:$C$46,$A85,'200m Obs Women'!$AC$7:$AC$46))>2+MAX('200m Obs Women'!$AC$7:$AC$46),MAX('200m Obs Women'!$AC$7:$AC$46),IF(SUMIF('200m Obs Women'!$C$7:$C$46,$A85,'200m Obs Women'!$AC$7:$AC$46)=0,1+MAX('200m Obs Women'!$AC$7:$AC$46),SUMIF('200m Obs Women'!$C$7:$C$46,$A85,'200m Obs Women'!$AC$7:$AC$46))))","v":""},{"$f":"IF($A85=\"\",\"\",IF(IF(SUMIF('200m Super Women'!$C$7:$C$46,$A85,'200m Super Women'!$AC$7:$AC$46)=0,1+MAX('200m Super Women'!$AC$7:$AC$46),SUMIF('200m Super Women'!$C$7:$C$46,$A85,'200m Super Women'!$AC$7:$AC$46))>2+MAX('200m Super Women'!$AC$7:$AC$46),MAX('200m Super Women'!$AC$7:$AC$46),IF(SUMIF('200m Super Women'!$C$7:$C$46,$A85,'200m Super Women'!$AC$7:$AC$46)=0,1+MAX('200m Super Women'!$AC$7:$AC$46),SUMIF('200m Super Women'!$C$7:$C$46,$A85,'200m Super Women'!$AC$7:$AC$46))))","v":""},{"$f":"IF($A85=\"\",\"\",IF(IF(SUMIF('100 Resue Women'!$C$7:$C$46,$A85,'100 Resue Women'!$AC$7:$AC$46)=0,1+MAX('100 Resue Women'!$AC$7:$AC$46),SUMIF('100 Resue Women'!$C$7:$C$46,$A85,'100 Resue Women'!$AC$7:$AC$46))>2+MAX('100 Resue Women'!$AC$7:$AC$46),MAX('100 Resue Women'!$AC$7:$AC$46),IF(SUMIF('100 Resue Women'!$C$7:$C$46,$A85,'100 Resue Women'!$AC$7:$AC$46)=0,1+MAX('100 Resue Women'!$AC$7:$AC$46),SUMIF('100 Resue Women'!$C$7:$C$46,$A85,'100 Resue Women'!$AC$7:$AC$46))))","v":""},{"$f":"IF($A85=\"\",\"\",IF(IF(SUMIF('Line Throw Women'!$C$7:$C$46,$A85,'Line Throw Women'!$AE$7:$AE$46)=0,MAX('Line Throw Women'!$AE$7:$AE$46),SUMIF('Line Throw Women'!$C$7:$C$46,$A85,'Line Throw Women'!$AE$7:$AE$46))>2+MAX('Line Throw Women'!$AE$7:$AE$46),MAX('Line Throw Women'!$AE$7:$AE$46),IF(SUMIF('Line Throw Women'!$C$7:$C$46,$A85,'Line Throw Women'!$AE$7:$AE$46)=0,1+MAX('Line Throw Women'!$AE$7:$AE$46),SUMIF('Line Throw Women'!$C$7:$C$46,$A85,'Line Throw Women'!$AE$7:$AE$46))))","v":""},{"$f":"IF($A85=\"\",\"\",IF(IF(SUMIF('4 x 50 Obs Relay Women'!$C$7:$C$46,$A85,'4 x 50 Obs Relay Women'!$AH$7:$AH$46)=0,1+MAX('4 x 50 Obs Relay Women'!$AH$7:$AH$46),SUMIF('4 x 50 Obs Relay Women'!$C$7:$C$46,$A85,'4 x 50 Obs Relay Women'!$AH$7:$AH$46))>2+MAX('4 x 50 Obs Relay Women'!$AH$7:$AH$46),MAX('4 x 50 Obs Relay Women'!$AH$7:$AH$46),IF(SUMIF('4 x 50 Obs Relay Women'!$C$7:$C$46,$A85,'4 x 50 Obs Relay Women'!$AH$7:$AH$46)=0,1+MAX('4 x 50 Obs Relay Women'!$AH$7:$AH$46),SUMIF('4 x 50 Obs Relay Women'!$C$7:$C$46,$A85,'4 x 50 Obs Relay Women'!$AH$7:$AH$46))))","v":""},{"$f":"IF($A85=\"\",\"\",IF(IF(SUMIF('4 x 50 medley Relay Women'!$C$7:$C$46,$A85,'4 x 50 medley Relay Women'!$AH$7:$AH$46)=0,1+MAX('4 x 50 medley Relay Women'!$AH$7:$AH$46),SUMIF('4 x 50 medley Relay Women'!$C$7:$C$46,$A85,'4 x 50 medley Relay Women'!$AH$7:$AH$46))>2+MAX('4 x 50 medley Relay Women'!$AH$7:$AH$46),MAX('4 x 50 medley Relay Women'!$AH$7:$AH$46),IF(SUMIF('4 x 50 medley Relay Women'!$C$7:$C$46,$A85,'4 x 50 medley Relay Women'!$AH$7:$AH$46)=0,1+MAX('4 x 50 medley Relay Women'!$AH$7:$AH$46),SUMIF('4 x 50 medley Relay Women'!$C$7:$C$46,$A85,'4 x 50 medley Relay Women'!$AH$7:$AH$46))))","v":""},{"$f":"IF($A85=\"\",\"\",IF(IF(SUMIF('4 x 25 Manikin Carry Women'!$C$7:$C$46,$A85,'4 x 25 Manikin Carry Women'!$AH$7:$AH$46)=0,1+MAX('4 x 25 Manikin Carry Women'!$AH$7:$AH$46),SUMIF('4 x 25 Manikin Carry Women'!$C$7:$C$46,$A85,'4 x 25 Manikin Carry Women'!$AH$7:$AH$46))>2+MAX('4 x 25 Manikin Carry Women'!$AH$7:$AH$46),MAX('4 x 25 Manikin Carry Women'!$AH$7:$AH$46),IF(SUMIF('4 x 25 Manikin Carry Women'!$C$7:$C$46,$A85,'4 x 25 Manikin Carry Women'!$AH$7:$AH$46)=0,1+MAX('4 x 25 Manikin Carry Women'!$AH$7:$AH$46),SUMIF('4 x 25 Manikin Carry Women'!$C$7:$C$46,$A85,'4 x 25 Manikin Carry Women'!$AH$7:$AH$46))))","v":""},{"$f":"IF($A85=\"\",\"\",IF(IF(SUMIF('Line Throw Relay Women'!$C$7:$C$46,$A85,'Line Throw Relay Women'!$AH$7:$AH$46)=0,1+MAX('Line Throw Relay Women'!$AH$7:$AH$46),SUMIF('Line Throw Relay Women'!$C$7:$C$46,$A85,'Line Throw Relay Women'!$AH$7:$AH$46))>2+MAX('Line Throw Relay Women'!$AH$7:$AH$46),MAX('Line Throw Relay Women'!$AH$7:$AH$46),IF(SUMIF('Line Throw Relay Women'!$C$7:$C$46,$A85,'Line Throw Relay Women'!$AH$7:$AH$46)=0,1+MAX('Line Throw Relay Women'!$AH$7:$AH$46),SUMIF('Line Throw Relay Women'!$C$7:$C$46,$A85,'Line Throw Relay Women'!$AH$7:$AH$46))))","v":""},"",""]
["","",{"$f":"IF($A86=\"\",\"\",IF(IF(SUMIF('50m Manikin Carry Women'!$C$7:$C$46,$A86,'50m Manikin Carry Women'!$AC$7:$AC$46)=0,1+MAX('50m Manikin Carry Women'!$AC$7:$AC$46),SUMIF('50m Manikin Carry Women'!$C$7:$C$46,$A86,'50m Manikin Carry Women'!$AC$7:$AC$46))>MAX('50m Manikin Carry Women'!$AC$7:$AC$46)+2,MAX('50m Manikin Carry Women'!$AC$7:$AC$46),IF(SUMIF('50m Manikin Carry Women'!$C$7:$C$46,$A86,'50m Manikin Carry Women'!$AC$7:$AC$46)=0,1+MAX('50m Manikin Carry Women'!$AC$7:$AC$46),SUMIF('50m Manikin Carry Women'!$C$7:$C$46,$A86,'50m Manikin Carry Women'!$AC$7:$AC$46))))","v":""},{"$f":"IF($A86=\"\",\"\",IF(IF(SUMIF('100m Manikin Carry Women'!$C$7:$C$46,$A86,'100m Manikin Carry Women'!$AC$7:$AC$46)=0,1+MAX('100m Manikin Carry Women'!$AC$7:$AC$46),SUMIF('100m Manikin Carry Women'!$C$7:$C$46,$A86,'100m Manikin Carry Women'!$AC$7:$AC$46))>2+MAX('100m Manikin Carry Women'!$AC$7:$AC$46),MAX('100m Manikin Carry Women'!$AC$7:$AC$46),IF(SUMIF('100m Manikin Carry Women'!$C$7:$C$46,$A86,'100m Manikin Carry Women'!$AC$7:$AC$46)=0,1+MAX('100m Manikin Carry Women'!$AC$7:$AC$46),SUMIF('100m Manikin Carry Women'!$C$7:$C$46,$A86,'100m Manikin Carry Women'!$AC$7:$AC$46))))","v":""},{"$f":"IF($A86=\"\",\"\",IF(IF(SUMIF('100m Manikin Tow Women'!$C$7:$C$46,$A86,'100m Manikin Tow Women'!$AC$7:$AC$46)=0,1+MAX('100m Manikin Tow Women'!$AC$7:$AC$46),SUMIF('100m Manikin Tow Women'!$C$7:$C$46,$A86,'100m Manikin Tow Women'!$AC$7:$AC$46))>2+MAX('100m Manikin Tow Women'!$AC$7:$AC$46),MAX('100m Manikin Tow Women'!$AC$7:$AC$46),IF(SUMIF('100m Manikin Tow Women'!$C$7:$C$46,$A86,'100m Manikin Tow Women'!$AC$7:$AC$46)=0,1+MAX('100m Manikin Tow Women'!$AC$7:$AC$46),SUMIF('100m Manikin Tow Women'!$C$7:$C$46,$A86,'100m Manikin Tow Women'!$AC$7:$AC$46))))","v":""},{"$f":"IF($A86=\"\",\"\",IF(IF(SUMIF('200m Obs Women'!$C$7:$C$46,$A86,'200m Obs Women'!$AC$7:$AC$46)=0,1+MAX('200m Obs Women'!$AC$7:$AC$46),SUMIF('200m Obs Women'!$C$7:$C$46,$A86,'200m Obs Women'!$AC$7:$AC$46))>2+MAX('200m Obs Women'!$AC$7:$AC$46),MAX('200m Obs Women'!$AC$7:$AC$46),IF(SUMIF('200m Obs Women'!$C$7:$C$46,$A86,'200m Obs Women'!$AC$7:$AC$46)=0,1+MAX('200m Obs Women'!$AC$7:$AC$46),SUMIF('200m Obs Women'!$C$7:$C$46,$A86,'200m Obs Women'!$AC$7:$AC$46))))","v":""},{"$f":"IF($A86=\"\",\"\",IF(IF(SUMIF('200m Super Women'!$C$7:$C$46,$A86,'200m Super Women'!$AC$7:$AC$46)=0,1+MAX('200m Super Women'!$AC$7:$AC$46),SUMIF('200m Super Women'!$C$7:$C$46,$A86,'200m Super Women'!$AC$7:$AC$46))>2+MAX('200m Super Women'!$AC$7:$AC$46),MAX('200m Super Women'!$AC$7:$AC$46),IF(SUMIF('200m Super Women'!$C$7:$C$46,$A86,'200m Super Women'!$AC$7:$AC$46)=0,1+MAX('200m Super Women'!$AC$7:$AC$46),SUMIF('200m Super Women'!$C$7:$C$46,$A86,'200m Super Women'!$AC$7:$AC$46))))","v":""},{"$f":"IF($A86=\"\",\"\",IF(IF(SUMIF('100 Resue Women'!$C$7:$C$46,$A86,'100 Resue Women'!$AC$7:$AC$46)=0,1+MAX('100 Resue Women'!$AC$7:$AC$46),SUMIF('100 Resue Women'!$C$7:$C$46,$A86,'100 Resue Women'!$AC$7:$AC$46))>2+MAX('100 Resue Women'!$AC$7:$AC$46),MAX('100 Resue Women'!$AC$7:$AC$46),IF(SUMIF('100 Resue Women'!$C$7:$C$46,$A86,'100 Resue Women'!$AC$7:$AC$46)=0,1+MAX('100 Resue Women'!$AC$7:$AC$46),SUMIF('100 Resue Women'!$C$7:$C$46,$A86,'100 Resue Women'!$AC$7:$AC$46))))","v":""},{"$f":"IF($A86=\"\",\"\",IF(IF(SUMIF('Line Throw Women'!$C$7:$C$46,$A86,'Line Throw Women'!$AE$7:$AE$46)=0,MAX('Line Throw Women'!$AE$7:$AE$46),SUMIF('Line Throw Women'!$C$7:$C$46,$A86,'Line Throw Women'!$AE$7:$AE$46))>2+MAX('Line Throw Women'!$AE$7:$AE$46),MAX('Line Throw Women'!$AE$7:$AE$46),IF(SUMIF('Line Throw Women'!$C$7:$C$46,$A86,'Line Throw Women'!$AE$7:$AE$46)=0,1+MAX('Line Throw Women'!$AE$7:$AE$46),SUMIF('Line Throw Women'!$C$7:$C$46,$A86,'Line Throw Women'!$AE$7:$AE$46))))","v":""},{"$f":"IF($A86=\"\",\"\",IF(IF(SUMIF('4 x 50 Obs Relay Women'!$C$7:$C$46,$A86,'4 x 50 Obs Relay Women'!$AH$7:$AH$46)=0,1+MAX('4 x 50 Obs Relay Women'!$AH$7:$AH$46),SUMIF('4 x 50 Obs Relay Women'!$C$7:$C$46,$A86,'4 x 50 Obs Relay Women'!$AH$7:$AH$46))>2+MAX('4 x 50 Obs Relay Women'!$AH$7:$AH$46),MAX('4 x 50 Obs Relay Women'!$AH$7:$AH$46),IF(SUMIF('4 x 50 Obs Relay Women'!$C$7:$C$46,$A86,'4 x 50 Obs Relay Women'!$AH$7:$AH$46)=0,1+MAX('4 x 50 Obs Relay Women'!$AH$7:$AH$46),SUMIF('4 x 50 Obs Relay Women'!$C$7:$C$46,$A86,'4 x 50 Obs Relay Women'!$AH$7:$AH$46))))","v":""},{"$f":"IF($A86=\"\",\"\",IF(IF(SUMIF('4 x 50 medley Relay Women'!$C$7:$C$46,$A86,'4 x 50 medley Relay Women'!$AH$7:$AH$46)=0,1+MAX('4 x 50 medley Relay Women'!$AH$7:$AH$46),SUMIF('4 x 50 medley Relay Women'!$C$7:$C$46,$A86,'4 x 50 medley Relay Women'!$AH$7:$AH$46))>2+MAX('4 x 50 medley Relay Women'!$AH$7:$AH$46),MAX('4 x 50 medley Relay Women'!$AH$7:$AH$46),IF(SUMIF('4 x 50 medley Relay Women'!$C$7:$C$46,$A86,'4 x 50 medley Relay Women'!$AH$7:$AH$46)=0,1+MAX('4 x 50 medley Relay Women'!$AH$7:$AH$46),SUMIF('4 x 50 medley Relay Women'!$C$7:$C$46,$A86,'4 x 50 medley Relay Women'!$AH$7:$AH$46))))","v":""},{"$f":"IF($A86=\"\",\"\",IF(IF(SUMIF('4 x 25 Manikin Carry Women'!$C$7:$C$46,$A86,'4 x 25 Manikin Carry Women'!$AH$7:$AH$46)=0,1+MAX('4 x 25 Manikin Carry Women'!$AH$7:$AH$46),SUMIF('4 x 25 Manikin Carry Women'!$C$7:$C$46,$A86,'4 x 25 Manikin Carry Women'!$AH$7:$AH$46))>2+MAX('4 x 25 Manikin Carry Women'!$AH$7:$AH$46),MAX('4 x 25 Manikin Carry Women'!$AH$7:$AH$46),IF(SUMIF('4 x 25 Manikin Carry Women'!$C$7:$C$46,$A86,'4 x 25 Manikin Carry Women'!$AH$7:$AH$46)=0,1+MAX('4 x 25 Manikin Carry Women'!$AH$7:$AH$46),SUMIF('4 x 25 Manikin Carry Women'!$C$7:$C$46,$A86,'4 x 25 Manikin Carry Women'!$AH$7:$AH$46))))","v":""},{"$f":"IF($A86=\"\",\"\",IF(IF(SUMIF('Line Throw Relay Women'!$C$7:$C$46,$A86,'Line Throw Relay Women'!$AH$7:$AH$46)=0,1+MAX('Line Throw Relay Women'!$AH$7:$AH$46),SUMIF('Line Throw Relay Women'!$C$7:$C$46,$A86,'Line Throw Relay Women'!$AH$7:$AH$46))>2+MAX('Line Throw Relay Women'!$AH$7:$AH$46),MAX('Line Throw Relay Women'!$AH$7:$AH$46),IF(SUMIF('Line Throw Relay Women'!$C$7:$C$46,$A86,'Line Throw Relay Women'!$AH$7:$AH$46)=0,1+MAX('Line Throw Relay Women'!$AH$7:$AH$46),SUMIF('Line Throw Relay Women'!$C$7:$C$46,$A86,'Line Throw Relay Women'!$AH$7:$AH$46))))","v":""},"",""]
["","",{"$f":"IF($A87=\"\",\"\",IF(IF(SUMIF('50m Manikin Carry Women'!$C$7:$C$46,$A87,'50m Manikin Carry Women'!$AC$7:$AC$46)=0,1+MAX('50m Manikin Carry Women'!$AC$7:$AC$46),SUMIF('50m Manikin Carry Women'!$C$7:$C$46,$A87,'50m Manikin Carry Women'!$AC$7:$AC$46))>MAX('50m Manikin Carry Women'!$AC$7:$AC$46)+2,MAX('50m Manikin Carry Women'!$AC$7:$AC$46),IF(SUMIF('50m Manikin Carry Women'!$C$7:$C$46,$A87,'50m Manikin Carry Women'!$AC$7:$AC$46)=0,1+MAX('50m Manikin Carry Women'!$AC$7:$AC$46),SUMIF('50m Manikin Carry Women'!$C$7:$C$46,$A87,'50m Manikin Carry Women'!$AC$7:$AC$46))))","v":""},{"$f":"IF($A87=\"\",\"\",IF(IF(SUMIF('100m Manikin Carry Women'!$C$7:$C$46,$A87,'100m Manikin Carry Women'!$AC$7:$AC$46)=0,1+MAX('100m Manikin Carry Women'!$AC$7:$AC$46),SUMIF('100m Manikin Carry Women'!$C$7:$C$46,$A87,'100m Manikin Carry Women'!$AC$7:$AC$46))>2+MAX('100m Manikin Carry Women'!$AC$7:$AC$46),MAX('100m Manikin Carry Women'!$AC$7:$AC$46),IF(SUMIF('100m Manikin Carry Women'!$C$7:$C$46,$A87,'100m Manikin Carry Women'!$AC$7:$AC$46)=0,1+MAX('100m Manikin Carry Women'!$AC$7:$AC$46),SUMIF('100m Manikin Carry Women'!$C$7:$C$46,$A87,'100m Manikin Carry Women'!$AC$7:$AC$46))))","v":""},{"$f":"IF($A87=\"\",\"\",IF(IF(SUMIF('100m Manikin Tow Women'!$C$7:$C$46,$A87,'100m Manikin Tow Women'!$AC$7:$AC$46)=0,1+MAX('100m Manikin Tow Women'!$AC$7:$AC$46),SUMIF('100m Manikin Tow Women'!$C$7:$C$46,$A87,'100m Manikin Tow Women'!$AC$7:$AC$46))>2+MAX('100m Manikin Tow Women'!$AC$7:$AC$46),MAX('100m Manikin Tow Women'!$AC$7:$AC$46),IF(SUMIF('100m Manikin Tow Women'!$C$7:$C$46,$A87,'100m Manikin Tow Women'!$AC$7:$AC$46)=0,1+MAX('100m Manikin Tow Women'!$AC$7:$AC$46),SUMIF('100m Manikin Tow Women'!$C$7:$C$46,$A87,'100m Manikin Tow Women'!$AC$7:$AC$46))))","v":""},{"$f":"IF($A87=\"\",\"\",IF(IF(SUMIF('200m Obs Women'!$C$7:$C$46,$A87,'200m Obs Women'!$AC$7:$AC$46)=0,1+MAX('200m Obs Women'!$AC$7:$AC$46),SUMIF('200m Obs Women'!$C$7:$C$46,$A87,'200m Obs Women'!$AC$7:$AC$46))>2+MAX('200m Obs Women'!$AC$7:$AC$46),MAX('200m Obs Women'!$AC$7:$AC$46),IF(SUMIF('200m Obs Women'!$C$7:$C$46,$A87,'200m Obs Women'!$AC$7:$AC$46)=0,1+MAX('200m Obs Women'!$AC$7:$AC$46),SUMIF('200m Obs Women'!$C$7:$C$46,$A87,'200m Obs Women'!$AC$7:$AC$46))))","v":""},{"$f":"IF($A87=\"\",\"\",IF(IF(SUMIF('200m Super Women'!$C$7:$C$46,$A87,'200m Super Women'!$AC$7:$AC$46)=0,1+MAX('200m Super Women'!$AC$7:$AC$46),SUMIF('200m Super Women'!$C$7:$C$46,$A87,'200m Super Women'!$AC$7:$AC$46))>2+MAX('200m Super Women'!$AC$7:$AC$46),MAX('200m Super Women'!$AC$7:$AC$46),IF(SUMIF('200m Super Women'!$C$7:$C$46,$A87,'200m Super Women'!$AC$7:$AC$46)=0,1+MAX('200m Super Women'!$AC$7:$AC$46),SUMIF('200m Super Women'!$C$7:$C$46,$A87,'200m Super Women'!$AC$7:$AC$46))))","v":""},{"$f":"IF($A87=\"\",\"\",IF(IF(SUMIF('100 Resue Women'!$C$7:$C$46,$A87,'100 Resue Women'!$AC$7:$AC$46)=0,1+MAX('100 Resue Women'!$AC$7:$AC$46),SUMIF('100 Resue Women'!$C$7:$C$46,$A87,'100 Resue Women'!$AC$7:$AC$46))>2+MAX('100 Resue Women'!$AC$7:$AC$46),MAX('100 Resue Women'!$AC$7:$AC$46),IF(SUMIF('100 Resue Women'!$C$7:$C$46,$A87,'100 Resue Women'!$AC$7:$AC$46)=0,1+MAX('100 Resue Women'!$AC$7:$AC$46),SUMIF('100 Resue Women'!$C$7:$C$46,$A87,'100 Resue Women'!$AC$7:$AC$46))))","v":""},{"$f":"IF($A87=\"\",\"\",IF(IF(SUMIF('Line Throw Women'!$C$7:$C$46,$A87,'Line Throw Women'!$AE$7:$AE$46)=0,MAX('Line Throw Women'!$AE$7:$AE$46),SUMIF('Line Throw Women'!$C$7:$C$46,$A87,'Line Throw Women'!$AE$7:$AE$46))>2+MAX('Line Throw Women'!$AE$7:$AE$46),MAX('Line Throw Women'!$AE$7:$AE$46),IF(SUMIF('Line Throw Women'!$C$7:$C$46,$A87,'Line Throw Women'!$AE$7:$AE$46)=0,1+MAX('Line Throw Women'!$AE$7:$AE$46),SUMIF('Line Throw Women'!$C$7:$C$46,$A87,'Line Throw Women'!$AE$7:$AE$46))))","v":""},{"$f":"IF($A87=\"\",\"\",IF(IF(SUMIF('4 x 50 Obs Relay Women'!$C$7:$C$46,$A87,'4 x 50 Obs Relay Women'!$AH$7:$AH$46)=0,1+MAX('4 x 50 Obs Relay Women'!$AH$7:$AH$46),SUMIF('4 x 50 Obs Relay Women'!$C$7:$C$46,$A87,'4 x 50 Obs Relay Women'!$AH$7:$AH$46))>2+MAX('4 x 50 Obs Relay Women'!$AH$7:$AH$46),MAX('4 x 50 Obs Relay Women'!$AH$7:$AH$46),IF(SUMIF('4 x 50 Obs Relay Women'!$C$7:$C$46,$A87,'4 x 50 Obs Relay Women'!$AH$7:$AH$46)=0,1+MAX('4 x 50 Obs Relay Women'!$AH$7:$AH$46),SUMIF('4 x 50 Obs Relay Women'!$C$7:$C$46,$A87,'4 x 50 Obs Relay Women'!$AH$7:$AH$46))))","v":""},{"$f":"IF($A87=\"\",\"\",IF(IF(SUMIF('4 x 50 medley Relay Women'!$C$7:$C$46,$A87,'4 x 50 medley Relay Women'!$AH$7:$AH$46)=0,1+MAX('4 x 50 medley Relay Women'!$AH$7:$AH$46),SUMIF('4 x 50 medley Relay Women'!$C$7:$C$46,$A87,'4 x 50 medley Relay Women'!$AH$7:$AH$46))>2+MAX('4 x 50 medley Relay Women'!$AH$7:$AH$46),MAX('4 x 50 medley Relay Women'!$AH$7:$AH$46),IF(SUMIF('4 x 50 medley Relay Women'!$C$7:$C$46,$A87,'4 x 50 medley Relay Women'!$AH$7:$AH$46)=0,1+MAX('4 x 50 medley Relay Women'!$AH$7:$AH$46),SUMIF('4 x 50 medley Relay Women'!$C$7:$C$46,$A87,'4 x 50 medley Relay Women'!$AH$7:$AH$46))))","v":""},{"$f":"IF($A87=\"\",\"\",IF(IF(SUMIF('4 x 25 Manikin Carry Women'!$C$7:$C$46,$A87,'4 x 25 Manikin Carry Women'!$AH$7:$AH$46)=0,1+MAX('4 x 25 Manikin Carry Women'!$AH$7:$AH$46),SUMIF('4 x 25 Manikin Carry Women'!$C$7:$C$46,$A87,'4 x 25 Manikin Carry Women'!$AH$7:$AH$46))>2+MAX('4 x 25 Manikin Carry Women'!$AH$7:$AH$46),MAX('4 x 25 Manikin Carry Women'!$AH$7:$AH$46),IF(SUMIF('4 x 25 Manikin Carry Women'!$C$7:$C$46,$A87,'4 x 25 Manikin Carry Women'!$AH$7:$AH$46)=0,1+MAX('4 x 25 Manikin Carry Women'!$AH$7:$AH$46),SUMIF('4 x 25 Manikin Carry Women'!$C$7:$C$46,$A87,'4 x 25 Manikin Carry Women'!$AH$7:$AH$46))))","v":""},{"$f":"IF($A87=\"\",\"\",IF(IF(SUMIF('Line Throw Relay Women'!$C$7:$C$46,$A87,'Line Throw Relay Women'!$AH$7:$AH$46)=0,1+MAX('Line Throw Relay Women'!$AH$7:$AH$46),SUMIF('Line Throw Relay Women'!$C$7:$C$46,$A87,'Line Throw Relay Women'!$AH$7:$AH$46))>2+MAX('Line Throw Relay Women'!$AH$7:$AH$46),MAX('Line Throw Relay Women'!$AH$7:$AH$46),IF(SUMIF('Line Throw Relay Women'!$C$7:$C$46,$A87,'Line Throw Relay Women'!$AH$7:$AH$46)=0,1+MAX('Line Throw Relay Women'!$AH$7:$AH$46),SUMIF('Line Throw Relay Women'!$C$7:$C$46,$A87,'Line Throw Relay Women'!$AH$7:$AH$46))))","v":""},"",""]
["","",{"$f":"IF($A88=\"\",\"\",IF(IF(SUMIF('50m Manikin Carry Women'!$C$7:$C$46,$A88,'50m Manikin Carry Women'!$AC$7:$AC$46)=0,1+MAX('50m Manikin Carry Women'!$AC$7:$AC$46),SUMIF('50m Manikin Carry Women'!$C$7:$C$46,$A88,'50m Manikin Carry Women'!$AC$7:$AC$46))>MAX('50m Manikin Carry Women'!$AC$7:$AC$46)+2,MAX('50m Manikin Carry Women'!$AC$7:$AC$46),IF(SUMIF('50m Manikin Carry Women'!$C$7:$C$46,$A88,'50m Manikin Carry Women'!$AC$7:$AC$46)=0,1+MAX('50m Manikin Carry Women'!$AC$7:$AC$46),SUMIF('50m Manikin Carry Women'!$C$7:$C$46,$A88,'50m Manikin Carry Women'!$AC$7:$AC$46))))","v":""},{"$f":"IF($A88=\"\",\"\",IF(IF(SUMIF('100m Manikin Carry Women'!$C$7:$C$46,$A88,'100m Manikin Carry Women'!$AC$7:$AC$46)=0,1+MAX('100m Manikin Carry Women'!$AC$7:$AC$46),SUMIF('100m Manikin Carry Women'!$C$7:$C$46,$A88,'100m Manikin Carry Women'!$AC$7:$AC$46))>2+MAX('100m Manikin Carry Women'!$AC$7:$AC$46),MAX('100m Manikin Carry Women'!$AC$7:$AC$46),IF(SUMIF('100m Manikin Carry Women'!$C$7:$C$46,$A88,'100m Manikin Carry Women'!$AC$7:$AC$46)=0,1+MAX('100m Manikin Carry Women'!$AC$7:$AC$46),SUMIF('100m Manikin Carry Women'!$C$7:$C$46,$A88,'100m Manikin Carry Women'!$AC$7:$AC$46))))","v":""},{"$f":"IF($A88=\"\",\"\",IF(IF(SUMIF('100m Manikin Tow Women'!$C$7:$C$46,$A88,'100m Manikin Tow Women'!$AC$7:$AC$46)=0,1+MAX('100m Manikin Tow Women'!$AC$7:$AC$46),SUMIF('100m Manikin Tow Women'!$C$7:$C$46,$A88,'100m Manikin Tow Women'!$AC$7:$AC$46))>2+MAX('100m Manikin Tow Women'!$AC$7:$AC$46),MAX('100m Manikin Tow Women'!$AC$7:$AC$46),IF(SUMIF('100m Manikin Tow Women'!$C$7:$C$46,$A88,'100m Manikin Tow Women'!$AC$7:$AC$46)=0,1+MAX('100m Manikin Tow Women'!$AC$7:$AC$46),SUMIF('100m Manikin Tow Women'!$C$7:$C$46,$A88,'100m Manikin Tow Women'!$AC$7:$AC$46))))","v":""},{"$f":"IF($A88=\"\",\"\",IF(IF(SUMIF('200m Obs Women'!$C$7:$C$46,$A88,'200m Obs Women'!$AC$7:$AC$46)=0,1+MAX('200m Obs Women'!$AC$7:$AC$46),SUMIF('200m Obs Women'!$C$7:$C$46,$A88,'200m Obs Women'!$AC$7:$AC$46))>2+MAX('200m Obs Women'!$AC$7:$AC$46),MAX('200m Obs Women'!$AC$7:$AC$46),IF(SUMIF('200m Obs Women'!$C$7:$C$46,$A88,'200m Obs Women'!$AC$7:$AC$46)=0,1+MAX('200m Obs Women'!$AC$7:$AC$46),SUMIF('200m Obs Women'!$C$7:$C$46,$A88,'200m Obs Women'!$AC$7:$AC$46))))","v":""},{"$f":"IF($A88=\"\",\"\",IF(IF(SUMIF('200m Super Women'!$C$7:$C$46,$A88,'200m Super Women'!$AC$7:$AC$46)=0,1+MAX('200m Super Women'!$AC$7:$AC$46),SUMIF('200m Super Women'!$C$7:$C$46,$A88,'200m Super Women'!$AC$7:$AC$46))>2+MAX('200m Super Women'!$AC$7:$AC$46),MAX('200m Super Women'!$AC$7:$AC$46),IF(SUMIF('200m Super Women'!$C$7:$C$46,$A88,'200m Super Women'!$AC$7:$AC$46)=0,1+MAX('200m Super Women'!$AC$7:$AC$46),SUMIF('200m Super Women'!$C$7:$C$46,$A88,'200m Super Women'!$AC$7:$AC$46))))","v":""},{"$f":"IF($A88=\"\",\"\",IF(IF(SUMIF('100 Resue Women'!$C$7:$C$46,$A88,'100 Resue Women'!$AC$7:$AC$46)=0,1+MAX('100 Resue Women'!$AC$7:$AC$46),SUMIF('100 Resue Women'!$C$7:$C$46,$A88,'100 Resue Women'!$AC$7:$AC$46))>2+MAX('100 Resue Women'!$AC$7:$AC$46),MAX('100 Resue Women'!$AC$7:$AC$46),IF(SUMIF('100 Resue Women'!$C$7:$C$46,$A88,'100 Resue Women'!$AC$7:$AC$46)=0,1+MAX('100 Resue Women'!$AC$7:$AC$46),SUMIF('100 Resue Women'!$C$7:$C$46,$A88,'100 Resue Women'!$AC$7:$AC$46))))","v":""},{"$f":"IF($A88=\"\",\"\",IF(IF(SUMIF('Line Throw Women'!$C$7:$C$46,$A88,'Line Throw Women'!$AE$7:$AE$46)=0,MAX('Line Throw Women'!$AE$7:$AE$46),SUMIF('Line Throw Women'!$C$7:$C$46,$A88,'Line Throw Women'!$AE$7:$AE$46))>2+MAX('Line Throw Women'!$AE$7:$AE$46),MAX('Line Throw Women'!$AE$7:$AE$46),IF(SUMIF('Line Throw Women'!$C$7:$C$46,$A88,'Line Throw Women'!$AE$7:$AE$46)=0,1+MAX('Line Throw Women'!$AE$7:$AE$46),SUMIF('Line Throw Women'!$C$7:$C$46,$A88,'Line Throw Women'!$AE$7:$AE$46))))","v":""},{"$f":"IF($A88=\"\",\"\",IF(IF(SUMIF('4 x 50 Obs Relay Women'!$C$7:$C$46,$A88,'4 x 50 Obs Relay Women'!$AH$7:$AH$46)=0,1+MAX('4 x 50 Obs Relay Women'!$AH$7:$AH$46),SUMIF('4 x 50 Obs Relay Women'!$C$7:$C$46,$A88,'4 x 50 Obs Relay Women'!$AH$7:$AH$46))>2+MAX('4 x 50 Obs Relay Women'!$AH$7:$AH$46),MAX('4 x 50 Obs Relay Women'!$AH$7:$AH$46),IF(SUMIF('4 x 50 Obs Relay Women'!$C$7:$C$46,$A88,'4 x 50 Obs Relay Women'!$AH$7:$AH$46)=0,1+MAX('4 x 50 Obs Relay Women'!$AH$7:$AH$46),SUMIF('4 x 50 Obs Relay Women'!$C$7:$C$46,$A88,'4 x 50 Obs Relay Women'!$AH$7:$AH$46))))","v":""},{"$f":"IF($A88=\"\",\"\",IF(IF(SUMIF('4 x 50 medley Relay Women'!$C$7:$C$46,$A88,'4 x 50 medley Relay Women'!$AH$7:$AH$46)=0,1+MAX('4 x 50 medley Relay Women'!$AH$7:$AH$46),SUMIF('4 x 50 medley Relay Women'!$C$7:$C$46,$A88,'4 x 50 medley Relay Women'!$AH$7:$AH$46))>2+MAX('4 x 50 medley Relay Women'!$AH$7:$AH$46),MAX('4 x 50 medley Relay Women'!$AH$7:$AH$46),IF(SUMIF('4 x 50 medley Relay Women'!$C$7:$C$46,$A88,'4 x 50 medley Relay Women'!$AH$7:$AH$46)=0,1+MAX('4 x 50 medley Relay Women'!$AH$7:$AH$46),SUMIF('4 x 50 medley Relay Women'!$C$7:$C$46,$A88,'4 x 50 medley Relay Women'!$AH$7:$AH$46))))","v":""},{"$f":"IF($A88=\"\",\"\",IF(IF(SUMIF('4 x 25 Manikin Carry Women'!$C$7:$C$46,$A88,'4 x 25 Manikin Carry Women'!$AH$7:$AH$46)=0,1+MAX('4 x 25 Manikin Carry Women'!$AH$7:$AH$46),SUMIF('4 x 25 Manikin Carry Women'!$C$7:$C$46,$A88,'4 x 25 Manikin Carry Women'!$AH$7:$AH$46))>2+MAX('4 x 25 Manikin Carry Women'!$AH$7:$AH$46),MAX('4 x 25 Manikin Carry Women'!$AH$7:$AH$46),IF(SUMIF('4 x 25 Manikin Carry Women'!$C$7:$C$46,$A88,'4 x 25 Manikin Carry Women'!$AH$7:$AH$46)=0,1+MAX('4 x 25 Manikin Carry Women'!$AH$7:$AH$46),SUMIF('4 x 25 Manikin Carry Women'!$C$7:$C$46,$A88,'4 x 25 Manikin Carry Women'!$AH$7:$AH$46))))","v":""},{"$f":"IF($A88=\"\",\"\",IF(IF(SUMIF('Line Throw Relay Women'!$C$7:$C$46,$A88,'Line Throw Relay Women'!$AH$7:$AH$46)=0,1+MAX('Line Throw Relay Women'!$AH$7:$AH$46),SUMIF('Line Throw Relay Women'!$C$7:$C$46,$A88,'Line Throw Relay Women'!$AH$7:$AH$46))>2+MAX('Line Throw Relay Women'!$AH$7:$AH$46),MAX('Line Throw Relay Women'!$AH$7:$AH$46),IF(SUMIF('Line Throw Relay Women'!$C$7:$C$46,$A88,'Line Throw Relay Women'!$AH$7:$AH$46)=0,1+MAX('Line Throw Relay Women'!$AH$7:$AH$46),SUMIF('Line Throw Relay Women'!$C$7:$C$46,$A88,'Line Throw Relay Women'!$AH$7:$AH$46))))","v":""},"",""]
["","",{"$f":"IF($A89=\"\",\"\",IF(IF(SUMIF('50m Manikin Carry Women'!$C$7:$C$46,$A89,'50m Manikin Carry Women'!$AC$7:$AC$46)=0,1+MAX('50m Manikin Carry Women'!$AC$7:$AC$46),SUMIF('50m Manikin Carry Women'!$C$7:$C$46,$A89,'50m Manikin Carry Women'!$AC$7:$AC$46))>MAX('50m Manikin Carry Women'!$AC$7:$AC$46)+2,MAX('50m Manikin Carry Women'!$AC$7:$AC$46),IF(SUMIF('50m Manikin Carry Women'!$C$7:$C$46,$A89,'50m Manikin Carry Women'!$AC$7:$AC$46)=0,1+MAX('50m Manikin Carry Women'!$AC$7:$AC$46),SUMIF('50m Manikin Carry Women'!$C$7:$C$46,$A89,'50m Manikin Carry Women'!$AC$7:$AC$46))))","v":""},{"$f":"IF($A89=\"\",\"\",IF(IF(SUMIF('100m Manikin Carry Women'!$C$7:$C$46,$A89,'100m Manikin Carry Women'!$AC$7:$AC$46)=0,1+MAX('100m Manikin Carry Women'!$AC$7:$AC$46),SUMIF('100m Manikin Carry Women'!$C$7:$C$46,$A89,'100m Manikin Carry Women'!$AC$7:$AC$46))>2+MAX('100m Manikin Carry Women'!$AC$7:$AC$46),MAX('100m Manikin Carry Women'!$AC$7:$AC$46),IF(SUMIF('100m Manikin Carry Women'!$C$7:$C$46,$A89,'100m Manikin Carry Women'!$AC$7:$AC$46)=0,1+MAX('100m Manikin Carry Women'!$AC$7:$AC$46),SUMIF('100m Manikin Carry Women'!$C$7:$C$46,$A89,'100m Manikin Carry Women'!$AC$7:$AC$46))))","v":""},{"$f":"IF($A89=\"\",\"\",IF(IF(SUMIF('100m Manikin Tow Women'!$C$7:$C$46,$A89,'100m Manikin Tow Women'!$AC$7:$AC$46)=0,1+MAX('100m Manikin Tow Women'!$AC$7:$AC$46),SUMIF('100m Manikin Tow Women'!$C$7:$C$46,$A89,'100m Manikin Tow Women'!$AC$7:$AC$46))>2+MAX('100m Manikin Tow Women'!$AC$7:$AC$46),MAX('100m Manikin Tow Women'!$AC$7:$AC$46),IF(SUMIF('100m Manikin Tow Women'!$C$7:$C$46,$A89,'100m Manikin Tow Women'!$AC$7:$AC$46)=0,1+MAX('100m Manikin Tow Women'!$AC$7:$AC$46),SUMIF('100m Manikin Tow Women'!$C$7:$C$46,$A89,'100m Manikin Tow Women'!$AC$7:$AC$46))))","v":""},{"$f":"IF($A89=\"\",\"\",IF(IF(SUMIF('200m Obs Women'!$C$7:$C$46,$A89,'200m Obs Women'!$AC$7:$AC$46)=0,1+MAX('200m Obs Women'!$AC$7:$AC$46),SUMIF('200m Obs Women'!$C$7:$C$46,$A89,'200m Obs Women'!$AC$7:$AC$46))>2+MAX('200m Obs Women'!$AC$7:$AC$46),MAX('200m Obs Women'!$AC$7:$AC$46),IF(SUMIF('200m Obs Women'!$C$7:$C$46,$A89,'200m Obs Women'!$AC$7:$AC$46)=0,1+MAX('200m Obs Women'!$AC$7:$AC$46),SUMIF('200m Obs Women'!$C$7:$C$46,$A89,'200m Obs Women'!$AC$7:$AC$46))))","v":""},{"$f":"IF($A89=\"\",\"\",IF(IF(SUMIF('200m Super Women'!$C$7:$C$46,$A89,'200m Super Women'!$AC$7:$AC$46)=0,1+MAX('200m Super Women'!$AC$7:$AC$46),SUMIF('200m Super Women'!$C$7:$C$46,$A89,'200m Super Women'!$AC$7:$AC$46))>2+MAX('200m Super Women'!$AC$7:$AC$46),MAX('200m Super Women'!$AC$7:$AC$46),IF(SUMIF('200m Super Women'!$C$7:$C$46,$A89,'200m Super Women'!$AC$7:$AC$46)=0,1+MAX('200m Super Women'!$AC$7:$AC$46),SUMIF('200m Super Women'!$C$7:$C$46,$A89,'200m Super Women'!$AC$7:$AC$46))))","v":""},{"$f":"IF($A89=\"\",\"\",IF(IF(SUMIF('100 Resue Women'!$C$7:$C$46,$A89,'100 Resue Women'!$AC$7:$AC$46)=0,1+MAX('100 Resue Women'!$AC$7:$AC$46),SUMIF('100 Resue Women'!$C$7:$C$46,$A89,'100 Resue Women'!$AC$7:$AC$46))>2+MAX('100 Resue Women'!$AC$7:$AC$46),MAX('100 Resue Women'!$AC$7:$AC$46),IF(SUMIF('100 Resue Women'!$C$7:$C$46,$A89,'100 Resue Women'!$AC$7:$AC$46)=0,1+MAX('100 Resue Women'!$AC$7:$AC$46),SUMIF('100 Resue Women'!$C$7:$C$46,$A89,'100 Resue Women'!$AC$7:$AC$46))))","v":""},{"$f":"IF($A89=\"\",\"\",IF(IF(SUMIF('Line Throw Women'!$C$7:$C$46,$A89,'Line Throw Women'!$AE$7:$AE$46)=0,MAX('Line Throw Women'!$AE$7:$AE$46),SUMIF('Line Throw Women'!$C$7:$C$46,$A89,'Line Throw Women'!$AE$7:$AE$46))>2+MAX('Line Throw Women'!$AE$7:$AE$46),MAX('Line Throw Women'!$AE$7:$AE$46),IF(SUMIF('Line Throw Women'!$C$7:$C$46,$A89,'Line Throw Women'!$AE$7:$AE$46)=0,1+MAX('Line Throw Women'!$AE$7:$AE$46),SUMIF('Line Throw Women'!$C$7:$C$46,$A89,'Line Throw Women'!$AE$7:$AE$46))))","v":""},{"$f":"IF($A89=\"\",\"\",IF(IF(SUMIF('4 x 50 Obs Relay Women'!$C$7:$C$46,$A89,'4 x 50 Obs Relay Women'!$AH$7:$AH$46)=0,1+MAX('4 x 50 Obs Relay Women'!$AH$7:$AH$46),SUMIF('4 x 50 Obs Relay Women'!$C$7:$C$46,$A89,'4 x 50 Obs Relay Women'!$AH$7:$AH$46))>2+MAX('4 x 50 Obs Relay Women'!$AH$7:$AH$46),MAX('4 x 50 Obs Relay Women'!$AH$7:$AH$46),IF(SUMIF('4 x 50 Obs Relay Women'!$C$7:$C$46,$A89,'4 x 50 Obs Relay Women'!$AH$7:$AH$46)=0,1+MAX('4 x 50 Obs Relay Women'!$AH$7:$AH$46),SUMIF('4 x 50 Obs Relay Women'!$C$7:$C$46,$A89,'4 x 50 Obs Relay Women'!$AH$7:$AH$46))))","v":""},{"$f":"IF($A89=\"\",\"\",IF(IF(SUMIF('4 x 50 medley Relay Women'!$C$7:$C$46,$A89,'4 x 50 medley Relay Women'!$AH$7:$AH$46)=0,1+MAX('4 x 50 medley Relay Women'!$AH$7:$AH$46),SUMIF('4 x 50 medley Relay Women'!$C$7:$C$46,$A89,'4 x 50 medley Relay Women'!$AH$7:$AH$46))>2+MAX('4 x 50 medley Relay Women'!$AH$7:$AH$46),MAX('4 x 50 medley Relay Women'!$AH$7:$AH$46),IF(SUMIF('4 x 50 medley Relay Women'!$C$7:$C$46,$A89,'4 x 50 medley Relay Women'!$AH$7:$AH$46)=0,1+MAX('4 x 50 medley Relay Women'!$AH$7:$AH$46),SUMIF('4 x 50 medley Relay Women'!$C$7:$C$46,$A89,'4 x 50 medley Relay Women'!$AH$7:$AH$46))))","v":""},{"$f":"IF($A89=\"\",\"\",IF(IF(SUMIF('4 x 25 Manikin Carry Women'!$C$7:$C$46,$A89,'4 x 25 Manikin Carry Women'!$AH$7:$AH$46)=0,1+MAX('4 x 25 Manikin Carry Women'!$AH$7:$AH$46),SUMIF('4 x 25 Manikin Carry Women'!$C$7:$C$46,$A89,'4 x 25 Manikin Carry Women'!$AH$7:$AH$46))>2+MAX('4 x 25 Manikin Carry Women'!$AH$7:$AH$46),MAX('4 x 25 Manikin Carry Women'!$AH$7:$AH$46),IF(SUMIF('4 x 25 Manikin Carry Women'!$C$7:$C$46,$A89,'4 x 25 Manikin Carry Women'!$AH$7:$AH$46)=0,1+MAX('4 x 25 Manikin Carry Women'!$AH$7:$AH$46),SUMIF('4 x 25 Manikin Carry Women'!$C$7:$C$46,$A89,'4 x 25 Manikin Carry Women'!$AH$7:$AH$46))))","v":""},{"$f":"IF($A89=\"\",\"\",IF(IF(SUMIF('Line Throw Relay Women'!$C$7:$C$46,$A89,'Line Throw Relay Women'!$AH$7:$AH$46)=0,1+MAX('Line Throw Relay Women'!$AH$7:$AH$46),SUMIF('Line Throw Relay Women'!$C$7:$C$46,$A89,'Line Throw Relay Women'!$AH$7:$AH$46))>2+MAX('Line Throw Relay Women'!$AH$7:$AH$46),MAX('Line Throw Relay Women'!$AH$7:$AH$46),IF(SUMIF('Line Throw Relay Women'!$C$7:$C$46,$A89,'Line Throw Relay Women'!$AH$7:$AH$46)=0,1+MAX('Line Throw Relay Women'!$AH$7:$AH$46),SUMIF('Line Throw Relay Women'!$C$7:$C$46,$A89,'Line Throw Relay Women'!$AH$7:$AH$46))))","v":""},"",""]
["","",{"$f":"IF($A90=\"\",\"\",IF(IF(SUMIF('50m Manikin Carry Women'!$C$7:$C$46,$A90,'50m Manikin Carry Women'!$AC$7:$AC$46)=0,1+MAX('50m Manikin Carry Women'!$AC$7:$AC$46),SUMIF('50m Manikin Carry Women'!$C$7:$C$46,$A90,'50m Manikin Carry Women'!$AC$7:$AC$46))>MAX('50m Manikin Carry Women'!$AC$7:$AC$46)+2,MAX('50m Manikin Carry Women'!$AC$7:$AC$46),IF(SUMIF('50m Manikin Carry Women'!$C$7:$C$46,$A90,'50m Manikin Carry Women'!$AC$7:$AC$46)=0,1+MAX('50m Manikin Carry Women'!$AC$7:$AC$46),SUMIF('50m Manikin Carry Women'!$C$7:$C$46,$A90,'50m Manikin Carry Women'!$AC$7:$AC$46))))","v":""},{"$f":"IF($A90=\"\",\"\",IF(IF(SUMIF('100m Manikin Carry Women'!$C$7:$C$46,$A90,'100m Manikin Carry Women'!$AC$7:$AC$46)=0,1+MAX('100m Manikin Carry Women'!$AC$7:$AC$46),SUMIF('100m Manikin Carry Women'!$C$7:$C$46,$A90,'100m Manikin Carry Women'!$AC$7:$AC$46))>2+MAX('100m Manikin Carry Women'!$AC$7:$AC$46),MAX('100m Manikin Carry Women'!$AC$7:$AC$46),IF(SUMIF('100m Manikin Carry Women'!$C$7:$C$46,$A90,'100m Manikin Carry Women'!$AC$7:$AC$46)=0,1+MAX('100m Manikin Carry Women'!$AC$7:$AC$46),SUMIF('100m Manikin Carry Women'!$C$7:$C$46,$A90,'100m Manikin Carry Women'!$AC$7:$AC$46))))","v":""},{"$f":"IF($A90=\"\",\"\",IF(IF(SUMIF('100m Manikin Tow Women'!$C$7:$C$46,$A90,'100m Manikin Tow Women'!$AC$7:$AC$46)=0,1+MAX('100m Manikin Tow Women'!$AC$7:$AC$46),SUMIF('100m Manikin Tow Women'!$C$7:$C$46,$A90,'100m Manikin Tow Women'!$AC$7:$AC$46))>2+MAX('100m Manikin Tow Women'!$AC$7:$AC$46),MAX('100m Manikin Tow Women'!$AC$7:$AC$46),IF(SUMIF('100m Manikin Tow Women'!$C$7:$C$46,$A90,'100m Manikin Tow Women'!$AC$7:$AC$46)=0,1+MAX('100m Manikin Tow Women'!$AC$7:$AC$46),SUMIF('100m Manikin Tow Women'!$C$7:$C$46,$A90,'100m Manikin Tow Women'!$AC$7:$AC$46))))","v":""},{"$f":"IF($A90=\"\",\"\",IF(IF(SUMIF('200m Obs Women'!$C$7:$C$46,$A90,'200m Obs Women'!$AC$7:$AC$46)=0,1+MAX('200m Obs Women'!$AC$7:$AC$46),SUMIF('200m Obs Women'!$C$7:$C$46,$A90,'200m Obs Women'!$AC$7:$AC$46))>2+MAX('200m Obs Women'!$AC$7:$AC$46),MAX('200m Obs Women'!$AC$7:$AC$46),IF(SUMIF('200m Obs Women'!$C$7:$C$46,$A90,'200m Obs Women'!$AC$7:$AC$46)=0,1+MAX('200m Obs Women'!$AC$7:$AC$46),SUMIF('200m Obs Women'!$C$7:$C$46,$A90,'200m Obs Women'!$AC$7:$AC$46))))","v":""},{"$f":"IF($A90=\"\",\"\",IF(IF(SUMIF('200m Super Women'!$C$7:$C$46,$A90,'200m Super Women'!$AC$7:$AC$46)=0,1+MAX('200m Super Women'!$AC$7:$AC$46),SUMIF('200m Super Women'!$C$7:$C$46,$A90,'200m Super Women'!$AC$7:$AC$46))>2+MAX('200m Super Women'!$AC$7:$AC$46),MAX('200m Super Women'!$AC$7:$AC$46),IF(SUMIF('200m Super Women'!$C$7:$C$46,$A90,'200m Super Women'!$AC$7:$AC$46)=0,1+MAX('200m Super Women'!$AC$7:$AC$46),SUMIF('200m Super Women'!$C$7:$C$46,$A90,'200m Super Women'!$AC$7:$AC$46))))","v":""},{"$f":"IF($A90=\"\",\"\",IF(IF(SUMIF('100 Resue Women'!$C$7:$C$46,$A90,'100 Resue Women'!$AC$7:$AC$46)=0,1+MAX('100 Resue Women'!$AC$7:$AC$46),SUMIF('100 Resue Women'!$C$7:$C$46,$A90,'100 Resue Women'!$AC$7:$AC$46))>2+MAX('100 Resue Women'!$AC$7:$AC$46),MAX('100 Resue Women'!$AC$7:$AC$46),IF(SUMIF('100 Resue Women'!$C$7:$C$46,$A90,'100 Resue Women'!$AC$7:$AC$46)=0,1+MAX('100 Resue Women'!$AC$7:$AC$46),SUMIF('100 Resue Women'!$C$7:$C$46,$A90,'100 Resue Women'!$AC$7:$AC$46))))","v":""},{"$f":"IF($A90=\"\",\"\",IF(IF(SUMIF('Line Throw Women'!$C$7:$C$46,$A90,'Line Throw Women'!$AE$7:$AE$46)=0,MAX('Line Throw Women'!$AE$7:$AE$46),SUMIF('Line Throw Women'!$C$7:$C$46,$A90,'Line Throw Women'!$AE$7:$AE$46))>2+MAX('Line Throw Women'!$AE$7:$AE$46),MAX('Line Throw Women'!$AE$7:$AE$46),IF(SUMIF('Line Throw Women'!$C$7:$C$46,$A90,'Line Throw Women'!$AE$7:$AE$46)=0,1+MAX('Line Throw Women'!$AE$7:$AE$46),SUMIF('Line Throw Women'!$C$7:$C$46,$A90,'Line Throw Women'!$AE$7:$AE$46))))","v":""},{"$f":"IF($A90=\"\",\"\",IF(IF(SUMIF('4 x 50 Obs Relay Women'!$C$7:$C$46,$A90,'4 x 50 Obs Relay Women'!$AH$7:$AH$46)=0,1+MAX('4 x 50 Obs Relay Women'!$AH$7:$AH$46),SUMIF('4 x 50 Obs Relay Women'!$C$7:$C$46,$A90,'4 x 50 Obs Relay Women'!$AH$7:$AH$46))>2+MAX('4 x 50 Obs Relay Women'!$AH$7:$AH$46),MAX('4 x 50 Obs Relay Women'!$AH$7:$AH$46),IF(SUMIF('4 x 50 Obs Relay Women'!$C$7:$C$46,$A90,'4 x 50 Obs Relay Women'!$AH$7:$AH$46)=0,1+MAX('4 x 50 Obs Relay Women'!$AH$7:$AH$46),SUMIF('4 x 50 Obs Relay Women'!$C$7:$C$46,$A90,'4 x 50 Obs Relay Women'!$AH$7:$AH$46))))","v":""},{"$f":"IF($A90=\"\",\"\",IF(IF(SUMIF('4 x 50 medley Relay Women'!$C$7:$C$46,$A90,'4 x 50 medley Relay Women'!$AH$7:$AH$46)=0,1+MAX('4 x 50 medley Relay Women'!$AH$7:$AH$46),SUMIF('4 x 50 medley Relay Women'!$C$7:$C$46,$A90,'4 x 50 medley Relay Women'!$AH$7:$AH$46))>2+MAX('4 x 50 medley Relay Women'!$AH$7:$AH$46),MAX('4 x 50 medley Relay Women'!$AH$7:$AH$46),IF(SUMIF('4 x 50 medley Relay Women'!$C$7:$C$46,$A90,'4 x 50 medley Relay Women'!$AH$7:$AH$46)=0,1+MAX('4 x 50 medley Relay Women'!$AH$7:$AH$46),SUMIF('4 x 50 medley Relay Women'!$C$7:$C$46,$A90,'4 x 50 medley Relay Women'!$AH$7:$AH$46))))","v":""},{"$f":"IF($A90=\"\",\"\",IF(IF(SUMIF('4 x 25 Manikin Carry Women'!$C$7:$C$46,$A90,'4 x 25 Manikin Carry Women'!$AH$7:$AH$46)=0,1+MAX('4 x 25 Manikin Carry Women'!$AH$7:$AH$46),SUMIF('4 x 25 Manikin Carry Women'!$C$7:$C$46,$A90,'4 x 25 Manikin Carry Women'!$AH$7:$AH$46))>2+MAX('4 x 25 Manikin Carry Women'!$AH$7:$AH$46),MAX('4 x 25 Manikin Carry Women'!$AH$7:$AH$46),IF(SUMIF('4 x 25 Manikin Carry Women'!$C$7:$C$46,$A90,'4 x 25 Manikin Carry Women'!$AH$7:$AH$46)=0,1+MAX('4 x 25 Manikin Carry Women'!$AH$7:$AH$46),SUMIF('4 x 25 Manikin Carry Women'!$C$7:$C$46,$A90,'4 x 25 Manikin Carry Women'!$AH$7:$AH$46))))","v":""},{"$f":"IF($A90=\"\",\"\",IF(IF(SUMIF('Line Throw Relay Women'!$C$7:$C$46,$A90,'Line Throw Relay Women'!$AH$7:$AH$46)=0,1+MAX('Line Throw Relay Women'!$AH$7:$AH$46),SUMIF('Line Throw Relay Women'!$C$7:$C$46,$A90,'Line Throw Relay Women'!$AH$7:$AH$46))>2+MAX('Line Throw Relay Women'!$AH$7:$AH$46),MAX('Line Throw Relay Women'!$AH$7:$AH$46),IF(SUMIF('Line Throw Relay Women'!$C$7:$C$46,$A90,'Line Throw Relay Women'!$AH$7:$AH$46)=0,1+MAX('Line Throw Relay Women'!$AH$7:$AH$46),SUMIF('Line Throw Relay Women'!$C$7:$C$46,$A90,'Line Throw Relay Women'!$AH$7:$AH$46))))","v":""},"",""]
["","",{"$f":"IF($A91=\"\",\"\",IF(IF(SUMIF('50m Manikin Carry Women'!$C$7:$C$46,$A91,'50m Manikin Carry Women'!$AC$7:$AC$46)=0,1+MAX('50m Manikin Carry Women'!$AC$7:$AC$46),SUMIF('50m Manikin Carry Women'!$C$7:$C$46,$A91,'50m Manikin Carry Women'!$AC$7:$AC$46))>MAX('50m Manikin Carry Women'!$AC$7:$AC$46)+2,MAX('50m Manikin Carry Women'!$AC$7:$AC$46),IF(SUMIF('50m Manikin Carry Women'!$C$7:$C$46,$A91,'50m Manikin Carry Women'!$AC$7:$AC$46)=0,1+MAX('50m Manikin Carry Women'!$AC$7:$AC$46),SUMIF('50m Manikin Carry Women'!$C$7:$C$46,$A91,'50m Manikin Carry Women'!$AC$7:$AC$46))))","v":""},{"$f":"IF($A91=\"\",\"\",IF(IF(SUMIF('100m Manikin Carry Women'!$C$7:$C$46,$A91,'100m Manikin Carry Women'!$AC$7:$AC$46)=0,1+MAX('100m Manikin Carry Women'!$AC$7:$AC$46),SUMIF('100m Manikin Carry Women'!$C$7:$C$46,$A91,'100m Manikin Carry Women'!$AC$7:$AC$46))>2+MAX('100m Manikin Carry Women'!$AC$7:$AC$46),MAX('100m Manikin Carry Women'!$AC$7:$AC$46),IF(SUMIF('100m Manikin Carry Women'!$C$7:$C$46,$A91,'100m Manikin Carry Women'!$AC$7:$AC$46)=0,1+MAX('100m Manikin Carry Women'!$AC$7:$AC$46),SUMIF('100m Manikin Carry Women'!$C$7:$C$46,$A91,'100m Manikin Carry Women'!$AC$7:$AC$46))))","v":""},{"$f":"IF($A91=\"\",\"\",IF(IF(SUMIF('100m Manikin Tow Women'!$C$7:$C$46,$A91,'100m Manikin Tow Women'!$AC$7:$AC$46)=0,1+MAX('100m Manikin Tow Women'!$AC$7:$AC$46),SUMIF('100m Manikin Tow Women'!$C$7:$C$46,$A91,'100m Manikin Tow Women'!$AC$7:$AC$46))>2+MAX('100m Manikin Tow Women'!$AC$7:$AC$46),MAX('100m Manikin Tow Women'!$AC$7:$AC$46),IF(SUMIF('100m Manikin Tow Women'!$C$7:$C$46,$A91,'100m Manikin Tow Women'!$AC$7:$AC$46)=0,1+MAX('100m Manikin Tow Women'!$AC$7:$AC$46),SUMIF('100m Manikin Tow Women'!$C$7:$C$46,$A91,'100m Manikin Tow Women'!$AC$7:$AC$46))))","v":""},{"$f":"IF($A91=\"\",\"\",IF(IF(SUMIF('200m Obs Women'!$C$7:$C$46,$A91,'200m Obs Women'!$AC$7:$AC$46)=0,1+MAX('200m Obs Women'!$AC$7:$AC$46),SUMIF('200m Obs Women'!$C$7:$C$46,$A91,'200m Obs Women'!$AC$7:$AC$46))>2+MAX('200m Obs Women'!$AC$7:$AC$46),MAX('200m Obs Women'!$AC$7:$AC$46),IF(SUMIF('200m Obs Women'!$C$7:$C$46,$A91,'200m Obs Women'!$AC$7:$AC$46)=0,1+MAX('200m Obs Women'!$AC$7:$AC$46),SUMIF('200m Obs Women'!$C$7:$C$46,$A91,'200m Obs Women'!$AC$7:$AC$46))))","v":""},{"$f":"IF($A91=\"\",\"\",IF(IF(SUMIF('200m Super Women'!$C$7:$C$46,$A91,'200m Super Women'!$AC$7:$AC$46)=0,1+MAX('200m Super Women'!$AC$7:$AC$46),SUMIF('200m Super Women'!$C$7:$C$46,$A91,'200m Super Women'!$AC$7:$AC$46))>2+MAX('200m Super Women'!$AC$7:$AC$46),MAX('200m Super Women'!$AC$7:$AC$46),IF(SUMIF('200m Super Women'!$C$7:$C$46,$A91,'200m Super Women'!$AC$7:$AC$46)=0,1+MAX('200m Super Women'!$AC$7:$AC$46),SUMIF('200m Super Women'!$C$7:$C$46,$A91,'200m Super Women'!$AC$7:$AC$46))))","v":""},{"$f":"IF($A91=\"\",\"\",IF(IF(SUMIF('100 Resue Women'!$C$7:$C$46,$A91,'100 Resue Women'!$AC$7:$AC$46)=0,1+MAX('100 Resue Women'!$AC$7:$AC$46),SUMIF('100 Resue Women'!$C$7:$C$46,$A91,'100 Resue Women'!$AC$7:$AC$46))>2+MAX('100 Resue Women'!$AC$7:$AC$46),MAX('100 Resue Women'!$AC$7:$AC$46),IF(SUMIF('100 Resue Women'!$C$7:$C$46,$A91,'100 Resue Women'!$AC$7:$AC$46)=0,1+MAX('100 Resue Women'!$AC$7:$AC$46),SUMIF('100 Resue Women'!$C$7:$C$46,$A91,'100 Resue Women'!$AC$7:$AC$46))))","v":""},{"$f":"IF($A91=\"\",\"\",IF(IF(SUMIF('Line Throw Women'!$C$7:$C$46,$A91,'Line Throw Women'!$AE$7:$AE$46)=0,MAX('Line Throw Women'!$AE$7:$AE$46),SUMIF('Line Throw Women'!$C$7:$C$46,$A91,'Line Throw Women'!$AE$7:$AE$46))>2+MAX('Line Throw Women'!$AE$7:$AE$46),MAX('Line Throw Women'!$AE$7:$AE$46),IF(SUMIF('Line Throw Women'!$C$7:$C$46,$A91,'Line Throw Women'!$AE$7:$AE$46)=0,1+MAX('Line Throw Women'!$AE$7:$AE$46),SUMIF('Line Throw Women'!$C$7:$C$46,$A91,'Line Throw Women'!$AE$7:$AE$46))))","v":""},{"$f":"IF($A91=\"\",\"\",IF(IF(SUMIF('4 x 50 Obs Relay Women'!$C$7:$C$46,$A91,'4 x 50 Obs Relay Women'!$AH$7:$AH$46)=0,1+MAX('4 x 50 Obs Relay Women'!$AH$7:$AH$46),SUMIF('4 x 50 Obs Relay Women'!$C$7:$C$46,$A91,'4 x 50 Obs Relay Women'!$AH$7:$AH$46))>2+MAX('4 x 50 Obs Relay Women'!$AH$7:$AH$46),MAX('4 x 50 Obs Relay Women'!$AH$7:$AH$46),IF(SUMIF('4 x 50 Obs Relay Women'!$C$7:$C$46,$A91,'4 x 50 Obs Relay Women'!$AH$7:$AH$46)=0,1+MAX('4 x 50 Obs Relay Women'!$AH$7:$AH$46),SUMIF('4 x 50 Obs Relay Women'!$C$7:$C$46,$A91,'4 x 50 Obs Relay Women'!$AH$7:$AH$46))))","v":""},{"$f":"IF($A91=\"\",\"\",IF(IF(SUMIF('4 x 50 medley Relay Women'!$C$7:$C$46,$A91,'4 x 50 medley Relay Women'!$AH$7:$AH$46)=0,1+MAX('4 x 50 medley Relay Women'!$AH$7:$AH$46),SUMIF('4 x 50 medley Relay Women'!$C$7:$C$46,$A91,'4 x 50 medley Relay Women'!$AH$7:$AH$46))>2+MAX('4 x 50 medley Relay Women'!$AH$7:$AH$46),MAX('4 x 50 medley Relay Women'!$AH$7:$AH$46),IF(SUMIF('4 x 50 medley Relay Women'!$C$7:$C$46,$A91,'4 x 50 medley Relay Women'!$AH$7:$AH$46)=0,1+MAX('4 x 50 medley Relay Women'!$AH$7:$AH$46),SUMIF('4 x 50 medley Relay Women'!$C$7:$C$46,$A91,'4 x 50 medley Relay Women'!$AH$7:$AH$46))))","v":""},{"$f":"IF($A91=\"\",\"\",IF(IF(SUMIF('4 x 25 Manikin Carry Women'!$C$7:$C$46,$A91,'4 x 25 Manikin Carry Women'!$AH$7:$AH$46)=0,1+MAX('4 x 25 Manikin Carry Women'!$AH$7:$AH$46),SUMIF('4 x 25 Manikin Carry Women'!$C$7:$C$46,$A91,'4 x 25 Manikin Carry Women'!$AH$7:$AH$46))>2+MAX('4 x 25 Manikin Carry Women'!$AH$7:$AH$46),MAX('4 x 25 Manikin Carry Women'!$AH$7:$AH$46),IF(SUMIF('4 x 25 Manikin Carry Women'!$C$7:$C$46,$A91,'4 x 25 Manikin Carry Women'!$AH$7:$AH$46)=0,1+MAX('4 x 25 Manikin Carry Women'!$AH$7:$AH$46),SUMIF('4 x 25 Manikin Carry Women'!$C$7:$C$46,$A91,'4 x 25 Manikin Carry Women'!$AH$7:$AH$46))))","v":""},{"$f":"IF($A91=\"\",\"\",IF(IF(SUMIF('Line Throw Relay Women'!$C$7:$C$46,$A91,'Line Throw Relay Women'!$AH$7:$AH$46)=0,1+MAX('Line Throw Relay Women'!$AH$7:$AH$46),SUMIF('Line Throw Relay Women'!$C$7:$C$46,$A91,'Line Throw Relay Women'!$AH$7:$AH$46))>2+MAX('Line Throw Relay Women'!$AH$7:$AH$46),MAX('Line Throw Relay Women'!$AH$7:$AH$46),IF(SUMIF('Line Throw Relay Women'!$C$7:$C$46,$A91,'Line Throw Relay Women'!$AH$7:$AH$46)=0,1+MAX('Line Throw Relay Women'!$AH$7:$AH$46),SUMIF('Line Throw Relay Women'!$C$7:$C$46,$A91,'Line Throw Relay Women'!$AH$7:$AH$46))))","v":""},"",""]
["","",{"$f":"IF($A92=\"\",\"\",IF(IF(SUMIF('50m Manikin Carry Women'!$C$7:$C$46,$A92,'50m Manikin Carry Women'!$AC$7:$AC$46)=0,1+MAX('50m Manikin Carry Women'!$AC$7:$AC$46),SUMIF('50m Manikin Carry Women'!$C$7:$C$46,$A92,'50m Manikin Carry Women'!$AC$7:$AC$46))>MAX('50m Manikin Carry Women'!$AC$7:$AC$46)+2,MAX('50m Manikin Carry Women'!$AC$7:$AC$46),IF(SUMIF('50m Manikin Carry Women'!$C$7:$C$46,$A92,'50m Manikin Carry Women'!$AC$7:$AC$46)=0,1+MAX('50m Manikin Carry Women'!$AC$7:$AC$46),SUMIF('50m Manikin Carry Women'!$C$7:$C$46,$A92,'50m Manikin Carry Women'!$AC$7:$AC$46))))","v":""},{"$f":"IF($A92=\"\",\"\",IF(IF(SUMIF('100m Manikin Carry Women'!$C$7:$C$46,$A92,'100m Manikin Carry Women'!$AC$7:$AC$46)=0,1+MAX('100m Manikin Carry Women'!$AC$7:$AC$46),SUMIF('100m Manikin Carry Women'!$C$7:$C$46,$A92,'100m Manikin Carry Women'!$AC$7:$AC$46))>2+MAX('100m Manikin Carry Women'!$AC$7:$AC$46),MAX('100m Manikin Carry Women'!$AC$7:$AC$46),IF(SUMIF('100m Manikin Carry Women'!$C$7:$C$46,$A92,'100m Manikin Carry Women'!$AC$7:$AC$46)=0,1+MAX('100m Manikin Carry Women'!$AC$7:$AC$46),SUMIF('100m Manikin Carry Women'!$C$7:$C$46,$A92,'100m Manikin Carry Women'!$AC$7:$AC$46))))","v":""},{"$f":"IF($A92=\"\",\"\",IF(IF(SUMIF('100m Manikin Tow Women'!$C$7:$C$46,$A92,'100m Manikin Tow Women'!$AC$7:$AC$46)=0,1+MAX('100m Manikin Tow Women'!$AC$7:$AC$46),SUMIF('100m Manikin Tow Women'!$C$7:$C$46,$A92,'100m Manikin Tow Women'!$AC$7:$AC$46))>2+MAX('100m Manikin Tow Women'!$AC$7:$AC$46),MAX('100m Manikin Tow Women'!$AC$7:$AC$46),IF(SUMIF('100m Manikin Tow Women'!$C$7:$C$46,$A92,'100m Manikin Tow Women'!$AC$7:$AC$46)=0,1+MAX('100m Manikin Tow Women'!$AC$7:$AC$46),SUMIF('100m Manikin Tow Women'!$C$7:$C$46,$A92,'100m Manikin Tow Women'!$AC$7:$AC$46))))","v":""},{"$f":"IF($A92=\"\",\"\",IF(IF(SUMIF('200m Obs Women'!$C$7:$C$46,$A92,'200m Obs Women'!$AC$7:$AC$46)=0,1+MAX('200m Obs Women'!$AC$7:$AC$46),SUMIF('200m Obs Women'!$C$7:$C$46,$A92,'200m Obs Women'!$AC$7:$AC$46))>2+MAX('200m Obs Women'!$AC$7:$AC$46),MAX('200m Obs Women'!$AC$7:$AC$46),IF(SUMIF('200m Obs Women'!$C$7:$C$46,$A92,'200m Obs Women'!$AC$7:$AC$46)=0,1+MAX('200m Obs Women'!$AC$7:$AC$46),SUMIF('200m Obs Women'!$C$7:$C$46,$A92,'200m Obs Women'!$AC$7:$AC$46))))","v":""},{"$f":"IF($A92=\"\",\"\",IF(IF(SUMIF('200m Super Women'!$C$7:$C$46,$A92,'200m Super Women'!$AC$7:$AC$46)=0,1+MAX('200m Super Women'!$AC$7:$AC$46),SUMIF('200m Super Women'!$C$7:$C$46,$A92,'200m Super Women'!$AC$7:$AC$46))>2+MAX('200m Super Women'!$AC$7:$AC$46),MAX('200m Super Women'!$AC$7:$AC$46),IF(SUMIF('200m Super Women'!$C$7:$C$46,$A92,'200m Super Women'!$AC$7:$AC$46)=0,1+MAX('200m Super Women'!$AC$7:$AC$46),SUMIF('200m Super Women'!$C$7:$C$46,$A92,'200m Super Women'!$AC$7:$AC$46))))","v":""},{"$f":"IF($A92=\"\",\"\",IF(IF(SUMIF('100 Resue Women'!$C$7:$C$46,$A92,'100 Resue Women'!$AC$7:$AC$46)=0,1+MAX('100 Resue Women'!$AC$7:$AC$46),SUMIF('100 Resue Women'!$C$7:$C$46,$A92,'100 Resue Women'!$AC$7:$AC$46))>2+MAX('100 Resue Women'!$AC$7:$AC$46),MAX('100 Resue Women'!$AC$7:$AC$46),IF(SUMIF('100 Resue Women'!$C$7:$C$46,$A92,'100 Resue Women'!$AC$7:$AC$46)=0,1+MAX('100 Resue Women'!$AC$7:$AC$46),SUMIF('100 Resue Women'!$C$7:$C$46,$A92,'100 Resue Women'!$AC$7:$AC$46))))","v":""},{"$f":"IF($A92=\"\",\"\",IF(IF(SUMIF('Line Throw Women'!$C$7:$C$46,$A92,'Line Throw Women'!$AE$7:$AE$46)=0,MAX('Line Throw Women'!$AE$7:$AE$46),SUMIF('Line Throw Women'!$C$7:$C$46,$A92,'Line Throw Women'!$AE$7:$AE$46))>2+MAX('Line Throw Women'!$AE$7:$AE$46),MAX('Line Throw Women'!$AE$7:$AE$46),IF(SUMIF('Line Throw Women'!$C$7:$C$46,$A92,'Line Throw Women'!$AE$7:$AE$46)=0,1+MAX('Line Throw Women'!$AE$7:$AE$46),SUMIF('Line Throw Women'!$C$7:$C$46,$A92,'Line Throw Women'!$AE$7:$AE$46))))","v":""},{"$f":"IF($A92=\"\",\"\",IF(IF(SUMIF('4 x 50 Obs Relay Women'!$C$7:$C$46,$A92,'4 x 50 Obs Relay Women'!$AH$7:$AH$46)=0,1+MAX('4 x 50 Obs Relay Women'!$AH$7:$AH$46),SUMIF('4 x 50 Obs Relay Women'!$C$7:$C$46,$A92,'4 x 50 Obs Relay Women'!$AH$7:$AH$46))>2+MAX('4 x 50 Obs Relay Women'!$AH$7:$AH$46),MAX('4 x 50 Obs Relay Women'!$AH$7:$AH$46),IF(SUMIF('4 x 50 Obs Relay Women'!$C$7:$C$46,$A92,'4 x 50 Obs Relay Women'!$AH$7:$AH$46)=0,1+MAX('4 x 50 Obs Relay Women'!$AH$7:$AH$46),SUMIF('4 x 50 Obs Relay Women'!$C$7:$C$46,$A92,'4 x 50 Obs Relay Women'!$AH$7:$AH$46))))","v":""},{"$f":"IF($A92=\"\",\"\",IF(IF(SUMIF('4 x 50 medley Relay Women'!$C$7:$C$46,$A92,'4 x 50 medley Relay Women'!$AH$7:$AH$46)=0,1+MAX('4 x 50 medley Relay Women'!$AH$7:$AH$46),SUMIF('4 x 50 medley Relay Women'!$C$7:$C$46,$A92,'4 x 50 medley Relay Women'!$AH$7:$AH$46))>2+MAX('4 x 50 medley Relay Women'!$AH$7:$AH$46),MAX('4 x 50 medley Relay Women'!$AH$7:$AH$46),IF(SUMIF('4 x 50 medley Relay Women'!$C$7:$C$46,$A92,'4 x 50 medley Relay Women'!$AH$7:$AH$46)=0,1+MAX('4 x 50 medley Relay Women'!$AH$7:$AH$46),SUMIF('4 x 50 medley Relay Women'!$C$7:$C$46,$A92,'4 x 50 medley Relay Women'!$AH$7:$AH$46))))","v":""},{"$f":"IF($A92=\"\",\"\",IF(IF(SUMIF('4 x 25 Manikin Carry Women'!$C$7:$C$46,$A92,'4 x 25 Manikin Carry Women'!$AH$7:$AH$46)=0,1+MAX('4 x 25 Manikin Carry Women'!$AH$7:$AH$46),SUMIF('4 x 25 Manikin Carry Women'!$C$7:$C$46,$A92,'4 x 25 Manikin Carry Women'!$AH$7:$AH$46))>2+MAX('4 x 25 Manikin Carry Women'!$AH$7:$AH$46),MAX('4 x 25 Manikin Carry Women'!$AH$7:$AH$46),IF(SUMIF('4 x 25 Manikin Carry Women'!$C$7:$C$46,$A92,'4 x 25 Manikin Carry Women'!$AH$7:$AH$46)=0,1+MAX('4 x 25 Manikin Carry Women'!$AH$7:$AH$46),SUMIF('4 x 25 Manikin Carry Women'!$C$7:$C$46,$A92,'4 x 25 Manikin Carry Women'!$AH$7:$AH$46))))","v":""},{"$f":"IF($A92=\"\",\"\",IF(IF(SUMIF('Line Throw Relay Women'!$C$7:$C$46,$A92,'Line Throw Relay Women'!$AH$7:$AH$46)=0,1+MAX('Line Throw Relay Women'!$AH$7:$AH$46),SUMIF('Line Throw Relay Women'!$C$7:$C$46,$A92,'Line Throw Relay Women'!$AH$7:$AH$46))>2+MAX('Line Throw Relay Women'!$AH$7:$AH$46),MAX('Line Throw Relay Women'!$AH$7:$AH$46),IF(SUMIF('Line Throw Relay Women'!$C$7:$C$46,$A92,'Line Throw Relay Women'!$AH$7:$AH$46)=0,1+MAX('Line Throw Relay Women'!$AH$7:$AH$46),SUMIF('Line Throw Relay Women'!$C$7:$C$46,$A92,'Line Throw Relay Women'!$AH$7:$AH$46))))","v":""},"",""]
["","",{"$f":"IF($A93=\"\",\"\",IF(IF(SUMIF('50m Manikin Carry Women'!$C$7:$C$46,$A93,'50m Manikin Carry Women'!$AC$7:$AC$46)=0,1+MAX('50m Manikin Carry Women'!$AC$7:$AC$46),SUMIF('50m Manikin Carry Women'!$C$7:$C$46,$A93,'50m Manikin Carry Women'!$AC$7:$AC$46))>MAX('50m Manikin Carry Women'!$AC$7:$AC$46)+2,MAX('50m Manikin Carry Women'!$AC$7:$AC$46),IF(SUMIF('50m Manikin Carry Women'!$C$7:$C$46,$A93,'50m Manikin Carry Women'!$AC$7:$AC$46)=0,1+MAX('50m Manikin Carry Women'!$AC$7:$AC$46),SUMIF('50m Manikin Carry Women'!$C$7:$C$46,$A93,'50m Manikin Carry Women'!$AC$7:$AC$46))))","v":""},{"$f":"IF($A93=\"\",\"\",IF(IF(SUMIF('100m Manikin Carry Women'!$C$7:$C$46,$A93,'100m Manikin Carry Women'!$AC$7:$AC$46)=0,1+MAX('100m Manikin Carry Women'!$AC$7:$AC$46),SUMIF('100m Manikin Carry Women'!$C$7:$C$46,$A93,'100m Manikin Carry Women'!$AC$7:$AC$46))>2+MAX('100m Manikin Carry Women'!$AC$7:$AC$46),MAX('100m Manikin Carry Women'!$AC$7:$AC$46),IF(SUMIF('100m Manikin Carry Women'!$C$7:$C$46,$A93,'100m Manikin Carry Women'!$AC$7:$AC$46)=0,1+MAX('100m Manikin Carry Women'!$AC$7:$AC$46),SUMIF('100m Manikin Carry Women'!$C$7:$C$46,$A93,'100m Manikin Carry Women'!$AC$7:$AC$46))))","v":""},{"$f":"IF($A93=\"\",\"\",IF(IF(SUMIF('100m Manikin Tow Women'!$C$7:$C$46,$A93,'100m Manikin Tow Women'!$AC$7:$AC$46)=0,1+MAX('100m Manikin Tow Women'!$AC$7:$AC$46),SUMIF('100m Manikin Tow Women'!$C$7:$C$46,$A93,'100m Manikin Tow Women'!$AC$7:$AC$46))>2+MAX('100m Manikin Tow Women'!$AC$7:$AC$46),MAX('100m Manikin Tow Women'!$AC$7:$AC$46),IF(SUMIF('100m Manikin Tow Women'!$C$7:$C$46,$A93,'100m Manikin Tow Women'!$AC$7:$AC$46)=0,1+MAX('100m Manikin Tow Women'!$AC$7:$AC$46),SUMIF('100m Manikin Tow Women'!$C$7:$C$46,$A93,'100m Manikin Tow Women'!$AC$7:$AC$46))))","v":""},{"$f":"IF($A93=\"\",\"\",IF(IF(SUMIF('200m Obs Women'!$C$7:$C$46,$A93,'200m Obs Women'!$AC$7:$AC$46)=0,1+MAX('200m Obs Women'!$AC$7:$AC$46),SUMIF('200m Obs Women'!$C$7:$C$46,$A93,'200m Obs Women'!$AC$7:$AC$46))>2+MAX('200m Obs Women'!$AC$7:$AC$46),MAX('200m Obs Women'!$AC$7:$AC$46),IF(SUMIF('200m Obs Women'!$C$7:$C$46,$A93,'200m Obs Women'!$AC$7:$AC$46)=0,1+MAX('200m Obs Women'!$AC$7:$AC$46),SUMIF('200m Obs Women'!$C$7:$C$46,$A93,'200m Obs Women'!$AC$7:$AC$46))))","v":""},{"$f":"IF($A93=\"\",\"\",IF(IF(SUMIF('200m Super Women'!$C$7:$C$46,$A93,'200m Super Women'!$AC$7:$AC$46)=0,1+MAX('200m Super Women'!$AC$7:$AC$46),SUMIF('200m Super Women'!$C$7:$C$46,$A93,'200m Super Women'!$AC$7:$AC$46))>2+MAX('200m Super Women'!$AC$7:$AC$46),MAX('200m Super Women'!$AC$7:$AC$46),IF(SUMIF('200m Super Women'!$C$7:$C$46,$A93,'200m Super Women'!$AC$7:$AC$46)=0,1+MAX('200m Super Women'!$AC$7:$AC$46),SUMIF('200m Super Women'!$C$7:$C$46,$A93,'200m Super Women'!$AC$7:$AC$46))))","v":""},{"$f":"IF($A93=\"\",\"\",IF(IF(SUMIF('100 Resue Women'!$C$7:$C$46,$A93,'100 Resue Women'!$AC$7:$AC$46)=0,1+MAX('100 Resue Women'!$AC$7:$AC$46),SUMIF('100 Resue Women'!$C$7:$C$46,$A93,'100 Resue Women'!$AC$7:$AC$46))>2+MAX('100 Resue Women'!$AC$7:$AC$46),MAX('100 Resue Women'!$AC$7:$AC$46),IF(SUMIF('100 Resue Women'!$C$7:$C$46,$A93,'100 Resue Women'!$AC$7:$AC$46)=0,1+MAX('100 Resue Women'!$AC$7:$AC$46),SUMIF('100 Resue Women'!$C$7:$C$46,$A93,'100 Resue Women'!$AC$7:$AC$46))))","v":""},{"$f":"IF($A93=\"\",\"\",IF(IF(SUMIF('Line Throw Women'!$C$7:$C$46,$A93,'Line Throw Women'!$AE$7:$AE$46)=0,MAX('Line Throw Women'!$AE$7:$AE$46),SUMIF('Line Throw Women'!$C$7:$C$46,$A93,'Line Throw Women'!$AE$7:$AE$46))>2+MAX('Line Throw Women'!$AE$7:$AE$46),MAX('Line Throw Women'!$AE$7:$AE$46),IF(SUMIF('Line Throw Women'!$C$7:$C$46,$A93,'Line Throw Women'!$AE$7:$AE$46)=0,1+MAX('Line Throw Women'!$AE$7:$AE$46),SUMIF('Line Throw Women'!$C$7:$C$46,$A93,'Line Throw Women'!$AE$7:$AE$46))))","v":""},{"$f":"IF($A93=\"\",\"\",IF(IF(SUMIF('4 x 50 Obs Relay Women'!$C$7:$C$46,$A93,'4 x 50 Obs Relay Women'!$AH$7:$AH$46)=0,1+MAX('4 x 50 Obs Relay Women'!$AH$7:$AH$46),SUMIF('4 x 50 Obs Relay Women'!$C$7:$C$46,$A93,'4 x 50 Obs Relay Women'!$AH$7:$AH$46))>2+MAX('4 x 50 Obs Relay Women'!$AH$7:$AH$46),MAX('4 x 50 Obs Relay Women'!$AH$7:$AH$46),IF(SUMIF('4 x 50 Obs Relay Women'!$C$7:$C$46,$A93,'4 x 50 Obs Relay Women'!$AH$7:$AH$46)=0,1+MAX('4 x 50 Obs Relay Women'!$AH$7:$AH$46),SUMIF('4 x 50 Obs Relay Women'!$C$7:$C$46,$A93,'4 x 50 Obs Relay Women'!$AH$7:$AH$46))))","v":""},{"$f":"IF($A93=\"\",\"\",IF(IF(SUMIF('4 x 50 medley Relay Women'!$C$7:$C$46,$A93,'4 x 50 medley Relay Women'!$AH$7:$AH$46)=0,1+MAX('4 x 50 medley Relay Women'!$AH$7:$AH$46),SUMIF('4 x 50 medley Relay Women'!$C$7:$C$46,$A93,'4 x 50 medley Relay Women'!$AH$7:$AH$46))>2+MAX('4 x 50 medley Relay Women'!$AH$7:$AH$46),MAX('4 x 50 medley Relay Women'!$AH$7:$AH$46),IF(SUMIF('4 x 50 medley Relay Women'!$C$7:$C$46,$A93,'4 x 50 medley Relay Women'!$AH$7:$AH$46)=0,1+MAX('4 x 50 medley Relay Women'!$AH$7:$AH$46),SUMIF('4 x 50 medley Relay Women'!$C$7:$C$46,$A93,'4 x 50 medley Relay Women'!$AH$7:$AH$46))))","v":""},{"$f":"IF($A93=\"\",\"\",IF(IF(SUMIF('4 x 25 Manikin Carry Women'!$C$7:$C$46,$A93,'4 x 25 Manikin Carry Women'!$AH$7:$AH$46)=0,1+MAX('4 x 25 Manikin Carry Women'!$AH$7:$AH$46),SUMIF('4 x 25 Manikin Carry Women'!$C$7:$C$46,$A93,'4 x 25 Manikin Carry Women'!$AH$7:$AH$46))>2+MAX('4 x 25 Manikin Carry Women'!$AH$7:$AH$46),MAX('4 x 25 Manikin Carry Women'!$AH$7:$AH$46),IF(SUMIF('4 x 25 Manikin Carry Women'!$C$7:$C$46,$A93,'4 x 25 Manikin Carry Women'!$AH$7:$AH$46)=0,1+MAX('4 x 25 Manikin Carry Women'!$AH$7:$AH$46),SUMIF('4 x 25 Manikin Carry Women'!$C$7:$C$46,$A93,'4 x 25 Manikin Carry Women'!$AH$7:$AH$46))))","v":""},{"$f":"IF($A93=\"\",\"\",IF(IF(SUMIF('Line Throw Relay Women'!$C$7:$C$46,$A93,'Line Throw Relay Women'!$AH$7:$AH$46)=0,1+MAX('Line Throw Relay Women'!$AH$7:$AH$46),SUMIF('Line Throw Relay Women'!$C$7:$C$46,$A93,'Line Throw Relay Women'!$AH$7:$AH$46))>2+MAX('Line Throw Relay Women'!$AH$7:$AH$46),MAX('Line Throw Relay Women'!$AH$7:$AH$46),IF(SUMIF('Line Throw Relay Women'!$C$7:$C$46,$A93,'Line Throw Relay Women'!$AH$7:$AH$46)=0,1+MAX('Line Throw Relay Women'!$AH$7:$AH$46),SUMIF('Line Throw Relay Women'!$C$7:$C$46,$A93,'Line Throw Relay Women'!$AH$7:$AH$46))))","v":""},"",""]
["","",{"$f":"IF($A94=\"\",\"\",IF(IF(SUMIF('50m Manikin Carry Women'!$C$7:$C$46,$A94,'50m Manikin Carry Women'!$AC$7:$AC$46)=0,1+MAX('50m Manikin Carry Women'!$AC$7:$AC$46),SUMIF('50m Manikin Carry Women'!$C$7:$C$46,$A94,'50m Manikin Carry Women'!$AC$7:$AC$46))>MAX('50m Manikin Carry Women'!$AC$7:$AC$46)+2,MAX('50m Manikin Carry Women'!$AC$7:$AC$46),IF(SUMIF('50m Manikin Carry Women'!$C$7:$C$46,$A94,'50m Manikin Carry Women'!$AC$7:$AC$46)=0,1+MAX('50m Manikin Carry Women'!$AC$7:$AC$46),SUMIF('50m Manikin Carry Women'!$C$7:$C$46,$A94,'50m Manikin Carry Women'!$AC$7:$AC$46))))","v":""},{"$f":"IF($A94=\"\",\"\",IF(IF(SUMIF('100m Manikin Carry Women'!$C$7:$C$46,$A94,'100m Manikin Carry Women'!$AC$7:$AC$46)=0,1+MAX('100m Manikin Carry Women'!$AC$7:$AC$46),SUMIF('100m Manikin Carry Women'!$C$7:$C$46,$A94,'100m Manikin Carry Women'!$AC$7:$AC$46))>2+MAX('100m Manikin Carry Women'!$AC$7:$AC$46),MAX('100m Manikin Carry Women'!$AC$7:$AC$46),IF(SUMIF('100m Manikin Carry Women'!$C$7:$C$46,$A94,'100m Manikin Carry Women'!$AC$7:$AC$46)=0,1+MAX('100m Manikin Carry Women'!$AC$7:$AC$46),SUMIF('100m Manikin Carry Women'!$C$7:$C$46,$A94,'100m Manikin Carry Women'!$AC$7:$AC$46))))","v":""},{"$f":"IF($A94=\"\",\"\",IF(IF(SUMIF('100m Manikin Tow Women'!$C$7:$C$46,$A94,'100m Manikin Tow Women'!$AC$7:$AC$46)=0,1+MAX('100m Manikin Tow Women'!$AC$7:$AC$46),SUMIF('100m Manikin Tow Women'!$C$7:$C$46,$A94,'100m Manikin Tow Women'!$AC$7:$AC$46))>2+MAX('100m Manikin Tow Women'!$AC$7:$AC$46),MAX('100m Manikin Tow Women'!$AC$7:$AC$46),IF(SUMIF('100m Manikin Tow Women'!$C$7:$C$46,$A94,'100m Manikin Tow Women'!$AC$7:$AC$46)=0,1+MAX('100m Manikin Tow Women'!$AC$7:$AC$46),SUMIF('100m Manikin Tow Women'!$C$7:$C$46,$A94,'100m Manikin Tow Women'!$AC$7:$AC$46))))","v":""},{"$f":"IF($A94=\"\",\"\",IF(IF(SUMIF('200m Obs Women'!$C$7:$C$46,$A94,'200m Obs Women'!$AC$7:$AC$46)=0,1+MAX('200m Obs Women'!$AC$7:$AC$46),SUMIF('200m Obs Women'!$C$7:$C$46,$A94,'200m Obs Women'!$AC$7:$AC$46))>2+MAX('200m Obs Women'!$AC$7:$AC$46),MAX('200m Obs Women'!$AC$7:$AC$46),IF(SUMIF('200m Obs Women'!$C$7:$C$46,$A94,'200m Obs Women'!$AC$7:$AC$46)=0,1+MAX('200m Obs Women'!$AC$7:$AC$46),SUMIF('200m Obs Women'!$C$7:$C$46,$A94,'200m Obs Women'!$AC$7:$AC$46))))","v":""},{"$f":"IF($A94=\"\",\"\",IF(IF(SUMIF('200m Super Women'!$C$7:$C$46,$A94,'200m Super Women'!$AC$7:$AC$46)=0,1+MAX('200m Super Women'!$AC$7:$AC$46),SUMIF('200m Super Women'!$C$7:$C$46,$A94,'200m Super Women'!$AC$7:$AC$46))>2+MAX('200m Super Women'!$AC$7:$AC$46),MAX('200m Super Women'!$AC$7:$AC$46),IF(SUMIF('200m Super Women'!$C$7:$C$46,$A94,'200m Super Women'!$AC$7:$AC$46)=0,1+MAX('200m Super Women'!$AC$7:$AC$46),SUMIF('200m Super Women'!$C$7:$C$46,$A94,'200m Super Women'!$AC$7:$AC$46))))","v":""},{"$f":"IF($A94=\"\",\"\",IF(IF(SUMIF('100 Resue Women'!$C$7:$C$46,$A94,'100 Resue Women'!$AC$7:$AC$46)=0,1+MAX('100 Resue Women'!$AC$7:$AC$46),SUMIF('100 Resue Women'!$C$7:$C$46,$A94,'100 Resue Women'!$AC$7:$AC$46))>2+MAX('100 Resue Women'!$AC$7:$AC$46),MAX('100 Resue Women'!$AC$7:$AC$46),IF(SUMIF('100 Resue Women'!$C$7:$C$46,$A94,'100 Resue Women'!$AC$7:$AC$46)=0,1+MAX('100 Resue Women'!$AC$7:$AC$46),SUMIF('100 Resue Women'!$C$7:$C$46,$A94,'100 Resue Women'!$AC$7:$AC$46))))","v":""},{"$f":"IF($A94=\"\",\"\",IF(IF(SUMIF('Line Throw Women'!$C$7:$C$46,$A94,'Line Throw Women'!$AE$7:$AE$46)=0,MAX('Line Throw Women'!$AE$7:$AE$46),SUMIF('Line Throw Women'!$C$7:$C$46,$A94,'Line Throw Women'!$AE$7:$AE$46))>2+MAX('Line Throw Women'!$AE$7:$AE$46),MAX('Line Throw Women'!$AE$7:$AE$46),IF(SUMIF('Line Throw Women'!$C$7:$C$46,$A94,'Line Throw Women'!$AE$7:$AE$46)=0,1+MAX('Line Throw Women'!$AE$7:$AE$46),SUMIF('Line Throw Women'!$C$7:$C$46,$A94,'Line Throw Women'!$AE$7:$AE$46))))","v":""},{"$f":"IF($A94=\"\",\"\",IF(IF(SUMIF('4 x 50 Obs Relay Women'!$C$7:$C$46,$A94,'4 x 50 Obs Relay Women'!$AH$7:$AH$46)=0,1+MAX('4 x 50 Obs Relay Women'!$AH$7:$AH$46),SUMIF('4 x 50 Obs Relay Women'!$C$7:$C$46,$A94,'4 x 50 Obs Relay Women'!$AH$7:$AH$46))>2+MAX('4 x 50 Obs Relay Women'!$AH$7:$AH$46),MAX('4 x 50 Obs Relay Women'!$AH$7:$AH$46),IF(SUMIF('4 x 50 Obs Relay Women'!$C$7:$C$46,$A94,'4 x 50 Obs Relay Women'!$AH$7:$AH$46)=0,1+MAX('4 x 50 Obs Relay Women'!$AH$7:$AH$46),SUMIF('4 x 50 Obs Relay Women'!$C$7:$C$46,$A94,'4 x 50 Obs Relay Women'!$AH$7:$AH$46))))","v":""},{"$f":"IF($A94=\"\",\"\",IF(IF(SUMIF('4 x 50 medley Relay Women'!$C$7:$C$46,$A94,'4 x 50 medley Relay Women'!$AH$7:$AH$46)=0,1+MAX('4 x 50 medley Relay Women'!$AH$7:$AH$46),SUMIF('4 x 50 medley Relay Women'!$C$7:$C$46,$A94,'4 x 50 medley Relay Women'!$AH$7:$AH$46))>2+MAX('4 x 50 medley Relay Women'!$AH$7:$AH$46),MAX('4 x 50 medley Relay Women'!$AH$7:$AH$46),IF(SUMIF('4 x 50 medley Relay Women'!$C$7:$C$46,$A94,'4 x 50 medley Relay Women'!$AH$7:$AH$46)=0,1+MAX('4 x 50 medley Relay Women'!$AH$7:$AH$46),SUMIF('4 x 50 medley Relay Women'!$C$7:$C$46,$A94,'4 x 50 medley Relay Women'!$AH$7:$AH$46))))","v":""},{"$f":"IF($A94=\"\",\"\",IF(IF(SUMIF('4 x 25 Manikin Carry Women'!$C$7:$C$46,$A94,'4 x 25 Manikin Carry Women'!$AH$7:$AH$46)=0,1+MAX('4 x 25 Manikin Carry Women'!$AH$7:$AH$46),SUMIF('4 x 25 Manikin Carry Women'!$C$7:$C$46,$A94,'4 x 25 Manikin Carry Women'!$AH$7:$AH$46))>2+MAX('4 x 25 Manikin Carry Women'!$AH$7:$AH$46),MAX('4 x 25 Manikin Carry Women'!$AH$7:$AH$46),IF(SUMIF('4 x 25 Manikin Carry Women'!$C$7:$C$46,$A94,'4 x 25 Manikin Carry Women'!$AH$7:$AH$46)=0,1+MAX('4 x 25 Manikin Carry Women'!$AH$7:$AH$46),SUMIF('4 x 25 Manikin Carry Women'!$C$7:$C$46,$A94,'4 x 25 Manikin Carry Women'!$AH$7:$AH$46))))","v":""},{"$f":"IF($A94=\"\",\"\",IF(IF(SUMIF('Line Throw Relay Women'!$C$7:$C$46,$A94,'Line Throw Relay Women'!$AH$7:$AH$46)=0,1+MAX('Line Throw Relay Women'!$AH$7:$AH$46),SUMIF('Line Throw Relay Women'!$C$7:$C$46,$A94,'Line Throw Relay Women'!$AH$7:$AH$46))>2+MAX('Line Throw Relay Women'!$AH$7:$AH$46),MAX('Line Throw Relay Women'!$AH$7:$AH$46),IF(SUMIF('Line Throw Relay Women'!$C$7:$C$46,$A94,'Line Throw Relay Women'!$AH$7:$AH$46)=0,1+MAX('Line Throw Relay Women'!$AH$7:$AH$46),SUMIF('Line Throw Relay Women'!$C$7:$C$46,$A94,'Line Throw Relay Women'!$AH$7:$AH$46))))","v":""},"",""]
["","",{"$f":"IF($A95=\"\",\"\",IF(IF(SUMIF('50m Manikin Carry Women'!$C$7:$C$46,$A95,'50m Manikin Carry Women'!$AC$7:$AC$46)=0,1+MAX('50m Manikin Carry Women'!$AC$7:$AC$46),SUMIF('50m Manikin Carry Women'!$C$7:$C$46,$A95,'50m Manikin Carry Women'!$AC$7:$AC$46))>MAX('50m Manikin Carry Women'!$AC$7:$AC$46)+2,MAX('50m Manikin Carry Women'!$AC$7:$AC$46),IF(SUMIF('50m Manikin Carry Women'!$C$7:$C$46,$A95,'50m Manikin Carry Women'!$AC$7:$AC$46)=0,1+MAX('50m Manikin Carry Women'!$AC$7:$AC$46),SUMIF('50m Manikin Carry Women'!$C$7:$C$46,$A95,'50m Manikin Carry Women'!$AC$7:$AC$46))))","v":""},{"$f":"IF($A95=\"\",\"\",IF(IF(SUMIF('100m Manikin Carry Women'!$C$7:$C$46,$A95,'100m Manikin Carry Women'!$AC$7:$AC$46)=0,1+MAX('100m Manikin Carry Women'!$AC$7:$AC$46),SUMIF('100m Manikin Carry Women'!$C$7:$C$46,$A95,'100m Manikin Carry Women'!$AC$7:$AC$46))>2+MAX('100m Manikin Carry Women'!$AC$7:$AC$46),MAX('100m Manikin Carry Women'!$AC$7:$AC$46),IF(SUMIF('100m Manikin Carry Women'!$C$7:$C$46,$A95,'100m Manikin Carry Women'!$AC$7:$AC$46)=0,1+MAX('100m Manikin Carry Women'!$AC$7:$AC$46),SUMIF('100m Manikin Carry Women'!$C$7:$C$46,$A95,'100m Manikin Carry Women'!$AC$7:$AC$46))))","v":""},{"$f":"IF($A95=\"\",\"\",IF(IF(SUMIF('100m Manikin Tow Women'!$C$7:$C$46,$A95,'100m Manikin Tow Women'!$AC$7:$AC$46)=0,1+MAX('100m Manikin Tow Women'!$AC$7:$AC$46),SUMIF('100m Manikin Tow Women'!$C$7:$C$46,$A95,'100m Manikin Tow Women'!$AC$7:$AC$46))>2+MAX('100m Manikin Tow Women'!$AC$7:$AC$46),MAX('100m Manikin Tow Women'!$AC$7:$AC$46),IF(SUMIF('100m Manikin Tow Women'!$C$7:$C$46,$A95,'100m Manikin Tow Women'!$AC$7:$AC$46)=0,1+MAX('100m Manikin Tow Women'!$AC$7:$AC$46),SUMIF('100m Manikin Tow Women'!$C$7:$C$46,$A95,'100m Manikin Tow Women'!$AC$7:$AC$46))))","v":""},{"$f":"IF($A95=\"\",\"\",IF(IF(SUMIF('200m Obs Women'!$C$7:$C$46,$A95,'200m Obs Women'!$AC$7:$AC$46)=0,1+MAX('200m Obs Women'!$AC$7:$AC$46),SUMIF('200m Obs Women'!$C$7:$C$46,$A95,'200m Obs Women'!$AC$7:$AC$46))>2+MAX('200m Obs Women'!$AC$7:$AC$46),MAX('200m Obs Women'!$AC$7:$AC$46),IF(SUMIF('200m Obs Women'!$C$7:$C$46,$A95,'200m Obs Women'!$AC$7:$AC$46)=0,1+MAX('200m Obs Women'!$AC$7:$AC$46),SUMIF('200m Obs Women'!$C$7:$C$46,$A95,'200m Obs Women'!$AC$7:$AC$46))))","v":""},{"$f":"IF($A95=\"\",\"\",IF(IF(SUMIF('200m Super Women'!$C$7:$C$46,$A95,'200m Super Women'!$AC$7:$AC$46)=0,1+MAX('200m Super Women'!$AC$7:$AC$46),SUMIF('200m Super Women'!$C$7:$C$46,$A95,'200m Super Women'!$AC$7:$AC$46))>2+MAX('200m Super Women'!$AC$7:$AC$46),MAX('200m Super Women'!$AC$7:$AC$46),IF(SUMIF('200m Super Women'!$C$7:$C$46,$A95,'200m Super Women'!$AC$7:$AC$46)=0,1+MAX('200m Super Women'!$AC$7:$AC$46),SUMIF('200m Super Women'!$C$7:$C$46,$A95,'200m Super Women'!$AC$7:$AC$46))))","v":""},{"$f":"IF($A95=\"\",\"\",IF(IF(SUMIF('100 Resue Women'!$C$7:$C$46,$A95,'100 Resue Women'!$AC$7:$AC$46)=0,1+MAX('100 Resue Women'!$AC$7:$AC$46),SUMIF('100 Resue Women'!$C$7:$C$46,$A95,'100 Resue Women'!$AC$7:$AC$46))>2+MAX('100 Resue Women'!$AC$7:$AC$46),MAX('100 Resue Women'!$AC$7:$AC$46),IF(SUMIF('100 Resue Women'!$C$7:$C$46,$A95,'100 Resue Women'!$AC$7:$AC$46)=0,1+MAX('100 Resue Women'!$AC$7:$AC$46),SUMIF('100 Resue Women'!$C$7:$C$46,$A95,'100 Resue Women'!$AC$7:$AC$46))))","v":""},{"$f":"IF($A95=\"\",\"\",IF(IF(SUMIF('Line Throw Women'!$C$7:$C$46,$A95,'Line Throw Women'!$AE$7:$AE$46)=0,MAX('Line Throw Women'!$AE$7:$AE$46),SUMIF('Line Throw Women'!$C$7:$C$46,$A95,'Line Throw Women'!$AE$7:$AE$46))>2+MAX('Line Throw Women'!$AE$7:$AE$46),MAX('Line Throw Women'!$AE$7:$AE$46),IF(SUMIF('Line Throw Women'!$C$7:$C$46,$A95,'Line Throw Women'!$AE$7:$AE$46)=0,1+MAX('Line Throw Women'!$AE$7:$AE$46),SUMIF('Line Throw Women'!$C$7:$C$46,$A95,'Line Throw Women'!$AE$7:$AE$46))))","v":""},{"$f":"IF($A95=\"\",\"\",IF(IF(SUMIF('4 x 50 Obs Relay Women'!$C$7:$C$46,$A95,'4 x 50 Obs Relay Women'!$AH$7:$AH$46)=0,1+MAX('4 x 50 Obs Relay Women'!$AH$7:$AH$46),SUMIF('4 x 50 Obs Relay Women'!$C$7:$C$46,$A95,'4 x 50 Obs Relay Women'!$AH$7:$AH$46))>2+MAX('4 x 50 Obs Relay Women'!$AH$7:$AH$46),MAX('4 x 50 Obs Relay Women'!$AH$7:$AH$46),IF(SUMIF('4 x 50 Obs Relay Women'!$C$7:$C$46,$A95,'4 x 50 Obs Relay Women'!$AH$7:$AH$46)=0,1+MAX('4 x 50 Obs Relay Women'!$AH$7:$AH$46),SUMIF('4 x 50 Obs Relay Women'!$C$7:$C$46,$A95,'4 x 50 Obs Relay Women'!$AH$7:$AH$46))))","v":""},{"$f":"IF($A95=\"\",\"\",IF(IF(SUMIF('4 x 50 medley Relay Women'!$C$7:$C$46,$A95,'4 x 50 medley Relay Women'!$AH$7:$AH$46)=0,1+MAX('4 x 50 medley Relay Women'!$AH$7:$AH$46),SUMIF('4 x 50 medley Relay Women'!$C$7:$C$46,$A95,'4 x 50 medley Relay Women'!$AH$7:$AH$46))>2+MAX('4 x 50 medley Relay Women'!$AH$7:$AH$46),MAX('4 x 50 medley Relay Women'!$AH$7:$AH$46),IF(SUMIF('4 x 50 medley Relay Women'!$C$7:$C$46,$A95,'4 x 50 medley Relay Women'!$AH$7:$AH$46)=0,1+MAX('4 x 50 medley Relay Women'!$AH$7:$AH$46),SUMIF('4 x 50 medley Relay Women'!$C$7:$C$46,$A95,'4 x 50 medley Relay Women'!$AH$7:$AH$46))))","v":""},{"$f":"IF($A95=\"\",\"\",IF(IF(SUMIF('4 x 25 Manikin Carry Women'!$C$7:$C$46,$A95,'4 x 25 Manikin Carry Women'!$AH$7:$AH$46)=0,1+MAX('4 x 25 Manikin Carry Women'!$AH$7:$AH$46),SUMIF('4 x 25 Manikin Carry Women'!$C$7:$C$46,$A95,'4 x 25 Manikin Carry Women'!$AH$7:$AH$46))>2+MAX('4 x 25 Manikin Carry Women'!$AH$7:$AH$46),MAX('4 x 25 Manikin Carry Women'!$AH$7:$AH$46),IF(SUMIF('4 x 25 Manikin Carry Women'!$C$7:$C$46,$A95,'4 x 25 Manikin Carry Women'!$AH$7:$AH$46)=0,1+MAX('4 x 25 Manikin Carry Women'!$AH$7:$AH$46),SUMIF('4 x 25 Manikin Carry Women'!$C$7:$C$46,$A95,'4 x 25 Manikin Carry Women'!$AH$7:$AH$46))))","v":""},{"$f":"IF($A95=\"\",\"\",IF(IF(SUMIF('Line Throw Relay Women'!$C$7:$C$46,$A95,'Line Throw Relay Women'!$AH$7:$AH$46)=0,1+MAX('Line Throw Relay Women'!$AH$7:$AH$46),SUMIF('Line Throw Relay Women'!$C$7:$C$46,$A95,'Line Throw Relay Women'!$AH$7:$AH$46))>2+MAX('Line Throw Relay Women'!$AH$7:$AH$46),MAX('Line Throw Relay Women'!$AH$7:$AH$46),IF(SUMIF('Line Throw Relay Women'!$C$7:$C$46,$A95,'Line Throw Relay Women'!$AH$7:$AH$46)=0,1+MAX('Line Throw Relay Women'!$AH$7:$AH$46),SUMIF('Line Throw Relay Women'!$C$7:$C$46,$A95,'Line Throw Relay Women'!$AH$7:$AH$46))))","v":""},"",""]
["","",{"$f":"IF($A96=\"\",\"\",IF(IF(SUMIF('50m Manikin Carry Women'!$C$7:$C$46,$A96,'50m Manikin Carry Women'!$AC$7:$AC$46)=0,1+MAX('50m Manikin Carry Women'!$AC$7:$AC$46),SUMIF('50m Manikin Carry Women'!$C$7:$C$46,$A96,'50m Manikin Carry Women'!$AC$7:$AC$46))>MAX('50m Manikin Carry Women'!$AC$7:$AC$46)+2,MAX('50m Manikin Carry Women'!$AC$7:$AC$46),IF(SUMIF('50m Manikin Carry Women'!$C$7:$C$46,$A96,'50m Manikin Carry Women'!$AC$7:$AC$46)=0,1+MAX('50m Manikin Carry Women'!$AC$7:$AC$46),SUMIF('50m Manikin Carry Women'!$C$7:$C$46,$A96,'50m Manikin Carry Women'!$AC$7:$AC$46))))","v":""},{"$f":"IF($A96=\"\",\"\",IF(IF(SUMIF('100m Manikin Carry Women'!$C$7:$C$46,$A96,'100m Manikin Carry Women'!$AC$7:$AC$46)=0,1+MAX('100m Manikin Carry Women'!$AC$7:$AC$46),SUMIF('100m Manikin Carry Women'!$C$7:$C$46,$A96,'100m Manikin Carry Women'!$AC$7:$AC$46))>2+MAX('100m Manikin Carry Women'!$AC$7:$AC$46),MAX('100m Manikin Carry Women'!$AC$7:$AC$46),IF(SUMIF('100m Manikin Carry Women'!$C$7:$C$46,$A96,'100m Manikin Carry Women'!$AC$7:$AC$46)=0,1+MAX('100m Manikin Carry Women'!$AC$7:$AC$46),SUMIF('100m Manikin Carry Women'!$C$7:$C$46,$A96,'100m Manikin Carry Women'!$AC$7:$AC$46))))","v":""},{"$f":"IF($A96=\"\",\"\",IF(IF(SUMIF('100m Manikin Tow Women'!$C$7:$C$46,$A96,'100m Manikin Tow Women'!$AC$7:$AC$46)=0,1+MAX('100m Manikin Tow Women'!$AC$7:$AC$46),SUMIF('100m Manikin Tow Women'!$C$7:$C$46,$A96,'100m Manikin Tow Women'!$AC$7:$AC$46))>2+MAX('100m Manikin Tow Women'!$AC$7:$AC$46),MAX('100m Manikin Tow Women'!$AC$7:$AC$46),IF(SUMIF('100m Manikin Tow Women'!$C$7:$C$46,$A96,'100m Manikin Tow Women'!$AC$7:$AC$46)=0,1+MAX('100m Manikin Tow Women'!$AC$7:$AC$46),SUMIF('100m Manikin Tow Women'!$C$7:$C$46,$A96,'100m Manikin Tow Women'!$AC$7:$AC$46))))","v":""},{"$f":"IF($A96=\"\",\"\",IF(IF(SUMIF('200m Obs Women'!$C$7:$C$46,$A96,'200m Obs Women'!$AC$7:$AC$46)=0,1+MAX('200m Obs Women'!$AC$7:$AC$46),SUMIF('200m Obs Women'!$C$7:$C$46,$A96,'200m Obs Women'!$AC$7:$AC$46))>2+MAX('200m Obs Women'!$AC$7:$AC$46),MAX('200m Obs Women'!$AC$7:$AC$46),IF(SUMIF('200m Obs Women'!$C$7:$C$46,$A96,'200m Obs Women'!$AC$7:$AC$46)=0,1+MAX('200m Obs Women'!$AC$7:$AC$46),SUMIF('200m Obs Women'!$C$7:$C$46,$A96,'200m Obs Women'!$AC$7:$AC$46))))","v":""},{"$f":"IF($A96=\"\",\"\",IF(IF(SUMIF('200m Super Women'!$C$7:$C$46,$A96,'200m Super Women'!$AC$7:$AC$46)=0,1+MAX('200m Super Women'!$AC$7:$AC$46),SUMIF('200m Super Women'!$C$7:$C$46,$A96,'200m Super Women'!$AC$7:$AC$46))>2+MAX('200m Super Women'!$AC$7:$AC$46),MAX('200m Super Women'!$AC$7:$AC$46),IF(SUMIF('200m Super Women'!$C$7:$C$46,$A96,'200m Super Women'!$AC$7:$AC$46)=0,1+MAX('200m Super Women'!$AC$7:$AC$46),SUMIF('200m Super Women'!$C$7:$C$46,$A96,'200m Super Women'!$AC$7:$AC$46))))","v":""},{"$f":"IF($A96=\"\",\"\",IF(IF(SUMIF('100 Resue Women'!$C$7:$C$46,$A96,'100 Resue Women'!$AC$7:$AC$46)=0,1+MAX('100 Resue Women'!$AC$7:$AC$46),SUMIF('100 Resue Women'!$C$7:$C$46,$A96,'100 Resue Women'!$AC$7:$AC$46))>2+MAX('100 Resue Women'!$AC$7:$AC$46),MAX('100 Resue Women'!$AC$7:$AC$46),IF(SUMIF('100 Resue Women'!$C$7:$C$46,$A96,'100 Resue Women'!$AC$7:$AC$46)=0,1+MAX('100 Resue Women'!$AC$7:$AC$46),SUMIF('100 Resue Women'!$C$7:$C$46,$A96,'100 Resue Women'!$AC$7:$AC$46))))","v":""},{"$f":"IF($A96=\"\",\"\",IF(IF(SUMIF('Line Throw Women'!$C$7:$C$46,$A96,'Line Throw Women'!$AE$7:$AE$46)=0,MAX('Line Throw Women'!$AE$7:$AE$46),SUMIF('Line Throw Women'!$C$7:$C$46,$A96,'Line Throw Women'!$AE$7:$AE$46))>2+MAX('Line Throw Women'!$AE$7:$AE$46),MAX('Line Throw Women'!$AE$7:$AE$46),IF(SUMIF('Line Throw Women'!$C$7:$C$46,$A96,'Line Throw Women'!$AE$7:$AE$46)=0,1+MAX('Line Throw Women'!$AE$7:$AE$46),SUMIF('Line Throw Women'!$C$7:$C$46,$A96,'Line Throw Women'!$AE$7:$AE$46))))","v":""},{"$f":"IF($A96=\"\",\"\",IF(IF(SUMIF('4 x 50 Obs Relay Women'!$C$7:$C$46,$A96,'4 x 50 Obs Relay Women'!$AH$7:$AH$46)=0,1+MAX('4 x 50 Obs Relay Women'!$AH$7:$AH$46),SUMIF('4 x 50 Obs Relay Women'!$C$7:$C$46,$A96,'4 x 50 Obs Relay Women'!$AH$7:$AH$46))>2+MAX('4 x 50 Obs Relay Women'!$AH$7:$AH$46),MAX('4 x 50 Obs Relay Women'!$AH$7:$AH$46),IF(SUMIF('4 x 50 Obs Relay Women'!$C$7:$C$46,$A96,'4 x 50 Obs Relay Women'!$AH$7:$AH$46)=0,1+MAX('4 x 50 Obs Relay Women'!$AH$7:$AH$46),SUMIF('4 x 50 Obs Relay Women'!$C$7:$C$46,$A96,'4 x 50 Obs Relay Women'!$AH$7:$AH$46))))","v":""},{"$f":"IF($A96=\"\",\"\",IF(IF(SUMIF('4 x 50 medley Relay Women'!$C$7:$C$46,$A96,'4 x 50 medley Relay Women'!$AH$7:$AH$46)=0,1+MAX('4 x 50 medley Relay Women'!$AH$7:$AH$46),SUMIF('4 x 50 medley Relay Women'!$C$7:$C$46,$A96,'4 x 50 medley Relay Women'!$AH$7:$AH$46))>2+MAX('4 x 50 medley Relay Women'!$AH$7:$AH$46),MAX('4 x 50 medley Relay Women'!$AH$7:$AH$46),IF(SUMIF('4 x 50 medley Relay Women'!$C$7:$C$46,$A96,'4 x 50 medley Relay Women'!$AH$7:$AH$46)=0,1+MAX('4 x 50 medley Relay Women'!$AH$7:$AH$46),SUMIF('4 x 50 medley Relay Women'!$C$7:$C$46,$A96,'4 x 50 medley Relay Women'!$AH$7:$AH$46))))","v":""},{"$f":"IF($A96=\"\",\"\",IF(IF(SUMIF('4 x 25 Manikin Carry Women'!$C$7:$C$46,$A96,'4 x 25 Manikin Carry Women'!$AH$7:$AH$46)=0,1+MAX('4 x 25 Manikin Carry Women'!$AH$7:$AH$46),SUMIF('4 x 25 Manikin Carry Women'!$C$7:$C$46,$A96,'4 x 25 Manikin Carry Women'!$AH$7:$AH$46))>2+MAX('4 x 25 Manikin Carry Women'!$AH$7:$AH$46),MAX('4 x 25 Manikin Carry Women'!$AH$7:$AH$46),IF(SUMIF('4 x 25 Manikin Carry Women'!$C$7:$C$46,$A96,'4 x 25 Manikin Carry Women'!$AH$7:$AH$46)=0,1+MAX('4 x 25 Manikin Carry Women'!$AH$7:$AH$46),SUMIF('4 x 25 Manikin Carry Women'!$C$7:$C$46,$A96,'4 x 25 Manikin Carry Women'!$AH$7:$AH$46))))","v":""},{"$f":"IF($A96=\"\",\"\",IF(IF(SUMIF('Line Throw Relay Women'!$C$7:$C$46,$A96,'Line Throw Relay Women'!$AH$7:$AH$46)=0,1+MAX('Line Throw Relay Women'!$AH$7:$AH$46),SUMIF('Line Throw Relay Women'!$C$7:$C$46,$A96,'Line Throw Relay Women'!$AH$7:$AH$46))>2+MAX('Line Throw Relay Women'!$AH$7:$AH$46),MAX('Line Throw Relay Women'!$AH$7:$AH$46),IF(SUMIF('Line Throw Relay Women'!$C$7:$C$46,$A96,'Line Throw Relay Women'!$AH$7:$AH$46)=0,1+MAX('Line Throw Relay Women'!$AH$7:$AH$46),SUMIF('Line Throw Relay Women'!$C$7:$C$46,$A96,'Line Throw Relay Women'!$AH$7:$AH$46))))","v":""},"",""]
["","",{"$f":"IF($A97=\"\",\"\",IF(IF(SUMIF('50m Manikin Carry Women'!$C$7:$C$46,$A97,'50m Manikin Carry Women'!$AC$7:$AC$46)=0,1+MAX('50m Manikin Carry Women'!$AC$7:$AC$46),SUMIF('50m Manikin Carry Women'!$C$7:$C$46,$A97,'50m Manikin Carry Women'!$AC$7:$AC$46))>MAX('50m Manikin Carry Women'!$AC$7:$AC$46)+2,MAX('50m Manikin Carry Women'!$AC$7:$AC$46),IF(SUMIF('50m Manikin Carry Women'!$C$7:$C$46,$A97,'50m Manikin Carry Women'!$AC$7:$AC$46)=0,1+MAX('50m Manikin Carry Women'!$AC$7:$AC$46),SUMIF('50m Manikin Carry Women'!$C$7:$C$46,$A97,'50m Manikin Carry Women'!$AC$7:$AC$46))))","v":""},{"$f":"IF($A97=\"\",\"\",IF(IF(SUMIF('100m Manikin Carry Women'!$C$7:$C$46,$A97,'100m Manikin Carry Women'!$AC$7:$AC$46)=0,1+MAX('100m Manikin Carry Women'!$AC$7:$AC$46),SUMIF('100m Manikin Carry Women'!$C$7:$C$46,$A97,'100m Manikin Carry Women'!$AC$7:$AC$46))>2+MAX('100m Manikin Carry Women'!$AC$7:$AC$46),MAX('100m Manikin Carry Women'!$AC$7:$AC$46),IF(SUMIF('100m Manikin Carry Women'!$C$7:$C$46,$A97,'100m Manikin Carry Women'!$AC$7:$AC$46)=0,1+MAX('100m Manikin Carry Women'!$AC$7:$AC$46),SUMIF('100m Manikin Carry Women'!$C$7:$C$46,$A97,'100m Manikin Carry Women'!$AC$7:$AC$46))))","v":""},{"$f":"IF($A97=\"\",\"\",IF(IF(SUMIF('100m Manikin Tow Women'!$C$7:$C$46,$A97,'100m Manikin Tow Women'!$AC$7:$AC$46)=0,1+MAX('100m Manikin Tow Women'!$AC$7:$AC$46),SUMIF('100m Manikin Tow Women'!$C$7:$C$46,$A97,'100m Manikin Tow Women'!$AC$7:$AC$46))>2+MAX('100m Manikin Tow Women'!$AC$7:$AC$46),MAX('100m Manikin Tow Women'!$AC$7:$AC$46),IF(SUMIF('100m Manikin Tow Women'!$C$7:$C$46,$A97,'100m Manikin Tow Women'!$AC$7:$AC$46)=0,1+MAX('100m Manikin Tow Women'!$AC$7:$AC$46),SUMIF('100m Manikin Tow Women'!$C$7:$C$46,$A97,'100m Manikin Tow Women'!$AC$7:$AC$46))))","v":""},{"$f":"IF($A97=\"\",\"\",IF(IF(SUMIF('200m Obs Women'!$C$7:$C$46,$A97,'200m Obs Women'!$AC$7:$AC$46)=0,1+MAX('200m Obs Women'!$AC$7:$AC$46),SUMIF('200m Obs Women'!$C$7:$C$46,$A97,'200m Obs Women'!$AC$7:$AC$46))>2+MAX('200m Obs Women'!$AC$7:$AC$46),MAX('200m Obs Women'!$AC$7:$AC$46),IF(SUMIF('200m Obs Women'!$C$7:$C$46,$A97,'200m Obs Women'!$AC$7:$AC$46)=0,1+MAX('200m Obs Women'!$AC$7:$AC$46),SUMIF('200m Obs Women'!$C$7:$C$46,$A97,'200m Obs Women'!$AC$7:$AC$46))))","v":""},{"$f":"IF($A97=\"\",\"\",IF(IF(SUMIF('200m Super Women'!$C$7:$C$46,$A97,'200m Super Women'!$AC$7:$AC$46)=0,1+MAX('200m Super Women'!$AC$7:$AC$46),SUMIF('200m Super Women'!$C$7:$C$46,$A97,'200m Super Women'!$AC$7:$AC$46))>2+MAX('200m Super Women'!$AC$7:$AC$46),MAX('200m Super Women'!$AC$7:$AC$46),IF(SUMIF('200m Super Women'!$C$7:$C$46,$A97,'200m Super Women'!$AC$7:$AC$46)=0,1+MAX('200m Super Women'!$AC$7:$AC$46),SUMIF('200m Super Women'!$C$7:$C$46,$A97,'200m Super Women'!$AC$7:$AC$46))))","v":""},{"$f":"IF($A97=\"\",\"\",IF(IF(SUMIF('100 Resue Women'!$C$7:$C$46,$A97,'100 Resue Women'!$AC$7:$AC$46)=0,1+MAX('100 Resue Women'!$AC$7:$AC$46),SUMIF('100 Resue Women'!$C$7:$C$46,$A97,'100 Resue Women'!$AC$7:$AC$46))>2+MAX('100 Resue Women'!$AC$7:$AC$46),MAX('100 Resue Women'!$AC$7:$AC$46),IF(SUMIF('100 Resue Women'!$C$7:$C$46,$A97,'100 Resue Women'!$AC$7:$AC$46)=0,1+MAX('100 Resue Women'!$AC$7:$AC$46),SUMIF('100 Resue Women'!$C$7:$C$46,$A97,'100 Resue Women'!$AC$7:$AC$46))))","v":""},{"$f":"IF($A97=\"\",\"\",IF(IF(SUMIF('Line Throw Women'!$C$7:$C$46,$A97,'Line Throw Women'!$AE$7:$AE$46)=0,MAX('Line Throw Women'!$AE$7:$AE$46),SUMIF('Line Throw Women'!$C$7:$C$46,$A97,'Line Throw Women'!$AE$7:$AE$46))>2+MAX('Line Throw Women'!$AE$7:$AE$46),MAX('Line Throw Women'!$AE$7:$AE$46),IF(SUMIF('Line Throw Women'!$C$7:$C$46,$A97,'Line Throw Women'!$AE$7:$AE$46)=0,1+MAX('Line Throw Women'!$AE$7:$AE$46),SUMIF('Line Throw Women'!$C$7:$C$46,$A97,'Line Throw Women'!$AE$7:$AE$46))))","v":""},{"$f":"IF($A97=\"\",\"\",IF(IF(SUMIF('4 x 50 Obs Relay Women'!$C$7:$C$46,$A97,'4 x 50 Obs Relay Women'!$AH$7:$AH$46)=0,1+MAX('4 x 50 Obs Relay Women'!$AH$7:$AH$46),SUMIF('4 x 50 Obs Relay Women'!$C$7:$C$46,$A97,'4 x 50 Obs Relay Women'!$AH$7:$AH$46))>2+MAX('4 x 50 Obs Relay Women'!$AH$7:$AH$46),MAX('4 x 50 Obs Relay Women'!$AH$7:$AH$46),IF(SUMIF('4 x 50 Obs Relay Women'!$C$7:$C$46,$A97,'4 x 50 Obs Relay Women'!$AH$7:$AH$46)=0,1+MAX('4 x 50 Obs Relay Women'!$AH$7:$AH$46),SUMIF('4 x 50 Obs Relay Women'!$C$7:$C$46,$A97,'4 x 50 Obs Relay Women'!$AH$7:$AH$46))))","v":""},{"$f":"IF($A97=\"\",\"\",IF(IF(SUMIF('4 x 50 medley Relay Women'!$C$7:$C$46,$A97,'4 x 50 medley Relay Women'!$AH$7:$AH$46)=0,1+MAX('4 x 50 medley Relay Women'!$AH$7:$AH$46),SUMIF('4 x 50 medley Relay Women'!$C$7:$C$46,$A97,'4 x 50 medley Relay Women'!$AH$7:$AH$46))>2+MAX('4 x 50 medley Relay Women'!$AH$7:$AH$46),MAX('4 x 50 medley Relay Women'!$AH$7:$AH$46),IF(SUMIF('4 x 50 medley Relay Women'!$C$7:$C$46,$A97,'4 x 50 medley Relay Women'!$AH$7:$AH$46)=0,1+MAX('4 x 50 medley Relay Women'!$AH$7:$AH$46),SUMIF('4 x 50 medley Relay Women'!$C$7:$C$46,$A97,'4 x 50 medley Relay Women'!$AH$7:$AH$46))))","v":""},{"$f":"IF($A97=\"\",\"\",IF(IF(SUMIF('4 x 25 Manikin Carry Women'!$C$7:$C$46,$A97,'4 x 25 Manikin Carry Women'!$AH$7:$AH$46)=0,1+MAX('4 x 25 Manikin Carry Women'!$AH$7:$AH$46),SUMIF('4 x 25 Manikin Carry Women'!$C$7:$C$46,$A97,'4 x 25 Manikin Carry Women'!$AH$7:$AH$46))>2+MAX('4 x 25 Manikin Carry Women'!$AH$7:$AH$46),MAX('4 x 25 Manikin Carry Women'!$AH$7:$AH$46),IF(SUMIF('4 x 25 Manikin Carry Women'!$C$7:$C$46,$A97,'4 x 25 Manikin Carry Women'!$AH$7:$AH$46)=0,1+MAX('4 x 25 Manikin Carry Women'!$AH$7:$AH$46),SUMIF('4 x 25 Manikin Carry Women'!$C$7:$C$46,$A97,'4 x 25 Manikin Carry Women'!$AH$7:$AH$46))))","v":""},{"$f":"IF($A97=\"\",\"\",IF(IF(SUMIF('Line Throw Relay Women'!$C$7:$C$46,$A97,'Line Throw Relay Women'!$AH$7:$AH$46)=0,1+MAX('Line Throw Relay Women'!$AH$7:$AH$46),SUMIF('Line Throw Relay Women'!$C$7:$C$46,$A97,'Line Throw Relay Women'!$AH$7:$AH$46))>2+MAX('Line Throw Relay Women'!$AH$7:$AH$46),MAX('Line Throw Relay Women'!$AH$7:$AH$46),IF(SUMIF('Line Throw Relay Women'!$C$7:$C$46,$A97,'Line Throw Relay Women'!$AH$7:$AH$46)=0,1+MAX('Line Throw Relay Women'!$AH$7:$AH$46),SUMIF('Line Throw Relay Women'!$C$7:$C$46,$A97,'Line Throw Relay Women'!$AH$7:$AH$46))))","v":""},"",""]
["","",{"$f":"IF($A98=\"\",\"\",IF(IF(SUMIF('50m Manikin Carry Women'!$C$7:$C$46,$A98,'50m Manikin Carry Women'!$AC$7:$AC$46)=0,1+MAX('50m Manikin Carry Women'!$AC$7:$AC$46),SUMIF('50m Manikin Carry Women'!$C$7:$C$46,$A98,'50m Manikin Carry Women'!$AC$7:$AC$46))>MAX('50m Manikin Carry Women'!$AC$7:$AC$46)+2,MAX('50m Manikin Carry Women'!$AC$7:$AC$46),IF(SUMIF('50m Manikin Carry Women'!$C$7:$C$46,$A98,'50m Manikin Carry Women'!$AC$7:$AC$46)=0,1+MAX('50m Manikin Carry Women'!$AC$7:$AC$46),SUMIF('50m Manikin Carry Women'!$C$7:$C$46,$A98,'50m Manikin Carry Women'!$AC$7:$AC$46))))","v":""},{"$f":"IF($A98=\"\",\"\",IF(IF(SUMIF('100m Manikin Carry Women'!$C$7:$C$46,$A98,'100m Manikin Carry Women'!$AC$7:$AC$46)=0,1+MAX('100m Manikin Carry Women'!$AC$7:$AC$46),SUMIF('100m Manikin Carry Women'!$C$7:$C$46,$A98,'100m Manikin Carry Women'!$AC$7:$AC$46))>2+MAX('100m Manikin Carry Women'!$AC$7:$AC$46),MAX('100m Manikin Carry Women'!$AC$7:$AC$46),IF(SUMIF('100m Manikin Carry Women'!$C$7:$C$46,$A98,'100m Manikin Carry Women'!$AC$7:$AC$46)=0,1+MAX('100m Manikin Carry Women'!$AC$7:$AC$46),SUMIF('100m Manikin Carry Women'!$C$7:$C$46,$A98,'100m Manikin Carry Women'!$AC$7:$AC$46))))","v":""},{"$f":"IF($A98=\"\",\"\",IF(IF(SUMIF('100m Manikin Tow Women'!$C$7:$C$46,$A98,'100m Manikin Tow Women'!$AC$7:$AC$46)=0,1+MAX('100m Manikin Tow Women'!$AC$7:$AC$46),SUMIF('100m Manikin Tow Women'!$C$7:$C$46,$A98,'100m Manikin Tow Women'!$AC$7:$AC$46))>2+MAX('100m Manikin Tow Women'!$AC$7:$AC$46),MAX('100m Manikin Tow Women'!$AC$7:$AC$46),IF(SUMIF('100m Manikin Tow Women'!$C$7:$C$46,$A98,'100m Manikin Tow Women'!$AC$7:$AC$46)=0,1+MAX('100m Manikin Tow Women'!$AC$7:$AC$46),SUMIF('100m Manikin Tow Women'!$C$7:$C$46,$A98,'100m Manikin Tow Women'!$AC$7:$AC$46))))","v":""},{"$f":"IF($A98=\"\",\"\",IF(IF(SUMIF('200m Obs Women'!$C$7:$C$46,$A98,'200m Obs Women'!$AC$7:$AC$46)=0,1+MAX('200m Obs Women'!$AC$7:$AC$46),SUMIF('200m Obs Women'!$C$7:$C$46,$A98,'200m Obs Women'!$AC$7:$AC$46))>2+MAX('200m Obs Women'!$AC$7:$AC$46),MAX('200m Obs Women'!$AC$7:$AC$46),IF(SUMIF('200m Obs Women'!$C$7:$C$46,$A98,'200m Obs Women'!$AC$7:$AC$46)=0,1+MAX('200m Obs Women'!$AC$7:$AC$46),SUMIF('200m Obs Women'!$C$7:$C$46,$A98,'200m Obs Women'!$AC$7:$AC$46))))","v":""},{"$f":"IF($A98=\"\",\"\",IF(IF(SUMIF('200m Super Women'!$C$7:$C$46,$A98,'200m Super Women'!$AC$7:$AC$46)=0,1+MAX('200m Super Women'!$AC$7:$AC$46),SUMIF('200m Super Women'!$C$7:$C$46,$A98,'200m Super Women'!$AC$7:$AC$46))>2+MAX('200m Super Women'!$AC$7:$AC$46),MAX('200m Super Women'!$AC$7:$AC$46),IF(SUMIF('200m Super Women'!$C$7:$C$46,$A98,'200m Super Women'!$AC$7:$AC$46)=0,1+MAX('200m Super Women'!$AC$7:$AC$46),SUMIF('200m Super Women'!$C$7:$C$46,$A98,'200m Super Women'!$AC$7:$AC$46))))","v":""},{"$f":"IF($A98=\"\",\"\",IF(IF(SUMIF('100 Resue Women'!$C$7:$C$46,$A98,'100 Resue Women'!$AC$7:$AC$46)=0,1+MAX('100 Resue Women'!$AC$7:$AC$46),SUMIF('100 Resue Women'!$C$7:$C$46,$A98,'100 Resue Women'!$AC$7:$AC$46))>2+MAX('100 Resue Women'!$AC$7:$AC$46),MAX('100 Resue Women'!$AC$7:$AC$46),IF(SUMIF('100 Resue Women'!$C$7:$C$46,$A98,'100 Resue Women'!$AC$7:$AC$46)=0,1+MAX('100 Resue Women'!$AC$7:$AC$46),SUMIF('100 Resue Women'!$C$7:$C$46,$A98,'100 Resue Women'!$AC$7:$AC$46))))","v":""},{"$f":"IF($A98=\"\",\"\",IF(IF(SUMIF('Line Throw Women'!$C$7:$C$46,$A98,'Line Throw Women'!$AE$7:$AE$46)=0,MAX('Line Throw Women'!$AE$7:$AE$46),SUMIF('Line Throw Women'!$C$7:$C$46,$A98,'Line Throw Women'!$AE$7:$AE$46))>2+MAX('Line Throw Women'!$AE$7:$AE$46),MAX('Line Throw Women'!$AE$7:$AE$46),IF(SUMIF('Line Throw Women'!$C$7:$C$46,$A98,'Line Throw Women'!$AE$7:$AE$46)=0,1+MAX('Line Throw Women'!$AE$7:$AE$46),SUMIF('Line Throw Women'!$C$7:$C$46,$A98,'Line Throw Women'!$AE$7:$AE$46))))","v":""},{"$f":"IF($A98=\"\",\"\",IF(IF(SUMIF('4 x 50 Obs Relay Women'!$C$7:$C$46,$A98,'4 x 50 Obs Relay Women'!$AH$7:$AH$46)=0,1+MAX('4 x 50 Obs Relay Women'!$AH$7:$AH$46),SUMIF('4 x 50 Obs Relay Women'!$C$7:$C$46,$A98,'4 x 50 Obs Relay Women'!$AH$7:$AH$46))>2+MAX('4 x 50 Obs Relay Women'!$AH$7:$AH$46),MAX('4 x 50 Obs Relay Women'!$AH$7:$AH$46),IF(SUMIF('4 x 50 Obs Relay Women'!$C$7:$C$46,$A98,'4 x 50 Obs Relay Women'!$AH$7:$AH$46)=0,1+MAX('4 x 50 Obs Relay Women'!$AH$7:$AH$46),SUMIF('4 x 50 Obs Relay Women'!$C$7:$C$46,$A98,'4 x 50 Obs Relay Women'!$AH$7:$AH$46))))","v":""},{"$f":"IF($A98=\"\",\"\",IF(IF(SUMIF('4 x 50 medley Relay Women'!$C$7:$C$46,$A98,'4 x 50 medley Relay Women'!$AH$7:$AH$46)=0,1+MAX('4 x 50 medley Relay Women'!$AH$7:$AH$46),SUMIF('4 x 50 medley Relay Women'!$C$7:$C$46,$A98,'4 x 50 medley Relay Women'!$AH$7:$AH$46))>2+MAX('4 x 50 medley Relay Women'!$AH$7:$AH$46),MAX('4 x 50 medley Relay Women'!$AH$7:$AH$46),IF(SUMIF('4 x 50 medley Relay Women'!$C$7:$C$46,$A98,'4 x 50 medley Relay Women'!$AH$7:$AH$46)=0,1+MAX('4 x 50 medley Relay Women'!$AH$7:$AH$46),SUMIF('4 x 50 medley Relay Women'!$C$7:$C$46,$A98,'4 x 50 medley Relay Women'!$AH$7:$AH$46))))","v":""},{"$f":"IF($A98=\"\",\"\",IF(IF(SUMIF('4 x 25 Manikin Carry Women'!$C$7:$C$46,$A98,'4 x 25 Manikin Carry Women'!$AH$7:$AH$46)=0,1+MAX('4 x 25 Manikin Carry Women'!$AH$7:$AH$46),SUMIF('4 x 25 Manikin Carry Women'!$C$7:$C$46,$A98,'4 x 25 Manikin Carry Women'!$AH$7:$AH$46))>2+MAX('4 x 25 Manikin Carry Women'!$AH$7:$AH$46),MAX('4 x 25 Manikin Carry Women'!$AH$7:$AH$46),IF(SUMIF('4 x 25 Manikin Carry Women'!$C$7:$C$46,$A98,'4 x 25 Manikin Carry Women'!$AH$7:$AH$46)=0,1+MAX('4 x 25 Manikin Carry Women'!$AH$7:$AH$46),SUMIF('4 x 25 Manikin Carry Women'!$C$7:$C$46,$A98,'4 x 25 Manikin Carry Women'!$AH$7:$AH$46))))","v":""},{"$f":"IF($A98=\"\",\"\",IF(IF(SUMIF('Line Throw Relay Women'!$C$7:$C$46,$A98,'Line Throw Relay Women'!$AH$7:$AH$46)=0,1+MAX('Line Throw Relay Women'!$AH$7:$AH$46),SUMIF('Line Throw Relay Women'!$C$7:$C$46,$A98,'Line Throw Relay Women'!$AH$7:$AH$46))>2+MAX('Line Throw Relay Women'!$AH$7:$AH$46),MAX('Line Throw Relay Women'!$AH$7:$AH$46),IF(SUMIF('Line Throw Relay Women'!$C$7:$C$46,$A98,'Line Throw Relay Women'!$AH$7:$AH$46)=0,1+MAX('Line Throw Relay Women'!$AH$7:$AH$46),SUMIF('Line Throw Relay Women'!$C$7:$C$46,$A98,'Line Throw Relay Women'!$AH$7:$AH$46))))","v":""},"",""]
["","",{"$f":"IF($A99=\"\",\"\",IF(IF(SUMIF('50m Manikin Carry Women'!$C$7:$C$46,$A99,'50m Manikin Carry Women'!$AC$7:$AC$46)=0,1+MAX('50m Manikin Carry Women'!$AC$7:$AC$46),SUMIF('50m Manikin Carry Women'!$C$7:$C$46,$A99,'50m Manikin Carry Women'!$AC$7:$AC$46))>MAX('50m Manikin Carry Women'!$AC$7:$AC$46)+2,MAX('50m Manikin Carry Women'!$AC$7:$AC$46),IF(SUMIF('50m Manikin Carry Women'!$C$7:$C$46,$A99,'50m Manikin Carry Women'!$AC$7:$AC$46)=0,1+MAX('50m Manikin Carry Women'!$AC$7:$AC$46),SUMIF('50m Manikin Carry Women'!$C$7:$C$46,$A99,'50m Manikin Carry Women'!$AC$7:$AC$46))))","v":""},{"$f":"IF($A99=\"\",\"\",IF(IF(SUMIF('100m Manikin Carry Women'!$C$7:$C$46,$A99,'100m Manikin Carry Women'!$AC$7:$AC$46)=0,1+MAX('100m Manikin Carry Women'!$AC$7:$AC$46),SUMIF('100m Manikin Carry Women'!$C$7:$C$46,$A99,'100m Manikin Carry Women'!$AC$7:$AC$46))>2+MAX('100m Manikin Carry Women'!$AC$7:$AC$46),MAX('100m Manikin Carry Women'!$AC$7:$AC$46),IF(SUMIF('100m Manikin Carry Women'!$C$7:$C$46,$A99,'100m Manikin Carry Women'!$AC$7:$AC$46)=0,1+MAX('100m Manikin Carry Women'!$AC$7:$AC$46),SUMIF('100m Manikin Carry Women'!$C$7:$C$46,$A99,'100m Manikin Carry Women'!$AC$7:$AC$46))))","v":""},{"$f":"IF($A99=\"\",\"\",IF(IF(SUMIF('100m Manikin Tow Women'!$C$7:$C$46,$A99,'100m Manikin Tow Women'!$AC$7:$AC$46)=0,1+MAX('100m Manikin Tow Women'!$AC$7:$AC$46),SUMIF('100m Manikin Tow Women'!$C$7:$C$46,$A99,'100m Manikin Tow Women'!$AC$7:$AC$46))>2+MAX('100m Manikin Tow Women'!$AC$7:$AC$46),MAX('100m Manikin Tow Women'!$AC$7:$AC$46),IF(SUMIF('100m Manikin Tow Women'!$C$7:$C$46,$A99,'100m Manikin Tow Women'!$AC$7:$AC$46)=0,1+MAX('100m Manikin Tow Women'!$AC$7:$AC$46),SUMIF('100m Manikin Tow Women'!$C$7:$C$46,$A99,'100m Manikin Tow Women'!$AC$7:$AC$46))))","v":""},{"$f":"IF($A99=\"\",\"\",IF(IF(SUMIF('200m Obs Women'!$C$7:$C$46,$A99,'200m Obs Women'!$AC$7:$AC$46)=0,1+MAX('200m Obs Women'!$AC$7:$AC$46),SUMIF('200m Obs Women'!$C$7:$C$46,$A99,'200m Obs Women'!$AC$7:$AC$46))>2+MAX('200m Obs Women'!$AC$7:$AC$46),MAX('200m Obs Women'!$AC$7:$AC$46),IF(SUMIF('200m Obs Women'!$C$7:$C$46,$A99,'200m Obs Women'!$AC$7:$AC$46)=0,1+MAX('200m Obs Women'!$AC$7:$AC$46),SUMIF('200m Obs Women'!$C$7:$C$46,$A99,'200m Obs Women'!$AC$7:$AC$46))))","v":""},{"$f":"IF($A99=\"\",\"\",IF(IF(SUMIF('200m Super Women'!$C$7:$C$46,$A99,'200m Super Women'!$AC$7:$AC$46)=0,1+MAX('200m Super Women'!$AC$7:$AC$46),SUMIF('200m Super Women'!$C$7:$C$46,$A99,'200m Super Women'!$AC$7:$AC$46))>2+MAX('200m Super Women'!$AC$7:$AC$46),MAX('200m Super Women'!$AC$7:$AC$46),IF(SUMIF('200m Super Women'!$C$7:$C$46,$A99,'200m Super Women'!$AC$7:$AC$46)=0,1+MAX('200m Super Women'!$AC$7:$AC$46),SUMIF('200m Super Women'!$C$7:$C$46,$A99,'200m Super Women'!$AC$7:$AC$46))))","v":""},{"$f":"IF($A99=\"\",\"\",IF(IF(SUMIF('100 Resue Women'!$C$7:$C$46,$A99,'100 Resue Women'!$AC$7:$AC$46)=0,1+MAX('100 Resue Women'!$AC$7:$AC$46),SUMIF('100 Resue Women'!$C$7:$C$46,$A99,'100 Resue Women'!$AC$7:$AC$46))>2+MAX('100 Resue Women'!$AC$7:$AC$46),MAX('100 Resue Women'!$AC$7:$AC$46),IF(SUMIF('100 Resue Women'!$C$7:$C$46,$A99,'100 Resue Women'!$AC$7:$AC$46)=0,1+MAX('100 Resue Women'!$AC$7:$AC$46),SUMIF('100 Resue Women'!$C$7:$C$46,$A99,'100 Resue Women'!$AC$7:$AC$46))))","v":""},{"$f":"IF($A99=\"\",\"\",IF(IF(SUMIF('Line Throw Women'!$C$7:$C$46,$A99,'Line Throw Women'!$AE$7:$AE$46)=0,MAX('Line Throw Women'!$AE$7:$AE$46),SUMIF('Line Throw Women'!$C$7:$C$46,$A99,'Line Throw Women'!$AE$7:$AE$46))>2+MAX('Line Throw Women'!$AE$7:$AE$46),MAX('Line Throw Women'!$AE$7:$AE$46),IF(SUMIF('Line Throw Women'!$C$7:$C$46,$A99,'Line Throw Women'!$AE$7:$AE$46)=0,1+MAX('Line Throw Women'!$AE$7:$AE$46),SUMIF('Line Throw Women'!$C$7:$C$46,$A99,'Line Throw Women'!$AE$7:$AE$46))))","v":""},{"$f":"IF($A99=\"\",\"\",IF(IF(SUMIF('4 x 50 Obs Relay Women'!$C$7:$C$46,$A99,'4 x 50 Obs Relay Women'!$AH$7:$AH$46)=0,1+MAX('4 x 50 Obs Relay Women'!$AH$7:$AH$46),SUMIF('4 x 50 Obs Relay Women'!$C$7:$C$46,$A99,'4 x 50 Obs Relay Women'!$AH$7:$AH$46))>2+MAX('4 x 50 Obs Relay Women'!$AH$7:$AH$46),MAX('4 x 50 Obs Relay Women'!$AH$7:$AH$46),IF(SUMIF('4 x 50 Obs Relay Women'!$C$7:$C$46,$A99,'4 x 50 Obs Relay Women'!$AH$7:$AH$46)=0,1+MAX('4 x 50 Obs Relay Women'!$AH$7:$AH$46),SUMIF('4 x 50 Obs Relay Women'!$C$7:$C$46,$A99,'4 x 50 Obs Relay Women'!$AH$7:$AH$46))))","v":""},{"$f":"IF($A99=\"\",\"\",IF(IF(SUMIF('4 x 50 medley Relay Women'!$C$7:$C$46,$A99,'4 x 50 medley Relay Women'!$AH$7:$AH$46)=0,1+MAX('4 x 50 medley Relay Women'!$AH$7:$AH$46),SUMIF('4 x 50 medley Relay Women'!$C$7:$C$46,$A99,'4 x 50 medley Relay Women'!$AH$7:$AH$46))>2+MAX('4 x 50 medley Relay Women'!$AH$7:$AH$46),MAX('4 x 50 medley Relay Women'!$AH$7:$AH$46),IF(SUMIF('4 x 50 medley Relay Women'!$C$7:$C$46,$A99,'4 x 50 medley Relay Women'!$AH$7:$AH$46)=0,1+MAX('4 x 50 medley Relay Women'!$AH$7:$AH$46),SUMIF('4 x 50 medley Relay Women'!$C$7:$C$46,$A99,'4 x 50 medley Relay Women'!$AH$7:$AH$46))))","v":""},{"$f":"IF($A99=\"\",\"\",IF(IF(SUMIF('4 x 25 Manikin Carry Women'!$C$7:$C$46,$A99,'4 x 25 Manikin Carry Women'!$AH$7:$AH$46)=0,1+MAX('4 x 25 Manikin Carry Women'!$AH$7:$AH$46),SUMIF('4 x 25 Manikin Carry Women'!$C$7:$C$46,$A99,'4 x 25 Manikin Carry Women'!$AH$7:$AH$46))>2+MAX('4 x 25 Manikin Carry Women'!$AH$7:$AH$46),MAX('4 x 25 Manikin Carry Women'!$AH$7:$AH$46),IF(SUMIF('4 x 25 Manikin Carry Women'!$C$7:$C$46,$A99,'4 x 25 Manikin Carry Women'!$AH$7:$AH$46)=0,1+MAX('4 x 25 Manikin Carry Women'!$AH$7:$AH$46),SUMIF('4 x 25 Manikin Carry Women'!$C$7:$C$46,$A99,'4 x 25 Manikin Carry Women'!$AH$7:$AH$46))))","v":""},{"$f":"IF($A99=\"\",\"\",IF(IF(SUMIF('Line Throw Relay Women'!$C$7:$C$46,$A99,'Line Throw Relay Women'!$AH$7:$AH$46)=0,1+MAX('Line Throw Relay Women'!$AH$7:$AH$46),SUMIF('Line Throw Relay Women'!$C$7:$C$46,$A99,'Line Throw Relay Women'!$AH$7:$AH$46))>2+MAX('Line Throw Relay Women'!$AH$7:$AH$46),MAX('Line Throw Relay Women'!$AH$7:$AH$46),IF(SUMIF('Line Throw Relay Women'!$C$7:$C$46,$A99,'Line Throw Relay Women'!$AH$7:$AH$46)=0,1+MAX('Line Throw Relay Women'!$AH$7:$AH$46),SUMIF('Line Throw Relay Women'!$C$7:$C$46,$A99,'Line Throw Relay Women'!$AH$7:$AH$46))))","v":""},"",""]
["","",{"$f":"IF($A100=\"\",\"\",IF(IF(SUMIF('50m Manikin Carry Women'!$C$7:$C$46,$A100,'50m Manikin Carry Women'!$AC$7:$AC$46)=0,1+MAX('50m Manikin Carry Women'!$AC$7:$AC$46),SUMIF('50m Manikin Carry Women'!$C$7:$C$46,$A100,'50m Manikin Carry Women'!$AC$7:$AC$46))>MAX('50m Manikin Carry Women'!$AC$7:$AC$46)+2,MAX('50m Manikin Carry Women'!$AC$7:$AC$46),IF(SUMIF('50m Manikin Carry Women'!$C$7:$C$46,$A100,'50m Manikin Carry Women'!$AC$7:$AC$46)=0,1+MAX('50m Manikin Carry Women'!$AC$7:$AC$46),SUMIF('50m Manikin Carry Women'!$C$7:$C$46,$A100,'50m Manikin Carry Women'!$AC$7:$AC$46))))","v":""},{"$f":"IF($A100=\"\",\"\",IF(IF(SUMIF('100m Manikin Carry Women'!$C$7:$C$46,$A100,'100m Manikin Carry Women'!$AC$7:$AC$46)=0,1+MAX('100m Manikin Carry Women'!$AC$7:$AC$46),SUMIF('100m Manikin Carry Women'!$C$7:$C$46,$A100,'100m Manikin Carry Women'!$AC$7:$AC$46))>2+MAX('100m Manikin Carry Women'!$AC$7:$AC$46),MAX('100m Manikin Carry Women'!$AC$7:$AC$46),IF(SUMIF('100m Manikin Carry Women'!$C$7:$C$46,$A100,'100m Manikin Carry Women'!$AC$7:$AC$46)=0,1+MAX('100m Manikin Carry Women'!$AC$7:$AC$46),SUMIF('100m Manikin Carry Women'!$C$7:$C$46,$A100,'100m Manikin Carry Women'!$AC$7:$AC$46))))","v":""},{"$f":"IF($A100=\"\",\"\",IF(IF(SUMIF('100m Manikin Tow Women'!$C$7:$C$46,$A100,'100m Manikin Tow Women'!$AC$7:$AC$46)=0,1+MAX('100m Manikin Tow Women'!$AC$7:$AC$46),SUMIF('100m Manikin Tow Women'!$C$7:$C$46,$A100,'100m Manikin Tow Women'!$AC$7:$AC$46))>2+MAX('100m Manikin Tow Women'!$AC$7:$AC$46),MAX('100m Manikin Tow Women'!$AC$7:$AC$46),IF(SUMIF('100m Manikin Tow Women'!$C$7:$C$46,$A100,'100m Manikin Tow Women'!$AC$7:$AC$46)=0,1+MAX('100m Manikin Tow Women'!$AC$7:$AC$46),SUMIF('100m Manikin Tow Women'!$C$7:$C$46,$A100,'100m Manikin Tow Women'!$AC$7:$AC$46))))","v":""},{"$f":"IF($A100=\"\",\"\",IF(IF(SUMIF('200m Obs Women'!$C$7:$C$46,$A100,'200m Obs Women'!$AC$7:$AC$46)=0,1+MAX('200m Obs Women'!$AC$7:$AC$46),SUMIF('200m Obs Women'!$C$7:$C$46,$A100,'200m Obs Women'!$AC$7:$AC$46))>2+MAX('200m Obs Women'!$AC$7:$AC$46),MAX('200m Obs Women'!$AC$7:$AC$46),IF(SUMIF('200m Obs Women'!$C$7:$C$46,$A100,'200m Obs Women'!$AC$7:$AC$46)=0,1+MAX('200m Obs Women'!$AC$7:$AC$46),SUMIF('200m Obs Women'!$C$7:$C$46,$A100,'200m Obs Women'!$AC$7:$AC$46))))","v":""},{"$f":"IF($A100=\"\",\"\",IF(IF(SUMIF('200m Super Women'!$C$7:$C$46,$A100,'200m Super Women'!$AC$7:$AC$46)=0,1+MAX('200m Super Women'!$AC$7:$AC$46),SUMIF('200m Super Women'!$C$7:$C$46,$A100,'200m Super Women'!$AC$7:$AC$46))>2+MAX('200m Super Women'!$AC$7:$AC$46),MAX('200m Super Women'!$AC$7:$AC$46),IF(SUMIF('200m Super Women'!$C$7:$C$46,$A100,'200m Super Women'!$AC$7:$AC$46)=0,1+MAX('200m Super Women'!$AC$7:$AC$46),SUMIF('200m Super Women'!$C$7:$C$46,$A100,'200m Super Women'!$AC$7:$AC$46))))","v":""},{"$f":"IF($A100=\"\",\"\",IF(IF(SUMIF('100 Resue Women'!$C$7:$C$46,$A100,'100 Resue Women'!$AC$7:$AC$46)=0,1+MAX('100 Resue Women'!$AC$7:$AC$46),SUMIF('100 Resue Women'!$C$7:$C$46,$A100,'100 Resue Women'!$AC$7:$AC$46))>2+MAX('100 Resue Women'!$AC$7:$AC$46),MAX('100 Resue Women'!$AC$7:$AC$46),IF(SUMIF('100 Resue Women'!$C$7:$C$46,$A100,'100 Resue Women'!$AC$7:$AC$46)=0,1+MAX('100 Resue Women'!$AC$7:$AC$46),SUMIF('100 Resue Women'!$C$7:$C$46,$A100,'100 Resue Women'!$AC$7:$AC$46))))","v":""},{"$f":"IF($A100=\"\",\"\",IF(IF(SUMIF('Line Throw Women'!$C$7:$C$46,$A100,'Line Throw Women'!$AE$7:$AE$46)=0,MAX('Line Throw Women'!$AE$7:$AE$46),SUMIF('Line Throw Women'!$C$7:$C$46,$A100,'Line Throw Women'!$AE$7:$AE$46))>2+MAX('Line Throw Women'!$AE$7:$AE$46),MAX('Line Throw Women'!$AE$7:$AE$46),IF(SUMIF('Line Throw Women'!$C$7:$C$46,$A100,'Line Throw Women'!$AE$7:$AE$46)=0,1+MAX('Line Throw Women'!$AE$7:$AE$46),SUMIF('Line Throw Women'!$C$7:$C$46,$A100,'Line Throw Women'!$AE$7:$AE$46))))","v":""},{"$f":"IF($A100=\"\",\"\",IF(IF(SUMIF('4 x 50 Obs Relay Women'!$C$7:$C$46,$A100,'4 x 50 Obs Relay Women'!$AH$7:$AH$46)=0,1+MAX('4 x 50 Obs Relay Women'!$AH$7:$AH$46),SUMIF('4 x 50 Obs Relay Women'!$C$7:$C$46,$A100,'4 x 50 Obs Relay Women'!$AH$7:$AH$46))>2+MAX('4 x 50 Obs Relay Women'!$AH$7:$AH$46),MAX('4 x 50 Obs Relay Women'!$AH$7:$AH$46),IF(SUMIF('4 x 50 Obs Relay Women'!$C$7:$C$46,$A100,'4 x 50 Obs Relay Women'!$AH$7:$AH$46)=0,1+MAX('4 x 50 Obs Relay Women'!$AH$7:$AH$46),SUMIF('4 x 50 Obs Relay Women'!$C$7:$C$46,$A100,'4 x 50 Obs Relay Women'!$AH$7:$AH$46))))","v":""},{"$f":"IF($A100=\"\",\"\",IF(IF(SUMIF('4 x 50 medley Relay Women'!$C$7:$C$46,$A100,'4 x 50 medley Relay Women'!$AH$7:$AH$46)=0,1+MAX('4 x 50 medley Relay Women'!$AH$7:$AH$46),SUMIF('4 x 50 medley Relay Women'!$C$7:$C$46,$A100,'4 x 50 medley Relay Women'!$AH$7:$AH$46))>2+MAX('4 x 50 medley Relay Women'!$AH$7:$AH$46),MAX('4 x 50 medley Relay Women'!$AH$7:$AH$46),IF(SUMIF('4 x 50 medley Relay Women'!$C$7:$C$46,$A100,'4 x 50 medley Relay Women'!$AH$7:$AH$46)=0,1+MAX('4 x 50 medley Relay Women'!$AH$7:$AH$46),SUMIF('4 x 50 medley Relay Women'!$C$7:$C$46,$A100,'4 x 50 medley Relay Women'!$AH$7:$AH$46))))","v":""},{"$f":"IF($A100=\"\",\"\",IF(IF(SUMIF('4 x 25 Manikin Carry Women'!$C$7:$C$46,$A100,'4 x 25 Manikin Carry Women'!$AH$7:$AH$46)=0,1+MAX('4 x 25 Manikin Carry Women'!$AH$7:$AH$46),SUMIF('4 x 25 Manikin Carry Women'!$C$7:$C$46,$A100,'4 x 25 Manikin Carry Women'!$AH$7:$AH$46))>2+MAX('4 x 25 Manikin Carry Women'!$AH$7:$AH$46),MAX('4 x 25 Manikin Carry Women'!$AH$7:$AH$46),IF(SUMIF('4 x 25 Manikin Carry Women'!$C$7:$C$46,$A100,'4 x 25 Manikin Carry Women'!$AH$7:$AH$46)=0,1+MAX('4 x 25 Manikin Carry Women'!$AH$7:$AH$46),SUMIF('4 x 25 Manikin Carry Women'!$C$7:$C$46,$A100,'4 x 25 Manikin Carry Women'!$AH$7:$AH$46))))","v":""},{"$f":"IF($A100=\"\",\"\",IF(IF(SUMIF('Line Throw Relay Women'!$C$7:$C$46,$A100,'Line Throw Relay Women'!$AH$7:$AH$46)=0,1+MAX('Line Throw Relay Women'!$AH$7:$AH$46),SUMIF('Line Throw Relay Women'!$C$7:$C$46,$A100,'Line Throw Relay Women'!$AH$7:$AH$46))>2+MAX('Line Throw Relay Women'!$AH$7:$AH$46),MAX('Line Throw Relay Women'!$AH$7:$AH$46),IF(SUMIF('Line Throw Relay Women'!$C$7:$C$46,$A100,'Line Throw Relay Women'!$AH$7:$AH$46)=0,1+MAX('Line Throw Relay Women'!$AH$7:$AH$46),SUMIF('Line Throw Relay Women'!$C$7:$C$46,$A100,'Line Throw Relay Women'!$AH$7:$AH$46))))","v":""},"",""]
["","",{"$f":"IF($A101=\"\",\"\",IF(IF(SUMIF('50m Manikin Carry Women'!$C$7:$C$46,$A101,'50m Manikin Carry Women'!$AC$7:$AC$46)=0,1+MAX('50m Manikin Carry Women'!$AC$7:$AC$46),SUMIF('50m Manikin Carry Women'!$C$7:$C$46,$A101,'50m Manikin Carry Women'!$AC$7:$AC$46))>MAX('50m Manikin Carry Women'!$AC$7:$AC$46)+2,MAX('50m Manikin Carry Women'!$AC$7:$AC$46),IF(SUMIF('50m Manikin Carry Women'!$C$7:$C$46,$A101,'50m Manikin Carry Women'!$AC$7:$AC$46)=0,1+MAX('50m Manikin Carry Women'!$AC$7:$AC$46),SUMIF('50m Manikin Carry Women'!$C$7:$C$46,$A101,'50m Manikin Carry Women'!$AC$7:$AC$46))))","v":""},{"$f":"IF($A101=\"\",\"\",IF(IF(SUMIF('100m Manikin Carry Women'!$C$7:$C$46,$A101,'100m Manikin Carry Women'!$AC$7:$AC$46)=0,1+MAX('100m Manikin Carry Women'!$AC$7:$AC$46),SUMIF('100m Manikin Carry Women'!$C$7:$C$46,$A101,'100m Manikin Carry Women'!$AC$7:$AC$46))>2+MAX('100m Manikin Carry Women'!$AC$7:$AC$46),MAX('100m Manikin Carry Women'!$AC$7:$AC$46),IF(SUMIF('100m Manikin Carry Women'!$C$7:$C$46,$A101,'100m Manikin Carry Women'!$AC$7:$AC$46)=0,1+MAX('100m Manikin Carry Women'!$AC$7:$AC$46),SUMIF('100m Manikin Carry Women'!$C$7:$C$46,$A101,'100m Manikin Carry Women'!$AC$7:$AC$46))))","v":""},{"$f":"IF($A101=\"\",\"\",IF(IF(SUMIF('100m Manikin Tow Women'!$C$7:$C$46,$A101,'100m Manikin Tow Women'!$AC$7:$AC$46)=0,1+MAX('100m Manikin Tow Women'!$AC$7:$AC$46),SUMIF('100m Manikin Tow Women'!$C$7:$C$46,$A101,'100m Manikin Tow Women'!$AC$7:$AC$46))>2+MAX('100m Manikin Tow Women'!$AC$7:$AC$46),MAX('100m Manikin Tow Women'!$AC$7:$AC$46),IF(SUMIF('100m Manikin Tow Women'!$C$7:$C$46,$A101,'100m Manikin Tow Women'!$AC$7:$AC$46)=0,1+MAX('100m Manikin Tow Women'!$AC$7:$AC$46),SUMIF('100m Manikin Tow Women'!$C$7:$C$46,$A101,'100m Manikin Tow Women'!$AC$7:$AC$46))))","v":""},{"$f":"IF($A101=\"\",\"\",IF(IF(SUMIF('200m Obs Women'!$C$7:$C$46,$A101,'200m Obs Women'!$AC$7:$AC$46)=0,1+MAX('200m Obs Women'!$AC$7:$AC$46),SUMIF('200m Obs Women'!$C$7:$C$46,$A101,'200m Obs Women'!$AC$7:$AC$46))>2+MAX('200m Obs Women'!$AC$7:$AC$46),MAX('200m Obs Women'!$AC$7:$AC$46),IF(SUMIF('200m Obs Women'!$C$7:$C$46,$A101,'200m Obs Women'!$AC$7:$AC$46)=0,1+MAX('200m Obs Women'!$AC$7:$AC$46),SUMIF('200m Obs Women'!$C$7:$C$46,$A101,'200m Obs Women'!$AC$7:$AC$46))))","v":""},{"$f":"IF($A101=\"\",\"\",IF(IF(SUMIF('200m Super Women'!$C$7:$C$46,$A101,'200m Super Women'!$AC$7:$AC$46)=0,1+MAX('200m Super Women'!$AC$7:$AC$46),SUMIF('200m Super Women'!$C$7:$C$46,$A101,'200m Super Women'!$AC$7:$AC$46))>2+MAX('200m Super Women'!$AC$7:$AC$46),MAX('200m Super Women'!$AC$7:$AC$46),IF(SUMIF('200m Super Women'!$C$7:$C$46,$A101,'200m Super Women'!$AC$7:$AC$46)=0,1+MAX('200m Super Women'!$AC$7:$AC$46),SUMIF('200m Super Women'!$C$7:$C$46,$A101,'200m Super Women'!$AC$7:$AC$46))))","v":""},{"$f":"IF($A101=\"\",\"\",IF(IF(SUMIF('100 Resue Women'!$C$7:$C$46,$A101,'100 Resue Women'!$AC$7:$AC$46)=0,1+MAX('100 Resue Women'!$AC$7:$AC$46),SUMIF('100 Resue Women'!$C$7:$C$46,$A101,'100 Resue Women'!$AC$7:$AC$46))>2+MAX('100 Resue Women'!$AC$7:$AC$46),MAX('100 Resue Women'!$AC$7:$AC$46),IF(SUMIF('100 Resue Women'!$C$7:$C$46,$A101,'100 Resue Women'!$AC$7:$AC$46)=0,1+MAX('100 Resue Women'!$AC$7:$AC$46),SUMIF('100 Resue Women'!$C$7:$C$46,$A101,'100 Resue Women'!$AC$7:$AC$46))))","v":""},{"$f":"IF($A101=\"\",\"\",IF(IF(SUMIF('Line Throw Women'!$C$7:$C$46,$A101,'Line Throw Women'!$AE$7:$AE$46)=0,MAX('Line Throw Women'!$AE$7:$AE$46),SUMIF('Line Throw Women'!$C$7:$C$46,$A101,'Line Throw Women'!$AE$7:$AE$46))>2+MAX('Line Throw Women'!$AE$7:$AE$46),MAX('Line Throw Women'!$AE$7:$AE$46),IF(SUMIF('Line Throw Women'!$C$7:$C$46,$A101,'Line Throw Women'!$AE$7:$AE$46)=0,1+MAX('Line Throw Women'!$AE$7:$AE$46),SUMIF('Line Throw Women'!$C$7:$C$46,$A101,'Line Throw Women'!$AE$7:$AE$46))))","v":""},{"$f":"IF($A101=\"\",\"\",IF(IF(SUMIF('4 x 50 Obs Relay Women'!$C$7:$C$46,$A101,'4 x 50 Obs Relay Women'!$AH$7:$AH$46)=0,1+MAX('4 x 50 Obs Relay Women'!$AH$7:$AH$46),SUMIF('4 x 50 Obs Relay Women'!$C$7:$C$46,$A101,'4 x 50 Obs Relay Women'!$AH$7:$AH$46))>2+MAX('4 x 50 Obs Relay Women'!$AH$7:$AH$46),MAX('4 x 50 Obs Relay Women'!$AH$7:$AH$46),IF(SUMIF('4 x 50 Obs Relay Women'!$C$7:$C$46,$A101,'4 x 50 Obs Relay Women'!$AH$7:$AH$46)=0,1+MAX('4 x 50 Obs Relay Women'!$AH$7:$AH$46),SUMIF('4 x 50 Obs Relay Women'!$C$7:$C$46,$A101,'4 x 50 Obs Relay Women'!$AH$7:$AH$46))))","v":""},{"$f":"IF($A101=\"\",\"\",IF(IF(SUMIF('4 x 50 medley Relay Women'!$C$7:$C$46,$A101,'4 x 50 medley Relay Women'!$AH$7:$AH$46)=0,1+MAX('4 x 50 medley Relay Women'!$AH$7:$AH$46),SUMIF('4 x 50 medley Relay Women'!$C$7:$C$46,$A101,'4 x 50 medley Relay Women'!$AH$7:$AH$46))>2+MAX('4 x 50 medley Relay Women'!$AH$7:$AH$46),MAX('4 x 50 medley Relay Women'!$AH$7:$AH$46),IF(SUMIF('4 x 50 medley Relay Women'!$C$7:$C$46,$A101,'4 x 50 medley Relay Women'!$AH$7:$AH$46)=0,1+MAX('4 x 50 medley Relay Women'!$AH$7:$AH$46),SUMIF('4 x 50 medley Relay Women'!$C$7:$C$46,$A101,'4 x 50 medley Relay Women'!$AH$7:$AH$46))))","v":""},{"$f":"IF($A101=\"\",\"\",IF(IF(SUMIF('4 x 25 Manikin Carry Women'!$C$7:$C$46,$A101,'4 x 25 Manikin Carry Women'!$AH$7:$AH$46)=0,1+MAX('4 x 25 Manikin Carry Women'!$AH$7:$AH$46),SUMIF('4 x 25 Manikin Carry Women'!$C$7:$C$46,$A101,'4 x 25 Manikin Carry Women'!$AH$7:$AH$46))>2+MAX('4 x 25 Manikin Carry Women'!$AH$7:$AH$46),MAX('4 x 25 Manikin Carry Women'!$AH$7:$AH$46),IF(SUMIF('4 x 25 Manikin Carry Women'!$C$7:$C$46,$A101,'4 x 25 Manikin Carry Women'!$AH$7:$AH$46)=0,1+MAX('4 x 25 Manikin Carry Women'!$AH$7:$AH$46),SUMIF('4 x 25 Manikin Carry Women'!$C$7:$C$46,$A101,'4 x 25 Manikin Carry Women'!$AH$7:$AH$46))))","v":""},{"$f":"IF($A101=\"\",\"\",IF(IF(SUMIF('Line Throw Relay Women'!$C$7:$C$46,$A101,'Line Throw Relay Women'!$AH$7:$AH$46)=0,1+MAX('Line Throw Relay Women'!$AH$7:$AH$46),SUMIF('Line Throw Relay Women'!$C$7:$C$46,$A101,'Line Throw Relay Women'!$AH$7:$AH$46))>2+MAX('Line Throw Relay Women'!$AH$7:$AH$46),MAX('Line Throw Relay Women'!$AH$7:$AH$46),IF(SUMIF('Line Throw Relay Women'!$C$7:$C$46,$A101,'Line Throw Relay Women'!$AH$7:$AH$46)=0,1+MAX('Line Throw Relay Women'!$AH$7:$AH$46),SUMIF('Line Throw Relay Women'!$C$7:$C$46,$A101,'Line Throw Relay Women'!$AH$7:$AH$46))))","v":""},"",""]
["","",{"$f":"IF($A102=\"\",\"\",IF(IF(SUMIF('50m Manikin Carry Women'!$C$7:$C$46,$A102,'50m Manikin Carry Women'!$AC$7:$AC$46)=0,1+MAX('50m Manikin Carry Women'!$AC$7:$AC$46),SUMIF('50m Manikin Carry Women'!$C$7:$C$46,$A102,'50m Manikin Carry Women'!$AC$7:$AC$46))>MAX('50m Manikin Carry Women'!$AC$7:$AC$46)+2,MAX('50m Manikin Carry Women'!$AC$7:$AC$46),IF(SUMIF('50m Manikin Carry Women'!$C$7:$C$46,$A102,'50m Manikin Carry Women'!$AC$7:$AC$46)=0,1+MAX('50m Manikin Carry Women'!$AC$7:$AC$46),SUMIF('50m Manikin Carry Women'!$C$7:$C$46,$A102,'50m Manikin Carry Women'!$AC$7:$AC$46))))","v":""},{"$f":"IF($A102=\"\",\"\",IF(IF(SUMIF('100m Manikin Carry Women'!$C$7:$C$46,$A102,'100m Manikin Carry Women'!$AC$7:$AC$46)=0,1+MAX('100m Manikin Carry Women'!$AC$7:$AC$46),SUMIF('100m Manikin Carry Women'!$C$7:$C$46,$A102,'100m Manikin Carry Women'!$AC$7:$AC$46))>2+MAX('100m Manikin Carry Women'!$AC$7:$AC$46),MAX('100m Manikin Carry Women'!$AC$7:$AC$46),IF(SUMIF('100m Manikin Carry Women'!$C$7:$C$46,$A102,'100m Manikin Carry Women'!$AC$7:$AC$46)=0,1+MAX('100m Manikin Carry Women'!$AC$7:$AC$46),SUMIF('100m Manikin Carry Women'!$C$7:$C$46,$A102,'100m Manikin Carry Women'!$AC$7:$AC$46))))","v":""},{"$f":"IF($A102=\"\",\"\",IF(IF(SUMIF('100m Manikin Tow Women'!$C$7:$C$46,$A102,'100m Manikin Tow Women'!$AC$7:$AC$46)=0,1+MAX('100m Manikin Tow Women'!$AC$7:$AC$46),SUMIF('100m Manikin Tow Women'!$C$7:$C$46,$A102,'100m Manikin Tow Women'!$AC$7:$AC$46))>2+MAX('100m Manikin Tow Women'!$AC$7:$AC$46),MAX('100m Manikin Tow Women'!$AC$7:$AC$46),IF(SUMIF('100m Manikin Tow Women'!$C$7:$C$46,$A102,'100m Manikin Tow Women'!$AC$7:$AC$46)=0,1+MAX('100m Manikin Tow Women'!$AC$7:$AC$46),SUMIF('100m Manikin Tow Women'!$C$7:$C$46,$A102,'100m Manikin Tow Women'!$AC$7:$AC$46))))","v":""},{"$f":"IF($A102=\"\",\"\",IF(IF(SUMIF('200m Obs Women'!$C$7:$C$46,$A102,'200m Obs Women'!$AC$7:$AC$46)=0,1+MAX('200m Obs Women'!$AC$7:$AC$46),SUMIF('200m Obs Women'!$C$7:$C$46,$A102,'200m Obs Women'!$AC$7:$AC$46))>2+MAX('200m Obs Women'!$AC$7:$AC$46),MAX('200m Obs Women'!$AC$7:$AC$46),IF(SUMIF('200m Obs Women'!$C$7:$C$46,$A102,'200m Obs Women'!$AC$7:$AC$46)=0,1+MAX('200m Obs Women'!$AC$7:$AC$46),SUMIF('200m Obs Women'!$C$7:$C$46,$A102,'200m Obs Women'!$AC$7:$AC$46))))","v":""},{"$f":"IF($A102=\"\",\"\",IF(IF(SUMIF('200m Super Women'!$C$7:$C$46,$A102,'200m Super Women'!$AC$7:$AC$46)=0,1+MAX('200m Super Women'!$AC$7:$AC$46),SUMIF('200m Super Women'!$C$7:$C$46,$A102,'200m Super Women'!$AC$7:$AC$46))>2+MAX('200m Super Women'!$AC$7:$AC$46),MAX('200m Super Women'!$AC$7:$AC$46),IF(SUMIF('200m Super Women'!$C$7:$C$46,$A102,'200m Super Women'!$AC$7:$AC$46)=0,1+MAX('200m Super Women'!$AC$7:$AC$46),SUMIF('200m Super Women'!$C$7:$C$46,$A102,'200m Super Women'!$AC$7:$AC$46))))","v":""},{"$f":"IF($A102=\"\",\"\",IF(IF(SUMIF('100 Resue Women'!$C$7:$C$46,$A102,'100 Resue Women'!$AC$7:$AC$46)=0,1+MAX('100 Resue Women'!$AC$7:$AC$46),SUMIF('100 Resue Women'!$C$7:$C$46,$A102,'100 Resue Women'!$AC$7:$AC$46))>2+MAX('100 Resue Women'!$AC$7:$AC$46),MAX('100 Resue Women'!$AC$7:$AC$46),IF(SUMIF('100 Resue Women'!$C$7:$C$46,$A102,'100 Resue Women'!$AC$7:$AC$46)=0,1+MAX('100 Resue Women'!$AC$7:$AC$46),SUMIF('100 Resue Women'!$C$7:$C$46,$A102,'100 Resue Women'!$AC$7:$AC$46))))","v":""},{"$f":"IF($A102=\"\",\"\",IF(IF(SUMIF('Line Throw Women'!$C$7:$C$46,$A102,'Line Throw Women'!$AE$7:$AE$46)=0,MAX('Line Throw Women'!$AE$7:$AE$46),SUMIF('Line Throw Women'!$C$7:$C$46,$A102,'Line Throw Women'!$AE$7:$AE$46))>2+MAX('Line Throw Women'!$AE$7:$AE$46),MAX('Line Throw Women'!$AE$7:$AE$46),IF(SUMIF('Line Throw Women'!$C$7:$C$46,$A102,'Line Throw Women'!$AE$7:$AE$46)=0,1+MAX('Line Throw Women'!$AE$7:$AE$46),SUMIF('Line Throw Women'!$C$7:$C$46,$A102,'Line Throw Women'!$AE$7:$AE$46))))","v":""},{"$f":"IF($A102=\"\",\"\",IF(IF(SUMIF('4 x 50 Obs Relay Women'!$C$7:$C$46,$A102,'4 x 50 Obs Relay Women'!$AH$7:$AH$46)=0,1+MAX('4 x 50 Obs Relay Women'!$AH$7:$AH$46),SUMIF('4 x 50 Obs Relay Women'!$C$7:$C$46,$A102,'4 x 50 Obs Relay Women'!$AH$7:$AH$46))>2+MAX('4 x 50 Obs Relay Women'!$AH$7:$AH$46),MAX('4 x 50 Obs Relay Women'!$AH$7:$AH$46),IF(SUMIF('4 x 50 Obs Relay Women'!$C$7:$C$46,$A102,'4 x 50 Obs Relay Women'!$AH$7:$AH$46)=0,1+MAX('4 x 50 Obs Relay Women'!$AH$7:$AH$46),SUMIF('4 x 50 Obs Relay Women'!$C$7:$C$46,$A102,'4 x 50 Obs Relay Women'!$AH$7:$AH$46))))","v":""},{"$f":"IF($A102=\"\",\"\",IF(IF(SUMIF('4 x 50 medley Relay Women'!$C$7:$C$46,$A102,'4 x 50 medley Relay Women'!$AH$7:$AH$46)=0,1+MAX('4 x 50 medley Relay Women'!$AH$7:$AH$46),SUMIF('4 x 50 medley Relay Women'!$C$7:$C$46,$A102,'4 x 50 medley Relay Women'!$AH$7:$AH$46))>2+MAX('4 x 50 medley Relay Women'!$AH$7:$AH$46),MAX('4 x 50 medley Relay Women'!$AH$7:$AH$46),IF(SUMIF('4 x 50 medley Relay Women'!$C$7:$C$46,$A102,'4 x 50 medley Relay Women'!$AH$7:$AH$46)=0,1+MAX('4 x 50 medley Relay Women'!$AH$7:$AH$46),SUMIF('4 x 50 medley Relay Women'!$C$7:$C$46,$A102,'4 x 50 medley Relay Women'!$AH$7:$AH$46))))","v":""},{"$f":"IF($A102=\"\",\"\",IF(IF(SUMIF('4 x 25 Manikin Carry Women'!$C$7:$C$46,$A102,'4 x 25 Manikin Carry Women'!$AH$7:$AH$46)=0,1+MAX('4 x 25 Manikin Carry Women'!$AH$7:$AH$46),SUMIF('4 x 25 Manikin Carry Women'!$C$7:$C$46,$A102,'4 x 25 Manikin Carry Women'!$AH$7:$AH$46))>2+MAX('4 x 25 Manikin Carry Women'!$AH$7:$AH$46),MAX('4 x 25 Manikin Carry Women'!$AH$7:$AH$46),IF(SUMIF('4 x 25 Manikin Carry Women'!$C$7:$C$46,$A102,'4 x 25 Manikin Carry Women'!$AH$7:$AH$46)=0,1+MAX('4 x 25 Manikin Carry Women'!$AH$7:$AH$46),SUMIF('4 x 25 Manikin Carry Women'!$C$7:$C$46,$A102,'4 x 25 Manikin Carry Women'!$AH$7:$AH$46))))","v":""},{"$f":"IF($A102=\"\",\"\",IF(IF(SUMIF('Line Throw Relay Women'!$C$7:$C$46,$A102,'Line Throw Relay Women'!$AH$7:$AH$46)=0,1+MAX('Line Throw Relay Women'!$AH$7:$AH$46),SUMIF('Line Throw Relay Women'!$C$7:$C$46,$A102,'Line Throw Relay Women'!$AH$7:$AH$46))>2+MAX('Line Throw Relay Women'!$AH$7:$AH$46),MAX('Line Throw Relay Women'!$AH$7:$AH$46),IF(SUMIF('Line Throw Relay Women'!$C$7:$C$46,$A102,'Line Throw Relay Women'!$AH$7:$AH$46)=0,1+MAX('Line Throw Relay Women'!$AH$7:$AH$46),SUMIF('Line Throw Relay Women'!$C$7:$C$46,$A102,'Line Throw Relay Women'!$AH$7:$AH$46))))","v":""},"",""]
["","",{"$f":"IF($A103=\"\",\"\",IF(IF(SUMIF('50m Manikin Carry Women'!$C$7:$C$46,$A103,'50m Manikin Carry Women'!$AC$7:$AC$46)=0,1+MAX('50m Manikin Carry Women'!$AC$7:$AC$46),SUMIF('50m Manikin Carry Women'!$C$7:$C$46,$A103,'50m Manikin Carry Women'!$AC$7:$AC$46))>MAX('50m Manikin Carry Women'!$AC$7:$AC$46)+2,MAX('50m Manikin Carry Women'!$AC$7:$AC$46),IF(SUMIF('50m Manikin Carry Women'!$C$7:$C$46,$A103,'50m Manikin Carry Women'!$AC$7:$AC$46)=0,1+MAX('50m Manikin Carry Women'!$AC$7:$AC$46),SUMIF('50m Manikin Carry Women'!$C$7:$C$46,$A103,'50m Manikin Carry Women'!$AC$7:$AC$46))))","v":""},{"$f":"IF($A103=\"\",\"\",IF(IF(SUMIF('100m Manikin Carry Women'!$C$7:$C$46,$A103,'100m Manikin Carry Women'!$AC$7:$AC$46)=0,1+MAX('100m Manikin Carry Women'!$AC$7:$AC$46),SUMIF('100m Manikin Carry Women'!$C$7:$C$46,$A103,'100m Manikin Carry Women'!$AC$7:$AC$46))>2+MAX('100m Manikin Carry Women'!$AC$7:$AC$46),MAX('100m Manikin Carry Women'!$AC$7:$AC$46),IF(SUMIF('100m Manikin Carry Women'!$C$7:$C$46,$A103,'100m Manikin Carry Women'!$AC$7:$AC$46)=0,1+MAX('100m Manikin Carry Women'!$AC$7:$AC$46),SUMIF('100m Manikin Carry Women'!$C$7:$C$46,$A103,'100m Manikin Carry Women'!$AC$7:$AC$46))))","v":""},{"$f":"IF($A103=\"\",\"\",IF(IF(SUMIF('100m Manikin Tow Women'!$C$7:$C$46,$A103,'100m Manikin Tow Women'!$AC$7:$AC$46)=0,1+MAX('100m Manikin Tow Women'!$AC$7:$AC$46),SUMIF('100m Manikin Tow Women'!$C$7:$C$46,$A103,'100m Manikin Tow Women'!$AC$7:$AC$46))>2+MAX('100m Manikin Tow Women'!$AC$7:$AC$46),MAX('100m Manikin Tow Women'!$AC$7:$AC$46),IF(SUMIF('100m Manikin Tow Women'!$C$7:$C$46,$A103,'100m Manikin Tow Women'!$AC$7:$AC$46)=0,1+MAX('100m Manikin Tow Women'!$AC$7:$AC$46),SUMIF('100m Manikin Tow Women'!$C$7:$C$46,$A103,'100m Manikin Tow Women'!$AC$7:$AC$46))))","v":""},{"$f":"IF($A103=\"\",\"\",IF(IF(SUMIF('200m Obs Women'!$C$7:$C$46,$A103,'200m Obs Women'!$AC$7:$AC$46)=0,1+MAX('200m Obs Women'!$AC$7:$AC$46),SUMIF('200m Obs Women'!$C$7:$C$46,$A103,'200m Obs Women'!$AC$7:$AC$46))>2+MAX('200m Obs Women'!$AC$7:$AC$46),MAX('200m Obs Women'!$AC$7:$AC$46),IF(SUMIF('200m Obs Women'!$C$7:$C$46,$A103,'200m Obs Women'!$AC$7:$AC$46)=0,1+MAX('200m Obs Women'!$AC$7:$AC$46),SUMIF('200m Obs Women'!$C$7:$C$46,$A103,'200m Obs Women'!$AC$7:$AC$46))))","v":""},{"$f":"IF($A103=\"\",\"\",IF(IF(SUMIF('200m Super Women'!$C$7:$C$46,$A103,'200m Super Women'!$AC$7:$AC$46)=0,1+MAX('200m Super Women'!$AC$7:$AC$46),SUMIF('200m Super Women'!$C$7:$C$46,$A103,'200m Super Women'!$AC$7:$AC$46))>2+MAX('200m Super Women'!$AC$7:$AC$46),MAX('200m Super Women'!$AC$7:$AC$46),IF(SUMIF('200m Super Women'!$C$7:$C$46,$A103,'200m Super Women'!$AC$7:$AC$46)=0,1+MAX('200m Super Women'!$AC$7:$AC$46),SUMIF('200m Super Women'!$C$7:$C$46,$A103,'200m Super Women'!$AC$7:$AC$46))))","v":""},{"$f":"IF($A103=\"\",\"\",IF(IF(SUMIF('100 Resue Women'!$C$7:$C$46,$A103,'100 Resue Women'!$AC$7:$AC$46)=0,1+MAX('100 Resue Women'!$AC$7:$AC$46),SUMIF('100 Resue Women'!$C$7:$C$46,$A103,'100 Resue Women'!$AC$7:$AC$46))>2+MAX('100 Resue Women'!$AC$7:$AC$46),MAX('100 Resue Women'!$AC$7:$AC$46),IF(SUMIF('100 Resue Women'!$C$7:$C$46,$A103,'100 Resue Women'!$AC$7:$AC$46)=0,1+MAX('100 Resue Women'!$AC$7:$AC$46),SUMIF('100 Resue Women'!$C$7:$C$46,$A103,'100 Resue Women'!$AC$7:$AC$46))))","v":""},{"$f":"IF($A103=\"\",\"\",IF(IF(SUMIF('Line Throw Women'!$C$7:$C$46,$A103,'Line Throw Women'!$AE$7:$AE$46)=0,MAX('Line Throw Women'!$AE$7:$AE$46),SUMIF('Line Throw Women'!$C$7:$C$46,$A103,'Line Throw Women'!$AE$7:$AE$46))>2+MAX('Line Throw Women'!$AE$7:$AE$46),MAX('Line Throw Women'!$AE$7:$AE$46),IF(SUMIF('Line Throw Women'!$C$7:$C$46,$A103,'Line Throw Women'!$AE$7:$AE$46)=0,1+MAX('Line Throw Women'!$AE$7:$AE$46),SUMIF('Line Throw Women'!$C$7:$C$46,$A103,'Line Throw Women'!$AE$7:$AE$46))))","v":""},{"$f":"IF($A103=\"\",\"\",IF(IF(SUMIF('4 x 50 Obs Relay Women'!$C$7:$C$46,$A103,'4 x 50 Obs Relay Women'!$AH$7:$AH$46)=0,1+MAX('4 x 50 Obs Relay Women'!$AH$7:$AH$46),SUMIF('4 x 50 Obs Relay Women'!$C$7:$C$46,$A103,'4 x 50 Obs Relay Women'!$AH$7:$AH$46))>2+MAX('4 x 50 Obs Relay Women'!$AH$7:$AH$46),MAX('4 x 50 Obs Relay Women'!$AH$7:$AH$46),IF(SUMIF('4 x 50 Obs Relay Women'!$C$7:$C$46,$A103,'4 x 50 Obs Relay Women'!$AH$7:$AH$46)=0,1+MAX('4 x 50 Obs Relay Women'!$AH$7:$AH$46),SUMIF('4 x 50 Obs Relay Women'!$C$7:$C$46,$A103,'4 x 50 Obs Relay Women'!$AH$7:$AH$46))))","v":""},{"$f":"IF($A103=\"\",\"\",IF(IF(SUMIF('4 x 50 medley Relay Women'!$C$7:$C$46,$A103,'4 x 50 medley Relay Women'!$AH$7:$AH$46)=0,1+MAX('4 x 50 medley Relay Women'!$AH$7:$AH$46),SUMIF('4 x 50 medley Relay Women'!$C$7:$C$46,$A103,'4 x 50 medley Relay Women'!$AH$7:$AH$46))>2+MAX('4 x 50 medley Relay Women'!$AH$7:$AH$46),MAX('4 x 50 medley Relay Women'!$AH$7:$AH$46),IF(SUMIF('4 x 50 medley Relay Women'!$C$7:$C$46,$A103,'4 x 50 medley Relay Women'!$AH$7:$AH$46)=0,1+MAX('4 x 50 medley Relay Women'!$AH$7:$AH$46),SUMIF('4 x 50 medley Relay Women'!$C$7:$C$46,$A103,'4 x 50 medley Relay Women'!$AH$7:$AH$46))))","v":""},{"$f":"IF($A103=\"\",\"\",IF(IF(SUMIF('4 x 25 Manikin Carry Women'!$C$7:$C$46,$A103,'4 x 25 Manikin Carry Women'!$AH$7:$AH$46)=0,1+MAX('4 x 25 Manikin Carry Women'!$AH$7:$AH$46),SUMIF('4 x 25 Manikin Carry Women'!$C$7:$C$46,$A103,'4 x 25 Manikin Carry Women'!$AH$7:$AH$46))>2+MAX('4 x 25 Manikin Carry Women'!$AH$7:$AH$46),MAX('4 x 25 Manikin Carry Women'!$AH$7:$AH$46),IF(SUMIF('4 x 25 Manikin Carry Women'!$C$7:$C$46,$A103,'4 x 25 Manikin Carry Women'!$AH$7:$AH$46)=0,1+MAX('4 x 25 Manikin Carry Women'!$AH$7:$AH$46),SUMIF('4 x 25 Manikin Carry Women'!$C$7:$C$46,$A103,'4 x 25 Manikin Carry Women'!$AH$7:$AH$46))))","v":""},{"$f":"IF($A103=\"\",\"\",IF(IF(SUMIF('Line Throw Relay Women'!$C$7:$C$46,$A103,'Line Throw Relay Women'!$AH$7:$AH$46)=0,1+MAX('Line Throw Relay Women'!$AH$7:$AH$46),SUMIF('Line Throw Relay Women'!$C$7:$C$46,$A103,'Line Throw Relay Women'!$AH$7:$AH$46))>2+MAX('Line Throw Relay Women'!$AH$7:$AH$46),MAX('Line Throw Relay Women'!$AH$7:$AH$46),IF(SUMIF('Line Throw Relay Women'!$C$7:$C$46,$A103,'Line Throw Relay Women'!$AH$7:$AH$46)=0,1+MAX('Line Throw Relay Women'!$AH$7:$AH$46),SUMIF('Line Throw Relay Women'!$C$7:$C$46,$A103,'Line Throw Relay Women'!$AH$7:$AH$46))))","v":""},"",""]
["","",{"$f":"IF($A104=\"\",\"\",IF(IF(SUMIF('50m Manikin Carry Women'!$C$7:$C$46,$A104,'50m Manikin Carry Women'!$AC$7:$AC$46)=0,1+MAX('50m Manikin Carry Women'!$AC$7:$AC$46),SUMIF('50m Manikin Carry Women'!$C$7:$C$46,$A104,'50m Manikin Carry Women'!$AC$7:$AC$46))>MAX('50m Manikin Carry Women'!$AC$7:$AC$46)+2,MAX('50m Manikin Carry Women'!$AC$7:$AC$46),IF(SUMIF('50m Manikin Carry Women'!$C$7:$C$46,$A104,'50m Manikin Carry Women'!$AC$7:$AC$46)=0,1+MAX('50m Manikin Carry Women'!$AC$7:$AC$46),SUMIF('50m Manikin Carry Women'!$C$7:$C$46,$A104,'50m Manikin Carry Women'!$AC$7:$AC$46))))","v":""},{"$f":"IF($A104=\"\",\"\",IF(IF(SUMIF('100m Manikin Carry Women'!$C$7:$C$46,$A104,'100m Manikin Carry Women'!$AC$7:$AC$46)=0,1+MAX('100m Manikin Carry Women'!$AC$7:$AC$46),SUMIF('100m Manikin Carry Women'!$C$7:$C$46,$A104,'100m Manikin Carry Women'!$AC$7:$AC$46))>2+MAX('100m Manikin Carry Women'!$AC$7:$AC$46),MAX('100m Manikin Carry Women'!$AC$7:$AC$46),IF(SUMIF('100m Manikin Carry Women'!$C$7:$C$46,$A104,'100m Manikin Carry Women'!$AC$7:$AC$46)=0,1+MAX('100m Manikin Carry Women'!$AC$7:$AC$46),SUMIF('100m Manikin Carry Women'!$C$7:$C$46,$A104,'100m Manikin Carry Women'!$AC$7:$AC$46))))","v":""},{"$f":"IF($A104=\"\",\"\",IF(IF(SUMIF('100m Manikin Tow Women'!$C$7:$C$46,$A104,'100m Manikin Tow Women'!$AC$7:$AC$46)=0,1+MAX('100m Manikin Tow Women'!$AC$7:$AC$46),SUMIF('100m Manikin Tow Women'!$C$7:$C$46,$A104,'100m Manikin Tow Women'!$AC$7:$AC$46))>2+MAX('100m Manikin Tow Women'!$AC$7:$AC$46),MAX('100m Manikin Tow Women'!$AC$7:$AC$46),IF(SUMIF('100m Manikin Tow Women'!$C$7:$C$46,$A104,'100m Manikin Tow Women'!$AC$7:$AC$46)=0,1+MAX('100m Manikin Tow Women'!$AC$7:$AC$46),SUMIF('100m Manikin Tow Women'!$C$7:$C$46,$A104,'100m Manikin Tow Women'!$AC$7:$AC$46))))","v":""},{"$f":"IF($A104=\"\",\"\",IF(IF(SUMIF('200m Obs Women'!$C$7:$C$46,$A104,'200m Obs Women'!$AC$7:$AC$46)=0,1+MAX('200m Obs Women'!$AC$7:$AC$46),SUMIF('200m Obs Women'!$C$7:$C$46,$A104,'200m Obs Women'!$AC$7:$AC$46))>2+MAX('200m Obs Women'!$AC$7:$AC$46),MAX('200m Obs Women'!$AC$7:$AC$46),IF(SUMIF('200m Obs Women'!$C$7:$C$46,$A104,'200m Obs Women'!$AC$7:$AC$46)=0,1+MAX('200m Obs Women'!$AC$7:$AC$46),SUMIF('200m Obs Women'!$C$7:$C$46,$A104,'200m Obs Women'!$AC$7:$AC$46))))","v":""},{"$f":"IF($A104=\"\",\"\",IF(IF(SUMIF('200m Super Women'!$C$7:$C$46,$A104,'200m Super Women'!$AC$7:$AC$46)=0,1+MAX('200m Super Women'!$AC$7:$AC$46),SUMIF('200m Super Women'!$C$7:$C$46,$A104,'200m Super Women'!$AC$7:$AC$46))>2+MAX('200m Super Women'!$AC$7:$AC$46),MAX('200m Super Women'!$AC$7:$AC$46),IF(SUMIF('200m Super Women'!$C$7:$C$46,$A104,'200m Super Women'!$AC$7:$AC$46)=0,1+MAX('200m Super Women'!$AC$7:$AC$46),SUMIF('200m Super Women'!$C$7:$C$46,$A104,'200m Super Women'!$AC$7:$AC$46))))","v":""},{"$f":"IF($A104=\"\",\"\",IF(IF(SUMIF('100 Resue Women'!$C$7:$C$46,$A104,'100 Resue Women'!$AC$7:$AC$46)=0,1+MAX('100 Resue Women'!$AC$7:$AC$46),SUMIF('100 Resue Women'!$C$7:$C$46,$A104,'100 Resue Women'!$AC$7:$AC$46))>2+MAX('100 Resue Women'!$AC$7:$AC$46),MAX('100 Resue Women'!$AC$7:$AC$46),IF(SUMIF('100 Resue Women'!$C$7:$C$46,$A104,'100 Resue Women'!$AC$7:$AC$46)=0,1+MAX('100 Resue Women'!$AC$7:$AC$46),SUMIF('100 Resue Women'!$C$7:$C$46,$A104,'100 Resue Women'!$AC$7:$AC$46))))","v":""},{"$f":"IF($A104=\"\",\"\",IF(IF(SUMIF('Line Throw Women'!$C$7:$C$46,$A104,'Line Throw Women'!$AE$7:$AE$46)=0,MAX('Line Throw Women'!$AE$7:$AE$46),SUMIF('Line Throw Women'!$C$7:$C$46,$A104,'Line Throw Women'!$AE$7:$AE$46))>2+MAX('Line Throw Women'!$AE$7:$AE$46),MAX('Line Throw Women'!$AE$7:$AE$46),IF(SUMIF('Line Throw Women'!$C$7:$C$46,$A104,'Line Throw Women'!$AE$7:$AE$46)=0,1+MAX('Line Throw Women'!$AE$7:$AE$46),SUMIF('Line Throw Women'!$C$7:$C$46,$A104,'Line Throw Women'!$AE$7:$AE$46))))","v":""},{"$f":"IF($A104=\"\",\"\",IF(IF(SUMIF('4 x 50 Obs Relay Women'!$C$7:$C$46,$A104,'4 x 50 Obs Relay Women'!$AH$7:$AH$46)=0,1+MAX('4 x 50 Obs Relay Women'!$AH$7:$AH$46),SUMIF('4 x 50 Obs Relay Women'!$C$7:$C$46,$A104,'4 x 50 Obs Relay Women'!$AH$7:$AH$46))>2+MAX('4 x 50 Obs Relay Women'!$AH$7:$AH$46),MAX('4 x 50 Obs Relay Women'!$AH$7:$AH$46),IF(SUMIF('4 x 50 Obs Relay Women'!$C$7:$C$46,$A104,'4 x 50 Obs Relay Women'!$AH$7:$AH$46)=0,1+MAX('4 x 50 Obs Relay Women'!$AH$7:$AH$46),SUMIF('4 x 50 Obs Relay Women'!$C$7:$C$46,$A104,'4 x 50 Obs Relay Women'!$AH$7:$AH$46))))","v":""},{"$f":"IF($A104=\"\",\"\",IF(IF(SUMIF('4 x 50 medley Relay Women'!$C$7:$C$46,$A104,'4 x 50 medley Relay Women'!$AH$7:$AH$46)=0,1+MAX('4 x 50 medley Relay Women'!$AH$7:$AH$46),SUMIF('4 x 50 medley Relay Women'!$C$7:$C$46,$A104,'4 x 50 medley Relay Women'!$AH$7:$AH$46))>2+MAX('4 x 50 medley Relay Women'!$AH$7:$AH$46),MAX('4 x 50 medley Relay Women'!$AH$7:$AH$46),IF(SUMIF('4 x 50 medley Relay Women'!$C$7:$C$46,$A104,'4 x 50 medley Relay Women'!$AH$7:$AH$46)=0,1+MAX('4 x 50 medley Relay Women'!$AH$7:$AH$46),SUMIF('4 x 50 medley Relay Women'!$C$7:$C$46,$A104,'4 x 50 medley Relay Women'!$AH$7:$AH$46))))","v":""},{"$f":"IF($A104=\"\",\"\",IF(IF(SUMIF('4 x 25 Manikin Carry Women'!$C$7:$C$46,$A104,'4 x 25 Manikin Carry Women'!$AH$7:$AH$46)=0,1+MAX('4 x 25 Manikin Carry Women'!$AH$7:$AH$46),SUMIF('4 x 25 Manikin Carry Women'!$C$7:$C$46,$A104,'4 x 25 Manikin Carry Women'!$AH$7:$AH$46))>2+MAX('4 x 25 Manikin Carry Women'!$AH$7:$AH$46),MAX('4 x 25 Manikin Carry Women'!$AH$7:$AH$46),IF(SUMIF('4 x 25 Manikin Carry Women'!$C$7:$C$46,$A104,'4 x 25 Manikin Carry Women'!$AH$7:$AH$46)=0,1+MAX('4 x 25 Manikin Carry Women'!$AH$7:$AH$46),SUMIF('4 x 25 Manikin Carry Women'!$C$7:$C$46,$A104,'4 x 25 Manikin Carry Women'!$AH$7:$AH$46))))","v":""},{"$f":"IF($A104=\"\",\"\",IF(IF(SUMIF('Line Throw Relay Women'!$C$7:$C$46,$A104,'Line Throw Relay Women'!$AH$7:$AH$46)=0,1+MAX('Line Throw Relay Women'!$AH$7:$AH$46),SUMIF('Line Throw Relay Women'!$C$7:$C$46,$A104,'Line Throw Relay Women'!$AH$7:$AH$46))>2+MAX('Line Throw Relay Women'!$AH$7:$AH$46),MAX('Line Throw Relay Women'!$AH$7:$AH$46),IF(SUMIF('Line Throw Relay Women'!$C$7:$C$46,$A104,'Line Throw Relay Women'!$AH$7:$AH$46)=0,1+MAX('Line Throw Relay Women'!$AH$7:$AH$46),SUMIF('Line Throw Relay Women'!$C$7:$C$46,$A104,'Line Throw Relay Women'!$AH$7:$AH$46))))","v":""},"",""]

{"sheet":"Overall Non-Student Only","index":6,"n_rows":104,"n_cols":15,"rows_kept":104,"cut":false,"hidden":true,"merged":[[0,4,0,5]]}
[null,"Overall Non-Students",null,null,"Club to \nHighlight"]
[]
["Club Code","Club Name","Men's Points","Men's Position","Women's Points","Women's Position","Overall  Points","Overall  Positions"]
[null,null,{"$f":"N39","v":""},{"$f":"O39","v":""},{"$f":"N74","v":""},{"$f":"O74","v":""},{"$f":"IF(A4=\"\",\"\",C4+E4)","v":""},{"$f":"IF(B4=\"\",\"\",RANK(G4,$G$4:$G$34,1))","v":""}]
[null,null,{"$f":"N40","v":""},"",{"$f":"N75","v":""},"",{"$f":"IF(A5=\"\",\"\",C5+E5)","v":""},{"$f":"IF(B5=\"\",\"\",RANK(G5,$G$4:$G$34,1))","v":""}]
[null,null,"","","","","",""]
[null,null,"","",{"$f":"N77","v":""},"","",""]
[null,null,"","","","","",""]
[null,null,"","","","","",""]
[null,null,"","","","","",""]
[null,null,"","","","","",""]
[null,null,"","","","","",""]
[null,null,"","","","","",""]
[null,null,"","","","","",""]
[null,null,"","","","","",""]
[null,null,"","","","","",""]
[null,null,"","","","","",""]
[null,null,"","","","","",""]
[null,null,"","","","","",""]
[null,null,"","","","","",""]
[null,null,"","","","","",""]
[null,null,"","","","","",""]
[null,null,"","","","","",""]
[null,null,"","","","","",""]
[null,null,"","","","","",""]
[null,null,"","","","","",""]
[null,null,"","","","","",""]
[null,null,"","","","","",""]
[null,null,"","","","","",""]
[null,null,"","","","","",""]
[null,null,"","","","","",""]
[null,null,"","","","","",""]
[null,null,"","","","","",""]
[null,null,"","","","","",""]
[]
[null,"Men's  Non Students"]
[]
["Club Code","Club Name","50m Manikin Carry","100m Carry with Fins","100m tow with fins","200m Obs","200 Super","100 rescue","Line Throw","4 x 50 obs Relay","4 x 50 medley Relay","4 x 25 Manikin Carry Relay","4 x 12m Line Throw Relay","Totals","Position"]
[{"$f":"IF(A4=\"\",\"\",A4)","v":""},{"$f":"IF(B4=\"\",\"\",B4)","v":""},{"$f":"IF($A39=\"\",\"\",IF(IF(SUMIF('50m Manikin Carry Men'!$C$7:$C$46,$A39,'50m Manikin Carry Men'!$AE$7:$AE$46)=0,1+MAX('50m Manikin Carry Men'!$AE$7:$AE$46),SUMIF('50m Manikin Carry Men'!$C$7:$C$46,$A39,'50m Manikin Carry Men'!$AE$7:$AE$46))>MAX('50m Manikin Carry Men'!$AE$7:$AE$46)+2,MAX('50m Manikin Carry Men'!$AE$7:$AE$46),IF(SUMIF('50m Manikin Carry Men'!$C$7:$C$46,$A39,'50m Manikin Carry Men'!$AE$7:$AE$46)=0,1+MAX('50m Manikin Carry Men'!$AE$7:$AE$46),SUMIF('50m Manikin Carry Men'!$C$7:$C$46,$A39,'50m Manikin Carry Men'!$AE$7:$AE$46))))","v":""},{"$f":"IF($A39=\"\",\"\",IF(IF(SUMIF('100m Manikin Carry Men'!$C$7:$C$46,$A39,'100m Manikin Carry Men'!$AE$7:$AE$46)=0,1+MAX('100m Manikin Carry Men'!$AE$7:$AE$46),SUMIF('100m Manikin Carry Men'!$C$7:$C$46,$A39,'100m Manikin Carry Men'!$AE$7:$AE$46))>2+MAX('100m Manikin Carry Men'!$AE$7:$AE$46),MAX('100m Manikin Carry Men'!$AE$7:$AE$46),IF(SUMIF('100m Manikin Carry Men'!$C$7:$C$46,$A39,'100m Manikin Carry Men'!$AE$7:$AE$46)=0,1+MAX('100m Manikin Carry Men'!$AE$7:$AE$46),SUMIF('100m Manikin Carry Men'!$C$7:$C$46,$A39,'100m Manikin Carry Men'!$AE$7:$AE$46))))","v":""},{"$f":"IF($A39=\"\",\"\",IF(IF(SUMIF('100m Manikin Tow Men'!$C$7:$C$46,$A39,'100m Manikin Tow Men'!$AE$7:$AE$46)=0,1+MAX('100m Manikin Tow Men'!$AE$7:$AE$46),SUMIF('100m Manikin Tow Men'!$C$7:$C$46,$A39,'100m Manikin Tow Men'!$AE$7:$AE$46))>2+MAX('100m Manikin Tow Men'!$AE$7:$AE$46),MAX('100m Manikin Tow Men'!$AE$7:$AE$46),IF(SUMIF('100m Manikin Tow Men'!$C$7:$C$46,$A39,'100m Manikin Tow Men'!$AE$7:$AE$46)=0,1+MAX('100m Manikin Tow Men'!$AE$7:$AE$46),SUMIF('100m Manikin Tow Men'!$C$7:$C$46,$A39,'100m Manikin Tow Men'!$AE$7:$AE$46))))","v":""},{"$f":"IF($A39=\"\",\"\",IF(IF(SUMIF('200m Obs Men'!$C$7:$C$46,$A39,'200m Obs Men'!$AE$7:$AE$46)=0,1+MAX('200m Obs Men'!$AE$7:$AE$46),SUMIF('200m Obs Men'!$C$7:$C$46,$A39,'200m Obs Men'!$AE$7:$AE$46))>2+MAX('200m Obs Men'!$AE$7:$AE$46),MAX('200m Obs Men'!$AE$7:$AE$46),IF(SUMIF('200m Obs Men'!$C$7:$C$46,$A39,'200m Obs Men'!$AE$7:$AE$46)=0,1+MAX('200m Obs Men'!$AE$7:$AE$46),SUMIF('200m Obs Men'!$C$7:$C$46,$A39,'200m Obs Men'!$AE$7:$AE$46))))","v":""},{"$f":"IF($A39=\"\",\"\",IF(IF(SUMIF('200m Super Men'!$C$7:$C$46,$A39,'200m Super Men'!$AE$7:$AE$46)=0,1+MAX('200m Super Men'!$AE$7:$AE$46),SUMIF('200m Super Men'!$C$7:$C$46,$A39,'200m Super Men'!$AE$7:$AE$46))>2+MAX('200m Super Men'!$AE$7:$AE$46),MAX('200m Super Men'!$AE$7:$AE$46),IF(SUMIF('200m Super Men'!$C$7:$C$46,$A39,'200m Super Men'!$AE$7:$AE$46)=0,1+MAX('200m Super Men'!$AE$7:$AE$46),SUMIF('200m Super Men'!$C$7:$C$46,$A39,'200m Super Men'!$AE$7:$AE$46))))","v":""},{"$f":"IF($A39=\"\",\"\",IF(IF(SUMIF('100 Resue Men'!$C$7:$C$46,$A39,'100 Resue Men'!$AE$7:$AE$46)=0,1+MAX('100 Resue Men'!$AE$7:$AE$46),SUMIF('100 Resue Men'!$C$7:$C$46,$A39,'100 Resue Men'!$AE$7:$AE$46))>2+MAX('100 Resue Men'!$AE$7:$AE$46),MAX('100 Resue Men'!$AE$7:$AE$46),IF(SUMIF('100 Resue Men'!$C$7:$C$46,$A39,'100 Resue Men'!$AE$7:$AE$46)=0,1+MAX('100 Resue Men'!$AE$7:$AE$46),SUMIF('100 Resue Men'!$C$7:$C$46,$A39,'100 Resue Men'!$AE$7:$AE$46))))","v":""},{"$f":"IF($A39=\"\",\"\",IF(IF(SUMIF('Line Throw Men'!$C$7:$C$46,$A39,'Line Throw Men'!$AG$7:$AG$46)=0,MAX('Line Throw Men'!$AG$7:$AG$46),SUMIF('Line Throw Men'!$C$7:$C$46,$A39,'Line Throw Men'!$AG$7:$AG$46))>2+MAX('Line Throw Men'!$AG$7:$AG$46),MAX('Line Throw Men'!$AG$7:$AG$46),IF(SUMIF('Line Throw Men'!$C$7:$C$46,$A39,'Line Throw Men'!$AG$7:$AG$46)=0,1+MAX('Line Throw Men'!$AG$7:$AG$46),SUMIF('Line Throw Men'!$C$7:$C$46,$A39,'Line Throw Men'!$AG$7:$AG$46))))","v":""},{"$f":"IF($A39=\"\",\"\",IF(IF(SUMIF('4 x 50 Obs Relay Men'!$C$7:$C$46,$A39,'4 x 50 Obs Relay Men'!$AJ$7:$AJ$46)=0,1+MAX('4 x 50 Obs Relay Men'!$AJ$7:$AJ$46),SUMIF('4 x 50 Obs Relay Men'!$C$7:$C$46,$A39,'4 x 50 Obs Relay Men'!$AJ$7:$AJ$46))>2+MAX('4 x 50 Obs Relay Men'!$AJ$7:$AJ$46),MAX('4 x 50 Obs Relay Men'!$AJ$7:$AJ$46),IF(SUMIF('4 x 50 Obs Relay Men'!$C$7:$C$46,$A39,'4 x 50 Obs Relay Men'!$AJ$7:$AJ$46)=0,1+MAX('4 x 50 Obs Relay Men'!$AJ$7:$AJ$46),SUMIF('4 x 50 Obs Relay Men'!$C$7:$C$46,$A39,'4 x 50 Obs Relay Men'!$AJ$7:$AJ$46))))","v":""},{"$f":"IF($A39=\"\",\"\",IF(IF(SUMIF('4 x 50 medley Relay Men'!$C$7:$C$46,$A39,'4 x 50 medley Relay Men'!$AJ$7:$AJ$46)=0,1+MAX('4 x 50 medley Relay Men'!$AJ$7:$AJ$46),SUMIF('4 x 50 medley Relay Men'!$C$7:$C$46,$A39,'4 x 50 medley Relay Men'!$AJ$7:$AJ$46))>2+MAX('4 x 50 medley Relay Men'!$AJ$7:$AJ$46),MAX('4 x 50 medley Relay Men'!$AJ$7:$AJ$46),IF(SUMIF('4 x 50 medley Relay Men'!$C$7:$C$46,$A39,'4 x 50 medley Relay Men'!$AJ$7:$AJ$46)=0,1+MAX('4 x 50 medley Relay Men'!$AJ$7:$AJ$46),SUMIF('4 x 50 medley Relay Men'!$C$7:$C$46,$A39,'4 x 50 medley Relay Men'!$AJ$7:$AJ$46))))","v":""},{"$f":"IF($A39=\"\",\"\",IF(IF(SUMIF('4 x 25 Manikin Carry Relay Men'!$C$7:$C$46,$A39,'4 x 25 Manikin Carry Relay Men'!$AJ$7:$AJ$46)=0,1+MAX('4 x 25 Manikin Carry Relay Men'!$AJ$7:$AJ$46),SUMIF('4 x 25 Manikin Carry Relay Men'!$C$7:$C$46,$A39,'4 x 25 Manikin Carry Relay Men'!$AJ$7:$AJ$46))>2+MAX('4 x 25 Manikin Carry Relay Men'!$AJ$7:$AJ$46),MAX('4 x 25 Manikin Carry Relay Men'!$AJ$7:$AJ$46),IF(SUMIF('4 x 25 Manikin Carry Relay Men'!$C$7:$C$46,$A39,'4 x 25 Manikin Carry Relay Men'!$AJ$7:$AJ$46)=0,1+MAX('4 x 25 Manikin Carry Relay Men'!$AJ$7:$AJ$46),SUMIF('4 x 25 Manikin Carry Relay Men'!$C$7:$C$46,$A39,'4 x 25 Manikin Carry Relay Men'!$AJ$7:$AJ$46))))","v":""},{"$f":"IF($A39=\"\",\"\",IF(IF(SUMIF('Line Throw Relay Men'!$C$7:$C$46,$A39,'Line Throw Relay Men'!$AJ$7:$AJ$46)=0,1+MAX('Line Throw Relay Men'!$AJ$7:$AJ$46),SUMIF('Line Throw Relay Men'!$C$7:$C$46,$A39,'Line Throw Relay Men'!$AJ$7:$AJ$46))>2+MAX('Line Throw Relay Men'!$AJ$7:$AJ$46),MAX('Line Throw Relay Men'!$AJ$7:$AJ$46),IF(SUMIF('Line Throw Relay Men'!$C$7:$C$46,$A39,'Line Throw Relay Men'!$AJ$7:$AJ$46)=0,1+MAX('Line Throw Relay Men'!$AJ$7:$AJ$46),SUMIF('Line Throw Relay Men'!$C$7:$C$46,$A39,'Line Throw Relay Men'!$AJ$7:$AJ$46))))","v":""},{"$f":"IF(A39=\"\",\"\",SUM(C39:M39))","v":""},{"$f":"IF(A39=\"\",\"\",RANK(N39,$N$39:$N$69,1))","v":""}]
[{"$f":"IF(A5=\"\",\"\",A5)","v":""},"",{"$f":"IF($A40=\"\",\"\",IF(IF(SUMIF('50m Manikin Carry Men'!$C$7:$C$46,$A40,'50m Manikin Carry Men'!$AE$7:$AE$46)=0,1+MAX('50m Manikin Carry Men'!$AE$7:$AE$46),SUMIF('50m Manikin Carry Men'!$C$7:$C$46,$A40,'50m Manikin Carry Men'!$AE$7:$AE$46))>MAX('50m Manikin Carry Men'!$AE$7:$AE$46)+2,MAX('50m Manikin Carry Men'!$AE$7:$AE$46),IF(SUMIF('50m Manikin Carry Men'!$C$7:$C$46,$A40,'50m Manikin Carry Men'!$AE$7:$AE$46)=0,1+MAX('50m Manikin Carry Men'!$AE$7:$AE$46),SUMIF('50m Manikin Carry Men'!$C$7:$C$46,$A40,'50m Manikin Carry Men'!$AE$7:$AE$46))))","v":""},{"$f":"IF($A40=\"\",\"\",IF(IF(SUMIF('100m Manikin Carry Men'!$C$7:$C$46,$A40,'100m Manikin Carry Men'!$AE$7:$AE$46)=0,1+MAX('100m Manikin Carry Men'!$AE$7:$AE$46),SUMIF('100m Manikin Carry Men'!$C$7:$C$46,$A40,'100m Manikin Carry Men'!$AE$7:$AE$46))>2+MAX('100m Manikin Carry Men'!$AE$7:$AE$46),MAX('100m Manikin Carry Men'!$AE$7:$AE$46),IF(SUMIF('100m Manikin Carry Men'!$C$7:$C$46,$A40,'100m Manikin Carry Men'!$AE$7:$AE$46)=0,1+MAX('100m Manikin Carry Men'!$AE$7:$AE$46),SUMIF('100m Manikin Carry Men'!$C$7:$C$46,$A40,'100m Manikin Carry Men'!$AE$7:$AE$46))))","v":""},{"$f":"IF($A40=\"\",\"\",IF(IF(SUMIF('100m Manikin Tow Men'!$C$7:$C$46,$A40,'100m Manikin Tow Men'!$AE$7:$AE$46)=0,1+MAX('100m Manikin Tow Men'!$AE$7:$AE$46),SUMIF('100m Manikin Tow Men'!$C$7:$C$46,$A40,'100m Manikin Tow Men'!$AE$7:$AE$46))>2+MAX('100m Manikin Tow Men'!$AE$7:$AE$46),MAX('100m Manikin Tow Men'!$AE$7:$AE$46),IF(SUMIF('100m Manikin Tow Men'!$C$7:$C$46,$A40,'100m Manikin Tow Men'!$AE$7:$AE$46)=0,1+MAX('100m Manikin Tow Men'!$AE$7:$AE$46),SUMIF('100m Manikin Tow Men'!$C$7:$C$46,$A40,'100m Manikin Tow Men'!$AE$7:$AE$46))))","v":""},{"$f":"IF($A40=\"\",\"\",IF(IF(SUMIF('200m Obs Men'!$C$7:$C$46,$A40,'200m Obs Men'!$AE$7:$AE$46)=0,1+MAX('200m Obs Men'!$AE$7:$AE$46),SUMIF('200m Obs Men'!$C$7:$C$46,$A40,'200m Obs Men'!$AE$7:$AE$46))>2+MAX('200m Obs Men'!$AE$7:$AE$46),MAX('200m Obs Men'!$AE$7:$AE$46),IF(SUMIF('200m Obs Men'!$C$7:$C$46,$A40,'200m Obs Men'!$AE$7:$AE$46)=0,1+MAX('200m Obs Men'!$AE$7:$AE$46),SUMIF('200m Obs Men'!$C$7:$C$46,$A40,'200m Obs Men'!$AE$7:$AE$46))))","v":""},{"$f":"IF($A40=\"\",\"\",IF(IF(SUMIF('200m Super Men'!$C$7:$C$46,$A40,'200m Super Men'!$AE$7:$AE$46)=0,1+MAX('200m Super Men'!$AE$7:$AE$46),SUMIF('200m Super Men'!$C$7:$C$46,$A40,'200m Super Men'!$AE$7:$AE$46))>2+MAX('200m Super Men'!$AE$7:$AE$46),MAX('200m Super Men'!$AE$7:$AE$46),IF(SUMIF('200m Super Men'!$C$7:$C$46,$A40,'200m Super Men'!$AE$7:$AE$46)=0,1+MAX('200m Super Men'!$AE$7:$AE$46),SUMIF('200m Super Men'!$C$7:$C$46,$A40,'200m Super Men'!$AE$7:$AE$46))))","v":""},{"$f":"IF($A40=\"\",\"\",IF(IF(SUMIF('100 Resue Men'!$C$7:$C$46,$A40,'100 Resue Men'!$AE$7:$AE$46)=0,1+MAX('100 Resue Men'!$AE$7:$AE$46),SUMIF('100 Resue Men'!$C$7:$C$46,$A40,'100 Resue Men'!$AE$7:$AE$46))>2+MAX('100 Resue Men'!$AE$7:$AE$46),MAX('100 Resue Men'!$AE$7:$AE$46),IF(SUMIF('100 Resue Men'!$C$7:$C$46,$A40,'100 Resue Men'!$AE$7:$AE$46)=0,1+MAX('100 Resue Men'!$AE$7:$AE$46),SUMIF('100 Resue Men'!$C$7:$C$46,$A40,'100 Resue Men'!$AE$7:$AE$46))))","v":""},{"$f":"IF($A40=\"\",\"\",IF(IF(SUMIF('Line Throw Men'!$C$7:$C$46,$A40,'Line Throw Men'!$AG$7:$AG$46)=0,MAX('Line Throw Men'!$AG$7:$AG$46),SUMIF('Line Throw Men'!$C$7:$C$46,$A40,'Line Throw Men'!$AG$7:$AG$46))>2+MAX('Line Throw Men'!$AG$7:$AG$46),MAX('Line Throw Men'!$AG$7:$AG$46),IF(SUMIF('Line Throw Men'!$C$7:$C$46,$A40,'Line Throw Men'!$AG$7:$AG$46)=0,1+MAX('Line Throw Men'!$AG$7:$AG$46),SUMIF('Line Throw Men'!$C$7:$C$46,$A40,'Line Throw Men'!$AG$7:$AG$46))))","v":""},{"$f":"IF($A40=\"\",\"\",IF(IF(SUMIF('4 x 50 Obs Relay Men'!$C$7:$C$46,$A40,'4 x 50 Obs Relay Men'!$AJ$7:$AJ$46)=0,1+MAX('4 x 50 Obs Relay Men'!$AJ$7:$AJ$46),SUMIF('4 x 50 Obs Relay Men'!$C$7:$C$46,$A40,'4 x 50 Obs Relay Men'!$AJ$7:$AJ$46))>2+MAX('4 x 50 Obs Relay Men'!$AJ$7:$AJ$46),MAX('4 x 50 Obs Relay Men'!$AJ$7:$AJ$46),IF(SUMIF('4 x 50 Obs Relay Men'!$C$7:$C$46,$A40,'4 x 50 Obs Relay Men'!$AJ$7:$AJ$46)=0,1+MAX('4 x 50 Obs Relay Men'!$AJ$7:$AJ$46),SUMIF('4 x 50 Obs Relay Men'!$C$7:$C$46,$A40,'4 x 50 Obs Relay Men'!$AJ$7:$AJ$46))))","v":""},{"$f":"IF($A40=\"\",\"\",IF(IF(SUMIF('4 x 50 medley Relay Men'!$C$7:$C$46,$A40,'4 x 50 medley Relay Men'!$AJ$7:$AJ$46)=0,1+MAX('4 x 50 medley Relay Men'!$AJ$7:$AJ$46),SUMIF('4 x 50 medley Relay Men'!$C$7:$C$46,$A40,'4 x 50 medley Relay Men'!$AJ$7:$AJ$46))>2+MAX('4 x 50 medley Relay Men'!$AJ$7:$AJ$46),MAX('4 x 50 medley Relay Men'!$AJ$7:$AJ$46),IF(SUMIF('4 x 50 medley Relay Men'!$C$7:$C$46,$A40,'4 x 50 medley Relay Men'!$AJ$7:$AJ$46)=0,1+MAX('4 x 50 medley Relay Men'!$AJ$7:$AJ$46),SUMIF('4 x 50 medley Relay Men'!$C$7:$C$46,$A40,'4 x 50 medley Relay Men'!$AJ$7:$AJ$46))))","v":""},{"$f":"IF($A40=\"\",\"\",IF(IF(SUMIF('4 x 25 Manikin Carry Relay Men'!$C$7:$C$46,$A40,'4 x 25 Manikin Carry Relay Men'!$AJ$7:$AJ$46)=0,1+MAX('4 x 25 Manikin Carry Relay Men'!$AJ$7:$AJ$46),SUMIF('4 x 25 Manikin Carry Relay Men'!$C$7:$C$46,$A40,'4 x 25 Manikin Carry Relay Men'!$AJ$7:$AJ$46))>2+MAX('4 x 25 Manikin Carry Relay Men'!$AJ$7:$AJ$46),MAX('4 x 25 Manikin Carry Relay Men'!$AJ$7:$AJ$46),IF(SUMIF('4 x 25 Manikin Carry Relay Men'!$C$7:$C$46,$A40,'4 x 25 Manikin Carry Relay Men'!$AJ$7:$AJ$46)=0,1+MAX('4 x 25 Manikin Carry Relay Men'!$AJ$7:$AJ$46),SUMIF('4 x 25 Manikin Carry Relay Men'!$C$7:$C$46,$A40,'4 x 25 Manikin Carry Relay Men'!$AJ$7:$AJ$46))))","v":""},{"$f":"IF($A40=\"\",\"\",IF(IF(SUMIF('Line Throw Relay Men'!$C$7:$C$46,$A40,'Line Throw Relay Men'!$AJ$7:$AJ$46)=0,1+MAX('Line Throw Relay Men'!$AJ$7:$AJ$46),SUMIF('Line Throw Relay Men'!$C$7:$C$46,$A40,'Line Throw Relay Men'!$AJ$7:$AJ$46))>2+MAX('Line Throw Relay Men'!$AJ$7:$AJ$46),MAX('Line Throw Relay Men'!$AJ$7:$AJ$46),IF(SUMIF('Line Throw Relay Men'!$C$7:$C$46,$A40,'Line Throw Relay Men'!$AJ$7:$AJ$46)=0,1+MAX('Line Throw Relay Men'!$AJ$7:$AJ$46),SUMIF('Line Throw Relay Men'!$C$7:$C$46,$A40,'Line Throw Relay Men'!$AJ$7:$AJ$46))))","v":""},{"$f":"IF(A40=\"\",\"\",SUM(C40:M40))","v":""},{"$f":"IF(A40=\"\",\"\",RANK(N40,$N$39:$N$69,1))","v":""}]
["","",{"$f":"IF($A41=\"\",\"\",IF(IF(SUMIF('50m Manikin Carry Men'!$C$7:$C$46,$A41,'50m Manikin Carry Men'!$AE$7:$AE$46)=0,1+MAX('50m Manikin Carry Men'!$AE$7:$AE$46),SUMIF('50m Manikin Carry Men'!$C$7:$C$46,$A41,'50m Manikin Carry Men'!$AE$7:$AE$46))>MAX('50m Manikin Carry Men'!$AE$7:$AE$46)+2,MAX('50m Manikin Carry Men'!$AE$7:$AE$46),IF(SUMIF('50m Manikin Carry Men'!$C$7:$C$46,$A41,'50m Manikin Carry Men'!$AE$7:$AE$46)=0,1+MAX('50m Manikin Carry Men'!$AE$7:$AE$46),SUMIF('50m Manikin Carry Men'!$C$7:$C$46,$A41,'50m Manikin Carry Men'!$AE$7:$AE$46))))","v":""},{"$f":"IF($A41=\"\",\"\",IF(IF(SUMIF('100m Manikin Carry Men'!$C$7:$C$46,$A41,'100m Manikin Carry Men'!$AE$7:$AE$46)=0,1+MAX('100m Manikin Carry Men'!$AE$7:$AE$46),SUMIF('100m Manikin Carry Men'!$C$7:$C$46,$A41,'100m Manikin Carry Men'!$AE$7:$AE$46))>2+MAX('100m Manikin Carry Men'!$AE$7:$AE$46),MAX('100m Manikin Carry Men'!$AE$7:$AE$46),IF(SUMIF('100m Manikin Carry Men'!$C$7:$C$46,$A41,'100m Manikin Carry Men'!$AE$7:$AE$46)=0,1+MAX('100m Manikin Carry Men'!$AE$7:$AE$46),SUMIF('100m Manikin Carry Men'!$C$7:$C$46,$A41,'100m Manikin Carry Men'!$AE$7:$AE$46))))","v":""},{"$f":"IF($A41=\"\",\"\",IF(IF(SUMIF('100m Manikin Tow Men'!$C$7:$C$46,$A41,'100m Manikin Tow Men'!$AE$7:$AE$46)=0,1+MAX('100m Manikin Tow Men'!$AE$7:$AE$46),SUMIF('100m Manikin Tow Men'!$C$7:$C$46,$A41,'100m Manikin Tow Men'!$AE$7:$AE$46))>2+MAX('100m Manikin Tow Men'!$AE$7:$AE$46),MAX('100m Manikin Tow Men'!$AE$7:$AE$46),IF(SUMIF('100m Manikin Tow Men'!$C$7:$C$46,$A41,'100m Manikin Tow Men'!$AE$7:$AE$46)=0,1+MAX('100m Manikin Tow Men'!$AE$7:$AE$46),SUMIF('100m Manikin Tow Men'!$C$7:$C$46,$A41,'100m Manikin Tow Men'!$AE$7:$AE$46))))","v":""},{"$f":"IF($A41=\"\",\"\",IF(IF(SUMIF('200m Obs Men'!$C$7:$C$46,$A41,'200m Obs Men'!$AE$7:$AE$46)=0,1+MAX('200m Obs Men'!$AE$7:$AE$46),SUMIF('200m Obs Men'!$C$7:$C$46,$A41,'200m Obs Men'!$AE$7:$AE$46))>2+MAX('200m Obs Men'!$AE$7:$AE$46),MAX('200m Obs Men'!$AE$7:$AE$46),IF(SUMIF('200m Obs Men'!$C$7:$C$46,$A41,'200m Obs Men'!$AE$7:$AE$46)=0,1+MAX('200m Obs Men'!$AE$7:$AE$46),SUMIF('200m Obs Men'!$C$7:$C$46,$A41,'200m Obs Men'!$AE$7:$AE$46))))","v":""},{"$f":"IF($A41=\"\",\"\",IF(IF(SUMIF('200m Super Men'!$C$7:$C$46,$A41,'200m Super Men'!$AE$7:$AE$46)=0,1+MAX('200m Super Men'!$AE$7:$AE$46),SUMIF('200m Super Men'!$C$7:$C$46,$A41,'200m Super Men'!$AE$7:$AE$46))>2+MAX('200m Super Men'!$AE$7:$AE$46),MAX('200m Super Men'!$AE$7:$AE$46),IF(SUMIF('200m Super Men'!$C$7:$C$46,$A41,'200m Super Men'!$AE$7:$AE$46)=0,1+MAX('200m Super Men'!$AE$7:$AE$46),SUMIF('200m Super Men'!$C$7:$C$46,$A41,'200m Super Men'!$AE$7:$AE$46))))","v":""},{"$f":"IF($A41=\"\",\"\",IF(IF(SUMIF('100 Resue Men'!$C$7:$C$46,$A41,'100 Resue Men'!$AE$7:$AE$46)=0,1+MAX('100 Resue Men'!$AE$7:$AE$46),SUMIF('100 Resue Men'!$C$7:$C$46,$A41,'100 Resue Men'!$AE$7:$AE$46))>2+MAX('100 Resue Men'!$AE$7:$AE$46),MAX('100 Resue Men'!$AE$7:$AE$46),IF(SUMIF('100 Resue Men'!$C$7:$C$46,$A41,'100 Resue Men'!$AE$7:$AE$46)=0,1+MAX('100 Resue Men'!$AE$7:$AE$46),SUMIF('100 Resue Men'!$C$7:$C$46,$A41,'100 Resue Men'!$AE$7:$AE$46))))","v":""},{"$f":"IF($A41=\"\",\"\",IF(IF(SUMIF('Line Throw Men'!$C$7:$C$46,$A41,'Line Throw Men'!$AG$7:$AG$46)=0,MAX('Line Throw Men'!$AG$7:$AG$46),SUMIF('Line Throw Men'!$C$7:$C$46,$A41,'Line Throw Men'!$AG$7:$AG$46))>2+MAX('Line Throw Men'!$AG$7:$AG$46),MAX('Line Throw Men'!$AG$7:$AG$46),IF(SUMIF('Line Throw Men'!$C$7:$C$46,$A41,'Line Throw Men'!$AG$7:$AG$46)=0,1+MAX('Line Throw Men'!$AG$7:$AG$46),SUMIF('Line Throw Men'!$C$7:$C$46,$A41,'Line Throw Men'!$AG$7:$AG$46))))","v":""},{"$f":"IF($A41=\"\",\"\",IF(IF(SUMIF('4 x 50 Obs Relay Men'!$C$7:$C$46,$A41,'4 x 50 Obs Relay Men'!$AJ$7:$AJ$46)=0,1+MAX('4 x 50 Obs Relay Men'!$AJ$7:$AJ$46),SUMIF('4 x 50 Obs Relay Men'!$C$7:$C$46,$A41,'4 x 50 Obs Relay Men'!$AJ$7:$AJ$46))>2+MAX('4 x 50 Obs Relay Men'!$AJ$7:$AJ$46),MAX('4 x 50 Obs Relay Men'!$AJ$7:$AJ$46),IF(SUMIF('4 x 50 Obs Relay Men'!$C$7:$C$46,$A41,'4 x 50 Obs Relay Men'!$AJ$7:$AJ$46)=0,1+MAX('4 x 50 Obs Relay Men'!$AJ$7:$AJ$46),SUMIF('4 x 50 Obs Relay Men'!$C$7:$C$46,$A41,'4 x 50 Obs Relay Men'!$AJ$7:$AJ$46))))","v":""},{"$f":"IF($A41=\"\",\"\",IF(IF(SUMIF('4 x 50 medley Relay Men'!$C$7:$C$46,$A41,'4 x 50 medley Relay Men'!$AJ$7:$AJ$46)=0,1+MAX('4 x 50 medley Relay Men'!$AJ$7:$AJ$46),SUMIF('4 x 50 medley Relay Men'!$C$7:$C$46,$A41,'4 x 50 medley Relay Men'!$AJ$7:$AJ$46))>2+MAX('4 x 50 medley Relay Men'!$AJ$7:$AJ$46),MAX('4 x 50 medley Relay Men'!$AJ$7:$AJ$46),IF(SUMIF('4 x 50 medley Relay Men'!$C$7:$C$46,$A41,'4 x 50 medley Relay Men'!$AJ$7:$AJ$46)=0,1+MAX('4 x 50 medley Relay Men'!$AJ$7:$AJ$46),SUMIF('4 x 50 medley Relay Men'!$C$7:$C$46,$A41,'4 x 50 medley Relay Men'!$AJ$7:$AJ$46))))","v":""},{"$f":"IF($A41=\"\",\"\",IF(IF(SUMIF('4 x 25 Manikin Carry Relay Men'!$C$7:$C$46,$A41,'4 x 25 Manikin Carry Relay Men'!$AJ$7:$AJ$46)=0,1+MAX('4 x 25 Manikin Carry Relay Men'!$AJ$7:$AJ$46),SUMIF('4 x 25 Manikin Carry Relay Men'!$C$7:$C$46,$A41,'4 x 25 Manikin Carry Relay Men'!$AJ$7:$AJ$46))>2+MAX('4 x 25 Manikin Carry Relay Men'!$AJ$7:$AJ$46),MAX('4 x 25 Manikin Carry Relay Men'!$AJ$7:$AJ$46),IF(SUMIF('4 x 25 Manikin Carry Relay Men'!$C$7:$C$46,$A41,'4 x 25 Manikin Carry Relay Men'!$AJ$7:$AJ$46)=0,1+MAX('4 x 25 Manikin Carry Relay Men'!$AJ$7:$AJ$46),SUMIF('4 x 25 Manikin Carry Relay Men'!$C$7:$C$46,$A41,'4 x 25 Manikin Carry Relay Men'!$AJ$7:$AJ$46))))","v":""},{"$f":"IF($A41=\"\",\"\",IF(IF(SUMIF('Line Throw Relay Men'!$C$7:$C$46,$A41,'Line Throw Relay Men'!$AJ$7:$AJ$46)=0,1+MAX('Line Throw Relay Men'!$AJ$7:$AJ$46),SUMIF('Line Throw Relay Men'!$C$7:$C$46,$A41,'Line Throw Relay Men'!$AJ$7:$AJ$46))>2+MAX('Line Throw Relay Men'!$AJ$7:$AJ$46),MAX('Line Throw Relay Men'!$AJ$7:$AJ$46),IF(SUMIF('Line Throw Relay Men'!$C$7:$C$46,$A41,'Line Throw Relay Men'!$AJ$7:$AJ$46)=0,1+MAX('Line Throw Relay Men'!$AJ$7:$AJ$46),SUMIF('Line Throw Relay Men'!$C$7:$C$46,$A41,'Line Throw Relay Men'!$AJ$7:$AJ$46))))","v":""},"",""]
["","",{"$f":"IF($A42=\"\",\"\",IF(IF(SUMIF('50m Manikin Carry Men'!$C$7:$C$46,$A42,'50m Manikin Carry Men'!$AE$7:$AE$46)=0,1+MAX('50m Manikin Carry Men'!$AE$7:$AE$46),SUMIF('50m Manikin Carry Men'!$C$7:$C$46,$A42,'50m Manikin Carry Men'!$AE$7:$AE$46))>MAX('50m Manikin Carry Men'!$AE$7:$AE$46)+2,MAX('50m Manikin Carry Men'!$AE$7:$AE$46),IF(SUMIF('50m Manikin Carry Men'!$C$7:$C$46,$A42,'50m Manikin Carry Men'!$AE$7:$AE$46)=0,1+MAX('50m Manikin Carry Men'!$AE$7:$AE$46),SUMIF('50m Manikin Carry Men'!$C$7:$C$46,$A42,'50m Manikin Carry Men'!$AE$7:$AE$46))))","v":""},{"$f":"IF($A42=\"\",\"\",IF(IF(SUMIF('100m Manikin Carry Men'!$C$7:$C$46,$A42,'100m Manikin Carry Men'!$AE$7:$AE$46)=0,1+MAX('100m Manikin Carry Men'!$AE$7:$AE$46),SUMIF('100m Manikin Carry Men'!$C$7:$C$46,$A42,'100m Manikin Carry Men'!$AE$7:$AE$46))>2+MAX('100m Manikin Carry Men'!$AE$7:$AE$46),MAX('100m Manikin Carry Men'!$AE$7:$AE$46),IF(SUMIF('100m Manikin Carry Men'!$C$7:$C$46,$A42,'100m Manikin Carry Men'!$AE$7:$AE$46)=0,1+MAX('100m Manikin Carry Men'!$AE$7:$AE$46),SUMIF('100m Manikin Carry Men'!$C$7:$C$46,$A42,'100m Manikin Carry Men'!$AE$7:$AE$46))))","v":""},{"$f":"IF($A42=\"\",\"\",IF(IF(SUMIF('100m Manikin Tow Men'!$C$7:$C$46,$A42,'100m Manikin Tow Men'!$AE$7:$AE$46)=0,1+MAX('100m Manikin Tow Men'!$AE$7:$AE$46),SUMIF('100m Manikin Tow Men'!$C$7:$C$46,$A42,'100m Manikin Tow Men'!$AE$7:$AE$46))>2+MAX('100m Manikin Tow Men'!$AE$7:$AE$46),MAX('100m Manikin Tow Men'!$AE$7:$AE$46),IF(SUMIF('100m Manikin Tow Men'!$C$7:$C$46,$A42,'100m Manikin Tow Men'!$AE$7:$AE$46)=0,1+MAX('100m Manikin Tow Men'!$AE$7:$AE$46),SUMIF('100m Manikin Tow Men'!$C$7:$C$46,$A42,'100m Manikin Tow Men'!$AE$7:$AE$46))))","v":""},{"$f":"IF($A42=\"\",\"\",IF(IF(SUMIF('200m Obs Men'!$C$7:$C$46,$A42,'200m Obs Men'!$AE$7:$AE$46)=0,1+MAX('200m Obs Men'!$AE$7:$AE$46),SUMIF('200m Obs Men'!$C$7:$C$46,$A42,'200m Obs Men'!$AE$7:$AE$46))>2+MAX('200m Obs Men'!$AE$7:$AE$46),MAX('200m Obs Men'!$AE$7:$AE$46),IF(SUMIF('200m Obs Men'!$C$7:$C$46,$A42,'200m Obs Men'!$AE$7:$AE$46)=0,1+MAX('200m Obs Men'!$AE$7:$AE$46),SUMIF('200m Obs Men'!$C$7:$C$46,$A42,'200m Obs Men'!$AE$7:$AE$46))))","v":""},{"$f":"IF($A42=\"\",\"\",IF(IF(SUMIF('200m Super Men'!$C$7:$C$46,$A42,'200m Super Men'!$AE$7:$AE$46)=0,1+MAX('200m Super Men'!$AE$7:$AE$46),SUMIF('200m Super Men'!$C$7:$C$46,$A42,'200m Super Men'!$AE$7:$AE$46))>2+MAX('200m Super Men'!$AE$7:$AE$46),MAX('200m Super Men'!$AE$7:$AE$46),IF(SUMIF('200m Super Men'!$C$7:$C$46,$A42,'200m Super Men'!$AE$7:$AE$46)=0,1+MAX('200m Super Men'!$AE$7:$AE$46),SUMIF('200m Super Men'!$C$7:$C$46,$A42,'200m Super Men'!$AE$7:$AE$46))))","v":""},{"$f":"IF($A42=\"\",\"\",IF(IF(SUMIF('100 Resue Men'!$C$7:$C$46,$A42,'100 Resue Men'!$AE$7:$AE$46)=0,1+MAX('100 Resue Men'!$AE$7:$AE$46),SUMIF('100 Resue Men'!$C$7:$C$46,$A42,'100 Resue Men'!$AE$7:$AE$46))>2+MAX('100 Resue Men'!$AE$7:$AE$46),MAX('100 Resue Men'!$AE$7:$AE$46),IF(SUMIF('100 Resue Men'!$C$7:$C$46,$A42,'100 Resue Men'!$AE$7:$AE$46)=0,1+MAX('100 Resue Men'!$AE$7:$AE$46),SUMIF('100 Resue Men'!$C$7:$C$46,$A42,'100 Resue Men'!$AE$7:$AE$46))))","v":""},{"$f":"IF($A42=\"\",\"\",IF(IF(SUMIF('Line Throw Men'!$C$7:$C$46,$A42,'Line Throw Men'!$AG$7:$AG$46)=0,MAX('Line Throw Men'!$AG$7:$AG$46),SUMIF('Line Throw Men'!$C$7:$C$46,$A42,'Line Throw Men'!$AG$7:$AG$46))>2+MAX('Line Throw Men'!$AG$7:$AG$46),MAX('Line Throw Men'!$AG$7:$AG$46),IF(SUMIF('Line Throw Men'!$C$7:$C$46,$A42,'Line Throw Men'!$AG$7:$AG$46)=0,1+MAX('Line Throw Men'!$AG$7:$AG$46),SUMIF('Line Throw Men'!$C$7:$C$46,$A42,'Line Throw Men'!$AG$7:$AG$46))))","v":""},{"$f":"IF($A42=\"\",\"\",IF(IF(SUMIF('4 x 50 Obs Relay Men'!$C$7:$C$46,$A42,'4 x 50 Obs Relay Men'!$AJ$7:$AJ$46)=0,1+MAX('4 x 50 Obs Relay Men'!$AJ$7:$AJ$46),SUMIF('4 x 50 Obs Relay Men'!$C$7:$C$46,$A42,'4 x 50 Obs Relay Men'!$AJ$7:$AJ$46))>2+MAX('4 x 50 Obs Relay Men'!$AJ$7:$AJ$46),MAX('4 x 50 Obs Relay Men'!$AJ$7:$AJ$46),IF(SUMIF('4 x 50 Obs Relay Men'!$C$7:$C$46,$A42,'4 x 50 Obs Relay Men'!$AJ$7:$AJ$46)=0,1+MAX('4 x 50 Obs Relay Men'!$AJ$7:$AJ$46),SUMIF('4 x 50 Obs Relay Men'!$C$7:$C$46,$A42,'4 x 50 Obs Relay Men'!$AJ$7:$AJ$46))))","v":""},{"$f":"IF($A42=\"\",\"\",IF(IF(SUMIF('4 x 50 medley Relay Men'!$C$7:$C$46,$A42,'4 x 50 medley Relay Men'!$AJ$7:$AJ$46)=0,1+MAX('4 x 50 medley Relay Men'!$AJ$7:$AJ$46),SUMIF('4 x 50 medley Relay Men'!$C$7:$C$46,$A42,'4 x 50 medley Relay Men'!$AJ$7:$AJ$46))>2+MAX('4 x 50 medley Relay Men'!$AJ$7:$AJ$46),MAX('4 x 50 medley Relay Men'!$AJ$7:$AJ$46),IF(SUMIF('4 x 50 medley Relay Men'!$C$7:$C$46,$A42,'4 x 50 medley Relay Men'!$AJ$7:$AJ$46)=0,1+MAX('4 x 50 medley Relay Men'!$AJ$7:$AJ$46),SUMIF('4 x 50 medley Relay Men'!$C$7:$C$46,$A42,'4 x 50 medley Relay Men'!$AJ$7:$AJ$46))))","v":""},{"$f":"IF($A42=\"\",\"\",IF(IF(SUMIF('4 x 25 Manikin Carry Relay Men'!$C$7:$C$46,$A42,'4 x 25 Manikin Carry Relay Men'!$AJ$7:$AJ$46)=0,1+MAX('4 x 25 Manikin Carry Relay Men'!$AJ$7:$AJ$46),SUMIF('4 x 25 Manikin Carry Relay Men'!$C$7:$C$46,$A42,'4 x 25 Manikin Carry Relay Men'!$AJ$7:$AJ$46))>2+MAX('4 x 25 Manikin Carry Relay Men'!$AJ$7:$AJ$46),MAX('4 x 25 Manikin Carry Relay Men'!$AJ$7:$AJ$46),IF(SUMIF('4 x 25 Manikin Carry Relay Men'!$C$7:$C$46,$A42,'4 x 25 Manikin Carry Relay Men'!$AJ$7:$AJ$46)=0,1+MAX('4 x 25 Manikin Carry Relay Men'!$AJ$7:$AJ$46),SUMIF('4 x 25 Manikin Carry Relay Men'!$C$7:$C$46,$A42,'4 x 25 Manikin Carry Relay Men'!$AJ$7:$AJ$46))))","v":""},{"$f":"IF($A42=\"\",\"\",IF(IF(SUMIF('Line Throw Relay Men'!$C$7:$C$46,$A42,'Line Throw Relay Men'!$AJ$7:$AJ$46)=0,1+MAX('Line Throw Relay Men'!$AJ$7:$AJ$46),SUMIF('Line Throw Relay Men'!$C$7:$C$46,$A42,'Line Throw Relay Men'!$AJ$7:$AJ$46))>2+MAX('Line Throw Relay Men'!$AJ$7:$AJ$46),MAX('Line Throw Relay Men'!$AJ$7:$AJ$46),IF(SUMIF('Line Throw Relay Men'!$C$7:$C$46,$A42,'Line Throw Relay Men'!$AJ$7:$AJ$46)=0,1+MAX('Line Throw Relay Men'!$AJ$7:$AJ$46),SUMIF('Line Throw Relay Men'!$C$7:$C$46,$A42,'Line Throw Relay Men'!$AJ$7:$AJ$46))))","v":""},"",""]
["","",{"$f":"IF($A43=\"\",\"\",IF(IF(SUMIF('50m Manikin Carry Men'!$C$7:$C$46,$A43,'50m Manikin Carry Men'!$AE$7:$AE$46)=0,1+MAX('50m Manikin Carry Men'!$AE$7:$AE$46),SUMIF('50m Manikin Carry Men'!$C$7:$C$46,$A43,'50m Manikin Carry Men'!$AE$7:$AE$46))>MAX('50m Manikin Carry Men'!$AE$7:$AE$46)+2,MAX('50m Manikin Carry Men'!$AE$7:$AE$46),IF(SUMIF('50m Manikin Carry Men'!$C$7:$C$46,$A43,'50m Manikin Carry Men'!$AE$7:$AE$46)=0,1+MAX('50m Manikin Carry Men'!$AE$7:$AE$46),SUMIF('50m Manikin Carry Men'!$C$7:$C$46,$A43,'50m Manikin Carry Men'!$AE$7:$AE$46))))","v":""},{"$f":"IF($A43=\"\",\"\",IF(IF(SUMIF('100m Manikin Carry Men'!$C$7:$C$46,$A43,'100m Manikin Carry Men'!$AE$7:$AE$46)=0,1+MAX('100m Manikin Carry Men'!$AE$7:$AE$46),SUMIF('100m Manikin Carry Men'!$C$7:$C$46,$A43,'100m Manikin Carry Men'!$AE$7:$AE$46))>2+MAX('100m Manikin Carry Men'!$AE$7:$AE$46),MAX('100m Manikin Carry Men'!$AE$7:$AE$46),IF(SUMIF('100m Manikin Carry Men'!$C$7:$C$46,$A43,'100m Manikin Carry Men'!$AE$7:$AE$46)=0,1+MAX('100m Manikin Carry Men'!$AE$7:$AE$46),SUMIF('100m Manikin Carry Men'!$C$7:$C$46,$A43,'100m Manikin Carry Men'!$AE$7:$AE$46))))","v":""},{"$f":"IF($A43=\"\",\"\",IF(IF(SUMIF('100m Manikin Tow Men'!$C$7:$C$46,$A43,'100m Manikin Tow Men'!$AE$7:$AE$46)=0,1+MAX('100m Manikin Tow Men'!$AE$7:$AE$46),SUMIF('100m Manikin Tow Men'!$C$7:$C$46,$A43,'100m Manikin Tow Men'!$AE$7:$AE$46))>2+MAX('100m Manikin Tow Men'!$AE$7:$AE$46),MAX('100m Manikin Tow Men'!$AE$7:$AE$46),IF(SUMIF('100m Manikin Tow Men'!$C$7:$C$46,$A43,'100m Manikin Tow Men'!$AE$7:$AE$46)=0,1+MAX('100m Manikin Tow Men'!$AE$7:$AE$46),SUMIF('100m Manikin Tow Men'!$C$7:$C$46,$A43,'100m Manikin Tow Men'!$AE$7:$AE$46))))","v":""},{"$f":"IF($A43=\"\",\"\",IF(IF(SUMIF('200m Obs Men'!$C$7:$C$46,$A43,'200m Obs Men'!$AE$7:$AE$46)=0,1+MAX('200m Obs Men'!$AE$7:$AE$46),SUMIF('200m Obs Men'!$C$7:$C$46,$A43,'200m Obs Men'!$AE$7:$AE$46))>2+MAX('200m Obs Men'!$AE$7:$AE$46),MAX('200m Obs Men'!$AE$7:$AE$46),IF(SUMIF('200m Obs Men'!$C$7:$C$46,$A43,'200m Obs Men'!$AE$7:$AE$46)=0,1+MAX('200m Obs Men'!$AE$7:$AE$46),SUMIF('200m Obs Men'!$C$7:$C$46,$A43,'200m Obs Men'!$AE$7:$AE$46))))","v":""},{"$f":"IF($A43=\"\",\"\",IF(IF(SUMIF('200m Super Men'!$C$7:$C$46,$A43,'200m Super Men'!$AE$7:$AE$46)=0,1+MAX('200m Super Men'!$AE$7:$AE$46),SUMIF('200m Super Men'!$C$7:$C$46,$A43,'200m Super Men'!$AE$7:$AE$46))>2+MAX('200m Super Men'!$AE$7:$AE$46),MAX('200m Super Men'!$AE$7:$AE$46),IF(SUMIF('200m Super Men'!$C$7:$C$46,$A43,'200m Super Men'!$AE$7:$AE$46)=0,1+MAX('200m Super Men'!$AE$7:$AE$46),SUMIF('200m Super Men'!$C$7:$C$46,$A43,'200m Super Men'!$AE$7:$AE$46))))","v":""},{"$f":"IF($A43=\"\",\"\",IF(IF(SUMIF('100 Resue Men'!$C$7:$C$46,$A43,'100 Resue Men'!$AE$7:$AE$46)=0,1+MAX('100 Resue Men'!$AE$7:$AE$46),SUMIF('100 Resue Men'!$C$7:$C$46,$A43,'100 Resue Men'!$AE$7:$AE$46))>2+MAX('100 Resue Men'!$AE$7:$AE$46),MAX('100 Resue Men'!$AE$7:$AE$46),IF(SUMIF('100 Resue Men'!$C$7:$C$46,$A43,'100 Resue Men'!$AE$7:$AE$46)=0,1+MAX('100 Resue Men'!$AE$7:$AE$46),SUMIF('100 Resue Men'!$C$7:$C$46,$A43,'100 Resue Men'!$AE$7:$AE$46))))","v":""},{"$f":"IF($A43=\"\",\"\",IF(IF(SUMIF('Line Throw Men'!$C$7:$C$46,$A43,'Line Throw Men'!$AG$7:$AG$46)=0,MAX('Line Throw Men'!$AG$7:$AG$46),SUMIF('Line Throw Men'!$C$7:$C$46,$A43,'Line Throw Men'!$AG$7:$AG$46))>2+MAX('Line Throw Men'!$AG$7:$AG$46),MAX('Line Throw Men'!$AG$7:$AG$46),IF(SUMIF('Line Throw Men'!$C$7:$C$46,$A43,'Line Throw Men'!$AG$7:$AG$46)=0,1+MAX('Line Throw Men'!$AG$7:$AG$46),SUMIF('Line Throw Men'!$C$7:$C$46,$A43,'Line Throw Men'!$AG$7:$AG$46))))","v":""},{"$f":"IF($A43=\"\",\"\",IF(IF(SUMIF('4 x 50 Obs Relay Men'!$C$7:$C$46,$A43,'4 x 50 Obs Relay Men'!$AJ$7:$AJ$46)=0,1+MAX('4 x 50 Obs Relay Men'!$AJ$7:$AJ$46),SUMIF('4 x 50 Obs Relay Men'!$C$7:$C$46,$A43,'4 x 50 Obs Relay Men'!$AJ$7:$AJ$46))>2+MAX('4 x 50 Obs Relay Men'!$AJ$7:$AJ$46),MAX('4 x 50 Obs Relay Men'!$AJ$7:$AJ$46),IF(SUMIF('4 x 50 Obs Relay Men'!$C$7:$C$46,$A43,'4 x 50 Obs Relay Men'!$AJ$7:$AJ$46)=0,1+MAX('4 x 50 Obs Relay Men'!$AJ$7:$AJ$46),SUMIF('4 x 50 Obs Relay Men'!$C$7:$C$46,$A43,'4 x 50 Obs Relay Men'!$AJ$7:$AJ$46))))","v":""},{"$f":"IF($A43=\"\",\"\",IF(IF(SUMIF('4 x 50 medley Relay Men'!$C$7:$C$46,$A43,'4 x 50 medley Relay Men'!$AJ$7:$AJ$46)=0,1+MAX('4 x 50 medley Relay Men'!$AJ$7:$AJ$46),SUMIF('4 x 50 medley Relay Men'!$C$7:$C$46,$A43,'4 x 50 medley Relay Men'!$AJ$7:$AJ$46))>2+MAX('4 x 50 medley Relay Men'!$AJ$7:$AJ$46),MAX('4 x 50 medley Relay Men'!$AJ$7:$AJ$46),IF(SUMIF('4 x 50 medley Relay Men'!$C$7:$C$46,$A43,'4 x 50 medley Relay Men'!$AJ$7:$AJ$46)=0,1+MAX('4 x 50 medley Relay Men'!$AJ$7:$AJ$46),SUMIF('4 x 50 medley Relay Men'!$C$7:$C$46,$A43,'4 x 50 medley Relay Men'!$AJ$7:$AJ$46))))","v":""},{"$f":"IF($A43=\"\",\"\",IF(IF(SUMIF('4 x 25 Manikin Carry Relay Men'!$C$7:$C$46,$A43,'4 x 25 Manikin Carry Relay Men'!$AJ$7:$AJ$46)=0,1+MAX('4 x 25 Manikin Carry Relay Men'!$AJ$7:$AJ$46),SUMIF('4 x 25 Manikin Carry Relay Men'!$C$7:$C$46,$A43,'4 x 25 Manikin Carry Relay Men'!$AJ$7:$AJ$46))>2+MAX('4 x 25 Manikin Carry Relay Men'!$AJ$7:$AJ$46),MAX('4 x 25 Manikin Carry Relay Men'!$AJ$7:$AJ$46),IF(SUMIF('4 x 25 Manikin Carry Relay Men'!$C$7:$C$46,$A43,'4 x 25 Manikin Carry Relay Men'!$AJ$7:$AJ$46)=0,1+MAX('4 x 25 Manikin Carry Relay Men'!$AJ$7:$AJ$46),SUMIF('4 x 25 Manikin Carry Relay Men'!$C$7:$C$46,$A43,'4 x 25 Manikin Carry Relay Men'!$AJ$7:$AJ$46))))","v":""},{"$f":"IF($A43=\"\",\"\",IF(IF(SUMIF('Line Throw Relay Men'!$C$7:$C$46,$A43,'Line Throw Relay Men'!$AJ$7:$AJ$46)=0,1+MAX('Line Throw Relay Men'!$AJ$7:$AJ$46),SUMIF('Line Throw Relay Men'!$C$7:$C$46,$A43,'Line Throw Relay Men'!$AJ$7:$AJ$46))>2+MAX('Line Throw Relay Men'!$AJ$7:$AJ$46),MAX('Line Throw Relay Men'!$AJ$7:$AJ$46),IF(SUMIF('Line Throw Relay Men'!$C$7:$C$46,$A43,'Line Throw Relay Men'!$AJ$7:$AJ$46)=0,1+MAX('Line Throw Relay Men'!$AJ$7:$AJ$46),SUMIF('Line Throw Relay Men'!$C$7:$C$46,$A43,'Line Throw Relay Men'!$AJ$7:$AJ$46))))","v":""},"",""]
["","",{"$f":"IF($A44=\"\",\"\",IF(IF(SUMIF('50m Manikin Carry Men'!$C$7:$C$46,$A44,'50m Manikin Carry Men'!$AE$7:$AE$46)=0,1+MAX('50m Manikin Carry Men'!$AE$7:$AE$46),SUMIF('50m Manikin Carry Men'!$C$7:$C$46,$A44,'50m Manikin Carry Men'!$AE$7:$AE$46))>MAX('50m Manikin Carry Men'!$AE$7:$AE$46)+2,MAX('50m Manikin Carry Men'!$AE$7:$AE$46),IF(SUMIF('50m Manikin Carry Men'!$C$7:$C$46,$A44,'50m Manikin Carry Men'!$AE$7:$AE$46)=0,1+MAX('50m Manikin Carry Men'!$AE$7:$AE$46),SUMIF('50m Manikin Carry Men'!$C$7:$C$46,$A44,'50m Manikin Carry Men'!$AE$7:$AE$46))))","v":""},{"$f":"IF($A44=\"\",\"\",IF(IF(SUMIF('100m Manikin Carry Men'!$C$7:$C$46,$A44,'100m Manikin Carry Men'!$AE$7:$AE$46)=0,1+MAX('100m Manikin Carry Men'!$AE$7:$AE$46),SUMIF('100m Manikin Carry Men'!$C$7:$C$46,$A44,'100m Manikin Carry Men'!$AE$7:$AE$46))>2+MAX('100m Manikin Carry Men'!$AE$7:$AE$46),MAX('100m Manikin Carry Men'!$AE$7:$AE$46),IF(SUMIF('100m Manikin Carry Men'!$C$7:$C$46,$A44,'100m Manikin Carry Men'!$AE$7:$AE$46)=0,1+MAX('100m Manikin Carry Men'!$AE$7:$AE$46),SUMIF('100m Manikin Carry Men'!$C$7:$C$46,$A44,'100m Manikin Carry Men'!$AE$7:$AE$46))))","v":""},{"$f":"IF($A44=\"\",\"\",IF(IF(SUMIF('100m Manikin Tow Men'!$C$7:$C$46,$A44,'100m Manikin Tow Men'!$AE$7:$AE$46)=0,1+MAX('100m Manikin Tow Men'!$AE$7:$AE$46),SUMIF('100m Manikin Tow Men'!$C$7:$C$46,$A44,'100m Manikin Tow Men'!$AE$7:$AE$46))>2+MAX('100m Manikin Tow Men'!$AE$7:$AE$46),MAX('100m Manikin Tow Men'!$AE$7:$AE$46),IF(SUMIF('100m Manikin Tow Men'!$C$7:$C$46,$A44,'100m Manikin Tow Men'!$AE$7:$AE$46)=0,1+MAX('100m Manikin Tow Men'!$AE$7:$AE$46),SUMIF('100m Manikin Tow Men'!$C$7:$C$46,$A44,'100m Manikin Tow Men'!$AE$7:$AE$46))))","v":""},{"$f":"IF($A44=\"\",\"\",IF(IF(SUMIF('200m Obs Men'!$C$7:$C$46,$A44,'200m Obs Men'!$AE$7:$AE$46)=0,1+MAX('200m Obs Men'!$AE$7:$AE$46),SUMIF('200m Obs Men'!$C$7:$C$46,$A44,'200m Obs Men'!$AE$7:$AE$46))>2+MAX('200m Obs Men'!$AE$7:$AE$46),MAX('200m Obs Men'!$AE$7:$AE$46),IF(SUMIF('200m Obs Men'!$C$7:$C$46,$A44,'200m Obs Men'!$AE$7:$AE$46)=0,1+MAX('200m Obs Men'!$AE$7:$AE$46),SUMIF('200m Obs Men'!$C$7:$C$46,$A44,'200m Obs Men'!$AE$7:$AE$46))))","v":""},{"$f":"IF($A44=\"\",\"\",IF(IF(SUMIF('200m Super Men'!$C$7:$C$46,$A44,'200m Super Men'!$AE$7:$AE$46)=0,1+MAX('200m Super Men'!$AE$7:$AE$46),SUMIF('200m Super Men'!$C$7:$C$46,$A44,'200m Super Men'!$AE$7:$AE$46))>2+MAX('200m Super Men'!$AE$7:$AE$46),MAX('200m Super Men'!$AE$7:$AE$46),IF(SUMIF('200m Super Men'!$C$7:$C$46,$A44,'200m Super Men'!$AE$7:$AE$46)=0,1+MAX('200m Super Men'!$AE$7:$AE$46),SUMIF('200m Super Men'!$C$7:$C$46,$A44,'200m Super Men'!$AE$7:$AE$46))))","v":""},{"$f":"IF($A44=\"\",\"\",IF(IF(SUMIF('100 Resue Men'!$C$7:$C$46,$A44,'100 Resue Men'!$AE$7:$AE$46)=0,1+MAX('100 Resue Men'!$AE$7:$AE$46),SUMIF('100 Resue Men'!$C$7:$C$46,$A44,'100 Resue Men'!$AE$7:$AE$46))>2+MAX('100 Resue Men'!$AE$7:$AE$46),MAX('100 Resue Men'!$AE$7:$AE$46),IF(SUMIF('100 Resue Men'!$C$7:$C$46,$A44,'100 Resue Men'!$AE$7:$AE$46)=0,1+MAX('100 Resue Men'!$AE$7:$AE$46),SUMIF('100 Resue Men'!$C$7:$C$46,$A44,'100 Resue Men'!$AE$7:$AE$46))))","v":""},{"$f":"IF($A44=\"\",\"\",IF(IF(SUMIF('Line Throw Men'!$C$7:$C$46,$A44,'Line Throw Men'!$AG$7:$AG$46)=0,MAX('Line Throw Men'!$AG$7:$AG$46),SUMIF('Line Throw Men'!$C$7:$C$46,$A44,'Line Throw Men'!$AG$7:$AG$46))>2+MAX('Line Throw Men'!$AG$7:$AG$46),MAX('Line Throw Men'!$AG$7:$AG$46),IF(SUMIF('Line Throw Men'!$C$7:$C$46,$A44,'Line Throw Men'!$AG$7:$AG$46)=0,1+MAX('Line Throw Men'!$AG$7:$AG$46),SUMIF('Line Throw Men'!$C$7:$C$46,$A44,'Line Throw Men'!$AG$7:$AG$46))))","v":""},{"$f":"IF($A44=\"\",\"\",IF(IF(SUMIF('4 x 50 Obs Relay Men'!$C$7:$C$46,$A44,'4 x 50 Obs Relay Men'!$AJ$7:$AJ$46)=0,1+MAX('4 x 50 Obs Relay Men'!$AJ$7:$AJ$46),SUMIF('4 x 50 Obs Relay Men'!$C$7:$C$46,$A44,'4 x 50 Obs Relay Men'!$AJ$7:$AJ$46))>2+MAX('4 x 50 Obs Relay Men'!$AJ$7:$AJ$46),MAX('4 x 50 Obs Relay Men'!$AJ$7:$AJ$46),IF(SUMIF('4 x 50 Obs Relay Men'!$C$7:$C$46,$A44,'4 x 50 Obs Relay Men'!$AJ$7:$AJ$46)=0,1+MAX('4 x 50 Obs Relay Men'!$AJ$7:$AJ$46),SUMIF('4 x 50 Obs Relay Men'!$C$7:$C$46,$A44,'4 x 50 Obs Relay Men'!$AJ$7:$AJ$46))))","v":""},{"$f":"IF($A44=\"\",\"\",IF(IF(SUMIF('4 x 50 medley Relay Men'!$C$7:$C$46,$A44,'4 x 50 medley Relay Men'!$AJ$7:$AJ$46)=0,1+MAX('4 x 50 medley Relay Men'!$AJ$7:$AJ$46),SUMIF('4 x 50 medley Relay Men'!$C$7:$C$46,$A44,'4 x 50 medley Relay Men'!$AJ$7:$AJ$46))>2+MAX('4 x 50 medley Relay Men'!$AJ$7:$AJ$46),MAX('4 x 50 medley Relay Men'!$AJ$7:$AJ$46),IF(SUMIF('4 x 50 medley Relay Men'!$C$7:$C$46,$A44,'4 x 50 medley Relay Men'!$AJ$7:$AJ$46)=0,1+MAX('4 x 50 medley Relay Men'!$AJ$7:$AJ$46),SUMIF('4 x 50 medley Relay Men'!$C$7:$C$46,$A44,'4 x 50 medley Relay Men'!$AJ$7:$AJ$46))))","v":""},{"$f":"IF($A44=\"\",\"\",IF(IF(SUMIF('4 x 25 Manikin Carry Relay Men'!$C$7:$C$46,$A44,'4 x 25 Manikin Carry Relay Men'!$AJ$7:$AJ$46)=0,1+MAX('4 x 25 Manikin Carry Relay Men'!$AJ$7:$AJ$46),SUMIF('4 x 25 Manikin Carry Relay Men'!$C$7:$C$46,$A44,'4 x 25 Manikin Carry Relay Men'!$AJ$7:$AJ$46))>2+MAX('4 x 25 Manikin Carry Relay Men'!$AJ$7:$AJ$46),MAX('4 x 25 Manikin Carry Relay Men'!$AJ$7:$AJ$46),IF(SUMIF('4 x 25 Manikin Carry Relay Men'!$C$7:$C$46,$A44,'4 x 25 Manikin Carry Relay Men'!$AJ$7:$AJ$46)=0,1+MAX('4 x 25 Manikin Carry Relay Men'!$AJ$7:$AJ$46),SUMIF('4 x 25 Manikin Carry Relay Men'!$C$7:$C$46,$A44,'4 x 25 Manikin Carry Relay Men'!$AJ$7:$AJ$46))))","v":""},{"$f":"IF($A44=\"\",\"\",IF(IF(SUMIF('Line Throw Relay Men'!$C$7:$C$46,$A44,'Line Throw Relay Men'!$AJ$7:$AJ$46)=0,1+MAX('Line Throw Relay Men'!$AJ$7:$AJ$46),SUMIF('Line Throw Relay Men'!$C$7:$C$46,$A44,'Line Throw Relay Men'!$AJ$7:$AJ$46))>2+MAX('Line Throw Relay Men'!$AJ$7:$AJ$46),MAX('Line Throw Relay Men'!$AJ$7:$AJ$46),IF(SUMIF('Line Throw Relay Men'!$C$7:$C$46,$A44,'Line Throw Relay Men'!$AJ$7:$AJ$46)=0,1+MAX('Line Throw Relay Men'!$AJ$7:$AJ$46),SUMIF('Line Throw Relay Men'!$C$7:$C$46,$A44,'Line Throw Relay Men'!$AJ$7:$AJ$46))))","v":""},"",""]
["","",{"$f":"IF($A45=\"\",\"\",IF(IF(SUMIF('50m Manikin Carry Men'!$C$7:$C$46,$A45,'50m Manikin Carry Men'!$AE$7:$AE$46)=0,1+MAX('50m Manikin Carry Men'!$AE$7:$AE$46),SUMIF('50m Manikin Carry Men'!$C$7:$C$46,$A45,'50m Manikin Carry Men'!$AE$7:$AE$46))>MAX('50m Manikin Carry Men'!$AE$7:$AE$46)+2,MAX('50m Manikin Carry Men'!$AE$7:$AE$46),IF(SUMIF('50m Manikin Carry Men'!$C$7:$C$46,$A45,'50m Manikin Carry Men'!$AE$7:$AE$46)=0,1+MAX('50m Manikin Carry Men'!$AE$7:$AE$46),SUMIF('50m Manikin Carry Men'!$C$7:$C$46,$A45,'50m Manikin Carry Men'!$AE$7:$AE$46))))","v":""},{"$f":"IF($A45=\"\",\"\",IF(IF(SUMIF('100m Manikin Carry Men'!$C$7:$C$46,$A45,'100m Manikin Carry Men'!$AE$7:$AE$46)=0,1+MAX('100m Manikin Carry Men'!$AE$7:$AE$46),SUMIF('100m Manikin Carry Men'!$C$7:$C$46,$A45,'100m Manikin Carry Men'!$AE$7:$AE$46))>2+MAX('100m Manikin Carry Men'!$AE$7:$AE$46),MAX('100m Manikin Carry Men'!$AE$7:$AE$46),IF(SUMIF('100m Manikin Carry Men'!$C$7:$C$46,$A45,'100m Manikin Carry Men'!$AE$7:$AE$46)=0,1+MAX('100m Manikin Carry Men'!$AE$7:$AE$46),SUMIF('100m Manikin Carry Men'!$C$7:$C$46,$A45,'100m Manikin Carry Men'!$AE$7:$AE$46))))","v":""},{"$f":"IF($A45=\"\",\"\",IF(IF(SUMIF('100m Manikin Tow Men'!$C$7:$C$46,$A45,'100m Manikin Tow Men'!$AE$7:$AE$46)=0,1+MAX('100m Manikin Tow Men'!$AE$7:$AE$46),SUMIF('100m Manikin Tow Men'!$C$7:$C$46,$A45,'100m Manikin Tow Men'!$AE$7:$AE$46))>2+MAX('100m Manikin Tow Men'!$AE$7:$AE$46),MAX('100m Manikin Tow Men'!$AE$7:$AE$46),IF(SUMIF('100m Manikin Tow Men'!$C$7:$C$46,$A45,'100m Manikin Tow Men'!$AE$7:$AE$46)=0,1+MAX('100m Manikin Tow Men'!$AE$7:$AE$46),SUMIF('100m Manikin Tow Men'!$C$7:$C$46,$A45,'100m Manikin Tow Men'!$AE$7:$AE$46))))","v":""},{"$f":"IF($A45=\"\",\"\",IF(IF(SUMIF('200m Obs Men'!$C$7:$C$46,$A45,'200m Obs Men'!$AE$7:$AE$46)=0,1+MAX('200m Obs Men'!$AE$7:$AE$46),SUMIF('200m Obs Men'!$C$7:$C$46,$A45,'200m Obs Men'!$AE$7:$AE$46))>2+MAX('200m Obs Men'!$AE$7:$AE$46),MAX('200m Obs Men'!$AE$7:$AE$46),IF(SUMIF('200m Obs Men'!$C$7:$C$46,$A45,'200m Obs Men'!$AE$7:$AE$46)=0,1+MAX('200m Obs Men'!$AE$7:$AE$46),SUMIF('200m Obs Men'!$C$7:$C$46,$A45,'200m Obs Men'!$AE$7:$AE$46))))","v":""},{"$f":"IF($A45=\"\",\"\",IF(IF(SUMIF('200m Super Men'!$C$7:$C$46,$A45,'200m Super Men'!$AE$7:$AE$46)=0,1+MAX('200m Super Men'!$AE$7:$AE$46),SUMIF('200m Super Men'!$C$7:$C$46,$A45,'200m Super Men'!$AE$7:$AE$46))>2+MAX('200m Super Men'!$AE$7:$AE$46),MAX('200m Super Men'!$AE$7:$AE$46),IF(SUMIF('200m Super Men'!$C$7:$C$46,$A45,'200m Super Men'!$AE$7:$AE$46)=0,1+MAX('200m Super Men'!$AE$7:$AE$46),SUMIF('200m Super Men'!$C$7:$C$46,$A45,'200m Super Men'!$AE$7:$AE$46))))","v":""},{"$f":"IF($A45=\"\",\"\",IF(IF(SUMIF('100 Resue Men'!$C$7:$C$46,$A45,'100 Resue Men'!$AE$7:$AE$46)=0,1+MAX('100 Resue Men'!$AE$7:$AE$46),SUMIF('100 Resue Men'!$C$7:$C$46,$A45,'100 Resue Men'!$AE$7:$AE$46))>2+MAX('100 Resue Men'!$AE$7:$AE$46),MAX('100 Resue Men'!$AE$7:$AE$46),IF(SUMIF('100 Resue Men'!$C$7:$C$46,$A45,'100 Resue Men'!$AE$7:$AE$46)=0,1+MAX('100 Resue Men'!$AE$7:$AE$46),SUMIF('100 Resue Men'!$C$7:$C$46,$A45,'100 Resue Men'!$AE$7:$AE$46))))","v":""},{"$f":"IF($A45=\"\",\"\",IF(IF(SUMIF('Line Throw Men'!$C$7:$C$46,$A45,'Line Throw Men'!$AG$7:$AG$46)=0,MAX('Line Throw Men'!$AG$7:$AG$46),SUMIF('Line Throw Men'!$C$7:$C$46,$A45,'Line Throw Men'!$AG$7:$AG$46))>2+MAX('Line Throw Men'!$AG$7:$AG$46),MAX('Line Throw Men'!$AG$7:$AG$46),IF(SUMIF('Line Throw Men'!$C$7:$C$46,$A45,'Line Throw Men'!$AG$7:$AG$46)=0,1+MAX('Line Throw Men'!$AG$7:$AG$46),SUMIF('Line Throw Men'!$C$7:$C$46,$A45,'Line Throw Men'!$AG$7:$AG$46))))","v":""},{"$f":"IF($A45=\"\",\"\",IF(IF(SUMIF('4 x 50 Obs Relay Men'!$C$7:$C$46,$A45,'4 x 50 Obs Relay Men'!$AJ$7:$AJ$46)=0,1+MAX('4 x 50 Obs Relay Men'!$AJ$7:$AJ$46),SUMIF('4 x 50 Obs Relay Men'!$C$7:$C$46,$A45,'4 x 50 Obs Relay Men'!$AJ$7:$AJ$46))>2+MAX('4 x 50 Obs Relay Men'!$AJ$7:$AJ$46),MAX('4 x 50 Obs Relay Men'!$AJ$7:$AJ$46),IF(SUMIF('4 x 50 Obs Relay Men'!$C$7:$C$46,$A45,'4 x 50 Obs Relay Men'!$AJ$7:$AJ$46)=0,1+MAX('4 x 50 Obs Relay Men'!$AJ$7:$AJ$46),SUMIF('4 x 50 Obs Relay Men'!$C$7:$C$46,$A45,'4 x 50 Obs Relay Men'!$AJ$7:$AJ$46))))","v":""},{"$f":"IF($A45=\"\",\"\",IF(IF(SUMIF('4 x 50 medley Relay Men'!$C$7:$C$46,$A45,'4 x 50 medley Relay Men'!$AJ$7:$AJ$46)=0,1+MAX('4 x 50 medley Relay Men'!$AJ$7:$AJ$46),SUMIF('4 x 50 medley Relay Men'!$C$7:$C$46,$A45,'4 x 50 medley Relay Men'!$AJ$7:$AJ$46))>2+MAX('4 x 50 medley Relay Men'!$AJ$7:$AJ$46),MAX('4 x 50 medley Relay Men'!$AJ$7:$AJ$46),IF(SUMIF('4 x 50 medley Relay Men'!$C$7:$C$46,$A45,'4 x 50 medley Relay Men'!$AJ$7:$AJ$46)=0,1+MAX('4 x 50 medley Relay Men'!$AJ$7:$AJ$46),SUMIF('4 x 50 medley Relay Men'!$C$7:$C$46,$A45,'4 x 50 medley Relay Men'!$AJ$7:$AJ$46))))","v":""},{"$f":"IF($A45=\"\",\"\",IF(IF(SUMIF('4 x 25 Manikin Carry Relay Men'!$C$7:$C$46,$A45,'4 x 25 Manikin Carry Relay Men'!$AJ$7:$AJ$46)=0,1+MAX('4 x 25 Manikin Carry Relay Men'!$AJ$7:$AJ$46),SUMIF('4 x 25 Manikin Carry Relay Men'!$C$7:$C$46,$A45,'4 x 25 Manikin Carry Relay Men'!$AJ$7:$AJ$46))>2+MAX('4 x 25 Manikin Carry Relay Men'!$AJ$7:$AJ$46),MAX('4 x 25 Manikin Carry Relay Men'!$AJ$7:$AJ$46),IF(SUMIF('4 x 25 Manikin Carry Relay Men'!$C$7:$C$46,$A45,'4 x 25 Manikin Carry Relay Men'!$AJ$7:$AJ$46)=0,1+MAX('4 x 25 Manikin Carry Relay Men'!$AJ$7:$AJ$46),SUMIF('4 x 25 Manikin Carry Relay Men'!$C$7:$C$46,$A45,'4 x 25 Manikin Carry Relay Men'!$AJ$7:$AJ$46))))","v":""},{"$f":"IF($A45=\"\",\"\",IF(IF(SUMIF('Line Throw Relay Men'!$C$7:$C$46,$A45,'Line Throw Relay Men'!$AJ$7:$AJ$46)=0,1+MAX('Line Throw Relay Men'!$AJ$7:$AJ$46),SUMIF('Line Throw Relay Men'!$C$7:$C$46,$A45,'Line Throw Relay Men'!$AJ$7:$AJ$46))>2+MAX('Line Throw Relay Men'!$AJ$7:$AJ$46),MAX('Line Throw Relay Men'!$AJ$7:$AJ$46),IF(SUMIF('Line Throw Relay Men'!$C$7:$C$46,$A45,'Line Throw Relay Men'!$AJ$7:$AJ$46)=0,1+MAX('Line Throw Relay Men'!$AJ$7:$AJ$46),SUMIF('Line Throw Relay Men'!$C$7:$C$46,$A45,'Line Throw Relay Men'!$AJ$7:$AJ$46))))","v":""},"",""]
["","",{"$f":"IF($A46=\"\",\"\",IF(IF(SUMIF('50m Manikin Carry Men'!$C$7:$C$46,$A46,'50m Manikin Carry Men'!$AE$7:$AE$46)=0,1+MAX('50m Manikin Carry Men'!$AE$7:$AE$46),SUMIF('50m Manikin Carry Men'!$C$7:$C$46,$A46,'50m Manikin Carry Men'!$AE$7:$AE$46))>MAX('50m Manikin Carry Men'!$AE$7:$AE$46)+2,MAX('50m Manikin Carry Men'!$AE$7:$AE$46),IF(SUMIF('50m Manikin Carry Men'!$C$7:$C$46,$A46,'50m Manikin Carry Men'!$AE$7:$AE$46)=0,1+MAX('50m Manikin Carry Men'!$AE$7:$AE$46),SUMIF('50m Manikin Carry Men'!$C$7:$C$46,$A46,'50m Manikin Carry Men'!$AE$7:$AE$46))))","v":""},{"$f":"IF($A46=\"\",\"\",IF(IF(SUMIF('100m Manikin Carry Men'!$C$7:$C$46,$A46,'100m Manikin Carry Men'!$AE$7:$AE$46)=0,1+MAX('100m Manikin Carry Men'!$AE$7:$AE$46),SUMIF('100m Manikin Carry Men'!$C$7:$C$46,$A46,'100m Manikin Carry Men'!$AE$7:$AE$46))>2+MAX('100m Manikin Carry Men'!$AE$7:$AE$46),MAX('100m Manikin Carry Men'!$AE$7:$AE$46),IF(SUMIF('100m Manikin Carry Men'!$C$7:$C$46,$A46,'100m Manikin Carry Men'!$AE$7:$AE$46)=0,1+MAX('100m Manikin Carry Men'!$AE$7:$AE$46),SUMIF('100m Manikin Carry Men'!$C$7:$C$46,$A46,'100m Manikin Carry Men'!$AE$7:$AE$46))))","v":""},{"$f":"IF($A46=\"\",\"\",IF(IF(SUMIF('100m Manikin Tow Men'!$C$7:$C$46,$A46,'100m Manikin Tow Men'!$AE$7:$AE$46)=0,1+MAX('100m Manikin Tow Men'!$AE$7:$AE$46),SUMIF('100m Manikin Tow Men'!$C$7:$C$46,$A46,'100m Manikin Tow Men'!$AE$7:$AE$46))>2+MAX('100m Manikin Tow Men'!$AE$7:$AE$46),MAX('100m Manikin Tow Men'!$AE$7:$AE$46),IF(SUMIF('100m Manikin Tow Men'!$C$7:$C$46,$A46,'100m Manikin Tow Men'!$AE$7:$AE$46)=0,1+MAX('100m Manikin Tow Men'!$AE$7:$AE$46),SUMIF('100m Manikin Tow Men'!$C$7:$C$46,$A46,'100m Manikin Tow Men'!$AE$7:$AE$46))))","v":""},{"$f":"IF($A46=\"\",\"\",IF(IF(SUMIF('200m Obs Men'!$C$7:$C$46,$A46,'200m Obs Men'!$AE$7:$AE$46)=0,1+MAX('200m Obs Men'!$AE$7:$AE$46),SUMIF('200m Obs Men'!$C$7:$C$46,$A46,'200m Obs Men'!$AE$7:$AE$46))>2+MAX('200m Obs Men'!$AE$7:$AE$46),MAX('200m Obs Men'!$AE$7:$AE$46),IF(SUMIF('200m Obs Men'!$C$7:$C$46,$A46,'200m Obs Men'!$AE$7:$AE$46)=0,1+MAX('200m Obs Men'!$AE$7:$AE$46),SUMIF('200m Obs Men'!$C$7:$C$46,$A46,'200m Obs Men'!$AE$7:$AE$46))))","v":""},{"$f":"IF($A46=\"\",\"\",IF(IF(SUMIF('200m Super Men'!$C$7:$C$46,$A46,'200m Super Men'!$AE$7:$AE$46)=0,1+MAX('200m Super Men'!$AE$7:$AE$46),SUMIF('200m Super Men'!$C$7:$C$46,$A46,'200m Super Men'!$AE$7:$AE$46))>2+MAX('200m Super Men'!$AE$7:$AE$46),MAX('200m Super Men'!$AE$7:$AE$46),IF(SUMIF('200m Super Men'!$C$7:$C$46,$A46,'200m Super Men'!$AE$7:$AE$46)=0,1+MAX('200m Super Men'!$AE$7:$AE$46),SUMIF('200m Super Men'!$C$7:$C$46,$A46,'200m Super Men'!$AE$7:$AE$46))))","v":""},{"$f":"IF($A46=\"\",\"\",IF(IF(SUMIF('100 Resue Men'!$C$7:$C$46,$A46,'100 Resue Men'!$AE$7:$AE$46)=0,1+MAX('100 Resue Men'!$AE$7:$AE$46),SUMIF('100 Resue Men'!$C$7:$C$46,$A46,'100 Resue Men'!$AE$7:$AE$46))>2+MAX('100 Resue Men'!$AE$7:$AE$46),MAX('100 Resue Men'!$AE$7:$AE$46),IF(SUMIF('100 Resue Men'!$C$7:$C$46,$A46,'100 Resue Men'!$AE$7:$AE$46)=0,1+MAX('100 Resue Men'!$AE$7:$AE$46),SUMIF('100 Resue Men'!$C$7:$C$46,$A46,'100 Resue Men'!$AE$7:$AE$46))))","v":""},{"$f":"IF($A46=\"\",\"\",IF(IF(SUMIF('Line Throw Men'!$C$7:$C$46,$A46,'Line Throw Men'!$AG$7:$AG$46)=0,MAX('Line Throw Men'!$AG$7:$AG$46),SUMIF('Line Throw Men'!$C$7:$C$46,$A46,'Line Throw Men'!$AG$7:$AG$46))>2+MAX('Line Throw Men'!$AG$7:$AG$46),MAX('Line Throw Men'!$AG$7:$AG$46),IF(SUMIF('Line Throw Men'!$C$7:$C$46,$A46,'Line Throw Men'!$AG$7:$AG$46)=0,1+MAX('Line Throw Men'!$AG$7:$AG$46),SUMIF('Line Throw Men'!$C$7:$C$46,$A46,'Line Throw Men'!$AG$7:$AG$46))))","v":""},{"$f":"IF($A46=\"\",\"\",IF(IF(SUMIF('4 x 50 Obs Relay Men'!$C$7:$C$46,$A46,'4 x 50 Obs Relay Men'!$AJ$7:$AJ$46)=0,1+MAX('4 x 50 Obs Relay Men'!$AJ$7:$AJ$46),SUMIF('4 x 50 Obs Relay Men'!$C$7:$C$46,$A46,'4 x 50 Obs Relay Men'!$AJ$7:$AJ$46))>2+MAX('4 x 50 Obs Relay Men'!$AJ$7:$AJ$46),MAX('4 x 50 Obs Relay Men'!$AJ$7:$AJ$46),IF(SUMIF('4 x 50 Obs Relay Men'!$C$7:$C$46,$A46,'4 x 50 Obs Relay Men'!$AJ$7:$AJ$46)=0,1+MAX('4 x 50 Obs Relay Men'!$AJ$7:$AJ$46),SUMIF('4 x 50 Obs Relay Men'!$C$7:$C$46,$A46,'4 x 50 Obs Relay Men'!$AJ$7:$AJ$46))))","v":""},{"$f":"IF($A46=\"\",\"\",IF(IF(SUMIF('4 x 50 medley Relay Men'!$C$7:$C$46,$A46,'4 x 50 medley Relay Men'!$AJ$7:$AJ$46)=0,1+MAX('4 x 50 medley Relay Men'!$AJ$7:$AJ$46),SUMIF('4 x 50 medley Relay Men'!$C$7:$C$46,$A46,'4 x 50 medley Relay Men'!$AJ$7:$AJ$46))>2+MAX('4 x 50 medley Relay Men'!$AJ$7:$AJ$46),MAX('4 x 50 medley Relay Men'!$AJ$7:$AJ$46),IF(SUMIF('4 x 50 medley Relay Men'!$C$7:$C$46,$A46,'4 x 50 medley Relay Men'!$AJ$7:$AJ$46)=0,1+MAX('4 x 50 medley Relay Men'!$AJ$7:$AJ$46),SUMIF('4 x 50 medley Relay Men'!$C$7:$C$46,$A46,'4 x 50 medley Relay Men'!$AJ$7:$AJ$46))))","v":""},{"$f":"IF($A46=\"\",\"\",IF(IF(SUMIF('4 x 25 Manikin Carry Relay Men'!$C$7:$C$46,$A46,'4 x 25 Manikin Carry Relay Men'!$AJ$7:$AJ$46)=0,1+MAX('4 x 25 Manikin Carry Relay Men'!$AJ$7:$AJ$46),SUMIF('4 x 25 Manikin Carry Relay Men'!$C$7:$C$46,$A46,'4 x 25 Manikin Carry Relay Men'!$AJ$7:$AJ$46))>2+MAX('4 x 25 Manikin Carry Relay Men'!$AJ$7:$AJ$46),MAX('4 x 25 Manikin Carry Relay Men'!$AJ$7:$AJ$46),IF(SUMIF('4 x 25 Manikin Carry Relay Men'!$C$7:$C$46,$A46,'4 x 25 Manikin Carry Relay Men'!$AJ$7:$AJ$46)=0,1+MAX('4 x 25 Manikin Carry Relay Men'!$AJ$7:$AJ$46),SUMIF('4 x 25 Manikin Carry Relay Men'!$C$7:$C$46,$A46,'4 x 25 Manikin Carry Relay Men'!$AJ$7:$AJ$46))))","v":""},{"$f":"IF($A46=\"\",\"\",IF(IF(SUMIF('Line Throw Relay Men'!$C$7:$C$46,$A46,'Line Throw Relay Men'!$AJ$7:$AJ$46)=0,1+MAX('Line Throw Relay Men'!$AJ$7:$AJ$46),SUMIF('Line Throw Relay Men'!$C$7:$C$46,$A46,'Line Throw Relay Men'!$AJ$7:$AJ$46))>2+MAX('Line Throw Relay Men'!$AJ$7:$AJ$46),MAX('Line Throw Relay Men'!$AJ$7:$AJ$46),IF(SUMIF('Line Throw Relay Men'!$C$7:$C$46,$A46,'Line Throw Relay Men'!$AJ$7:$AJ$46)=0,1+MAX('Line Throw Relay Men'!$AJ$7:$AJ$46),SUMIF('Line Throw Relay Men'!$C$7:$C$46,$A46,'Line Throw Relay Men'!$AJ$7:$AJ$46))))","v":""},"",""]
["","",{"$f":"IF($A47=\"\",\"\",IF(IF(SUMIF('50m Manikin Carry Men'!$C$7:$C$46,$A47,'50m Manikin Carry Men'!$AE$7:$AE$46)=0,1+MAX('50m Manikin Carry Men'!$AE$7:$AE$46),SUMIF('50m Manikin Carry Men'!$C$7:$C$46,$A47,'50m Manikin Carry Men'!$AE$7:$AE$46))>MAX('50m Manikin Carry Men'!$AE$7:$AE$46)+2,MAX('50m Manikin Carry Men'!$AE$7:$AE$46),IF(SUMIF('50m Manikin Carry Men'!$C$7:$C$46,$A47,'50m Manikin Carry Men'!$AE$7:$AE$46)=0,1+MAX('50m Manikin Carry Men'!$AE$7:$AE$46),SUMIF('50m Manikin Carry Men'!$C$7:$C$46,$A47,'50m Manikin Carry Men'!$AE$7:$AE$46))))","v":""},{"$f":"IF($A47=\"\",\"\",IF(IF(SUMIF('100m Manikin Carry Men'!$C$7:$C$46,$A47,'100m Manikin Carry Men'!$AE$7:$AE$46)=0,1+MAX('100m Manikin Carry Men'!$AE$7:$AE$46),SUMIF('100m Manikin Carry Men'!$C$7:$C$46,$A47,'100m Manikin Carry Men'!$AE$7:$AE$46))>2+MAX('100m Manikin Carry Men'!$AE$7:$AE$46),MAX('100m Manikin Carry Men'!$AE$7:$AE$46),IF(SUMIF('100m Manikin Carry Men'!$C$7:$C$46,$A47,'100m Manikin Carry Men'!$AE$7:$AE$46)=0,1+MAX('100m Manikin Carry Men'!$AE$7:$AE$46),SUMIF('100m Manikin Carry Men'!$C$7:$C$46,$A47,'100m Manikin Carry Men'!$AE$7:$AE$46))))","v":""},{"$f":"IF($A47=\"\",\"\",IF(IF(SUMIF('100m Manikin Tow Men'!$C$7:$C$46,$A47,'100m Manikin Tow Men'!$AE$7:$AE$46)=0,1+MAX('100m Manikin Tow Men'!$AE$7:$AE$46),SUMIF('100m Manikin Tow Men'!$C$7:$C$46,$A47,'100m Manikin Tow Men'!$AE$7:$AE$46))>2+MAX('100m Manikin Tow Men'!$AE$7:$AE$46),MAX('100m Manikin Tow Men'!$AE$7:$AE$46),IF(SUMIF('100m Manikin Tow Men'!$C$7:$C$46,$A47,'100m Manikin Tow Men'!$AE$7:$AE$46)=0,1+MAX('100m Manikin Tow Men'!$AE$7:$AE$46),SUMIF('100m Manikin Tow Men'!$C$7:$C$46,$A47,'100m Manikin Tow Men'!$AE$7:$AE$46))))","v":""},{"$f":"IF($A47=\"\",\"\",IF(IF(SUMIF('200m Obs Men'!$C$7:$C$46,$A47,'200m Obs Men'!$AE$7:$AE$46)=0,1+MAX('200m Obs Men'!$AE$7:$AE$46),SUMIF('200m Obs Men'!$C$7:$C$46,$A47,'200m Obs Men'!$AE$7:$AE$46))>2+MAX('200m Obs Men'!$AE$7:$AE$46),MAX('200m Obs Men'!$AE$7:$AE$46),IF(SUMIF('200m Obs Men'!$C$7:$C$46,$A47,'200m Obs Men'!$AE$7:$AE$46)=0,1+MAX('200m Obs Men'!$AE$7:$AE$46),SUMIF('200m Obs Men'!$C$7:$C$46,$A47,'200m Obs Men'!$AE$7:$AE$46))))","v":""},{"$f":"IF($A47=\"\",\"\",IF(IF(SUMIF('200m Super Men'!$C$7:$C$46,$A47,'200m Super Men'!$AE$7:$AE$46)=0,1+MAX('200m Super Men'!$AE$7:$AE$46),SUMIF('200m Super Men'!$C$7:$C$46,$A47,'200m Super Men'!$AE$7:$AE$46))>2+MAX('200m Super Men'!$AE$7:$AE$46),MAX('200m Super Men'!$AE$7:$AE$46),IF(SUMIF('200m Super Men'!$C$7:$C$46,$A47,'200m Super Men'!$AE$7:$AE$46)=0,1+MAX('200m Super Men'!$AE$7:$AE$46),SUMIF('200m Super Men'!$C$7:$C$46,$A47,'200m Super Men'!$AE$7:$AE$46))))","v":""},{"$f":"IF($A47=\"\",\"\",IF(IF(SUMIF('100 Resue Men'!$C$7:$C$46,$A47,'100 Resue Men'!$AE$7:$AE$46)=0,1+MAX('100 Resue Men'!$AE$7:$AE$46),SUMIF('100 Resue Men'!$C$7:$C$46,$A47,'100 Resue Men'!$AE$7:$AE$46))>2+MAX('100 Resue Men'!$AE$7:$AE$46),MAX('100 Resue Men'!$AE$7:$AE$46),IF(SUMIF('100 Resue Men'!$C$7:$C$46,$A47,'100 Resue Men'!$AE$7:$AE$46)=0,1+MAX('100 Resue Men'!$AE$7:$AE$46),SUMIF('100 Resue Men'!$C$7:$C$46,$A47,'100 Resue Men'!$AE$7:$AE$46))))","v":""},{"$f":"IF($A47=\"\",\"\",IF(IF(SUMIF('Line Throw Men'!$C$7:$C$46,$A47,'Line Throw Men'!$AG$7:$AG$46)=0,MAX('Line Throw Men'!$AG$7:$AG$46),SUMIF('Line Throw Men'!$C$7:$C$46,$A47,'Line Throw Men'!$AG$7:$AG$46))>2+MAX('Line Throw Men'!$AG$7:$AG$46),MAX('Line Throw Men'!$AG$7:$AG$46),IF(SUMIF('Line Throw Men'!$C$7:$C$46,$A47,'Line Throw Men'!$AG$7:$AG$46)=0,1+MAX('Line Throw Men'!$AG$7:$AG$46),SUMIF('Line Throw Men'!$C$7:$C$46,$A47,'Line Throw Men'!$AG$7:$AG$46))))","v":""},{"$f":"IF($A47=\"\",\"\",IF(IF(SUMIF('4 x 50 Obs Relay Men'!$C$7:$C$46,$A47,'4 x 50 Obs Relay Men'!$AJ$7:$AJ$46)=0,1+MAX('4 x 50 Obs Relay Men'!$AJ$7:$AJ$46),SUMIF('4 x 50 Obs Relay Men'!$C$7:$C$46,$A47,'4 x 50 Obs Relay Men'!$AJ$7:$AJ$46))>2+MAX('4 x 50 Obs Relay Men'!$AJ$7:$AJ$46),MAX('4 x 50 Obs Relay Men'!$AJ$7:$AJ$46),IF(SUMIF('4 x 50 Obs Relay Men'!$C$7:$C$46,$A47,'4 x 50 Obs Relay Men'!$AJ$7:$AJ$46)=0,1+MAX('4 x 50 Obs Relay Men'!$AJ$7:$AJ$46),SUMIF('4 x 50 Obs Relay Men'!$C$7:$C$46,$A47,'4 x 50 Obs Relay Men'!$AJ$7:$AJ$46))))","v":""},{"$f":"IF($A47=\"\",\"\",IF(IF(SUMIF('4 x 50 medley Relay Men'!$C$7:$C$46,$A47,'4 x 50 medley Relay Men'!$AJ$7:$AJ$46)=0,1+MAX('4 x 50 medley Relay Men'!$AJ$7:$AJ$46),SUMIF('4 x 50 medley Relay Men'!$C$7:$C$46,$A47,'4 x 50 medley Relay Men'!$AJ$7:$AJ$46))>2+MAX('4 x 50 medley Relay Men'!$AJ$7:$AJ$46),MAX('4 x 50 medley Relay Men'!$AJ$7:$AJ$46),IF(SUMIF('4 x 50 medley Relay Men'!$C$7:$C$46,$A47,'4 x 50 medley Relay Men'!$AJ$7:$AJ$46)=0,1+MAX('4 x 50 medley Relay Men'!$AJ$7:$AJ$46),SUMIF('4 x 50 medley Relay Men'!$C$7:$C$46,$A47,'4 x 50 medley Relay Men'!$AJ$7:$AJ$46))))","v":""},{"$f":"IF($A47=\"\",\"\",IF(IF(SUMIF('4 x 25 Manikin Carry Relay Men'!$C$7:$C$46,$A47,'4 x 25 Manikin Carry Relay Men'!$AJ$7:$AJ$46)=0,1+MAX('4 x 25 Manikin Carry Relay Men'!$AJ$7:$AJ$46),SUMIF('4 x 25 Manikin Carry Relay Men'!$C$7:$C$46,$A47,'4 x 25 Manikin Carry Relay Men'!$AJ$7:$AJ$46))>2+MAX('4 x 25 Manikin Carry Relay Men'!$AJ$7:$AJ$46),MAX('4 x 25 Manikin Carry Relay Men'!$AJ$7:$AJ$46),IF(SUMIF('4 x 25 Manikin Carry Relay Men'!$C$7:$C$46,$A47,'4 x 25 Manikin Carry Relay Men'!$AJ$7:$AJ$46)=0,1+MAX('4 x 25 Manikin Carry Relay Men'!$AJ$7:$AJ$46),SUMIF('4 x 25 Manikin Carry Relay Men'!$C$7:$C$46,$A47,'4 x 25 Manikin Carry Relay Men'!$AJ$7:$AJ$46))))","v":""},{"$f":"IF($A47=\"\",\"\",IF(IF(SUMIF('Line Throw Relay Men'!$C$7:$C$46,$A47,'Line Throw Relay Men'!$AJ$7:$AJ$46)=0,1+MAX('Line Throw Relay Men'!$AJ$7:$AJ$46),SUMIF('Line Throw Relay Men'!$C$7:$C$46,$A47,'Line Throw Relay Men'!$AJ$7:$AJ$46))>2+MAX('Line Throw Relay Men'!$AJ$7:$AJ$46),MAX('Line Throw Relay Men'!$AJ$7:$AJ$46),IF(SUMIF('Line Throw Relay Men'!$C$7:$C$46,$A47,'Line Throw Relay Men'!$AJ$7:$AJ$46)=0,1+MAX('Line Throw Relay Men'!$AJ$7:$AJ$46),SUMIF('Line Throw Relay Men'!$C$7:$C$46,$A47,'Line Throw Relay Men'!$AJ$7:$AJ$46))))","v":""},"",""]
["","",{"$f":"IF($A48=\"\",\"\",IF(IF(SUMIF('50m Manikin Carry Men'!$C$7:$C$46,$A48,'50m Manikin Carry Men'!$AE$7:$AE$46)=0,1+MAX('50m Manikin Carry Men'!$AE$7:$AE$46),SUMIF('50m Manikin Carry Men'!$C$7:$C$46,$A48,'50m Manikin Carry Men'!$AE$7:$AE$46))>MAX('50m Manikin Carry Men'!$AE$7:$AE$46)+2,MAX('50m Manikin Carry Men'!$AE$7:$AE$46),IF(SUMIF('50m Manikin Carry Men'!$C$7:$C$46,$A48,'50m Manikin Carry Men'!$AE$7:$AE$46)=0,1+MAX('50m Manikin Carry Men'!$AE$7:$AE$46),SUMIF('50m Manikin Carry Men'!$C$7:$C$46,$A48,'50m Manikin Carry Men'!$AE$7:$AE$46))))","v":""},{"$f":"IF($A48=\"\",\"\",IF(IF(SUMIF('100m Manikin Carry Men'!$C$7:$C$46,$A48,'100m Manikin Carry Men'!$AE$7:$AE$46)=0,1+MAX('100m Manikin Carry Men'!$AE$7:$AE$46),SUMIF('100m Manikin Carry Men'!$C$7:$C$46,$A48,'100m Manikin Carry Men'!$AE$7:$AE$46))>2+MAX('100m Manikin Carry Men'!$AE$7:$AE$46),MAX('100m Manikin Carry Men'!$AE$7:$AE$46),IF(SUMIF('100m Manikin Carry Men'!$C$7:$C$46,$A48,'100m Manikin Carry Men'!$AE$7:$AE$46)=0,1+MAX('100m Manikin Carry Men'!$AE$7:$AE$46),SUMIF('100m Manikin Carry Men'!$C$7:$C$46,$A48,'100m Manikin Carry Men'!$AE$7:$AE$46))))","v":""},{"$f":"IF($A48=\"\",\"\",IF(IF(SUMIF('100m Manikin Tow Men'!$C$7:$C$46,$A48,'100m Manikin Tow Men'!$AE$7:$AE$46)=0,1+MAX('100m Manikin Tow Men'!$AE$7:$AE$46),SUMIF('100m Manikin Tow Men'!$C$7:$C$46,$A48,'100m Manikin Tow Men'!$AE$7:$AE$46))>2+MAX('100m Manikin Tow Men'!$AE$7:$AE$46),MAX('100m Manikin Tow Men'!$AE$7:$AE$46),IF(SUMIF('100m Manikin Tow Men'!$C$7:$C$46,$A48,'100m Manikin Tow Men'!$AE$7:$AE$46)=0,1+MAX('100m Manikin Tow Men'!$AE$7:$AE$46),SUMIF('100m Manikin Tow Men'!$C$7:$C$46,$A48,'100m Manikin Tow Men'!$AE$7:$AE$46))))","v":""},{"$f":"IF($A48=\"\",\"\",IF(IF(SUMIF('200m Obs Men'!$C$7:$C$46,$A48,'200m Obs Men'!$AE$7:$AE$46)=0,1+MAX('200m Obs Men'!$AE$7:$AE$46),SUMIF('200m Obs Men'!$C$7:$C$46,$A48,'200m Obs Men'!$AE$7:$AE$46))>2+MAX('200m Obs Men'!$AE$7:$AE$46),MAX('200m Obs Men'!$AE$7:$AE$46),IF(SUMIF('200m Obs Men'!$C$7:$C$46,$A48,'200m Obs Men'!$AE$7:$AE$46)=0,1+MAX('200m Obs Men'!$AE$7:$AE$46),SUMIF('200m Obs Men'!$C$7:$C$46,$A48,'200m Obs Men'!$AE$7:$AE$46))))","v":""},{"$f":"IF($A48=\"\",\"\",IF(IF(SUMIF('200m Super Men'!$C$7:$C$46,$A48,'200m Super Men'!$AE$7:$AE$46)=0,1+MAX('200m Super Men'!$AE$7:$AE$46),SUMIF('200m Super Men'!$C$7:$C$46,$A48,'200m Super Men'!$AE$7:$AE$46))>2+MAX('200m Super Men'!$AE$7:$AE$46),MAX('200m Super Men'!$AE$7:$AE$46),IF(SUMIF('200m Super Men'!$C$7:$C$46,$A48,'200m Super Men'!$AE$7:$AE$46)=0,1+MAX('200m Super Men'!$AE$7:$AE$46),SUMIF('200m Super Men'!$C$7:$C$46,$A48,'200m Super Men'!$AE$7:$AE$46))))","v":""},{"$f":"IF($A48=\"\",\"\",IF(IF(SUMIF('100 Resue Men'!$C$7:$C$46,$A48,'100 Resue Men'!$AE$7:$AE$46)=0,1+MAX('100 Resue Men'!$AE$7:$AE$46),SUMIF('100 Resue Men'!$C$7:$C$46,$A48,'100 Resue Men'!$AE$7:$AE$46))>2+MAX('100 Resue Men'!$AE$7:$AE$46),MAX('100 Resue Men'!$AE$7:$AE$46),IF(SUMIF('100 Resue Men'!$C$7:$C$46,$A48,'100 Resue Men'!$AE$7:$AE$46)=0,1+MAX('100 Resue Men'!$AE$7:$AE$46),SUMIF('100 Resue Men'!$C$7:$C$46,$A48,'100 Resue Men'!$AE$7:$AE$46))))","v":""},{"$f":"IF($A48=\"\",\"\",IF(IF(SUMIF('Line Throw Men'!$C$7:$C$46,$A48,'Line Throw Men'!$AG$7:$AG$46)=0,MAX('Line Throw Men'!$AG$7:$AG$46),SUMIF('Line Throw Men'!$C$7:$C$46,$A48,'Line Throw Men'!$AG$7:$AG$46))>2+MAX('Line Throw Men'!$AG$7:$AG$46),MAX('Line Throw Men'!$AG$7:$AG$46),IF(SUMIF('Line Throw Men'!$C$7:$C$46,$A48,'Line Throw Men'!$AG$7:$AG$46)=0,1+MAX('Line Throw Men'!$AG$7:$AG$46),SUMIF('Line Throw Men'!$C$7:$C$46,$A48,'Line Throw Men'!$AG$7:$AG$46))))","v":""},{"$f":"IF($A48=\"\",\"\",IF(IF(SUMIF('4 x 50 Obs Relay Men'!$C$7:$C$46,$A48,'4 x 50 Obs Relay Men'!$AJ$7:$AJ$46)=0,1+MAX('4 x 50 Obs Relay Men'!$AJ$7:$AJ$46),SUMIF('4 x 50 Obs Relay Men'!$C$7:$C$46,$A48,'4 x 50 Obs Relay Men'!$AJ$7:$AJ$46))>2+MAX('4 x 50 Obs Relay Men'!$AJ$7:$AJ$46),MAX('4 x 50 Obs Relay Men'!$AJ$7:$AJ$46),IF(SUMIF('4 x 50 Obs Relay Men'!$C$7:$C$46,$A48,'4 x 50 Obs Relay Men'!$AJ$7:$AJ$46)=0,1+MAX('4 x 50 Obs Relay Men'!$AJ$7:$AJ$46),SUMIF('4 x 50 Obs Relay Men'!$C$7:$C$46,$A48,'4 x 50 Obs Relay Men'!$AJ$7:$AJ$46))))","v":""},{"$f":"IF($A48=\"\",\"\",IF(IF(SUMIF('4 x 50 medley Relay Men'!$C$7:$C$46,$A48,'4 x 50 medley Relay Men'!$AJ$7:$AJ$46)=0,1+MAX('4 x 50 medley Relay Men'!$AJ$7:$AJ$46),SUMIF('4 x 50 medley Relay Men'!$C$7:$C$46,$A48,'4 x 50 medley Relay Men'!$AJ$7:$AJ$46))>2+MAX('4 x 50 medley Relay Men'!$AJ$7:$AJ$46),MAX('4 x 50 medley Relay Men'!$AJ$7:$AJ$46),IF(SUMIF('4 x 50 medley Relay Men'!$C$7:$C$46,$A48,'4 x 50 medley Relay Men'!$AJ$7:$AJ$46)=0,1+MAX('4 x 50 medley Relay Men'!$AJ$7:$AJ$46),SUMIF('4 x 50 medley Relay Men'!$C$7:$C$46,$A48,'4 x 50 medley Relay Men'!$AJ$7:$AJ$46))))","v":""},{"$f":"IF($A48=\"\",\"\",IF(IF(SUMIF('4 x 25 Manikin Carry Relay Men'!$C$7:$C$46,$A48,'4 x 25 Manikin Carry Relay Men'!$AJ$7:$AJ$46)=0,1+MAX('4 x 25 Manikin Carry Relay Men'!$AJ$7:$AJ$46),SUMIF('4 x 25 Manikin Carry Relay Men'!$C$7:$C$46,$A48,'4 x 25 Manikin Carry Relay Men'!$AJ$7:$AJ$46))>2+MAX('4 x 25 Manikin Carry Relay Men'!$AJ$7:$AJ$46),MAX('4 x 25 Manikin Carry Relay Men'!$AJ$7:$AJ$46),IF(SUMIF('4 x 25 Manikin Carry Relay Men'!$C$7:$C$46,$A48,'4 x 25 Manikin Carry Relay Men'!$AJ$7:$AJ$46)=0,1+MAX('4 x 25 Manikin Carry Relay Men'!$AJ$7:$AJ$46),SUMIF('4 x 25 Manikin Carry Relay Men'!$C$7:$C$46,$A48,'4 x 25 Manikin Carry Relay Men'!$AJ$7:$AJ$46))))","v":""},{"$f":"IF($A48=\"\",\"\",IF(IF(SUMIF('Line Throw Relay Men'!$C$7:$C$46,$A48,'Line Throw Relay Men'!$AJ$7:$AJ$46)=0,1+MAX('Line Throw Relay Men'!$AJ$7:$AJ$46),SUMIF('Line Throw Relay Men'!$C$7:$C$46,$A48,'Line Throw Relay Men'!$AJ$7:$AJ$46))>2+MAX('Line Throw Relay Men'!$AJ$7:$AJ$46),MAX('Line Throw Relay Men'!$AJ$7:$AJ$46),IF(SUMIF('Line Throw Relay Men'!$C$7:$C$46,$A48,'Line Throw Relay Men'!$AJ$7:$AJ$46)=0,1+MAX('Line Throw Relay Men'!$AJ$7:$AJ$46),SUMIF('Line Throw Relay Men'!$C$7:$C$46,$A48,'Line Throw Relay Men'!$AJ$7:$AJ$46))))","v":""},"",""]
["","",{"$f":"IF($A49=\"\",\"\",IF(IF(SUMIF('50m Manikin Carry Men'!$C$7:$C$46,$A49,'50m Manikin Carry Men'!$AE$7:$AE$46)=0,1+MAX('50m Manikin Carry Men'!$AE$7:$AE$46),SUMIF('50m Manikin Carry Men'!$C$7:$C$46,$A49,'50m Manikin Carry Men'!$AE$7:$AE$46))>MAX('50m Manikin Carry Men'!$AE$7:$AE$46)+2,MAX('50m Manikin Carry Men'!$AE$7:$AE$46),IF(SUMIF('50m Manikin Carry Men'!$C$7:$C$46,$A49,'50m Manikin Carry Men'!$AE$7:$AE$46)=0,1+MAX('50m Manikin Carry Men'!$AE$7:$AE$46),SUMIF('50m Manikin Carry Men'!$C$7:$C$46,$A49,'50m Manikin Carry Men'!$AE$7:$AE$46))))","v":""},{"$f":"IF($A49=\"\",\"\",IF(IF(SUMIF('100m Manikin Carry Men'!$C$7:$C$46,$A49,'100m Manikin Carry Men'!$AE$7:$AE$46)=0,1+MAX('100m Manikin Carry Men'!$AE$7:$AE$46),SUMIF('100m Manikin Carry Men'!$C$7:$C$46,$A49,'100m Manikin Carry Men'!$AE$7:$AE$46))>2+MAX('100m Manikin Carry Men'!$AE$7:$AE$46),MAX('100m Manikin Carry Men'!$AE$7:$AE$46),IF(SUMIF('100m Manikin Carry Men'!$C$7:$C$46,$A49,'100m Manikin Carry Men'!$AE$7:$AE$46)=0,1+MAX('100m Manikin Carry Men'!$AE$7:$AE$46),SUMIF('100m Manikin Carry Men'!$C$7:$C$46,$A49,'100m Manikin Carry Men'!$AE$7:$AE$46))))","v":""},{"$f":"IF($A49=\"\",\"\",IF(IF(SUMIF('100m Manikin Tow Men'!$C$7:$C$46,$A49,'100m Manikin Tow Men'!$AE$7:$AE$46)=0,1+MAX('100m Manikin Tow Men'!$AE$7:$AE$46),SUMIF('100m Manikin Tow Men'!$C$7:$C$46,$A49,'100m Manikin Tow Men'!$AE$7:$AE$46))>2+MAX('100m Manikin Tow Men'!$AE$7:$AE$46),MAX('100m Manikin Tow Men'!$AE$7:$AE$46),IF(SUMIF('100m Manikin Tow Men'!$C$7:$C$46,$A49,'100m Manikin Tow Men'!$AE$7:$AE$46)=0,1+MAX('100m Manikin Tow Men'!$AE$7:$AE$46),SUMIF('100m Manikin Tow Men'!$C$7:$C$46,$A49,'100m Manikin Tow Men'!$AE$7:$AE$46))))","v":""},{"$f":"IF($A49=\"\",\"\",IF(IF(SUMIF('200m Obs Men'!$C$7:$C$46,$A49,'200m Obs Men'!$AE$7:$AE$46)=0,1+MAX('200m Obs Men'!$AE$7:$AE$46),SUMIF('200m Obs Men'!$C$7:$C$46,$A49,'200m Obs Men'!$AE$7:$AE$46))>2+MAX('200m Obs Men'!$AE$7:$AE$46),MAX('200m Obs Men'!$AE$7:$AE$46),IF(SUMIF('200m Obs Men'!$C$7:$C$46,$A49,'200m Obs Men'!$AE$7:$AE$46)=0,1+MAX('200m Obs Men'!$AE$7:$AE$46),SUMIF('200m Obs Men'!$C$7:$C$46,$A49,'200m Obs Men'!$AE$7:$AE$46))))","v":""},{"$f":"IF($A49=\"\",\"\",IF(IF(SUMIF('200m Super Men'!$C$7:$C$46,$A49,'200m Super Men'!$AE$7:$AE$46)=0,1+MAX('200m Super Men'!$AE$7:$AE$46),SUMIF('200m Super Men'!$C$7:$C$46,$A49,'200m Super Men'!$AE$7:$AE$46))>2+MAX('200m Super Men'!$AE$7:$AE$46),MAX('200m Super Men'!$AE$7:$AE$46),IF(SUMIF('200m Super Men'!$C$7:$C$46,$A49,'200m Super Men'!$AE$7:$AE$46)=0,1+MAX('200m Super Men'!$AE$7:$AE$46),SUMIF('200m Super Men'!$C$7:$C$46,$A49,'200m Super Men'!$AE$7:$AE$46))))","v":""},{"$f":"IF($A49=\"\",\"\",IF(IF(SUMIF('100 Resue Men'!$C$7:$C$46,$A49,'100 Resue Men'!$AE$7:$AE$46)=0,1+MAX('100 Resue Men'!$AE$7:$AE$46),SUMIF('100 Resue Men'!$C$7:$C$46,$A49,'100 Resue Men'!$AE$7:$AE$46))>2+MAX('100 Resue Men'!$AE$7:$AE$46),MAX('100 Resue Men'!$AE$7:$AE$46),IF(SUMIF('100 Resue Men'!$C$7:$C$46,$A49,'100 Resue Men'!$AE$7:$AE$46)=0,1+MAX('100 Resue Men'!$AE$7:$AE$46),SUMIF('100 Resue Men'!$C$7:$C$46,$A49,'100 Resue Men'!$AE$7:$AE$46))))","v":""},{"$f":"IF($A49=\"\",\"\",IF(IF(SUMIF('Line Throw Men'!$C$7:$C$46,$A49,'Line Throw Men'!$AG$7:$AG$46)=0,MAX('Line Throw Men'!$AG$7:$AG$46),SUMIF('Line Throw Men'!$C$7:$C$46,$A49,'Line Throw Men'!$AG$7:$AG$46))>2+MAX('Line Throw Men'!$AG$7:$AG$46),MAX('Line Throw Men'!$AG$7:$AG$46),IF(SUMIF('Line Throw Men'!$C$7:$C$46,$A49,'Line Throw Men'!$AG$7:$AG$46)=0,1+MAX('Line Throw Men'!$AG$7:$AG$46),SUMIF('Line Throw Men'!$C$7:$C$46,$A49,'Line Throw Men'!$AG$7:$AG$46))))","v":""},{"$f":"IF($A49=\"\",\"\",IF(IF(SUMIF('4 x 50 Obs Relay Men'!$C$7:$C$46,$A49,'4 x 50 Obs Relay Men'!$AJ$7:$AJ$46)=0,1+MAX('4 x 50 Obs Relay Men'!$AJ$7:$AJ$46),SUMIF('4 x 50 Obs Relay Men'!$C$7:$C$46,$A49,'4 x 50 Obs Relay Men'!$AJ$7:$AJ$46))>2+MAX('4 x 50 Obs Relay Men'!$AJ$7:$AJ$46),MAX('4 x 50 Obs Relay Men'!$AJ$7:$AJ$46),IF(SUMIF('4 x 50 Obs Relay Men'!$C$7:$C$46,$A49,'4 x 50 Obs Relay Men'!$AJ$7:$AJ$46)=0,1+MAX('4 x 50 Obs Relay Men'!$AJ$7:$AJ$46),SUMIF('4 x 50 Obs Relay Men'!$C$7:$C$46,$A49,'4 x 50 Obs Relay Men'!$AJ$7:$AJ$46))))","v":""},{"$f":"IF($A49=\"\",\"\",IF(IF(SUMIF('4 x 50 medley Relay Men'!$C$7:$C$46,$A49,'4 x 50 medley Relay Men'!$AJ$7:$AJ$46)=0,1+MAX('4 x 50 medley Relay Men'!$AJ$7:$AJ$46),SUMIF('4 x 50 medley Relay Men'!$C$7:$C$46,$A49,'4 x 50 medley Relay Men'!$AJ$7:$AJ$46))>2+MAX('4 x 50 medley Relay Men'!$AJ$7:$AJ$46),MAX('4 x 50 medley Relay Men'!$AJ$7:$AJ$46),IF(SUMIF('4 x 50 medley Relay Men'!$C$7:$C$46,$A49,'4 x 50 medley Relay Men'!$AJ$7:$AJ$46)=0,1+MAX('4 x 50 medley Relay Men'!$AJ$7:$AJ$46),SUMIF('4 x 50 medley Relay Men'!$C$7:$C$46,$A49,'4 x 50 medley Relay Men'!$AJ$7:$AJ$46))))","v":""},{"$f":"IF($A49=\"\",\"\",IF(IF(SUMIF('4 x 25 Manikin Carry Relay Men'!$C$7:$C$46,$A49,'4 x 25 Manikin Carry Relay Men'!$AJ$7:$AJ$46)=0,1+MAX('4 x 25 Manikin Carry Relay Men'!$AJ$7:$AJ$46),SUMIF('4 x 25 Manikin Carry Relay Men'!$C$7:$C$46,$A49,'4 x 25 Manikin Carry Relay Men'!$AJ$7:$AJ$46))>2+MAX('4 x 25 Manikin Carry Relay Men'!$AJ$7:$AJ$46),MAX('4 x 25 Manikin Carry Relay Men'!$AJ$7:$AJ$46),IF(SUMIF('4 x 25 Manikin Carry Relay Men'!$C$7:$C$46,$A49,'4 x 25 Manikin Carry Relay Men'!$AJ$7:$AJ$46)=0,1+MAX('4 x 25 Manikin Carry Relay Men'!$AJ$7:$AJ$46),SUMIF('4 x 25 Manikin Carry Relay Men'!$C$7:$C$46,$A49,'4 x 25 Manikin Carry Relay Men'!$AJ$7:$AJ$46))))","v":""},{"$f":"IF($A49=\"\",\"\",IF(IF(SUMIF('Line Throw Relay Men'!$C$7:$C$46,$A49,'Line Throw Relay Men'!$AJ$7:$AJ$46)=0,1+MAX('Line Throw Relay Men'!$AJ$7:$AJ$46),SUMIF('Line Throw Relay Men'!$C$7:$C$46,$A49,'Line Throw Relay Men'!$AJ$7:$AJ$46))>2+MAX('Line Throw Relay Men'!$AJ$7:$AJ$46),MAX('Line Throw Relay Men'!$AJ$7:$AJ$46),IF(SUMIF('Line Throw Relay Men'!$C$7:$C$46,$A49,'Line Throw Relay Men'!$AJ$7:$AJ$46)=0,1+MAX('Line Throw Relay Men'!$AJ$7:$AJ$46),SUMIF('Line Throw Relay Men'!$C$7:$C$46,$A49,'Line Throw Relay Men'!$AJ$7:$AJ$46))))","v":""},"",""]
["","",{"$f":"IF($A50=\"\",\"\",IF(IF(SUMIF('50m Manikin Carry Men'!$C$7:$C$46,$A50,'50m Manikin Carry Men'!$AE$7:$AE$46)=0,1+MAX('50m Manikin Carry Men'!$AE$7:$AE$46),SUMIF('50m Manikin Carry Men'!$C$7:$C$46,$A50,'50m Manikin Carry Men'!$AE$7:$AE$46))>MAX('50m Manikin Carry Men'!$AE$7:$AE$46)+2,MAX('50m Manikin Carry Men'!$AE$7:$AE$46),IF(SUMIF('50m Manikin Carry Men'!$C$7:$C$46,$A50,'50m Manikin Carry Men'!$AE$7:$AE$46)=0,1+MAX('50m Manikin Carry Men'!$AE$7:$AE$46),SUMIF('50m Manikin Carry Men'!$C$7:$C$46,$A50,'50m Manikin Carry Men'!$AE$7:$AE$46))))","v":""},{"$f":"IF($A50=\"\",\"\",IF(IF(SUMIF('100m Manikin Carry Men'!$C$7:$C$46,$A50,'100m Manikin Carry Men'!$AE$7:$AE$46)=0,1+MAX('100m Manikin Carry Men'!$AE$7:$AE$46),SUMIF('100m Manikin Carry Men'!$C$7:$C$46,$A50,'100m Manikin Carry Men'!$AE$7:$AE$46))>2+MAX('100m Manikin Carry Men'!$AE$7:$AE$46),MAX('100m Manikin Carry Men'!$AE$7:$AE$46),IF(SUMIF('100m Manikin Carry Men'!$C$7:$C$46,$A50,'100m Manikin Carry Men'!$AE$7:$AE$46)=0,1+MAX('100m Manikin Carry Men'!$AE$7:$AE$46),SUMIF('100m Manikin Carry Men'!$C$7:$C$46,$A50,'100m Manikin Carry Men'!$AE$7:$AE$46))))","v":""},{"$f":"IF($A50=\"\",\"\",IF(IF(SUMIF('100m Manikin Tow Men'!$C$7:$C$46,$A50,'100m Manikin Tow Men'!$AE$7:$AE$46)=0,1+MAX('100m Manikin Tow Men'!$AE$7:$AE$46),SUMIF('100m Manikin Tow Men'!$C$7:$C$46,$A50,'100m Manikin Tow Men'!$AE$7:$AE$46))>2+MAX('100m Manikin Tow Men'!$AE$7:$AE$46),MAX('100m Manikin Tow Men'!$AE$7:$AE$46),IF(SUMIF('100m Manikin Tow Men'!$C$7:$C$46,$A50,'100m Manikin Tow Men'!$AE$7:$AE$46)=0,1+MAX('100m Manikin Tow Men'!$AE$7:$AE$46),SUMIF('100m Manikin Tow Men'!$C$7:$C$46,$A50,'100m Manikin Tow Men'!$AE$7:$AE$46))))","v":""},{"$f":"IF($A50=\"\",\"\",IF(IF(SUMIF('200m Obs Men'!$C$7:$C$46,$A50,'200m Obs Men'!$AE$7:$AE$46)=0,1+MAX('200m Obs Men'!$AE$7:$AE$46),SUMIF('200m Obs Men'!$C$7:$C$46,$A50,'200m Obs Men'!$AE$7:$AE$46))>2+MAX('200m Obs Men'!$AE$7:$AE$46),MAX('200m Obs Men'!$AE$7:$AE$46),IF(SUMIF('200m Obs Men'!$C$7:$C$46,$A50,'200m Obs Men'!$AE$7:$AE$46)=0,1+MAX('200m Obs Men'!$AE$7:$AE$46),SUMIF('200m Obs Men'!$C$7:$C$46,$A50,'200m Obs Men'!$AE$7:$AE$46))))","v":""},{"$f":"IF($A50=\"\",\"\",IF(IF(SUMIF('200m Super Men'!$C$7:$C$46,$A50,'200m Super Men'!$AE$7:$AE$46)=0,1+MAX('200m Super Men'!$AE$7:$AE$46),SUMIF('200m Super Men'!$C$7:$C$46,$A50,'200m Super Men'!$AE$7:$AE$46))>2+MAX('200m Super Men'!$AE$7:$AE$46),MAX('200m Super Men'!$AE$7:$AE$46),IF(SUMIF('200m Super Men'!$C$7:$C$46,$A50,'200m Super Men'!$AE$7:$AE$46)=0,1+MAX('200m Super Men'!$AE$7:$AE$46),SUMIF('200m Super Men'!$C$7:$C$46,$A50,'200m Super Men'!$AE$7:$AE$46))))","v":""},{"$f":"IF($A50=\"\",\"\",IF(IF(SUMIF('100 Resue Men'!$C$7:$C$46,$A50,'100 Resue Men'!$AE$7:$AE$46)=0,1+MAX('100 Resue Men'!$AE$7:$AE$46),SUMIF('100 Resue Men'!$C$7:$C$46,$A50,'100 Resue Men'!$AE$7:$AE$46))>2+MAX('100 Resue Men'!$AE$7:$AE$46),MAX('100 Resue Men'!$AE$7:$AE$46),IF(SUMIF('100 Resue Men'!$C$7:$C$46,$A50,'100 Resue Men'!$AE$7:$AE$46)=0,1+MAX('100 Resue Men'!$AE$7:$AE$46),SUMIF('100 Resue Men'!$C$7:$C$46,$A50,'100 Resue Men'!$AE$7:$AE$46))))","v":""},{"$f":"IF($A50=\"\",\"\",IF(IF(SUMIF('Line Throw Men'!$C$7:$C$46,$A50,'Line Throw Men'!$AG$7:$AG$46)=0,MAX('Line Throw Men'!$AG$7:$AG$46),SUMIF('Line Throw Men'!$C$7:$C$46,$A50,'Line Throw Men'!$AG$7:$AG$46))>2+MAX('Line Throw Men'!$AG$7:$AG$46),MAX('Line Throw Men'!$AG$7:$AG$46),IF(SUMIF('Line Throw Men'!$C$7:$C$46,$A50,'Line Throw Men'!$AG$7:$AG$46)=0,1+MAX('Line Throw Men'!$AG$7:$AG$46),SUMIF('Line Throw Men'!$C$7:$C$46,$A50,'Line Throw Men'!$AG$7:$AG$46))))","v":""},{"$f":"IF($A50=\"\",\"\",IF(IF(SUMIF('4 x 50 Obs Relay Men'!$C$7:$C$46,$A50,'4 x 50 Obs Relay Men'!$AJ$7:$AJ$46)=0,1+MAX('4 x 50 Obs Relay Men'!$AJ$7:$AJ$46),SUMIF('4 x 50 Obs Relay Men'!$C$7:$C$46,$A50,'4 x 50 Obs Relay Men'!$AJ$7:$AJ$46))>2+MAX('4 x 50 Obs Relay Men'!$AJ$7:$AJ$46),MAX('4 x 50 Obs Relay Men'!$AJ$7:$AJ$46),IF(SUMIF('4 x 50 Obs Relay Men'!$C$7:$C$46,$A50,'4 x 50 Obs Relay Men'!$AJ$7:$AJ$46)=0,1+MAX('4 x 50 Obs Relay Men'!$AJ$7:$AJ$46),SUMIF('4 x 50 Obs Relay Men'!$C$7:$C$46,$A50,'4 x 50 Obs Relay Men'!$AJ$7:$AJ$46))))","v":""},{"$f":"IF($A50=\"\",\"\",IF(IF(SUMIF('4 x 50 medley Relay Men'!$C$7:$C$46,$A50,'4 x 50 medley Relay Men'!$AJ$7:$AJ$46)=0,1+MAX('4 x 50 medley Relay Men'!$AJ$7:$AJ$46),SUMIF('4 x 50 medley Relay Men'!$C$7:$C$46,$A50,'4 x 50 medley Relay Men'!$AJ$7:$AJ$46))>2+MAX('4 x 50 medley Relay Men'!$AJ$7:$AJ$46),MAX('4 x 50 medley Relay Men'!$AJ$7:$AJ$46),IF(SUMIF('4 x 50 medley Relay Men'!$C$7:$C$46,$A50,'4 x 50 medley Relay Men'!$AJ$7:$AJ$46)=0,1+MAX('4 x 50 medley Relay Men'!$AJ$7:$AJ$46),SUMIF('4 x 50 medley Relay Men'!$C$7:$C$46,$A50,'4 x 50 medley Relay Men'!$AJ$7:$AJ$46))))","v":""},{"$f":"IF($A50=\"\",\"\",IF(IF(SUMIF('4 x 25 Manikin Carry Relay Men'!$C$7:$C$46,$A50,'4 x 25 Manikin Carry Relay Men'!$AJ$7:$AJ$46)=0,1+MAX('4 x 25 Manikin Carry Relay Men'!$AJ$7:$AJ$46),SUMIF('4 x 25 Manikin Carry Relay Men'!$C$7:$C$46,$A50,'4 x 25 Manikin Carry Relay Men'!$AJ$7:$AJ$46))>2+MAX('4 x 25 Manikin Carry Relay Men'!$AJ$7:$AJ$46),MAX('4 x 25 Manikin Carry Relay Men'!$AJ$7:$AJ$46),IF(SUMIF('4 x 25 Manikin Carry Relay Men'!$C$7:$C$46,$A50,'4 x 25 Manikin Carry Relay Men'!$AJ$7:$AJ$46)=0,1+MAX('4 x 25 Manikin Carry Relay Men'!$AJ$7:$AJ$46),SUMIF('4 x 25 Manikin Carry Relay Men'!$C$7:$C$46,$A50,'4 x 25 Manikin Carry Relay Men'!$AJ$7:$AJ$46))))","v":""},{"$f":"IF($A50=\"\",\"\",IF(IF(SUMIF('Line Throw Relay Men'!$C$7:$C$46,$A50,'Line Throw Relay Men'!$AJ$7:$AJ$46)=0,1+MAX('Line Throw Relay Men'!$AJ$7:$AJ$46),SUMIF('Line Throw Relay Men'!$C$7:$C$46,$A50,'Line Throw Relay Men'!$AJ$7:$AJ$46))>2+MAX('Line Throw Relay Men'!$AJ$7:$AJ$46),MAX('Line Throw Relay Men'!$AJ$7:$AJ$46),IF(SUMIF('Line Throw Relay Men'!$C$7:$C$46,$A50,'Line Throw Relay Men'!$AJ$7:$AJ$46)=0,1+MAX('Line Throw Relay Men'!$AJ$7:$AJ$46),SUMIF('Line Throw Relay Men'!$C$7:$C$46,$A50,'Line Throw Relay Men'!$AJ$7:$AJ$46))))","v":""},"",""]
["","",{"$f":"IF($A51=\"\",\"\",IF(IF(SUMIF('50m Manikin Carry Men'!$C$7:$C$46,$A51,'50m Manikin Carry Men'!$AE$7:$AE$46)=0,1+MAX('50m Manikin Carry Men'!$AE$7:$AE$46),SUMIF('50m Manikin Carry Men'!$C$7:$C$46,$A51,'50m Manikin Carry Men'!$AE$7:$AE$46))>MAX('50m Manikin Carry Men'!$AE$7:$AE$46)+2,MAX('50m Manikin Carry Men'!$AE$7:$AE$46),IF(SUMIF('50m Manikin Carry Men'!$C$7:$C$46,$A51,'50m Manikin Carry Men'!$AE$7:$AE$46)=0,1+MAX('50m Manikin Carry Men'!$AE$7:$AE$46),SUMIF('50m Manikin Carry Men'!$C$7:$C$46,$A51,'50m Manikin Carry Men'!$AE$7:$AE$46))))","v":""},{"$f":"IF($A51=\"\",\"\",IF(IF(SUMIF('100m Manikin Carry Men'!$C$7:$C$46,$A51,'100m Manikin Carry Men'!$AE$7:$AE$46)=0,1+MAX('100m Manikin Carry Men'!$AE$7:$AE$46),SUMIF('100m Manikin Carry Men'!$C$7:$C$46,$A51,'100m Manikin Carry Men'!$AE$7:$AE$46))>2+MAX('100m Manikin Carry Men'!$AE$7:$AE$46),MAX('100m Manikin Carry Men'!$AE$7:$AE$46),IF(SUMIF('100m Manikin Carry Men'!$C$7:$C$46,$A51,'100m Manikin Carry Men'!$AE$7:$AE$46)=0,1+MAX('100m Manikin Carry Men'!$AE$7:$AE$46),SUMIF('100m Manikin Carry Men'!$C$7:$C$46,$A51,'100m Manikin Carry Men'!$AE$7:$AE$46))))","v":""},{"$f":"IF($A51=\"\",\"\",IF(IF(SUMIF('100m Manikin Tow Men'!$C$7:$C$46,$A51,'100m Manikin Tow Men'!$AE$7:$AE$46)=0,1+MAX('100m Manikin Tow Men'!$AE$7:$AE$46),SUMIF('100m Manikin Tow Men'!$C$7:$C$46,$A51,'100m Manikin Tow Men'!$AE$7:$AE$46))>2+MAX('100m Manikin Tow Men'!$AE$7:$AE$46),MAX('100m Manikin Tow Men'!$AE$7:$AE$46),IF(SUMIF('100m Manikin Tow Men'!$C$7:$C$46,$A51,'100m Manikin Tow Men'!$AE$7:$AE$46)=0,1+MAX('100m Manikin Tow Men'!$AE$7:$AE$46),SUMIF('100m Manikin Tow Men'!$C$7:$C$46,$A51,'100m Manikin Tow Men'!$AE$7:$AE$46))))","v":""},{"$f":"IF($A51=\"\",\"\",IF(IF(SUMIF('200m Obs Men'!$C$7:$C$46,$A51,'200m Obs Men'!$AE$7:$AE$46)=0,1+MAX('200m Obs Men'!$AE$7:$AE$46),SUMIF('200m Obs Men'!$C$7:$C$46,$A51,'200m Obs Men'!$AE$7:$AE$46))>2+MAX('200m Obs Men'!$AE$7:$AE$46),MAX('200m Obs Men'!$AE$7:$AE$46),IF(SUMIF('200m Obs Men'!$C$7:$C$46,$A51,'200m Obs Men'!$AE$7:$AE$46)=0,1+MAX('200m Obs Men'!$AE$7:$AE$46),SUMIF('200m Obs Men'!$C$7:$C$46,$A51,'200m Obs Men'!$AE$7:$AE$46))))","v":""},{"$f":"IF($A51=\"\",\"\",IF(IF(SUMIF('200m Super Men'!$C$7:$C$46,$A51,'200m Super Men'!$AE$7:$AE$46)=0,1+MAX('200m Super Men'!$AE$7:$AE$46),SUMIF('200m Super Men'!$C$7:$C$46,$A51,'200m Super Men'!$AE$7:$AE$46))>2+MAX('200m Super Men'!$AE$7:$AE$46),MAX('200m Super Men'!$AE$7:$AE$46),IF(SUMIF('200m Super Men'!$C$7:$C$46,$A51,'200m Super Men'!$AE$7:$AE$46)=0,1+MAX('200m Super Men'!$AE$7:$AE$46),SUMIF('200m Super Men'!$C$7:$C$46,$A51,'200m Super Men'!$AE$7:$AE$46))))","v":""},{"$f":"IF($A51=\"\",\"\",IF(IF(SUMIF('100 Resue Men'!$C$7:$C$46,$A51,'100 Resue Men'!$AE$7:$AE$46)=0,1+MAX('100 Resue Men'!$AE$7:$AE$46),SUMIF('100 Resue Men'!$C$7:$C$46,$A51,'100 Resue Men'!$AE$7:$AE$46))>2+MAX('100 Resue Men'!$AE$7:$AE$46),MAX('100 Resue Men'!$AE$7:$AE$46),IF(SUMIF('100 Resue Men'!$C$7:$C$46,$A51,'100 Resue Men'!$AE$7:$AE$46)=0,1+MAX('100 Resue Men'!$AE$7:$AE$46),SUMIF('100 Resue Men'!$C$7:$C$46,$A51,'100 Resue Men'!$AE$7:$AE$46))))","v":""},{"$f":"IF($A51=\"\",\"\",IF(IF(SUMIF('Line Throw Men'!$C$7:$C$46,$A51,'Line Throw Men'!$AG$7:$AG$46)=0,MAX('Line Throw Men'!$AG$7:$AG$46),SUMIF('Line Throw Men'!$C$7:$C$46,$A51,'Line Throw Men'!$AG$7:$AG$46))>2+MAX('Line Throw Men'!$AG$7:$AG$46),MAX('Line Throw Men'!$AG$7:$AG$46),IF(SUMIF('Line Throw Men'!$C$7:$C$46,$A51,'Line Throw Men'!$AG$7:$AG$46)=0,1+MAX('Line Throw Men'!$AG$7:$AG$46),SUMIF('Line Throw Men'!$C$7:$C$46,$A51,'Line Throw Men'!$AG$7:$AG$46))))","v":""},{"$f":"IF($A51=\"\",\"\",IF(IF(SUMIF('4 x 50 Obs Relay Men'!$C$7:$C$46,$A51,'4 x 50 Obs Relay Men'!$AJ$7:$AJ$46)=0,1+MAX('4 x 50 Obs Relay Men'!$AJ$7:$AJ$46),SUMIF('4 x 50 Obs Relay Men'!$C$7:$C$46,$A51,'4 x 50 Obs Relay Men'!$AJ$7:$AJ$46))>2+MAX('4 x 50 Obs Relay Men'!$AJ$7:$AJ$46),MAX('4 x 50 Obs Relay Men'!$AJ$7:$AJ$46),IF(SUMIF('4 x 50 Obs Relay Men'!$C$7:$C$46,$A51,'4 x 50 Obs Relay Men'!$AJ$7:$AJ$46)=0,1+MAX('4 x 50 Obs Relay Men'!$AJ$7:$AJ$46),SUMIF('4 x 50 Obs Relay Men'!$C$7:$C$46,$A51,'4 x 50 Obs Relay Men'!$AJ$7:$AJ$46))))","v":""},{"$f":"IF($A51=\"\",\"\",IF(IF(SUMIF('4 x 50 medley Relay Men'!$C$7:$C$46,$A51,'4 x 50 medley Relay Men'!$AJ$7:$AJ$46)=0,1+MAX('4 x 50 medley Relay Men'!$AJ$7:$AJ$46),SUMIF('4 x 50 medley Relay Men'!$C$7:$C$46,$A51,'4 x 50 medley Relay Men'!$AJ$7:$AJ$46))>2+MAX('4 x 50 medley Relay Men'!$AJ$7:$AJ$46),MAX('4 x 50 medley Relay Men'!$AJ$7:$AJ$46),IF(SUMIF('4 x 50 medley Relay Men'!$C$7:$C$46,$A51,'4 x 50 medley Relay Men'!$AJ$7:$AJ$46)=0,1+MAX('4 x 50 medley Relay Men'!$AJ$7:$AJ$46),SUMIF('4 x 50 medley Relay Men'!$C$7:$C$46,$A51,'4 x 50 medley Relay Men'!$AJ$7:$AJ$46))))","v":""},{"$f":"IF($A51=\"\",\"\",IF(IF(SUMIF('4 x 25 Manikin Carry Relay Men'!$C$7:$C$46,$A51,'4 x 25 Manikin Carry Relay Men'!$AJ$7:$AJ$46)=0,1+MAX('4 x 25 Manikin Carry Relay Men'!$AJ$7:$AJ$46),SUMIF('4 x 25 Manikin Carry Relay Men'!$C$7:$C$46,$A51,'4 x 25 Manikin Carry Relay Men'!$AJ$7:$AJ$46))>2+MAX('4 x 25 Manikin Carry Relay Men'!$AJ$7:$AJ$46),MAX('4 x 25 Manikin Carry Relay Men'!$AJ$7:$AJ$46),IF(SUMIF('4 x 25 Manikin Carry Relay Men'!$C$7:$C$46,$A51,'4 x 25 Manikin Carry Relay Men'!$AJ$7:$AJ$46)=0,1+MAX('4 x 25 Manikin Carry Relay Men'!$AJ$7:$AJ$46),SUMIF('4 x 25 Manikin Carry Relay Men'!$C$7:$C$46,$A51,'4 x 25 Manikin Carry Relay Men'!$AJ$7:$AJ$46))))","v":""},{"$f":"IF($A51=\"\",\"\",IF(IF(SUMIF('Line Throw Relay Men'!$C$7:$C$46,$A51,'Line Throw Relay Men'!$AJ$7:$AJ$46)=0,1+MAX('Line Throw Relay Men'!$AJ$7:$AJ$46),SUMIF('Line Throw Relay Men'!$C$7:$C$46,$A51,'Line Throw Relay Men'!$AJ$7:$AJ$46))>2+MAX('Line Throw Relay Men'!$AJ$7:$AJ$46),MAX('Line Throw Relay Men'!$AJ$7:$AJ$46),IF(SUMIF('Line Throw Relay Men'!$C$7:$C$46,$A51,'Line Throw Relay Men'!$AJ$7:$AJ$46)=0,1+MAX('Line Throw Relay Men'!$AJ$7:$AJ$46),SUMIF('Line Throw Relay Men'!$C$7:$C$46,$A51,'Line Throw Relay Men'!$AJ$7:$AJ$46))))","v":""},"",""]
["","",{"$f":"IF($A52=\"\",\"\",IF(IF(SUMIF('50m Manikin Carry Men'!$C$7:$C$46,$A52,'50m Manikin Carry Men'!$AE$7:$AE$46)=0,1+MAX('50m Manikin Carry Men'!$AE$7:$AE$46),SUMIF('50m Manikin Carry Men'!$C$7:$C$46,$A52,'50m Manikin Carry Men'!$AE$7:$AE$46))>MAX('50m Manikin Carry Men'!$AE$7:$AE$46)+2,MAX('50m Manikin Carry Men'!$AE$7:$AE$46),IF(SUMIF('50m Manikin Carry Men'!$C$7:$C$46,$A52,'50m Manikin Carry Men'!$AE$7:$AE$46)=0,1+MAX('50m Manikin Carry Men'!$AE$7:$AE$46),SUMIF('50m Manikin Carry Men'!$C$7:$C$46,$A52,'50m Manikin Carry Men'!$AE$7:$AE$46))))","v":""},{"$f":"IF($A52=\"\",\"\",IF(IF(SUMIF('100m Manikin Carry Men'!$C$7:$C$46,$A52,'100m Manikin Carry Men'!$AE$7:$AE$46)=0,1+MAX('100m Manikin Carry Men'!$AE$7:$AE$46),SUMIF('100m Manikin Carry Men'!$C$7:$C$46,$A52,'100m Manikin Carry Men'!$AE$7:$AE$46))>2+MAX('100m Manikin Carry Men'!$AE$7:$AE$46),MAX('100m Manikin Carry Men'!$AE$7:$AE$46),IF(SUMIF('100m Manikin Carry Men'!$C$7:$C$46,$A52,'100m Manikin Carry Men'!$AE$7:$AE$46)=0,1+MAX('100m Manikin Carry Men'!$AE$7:$AE$46),SUMIF('100m Manikin Carry Men'!$C$7:$C$46,$A52,'100m Manikin Carry Men'!$AE$7:$AE$46))))","v":""},{"$f":"IF($A52=\"\",\"\",IF(IF(SUMIF('100m Manikin Tow Men'!$C$7:$C$46,$A52,'100m Manikin Tow Men'!$AE$7:$AE$46)=0,1+MAX('100m Manikin Tow Men'!$AE$7:$AE$46),SUMIF('100m Manikin Tow Men'!$C$7:$C$46,$A52,'100m Manikin Tow Men'!$AE$7:$AE$46))>2+MAX('100m Manikin Tow Men'!$AE$7:$AE$46),MAX('100m Manikin Tow Men'!$AE$7:$AE$46),IF(SUMIF('100m Manikin Tow Men'!$C$7:$C$46,$A52,'100m Manikin Tow Men'!$AE$7:$AE$46)=0,1+MAX('100m Manikin Tow Men'!$AE$7:$AE$46),SUMIF('100m Manikin Tow Men'!$C$7:$C$46,$A52,'100m Manikin Tow Men'!$AE$7:$AE$46))))","v":""},{"$f":"IF($A52=\"\",\"\",IF(IF(SUMIF('200m Obs Men'!$C$7:$C$46,$A52,'200m Obs Men'!$AE$7:$AE$46)=0,1+MAX('200m Obs Men'!$AE$7:$AE$46),SUMIF('200m Obs Men'!$C$7:$C$46,$A52,'200m Obs Men'!$AE$7:$AE$46))>2+MAX('200m Obs Men'!$AE$7:$AE$46),MAX('200m Obs Men'!$AE$7:$AE$46),IF(SUMIF('200m Obs Men'!$C$7:$C$46,$A52,'200m Obs Men'!$AE$7:$AE$46)=0,1+MAX('200m Obs Men'!$AE$7:$AE$46),SUMIF('200m Obs Men'!$C$7:$C$46,$A52,'200m Obs Men'!$AE$7:$AE$46))))","v":""},{"$f":"IF($A52=\"\",\"\",IF(IF(SUMIF('200m Super Men'!$C$7:$C$46,$A52,'200m Super Men'!$AE$7:$AE$46)=0,1+MAX('200m Super Men'!$AE$7:$AE$46),SUMIF('200m Super Men'!$C$7:$C$46,$A52,'200m Super Men'!$AE$7:$AE$46))>2+MAX('200m Super Men'!$AE$7:$AE$46),MAX('200m Super Men'!$AE$7:$AE$46),IF(SUMIF('200m Super Men'!$C$7:$C$46,$A52,'200m Super Men'!$AE$7:$AE$46)=0,1+MAX('200m Super Men'!$AE$7:$AE$46),SUMIF('200m Super Men'!$C$7:$C$46,$A52,'200m Super Men'!$AE$7:$AE$46))))","v":""},{"$f":"IF($A52=\"\",\"\",IF(IF(SUMIF('100 Resue Men'!$C$7:$C$46,$A52,'100 Resue Men'!$AE$7:$AE$46)=0,1+MAX('100 Resue Men'!$AE$7:$AE$46),SUMIF('100 Resue Men'!$C$7:$C$46,$A52,'100 Resue Men'!$AE$7:$AE$46))>2+MAX('100 Resue Men'!$AE$7:$AE$46),MAX('100 Resue Men'!$AE$7:$AE$46),IF(SUMIF('100 Resue Men'!$C$7:$C$46,$A52,'100 Resue Men'!$AE$7:$AE$46)=0,1+MAX('100 Resue Men'!$AE$7:$AE$46),SUMIF('100 Resue Men'!$C$7:$C$46,$A52,'100 Resue Men'!$AE$7:$AE$46))))","v":""},{"$f":"IF($A52=\"\",\"\",IF(IF(SUMIF('Line Throw Men'!$C$7:$C$46,$A52,'Line Throw Men'!$AG$7:$AG$46)=0,MAX('Line Throw Men'!$AG$7:$AG$46),SUMIF('Line Throw Men'!$C$7:$C$46,$A52,'Line Throw Men'!$AG$7:$AG$46))>2+MAX('Line Throw Men'!$AG$7:$AG$46),MAX('Line Throw Men'!$AG$7:$AG$46),IF(SUMIF('Line Throw Men'!$C$7:$C$46,$A52,'Line Throw Men'!$AG$7:$AG$46)=0,1+MAX('Line Throw Men'!$AG$7:$AG$46),SUMIF('Line Throw Men'!$C$7:$C$46,$A52,'Line Throw Men'!$AG$7:$AG$46))))","v":""},{"$f":"IF($A52=\"\",\"\",IF(IF(SUMIF('4 x 50 Obs Relay Men'!$C$7:$C$46,$A52,'4 x 50 Obs Relay Men'!$AJ$7:$AJ$46)=0,1+MAX('4 x 50 Obs Relay Men'!$AJ$7:$AJ$46),SUMIF('4 x 50 Obs Relay Men'!$C$7:$C$46,$A52,'4 x 50 Obs Relay Men'!$AJ$7:$AJ$46))>2+MAX('4 x 50 Obs Relay Men'!$AJ$7:$AJ$46),MAX('4 x 50 Obs Relay Men'!$AJ$7:$AJ$46),IF(SUMIF('4 x 50 Obs Relay Men'!$C$7:$C$46,$A52,'4 x 50 Obs Relay Men'!$AJ$7:$AJ$46)=0,1+MAX('4 x 50 Obs Relay Men'!$AJ$7:$AJ$46),SUMIF('4 x 50 Obs Relay Men'!$C$7:$C$46,$A52,'4 x 50 Obs Relay Men'!$AJ$7:$AJ$46))))","v":""},{"$f":"IF($A52=\"\",\"\",IF(IF(SUMIF('4 x 50 medley Relay Men'!$C$7:$C$46,$A52,'4 x 50 medley Relay Men'!$AJ$7:$AJ$46)=0,1+MAX('4 x 50 medley Relay Men'!$AJ$7:$AJ$46),SUMIF('4 x 50 medley Relay Men'!$C$7:$C$46,$A52,'4 x 50 medley Relay Men'!$AJ$7:$AJ$46))>2+MAX('4 x 50 medley Relay Men'!$AJ$7:$AJ$46),MAX('4 x 50 medley Relay Men'!$AJ$7:$AJ$46),IF(SUMIF('4 x 50 medley Relay Men'!$C$7:$C$46,$A52,'4 x 50 medley Relay Men'!$AJ$7:$AJ$46)=0,1+MAX('4 x 50 medley Relay Men'!$AJ$7:$AJ$46),SUMIF('4 x 50 medley Relay Men'!$C$7:$C$46,$A52,'4 x 50 medley Relay Men'!$AJ$7:$AJ$46))))","v":""},{"$f":"IF($A52=\"\",\"\",IF(IF(SUMIF('4 x 25 Manikin Carry Relay Men'!$C$7:$C$46,$A52,'4 x 25 Manikin Carry Relay Men'!$AJ$7:$AJ$46)=0,1+MAX('4 x 25 Manikin Carry Relay Men'!$AJ$7:$AJ$46),SUMIF('4 x 25 Manikin Carry Relay Men'!$C$7:$C$46,$A52,'4 x 25 Manikin Carry Relay Men'!$AJ$7:$AJ$46))>2+MAX('4 x 25 Manikin Carry Relay Men'!$AJ$7:$AJ$46),MAX('4 x 25 Manikin Carry Relay Men'!$AJ$7:$AJ$46),IF(SUMIF('4 x 25 Manikin Carry Relay Men'!$C$7:$C$46,$A52,'4 x 25 Manikin Carry Relay Men'!$AJ$7:$AJ$46)=0,1+MAX('4 x 25 Manikin Carry Relay Men'!$AJ$7:$AJ$46),SUMIF('4 x 25 Manikin Carry Relay Men'!$C$7:$C$46,$A52,'4 x 25 Manikin Carry Relay Men'!$AJ$7:$AJ$46))))","v":""},{"$f":"IF($A52=\"\",\"\",IF(IF(SUMIF('Line Throw Relay Men'!$C$7:$C$46,$A52,'Line Throw Relay Men'!$AJ$7:$AJ$46)=0,1+MAX('Line Throw Relay Men'!$AJ$7:$AJ$46),SUMIF('Line Throw Relay Men'!$C$7:$C$46,$A52,'Line Throw Relay Men'!$AJ$7:$AJ$46))>2+MAX('Line Throw Relay Men'!$AJ$7:$AJ$46),MAX('Line Throw Relay Men'!$AJ$7:$AJ$46),IF(SUMIF('Line Throw Relay Men'!$C$7:$C$46,$A52,'Line Throw Relay Men'!$AJ$7:$AJ$46)=0,1+MAX('Line Throw Relay Men'!$AJ$7:$AJ$46),SUMIF('Line Throw Relay Men'!$C$7:$C$46,$A52,'Line Throw Relay Men'!$AJ$7:$AJ$46))))","v":""},"",""]
["","",{"$f":"IF($A53=\"\",\"\",IF(IF(SUMIF('50m Manikin Carry Men'!$C$7:$C$46,$A53,'50m Manikin Carry Men'!$AE$7:$AE$46)=0,1+MAX('50m Manikin Carry Men'!$AE$7:$AE$46),SUMIF('50m Manikin Carry Men'!$C$7:$C$46,$A53,'50m Manikin Carry Men'!$AE$7:$AE$46))>MAX('50m Manikin Carry Men'!$AE$7:$AE$46)+2,MAX('50m Manikin Carry Men'!$AE$7:$AE$46),IF(SUMIF('50m Manikin Carry Men'!$C$7:$C$46,$A53,'50m Manikin Carry Men'!$AE$7:$AE$46)=0,1+MAX('50m Manikin Carry Men'!$AE$7:$AE$46),SUMIF('50m Manikin Carry Men'!$C$7:$C$46,$A53,'50m Manikin Carry Men'!$AE$7:$AE$46))))","v":""},{"$f":"IF($A53=\"\",\"\",IF(IF(SUMIF('100m Manikin Carry Men'!$C$7:$C$46,$A53,'100m Manikin Carry Men'!$AE$7:$AE$46)=0,1+MAX('100m Manikin Carry Men'!$AE$7:$AE$46),SUMIF('100m Manikin Carry Men'!$C$7:$C$46,$A53,'100m Manikin Carry Men'!$AE$7:$AE$46))>2+MAX('100m Manikin Carry Men'!$AE$7:$AE$46),MAX('100m Manikin Carry Men'!$AE$7:$AE$46),IF(SUMIF('100m Manikin Carry Men'!$C$7:$C$46,$A53,'100m Manikin Carry Men'!$AE$7:$AE$46)=0,1+MAX('100m Manikin Carry Men'!$AE$7:$AE$46),SUMIF('100m Manikin Carry Men'!$C$7:$C$46,$A53,'100m Manikin Carry Men'!$AE$7:$AE$46))))","v":""},{"$f":"IF($A53=\"\",\"\",IF(IF(SUMIF('100m Manikin Tow Men'!$C$7:$C$46,$A53,'100m Manikin Tow Men'!$AE$7:$AE$46)=0,1+MAX('100m Manikin Tow Men'!$AE$7:$AE$46),SUMIF('100m Manikin Tow Men'!$C$7:$C$46,$A53,'100m Manikin Tow Men'!$AE$7:$AE$46))>2+MAX('100m Manikin Tow Men'!$AE$7:$AE$46),MAX('100m Manikin Tow Men'!$AE$7:$AE$46),IF(SUMIF('100m Manikin Tow Men'!$C$7:$C$46,$A53,'100m Manikin Tow Men'!$AE$7:$AE$46)=0,1+MAX('100m Manikin Tow Men'!$AE$7:$AE$46),SUMIF('100m Manikin Tow Men'!$C$7:$C$46,$A53,'100m Manikin Tow Men'!$AE$7:$AE$46))))","v":""},{"$f":"IF($A53=\"\",\"\",IF(IF(SUMIF('200m Obs Men'!$C$7:$C$46,$A53,'200m Obs Men'!$AE$7:$AE$46)=0,1+MAX('200m Obs Men'!$AE$7:$AE$46),SUMIF('200m Obs Men'!$C$7:$C$46,$A53,'200m Obs Men'!$AE$7:$AE$46))>2+MAX('200m Obs Men'!$AE$7:$AE$46),MAX('200m Obs Men'!$AE$7:$AE$46),IF(SUMIF('200m Obs Men'!$C$7:$C$46,$A53,'200m Obs Men'!$AE$7:$AE$46)=0,1+MAX('200m Obs Men'!$AE$7:$AE$46),SUMIF('200m Obs Men'!$C$7:$C$46,$A53,'200m Obs Men'!$AE$7:$AE$46))))","v":""},{"$f":"IF($A53=\"\",\"\",IF(IF(SUMIF('200m Super Men'!$C$7:$C$46,$A53,'200m Super Men'!$AE$7:$AE$46)=0,1+MAX('200m Super Men'!$AE$7:$AE$46),SUMIF('200m Super Men'!$C$7:$C$46,$A53,'200m Super Men'!$AE$7:$AE$46))>2+MAX('200m Super Men'!$AE$7:$AE$46),MAX('200m Super Men'!$AE$7:$AE$46),IF(SUMIF('200m Super Men'!$C$7:$C$46,$A53,'200m Super Men'!$AE$7:$AE$46)=0,1+MAX('200m Super Men'!$AE$7:$AE$46),SUMIF('200m Super Men'!$C$7:$C$46,$A53,'200m Super Men'!$AE$7:$AE$46))))","v":""},{"$f":"IF($A53=\"\",\"\",IF(IF(SUMIF('100 Resue Men'!$C$7:$C$46,$A53,'100 Resue Men'!$AE$7:$AE$46)=0,1+MAX('100 Resue Men'!$AE$7:$AE$46),SUMIF('100 Resue Men'!$C$7:$C$46,$A53,'100 Resue Men'!$AE$7:$AE$46))>2+MAX('100 Resue Men'!$AE$7:$AE$46),MAX('100 Resue Men'!$AE$7:$AE$46),IF(SUMIF('100 Resue Men'!$C$7:$C$46,$A53,'100 Resue Men'!$AE$7:$AE$46)=0,1+MAX('100 Resue Men'!$AE$7:$AE$46),SUMIF('100 Resue Men'!$C$7:$C$46,$A53,'100 Resue Men'!$AE$7:$AE$46))))","v":""},{"$f":"IF($A53=\"\",\"\",IF(IF(SUMIF('Line Throw Men'!$C$7:$C$46,$A53,'Line Throw Men'!$AG$7:$AG$46)=0,MAX('Line Throw Men'!$AG$7:$AG$46),SUMIF('Line Throw Men'!$C$7:$C$46,$A53,'Line Throw Men'!$AG$7:$AG$46))>2+MAX('Line Throw Men'!$AG$7:$AG$46),MAX('Line Throw Men'!$AG$7:$AG$46),IF(SUMIF('Line Throw Men'!$C$7:$C$46,$A53,'Line Throw Men'!$AG$7:$AG$46)=0,1+MAX('Line Throw Men'!$AG$7:$AG$46),SUMIF('Line Throw Men'!$C$7:$C$46,$A53,'Line Throw Men'!$AG$7:$AG$46))))","v":""},{"$f":"IF($A53=\"\",\"\",IF(IF(SUMIF('4 x 50 Obs Relay Men'!$C$7:$C$46,$A53,'4 x 50 Obs Relay Men'!$AJ$7:$AJ$46)=0,1+MAX('4 x 50 Obs Relay Men'!$AJ$7:$AJ$46),SUMIF('4 x 50 Obs Relay Men'!$C$7:$C$46,$A53,'4 x 50 Obs Relay Men'!$AJ$7:$AJ$46))>2+MAX('4 x 50 Obs Relay Men'!$AJ$7:$AJ$46),MAX('4 x 50 Obs Relay Men'!$AJ$7:$AJ$46),IF(SUMIF('4 x 50 Obs Relay Men'!$C$7:$C$46,$A53,'4 x 50 Obs Relay Men'!$AJ$7:$AJ$46)=0,1+MAX('4 x 50 Obs Relay Men'!$AJ$7:$AJ$46),SUMIF('4 x 50 Obs Relay Men'!$C$7:$C$46,$A53,'4 x 50 Obs Relay Men'!$AJ$7:$AJ$46))))","v":""},{"$f":"IF($A53=\"\",\"\",IF(IF(SUMIF('4 x 50 medley Relay Men'!$C$7:$C$46,$A53,'4 x 50 medley Relay Men'!$AJ$7:$AJ$46)=0,1+MAX('4 x 50 medley Relay Men'!$AJ$7:$AJ$46),SUMIF('4 x 50 medley Relay Men'!$C$7:$C$46,$A53,'4 x 50 medley Relay Men'!$AJ$7:$AJ$46))>2+MAX('4 x 50 medley Relay Men'!$AJ$7:$AJ$46),MAX('4 x 50 medley Relay Men'!$AJ$7:$AJ$46),IF(SUMIF('4 x 50 medley Relay Men'!$C$7:$C$46,$A53,'4 x 50 medley Relay Men'!$AJ$7:$AJ$46)=0,1+MAX('4 x 50 medley Relay Men'!$AJ$7:$AJ$46),SUMIF('4 x 50 medley Relay Men'!$C$7:$C$46,$A53,'4 x 50 medley Relay Men'!$AJ$7:$AJ$46))))","v":""},{"$f":"IF($A53=\"\",\"\",IF(IF(SUMIF('4 x 25 Manikin Carry Relay Men'!$C$7:$C$46,$A53,'4 x 25 Manikin Carry Relay Men'!$AJ$7:$AJ$46)=0,1+MAX('4 x 25 Manikin Carry Relay Men'!$AJ$7:$AJ$46),SUMIF('4 x 25 Manikin Carry Relay Men'!$C$7:$C$46,$A53,'4 x 25 Manikin Carry Relay Men'!$AJ$7:$AJ$46))>2+MAX('4 x 25 Manikin Carry Relay Men'!$AJ$7:$AJ$46),MAX('4 x 25 Manikin Carry Relay Men'!$AJ$7:$AJ$46),IF(SUMIF('4 x 25 Manikin Carry Relay Men'!$C$7:$C$46,$A53,'4 x 25 Manikin Carry Relay Men'!$AJ$7:$AJ$46)=0,1+MAX('4 x 25 Manikin Carry Relay Men'!$AJ$7:$AJ$46),SUMIF('4 x 25 Manikin Carry Relay Men'!$C$7:$C$46,$A53,'4 x 25 Manikin Carry Relay Men'!$AJ$7:$AJ$46))))","v":""},{"$f":"IF($A53=\"\",\"\",IF(IF(SUMIF('Line Throw Relay Men'!$C$7:$C$46,$A53,'Line Throw Relay Men'!$AJ$7:$AJ$46)=0,1+MAX('Line Throw Relay Men'!$AJ$7:$AJ$46),SUMIF('Line Throw Relay Men'!$C$7:$C$46,$A53,'Line Throw Relay Men'!$AJ$7:$AJ$46))>2+MAX('Line Throw Relay Men'!$AJ$7:$AJ$46),MAX('Line Throw Relay Men'!$AJ$7:$AJ$46),IF(SUMIF('Line Throw Relay Men'!$C$7:$C$46,$A53,'Line Throw Relay Men'!$AJ$7:$AJ$46)=0,1+MAX('Line Throw Relay Men'!$AJ$7:$AJ$46),SUMIF('Line Throw Relay Men'!$C$7:$C$46,$A53,'Line Throw Relay Men'!$AJ$7:$AJ$46))))","v":""},"",""]
["","",{"$f":"IF($A54=\"\",\"\",IF(IF(SUMIF('50m Manikin Carry Men'!$C$7:$C$46,$A54,'50m Manikin Carry Men'!$AE$7:$AE$46)=0,1+MAX('50m Manikin Carry Men'!$AE$7:$AE$46),SUMIF('50m Manikin Carry Men'!$C$7:$C$46,$A54,'50m Manikin Carry Men'!$AE$7:$AE$46))>MAX('50m Manikin Carry Men'!$AE$7:$AE$46)+2,MAX('50m Manikin Carry Men'!$AE$7:$AE$46),IF(SUMIF('50m Manikin Carry Men'!$C$7:$C$46,$A54,'50m Manikin Carry Men'!$AE$7:$AE$46)=0,1+MAX('50m Manikin Carry Men'!$AE$7:$AE$46),SUMIF('50m Manikin Carry Men'!$C$7:$C$46,$A54,'50m Manikin Carry Men'!$AE$7:$AE$46))))","v":""},{"$f":"IF($A54=\"\",\"\",IF(IF(SUMIF('100m Manikin Carry Men'!$C$7:$C$46,$A54,'100m Manikin Carry Men'!$AE$7:$AE$46)=0,1+MAX('100m Manikin Carry Men'!$AE$7:$AE$46),SUMIF('100m Manikin Carry Men'!$C$7:$C$46,$A54,'100m Manikin Carry Men'!$AE$7:$AE$46))>2+MAX('100m Manikin Carry Men'!$AE$7:$AE$46),MAX('100m Manikin Carry Men'!$AE$7:$AE$46),IF(SUMIF('100m Manikin Carry Men'!$C$7:$C$46,$A54,'100m Manikin Carry Men'!$AE$7:$AE$46)=0,1+MAX('100m Manikin Carry Men'!$AE$7:$AE$46),SUMIF('100m Manikin Carry Men'!$C$7:$C$46,$A54,'100m Manikin Carry Men'!$AE$7:$AE$46))))","v":""},{"$f":"IF($A54=\"\",\"\",IF(IF(SUMIF('100m Manikin Tow Men'!$C$7:$C$46,$A54,'100m Manikin Tow Men'!$AE$7:$AE$46)=0,1+MAX('100m Manikin Tow Men'!$AE$7:$AE$46),SUMIF('100m Manikin Tow Men'!$C$7:$C$46,$A54,'100m Manikin Tow Men'!$AE$7:$AE$46))>2+MAX('100m Manikin Tow Men'!$AE$7:$AE$46),MAX('100m Manikin Tow Men'!$AE$7:$AE$46),IF(SUMIF('100m Manikin Tow Men'!$C$7:$C$46,$A54,'100m Manikin Tow Men'!$AE$7:$AE$46)=0,1+MAX('100m Manikin Tow Men'!$AE$7:$AE$46),SUMIF('100m Manikin Tow Men'!$C$7:$C$46,$A54,'100m Manikin Tow Men'!$AE$7:$AE$46))))","v":""},{"$f":"IF($A54=\"\",\"\",IF(IF(SUMIF('200m Obs Men'!$C$7:$C$46,$A54,'200m Obs Men'!$AE$7:$AE$46)=0,1+MAX('200m Obs Men'!$AE$7:$AE$46),SUMIF('200m Obs Men'!$C$7:$C$46,$A54,'200m Obs Men'!$AE$7:$AE$46))>2+MAX('200m Obs Men'!$AE$7:$AE$46),MAX('200m Obs Men'!$AE$7:$AE$46),IF(SUMIF('200m Obs Men'!$C$7:$C$46,$A54,'200m Obs Men'!$AE$7:$AE$46)=0,1+MAX('200m Obs Men'!$AE$7:$AE$46),SUMIF('200m Obs Men'!$C$7:$C$46,$A54,'200m Obs Men'!$AE$7:$AE$46))))","v":""},{"$f":"IF($A54=\"\",\"\",IF(IF(SUMIF('200m Super Men'!$C$7:$C$46,$A54,'200m Super Men'!$AE$7:$AE$46)=0,1+MAX('200m Super Men'!$AE$7:$AE$46),SUMIF('200m Super Men'!$C$7:$C$46,$A54,'200m Super Men'!$AE$7:$AE$46))>2+MAX('200m Super Men'!$AE$7:$AE$46),MAX('200m Super Men'!$AE$7:$AE$46),IF(SUMIF('200m Super Men'!$C$7:$C$46,$A54,'200m Super Men'!$AE$7:$AE$46)=0,1+MAX('200m Super Men'!$AE$7:$AE$46),SUMIF('200m Super Men'!$C$7:$C$46,$A54,'200m Super Men'!$AE$7:$AE$46))))","v":""},{"$f":"IF($A54=\"\",\"\",IF(IF(SUMIF('100 Resue Men'!$C$7:$C$46,$A54,'100 Resue Men'!$AE$7:$AE$46)=0,1+MAX('100 Resue Men'!$AE$7:$AE$46),SUMIF('100 Resue Men'!$C$7:$C$46,$A54,'100 Resue Men'!$AE$7:$AE$46))>2+MAX('100 Resue Men'!$AE$7:$AE$46),MAX('100 Resue Men'!$AE$7:$AE$46),IF(SUMIF('100 Resue Men'!$C$7:$C$46,$A54,'100 Resue Men'!$AE$7:$AE$46)=0,1+MAX('100 Resue Men'!$AE$7:$AE$46),SUMIF('100 Resue Men'!$C$7:$C$46,$A54,'100 Resue Men'!$AE$7:$AE$46))))","v":""},{"$f":"IF($A54=\"\",\"\",IF(IF(SUMIF('Line Throw Men'!$C$7:$C$46,$A54,'Line Throw Men'!$AG$7:$AG$46)=0,MAX('Line Throw Men'!$AG$7:$AG$46),SUMIF('Line Throw Men'!$C$7:$C$46,$A54,'Line Throw Men'!$AG$7:$AG$46))>2+MAX('Line Throw Men'!$AG$7:$AG$46),MAX('Line Throw Men'!$AG$7:$AG$46),IF(SUMIF('Line Throw Men'!$C$7:$C$46,$A54,'Line Throw Men'!$AG$7:$AG$46)=0,1+MAX('Line Throw Men'!$AG$7:$AG$46),SUMIF('Line Throw Men'!$C$7:$C$46,$A54,'Line Throw Men'!$AG$7:$AG$46))))","v":""},{"$f":"IF($A54=\"\",\"\",IF(IF(SUMIF('4 x 50 Obs Relay Men'!$C$7:$C$46,$A54,'4 x 50 Obs Relay Men'!$AJ$7:$AJ$46)=0,1+MAX('4 x 50 Obs Relay Men'!$AJ$7:$AJ$46),SUMIF('4 x 50 Obs Relay Men'!$C$7:$C$46,$A54,'4 x 50 Obs Relay Men'!$AJ$7:$AJ$46))>2+MAX('4 x 50 Obs Relay Men'!$AJ$7:$AJ$46),MAX('4 x 50 Obs Relay Men'!$AJ$7:$AJ$46),IF(SUMIF('4 x 50 Obs Relay Men'!$C$7:$C$46,$A54,'4 x 50 Obs Relay Men'!$AJ$7:$AJ$46)=0,1+MAX('4 x 50 Obs Relay Men'!$AJ$7:$AJ$46),SUMIF('4 x 50 Obs Relay Men'!$C$7:$C$46,$A54,'4 x 50 Obs Relay Men'!$AJ$7:$AJ$46))))","v":""},{"$f":"IF($A54=\"\",\"\",IF(IF(SUMIF('4 x 50 medley Relay Men'!$C$7:$C$46,$A54,'4 x 50 medley Relay Men'!$AJ$7:$AJ$46)=0,1+MAX('4 x 50 medley Relay Men'!$AJ$7:$AJ$46),SUMIF('4 x 50 medley Relay Men'!$C$7:$C$46,$A54,'4 x 50 medley Relay Men'!$AJ$7:$AJ$46))>2+MAX('4 x 50 medley Relay Men'!$AJ$7:$AJ$46),MAX('4 x 50 medley Relay Men'!$AJ$7:$AJ$46),IF(SUMIF('4 x 50 medley Relay Men'!$C$7:$C$46,$A54,'4 x 50 medley Relay Men'!$AJ$7:$AJ$46)=0,1+MAX('4 x 50 medley Relay Men'!$AJ$7:$AJ$46),SUMIF('4 x 50 medley Relay Men'!$C$7:$C$46,$A54,'4 x 50 medley Relay Men'!$AJ$7:$AJ$46))))","v":""},{"$f":"IF($A54=\"\",\"\",IF(IF(SUMIF('4 x 25 Manikin Carry Relay Men'!$C$7:$C$46,$A54,'4 x 25 Manikin Carry Relay Men'!$AJ$7:$AJ$46)=0,1+MAX('4 x 25 Manikin Carry Relay Men'!$AJ$7:$AJ$46),SUMIF('4 x 25 Manikin Carry Relay Men'!$C$7:$C$46,$A54,'4 x 25 Manikin Carry Relay Men'!$AJ$7:$AJ$46))>2+MAX('4 x 25 Manikin Carry Relay Men'!$AJ$7:$AJ$46),MAX('4 x 25 Manikin Carry Relay Men'!$AJ$7:$AJ$46),IF(SUMIF('4 x 25 Manikin Carry Relay Men'!$C$7:$C$46,$A54,'4 x 25 Manikin Carry Relay Men'!$AJ$7:$AJ$46)=0,1+MAX('4 x 25 Manikin Carry Relay Men'!$AJ$7:$AJ$46),SUMIF('4 x 25 Manikin Carry Relay Men'!$C$7:$C$46,$A54,'4 x 25 Manikin Carry Relay Men'!$AJ$7:$AJ$46))))","v":""},{"$f":"IF($A54=\"\",\"\",IF(IF(SUMIF('Line Throw Relay Men'!$C$7:$C$46,$A54,'Line Throw Relay Men'!$AJ$7:$AJ$46)=0,1+MAX('Line Throw Relay Men'!$AJ$7:$AJ$46),SUMIF('Line Throw Relay Men'!$C$7:$C$46,$A54,'Line Throw Relay Men'!$AJ$7:$AJ$46))>2+MAX('Line Throw Relay Men'!$AJ$7:$AJ$46),MAX('Line Throw Relay Men'!$AJ$7:$AJ$46),IF(SUMIF('Line Throw Relay Men'!$C$7:$C$46,$A54,'Line Throw Relay Men'!$AJ$7:$AJ$46)=0,1+MAX('Line Throw Relay Men'!$AJ$7:$AJ$46),SUMIF('Line Throw Relay Men'!$C$7:$C$46,$A54,'Line Throw Relay Men'!$AJ$7:$AJ$46))))","v":""},"",""]
["","",{"$f":"IF($A55=\"\",\"\",IF(IF(SUMIF('50m Manikin Carry Men'!$C$7:$C$46,$A55,'50m Manikin Carry Men'!$AE$7:$AE$46)=0,1+MAX('50m Manikin Carry Men'!$AE$7:$AE$46),SUMIF('50m Manikin Carry Men'!$C$7:$C$46,$A55,'50m Manikin Carry Men'!$AE$7:$AE$46))>MAX('50m Manikin Carry Men'!$AE$7:$AE$46)+2,MAX('50m Manikin Carry Men'!$AE$7:$AE$46),IF(SUMIF('50m Manikin Carry Men'!$C$7:$C$46,$A55,'50m Manikin Carry Men'!$AE$7:$AE$46)=0,1+MAX('50m Manikin Carry Men'!$AE$7:$AE$46),SUMIF('50m Manikin Carry Men'!$C$7:$C$46,$A55,'50m Manikin Carry Men'!$AE$7:$AE$46))))","v":""},{"$f":"IF($A55=\"\",\"\",IF(IF(SUMIF('100m Manikin Carry Men'!$C$7:$C$46,$A55,'100m Manikin Carry Men'!$AE$7:$AE$46)=0,1+MAX('100m Manikin Carry Men'!$AE$7:$AE$46),SUMIF('100m Manikin Carry Men'!$C$7:$C$46,$A55,'100m Manikin Carry Men'!$AE$7:$AE$46))>2+MAX('100m Manikin Carry Men'!$AE$7:$AE$46),MAX('100m Manikin Carry Men'!$AE$7:$AE$46),IF(SUMIF('100m Manikin Carry Men'!$C$7:$C$46,$A55,'100m Manikin Carry Men'!$AE$7:$AE$46)=0,1+MAX('100m Manikin Carry Men'!$AE$7:$AE$46),SUMIF('100m Manikin Carry Men'!$C$7:$C$46,$A55,'100m Manikin Carry Men'!$AE$7:$AE$46))))","v":""},{"$f":"IF($A55=\"\",\"\",IF(IF(SUMIF('100m Manikin Tow Men'!$C$7:$C$46,$A55,'100m Manikin Tow Men'!$AE$7:$AE$46)=0,1+MAX('100m Manikin Tow Men'!$AE$7:$AE$46),SUMIF('100m Manikin Tow Men'!$C$7:$C$46,$A55,'100m Manikin Tow Men'!$AE$7:$AE$46))>2+MAX('100m Manikin Tow Men'!$AE$7:$AE$46),MAX('100m Manikin Tow Men'!$AE$7:$AE$46),IF(SUMIF('100m Manikin Tow Men'!$C$7:$C$46,$A55,'100m Manikin Tow Men'!$AE$7:$AE$46)=0,1+MAX('100m Manikin Tow Men'!$AE$7:$AE$46),SUMIF('100m Manikin Tow Men'!$C$7:$C$46,$A55,'100m Manikin Tow Men'!$AE$7:$AE$46))))","v":""},{"$f":"IF($A55=\"\",\"\",IF(IF(SUMIF('200m Obs Men'!$C$7:$C$46,$A55,'200m Obs Men'!$AE$7:$AE$46)=0,1+MAX('200m Obs Men'!$AE$7:$AE$46),SUMIF('200m Obs Men'!$C$7:$C$46,$A55,'200m Obs Men'!$AE$7:$AE$46))>2+MAX('200m Obs Men'!$AE$7:$AE$46),MAX('200m Obs Men'!$AE$7:$AE$46),IF(SUMIF('200m Obs Men'!$C$7:$C$46,$A55,'200m Obs Men'!$AE$7:$AE$46)=0,1+MAX('200m Obs Men'!$AE$7:$AE$46),SUMIF('200m Obs Men'!$C$7:$C$46,$A55,'200m Obs Men'!$AE$7:$AE$46))))","v":""},{"$f":"IF($A55=\"\",\"\",IF(IF(SUMIF('200m Super Men'!$C$7:$C$46,$A55,'200m Super Men'!$AE$7:$AE$46)=0,1+MAX('200m Super Men'!$AE$7:$AE$46),SUMIF('200m Super Men'!$C$7:$C$46,$A55,'200m Super Men'!$AE$7:$AE$46))>2+MAX('200m Super Men'!$AE$7:$AE$46),MAX('200m Super Men'!$AE$7:$AE$46),IF(SUMIF('200m Super Men'!$C$7:$C$46,$A55,'200m Super Men'!$AE$7:$AE$46)=0,1+MAX('200m Super Men'!$AE$7:$AE$46),SUMIF('200m Super Men'!$C$7:$C$46,$A55,'200m Super Men'!$AE$7:$AE$46))))","v":""},{"$f":"IF($A55=\"\",\"\",IF(IF(SUMIF('100 Resue Men'!$C$7:$C$46,$A55,'100 Resue Men'!$AE$7:$AE$46)=0,1+MAX('100 Resue Men'!$AE$7:$AE$46),SUMIF('100 Resue Men'!$C$7:$C$46,$A55,'100 Resue Men'!$AE$7:$AE$46))>2+MAX('100 Resue Men'!$AE$7:$AE$46),MAX('100 Resue Men'!$AE$7:$AE$46),IF(SUMIF('100 Resue Men'!$C$7:$C$46,$A55,'100 Resue Men'!$AE$7:$AE$46)=0,1+MAX('100 Resue Men'!$AE$7:$AE$46),SUMIF('100 Resue Men'!$C$7:$C$46,$A55,'100 Resue Men'!$AE$7:$AE$46))))","v":""},{"$f":"IF($A55=\"\",\"\",IF(IF(SUMIF('Line Throw Men'!$C$7:$C$46,$A55,'Line Throw Men'!$AG$7:$AG$46)=0,MAX('Line Throw Men'!$AG$7:$AG$46),SUMIF('Line Throw Men'!$C$7:$C$46,$A55,'Line Throw Men'!$AG$7:$AG$46))>2+MAX('Line Throw Men'!$AG$7:$AG$46),MAX('Line Throw Men'!$AG$7:$AG$46),IF(SUMIF('Line Throw Men'!$C$7:$C$46,$A55,'Line Throw Men'!$AG$7:$AG$46)=0,1+MAX('Line Throw Men'!$AG$7:$AG$46),SUMIF('Line Throw Men'!$C$7:$C$46,$A55,'Line Throw Men'!$AG$7:$AG$46))))","v":""},{"$f":"IF($A55=\"\",\"\",IF(IF(SUMIF('4 x 50 Obs Relay Men'!$C$7:$C$46,$A55,'4 x 50 Obs Relay Men'!$AJ$7:$AJ$46)=0,1+MAX('4 x 50 Obs Relay Men'!$AJ$7:$AJ$46),SUMIF('4 x 50 Obs Relay Men'!$C$7:$C$46,$A55,'4 x 50 Obs Relay Men'!$AJ$7:$AJ$46))>2+MAX('4 x 50 Obs Relay Men'!$AJ$7:$AJ$46),MAX('4 x 50 Obs Relay Men'!$AJ$7:$AJ$46),IF(SUMIF('4 x 50 Obs Relay Men'!$C$7:$C$46,$A55,'4 x 50 Obs Relay Men'!$AJ$7:$AJ$46)=0,1+MAX('4 x 50 Obs Relay Men'!$AJ$7:$AJ$46),SUMIF('4 x 50 Obs Relay Men'!$C$7:$C$46,$A55,'4 x 50 Obs Relay Men'!$AJ$7:$AJ$46))))","v":""},{"$f":"IF($A55=\"\",\"\",IF(IF(SUMIF('4 x 50 medley Relay Men'!$C$7:$C$46,$A55,'4 x 50 medley Relay Men'!$AJ$7:$AJ$46)=0,1+MAX('4 x 50 medley Relay Men'!$AJ$7:$AJ$46),SUMIF('4 x 50 medley Relay Men'!$C$7:$C$46,$A55,'4 x 50 medley Relay Men'!$AJ$7:$AJ$46))>2+MAX('4 x 50 medley Relay Men'!$AJ$7:$AJ$46),MAX('4 x 50 medley Relay Men'!$AJ$7:$AJ$46),IF(SUMIF('4 x 50 medley Relay Men'!$C$7:$C$46,$A55,'4 x 50 medley Relay Men'!$AJ$7:$AJ$46)=0,1+MAX('4 x 50 medley Relay Men'!$AJ$7:$AJ$46),SUMIF('4 x 50 medley Relay Men'!$C$7:$C$46,$A55,'4 x 50 medley Relay Men'!$AJ$7:$AJ$46))))","v":""},{"$f":"IF($A55=\"\",\"\",IF(IF(SUMIF('4 x 25 Manikin Carry Relay Men'!$C$7:$C$46,$A55,'4 x 25 Manikin Carry Relay Men'!$AJ$7:$AJ$46)=0,1+MAX('4 x 25 Manikin Carry Relay Men'!$AJ$7:$AJ$46),SUMIF('4 x 25 Manikin Carry Relay Men'!$C$7:$C$46,$A55,'4 x 25 Manikin Carry Relay Men'!$AJ$7:$AJ$46))>2+MAX('4 x 25 Manikin Carry Relay Men'!$AJ$7:$AJ$46),MAX('4 x 25 Manikin Carry Relay Men'!$AJ$7:$AJ$46),IF(SUMIF('4 x 25 Manikin Carry Relay Men'!$C$7:$C$46,$A55,'4 x 25 Manikin Carry Relay Men'!$AJ$7:$AJ$46)=0,1+MAX('4 x 25 Manikin Carry Relay Men'!$AJ$7:$AJ$46),SUMIF('4 x 25 Manikin Carry Relay Men'!$C$7:$C$46,$A55,'4 x 25 Manikin Carry Relay Men'!$AJ$7:$AJ$46))))","v":""},{"$f":"IF($A55=\"\",\"\",IF(IF(SUMIF('Line Throw Relay Men'!$C$7:$C$46,$A55,'Line Throw Relay Men'!$AJ$7:$AJ$46)=0,1+MAX('Line Throw Relay Men'!$AJ$7:$AJ$46),SUMIF('Line Throw Relay Men'!$C$7:$C$46,$A55,'Line Throw Relay Men'!$AJ$7:$AJ$46))>2+MAX('Line Throw Relay Men'!$AJ$7:$AJ$46),MAX('Line Throw Relay Men'!$AJ$7:$AJ$46),IF(SUMIF('Line Throw Relay Men'!$C$7:$C$46,$A55,'Line Throw Relay Men'!$AJ$7:$AJ$46)=0,1+MAX('Line Throw Relay Men'!$AJ$7:$AJ$46),SUMIF('Line Throw Relay Men'!$C$7:$C$46,$A55,'Line Throw Relay Men'!$AJ$7:$AJ$46))))","v":""},"",""]
[{"$f":"IF(A21=\"\",\"\",A21)","v":""},"",{"$f":"IF($A56=\"\",\"\",IF(IF(SUMIF('50m Manikin Carry Men'!$C$7:$C$46,$A56,'50m Manikin Carry Men'!$AE$7:$AE$46)=0,1+MAX('50m Manikin Carry Men'!$AE$7:$AE$46),SUMIF('50m Manikin Carry Men'!$C$7:$C$46,$A56,'50m Manikin Carry Men'!$AE$7:$AE$46))>MAX('50m Manikin Carry Men'!$AE$7:$AE$46)+2,MAX('50m Manikin Carry Men'!$AE$7:$AE$46),IF(SUMIF('50m Manikin Carry Men'!$C$7:$C$46,$A56,'50m Manikin Carry Men'!$AE$7:$AE$46)=0,1+MAX('50m Manikin Carry Men'!$AE$7:$AE$46),SUMIF('50m Manikin Carry Men'!$C$7:$C$46,$A56,'50m Manikin Carry Men'!$AE$7:$AE$46))))","v":""},{"$f":"IF($A56=\"\",\"\",IF(IF(SUMIF('100m Manikin Carry Men'!$C$7:$C$46,$A56,'100m Manikin Carry Men'!$AE$7:$AE$46)=0,1+MAX('100m Manikin Carry Men'!$AE$7:$AE$46),SUMIF('100m Manikin Carry Men'!$C$7:$C$46,$A56,'100m Manikin Carry Men'!$AE$7:$AE$46))>2+MAX('100m Manikin Carry Men'!$AE$7:$AE$46),MAX('100m Manikin Carry Men'!$AE$7:$AE$46),IF(SUMIF('100m Manikin Carry Men'!$C$7:$C$46,$A56,'100m Manikin Carry Men'!$AE$7:$AE$46)=0,1+MAX('100m Manikin Carry Men'!$AE$7:$AE$46),SUMIF('100m Manikin Carry Men'!$C$7:$C$46,$A56,'100m Manikin Carry Men'!$AE$7:$AE$46))))","v":""},{"$f":"IF($A56=\"\",\"\",IF(IF(SUMIF('100m Manikin Tow Men'!$C$7:$C$46,$A56,'100m Manikin Tow Men'!$AE$7:$AE$46)=0,1+MAX('100m Manikin Tow Men'!$AE$7:$AE$46),SUMIF('100m Manikin Tow Men'!$C$7:$C$46,$A56,'100m Manikin Tow Men'!$AE$7:$AE$46))>2+MAX('100m Manikin Tow Men'!$AE$7:$AE$46),MAX('100m Manikin Tow Men'!$AE$7:$AE$46),IF(SUMIF('100m Manikin Tow Men'!$C$7:$C$46,$A56,'100m Manikin Tow Men'!$AE$7:$AE$46)=0,1+MAX('100m Manikin Tow Men'!$AE$7:$AE$46),SUMIF('100m Manikin Tow Men'!$C$7:$C$46,$A56,'100m Manikin Tow Men'!$AE$7:$AE$46))))","v":""},{"$f":"IF($A56=\"\",\"\",IF(IF(SUMIF('200m Obs Men'!$C$7:$C$46,$A56,'200m Obs Men'!$AE$7:$AE$46)=0,1+MAX('200m Obs Men'!$AE$7:$AE$46),SUMIF('200m Obs Men'!$C$7:$C$46,$A56,'200m Obs Men'!$AE$7:$AE$46))>2+MAX('200m Obs Men'!$AE$7:$AE$46),MAX('200m Obs Men'!$AE$7:$AE$46),IF(SUMIF('200m Obs Men'!$C$7:$C$46,$A56,'200m Obs Men'!$AE$7:$AE$46)=0,1+MAX('200m Obs Men'!$AE$7:$AE$46),SUMIF('200m Obs Men'!$C$7:$C$46,$A56,'200m Obs Men'!$AE$7:$AE$46))))","v":""},{"$f":"IF($A56=\"\",\"\",IF(IF(SUMIF('200m Super Men'!$C$7:$C$46,$A56,'200m Super Men'!$AE$7:$AE$46)=0,1+MAX('200m Super Men'!$AE$7:$AE$46),SUMIF('200m Super Men'!$C$7:$C$46,$A56,'200m Super Men'!$AE$7:$AE$46))>2+MAX('200m Super Men'!$AE$7:$AE$46),MAX('200m Super Men'!$AE$7:$AE$46),IF(SUMIF('200m Super Men'!$C$7:$C$46,$A56,'200m Super Men'!$AE$7:$AE$46)=0,1+MAX('200m Super Men'!$AE$7:$AE$46),SUMIF('200m Super Men'!$C$7:$C$46,$A56,'200m Super Men'!$AE$7:$AE$46))))","v":""},{"$f":"IF($A56=\"\",\"\",IF(IF(SUMIF('100 Resue Men'!$C$7:$C$46,$A56,'100 Resue Men'!$AE$7:$AE$46)=0,1+MAX('100 Resue Men'!$AE$7:$AE$46),SUMIF('100 Resue Men'!$C$7:$C$46,$A56,'100 Resue Men'!$AE$7:$AE$46))>2+MAX('100 Resue Men'!$AE$7:$AE$46),MAX('100 Resue Men'!$AE$7:$AE$46),IF(SUMIF('100 Resue Men'!$C$7:$C$46,$A56,'100 Resue Men'!$AE$7:$AE$46)=0,1+MAX('100 Resue Men'!$AE$7:$AE$46),SUMIF('100 Resue Men'!$C$7:$C$46,$A56,'100 Resue Men'!$AE$7:$AE$46))))","v":""},{"$f":"IF($A56=\"\",\"\",IF(IF(SUMIF('Line Throw Men'!$C$7:$C$46,$A56,'Line Throw Men'!$AG$7:$AG$46)=0,MAX('Line Throw Men'!$AG$7:$AG$46),SUMIF('Line Throw Men'!$C$7:$C$46,$A56,'Line Throw Men'!$AG$7:$AG$46))>2+MAX('Line Throw Men'!$AG$7:$AG$46),MAX('Line Throw Men'!$AG$7:$AG$46),IF(SUMIF('Line Throw Men'!$C$7:$C$46,$A56,'Line Throw Men'!$AG$7:$AG$46)=0,1+MAX('Line Throw Men'!$AG$7:$AG$46),SUMIF('Line Throw Men'!$C$7:$C$46,$A56,'Line Throw Men'!$AG$7:$AG$46))))","v":""},{"$f":"IF($A56=\"\",\"\",IF(IF(SUMIF('4 x 50 Obs Relay Men'!$C$7:$C$46,$A56,'4 x 50 Obs Relay Men'!$AJ$7:$AJ$46)=0,1+MAX('4 x 50 Obs Relay Men'!$AJ$7:$AJ$46),SUMIF('4 x 50 Obs Relay Men'!$C$7:$C$46,$A56,'4 x 50 Obs Relay Men'!$AJ$7:$AJ$46))>2+MAX('4 x 50 Obs Relay Men'!$AJ$7:$AJ$46),MAX('4 x 50 Obs Relay Men'!$AJ$7:$AJ$46),IF(SUMIF('4 x 50 Obs Relay Men'!$C$7:$C$46,$A56,'4 x 50 Obs Relay Men'!$AJ$7:$AJ$46)=0,1+MAX('4 x 50 Obs Relay Men'!$AJ$7:$AJ$46),SUMIF('4 x 50 Obs Relay Men'!$C$7:$C$46,$A56,'4 x 50 Obs Relay Men'!$AJ$7:$AJ$46))))","v":""},{"$f":"IF($A56=\"\",\"\",IF(IF(SUMIF('4 x 50 medley Relay Men'!$C$7:$C$46,$A56,'4 x 50 medley Relay Men'!$AJ$7:$AJ$46)=0,1+MAX('4 x 50 medley Relay Men'!$AJ$7:$AJ$46),SUMIF('4 x 50 medley Relay Men'!$C$7:$C$46,$A56,'4 x 50 medley Relay Men'!$AJ$7:$AJ$46))>2+MAX('4 x 50 medley Relay Men'!$AJ$7:$AJ$46),MAX('4 x 50 medley Relay Men'!$AJ$7:$AJ$46),IF(SUMIF('4 x 50 medley Relay Men'!$C$7:$C$46,$A56,'4 x 50 medley Relay Men'!$AJ$7:$AJ$46)=0,1+MAX('4 x 50 medley Relay Men'!$AJ$7:$AJ$46),SUMIF('4 x 50 medley Relay Men'!$C$7:$C$46,$A56,'4 x 50 medley Relay Men'!$AJ$7:$AJ$46))))","v":""},{"$f":"IF($A56=\"\",\"\",IF(IF(SUMIF('4 x 25 Manikin Carry Relay Men'!$C$7:$C$46,$A56,'4 x 25 Manikin Carry Relay Men'!$AJ$7:$AJ$46)=0,1+MAX('4 x 25 Manikin Carry Relay Men'!$AJ$7:$AJ$46),SUMIF('4 x 25 Manikin Carry Relay Men'!$C$7:$C$46,$A56,'4 x 25 Manikin Carry Relay Men'!$AJ$7:$AJ$46))>2+MAX('4 x 25 Manikin Carry Relay Men'!$AJ$7:$AJ$46),MAX('4 x 25 Manikin Carry Relay Men'!$AJ$7:$AJ$46),IF(SUMIF('4 x 25 Manikin Carry Relay Men'!$C$7:$C$46,$A56,'4 x 25 Manikin Carry Relay Men'!$AJ$7:$AJ$46)=0,1+MAX('4 x 25 Manikin Carry Relay Men'!$AJ$7:$AJ$46),SUMIF('4 x 25 Manikin Carry Relay Men'!$C$7:$C$46,$A56,'4 x 25 Manikin Carry Relay Men'!$AJ$7:$AJ$46))))","v":""},{"$f":"IF($A56=\"\",\"\",IF(IF(SUMIF('Line Throw Relay Men'!$C$7:$C$46,$A56,'Line Throw Relay Men'!$AJ$7:$AJ$46)=0,1+MAX('Line Throw Relay Men'!$AJ$7:$AJ$46),SUMIF('Line Throw Relay Men'!$C$7:$C$46,$A56,'Line Throw Relay Men'!$AJ$7:$AJ$46))>2+MAX('Line Throw Relay Men'!$AJ$7:$AJ$46),MAX('Line Throw Relay Men'!$AJ$7:$AJ$46),IF(SUMIF('Line Throw Relay Men'!$C$7:$C$46,$A56,'Line Throw Relay Men'!$AJ$7:$AJ$46)=0,1+MAX('Line Throw Relay Men'!$AJ$7:$AJ$46),SUMIF('Line Throw Relay Men'!$C$7:$C$46,$A56,'Line Throw Relay Men'!$AJ$7:$AJ$46))))","v":""},"",""]
["","",{"$f":"IF($A57=\"\",\"\",IF(IF(SUMIF('50m Manikin Carry Men'!$C$7:$C$46,$A57,'50m Manikin Carry Men'!$AE$7:$AE$46)=0,1+MAX('50m Manikin Carry Men'!$AE$7:$AE$46),SUMIF('50m Manikin Carry Men'!$C$7:$C$46,$A57,'50m Manikin Carry Men'!$AE$7:$AE$46))>MAX('50m Manikin Carry Men'!$AE$7:$AE$46)+2,MAX('50m Manikin Carry Men'!$AE$7:$AE$46),IF(SUMIF('50m Manikin Carry Men'!$C$7:$C$46,$A57,'50m Manikin Carry Men'!$AE$7:$AE$46)=0,1+MAX('50m Manikin Carry Men'!$AE$7:$AE$46),SUMIF('50m Manikin Carry Men'!$C$7:$C$46,$A57,'50m Manikin Carry Men'!$AE$7:$AE$46))))","v":""},{"$f":"IF($A57=\"\",\"\",IF(IF(SUMIF('100m Manikin Carry Men'!$C$7:$C$46,$A57,'100m Manikin Carry Men'!$AE$7:$AE$46)=0,1+MAX('100m Manikin Carry Men'!$AE$7:$AE$46),SUMIF('100m Manikin Carry Men'!$C$7:$C$46,$A57,'100m Manikin Carry Men'!$AE$7:$AE$46))>2+MAX('100m Manikin Carry Men'!$AE$7:$AE$46),MAX('100m Manikin Carry Men'!$AE$7:$AE$46),IF(SUMIF('100m Manikin Carry Men'!$C$7:$C$46,$A57,'100m Manikin Carry Men'!$AE$7:$AE$46)=0,1+MAX('100m Manikin Carry Men'!$AE$7:$AE$46),SUMIF('100m Manikin Carry Men'!$C$7:$C$46,$A57,'100m Manikin Carry Men'!$AE$7:$AE$46))))","v":""},{"$f":"IF($A57=\"\",\"\",IF(IF(SUMIF('100m Manikin Tow Men'!$C$7:$C$46,$A57,'100m Manikin Tow Men'!$AE$7:$AE$46)=0,1+MAX('100m Manikin Tow Men'!$AE$7:$AE$46),SUMIF('100m Manikin Tow Men'!$C$7:$C$46,$A57,'100m Manikin Tow Men'!$AE$7:$AE$46))>2+MAX('100m Manikin Tow Men'!$AE$7:$AE$46),MAX('100m Manikin Tow Men'!$AE$7:$AE$46),IF(SUMIF('100m Manikin Tow Men'!$C$7:$C$46,$A57,'100m Manikin Tow Men'!$AE$7:$AE$46)=0,1+MAX('100m Manikin Tow Men'!$AE$7:$AE$46),SUMIF('100m Manikin Tow Men'!$C$7:$C$46,$A57,'100m Manikin Tow Men'!$AE$7:$AE$46))))","v":""},{"$f":"IF($A57=\"\",\"\",IF(IF(SUMIF('200m Obs Men'!$C$7:$C$46,$A57,'200m Obs Men'!$AE$7:$AE$46)=0,1+MAX('200m Obs Men'!$AE$7:$AE$46),SUMIF('200m Obs Men'!$C$7:$C$46,$A57,'200m Obs Men'!$AE$7:$AE$46))>2+MAX('200m Obs Men'!$AE$7:$AE$46),MAX('200m Obs Men'!$AE$7:$AE$46),IF(SUMIF('200m Obs Men'!$C$7:$C$46,$A57,'200m Obs Men'!$AE$7:$AE$46)=0,1+MAX('200m Obs Men'!$AE$7:$AE$46),SUMIF('200m Obs Men'!$C$7:$C$46,$A57,'200m Obs Men'!$AE$7:$AE$46))))","v":""},{"$f":"IF($A57=\"\",\"\",IF(IF(SUMIF('200m Super Men'!$C$7:$C$46,$A57,'200m Super Men'!$AE$7:$AE$46)=0,1+MAX('200m Super Men'!$AE$7:$AE$46),SUMIF('200m Super Men'!$C$7:$C$46,$A57,'200m Super Men'!$AE$7:$AE$46))>2+MAX('200m Super Men'!$AE$7:$AE$46),MAX('200m Super Men'!$AE$7:$AE$46),IF(SUMIF('200m Super Men'!$C$7:$C$46,$A57,'200m Super Men'!$AE$7:$AE$46)=0,1+MAX('200m Super Men'!$AE$7:$AE$46),SUMIF('200m Super Men'!$C$7:$C$46,$A57,'200m Super Men'!$AE$7:$AE$46))))","v":""},{"$f":"IF($A57=\"\",\"\",IF(IF(SUMIF('100 Resue Men'!$C$7:$C$46,$A57,'100 Resue Men'!$AE$7:$AE$46)=0,1+MAX('100 Resue Men'!$AE$7:$AE$46),SUMIF('100 Resue Men'!$C$7:$C$46,$A57,'100 Resue Men'!$AE$7:$AE$46))>2+MAX('100 Resue Men'!$AE$7:$AE$46),MAX('100 Resue Men'!$AE$7:$AE$46),IF(SUMIF('100 Resue Men'!$C$7:$C$46,$A57,'100 Resue Men'!$AE$7:$AE$46)=0,1+MAX('100 Resue Men'!$AE$7:$AE$46),SUMIF('100 Resue Men'!$C$7:$C$46,$A57,'100 Resue Men'!$AE$7:$AE$46))))","v":""},{"$f":"IF($A57=\"\",\"\",IF(IF(SUMIF('Line Throw Men'!$C$7:$C$46,$A57,'Line Throw Men'!$AG$7:$AG$46)=0,MAX('Line Throw Men'!$AG$7:$AG$46),SUMIF('Line Throw Men'!$C$7:$C$46,$A57,'Line Throw Men'!$AG$7:$AG$46))>2+MAX('Line Throw Men'!$AG$7:$AG$46),MAX('Line Throw Men'!$AG$7:$AG$46),IF(SUMIF('Line Throw Men'!$C$7:$C$46,$A57,'Line Throw Men'!$AG$7:$AG$46)=0,1+MAX('Line Throw Men'!$AG$7:$AG$46),SUMIF('Line Throw Men'!$C$7:$C$46,$A57,'Line Throw Men'!$AG$7:$AG$46))))","v":""},{"$f":"IF($A57=\"\",\"\",IF(IF(SUMIF('4 x 50 Obs Relay Men'!$C$7:$C$46,$A57,'4 x 50 Obs Relay Men'!$AJ$7:$AJ$46)=0,1+MAX('4 x 50 Obs Relay Men'!$AJ$7:$AJ$46),SUMIF('4 x 50 Obs Relay Men'!$C$7:$C$46,$A57,'4 x 50 Obs Relay Men'!$AJ$7:$AJ$46))>2+MAX('4 x 50 Obs Relay Men'!$AJ$7:$AJ$46),MAX('4 x 50 Obs Relay Men'!$AJ$7:$AJ$46),IF(SUMIF('4 x 50 Obs Relay Men'!$C$7:$C$46,$A57,'4 x 50 Obs Relay Men'!$AJ$7:$AJ$46)=0,1+MAX('4 x 50 Obs Relay Men'!$AJ$7:$AJ$46),SUMIF('4 x 50 Obs Relay Men'!$C$7:$C$46,$A57,'4 x 50 Obs Relay Men'!$AJ$7:$AJ$46))))","v":""},{"$f":"IF($A57=\"\",\"\",IF(IF(SUMIF('4 x 50 medley Relay Men'!$C$7:$C$46,$A57,'4 x 50 medley Relay Men'!$AJ$7:$AJ$46)=0,1+MAX('4 x 50 medley Relay Men'!$AJ$7:$AJ$46),SUMIF('4 x 50 medley Relay Men'!$C$7:$C$46,$A57,'4 x 50 medley Relay Men'!$AJ$7:$AJ$46))>2+MAX('4 x 50 medley Relay Men'!$AJ$7:$AJ$46),MAX('4 x 50 medley Relay Men'!$AJ$7:$AJ$46),IF(SUMIF('4 x 50 medley Relay Men'!$C$7:$C$46,$A57,'4 x 50 medley Relay Men'!$AJ$7:$AJ$46)=0,1+MAX('4 x 50 medley Relay Men'!$AJ$7:$AJ$46),SUMIF('4 x 50 medley Relay Men'!$C$7:$C$46,$A57,'4 x 50 medley Relay Men'!$AJ$7:$AJ$46))))","v":""},{"$f":"IF($A57=\"\",\"\",IF(IF(SUMIF('4 x 25 Manikin Carry Relay Men'!$C$7:$C$46,$A57,'4 x 25 Manikin Carry Relay Men'!$AJ$7:$AJ$46)=0,1+MAX('4 x 25 Manikin Carry Relay Men'!$AJ$7:$AJ$46),SUMIF('4 x 25 Manikin Carry Relay Men'!$C$7:$C$46,$A57,'4 x 25 Manikin Carry Relay Men'!$AJ$7:$AJ$46))>2+MAX('4 x 25 Manikin Carry Relay Men'!$AJ$7:$AJ$46),MAX('4 x 25 Manikin Carry Relay Men'!$AJ$7:$AJ$46),IF(SUMIF('4 x 25 Manikin Carry Relay Men'!$C$7:$C$46,$A57,'4 x 25 Manikin Carry Relay Men'!$AJ$7:$AJ$46)=0,1+MAX('4 x 25 Manikin Carry Relay Men'!$AJ$7:$AJ$46),SUMIF('4 x 25 Manikin Carry Relay Men'!$C$7:$C$46,$A57,'4 x 25 Manikin Carry Relay Men'!$AJ$7:$AJ$46))))","v":""},{"$f":"IF($A57=\"\",\"\",IF(IF(SUMIF('Line Throw Relay Men'!$C$7:$C$46,$A57,'Line Throw Relay Men'!$AJ$7:$AJ$46)=0,1+MAX('Line Throw Relay Men'!$AJ$7:$AJ$46),SUMIF('Line Throw Relay Men'!$C$7:$C$46,$A57,'Line Throw Relay Men'!$AJ$7:$AJ$46))>2+MAX('Line Throw Relay Men'!$AJ$7:$AJ$46),MAX('Line Throw Relay Men'!$AJ$7:$AJ$46),IF(SUMIF('Line Throw Relay Men'!$C$7:$C$46,$A57,'Line Throw Relay Men'!$AJ$7:$AJ$46)=0,1+MAX('Line Throw Relay Men'!$AJ$7:$AJ$46),SUMIF('Line Throw Relay Men'!$C$7:$C$46,$A57,'Line Throw Relay Men'!$AJ$7:$AJ$46))))","v":""},"",""]
["","",{"$f":"IF($A58=\"\",\"\",IF(IF(SUMIF('50m Manikin Carry Men'!$C$7:$C$46,$A58,'50m Manikin Carry Men'!$AE$7:$AE$46)=0,1+MAX('50m Manikin Carry Men'!$AE$7:$AE$46),SUMIF('50m Manikin Carry Men'!$C$7:$C$46,$A58,'50m Manikin Carry Men'!$AE$7:$AE$46))>MAX('50m Manikin Carry Men'!$AE$7:$AE$46)+2,MAX('50m Manikin Carry Men'!$AE$7:$AE$46),IF(SUMIF('50m Manikin Carry Men'!$C$7:$C$46,$A58,'50m Manikin Carry Men'!$AE$7:$AE$46)=0,1+MAX('50m Manikin Carry Men'!$AE$7:$AE$46),SUMIF('50m Manikin Carry Men'!$C$7:$C$46,$A58,'50m Manikin Carry Men'!$AE$7:$AE$46))))","v":""},{"$f":"IF($A58=\"\",\"\",IF(IF(SUMIF('100m Manikin Carry Men'!$C$7:$C$46,$A58,'100m Manikin Carry Men'!$AE$7:$AE$46)=0,1+MAX('100m Manikin Carry Men'!$AE$7:$AE$46),SUMIF('100m Manikin Carry Men'!$C$7:$C$46,$A58,'100m Manikin Carry Men'!$AE$7:$AE$46))>2+MAX('100m Manikin Carry Men'!$AE$7:$AE$46),MAX('100m Manikin Carry Men'!$AE$7:$AE$46),IF(SUMIF('100m Manikin Carry Men'!$C$7:$C$46,$A58,'100m Manikin Carry Men'!$AE$7:$AE$46)=0,1+MAX('100m Manikin Carry Men'!$AE$7:$AE$46),SUMIF('100m Manikin Carry Men'!$C$7:$C$46,$A58,'100m Manikin Carry Men'!$AE$7:$AE$46))))","v":""},{"$f":"IF($A58=\"\",\"\",IF(IF(SUMIF('100m Manikin Tow Men'!$C$7:$C$46,$A58,'100m Manikin Tow Men'!$AE$7:$AE$46)=0,1+MAX('100m Manikin Tow Men'!$AE$7:$AE$46),SUMIF('100m Manikin Tow Men'!$C$7:$C$46,$A58,'100m Manikin Tow Men'!$AE$7:$AE$46))>2+MAX('100m Manikin Tow Men'!$AE$7:$AE$46),MAX('100m Manikin Tow Men'!$AE$7:$AE$46),IF(SUMIF('100m Manikin Tow Men'!$C$7:$C$46,$A58,'100m Manikin Tow Men'!$AE$7:$AE$46)=0,1+MAX('100m Manikin Tow Men'!$AE$7:$AE$46),SUMIF('100m Manikin Tow Men'!$C$7:$C$46,$A58,'100m Manikin Tow Men'!$AE$7:$AE$46))))","v":""},{"$f":"IF($A58=\"\",\"\",IF(IF(SUMIF('200m Obs Men'!$C$7:$C$46,$A58,'200m Obs Men'!$AE$7:$AE$46)=0,1+MAX('200m Obs Men'!$AE$7:$AE$46),SUMIF('200m Obs Men'!$C$7:$C$46,$A58,'200m Obs Men'!$AE$7:$AE$46))>2+MAX('200m Obs Men'!$AE$7:$AE$46),MAX('200m Obs Men'!$AE$7:$AE$46),IF(SUMIF('200m Obs Men'!$C$7:$C$46,$A58,'200m Obs Men'!$AE$7:$AE$46)=0,1+MAX('200m Obs Men'!$AE$7:$AE$46),SUMIF('200m Obs Men'!$C$7:$C$46,$A58,'200m Obs Men'!$AE$7:$AE$46))))","v":""},{"$f":"IF($A58=\"\",\"\",IF(IF(SUMIF('200m Super Men'!$C$7:$C$46,$A58,'200m Super Men'!$AE$7:$AE$46)=0,1+MAX('200m Super Men'!$AE$7:$AE$46),SUMIF('200m Super Men'!$C$7:$C$46,$A58,'200m Super Men'!$AE$7:$AE$46))>2+MAX('200m Super Men'!$AE$7:$AE$46),MAX('200m Super Men'!$AE$7:$AE$46),IF(SUMIF('200m Super Men'!$C$7:$C$46,$A58,'200m Super Men'!$AE$7:$AE$46)=0,1+MAX('200m Super Men'!$AE$7:$AE$46),SUMIF('200m Super Men'!$C$7:$C$46,$A58,'200m Super Men'!$AE$7:$AE$46))))","v":""},{"$f":"IF($A58=\"\",\"\",IF(IF(SUMIF('100 Resue Men'!$C$7:$C$46,$A58,'100 Resue Men'!$AE$7:$AE$46)=0,1+MAX('100 Resue Men'!$AE$7:$AE$46),SUMIF('100 Resue Men'!$C$7:$C$46,$A58,'100 Resue Men'!$AE$7:$AE$46))>2+MAX('100 Resue Men'!$AE$7:$AE$46),MAX('100 Resue Men'!$AE$7:$AE$46),IF(SUMIF('100 Resue Men'!$C$7:$C$46,$A58,'100 Resue Men'!$AE$7:$AE$46)=0,1+MAX('100 Resue Men'!$AE$7:$AE$46),SUMIF('100 Resue Men'!$C$7:$C$46,$A58,'100 Resue Men'!$AE$7:$AE$46))))","v":""},{"$f":"IF($A58=\"\",\"\",IF(IF(SUMIF('Line Throw Men'!$C$7:$C$46,$A58,'Line Throw Men'!$AG$7:$AG$46)=0,MAX('Line Throw Men'!$AG$7:$AG$46),SUMIF('Line Throw Men'!$C$7:$C$46,$A58,'Line Throw Men'!$AG$7:$AG$46))>2+MAX('Line Throw Men'!$AG$7:$AG$46),MAX('Line Throw Men'!$AG$7:$AG$46),IF(SUMIF('Line Throw Men'!$C$7:$C$46,$A58,'Line Throw Men'!$AG$7:$AG$46)=0,1+MAX('Line Throw Men'!$AG$7:$AG$46),SUMIF('Line Throw Men'!$C$7:$C$46,$A58,'Line Throw Men'!$AG$7:$AG$46))))","v":""},{"$f":"IF($A58=\"\",\"\",IF(IF(SUMIF('4 x 50 Obs Relay Men'!$C$7:$C$46,$A58,'4 x 50 Obs Relay Men'!$AJ$7:$AJ$46)=0,1+MAX('4 x 50 Obs Relay Men'!$AJ$7:$AJ$46),SUMIF('4 x 50 Obs Relay Men'!$C$7:$C$46,$A58,'4 x 50 Obs Relay Men'!$AJ$7:$AJ$46))>2+MAX('4 x 50 Obs Relay Men'!$AJ$7:$AJ$46),MAX('4 x 50 Obs Relay Men'!$AJ$7:$AJ$46),IF(SUMIF('4 x 50 Obs Relay Men'!$C$7:$C$46,$A58,'4 x 50 Obs Relay Men'!$AJ$7:$AJ$46)=0,1+MAX('4 x 50 Obs Relay Men'!$AJ$7:$AJ$46),SUMIF('4 x 50 Obs Relay Men'!$C$7:$C$46,$A58,'4 x 50 Obs Relay Men'!$AJ$7:$AJ$46))))","v":""},{"$f":"IF($A58=\"\",\"\",IF(IF(SUMIF('4 x 50 medley Relay Men'!$C$7:$C$46,$A58,'4 x 50 medley Relay Men'!$AJ$7:$AJ$46)=0,1+MAX('4 x 50 medley Relay Men'!$AJ$7:$AJ$46),SUMIF('4 x 50 medley Relay Men'!$C$7:$C$46,$A58,'4 x 50 medley Relay Men'!$AJ$7:$AJ$46))>2+MAX('4 x 50 medley Relay Men'!$AJ$7:$AJ$46),MAX('4 x 50 medley Relay Men'!$AJ$7:$AJ$46),IF(SUMIF('4 x 50 medley Relay Men'!$C$7:$C$46,$A58,'4 x 50 medley Relay Men'!$AJ$7:$AJ$46)=0,1+MAX('4 x 50 medley Relay Men'!$AJ$7:$AJ$46),SUMIF('4 x 50 medley Relay Men'!$C$7:$C$46,$A58,'4 x 50 medley Relay Men'!$AJ$7:$AJ$46))))","v":""},{"$f":"IF($A58=\"\",\"\",IF(IF(SUMIF('4 x 25 Manikin Carry Relay Men'!$C$7:$C$46,$A58,'4 x 25 Manikin Carry Relay Men'!$AJ$7:$AJ$46)=0,1+MAX('4 x 25 Manikin Carry Relay Men'!$AJ$7:$AJ$46),SUMIF('4 x 25 Manikin Carry Relay Men'!$C$7:$C$46,$A58,'4 x 25 Manikin Carry Relay Men'!$AJ$7:$AJ$46))>2+MAX('4 x 25 Manikin Carry Relay Men'!$AJ$7:$AJ$46),MAX('4 x 25 Manikin Carry Relay Men'!$AJ$7:$AJ$46),IF(SUMIF('4 x 25 Manikin Carry Relay Men'!$C$7:$C$46,$A58,'4 x 25 Manikin Carry Relay Men'!$AJ$7:$AJ$46)=0,1+MAX('4 x 25 Manikin Carry Relay Men'!$AJ$7:$AJ$46),SUMIF('4 x 25 Manikin Carry Relay Men'!$C$7:$C$46,$A58,'4 x 25 Manikin Carry Relay Men'!$AJ$7:$AJ$46))))","v":""},{"$f":"IF($A58=\"\",\"\",IF(IF(SUMIF('Line Throw Relay Men'!$C$7:$C$46,$A58,'Line Throw Relay Men'!$AJ$7:$AJ$46)=0,1+MAX('Line Throw Relay Men'!$AJ$7:$AJ$46),SUMIF('Line Throw Relay Men'!$C$7:$C$46,$A58,'Line Throw Relay Men'!$AJ$7:$AJ$46))>2+MAX('Line Throw Relay Men'!$AJ$7:$AJ$46),MAX('Line Throw Relay Men'!$AJ$7:$AJ$46),IF(SUMIF('Line Throw Relay Men'!$C$7:$C$46,$A58,'Line Throw Relay Men'!$AJ$7:$AJ$46)=0,1+MAX('Line Throw Relay Men'!$AJ$7:$AJ$46),SUMIF('Line Throw Relay Men'!$C$7:$C$46,$A58,'Line Throw Relay Men'!$AJ$7:$AJ$46))))","v":""},"",""]
["","",{"$f":"IF($A59=\"\",\"\",IF(IF(SUMIF('50m Manikin Carry Men'!$C$7:$C$46,$A59,'50m Manikin Carry Men'!$AE$7:$AE$46)=0,1+MAX('50m Manikin Carry Men'!$AE$7:$AE$46),SUMIF('50m Manikin Carry Men'!$C$7:$C$46,$A59,'50m Manikin Carry Men'!$AE$7:$AE$46))>MAX('50m Manikin Carry Men'!$AE$7:$AE$46)+2,MAX('50m Manikin Carry Men'!$AE$7:$AE$46),IF(SUMIF('50m Manikin Carry Men'!$C$7:$C$46,$A59,'50m Manikin Carry Men'!$AE$7:$AE$46)=0,1+MAX('50m Manikin Carry Men'!$AE$7:$AE$46),SUMIF('50m Manikin Carry Men'!$C$7:$C$46,$A59,'50m Manikin Carry Men'!$AE$7:$AE$46))))","v":""},{"$f":"IF($A59=\"\",\"\",IF(IF(SUMIF('100m Manikin Carry Men'!$C$7:$C$46,$A59,'100m Manikin Carry Men'!$AE$7:$AE$46)=0,1+MAX('100m Manikin Carry Men'!$AE$7:$AE$46),SUMIF('100m Manikin Carry Men'!$C$7:$C$46,$A59,'100m Manikin Carry Men'!$AE$7:$AE$46))>2+MAX('100m Manikin Carry Men'!$AE$7:$AE$46),MAX('100m Manikin Carry Men'!$AE$7:$AE$46),IF(SUMIF('100m Manikin Carry Men'!$C$7:$C$46,$A59,'100m Manikin Carry Men'!$AE$7:$AE$46)=0,1+MAX('100m Manikin Carry Men'!$AE$7:$AE$46),SUMIF('100m Manikin Carry Men'!$C$7:$C$46,$A59,'100m Manikin Carry Men'!$AE$7:$AE$46))))","v":""},{"$f":"IF($A59=\"\",\"\",IF(IF(SUMIF('100m Manikin Tow Men'!$C$7:$C$46,$A59,'100m Manikin Tow Men'!$AE$7:$AE$46)=0,1+MAX('100m Manikin Tow Men'!$AE$7:$AE$46),SUMIF('100m Manikin Tow Men'!$C$7:$C$46,$A59,'100m Manikin Tow Men'!$AE$7:$AE$46))>2+MAX('100m Manikin Tow Men'!$AE$7:$AE$46),MAX('100m Manikin Tow Men'!$AE$7:$AE$46),IF(SUMIF('100m Manikin Tow Men'!$C$7:$C$46,$A59,'100m Manikin Tow Men'!$AE$7:$AE$46)=0,1+MAX('100m Manikin Tow Men'!$AE$7:$AE$46),SUMIF('100m Manikin Tow Men'!$C$7:$C$46,$A59,'100m Manikin Tow Men'!$AE$7:$AE$46))))","v":""},{"$f":"IF($A59=\"\",\"\",IF(IF(SUMIF('200m Obs Men'!$C$7:$C$46,$A59,'200m Obs Men'!$AE$7:$AE$46)=0,1+MAX('200m Obs Men'!$AE$7:$AE$46),SUMIF('200m Obs Men'!$C$7:$C$46,$A59,'200m Obs Men'!$AE$7:$AE$46))>2+MAX('200m Obs Men'!$AE$7:$AE$46),MAX('200m Obs Men'!$AE$7:$AE$46),IF(SUMIF('200m Obs Men'!$C$7:$C$46,$A59,'200m Obs Men'!$AE$7:$AE$46)=0,1+MAX('200m Obs Men'!$AE$7:$AE$46),SUMIF('200m Obs Men'!$C$7:$C$46,$A59,'200m Obs Men'!$AE$7:$AE$46))))","v":""},{"$f":"IF($A59=\"\",\"\",IF(IF(SUMIF('200m Super Men'!$C$7:$C$46,$A59,'200m Super Men'!$AE$7:$AE$46)=0,1+MAX('200m Super Men'!$AE$7:$AE$46),SUMIF('200m Super Men'!$C$7:$C$46,$A59,'200m Super Men'!$AE$7:$AE$46))>2+MAX('200m Super Men'!$AE$7:$AE$46),MAX('200m Super Men'!$AE$7:$AE$46),IF(SUMIF('200m Super Men'!$C$7:$C$46,$A59,'200m Super Men'!$AE$7:$AE$46)=0,1+MAX('200m Super Men'!$AE$7:$AE$46),SUMIF('200m Super Men'!$C$7:$C$46,$A59,'200m Super Men'!$AE$7:$AE$46))))","v":""},{"$f":"IF($A59=\"\",\"\",IF(IF(SUMIF('100 Resue Men'!$C$7:$C$46,$A59,'100 Resue Men'!$AE$7:$AE$46)=0,1+MAX('100 Resue Men'!$AE$7:$AE$46),SUMIF('100 Resue Men'!$C$7:$C$46,$A59,'100 Resue Men'!$AE$7:$AE$46))>2+MAX('100 Resue Men'!$AE$7:$AE$46),MAX('100 Resue Men'!$AE$7:$AE$46),IF(SUMIF('100 Resue Men'!$C$7:$C$46,$A59,'100 Resue Men'!$AE$7:$AE$46)=0,1+MAX('100 Resue Men'!$AE$7:$AE$46),SUMIF('100 Resue Men'!$C$7:$C$46,$A59,'100 Resue Men'!$AE$7:$AE$46))))","v":""},{"$f":"IF($A59=\"\",\"\",IF(IF(SUMIF('Line Throw Men'!$C$7:$C$46,$A59,'Line Throw Men'!$AG$7:$AG$46)=0,MAX('Line Throw Men'!$AG$7:$AG$46),SUMIF('Line Throw Men'!$C$7:$C$46,$A59,'Line Throw Men'!$AG$7:$AG$46))>2+MAX('Line Throw Men'!$AG$7:$AG$46),MAX('Line Throw Men'!$AG$7:$AG$46),IF(SUMIF('Line Throw Men'!$C$7:$C$46,$A59,'Line Throw Men'!$AG$7:$AG$46)=0,1+MAX('Line Throw Men'!$AG$7:$AG$46),SUMIF('Line Throw Men'!$C$7:$C$46,$A59,'Line Throw Men'!$AG$7:$AG$46))))","v":""},{"$f":"IF($A59=\"\",\"\",IF(IF(SUMIF('4 x 50 Obs Relay Men'!$C$7:$C$46,$A59,'4 x 50 Obs Relay Men'!$AJ$7:$AJ$46)=0,1+MAX('4 x 50 Obs Relay Men'!$AJ$7:$AJ$46),SUMIF('4 x 50 Obs Relay Men'!$C$7:$C$46,$A59,'4 x 50 Obs Relay Men'!$AJ$7:$AJ$46))>2+MAX('4 x 50 Obs Relay Men'!$AJ$7:$AJ$46),MAX('4 x 50 Obs Relay Men'!$AJ$7:$AJ$46),IF(SUMIF('4 x 50 Obs Relay Men'!$C$7:$C$46,$A59,'4 x 50 Obs Relay Men'!$AJ$7:$AJ$46)=0,1+MAX('4 x 50 Obs Relay Men'!$AJ$7:$AJ$46),SUMIF('4 x 50 Obs Relay Men'!$C$7:$C$46,$A59,'4 x 50 Obs Relay Men'!$AJ$7:$AJ$46))))","v":""},{"$f":"IF($A59=\"\",\"\",IF(IF(SUMIF('4 x 50 medley Relay Men'!$C$7:$C$46,$A59,'4 x 50 medley Relay Men'!$AJ$7:$AJ$46)=0,1+MAX('4 x 50 medley Relay Men'!$AJ$7:$AJ$46),SUMIF('4 x 50 medley Relay Men'!$C$7:$C$46,$A59,'4 x 50 medley Relay Men'!$AJ$7:$AJ$46))>2+MAX('4 x 50 medley Relay Men'!$AJ$7:$AJ$46),MAX('4 x 50 medley Relay Men'!$AJ$7:$AJ$46),IF(SUMIF('4 x 50 medley Relay Men'!$C$7:$C$46,$A59,'4 x 50 medley Relay Men'!$AJ$7:$AJ$46)=0,1+MAX('4 x 50 medley Relay Men'!$AJ$7:$AJ$46),SUMIF('4 x 50 medley Relay Men'!$C$7:$C$46,$A59,'4 x 50 medley Relay Men'!$AJ$7:$AJ$46))))","v":""},{"$f":"IF($A59=\"\",\"\",IF(IF(SUMIF('4 x 25 Manikin Carry Relay Men'!$C$7:$C$46,$A59,'4 x 25 Manikin Carry Relay Men'!$AJ$7:$AJ$46)=0,1+MAX('4 x 25 Manikin Carry Relay Men'!$AJ$7:$AJ$46),SUMIF('4 x 25 Manikin Carry Relay Men'!$C$7:$C$46,$A59,'4 x 25 Manikin Carry Relay Men'!$AJ$7:$AJ$46))>2+MAX('4 x 25 Manikin Carry Relay Men'!$AJ$7:$AJ$46),MAX('4 x 25 Manikin Carry Relay Men'!$AJ$7:$AJ$46),IF(SUMIF('4 x 25 Manikin Carry Relay Men'!$C$7:$C$46,$A59,'4 x 25 Manikin Carry Relay Men'!$AJ$7:$AJ$46)=0,1+MAX('4 x 25 Manikin Carry Relay Men'!$AJ$7:$AJ$46),SUMIF('4 x 25 Manikin Carry Relay Men'!$C$7:$C$46,$A59,'4 x 25 Manikin Carry Relay Men'!$AJ$7:$AJ$46))))","v":""},{"$f":"IF($A59=\"\",\"\",IF(IF(SUMIF('Line Throw Relay Men'!$C$7:$C$46,$A59,'Line Throw Relay Men'!$AJ$7:$AJ$46)=0,1+MAX('Line Throw Relay Men'!$AJ$7:$AJ$46),SUMIF('Line Throw Relay Men'!$C$7:$C$46,$A59,'Line Throw Relay Men'!$AJ$7:$AJ$46))>2+MAX('Line Throw Relay Men'!$AJ$7:$AJ$46),MAX('Line Throw Relay Men'!$AJ$7:$AJ$46),IF(SUMIF('Line Throw Relay Men'!$C$7:$C$46,$A59,'Line Throw Relay Men'!$AJ$7:$AJ$46)=0,1+MAX('Line Throw Relay Men'!$AJ$7:$AJ$46),SUMIF('Line Throw Relay Men'!$C$7:$C$46,$A59,'Line Throw Relay Men'!$AJ$7:$AJ$46))))","v":""},"",""]
["","",{"$f":"IF($A60=\"\",\"\",IF(IF(SUMIF('50m Manikin Carry Men'!$C$7:$C$46,$A60,'50m Manikin Carry Men'!$AE$7:$AE$46)=0,1+MAX('50m Manikin Carry Men'!$AE$7:$AE$46),SUMIF('50m Manikin Carry Men'!$C$7:$C$46,$A60,'50m Manikin Carry Men'!$AE$7:$AE$46))>MAX('50m Manikin Carry Men'!$AE$7:$AE$46)+2,MAX('50m Manikin Carry Men'!$AE$7:$AE$46),IF(SUMIF('50m Manikin Carry Men'!$C$7:$C$46,$A60,'50m Manikin Carry Men'!$AE$7:$AE$46)=0,1+MAX('50m Manikin Carry Men'!$AE$7:$AE$46),SUMIF('50m Manikin Carry Men'!$C$7:$C$46,$A60,'50m Manikin Carry Men'!$AE$7:$AE$46))))","v":""},{"$f":"IF($A60=\"\",\"\",IF(IF(SUMIF('100m Manikin Carry Men'!$C$7:$C$46,$A60,'100m Manikin Carry Men'!$AE$7:$AE$46)=0,1+MAX('100m Manikin Carry Men'!$AE$7:$AE$46),SUMIF('100m Manikin Carry Men'!$C$7:$C$46,$A60,'100m Manikin Carry Men'!$AE$7:$AE$46))>2+MAX('100m Manikin Carry Men'!$AE$7:$AE$46),MAX('100m Manikin Carry Men'!$AE$7:$AE$46),IF(SUMIF('100m Manikin Carry Men'!$C$7:$C$46,$A60,'100m Manikin Carry Men'!$AE$7:$AE$46)=0,1+MAX('100m Manikin Carry Men'!$AE$7:$AE$46),SUMIF('100m Manikin Carry Men'!$C$7:$C$46,$A60,'100m Manikin Carry Men'!$AE$7:$AE$46))))","v":""},{"$f":"IF($A60=\"\",\"\",IF(IF(SUMIF('100m Manikin Tow Men'!$C$7:$C$46,$A60,'100m Manikin Tow Men'!$AE$7:$AE$46)=0,1+MAX('100m Manikin Tow Men'!$AE$7:$AE$46),SUMIF('100m Manikin Tow Men'!$C$7:$C$46,$A60,'100m Manikin Tow Men'!$AE$7:$AE$46))>2+MAX('100m Manikin Tow Men'!$AE$7:$AE$46),MAX('100m Manikin Tow Men'!$AE$7:$AE$46),IF(SUMIF('100m Manikin Tow Men'!$C$7:$C$46,$A60,'100m Manikin Tow Men'!$AE$7:$AE$46)=0,1+MAX('100m Manikin Tow Men'!$AE$7:$AE$46),SUMIF('100m Manikin Tow Men'!$C$7:$C$46,$A60,'100m Manikin Tow Men'!$AE$7:$AE$46))))","v":""},{"$f":"IF($A60=\"\",\"\",IF(IF(SUMIF('200m Obs Men'!$C$7:$C$46,$A60,'200m Obs Men'!$AE$7:$AE$46)=0,1+MAX('200m Obs Men'!$AE$7:$AE$46),SUMIF('200m Obs Men'!$C$7:$C$46,$A60,'200m Obs Men'!$AE$7:$AE$46))>2+MAX('200m Obs Men'!$AE$7:$AE$46),MAX('200m Obs Men'!$AE$7:$AE$46),IF(SUMIF('200m Obs Men'!$C$7:$C$46,$A60,'200m Obs Men'!$AE$7:$AE$46)=0,1+MAX('200m Obs Men'!$AE$7:$AE$46),SUMIF('200m Obs Men'!$C$7:$C$46,$A60,'200m Obs Men'!$AE$7:$AE$46))))","v":""},{"$f":"IF($A60=\"\",\"\",IF(IF(SUMIF('200m Super Men'!$C$7:$C$46,$A60,'200m Super Men'!$AE$7:$AE$46)=0,1+MAX('200m Super Men'!$AE$7:$AE$46),SUMIF('200m Super Men'!$C$7:$C$46,$A60,'200m Super Men'!$AE$7:$AE$46))>2+MAX('200m Super Men'!$AE$7:$AE$46),MAX('200m Super Men'!$AE$7:$AE$46),IF(SUMIF('200m Super Men'!$C$7:$C$46,$A60,'200m Super Men'!$AE$7:$AE$46)=0,1+MAX('200m Super Men'!$AE$7:$AE$46),SUMIF('200m Super Men'!$C$7:$C$46,$A60,'200m Super Men'!$AE$7:$AE$46))))","v":""},{"$f":"IF($A60=\"\",\"\",IF(IF(SUMIF('100 Resue Men'!$C$7:$C$46,$A60,'100 Resue Men'!$AE$7:$AE$46)=0,1+MAX('100 Resue Men'!$AE$7:$AE$46),SUMIF('100 Resue Men'!$C$7:$C$46,$A60,'100 Resue Men'!$AE$7:$AE$46))>2+MAX('100 Resue Men'!$AE$7:$AE$46),MAX('100 Resue Men'!$AE$7:$AE$46),IF(SUMIF('100 Resue Men'!$C$7:$C$46,$A60,'100 Resue Men'!$AE$7:$AE$46)=0,1+MAX('100 Resue Men'!$AE$7:$AE$46),SUMIF('100 Resue Men'!$C$7:$C$46,$A60,'100 Resue Men'!$AE$7:$AE$46))))","v":""},{"$f":"IF($A60=\"\",\"\",IF(IF(SUMIF('Line Throw Men'!$C$7:$C$46,$A60,'Line Throw Men'!$AG$7:$AG$46)=0,MAX('Line Throw Men'!$AG$7:$AG$46),SUMIF('Line Throw Men'!$C$7:$C$46,$A60,'Line Throw Men'!$AG$7:$AG$46))>2+MAX('Line Throw Men'!$AG$7:$AG$46),MAX('Line Throw Men'!$AG$7:$AG$46),IF(SUMIF('Line Throw Men'!$C$7:$C$46,$A60,'Line Throw Men'!$AG$7:$AG$46)=0,1+MAX('Line Throw Men'!$AG$7:$AG$46),SUMIF('Line Throw Men'!$C$7:$C$46,$A60,'Line Throw Men'!$AG$7:$AG$46))))","v":""},{"$f":"IF($A60=\"\",\"\",IF(IF(SUMIF('4 x 50 Obs Relay Men'!$C$7:$C$46,$A60,'4 x 50 Obs Relay Men'!$AJ$7:$AJ$46)=0,1+MAX('4 x 50 Obs Relay Men'!$AJ$7:$AJ$46),SUMIF('4 x 50 Obs Relay Men'!$C$7:$C$46,$A60,'4 x 50 Obs Relay Men'!$AJ$7:$AJ$46))>2+MAX('4 x 50 Obs Relay Men'!$AJ$7:$AJ$46),MAX('4 x 50 Obs Relay Men'!$AJ$7:$AJ$46),IF(SUMIF('4 x 50 Obs Relay Men'!$C$7:$C$46,$A60,'4 x 50 Obs Relay Men'!$AJ$7:$AJ$46)=0,1+MAX('4 x 50 Obs Relay Men'!$AJ$7:$AJ$46),SUMIF('4 x 50 Obs Relay Men'!$C$7:$C$46,$A60,'4 x 50 Obs Relay Men'!$AJ$7:$AJ$46))))","v":""},{"$f":"IF($A60=\"\",\"\",IF(IF(SUMIF('4 x 50 medley Relay Men'!$C$7:$C$46,$A60,'4 x 50 medley Relay Men'!$AJ$7:$AJ$46)=0,1+MAX('4 x 50 medley Relay Men'!$AJ$7:$AJ$46),SUMIF('4 x 50 medley Relay Men'!$C$7:$C$46,$A60,'4 x 50 medley Relay Men'!$AJ$7:$AJ$46))>2+MAX('4 x 50 medley Relay Men'!$AJ$7:$AJ$46),MAX('4 x 50 medley Relay Men'!$AJ$7:$AJ$46),IF(SUMIF('4 x 50 medley Relay Men'!$C$7:$C$46,$A60,'4 x 50 medley Relay Men'!$AJ$7:$AJ$46)=0,1+MAX('4 x 50 medley Relay Men'!$AJ$7:$AJ$46),SUMIF('4 x 50 medley Relay Men'!$C$7:$C$46,$A60,'4 x 50 medley Relay Men'!$AJ$7:$AJ$46))))","v":""},{"$f":"IF($A60=\"\",\"\",IF(IF(SUMIF('4 x 25 Manikin Carry Relay Men'!$C$7:$C$46,$A60,'4 x 25 Manikin Carry Relay Men'!$AJ$7:$AJ$46)=0,1+MAX('4 x 25 Manikin Carry Relay Men'!$AJ$7:$AJ$46),SUMIF('4 x 25 Manikin Carry Relay Men'!$C$7:$C$46,$A60,'4 x 25 Manikin Carry Relay Men'!$AJ$7:$AJ$46))>2+MAX('4 x 25 Manikin Carry Relay Men'!$AJ$7:$AJ$46),MAX('4 x 25 Manikin Carry Relay Men'!$AJ$7:$AJ$46),IF(SUMIF('4 x 25 Manikin Carry Relay Men'!$C$7:$C$46,$A60,'4 x 25 Manikin Carry Relay Men'!$AJ$7:$AJ$46)=0,1+MAX('4 x 25 Manikin Carry Relay Men'!$AJ$7:$AJ$46),SUMIF('4 x 25 Manikin Carry Relay Men'!$C$7:$C$46,$A60,'4 x 25 Manikin Carry Relay Men'!$AJ$7:$AJ$46))))","v":""},{"$f":"IF($A60=\"\",\"\",IF(IF(SUMIF('Line Throw Relay Men'!$C$7:$C$46,$A60,'Line Throw Relay Men'!$AJ$7:$AJ$46)=0,1+MAX('Line Throw Relay Men'!$AJ$7:$AJ$46),SUMIF('Line Throw Relay Men'!$C$7:$C$46,$A60,'Line Throw Relay Men'!$AJ$7:$AJ$46))>2+MAX('Line Throw Relay Men'!$AJ$7:$AJ$46),MAX('Line Throw Relay Men'!$AJ$7:$AJ$46),IF(SUMIF('Line Throw Relay Men'!$C$7:$C$46,$A60,'Line Throw Relay Men'!$AJ$7:$AJ$46)=0,1+MAX('Line Throw Relay Men'!$AJ$7:$AJ$46),SUMIF('Line Throw Relay Men'!$C$7:$C$46,$A60,'Line Throw Relay Men'!$AJ$7:$AJ$46))))","v":""},"",""]
["","",{"$f":"IF($A61=\"\",\"\",IF(IF(SUMIF('50m Manikin Carry Men'!$C$7:$C$46,$A61,'50m Manikin Carry Men'!$AE$7:$AE$46)=0,1+MAX('50m Manikin Carry Men'!$AE$7:$AE$46),SUMIF('50m Manikin Carry Men'!$C$7:$C$46,$A61,'50m Manikin Carry Men'!$AE$7:$AE$46))>MAX('50m Manikin Carry Men'!$AE$7:$AE$46)+2,MAX('50m Manikin Carry Men'!$AE$7:$AE$46),IF(SUMIF('50m Manikin Carry Men'!$C$7:$C$46,$A61,'50m Manikin Carry Men'!$AE$7:$AE$46)=0,1+MAX('50m Manikin Carry Men'!$AE$7:$AE$46),SUMIF('50m Manikin Carry Men'!$C$7:$C$46,$A61,'50m Manikin Carry Men'!$AE$7:$AE$46))))","v":""},{"$f":"IF($A61=\"\",\"\",IF(IF(SUMIF('100m Manikin Carry Men'!$C$7:$C$46,$A61,'100m Manikin Carry Men'!$AE$7:$AE$46)=0,1+MAX('100m Manikin Carry Men'!$AE$7:$AE$46),SUMIF('100m Manikin Carry Men'!$C$7:$C$46,$A61,'100m Manikin Carry Men'!$AE$7:$AE$46))>2+MAX('100m Manikin Carry Men'!$AE$7:$AE$46),MAX('100m Manikin Carry Men'!$AE$7:$AE$46),IF(SUMIF('100m Manikin Carry Men'!$C$7:$C$46,$A61,'100m Manikin Carry Men'!$AE$7:$AE$46)=0,1+MAX('100m Manikin Carry Men'!$AE$7:$AE$46),SUMIF('100m Manikin Carry Men'!$C$7:$C$46,$A61,'100m Manikin Carry Men'!$AE$7:$AE$46))))","v":""},{"$f":"IF($A61=\"\",\"\",IF(IF(SUMIF('100m Manikin Tow Men'!$C$7:$C$46,$A61,'100m Manikin Tow Men'!$AE$7:$AE$46)=0,1+MAX('100m Manikin Tow Men'!$AE$7:$AE$46),SUMIF('100m Manikin Tow Men'!$C$7:$C$46,$A61,'100m Manikin Tow Men'!$AE$7:$AE$46))>2+MAX('100m Manikin Tow Men'!$AE$7:$AE$46),MAX('100m Manikin Tow Men'!$AE$7:$AE$46),IF(SUMIF('100m Manikin Tow Men'!$C$7:$C$46,$A61,'100m Manikin Tow Men'!$AE$7:$AE$46)=0,1+MAX('100m Manikin Tow Men'!$AE$7:$AE$46),SUMIF('100m Manikin Tow Men'!$C$7:$C$46,$A61,'100m Manikin Tow Men'!$AE$7:$AE$46))))","v":""},{"$f":"IF($A61=\"\",\"\",IF(IF(SUMIF('200m Obs Men'!$C$7:$C$46,$A61,'200m Obs Men'!$AE$7:$AE$46)=0,1+MAX('200m Obs Men'!$AE$7:$AE$46),SUMIF('200m Obs Men'!$C$7:$C$46,$A61,'200m Obs Men'!$AE$7:$AE$46))>2+MAX('200m Obs Men'!$AE$7:$AE$46),MAX('200m Obs Men'!$AE$7:$AE$46),IF(SUMIF('200m Obs Men'!$C$7:$C$46,$A61,'200m Obs Men'!$AE$7:$AE$46)=0,1+MAX('200m Obs Men'!$AE$7:$AE$46),SUMIF('200m Obs Men'!$C$7:$C$46,$A61,'200m Obs Men'!$AE$7:$AE$46))))","v":""},{"$f":"IF($A61=\"\",\"\",IF(IF(SUMIF('200m Super Men'!$C$7:$C$46,$A61,'200m Super Men'!$AE$7:$AE$46)=0,1+MAX('200m Super Men'!$AE$7:$AE$46),SUMIF('200m Super Men'!$C$7:$C$46,$A61,'200m Super Men'!$AE$7:$AE$46))>2+MAX('200m Super Men'!$AE$7:$AE$46),MAX('200m Super Men'!$AE$7:$AE$46),IF(SUMIF('200m Super Men'!$C$7:$C$46,$A61,'200m Super Men'!$AE$7:$AE$46)=0,1+MAX('200m Super Men'!$AE$7:$AE$46),SUMIF('200m Super Men'!$C$7:$C$46,$A61,'200m Super Men'!$AE$7:$AE$46))))","v":""},{"$f":"IF($A61=\"\",\"\",IF(IF(SUMIF('100 Resue Men'!$C$7:$C$46,$A61,'100 Resue Men'!$AE$7:$AE$46)=0,1+MAX('100 Resue Men'!$AE$7:$AE$46),SUMIF('100 Resue Men'!$C$7:$C$46,$A61,'100 Resue Men'!$AE$7:$AE$46))>2+MAX('100 Resue Men'!$AE$7:$AE$46),MAX('100 Resue Men'!$AE$7:$AE$46),IF(SUMIF('100 Resue Men'!$C$7:$C$46,$A61,'100 Resue Men'!$AE$7:$AE$46)=0,1+MAX('100 Resue Men'!$AE$7:$AE$46),SUMIF('100 Resue Men'!$C$7:$C$46,$A61,'100 Resue Men'!$AE$7:$AE$46))))","v":""},{"$f":"IF($A61=\"\",\"\",IF(IF(SUMIF('Line Throw Men'!$C$7:$C$46,$A61,'Line Throw Men'!$AG$7:$AG$46)=0,MAX('Line Throw Men'!$AG$7:$AG$46),SUMIF('Line Throw Men'!$C$7:$C$46,$A61,'Line Throw Men'!$AG$7:$AG$46))>2+MAX('Line Throw Men'!$AG$7:$AG$46),MAX('Line Throw Men'!$AG$7:$AG$46),IF(SUMIF('Line Throw Men'!$C$7:$C$46,$A61,'Line Throw Men'!$AG$7:$AG$46)=0,1+MAX('Line Throw Men'!$AG$7:$AG$46),SUMIF('Line Throw Men'!$C$7:$C$46,$A61,'Line Throw Men'!$AG$7:$AG$46))))","v":""},{"$f":"IF($A61=\"\",\"\",IF(IF(SUMIF('4 x 50 Obs Relay Men'!$C$7:$C$46,$A61,'4 x 50 Obs Relay Men'!$AJ$7:$AJ$46)=0,1+MAX('4 x 50 Obs Relay Men'!$AJ$7:$AJ$46),SUMIF('4 x 50 Obs Relay Men'!$C$7:$C$46,$A61,'4 x 50 Obs Relay Men'!$AJ$7:$AJ$46))>2+MAX('4 x 50 Obs Relay Men'!$AJ$7:$AJ$46),MAX('4 x 50 Obs Relay Men'!$AJ$7:$AJ$46),IF(SUMIF('4 x 50 Obs Relay Men'!$C$7:$C$46,$A61,'4 x 50 Obs Relay Men'!$AJ$7:$AJ$46)=0,1+MAX('4 x 50 Obs Relay Men'!$AJ$7:$AJ$46),SUMIF('4 x 50 Obs Relay Men'!$C$7:$C$46,$A61,'4 x 50 Obs Relay Men'!$AJ$7:$AJ$46))))","v":""},{"$f":"IF($A61=\"\",\"\",IF(IF(SUMIF('4 x 50 medley Relay Men'!$C$7:$C$46,$A61,'4 x 50 medley Relay Men'!$AJ$7:$AJ$46)=0,1+MAX('4 x 50 medley Relay Men'!$AJ$7:$AJ$46),SUMIF('4 x 50 medley Relay Men'!$C$7:$C$46,$A61,'4 x 50 medley Relay Men'!$AJ$7:$AJ$46))>2+MAX('4 x 50 medley Relay Men'!$AJ$7:$AJ$46),MAX('4 x 50 medley Relay Men'!$AJ$7:$AJ$46),IF(SUMIF('4 x 50 medley Relay Men'!$C$7:$C$46,$A61,'4 x 50 medley Relay Men'!$AJ$7:$AJ$46)=0,1+MAX('4 x 50 medley Relay Men'!$AJ$7:$AJ$46),SUMIF('4 x 50 medley Relay Men'!$C$7:$C$46,$A61,'4 x 50 medley Relay Men'!$AJ$7:$AJ$46))))","v":""},{"$f":"IF($A61=\"\",\"\",IF(IF(SUMIF('4 x 25 Manikin Carry Relay Men'!$C$7:$C$46,$A61,'4 x 25 Manikin Carry Relay Men'!$AJ$7:$AJ$46)=0,1+MAX('4 x 25 Manikin Carry Relay Men'!$AJ$7:$AJ$46),SUMIF('4 x 25 Manikin Carry Relay Men'!$C$7:$C$46,$A61,'4 x 25 Manikin Carry Relay Men'!$AJ$7:$AJ$46))>2+MAX('4 x 25 Manikin Carry Relay Men'!$AJ$7:$AJ$46),MAX('4 x 25 Manikin Carry Relay Men'!$AJ$7:$AJ$46),IF(SUMIF('4 x 25 Manikin Carry Relay Men'!$C$7:$C$46,$A61,'4 x 25 Manikin Carry Relay Men'!$AJ$7:$AJ$46)=0,1+MAX('4 x 25 Manikin Carry Relay Men'!$AJ$7:$AJ$46),SUMIF('4 x 25 Manikin Carry Relay Men'!$C$7:$C$46,$A61,'4 x 25 Manikin Carry Relay Men'!$AJ$7:$AJ$46))))","v":""},{"$f":"IF($A61=\"\",\"\",IF(IF(SUMIF('Line Throw Relay Men'!$C$7:$C$46,$A61,'Line Throw Relay Men'!$AJ$7:$AJ$46)=0,1+MAX('Line Throw Relay Men'!$AJ$7:$AJ$46),SUMIF('Line Throw Relay Men'!$C$7:$C$46,$A61,'Line Throw Relay Men'!$AJ$7:$AJ$46))>2+MAX('Line Throw Relay Men'!$AJ$7:$AJ$46),MAX('Line Throw Relay Men'!$AJ$7:$AJ$46),IF(SUMIF('Line Throw Relay Men'!$C$7:$C$46,$A61,'Line Throw Relay Men'!$AJ$7:$AJ$46)=0,1+MAX('Line Throw Relay Men'!$AJ$7:$AJ$46),SUMIF('Line Throw Relay Men'!$C$7:$C$46,$A61,'Line Throw Relay Men'!$AJ$7:$AJ$46))))","v":""},"",""]
["","",{"$f":"IF($A62=\"\",\"\",IF(IF(SUMIF('50m Manikin Carry Men'!$C$7:$C$46,$A62,'50m Manikin Carry Men'!$AE$7:$AE$46)=0,1+MAX('50m Manikin Carry Men'!$AE$7:$AE$46),SUMIF('50m Manikin Carry Men'!$C$7:$C$46,$A62,'50m Manikin Carry Men'!$AE$7:$AE$46))>MAX('50m Manikin Carry Men'!$AE$7:$AE$46)+2,MAX('50m Manikin Carry Men'!$AE$7:$AE$46),IF(SUMIF('50m Manikin Carry Men'!$C$7:$C$46,$A62,'50m Manikin Carry Men'!$AE$7:$AE$46)=0,1+MAX('50m Manikin Carry Men'!$AE$7:$AE$46),SUMIF('50m Manikin Carry Men'!$C$7:$C$46,$A62,'50m Manikin Carry Men'!$AE$7:$AE$46))))","v":""},{"$f":"IF($A62=\"\",\"\",IF(IF(SUMIF('100m Manikin Carry Men'!$C$7:$C$46,$A62,'100m Manikin Carry Men'!$AE$7:$AE$46)=0,1+MAX('100m Manikin Carry Men'!$AE$7:$AE$46),SUMIF('100m Manikin Carry Men'!$C$7:$C$46,$A62,'100m Manikin Carry Men'!$AE$7:$AE$46))>2+MAX('100m Manikin Carry Men'!$AE$7:$AE$46),MAX('100m Manikin Carry Men'!$AE$7:$AE$46),IF(SUMIF('100m Manikin Carry Men'!$C$7:$C$46,$A62,'100m Manikin Carry Men'!$AE$7:$AE$46)=0,1+MAX('100m Manikin Carry Men'!$AE$7:$AE$46),SUMIF('100m Manikin Carry Men'!$C$7:$C$46,$A62,'100m Manikin Carry Men'!$AE$7:$AE$46))))","v":""},{"$f":"IF($A62=\"\",\"\",IF(IF(SUMIF('100m Manikin Tow Men'!$C$7:$C$46,$A62,'100m Manikin Tow Men'!$AE$7:$AE$46)=0,1+MAX('100m Manikin Tow Men'!$AE$7:$AE$46),SUMIF('100m Manikin Tow Men'!$C$7:$C$46,$A62,'100m Manikin Tow Men'!$AE$7:$AE$46))>2+MAX('100m Manikin Tow Men'!$AE$7:$AE$46),MAX('100m Manikin Tow Men'!$AE$7:$AE$46),IF(SUMIF('100m Manikin Tow Men'!$C$7:$C$46,$A62,'100m Manikin Tow Men'!$AE$7:$AE$46)=0,1+MAX('100m Manikin Tow Men'!$AE$7:$AE$46),SUMIF('100m Manikin Tow Men'!$C$7:$C$46,$A62,'100m Manikin Tow Men'!$AE$7:$AE$46))))","v":""},{"$f":"IF($A62=\"\",\"\",IF(IF(SUMIF('200m Obs Men'!$C$7:$C$46,$A62,'200m Obs Men'!$AE$7:$AE$46)=0,1+MAX('200m Obs Men'!$AE$7:$AE$46),SUMIF('200m Obs Men'!$C$7:$C$46,$A62,'200m Obs Men'!$AE$7:$AE$46))>2+MAX('200m Obs Men'!$AE$7:$AE$46),MAX('200m Obs Men'!$AE$7:$AE$46),IF(SUMIF('200m Obs Men'!$C$7:$C$46,$A62,'200m Obs Men'!$AE$7:$AE$46)=0,1+MAX('200m Obs Men'!$AE$7:$AE$46),SUMIF('200m Obs Men'!$C$7:$C$46,$A62,'200m Obs Men'!$AE$7:$AE$46))))","v":""},{"$f":"IF($A62=\"\",\"\",IF(IF(SUMIF('200m Super Men'!$C$7:$C$46,$A62,'200m Super Men'!$AE$7:$AE$46)=0,1+MAX('200m Super Men'!$AE$7:$AE$46),SUMIF('200m Super Men'!$C$7:$C$46,$A62,'200m Super Men'!$AE$7:$AE$46))>2+MAX('200m Super Men'!$AE$7:$AE$46),MAX('200m Super Men'!$AE$7:$AE$46),IF(SUMIF('200m Super Men'!$C$7:$C$46,$A62,'200m Super Men'!$AE$7:$AE$46)=0,1+MAX('200m Super Men'!$AE$7:$AE$46),SUMIF('200m Super Men'!$C$7:$C$46,$A62,'200m Super Men'!$AE$7:$AE$46))))","v":""},{"$f":"IF($A62=\"\",\"\",IF(IF(SUMIF('100 Resue Men'!$C$7:$C$46,$A62,'100 Resue Men'!$AE$7:$AE$46)=0,1+MAX('100 Resue Men'!$AE$7:$AE$46),SUMIF('100 Resue Men'!$C$7:$C$46,$A62,'100 Resue Men'!$AE$7:$AE$46))>2+MAX('100 Resue Men'!$AE$7:$AE$46),MAX('100 Resue Men'!$AE$7:$AE$46),IF(SUMIF('100 Resue Men'!$C$7:$C$46,$A62,'100 Resue Men'!$AE$7:$AE$46)=0,1+MAX('100 Resue Men'!$AE$7:$AE$46),SUMIF('100 Resue Men'!$C$7:$C$46,$A62,'100 Resue Men'!$AE$7:$AE$46))))","v":""},{"$f":"IF($A62=\"\",\"\",IF(IF(SUMIF('Line Throw Men'!$C$7:$C$46,$A62,'Line Throw Men'!$AG$7:$AG$46)=0,MAX('Line Throw Men'!$AG$7:$AG$46),SUMIF('Line Throw Men'!$C$7:$C$46,$A62,'Line Throw Men'!$AG$7:$AG$46))>2+MAX('Line Throw Men'!$AG$7:$AG$46),MAX('Line Throw Men'!$AG$7:$AG$46),IF(SUMIF('Line Throw Men'!$C$7:$C$46,$A62,'Line Throw Men'!$AG$7:$AG$46)=0,1+MAX('Line Throw Men'!$AG$7:$AG$46),SUMIF('Line Throw Men'!$C$7:$C$46,$A62,'Line Throw Men'!$AG$7:$AG$46))))","v":""},{"$f":"IF($A62=\"\",\"\",IF(IF(SUMIF('4 x 50 Obs Relay Men'!$C$7:$C$46,$A62,'4 x 50 Obs Relay Men'!$AJ$7:$AJ$46)=0,1+MAX('4 x 50 Obs Relay Men'!$AJ$7:$AJ$46),SUMIF('4 x 50 Obs Relay Men'!$C$7:$C$46,$A62,'4 x 50 Obs Relay Men'!$AJ$7:$AJ$46))>2+MAX('4 x 50 Obs Relay Men'!$AJ$7:$AJ$46),MAX('4 x 50 Obs Relay Men'!$AJ$7:$AJ$46),IF(SUMIF('4 x 50 Obs Relay Men'!$C$7:$C$46,$A62,'4 x 50 Obs Relay Men'!$AJ$7:$AJ$46)=0,1+MAX('4 x 50 Obs Relay Men'!$AJ$7:$AJ$46),SUMIF('4 x 50 Obs Relay Men'!$C$7:$C$46,$A62,'4 x 50 Obs Relay Men'!$AJ$7:$AJ$46))))","v":""},{"$f":"IF($A62=\"\",\"\",IF(IF(SUMIF('4 x 50 medley Relay Men'!$C$7:$C$46,$A62,'4 x 50 medley Relay Men'!$AJ$7:$AJ$46)=0,1+MAX('4 x 50 medley Relay Men'!$AJ$7:$AJ$46),SUMIF('4 x 50 medley Relay Men'!$C$7:$C$46,$A62,'4 x 50 medley Relay Men'!$AJ$7:$AJ$46))>2+MAX('4 x 50 medley Relay Men'!$AJ$7:$AJ$46),MAX('4 x 50 medley Relay Men'!$AJ$7:$AJ$46),IF(SUMIF('4 x 50 medley Relay Men'!$C$7:$C$46,$A62,'4 x 50 medley Relay Men'!$AJ$7:$AJ$46)=0,1+MAX('4 x 50 medley Relay Men'!$AJ$7:$AJ$46),SUMIF('4 x 50 medley Relay Men'!$C$7:$C$46,$A62,'4 x 50 medley Relay Men'!$AJ$7:$AJ$46))))","v":""},{"$f":"IF($A62=\"\",\"\",IF(IF(SUMIF('4 x 25 Manikin Carry Relay Men'!$C$7:$C$46,$A62,'4 x 25 Manikin Carry Relay Men'!$AJ$7:$AJ$46)=0,1+MAX('4 x 25 Manikin Carry Relay Men'!$AJ$7:$AJ$46),SUMIF('4 x 25 Manikin Carry Relay Men'!$C$7:$C$46,$A62,'4 x 25 Manikin Carry Relay Men'!$AJ$7:$AJ$46))>2+MAX('4 x 25 Manikin Carry Relay Men'!$AJ$7:$AJ$46),MAX('4 x 25 Manikin Carry Relay Men'!$AJ$7:$AJ$46),IF(SUMIF('4 x 25 Manikin Carry Relay Men'!$C$7:$C$46,$A62,'4 x 25 Manikin Carry Relay Men'!$AJ$7:$AJ$46)=0,1+MAX('4 x 25 Manikin Carry Relay Men'!$AJ$7:$AJ$46),SUMIF('4 x 25 Manikin Carry Relay Men'!$C$7:$C$46,$A62,'4 x 25 Manikin Carry Relay Men'!$AJ$7:$AJ$46))))","v":""},{"$f":"IF($A62=\"\",\"\",IF(IF(SUMIF('Line Throw Relay Men'!$C$7:$C$46,$A62,'Line Throw Relay Men'!$AJ$7:$AJ$46)=0,1+MAX('Line Throw Relay Men'!$AJ$7:$AJ$46),SUMIF('Line Throw Relay Men'!$C$7:$C$46,$A62,'Line Throw Relay Men'!$AJ$7:$AJ$46))>2+MAX('Line Throw Relay Men'!$AJ$7:$AJ$46),MAX('Line Throw Relay Men'!$AJ$7:$AJ$46),IF(SUMIF('Line Throw Relay Men'!$C$7:$C$46,$A62,'Line Throw Relay Men'!$AJ$7:$AJ$46)=0,1+MAX('Line Throw Relay Men'!$AJ$7:$AJ$46),SUMIF('Line Throw Relay Men'!$C$7:$C$46,$A62,'Line Throw Relay Men'!$AJ$7:$AJ$46))))","v":""},"",""]
["","",{"$f":"IF($A63=\"\",\"\",IF(IF(SUMIF('50m Manikin Carry Men'!$C$7:$C$46,$A63,'50m Manikin Carry Men'!$AE$7:$AE$46)=0,1+MAX('50m Manikin Carry Men'!$AE$7:$AE$46),SUMIF('50m Manikin Carry Men'!$C$7:$C$46,$A63,'50m Manikin Carry Men'!$AE$7:$AE$46))>MAX('50m Manikin Carry Men'!$AE$7:$AE$46)+2,MAX('50m Manikin Carry Men'!$AE$7:$AE$46),IF(SUMIF('50m Manikin Carry Men'!$C$7:$C$46,$A63,'50m Manikin Carry Men'!$AE$7:$AE$46)=0,1+MAX('50m Manikin Carry Men'!$AE$7:$AE$46),SUMIF('50m Manikin Carry Men'!$C$7:$C$46,$A63,'50m Manikin Carry Men'!$AE$7:$AE$46))))","v":""},{"$f":"IF($A63=\"\",\"\",IF(IF(SUMIF('100m Manikin Carry Men'!$C$7:$C$46,$A63,'100m Manikin Carry Men'!$AE$7:$AE$46)=0,1+MAX('100m Manikin Carry Men'!$AE$7:$AE$46),SUMIF('100m Manikin Carry Men'!$C$7:$C$46,$A63,'100m Manikin Carry Men'!$AE$7:$AE$46))>2+MAX('100m Manikin Carry Men'!$AE$7:$AE$46),MAX('100m Manikin Carry Men'!$AE$7:$AE$46),IF(SUMIF('100m Manikin Carry Men'!$C$7:$C$46,$A63,'100m Manikin Carry Men'!$AE$7:$AE$46)=0,1+MAX('100m Manikin Carry Men'!$AE$7:$AE$46),SUMIF('100m Manikin Carry Men'!$C$7:$C$46,$A63,'100m Manikin Carry Men'!$AE$7:$AE$46))))","v":""},{"$f":"IF($A63=\"\",\"\",IF(IF(SUMIF('100m Manikin Tow Men'!$C$7:$C$46,$A63,'100m Manikin Tow Men'!$AE$7:$AE$46)=0,1+MAX('100m Manikin Tow Men'!$AE$7:$AE$46),SUMIF('100m Manikin Tow Men'!$C$7:$C$46,$A63,'100m Manikin Tow Men'!$AE$7:$AE$46))>2+MAX('100m Manikin Tow Men'!$AE$7:$AE$46),MAX('100m Manikin Tow Men'!$AE$7:$AE$46),IF(SUMIF('100m Manikin Tow Men'!$C$7:$C$46,$A63,'100m Manikin Tow Men'!$AE$7:$AE$46)=0,1+MAX('100m Manikin Tow Men'!$AE$7:$AE$46),SUMIF('100m Manikin Tow Men'!$C$7:$C$46,$A63,'100m Manikin Tow Men'!$AE$7:$AE$46))))","v":""},{"$f":"IF($A63=\"\",\"\",IF(IF(SUMIF('200m Obs Men'!$C$7:$C$46,$A63,'200m Obs Men'!$AE$7:$AE$46)=0,1+MAX('200m Obs Men'!$AE$7:$AE$46),SUMIF('200m Obs Men'!$C$7:$C$46,$A63,'200m Obs Men'!$AE$7:$AE$46))>2+MAX('200m Obs Men'!$AE$7:$AE$46),MAX('200m Obs Men'!$AE$7:$AE$46),IF(SUMIF('200m Obs Men'!$C$7:$C$46,$A63,'200m Obs Men'!$AE$7:$AE$46)=0,1+MAX('200m Obs Men'!$AE$7:$AE$46),SUMIF('200m Obs Men'!$C$7:$C$46,$A63,'200m Obs Men'!$AE$7:$AE$46))))","v":""},{"$f":"IF($A63=\"\",\"\",IF(IF(SUMIF('200m Super Men'!$C$7:$C$46,$A63,'200m Super Men'!$AE$7:$AE$46)=0,1+MAX('200m Super Men'!$AE$7:$AE$46),SUMIF('200m Super Men'!$C$7:$C$46,$A63,'200m Super Men'!$AE$7:$AE$46))>2+MAX('200m Super Men'!$AE$7:$AE$46),MAX('200m Super Men'!$AE$7:$AE$46),IF(SUMIF('200m Super Men'!$C$7:$C$46,$A63,'200m Super Men'!$AE$7:$AE$46)=0,1+MAX('200m Super Men'!$AE$7:$AE$46),SUMIF('200m Super Men'!$C$7:$C$46,$A63,'200m Super Men'!$AE$7:$AE$46))))","v":""},{"$f":"IF($A63=\"\",\"\",IF(IF(SUMIF('100 Resue Men'!$C$7:$C$46,$A63,'100 Resue Men'!$AE$7:$AE$46)=0,1+MAX('100 Resue Men'!$AE$7:$AE$46),SUMIF('100 Resue Men'!$C$7:$C$46,$A63,'100 Resue Men'!$AE$7:$AE$46))>2+MAX('100 Resue Men'!$AE$7:$AE$46),MAX('100 Resue Men'!$AE$7:$AE$46),IF(SUMIF('100 Resue Men'!$C$7:$C$46,$A63,'100 Resue Men'!$AE$7:$AE$46)=0,1+MAX('100 Resue Men'!$AE$7:$AE$46),SUMIF('100 Resue Men'!$C$7:$C$46,$A63,'100 Resue Men'!$AE$7:$AE$46))))","v":""},{"$f":"IF($A63=\"\",\"\",IF(IF(SUMIF('Line Throw Men'!$C$7:$C$46,$A63,'Line Throw Men'!$AG$7:$AG$46)=0,MAX('Line Throw Men'!$AG$7:$AG$46),SUMIF('Line Throw Men'!$C$7:$C$46,$A63,'Line Throw Men'!$AG$7:$AG$46))>2+MAX('Line Throw Men'!$AG$7:$AG$46),MAX('Line Throw Men'!$AG$7:$AG$46),IF(SUMIF('Line Throw Men'!$C$7:$C$46,$A63,'Line Throw Men'!$AG$7:$AG$46)=0,1+MAX('Line Throw Men'!$AG$7:$AG$46),SUMIF('Line Throw Men'!$C$7:$C$46,$A63,'Line Throw Men'!$AG$7:$AG$46))))","v":""},{"$f":"IF($A63=\"\",\"\",IF(IF(SUMIF('4 x 50 Obs Relay Men'!$C$7:$C$46,$A63,'4 x 50 Obs Relay Men'!$AJ$7:$AJ$46)=0,1+MAX('4 x 50 Obs Relay Men'!$AJ$7:$AJ$46),SUMIF('4 x 50 Obs Relay Men'!$C$7:$C$46,$A63,'4 x 50 Obs Relay Men'!$AJ$7:$AJ$46))>2+MAX('4 x 50 Obs Relay Men'!$AJ$7:$AJ$46),MAX('4 x 50 Obs Relay Men'!$AJ$7:$AJ$46),IF(SUMIF('4 x 50 Obs Relay Men'!$C$7:$C$46,$A63,'4 x 50 Obs Relay Men'!$AJ$7:$AJ$46)=0,1+MAX('4 x 50 Obs Relay Men'!$AJ$7:$AJ$46),SUMIF('4 x 50 Obs Relay Men'!$C$7:$C$46,$A63,'4 x 50 Obs Relay Men'!$AJ$7:$AJ$46))))","v":""},{"$f":"IF($A63=\"\",\"\",IF(IF(SUMIF('4 x 50 medley Relay Men'!$C$7:$C$46,$A63,'4 x 50 medley Relay Men'!$AJ$7:$AJ$46)=0,1+MAX('4 x 50 medley Relay Men'!$AJ$7:$AJ$46),SUMIF('4 x 50 medley Relay Men'!$C$7:$C$46,$A63,'4 x 50 medley Relay Men'!$AJ$7:$AJ$46))>2+MAX('4 x 50 medley Relay Men'!$AJ$7:$AJ$46),MAX('4 x 50 medley Relay Men'!$AJ$7:$AJ$46),IF(SUMIF('4 x 50 medley Relay Men'!$C$7:$C$46,$A63,'4 x 50 medley Relay Men'!$AJ$7:$AJ$46)=0,1+MAX('4 x 50 medley Relay Men'!$AJ$7:$AJ$46),SUMIF('4 x 50 medley Relay Men'!$C$7:$C$46,$A63,'4 x 50 medley Relay Men'!$AJ$7:$AJ$46))))","v":""},{"$f":"IF($A63=\"\",\"\",IF(IF(SUMIF('4 x 25 Manikin Carry Relay Men'!$C$7:$C$46,$A63,'4 x 25 Manikin Carry Relay Men'!$AJ$7:$AJ$46)=0,1+MAX('4 x 25 Manikin Carry Relay Men'!$AJ$7:$AJ$46),SUMIF('4 x 25 Manikin Carry Relay Men'!$C$7:$C$46,$A63,'4 x 25 Manikin Carry Relay Men'!$AJ$7:$AJ$46))>2+MAX('4 x 25 Manikin Carry Relay Men'!$AJ$7:$AJ$46),MAX('4 x 25 Manikin Carry Relay Men'!$AJ$7:$AJ$46),IF(SUMIF('4 x 25 Manikin Carry Relay Men'!$C$7:$C$46,$A63,'4 x 25 Manikin Carry Relay Men'!$AJ$7:$AJ$46)=0,1+MAX('4 x 25 Manikin Carry Relay Men'!$AJ$7:$AJ$46),SUMIF('4 x 25 Manikin Carry Relay Men'!$C$7:$C$46,$A63,'4 x 25 Manikin Carry Relay Men'!$AJ$7:$AJ$46))))","v":""},{"$f":"IF($A63=\"\",\"\",IF(IF(SUMIF('Line Throw Relay Men'!$C$7:$C$46,$A63,'Line Throw Relay Men'!$AJ$7:$AJ$46)=0,1+MAX('Line Throw Relay Men'!$AJ$7:$AJ$46),SUMIF('Line Throw Relay Men'!$C$7:$C$46,$A63,'Line Throw Relay Men'!$AJ$7:$AJ$46))>2+MAX('Line Throw Relay Men'!$AJ$7:$AJ$46),MAX('Line Throw Relay Men'!$AJ$7:$AJ$46),IF(SUMIF('Line Throw Relay Men'!$C$7:$C$46,$A63,'Line Throw Relay Men'!$AJ$7:$AJ$46)=0,1+MAX('Line Throw Relay Men'!$AJ$7:$AJ$46),SUMIF('Line Throw Relay Men'!$C$7:$C$46,$A63,'Line Throw Relay Men'!$AJ$7:$AJ$46))))","v":""},"",""]
["","",{"$f":"IF($A64=\"\",\"\",IF(IF(SUMIF('50m Manikin Carry Men'!$C$7:$C$46,$A64,'50m Manikin Carry Men'!$AE$7:$AE$46)=0,1+MAX('50m Manikin Carry Men'!$AE$7:$AE$46),SUMIF('50m Manikin Carry Men'!$C$7:$C$46,$A64,'50m Manikin Carry Men'!$AE$7:$AE$46))>MAX('50m Manikin Carry Men'!$AE$7:$AE$46)+2,MAX('50m Manikin Carry Men'!$AE$7:$AE$46),IF(SUMIF('50m Manikin Carry Men'!$C$7:$C$46,$A64,'50m Manikin Carry Men'!$AE$7:$AE$46)=0,1+MAX('50m Manikin Carry Men'!$AE$7:$AE$46),SUMIF('50m Manikin Carry Men'!$C$7:$C$46,$A64,'50m Manikin Carry Men'!$AE$7:$AE$46))))","v":""},{"$f":"IF($A64=\"\",\"\",IF(IF(SUMIF('100m Manikin Carry Men'!$C$7:$C$46,$A64,'100m Manikin Carry Men'!$AE$7:$AE$46)=0,1+MAX('100m Manikin Carry Men'!$AE$7:$AE$46),SUMIF('100m Manikin Carry Men'!$C$7:$C$46,$A64,'100m Manikin Carry Men'!$AE$7:$AE$46))>2+MAX('100m Manikin Carry Men'!$AE$7:$AE$46),MAX('100m Manikin Carry Men'!$AE$7:$AE$46),IF(SUMIF('100m Manikin Carry Men'!$C$7:$C$46,$A64,'100m Manikin Carry Men'!$AE$7:$AE$46)=0,1+MAX('100m Manikin Carry Men'!$AE$7:$AE$46),SUMIF('100m Manikin Carry Men'!$C$7:$C$46,$A64,'100m Manikin Carry Men'!$AE$7:$AE$46))))","v":""},{"$f":"IF($A64=\"\",\"\",IF(IF(SUMIF('100m Manikin Tow Men'!$C$7:$C$46,$A64,'100m Manikin Tow Men'!$AE$7:$AE$46)=0,1+MAX('100m Manikin Tow Men'!$AE$7:$AE$46),SUMIF('100m Manikin Tow Men'!$C$7:$C$46,$A64,'100m Manikin Tow Men'!$AE$7:$AE$46))>2+MAX('100m Manikin Tow Men'!$AE$7:$AE$46),MAX('100m Manikin Tow Men'!$AE$7:$AE$46),IF(SUMIF('100m Manikin Tow Men'!$C$7:$C$46,$A64,'100m Manikin Tow Men'!$AE$7:$AE$46)=0,1+MAX('100m Manikin Tow Men'!$AE$7:$AE$46),SUMIF('100m Manikin Tow Men'!$C$7:$C$46,$A64,'100m Manikin Tow Men'!$AE$7:$AE$46))))","v":""},{"$f":"IF($A64=\"\",\"\",IF(IF(SUMIF('200m Obs Men'!$C$7:$C$46,$A64,'200m Obs Men'!$AE$7:$AE$46)=0,1+MAX('200m Obs Men'!$AE$7:$AE$46),SUMIF('200m Obs Men'!$C$7:$C$46,$A64,'200m Obs Men'!$AE$7:$AE$46))>2+MAX('200m Obs Men'!$AE$7:$AE$46),MAX('200m Obs Men'!$AE$7:$AE$46),IF(SUMIF('200m Obs Men'!$C$7:$C$46,$A64,'200m Obs Men'!$AE$7:$AE$46)=0,1+MAX('200m Obs Men'!$AE$7:$AE$46),SUMIF('200m Obs Men'!$C$7:$C$46,$A64,'200m Obs Men'!$AE$7:$AE$46))))","v":""},{"$f":"IF($A64=\"\",\"\",IF(IF(SUMIF('200m Super Men'!$C$7:$C$46,$A64,'200m Super Men'!$AE$7:$AE$46)=0,1+MAX('200m Super Men'!$AE$7:$AE$46),SUMIF('200m Super Men'!$C$7:$C$46,$A64,'200m Super Men'!$AE$7:$AE$46))>2+MAX('200m Super Men'!$AE$7:$AE$46),MAX('200m Super Men'!$AE$7:$AE$46),IF(SUMIF('200m Super Men'!$C$7:$C$46,$A64,'200m Super Men'!$AE$7:$AE$46)=0,1+MAX('200m Super Men'!$AE$7:$AE$46),SUMIF('200m Super Men'!$C$7:$C$46,$A64,'200m Super Men'!$AE$7:$AE$46))))","v":""},{"$f":"IF($A64=\"\",\"\",IF(IF(SUMIF('100 Resue Men'!$C$7:$C$46,$A64,'100 Resue Men'!$AE$7:$AE$46)=0,1+MAX('100 Resue Men'!$AE$7:$AE$46),SUMIF('100 Resue Men'!$C$7:$C$46,$A64,'100 Resue Men'!$AE$7:$AE$46))>2+MAX('100 Resue Men'!$AE$7:$AE$46),MAX('100 Resue Men'!$AE$7:$AE$46),IF(SUMIF('100 Resue Men'!$C$7:$C$46,$A64,'100 Resue Men'!$AE$7:$AE$46)=0,1+MAX('100 Resue Men'!$AE$7:$AE$46),SUMIF('100 Resue Men'!$C$7:$C$46,$A64,'100 Resue Men'!$AE$7:$AE$46))))","v":""},{"$f":"IF($A64=\"\",\"\",IF(IF(SUMIF('Line Throw Men'!$C$7:$C$46,$A64,'Line Throw Men'!$AG$7:$AG$46)=0,MAX('Line Throw Men'!$AG$7:$AG$46),SUMIF('Line Throw Men'!$C$7:$C$46,$A64,'Line Throw Men'!$AG$7:$AG$46))>2+MAX('Line Throw Men'!$AG$7:$AG$46),MAX('Line Throw Men'!$AG$7:$AG$46),IF(SUMIF('Line Throw Men'!$C$7:$C$46,$A64,'Line Throw Men'!$AG$7:$AG$46)=0,1+MAX('Line Throw Men'!$AG$7:$AG$46),SUMIF('Line Throw Men'!$C$7:$C$46,$A64,'Line Throw Men'!$AG$7:$AG$46))))","v":""},{"$f":"IF($A64=\"\",\"\",IF(IF(SUMIF('4 x 50 Obs Relay Men'!$C$7:$C$46,$A64,'4 x 50 Obs Relay Men'!$AJ$7:$AJ$46)=0,1+MAX('4 x 50 Obs Relay Men'!$AJ$7:$AJ$46),SUMIF('4 x 50 Obs Relay Men'!$C$7:$C$46,$A64,'4 x 50 Obs Relay Men'!$AJ$7:$AJ$46))>2+MAX('4 x 50 Obs Relay Men'!$AJ$7:$AJ$46),MAX('4 x 50 Obs Relay Men'!$AJ$7:$AJ$46),IF(SUMIF('4 x 50 Obs Relay Men'!$C$7:$C$46,$A64,'4 x 50 Obs Relay Men'!$AJ$7:$AJ$46)=0,1+MAX('4 x 50 Obs Relay Men'!$AJ$7:$AJ$46),SUMIF('4 x 50 Obs Relay Men'!$C$7:$C$46,$A64,'4 x 50 Obs Relay Men'!$AJ$7:$AJ$46))))","v":""},{"$f":"IF($A64=\"\",\"\",IF(IF(SUMIF('4 x 50 medley Relay Men'!$C$7:$C$46,$A64,'4 x 50 medley Relay Men'!$AJ$7:$AJ$46)=0,1+MAX('4 x 50 medley Relay Men'!$AJ$7:$AJ$46),SUMIF('4 x 50 medley Relay Men'!$C$7:$C$46,$A64,'4 x 50 medley Relay Men'!$AJ$7:$AJ$46))>2+MAX('4 x 50 medley Relay Men'!$AJ$7:$AJ$46),MAX('4 x 50 medley Relay Men'!$AJ$7:$AJ$46),IF(SUMIF('4 x 50 medley Relay Men'!$C$7:$C$46,$A64,'4 x 50 medley Relay Men'!$AJ$7:$AJ$46)=0,1+MAX('4 x 50 medley Relay Men'!$AJ$7:$AJ$46),SUMIF('4 x 50 medley Relay Men'!$C$7:$C$46,$A64,'4 x 50 medley Relay Men'!$AJ$7:$AJ$46))))","v":""},{"$f":"IF($A64=\"\",\"\",IF(IF(SUMIF('4 x 25 Manikin Carry Relay Men'!$C$7:$C$46,$A64,'4 x 25 Manikin Carry Relay Men'!$AJ$7:$AJ$46)=0,1+MAX('4 x 25 Manikin Carry Relay Men'!$AJ$7:$AJ$46),SUMIF('4 x 25 Manikin Carry Relay Men'!$C$7:$C$46,$A64,'4 x 25 Manikin Carry Relay Men'!$AJ$7:$AJ$46))>2+MAX('4 x 25 Manikin Carry Relay Men'!$AJ$7:$AJ$46),MAX('4 x 25 Manikin Carry Relay Men'!$AJ$7:$AJ$46),IF(SUMIF('4 x 25 Manikin Carry Relay Men'!$C$7:$C$46,$A64,'4 x 25 Manikin Carry Relay Men'!$AJ$7:$AJ$46)=0,1+MAX('4 x 25 Manikin Carry Relay Men'!$AJ$7:$AJ$46),SUMIF('4 x 25 Manikin Carry Relay Men'!$C$7:$C$46,$A64,'4 x 25 Manikin Carry Relay Men'!$AJ$7:$AJ$46))))","v":""},{"$f":"IF($A64=\"\",\"\",IF(IF(SUMIF('Line Throw Relay Men'!$C$7:$C$46,$A64,'Line Throw Relay Men'!$AJ$7:$AJ$46)=0,1+MAX('Line Throw Relay Men'!$AJ$7:$AJ$46),SUMIF('Line Throw Relay Men'!$C$7:$C$46,$A64,'Line Throw Relay Men'!$AJ$7:$AJ$46))>2+MAX('Line Throw Relay Men'!$AJ$7:$AJ$46),MAX('Line Throw Relay Men'!$AJ$7:$AJ$46),IF(SUMIF('Line Throw Relay Men'!$C$7:$C$46,$A64,'Line Throw Relay Men'!$AJ$7:$AJ$46)=0,1+MAX('Line Throw Relay Men'!$AJ$7:$AJ$46),SUMIF('Line Throw Relay Men'!$C$7:$C$46,$A64,'Line Throw Relay Men'!$AJ$7:$AJ$46))))","v":""},"",""]
["","",{"$f":"IF($A65=\"\",\"\",IF(IF(SUMIF('50m Manikin Carry Men'!$C$7:$C$46,$A65,'50m Manikin Carry Men'!$AE$7:$AE$46)=0,1+MAX('50m Manikin Carry Men'!$AE$7:$AE$46),SUMIF('50m Manikin Carry Men'!$C$7:$C$46,$A65,'50m Manikin Carry Men'!$AE$7:$AE$46))>MAX('50m Manikin Carry Men'!$AE$7:$AE$46)+2,MAX('50m Manikin Carry Men'!$AE$7:$AE$46),IF(SUMIF('50m Manikin Carry Men'!$C$7:$C$46,$A65,'50m Manikin Carry Men'!$AE$7:$AE$46)=0,1+MAX('50m Manikin Carry Men'!$AE$7:$AE$46),SUMIF('50m Manikin Carry Men'!$C$7:$C$46,$A65,'50m Manikin Carry Men'!$AE$7:$AE$46))))","v":""},{"$f":"IF($A65=\"\",\"\",IF(IF(SUMIF('100m Manikin Carry Men'!$C$7:$C$46,$A65,'100m Manikin Carry Men'!$AE$7:$AE$46)=0,1+MAX('100m Manikin Carry Men'!$AE$7:$AE$46),SUMIF('100m Manikin Carry Men'!$C$7:$C$46,$A65,'100m Manikin Carry Men'!$AE$7:$AE$46))>2+MAX('100m Manikin Carry Men'!$AE$7:$AE$46),MAX('100m Manikin Carry Men'!$AE$7:$AE$46),IF(SUMIF('100m Manikin Carry Men'!$C$7:$C$46,$A65,'100m Manikin Carry Men'!$AE$7:$AE$46)=0,1+MAX('100m Manikin Carry Men'!$AE$7:$AE$46),SUMIF('100m Manikin Carry Men'!$C$7:$C$46,$A65,'100m Manikin Carry Men'!$AE$7:$AE$46))))","v":""},{"$f":"IF($A65=\"\",\"\",IF(IF(SUMIF('100m Manikin Tow Men'!$C$7:$C$46,$A65,'100m Manikin Tow Men'!$AE$7:$AE$46)=0,1+MAX('100m Manikin Tow Men'!$AE$7:$AE$46),SUMIF('100m Manikin Tow Men'!$C$7:$C$46,$A65,'100m Manikin Tow Men'!$AE$7:$AE$46))>2+MAX('100m Manikin Tow Men'!$AE$7:$AE$46),MAX('100m Manikin Tow Men'!$AE$7:$AE$46),IF(SUMIF('100m Manikin Tow Men'!$C$7:$C$46,$A65,'100m Manikin Tow Men'!$AE$7:$AE$46)=0,1+MAX('100m Manikin Tow Men'!$AE$7:$AE$46),SUMIF('100m Manikin Tow Men'!$C$7:$C$46,$A65,'100m Manikin Tow Men'!$AE$7:$AE$46))))","v":""},{"$f":"IF($A65=\"\",\"\",IF(IF(SUMIF('200m Obs Men'!$C$7:$C$46,$A65,'200m Obs Men'!$AE$7:$AE$46)=0,1+MAX('200m Obs Men'!$AE$7:$AE$46),SUMIF('200m Obs Men'!$C$7:$C$46,$A65,'200m Obs Men'!$AE$7:$AE$46))>2+MAX('200m Obs Men'!$AE$7:$AE$46),MAX('200m Obs Men'!$AE$7:$AE$46),IF(SUMIF('200m Obs Men'!$C$7:$C$46,$A65,'200m Obs Men'!$AE$7:$AE$46)=0,1+MAX('200m Obs Men'!$AE$7:$AE$46),SUMIF('200m Obs Men'!$C$7:$C$46,$A65,'200m Obs Men'!$AE$7:$AE$46))))","v":""},{"$f":"IF($A65=\"\",\"\",IF(IF(SUMIF('200m Super Men'!$C$7:$C$46,$A65,'200m Super Men'!$AE$7:$AE$46)=0,1+MAX('200m Super Men'!$AE$7:$AE$46),SUMIF('200m Super Men'!$C$7:$C$46,$A65,'200m Super Men'!$AE$7:$AE$46))>2+MAX('200m Super Men'!$AE$7:$AE$46),MAX('200m Super Men'!$AE$7:$AE$46),IF(SUMIF('200m Super Men'!$C$7:$C$46,$A65,'200m Super Men'!$AE$7:$AE$46)=0,1+MAX('200m Super Men'!$AE$7:$AE$46),SUMIF('200m Super Men'!$C$7:$C$46,$A65,'200m Super Men'!$AE$7:$AE$46))))","v":""},{"$f":"IF($A65=\"\",\"\",IF(IF(SUMIF('100 Resue Men'!$C$7:$C$46,$A65,'100 Resue Men'!$AE$7:$AE$46)=0,1+MAX('100 Resue Men'!$AE$7:$AE$46),SUMIF('100 Resue Men'!$C$7:$C$46,$A65,'100 Resue Men'!$AE$7:$AE$46))>2+MAX('100 Resue Men'!$AE$7:$AE$46),MAX('100 Resue Men'!$AE$7:$AE$46),IF(SUMIF('100 Resue Men'!$C$7:$C$46,$A65,'100 Resue Men'!$AE$7:$AE$46)=0,1+MAX('100 Resue Men'!$AE$7:$AE$46),SUMIF('100 Resue Men'!$C$7:$C$46,$A65,'100 Resue Men'!$AE$7:$AE$46))))","v":""},{"$f":"IF($A65=\"\",\"\",IF(IF(SUMIF('Line Throw Men'!$C$7:$C$46,$A65,'Line Throw Men'!$AG$7:$AG$46)=0,MAX('Line Throw Men'!$AG$7:$AG$46),SUMIF('Line Throw Men'!$C$7:$C$46,$A65,'Line Throw Men'!$AG$7:$AG$46))>2+MAX('Line Throw Men'!$AG$7:$AG$46),MAX('Line Throw Men'!$AG$7:$AG$46),IF(SUMIF('Line Throw Men'!$C$7:$C$46,$A65,'Line Throw Men'!$AG$7:$AG$46)=0,1+MAX('Line Throw Men'!$AG$7:$AG$46),SUMIF('Line Throw Men'!$C$7:$C$46,$A65,'Line Throw Men'!$AG$7:$AG$46))))","v":""},{"$f":"IF($A65=\"\",\"\",IF(IF(SUMIF('4 x 50 Obs Relay Men'!$C$7:$C$46,$A65,'4 x 50 Obs Relay Men'!$AJ$7:$AJ$46)=0,1+MAX('4 x 50 Obs Relay Men'!$AJ$7:$AJ$46),SUMIF('4 x 50 Obs Relay Men'!$C$7:$C$46,$A65,'4 x 50 Obs Relay Men'!$AJ$7:$AJ$46))>2+MAX('4 x 50 Obs Relay Men'!$AJ$7:$AJ$46),MAX('4 x 50 Obs Relay Men'!$AJ$7:$AJ$46),IF(SUMIF('4 x 50 Obs Relay Men'!$C$7:$C$46,$A65,'4 x 50 Obs Relay Men'!$AJ$7:$AJ$46)=0,1+MAX('4 x 50 Obs Relay Men'!$AJ$7:$AJ$46),SUMIF('4 x 50 Obs Relay Men'!$C$7:$C$46,$A65,'4 x 50 Obs Relay Men'!$AJ$7:$AJ$46))))","v":""},{"$f":"IF($A65=\"\",\"\",IF(IF(SUMIF('4 x 50 medley Relay Men'!$C$7:$C$46,$A65,'4 x 50 medley Relay Men'!$AJ$7:$AJ$46)=0,1+MAX('4 x 50 medley Relay Men'!$AJ$7:$AJ$46),SUMIF('4 x 50 medley Relay Men'!$C$7:$C$46,$A65,'4 x 50 medley Relay Men'!$AJ$7:$AJ$46))>2+MAX('4 x 50 medley Relay Men'!$AJ$7:$AJ$46),MAX('4 x 50 medley Relay Men'!$AJ$7:$AJ$46),IF(SUMIF('4 x 50 medley Relay Men'!$C$7:$C$46,$A65,'4 x 50 medley Relay Men'!$AJ$7:$AJ$46)=0,1+MAX('4 x 50 medley Relay Men'!$AJ$7:$AJ$46),SUMIF('4 x 50 medley Relay Men'!$C$7:$C$46,$A65,'4 x 50 medley Relay Men'!$AJ$7:$AJ$46))))","v":""},{"$f":"IF($A65=\"\",\"\",IF(IF(SUMIF('4 x 25 Manikin Carry Relay Men'!$C$7:$C$46,$A65,'4 x 25 Manikin Carry Relay Men'!$AJ$7:$AJ$46)=0,1+MAX('4 x 25 Manikin Carry Relay Men'!$AJ$7:$AJ$46),SUMIF('4 x 25 Manikin Carry Relay Men'!$C$7:$C$46,$A65,'4 x 25 Manikin Carry Relay Men'!$AJ$7:$AJ$46))>2+MAX('4 x 25 Manikin Carry Relay Men'!$AJ$7:$AJ$46),MAX('4 x 25 Manikin Carry Relay Men'!$AJ$7:$AJ$46),IF(SUMIF('4 x 25 Manikin Carry Relay Men'!$C$7:$C$46,$A65,'4 x 25 Manikin Carry Relay Men'!$AJ$7:$AJ$46)=0,1+MAX('4 x 25 Manikin Carry Relay Men'!$AJ$7:$AJ$46),SUMIF('4 x 25 Manikin Carry Relay Men'!$C$7:$C$46,$A65,'4 x 25 Manikin Carry Relay Men'!$AJ$7:$AJ$46))))","v":""},{"$f":"IF($A65=\"\",\"\",IF(IF(SUMIF('Line Throw Relay Men'!$C$7:$C$46,$A65,'Line Throw Relay Men'!$AJ$7:$AJ$46)=0,1+MAX('Line Throw Relay Men'!$AJ$7:$AJ$46),SUMIF('Line Throw Relay Men'!$C$7:$C$46,$A65,'Line Throw Relay Men'!$AJ$7:$AJ$46))>2+MAX('Line Throw Relay Men'!$AJ$7:$AJ$46),MAX('Line Throw Relay Men'!$AJ$7:$AJ$46),IF(SUMIF('Line Throw Relay Men'!$C$7:$C$46,$A65,'Line Throw Relay Men'!$AJ$7:$AJ$46)=0,1+MAX('Line Throw Relay Men'!$AJ$7:$AJ$46),SUMIF('Line Throw Relay Men'!$C$7:$C$46,$A65,'Line Throw Relay Men'!$AJ$7:$AJ$46))))","v":""},"",""]
["","",{"$f":"IF($A66=\"\",\"\",IF(IF(SUMIF('50m Manikin Carry Men'!$C$7:$C$46,$A66,'50m Manikin Carry Men'!$AE$7:$AE$46)=0,1+MAX('50m Manikin Carry Men'!$AE$7:$AE$46),SUMIF('50m Manikin Carry Men'!$C$7:$C$46,$A66,'50m Manikin Carry Men'!$AE$7:$AE$46))>MAX('50m Manikin Carry Men'!$AE$7:$AE$46)+2,MAX('50m Manikin Carry Men'!$AE$7:$AE$46),IF(SUMIF('50m Manikin Carry Men'!$C$7:$C$46,$A66,'50m Manikin Carry Men'!$AE$7:$AE$46)=0,1+MAX('50m Manikin Carry Men'!$AE$7:$AE$46),SUMIF('50m Manikin Carry Men'!$C$7:$C$46,$A66,'50m Manikin Carry Men'!$AE$7:$AE$46))))","v":""},{"$f":"IF($A66=\"\",\"\",IF(IF(SUMIF('100m Manikin Carry Men'!$C$7:$C$46,$A66,'100m Manikin Carry Men'!$AE$7:$AE$46)=0,1+MAX('100m Manikin Carry Men'!$AE$7:$AE$46),SUMIF('100m Manikin Carry Men'!$C$7:$C$46,$A66,'100m Manikin Carry Men'!$AE$7:$AE$46))>2+MAX('100m Manikin Carry Men'!$AE$7:$AE$46),MAX('100m Manikin Carry Men'!$AE$7:$AE$46),IF(SUMIF('100m Manikin Carry Men'!$C$7:$C$46,$A66,'100m Manikin Carry Men'!$AE$7:$AE$46)=0,1+MAX('100m Manikin Carry Men'!$AE$7:$AE$46),SUMIF('100m Manikin Carry Men'!$C$7:$C$46,$A66,'100m Manikin Carry Men'!$AE$7:$AE$46))))","v":""},{"$f":"IF($A66=\"\",\"\",IF(IF(SUMIF('100m Manikin Tow Men'!$C$7:$C$46,$A66,'100m Manikin Tow Men'!$AE$7:$AE$46)=0,1+MAX('100m Manikin Tow Men'!$AE$7:$AE$46),SUMIF('100m Manikin Tow Men'!$C$7:$C$46,$A66,'100m Manikin Tow Men'!$AE$7:$AE$46))>2+MAX('100m Manikin Tow Men'!$AE$7:$AE$46),MAX('100m Manikin Tow Men'!$AE$7:$AE$46),IF(SUMIF('100m Manikin Tow Men'!$C$7:$C$46,$A66,'100m Manikin Tow Men'!$AE$7:$AE$46)=0,1+MAX('100m Manikin Tow Men'!$AE$7:$AE$46),SUMIF('100m Manikin Tow Men'!$C$7:$C$46,$A66,'100m Manikin Tow Men'!$AE$7:$AE$46))))","v":""},{"$f":"IF($A66=\"\",\"\",IF(IF(SUMIF('200m Obs Men'!$C$7:$C$46,$A66,'200m Obs Men'!$AE$7:$AE$46)=0,1+MAX('200m Obs Men'!$AE$7:$AE$46),SUMIF('200m Obs Men'!$C$7:$C$46,$A66,'200m Obs Men'!$AE$7:$AE$46))>2+MAX('200m Obs Men'!$AE$7:$AE$46),MAX('200m Obs Men'!$AE$7:$AE$46),IF(SUMIF('200m Obs Men'!$C$7:$C$46,$A66,'200m Obs Men'!$AE$7:$AE$46)=0,1+MAX('200m Obs Men'!$AE$7:$AE$46),SUMIF('200m Obs Men'!$C$7:$C$46,$A66,'200m Obs Men'!$AE$7:$AE$46))))","v":""},{"$f":"IF($A66=\"\",\"\",IF(IF(SUMIF('200m Super Men'!$C$7:$C$46,$A66,'200m Super Men'!$AE$7:$AE$46)=0,1+MAX('200m Super Men'!$AE$7:$AE$46),SUMIF('200m Super Men'!$C$7:$C$46,$A66,'200m Super Men'!$AE$7:$AE$46))>2+MAX('200m Super Men'!$AE$7:$AE$46),MAX('200m Super Men'!$AE$7:$AE$46),IF(SUMIF('200m Super Men'!$C$7:$C$46,$A66,'200m Super Men'!$AE$7:$AE$46)=0,1+MAX('200m Super Men'!$AE$7:$AE$46),SUMIF('200m Super Men'!$C$7:$C$46,$A66,'200m Super Men'!$AE$7:$AE$46))))","v":""},{"$f":"IF($A66=\"\",\"\",IF(IF(SUMIF('100 Resue Men'!$C$7:$C$46,$A66,'100 Resue Men'!$AE$7:$AE$46)=0,1+MAX('100 Resue Men'!$AE$7:$AE$46),SUMIF('100 Resue Men'!$C$7:$C$46,$A66,'100 Resue Men'!$AE$7:$AE$46))>2+MAX('100 Resue Men'!$AE$7:$AE$46),MAX('100 Resue Men'!$AE$7:$AE$46),IF(SUMIF('100 Resue Men'!$C$7:$C$46,$A66,'100 Resue Men'!$AE$7:$AE$46)=0,1+MAX('100 Resue Men'!$AE$7:$AE$46),SUMIF('100 Resue Men'!$C$7:$C$46,$A66,'100 Resue Men'!$AE$7:$AE$46))))","v":""},{"$f":"IF($A66=\"\",\"\",IF(IF(SUMIF('Line Throw Men'!$C$7:$C$46,$A66,'Line Throw Men'!$AG$7:$AG$46)=0,MAX('Line Throw Men'!$AG$7:$AG$46),SUMIF('Line Throw Men'!$C$7:$C$46,$A66,'Line Throw Men'!$AG$7:$AG$46))>2+MAX('Line Throw Men'!$AG$7:$AG$46),MAX('Line Throw Men'!$AG$7:$AG$46),IF(SUMIF('Line Throw Men'!$C$7:$C$46,$A66,'Line Throw Men'!$AG$7:$AG$46)=0,1+MAX('Line Throw Men'!$AG$7:$AG$46),SUMIF('Line Throw Men'!$C$7:$C$46,$A66,'Line Throw Men'!$AG$7:$AG$46))))","v":""},{"$f":"IF($A66=\"\",\"\",IF(IF(SUMIF('4 x 50 Obs Relay Men'!$C$7:$C$46,$A66,'4 x 50 Obs Relay Men'!$AJ$7:$AJ$46)=0,1+MAX('4 x 50 Obs Relay Men'!$AJ$7:$AJ$46),SUMIF('4 x 50 Obs Relay Men'!$C$7:$C$46,$A66,'4 x 50 Obs Relay Men'!$AJ$7:$AJ$46))>2+MAX('4 x 50 Obs Relay Men'!$AJ$7:$AJ$46),MAX('4 x 50 Obs Relay Men'!$AJ$7:$AJ$46),IF(SUMIF('4 x 50 Obs Relay Men'!$C$7:$C$46,$A66,'4 x 50 Obs Relay Men'!$AJ$7:$AJ$46)=0,1+MAX('4 x 50 Obs Relay Men'!$AJ$7:$AJ$46),SUMIF('4 x 50 Obs Relay Men'!$C$7:$C$46,$A66,'4 x 50 Obs Relay Men'!$AJ$7:$AJ$46))))","v":""},{"$f":"IF($A66=\"\",\"\",IF(IF(SUMIF('4 x 50 medley Relay Men'!$C$7:$C$46,$A66,'4 x 50 medley Relay Men'!$AJ$7:$AJ$46)=0,1+MAX('4 x 50 medley Relay Men'!$AJ$7:$AJ$46),SUMIF('4 x 50 medley Relay Men'!$C$7:$C$46,$A66,'4 x 50 medley Relay Men'!$AJ$7:$AJ$46))>2+MAX('4 x 50 medley Relay Men'!$AJ$7:$AJ$46),MAX('4 x 50 medley Relay Men'!$AJ$7:$AJ$46),IF(SUMIF('4 x 50 medley Relay Men'!$C$7:$C$46,$A66,'4 x 50 medley Relay Men'!$AJ$7:$AJ$46)=0,1+MAX('4 x 50 medley Relay Men'!$AJ$7:$AJ$46),SUMIF('4 x 50 medley Relay Men'!$C$7:$C$46,$A66,'4 x 50 medley Relay Men'!$AJ$7:$AJ$46))))","v":""},{"$f":"IF($A66=\"\",\"\",IF(IF(SUMIF('4 x 25 Manikin Carry Relay Men'!$C$7:$C$46,$A66,'4 x 25 Manikin Carry Relay Men'!$AJ$7:$AJ$46)=0,1+MAX('4 x 25 Manikin Carry Relay Men'!$AJ$7:$AJ$46),SUMIF('4 x 25 Manikin Carry Relay Men'!$C$7:$C$46,$A66,'4 x 25 Manikin Carry Relay Men'!$AJ$7:$AJ$46))>2+MAX('4 x 25 Manikin Carry Relay Men'!$AJ$7:$AJ$46),MAX('4 x 25 Manikin Carry Relay Men'!$AJ$7:$AJ$46),IF(SUMIF('4 x 25 Manikin Carry Relay Men'!$C$7:$C$46,$A66,'4 x 25 Manikin Carry Relay Men'!$AJ$7:$AJ$46)=0,1+MAX('4 x 25 Manikin Carry Relay Men'!$AJ$7:$AJ$46),SUMIF('4 x 25 Manikin Carry Relay Men'!$C$7:$C$46,$A66,'4 x 25 Manikin Carry Relay Men'!$AJ$7:$AJ$46))))","v":""},{"$f":"IF($A66=\"\",\"\",IF(IF(SUMIF('Line Throw Relay Men'!$C$7:$C$46,$A66,'Line Throw Relay Men'!$AJ$7:$AJ$46)=0,1+MAX('Line Throw Relay Men'!$AJ$7:$AJ$46),SUMIF('Line Throw Relay Men'!$C$7:$C$46,$A66,'Line Throw Relay Men'!$AJ$7:$AJ$46))>2+MAX('Line Throw Relay Men'!$AJ$7:$AJ$46),MAX('Line Throw Relay Men'!$AJ$7:$AJ$46),IF(SUMIF('Line Throw Relay Men'!$C$7:$C$46,$A66,'Line Throw Relay Men'!$AJ$7:$AJ$46)=0,1+MAX('Line Throw Relay Men'!$AJ$7:$AJ$46),SUMIF('Line Throw Relay Men'!$C$7:$C$46,$A66,'Line Throw Relay Men'!$AJ$7:$AJ$46))))","v":""},"",""]
["","",{"$f":"IF($A67=\"\",\"\",IF(IF(SUMIF('50m Manikin Carry Men'!$C$7:$C$46,$A67,'50m Manikin Carry Men'!$AE$7:$AE$46)=0,1+MAX('50m Manikin Carry Men'!$AE$7:$AE$46),SUMIF('50m Manikin Carry Men'!$C$7:$C$46,$A67,'50m Manikin Carry Men'!$AE$7:$AE$46))>MAX('50m Manikin Carry Men'!$AE$7:$AE$46)+2,MAX('50m Manikin Carry Men'!$AE$7:$AE$46),IF(SUMIF('50m Manikin Carry Men'!$C$7:$C$46,$A67,'50m Manikin Carry Men'!$AE$7:$AE$46)=0,1+MAX('50m Manikin Carry Men'!$AE$7:$AE$46),SUMIF('50m Manikin Carry Men'!$C$7:$C$46,$A67,'50m Manikin Carry Men'!$AE$7:$AE$46))))","v":""},{"$f":"IF($A67=\"\",\"\",IF(IF(SUMIF('100m Manikin Carry Men'!$C$7:$C$46,$A67,'100m Manikin Carry Men'!$AE$7:$AE$46)=0,1+MAX('100m Manikin Carry Men'!$AE$7:$AE$46),SUMIF('100m Manikin Carry Men'!$C$7:$C$46,$A67,'100m Manikin Carry Men'!$AE$7:$AE$46))>2+MAX('100m Manikin Carry Men'!$AE$7:$AE$46),MAX('100m Manikin Carry Men'!$AE$7:$AE$46),IF(SUMIF('100m Manikin Carry Men'!$C$7:$C$46,$A67,'100m Manikin Carry Men'!$AE$7:$AE$46)=0,1+MAX('100m Manikin Carry Men'!$AE$7:$AE$46),SUMIF('100m Manikin Carry Men'!$C$7:$C$46,$A67,'100m Manikin Carry Men'!$AE$7:$AE$46))))","v":""},{"$f":"IF($A67=\"\",\"\",IF(IF(SUMIF('100m Manikin Tow Men'!$C$7:$C$46,$A67,'100m Manikin Tow Men'!$AE$7:$AE$46)=0,1+MAX('100m Manikin Tow Men'!$AE$7:$AE$46),SUMIF('100m Manikin Tow Men'!$C$7:$C$46,$A67,'100m Manikin Tow Men'!$AE$7:$AE$46))>2+MAX('100m Manikin Tow Men'!$AE$7:$AE$46),MAX('100m Manikin Tow Men'!$AE$7:$AE$46),IF(SUMIF('100m Manikin Tow Men'!$C$7:$C$46,$A67,'100m Manikin Tow Men'!$AE$7:$AE$46)=0,1+MAX('100m Manikin Tow Men'!$AE$7:$AE$46),SUMIF('100m Manikin Tow Men'!$C$7:$C$46,$A67,'100m Manikin Tow Men'!$AE$7:$AE$46))))","v":""},{"$f":"IF($A67=\"\",\"\",IF(IF(SUMIF('200m Obs Men'!$C$7:$C$46,$A67,'200m Obs Men'!$AE$7:$AE$46)=0,1+MAX('200m Obs Men'!$AE$7:$AE$46),SUMIF('200m Obs Men'!$C$7:$C$46,$A67,'200m Obs Men'!$AE$7:$AE$46))>2+MAX('200m Obs Men'!$AE$7:$AE$46),MAX('200m Obs Men'!$AE$7:$AE$46),IF(SUMIF('200m Obs Men'!$C$7:$C$46,$A67,'200m Obs Men'!$AE$7:$AE$46)=0,1+MAX('200m Obs Men'!$AE$7:$AE$46),SUMIF('200m Obs Men'!$C$7:$C$46,$A67,'200m Obs Men'!$AE$7:$AE$46))))","v":""},{"$f":"IF($A67=\"\",\"\",IF(IF(SUMIF('200m Super Men'!$C$7:$C$46,$A67,'200m Super Men'!$AE$7:$AE$46)=0,1+MAX('200m Super Men'!$AE$7:$AE$46),SUMIF('200m Super Men'!$C$7:$C$46,$A67,'200m Super Men'!$AE$7:$AE$46))>2+MAX('200m Super Men'!$AE$7:$AE$46),MAX('200m Super Men'!$AE$7:$AE$46),IF(SUMIF('200m Super Men'!$C$7:$C$46,$A67,'200m Super Men'!$AE$7:$AE$46)=0,1+MAX('200m Super Men'!$AE$7:$AE$46),SUMIF('200m Super Men'!$C$7:$C$46,$A67,'200m Super Men'!$AE$7:$AE$46))))","v":""},{"$f":"IF($A67=\"\",\"\",IF(IF(SUMIF('100 Resue Men'!$C$7:$C$46,$A67,'100 Resue Men'!$AE$7:$AE$46)=0,1+MAX('100 Resue Men'!$AE$7:$AE$46),SUMIF('100 Resue Men'!$C$7:$C$46,$A67,'100 Resue Men'!$AE$7:$AE$46))>2+MAX('100 Resue Men'!$AE$7:$AE$46),MAX('100 Resue Men'!$AE$7:$AE$46),IF(SUMIF('100 Resue Men'!$C$7:$C$46,$A67,'100 Resue Men'!$AE$7:$AE$46)=0,1+MAX('100 Resue Men'!$AE$7:$AE$46),SUMIF('100 Resue Men'!$C$7:$C$46,$A67,'100 Resue Men'!$AE$7:$AE$46))))","v":""},{"$f":"IF($A67=\"\",\"\",IF(IF(SUMIF('Line Throw Men'!$C$7:$C$46,$A67,'Line Throw Men'!$AG$7:$AG$46)=0,MAX('Line Throw Men'!$AG$7:$AG$46),SUMIF('Line Throw Men'!$C$7:$C$46,$A67,'Line Throw Men'!$AG$7:$AG$46))>2+MAX('Line Throw Men'!$AG$7:$AG$46),MAX('Line Throw Men'!$AG$7:$AG$46),IF(SUMIF('Line Throw Men'!$C$7:$C$46,$A67,'Line Throw Men'!$AG$7:$AG$46)=0,1+MAX('Line Throw Men'!$AG$7:$AG$46),SUMIF('Line Throw Men'!$C$7:$C$46,$A67,'Line Throw Men'!$AG$7:$AG$46))))","v":""},{"$f":"IF($A67=\"\",\"\",IF(IF(SUMIF('4 x 50 Obs Relay Men'!$C$7:$C$46,$A67,'4 x 50 Obs Relay Men'!$AJ$7:$AJ$46)=0,1+MAX('4 x 50 Obs Relay Men'!$AJ$7:$AJ$46),SUMIF('4 x 50 Obs Relay Men'!$C$7:$C$46,$A67,'4 x 50 Obs Relay Men'!$AJ$7:$AJ$46))>2+MAX('4 x 50 Obs Relay Men'!$AJ$7:$AJ$46),MAX('4 x 50 Obs Relay Men'!$AJ$7:$AJ$46),IF(SUMIF('4 x 50 Obs Relay Men'!$C$7:$C$46,$A67,'4 x 50 Obs Relay Men'!$AJ$7:$AJ$46)=0,1+MAX('4 x 50 Obs Relay Men'!$AJ$7:$AJ$46),SUMIF('4 x 50 Obs Relay Men'!$C$7:$C$46,$A67,'4 x 50 Obs Relay Men'!$AJ$7:$AJ$46))))","v":""},{"$f":"IF($A67=\"\",\"\",IF(IF(SUMIF('4 x 50 medley Relay Men'!$C$7:$C$46,$A67,'4 x 50 medley Relay Men'!$AJ$7:$AJ$46)=0,1+MAX('4 x 50 medley Relay Men'!$AJ$7:$AJ$46),SUMIF('4 x 50 medley Relay Men'!$C$7:$C$46,$A67,'4 x 50 medley Relay Men'!$AJ$7:$AJ$46))>2+MAX('4 x 50 medley Relay Men'!$AJ$7:$AJ$46),MAX('4 x 50 medley Relay Men'!$AJ$7:$AJ$46),IF(SUMIF('4 x 50 medley Relay Men'!$C$7:$C$46,$A67,'4 x 50 medley Relay Men'!$AJ$7:$AJ$46)=0,1+MAX('4 x 50 medley Relay Men'!$AJ$7:$AJ$46),SUMIF('4 x 50 medley Relay Men'!$C$7:$C$46,$A67,'4 x 50 medley Relay Men'!$AJ$7:$AJ$46))))","v":""},{"$f":"IF($A67=\"\",\"\",IF(IF(SUMIF('4 x 25 Manikin Carry Relay Men'!$C$7:$C$46,$A67,'4 x 25 Manikin Carry Relay Men'!$AJ$7:$AJ$46)=0,1+MAX('4 x 25 Manikin Carry Relay Men'!$AJ$7:$AJ$46),SUMIF('4 x 25 Manikin Carry Relay Men'!$C$7:$C$46,$A67,'4 x 25 Manikin Carry Relay Men'!$AJ$7:$AJ$46))>2+MAX('4 x 25 Manikin Carry Relay Men'!$AJ$7:$AJ$46),MAX('4 x 25 Manikin Carry Relay Men'!$AJ$7:$AJ$46),IF(SUMIF('4 x 25 Manikin Carry Relay Men'!$C$7:$C$46,$A67,'4 x 25 Manikin Carry Relay Men'!$AJ$7:$AJ$46)=0,1+MAX('4 x 25 Manikin Carry Relay Men'!$AJ$7:$AJ$46),SUMIF('4 x 25 Manikin Carry Relay Men'!$C$7:$C$46,$A67,'4 x 25 Manikin Carry Relay Men'!$AJ$7:$AJ$46))))","v":""},{"$f":"IF($A67=\"\",\"\",IF(IF(SUMIF('Line Throw Relay Men'!$C$7:$C$46,$A67,'Line Throw Relay Men'!$AJ$7:$AJ$46)=0,1+MAX('Line Throw Relay Men'!$AJ$7:$AJ$46),SUMIF('Line Throw Relay Men'!$C$7:$C$46,$A67,'Line Throw Relay Men'!$AJ$7:$AJ$46))>2+MAX('Line Throw Relay Men'!$AJ$7:$AJ$46),MAX('Line Throw Relay Men'!$AJ$7:$AJ$46),IF(SUMIF('Line Throw Relay Men'!$C$7:$C$46,$A67,'Line Throw Relay Men'!$AJ$7:$AJ$46)=0,1+MAX('Line Throw Relay Men'!$AJ$7:$AJ$46),SUMIF('Line Throw Relay Men'!$C$7:$C$46,$A67,'Line Throw Relay Men'!$AJ$7:$AJ$46))))","v":""},"",""]
["","",{"$f":"IF($A68=\"\",\"\",IF(IF(SUMIF('50m Manikin Carry Men'!$C$7:$C$46,$A68,'50m Manikin Carry Men'!$AE$7:$AE$46)=0,1+MAX('50m Manikin Carry Men'!$AE$7:$AE$46),SUMIF('50m Manikin Carry Men'!$C$7:$C$46,$A68,'50m Manikin Carry Men'!$AE$7:$AE$46))>MAX('50m Manikin Carry Men'!$AE$7:$AE$46)+2,MAX('50m Manikin Carry Men'!$AE$7:$AE$46),IF(SUMIF('50m Manikin Carry Men'!$C$7:$C$46,$A68,'50m Manikin Carry Men'!$AE$7:$AE$46)=0,1+MAX('50m Manikin Carry Men'!$AE$7:$AE$46),SUMIF('50m Manikin Carry Men'!$C$7:$C$46,$A68,'50m Manikin Carry Men'!$AE$7:$AE$46))))","v":""},{"$f":"IF($A68=\"\",\"\",IF(IF(SUMIF('100m Manikin Carry Men'!$C$7:$C$46,$A68,'100m Manikin Carry Men'!$AE$7:$AE$46)=0,1+MAX('100m Manikin Carry Men'!$AE$7:$AE$46),SUMIF('100m Manikin Carry Men'!$C$7:$C$46,$A68,'100m Manikin Carry Men'!$AE$7:$AE$46))>2+MAX('100m Manikin Carry Men'!$AE$7:$AE$46),MAX('100m Manikin Carry Men'!$AE$7:$AE$46),IF(SUMIF('100m Manikin Carry Men'!$C$7:$C$46,$A68,'100m Manikin Carry Men'!$AE$7:$AE$46)=0,1+MAX('100m Manikin Carry Men'!$AE$7:$AE$46),SUMIF('100m Manikin Carry Men'!$C$7:$C$46,$A68,'100m Manikin Carry Men'!$AE$7:$AE$46))))","v":""},{"$f":"IF($A68=\"\",\"\",IF(IF(SUMIF('100m Manikin Tow Men'!$C$7:$C$46,$A68,'100m Manikin Tow Men'!$AE$7:$AE$46)=0,1+MAX('100m Manikin Tow Men'!$AE$7:$AE$46),SUMIF('100m Manikin Tow Men'!$C$7:$C$46,$A68,'100m Manikin Tow Men'!$AE$7:$AE$46))>2+MAX('100m Manikin Tow Men'!$AE$7:$AE$46),MAX('100m Manikin Tow Men'!$AE$7:$AE$46),IF(SUMIF('100m Manikin Tow Men'!$C$7:$C$46,$A68,'100m Manikin Tow Men'!$AE$7:$AE$46)=0,1+MAX('100m Manikin Tow Men'!$AE$7:$AE$46),SUMIF('100m Manikin Tow Men'!$C$7:$C$46,$A68,'100m Manikin Tow Men'!$AE$7:$AE$46))))","v":""},{"$f":"IF($A68=\"\",\"\",IF(IF(SUMIF('200m Obs Men'!$C$7:$C$46,$A68,'200m Obs Men'!$AE$7:$AE$46)=0,1+MAX('200m Obs Men'!$AE$7:$AE$46),SUMIF('200m Obs Men'!$C$7:$C$46,$A68,'200m Obs Men'!$AE$7:$AE$46))>2+MAX('200m Obs Men'!$AE$7:$AE$46),MAX('200m Obs Men'!$AE$7:$AE$46),IF(SUMIF('200m Obs Men'!$C$7:$C$46,$A68,'200m Obs Men'!$AE$7:$AE$46)=0,1+MAX('200m Obs Men'!$AE$7:$AE$46),SUMIF('200m Obs Men'!$C$7:$C$46,$A68,'200m Obs Men'!$AE$7:$AE$46))))","v":""},{"$f":"IF($A68=\"\",\"\",IF(IF(SUMIF('200m Super Men'!$C$7:$C$46,$A68,'200m Super Men'!$AE$7:$AE$46)=0,1+MAX('200m Super Men'!$AE$7:$AE$46),SUMIF('200m Super Men'!$C$7:$C$46,$A68,'200m Super Men'!$AE$7:$AE$46))>2+MAX('200m Super Men'!$AE$7:$AE$46),MAX('200m Super Men'!$AE$7:$AE$46),IF(SUMIF('200m Super Men'!$C$7:$C$46,$A68,'200m Super Men'!$AE$7:$AE$46)=0,1+MAX('200m Super Men'!$AE$7:$AE$46),SUMIF('200m Super Men'!$C$7:$C$46,$A68,'200m Super Men'!$AE$7:$AE$46))))","v":""},{"$f":"IF($A68=\"\",\"\",IF(IF(SUMIF('100 Resue Men'!$C$7:$C$46,$A68,'100 Resue Men'!$AE$7:$AE$46)=0,1+MAX('100 Resue Men'!$AE$7:$AE$46),SUMIF('100 Resue Men'!$C$7:$C$46,$A68,'100 Resue Men'!$AE$7:$AE$46))>2+MAX('100 Resue Men'!$AE$7:$AE$46),MAX('100 Resue Men'!$AE$7:$AE$46),IF(SUMIF('100 Resue Men'!$C$7:$C$46,$A68,'100 Resue Men'!$AE$7:$AE$46)=0,1+MAX('100 Resue Men'!$AE$7:$AE$46),SUMIF('100 Resue Men'!$C$7:$C$46,$A68,'100 Resue Men'!$AE$7:$AE$46))))","v":""},{"$f":"IF($A68=\"\",\"\",IF(IF(SUMIF('Line Throw Men'!$C$7:$C$46,$A68,'Line Throw Men'!$AG$7:$AG$46)=0,MAX('Line Throw Men'!$AG$7:$AG$46),SUMIF('Line Throw Men'!$C$7:$C$46,$A68,'Line Throw Men'!$AG$7:$AG$46))>2+MAX('Line Throw Men'!$AG$7:$AG$46),MAX('Line Throw Men'!$AG$7:$AG$46),IF(SUMIF('Line Throw Men'!$C$7:$C$46,$A68,'Line Throw Men'!$AG$7:$AG$46)=0,1+MAX('Line Throw Men'!$AG$7:$AG$46),SUMIF('Line Throw Men'!$C$7:$C$46,$A68,'Line Throw Men'!$AG$7:$AG$46))))","v":""},{"$f":"IF($A68=\"\",\"\",IF(IF(SUMIF('4 x 50 Obs Relay Men'!$C$7:$C$46,$A68,'4 x 50 Obs Relay Men'!$AJ$7:$AJ$46)=0,1+MAX('4 x 50 Obs Relay Men'!$AJ$7:$AJ$46),SUMIF('4 x 50 Obs Relay Men'!$C$7:$C$46,$A68,'4 x 50 Obs Relay Men'!$AJ$7:$AJ$46))>2+MAX('4 x 50 Obs Relay Men'!$AJ$7:$AJ$46),MAX('4 x 50 Obs Relay Men'!$AJ$7:$AJ$46),IF(SUMIF('4 x 50 Obs Relay Men'!$C$7:$C$46,$A68,'4 x 50 Obs Relay Men'!$AJ$7:$AJ$46)=0,1+MAX('4 x 50 Obs Relay Men'!$AJ$7:$AJ$46),SUMIF('4 x 50 Obs Relay Men'!$C$7:$C$46,$A68,'4 x 50 Obs Relay Men'!$AJ$7:$AJ$46))))","v":""},{"$f":"IF($A68=\"\",\"\",IF(IF(SUMIF('4 x 50 medley Relay Men'!$C$7:$C$46,$A68,'4 x 50 medley Relay Men'!$AJ$7:$AJ$46)=0,1+MAX('4 x 50 medley Relay Men'!$AJ$7:$AJ$46),SUMIF('4 x 50 medley Relay Men'!$C$7:$C$46,$A68,'4 x 50 medley Relay Men'!$AJ$7:$AJ$46))>2+MAX('4 x 50 medley Relay Men'!$AJ$7:$AJ$46),MAX('4 x 50 medley Relay Men'!$AJ$7:$AJ$46),IF(SUMIF('4 x 50 medley Relay Men'!$C$7:$C$46,$A68,'4 x 50 medley Relay Men'!$AJ$7:$AJ$46)=0,1+MAX('4 x 50 medley Relay Men'!$AJ$7:$AJ$46),SUMIF('4 x 50 medley Relay Men'!$C$7:$C$46,$A68,'4 x 50 medley Relay Men'!$AJ$7:$AJ$46))))","v":""},{"$f":"IF($A68=\"\",\"\",IF(IF(SUMIF('4 x 25 Manikin Carry Relay Men'!$C$7:$C$46,$A68,'4 x 25 Manikin Carry Relay Men'!$AJ$7:$AJ$46)=0,1+MAX('4 x 25 Manikin Carry Relay Men'!$AJ$7:$AJ$46),SUMIF('4 x 25 Manikin Carry Relay Men'!$C$7:$C$46,$A68,'4 x 25 Manikin Carry Relay Men'!$AJ$7:$AJ$46))>2+MAX('4 x 25 Manikin Carry Relay Men'!$AJ$7:$AJ$46),MAX('4 x 25 Manikin Carry Relay Men'!$AJ$7:$AJ$46),IF(SUMIF('4 x 25 Manikin Carry Relay Men'!$C$7:$C$46,$A68,'4 x 25 Manikin Carry Relay Men'!$AJ$7:$AJ$46)=0,1+MAX('4 x 25 Manikin Carry Relay Men'!$AJ$7:$AJ$46),SUMIF('4 x 25 Manikin Carry Relay Men'!$C$7:$C$46,$A68,'4 x 25 Manikin Carry Relay Men'!$AJ$7:$AJ$46))))","v":""},{"$f":"IF($A68=\"\",\"\",IF(IF(SUMIF('Line Throw Relay Men'!$C$7:$C$46,$A68,'Line Throw Relay Men'!$AJ$7:$AJ$46)=0,1+MAX('Line Throw Relay Men'!$AJ$7:$AJ$46),SUMIF('Line Throw Relay Men'!$C$7:$C$46,$A68,'Line Throw Relay Men'!$AJ$7:$AJ$46))>2+MAX('Line Throw Relay Men'!$AJ$7:$AJ$46),MAX('Line Throw Relay Men'!$AJ$7:$AJ$46),IF(SUMIF('Line Throw Relay Men'!$C$7:$C$46,$A68,'Line Throw Relay Men'!$AJ$7:$AJ$46)=0,1+MAX('Line Throw Relay Men'!$AJ$7:$AJ$46),SUMIF('Line Throw Relay Men'!$C$7:$C$46,$A68,'Line Throw Relay Men'!$AJ$7:$AJ$46))))","v":""},"",""]
["","",{"$f":"IF($A69=\"\",\"\",IF(IF(SUMIF('50m Manikin Carry Men'!$C$7:$C$46,$A69,'50m Manikin Carry Men'!$AE$7:$AE$46)=0,1+MAX('50m Manikin Carry Men'!$AE$7:$AE$46),SUMIF('50m Manikin Carry Men'!$C$7:$C$46,$A69,'50m Manikin Carry Men'!$AE$7:$AE$46))>MAX('50m Manikin Carry Men'!$AE$7:$AE$46)+2,MAX('50m Manikin Carry Men'!$AE$7:$AE$46),IF(SUMIF('50m Manikin Carry Men'!$C$7:$C$46,$A69,'50m Manikin Carry Men'!$AE$7:$AE$46)=0,1+MAX('50m Manikin Carry Men'!$AE$7:$AE$46),SUMIF('50m Manikin Carry Men'!$C$7:$C$46,$A69,'50m Manikin Carry Men'!$AE$7:$AE$46))))","v":""},{"$f":"IF($A69=\"\",\"\",IF(IF(SUMIF('100m Manikin Carry Men'!$C$7:$C$46,$A69,'100m Manikin Carry Men'!$AE$7:$AE$46)=0,1+MAX('100m Manikin Carry Men'!$AE$7:$AE$46),SUMIF('100m Manikin Carry Men'!$C$7:$C$46,$A69,'100m Manikin Carry Men'!$AE$7:$AE$46))>2+MAX('100m Manikin Carry Men'!$AE$7:$AE$46),MAX('100m Manikin Carry Men'!$AE$7:$AE$46),IF(SUMIF('100m Manikin Carry Men'!$C$7:$C$46,$A69,'100m Manikin Carry Men'!$AE$7:$AE$46)=0,1+MAX('100m Manikin Carry Men'!$AE$7:$AE$46),SUMIF('100m Manikin Carry Men'!$C$7:$C$46,$A69,'100m Manikin Carry Men'!$AE$7:$AE$46))))","v":""},{"$f":"IF($A69=\"\",\"\",IF(IF(SUMIF('100m Manikin Tow Men'!$C$7:$C$46,$A69,'100m Manikin Tow Men'!$AE$7:$AE$46)=0,1+MAX('100m Manikin Tow Men'!$AE$7:$AE$46),SUMIF('100m Manikin Tow Men'!$C$7:$C$46,$A69,'100m Manikin Tow Men'!$AE$7:$AE$46))>2+MAX('100m Manikin Tow Men'!$AE$7:$AE$46),MAX('100m Manikin Tow Men'!$AE$7:$AE$46),IF(SUMIF('100m Manikin Tow Men'!$C$7:$C$46,$A69,'100m Manikin Tow Men'!$AE$7:$AE$46)=0,1+MAX('100m Manikin Tow Men'!$AE$7:$AE$46),SUMIF('100m Manikin Tow Men'!$C$7:$C$46,$A69,'100m Manikin Tow Men'!$AE$7:$AE$46))))","v":""},{"$f":"IF($A69=\"\",\"\",IF(IF(SUMIF('200m Obs Men'!$C$7:$C$46,$A69,'200m Obs Men'!$AE$7:$AE$46)=0,1+MAX('200m Obs Men'!$AE$7:$AE$46),SUMIF('200m Obs Men'!$C$7:$C$46,$A69,'200m Obs Men'!$AE$7:$AE$46))>2+MAX('200m Obs Men'!$AE$7:$AE$46),MAX('200m Obs Men'!$AE$7:$AE$46),IF(SUMIF('200m Obs Men'!$C$7:$C$46,$A69,'200m Obs Men'!$AE$7:$AE$46)=0,1+MAX('200m Obs Men'!$AE$7:$AE$46),SUMIF('200m Obs Men'!$C$7:$C$46,$A69,'200m Obs Men'!$AE$7:$AE$46))))","v":""},{"$f":"IF($A69=\"\",\"\",IF(IF(SUMIF('200m Super Men'!$C$7:$C$46,$A69,'200m Super Men'!$AE$7:$AE$46)=0,1+MAX('200m Super Men'!$AE$7:$AE$46),SUMIF('200m Super Men'!$C$7:$C$46,$A69,'200m Super Men'!$AE$7:$AE$46))>2+MAX('200m Super Men'!$AE$7:$AE$46),MAX('200m Super Men'!$AE$7:$AE$46),IF(SUMIF('200m Super Men'!$C$7:$C$46,$A69,'200m Super Men'!$AE$7:$AE$46)=0,1+MAX('200m Super Men'!$AE$7:$AE$46),SUMIF('200m Super Men'!$C$7:$C$46,$A69,'200m Super Men'!$AE$7:$AE$46))))","v":""},{"$f":"IF($A69=\"\",\"\",IF(IF(SUMIF('100 Resue Men'!$C$7:$C$46,$A69,'100 Resue Men'!$AE$7:$AE$46)=0,1+MAX('100 Resue Men'!$AE$7:$AE$46),SUMIF('100 Resue Men'!$C$7:$C$46,$A69,'100 Resue Men'!$AE$7:$AE$46))>2+MAX('100 Resue Men'!$AE$7:$AE$46),MAX('100 Resue Men'!$AE$7:$AE$46),IF(SUMIF('100 Resue Men'!$C$7:$C$46,$A69,'100 Resue Men'!$AE$7:$AE$46)=0,1+MAX('100 Resue Men'!$AE$7:$AE$46),SUMIF('100 Resue Men'!$C$7:$C$46,$A69,'100 Resue Men'!$AE$7:$AE$46))))","v":""},{"$f":"IF($A69=\"\",\"\",IF(IF(SUMIF('Line Throw Men'!$C$7:$C$46,$A69,'Line Throw Men'!$AG$7:$AG$46)=0,MAX('Line Throw Men'!$AG$7:$AG$46),SUMIF('Line Throw Men'!$C$7:$C$46,$A69,'Line Throw Men'!$AG$7:$AG$46))>2+MAX('Line Throw Men'!$AG$7:$AG$46),MAX('Line Throw Men'!$AG$7:$AG$46),IF(SUMIF('Line Throw Men'!$C$7:$C$46,$A69,'Line Throw Men'!$AG$7:$AG$46)=0,1+MAX('Line Throw Men'!$AG$7:$AG$46),SUMIF('Line Throw Men'!$C$7:$C$46,$A69,'Line Throw Men'!$AG$7:$AG$46))))","v":""},{"$f":"IF($A69=\"\",\"\",IF(IF(SUMIF('4 x 50 Obs Relay Men'!$C$7:$C$46,$A69,'4 x 50 Obs Relay Men'!$AJ$7:$AJ$46)=0,1+MAX('4 x 50 Obs Relay Men'!$AJ$7:$AJ$46),SUMIF('4 x 50 Obs Relay Men'!$C$7:$C$46,$A69,'4 x 50 Obs Relay Men'!$AJ$7:$AJ$46))>2+MAX('4 x 50 Obs Relay Men'!$AJ$7:$AJ$46),MAX('4 x 50 Obs Relay Men'!$AJ$7:$AJ$46),IF(SUMIF('4 x 50 Obs Relay Men'!$C$7:$C$46,$A69,'4 x 50 Obs Relay Men'!$AJ$7:$AJ$46)=0,1+MAX('4 x 50 Obs Relay Men'!$AJ$7:$AJ$46),SUMIF('4 x 50 Obs Relay Men'!$C$7:$C$46,$A69,'4 x 50 Obs Relay Men'!$AJ$7:$AJ$46))))","v":""},{"$f":"IF($A69=\"\",\"\",IF(IF(SUMIF('4 x 50 medley Relay Men'!$C$7:$C$46,$A69,'4 x 50 medley Relay Men'!$AJ$7:$AJ$46)=0,1+MAX('4 x 50 medley Relay Men'!$AJ$7:$AJ$46),SUMIF('4 x 50 medley Relay Men'!$C$7:$C$46,$A69,'4 x 50 medley Relay Men'!$AJ$7:$AJ$46))>2+MAX('4 x 50 medley Relay Men'!$AJ$7:$AJ$46),MAX('4 x 50 medley Relay Men'!$AJ$7:$AJ$46),IF(SUMIF('4 x 50 medley Relay Men'!$C$7:$C$46,$A69,'4 x 50 medley Relay Men'!$AJ$7:$AJ$46)=0,1+MAX('4 x 50 medley Relay Men'!$AJ$7:$AJ$46),SUMIF('4 x 50 medley Relay Men'!$C$7:$C$46,$A69,'4 x 50 medley Relay Men'!$AJ$7:$AJ$46))))","v":""},{"$f":"IF($A69=\"\",\"\",IF(IF(SUMIF('4 x 25 Manikin Carry Relay Men'!$C$7:$C$46,$A69,'4 x 25 Manikin Carry Relay Men'!$AJ$7:$AJ$46)=0,1+MAX('4 x 25 Manikin Carry Relay Men'!$AJ$7:$AJ$46),SUMIF('4 x 25 Manikin Carry Relay Men'!$C$7:$C$46,$A69,'4 x 25 Manikin Carry Relay Men'!$AJ$7:$AJ$46))>2+MAX('4 x 25 Manikin Carry Relay Men'!$AJ$7:$AJ$46),MAX('4 x 25 Manikin Carry Relay Men'!$AJ$7:$AJ$46),IF(SUMIF('4 x 25 Manikin Carry Relay Men'!$C$7:$C$46,$A69,'4 x 25 Manikin Carry Relay Men'!$AJ$7:$AJ$46)=0,1+MAX('4 x 25 Manikin Carry Relay Men'!$AJ$7:$AJ$46),SUMIF('4 x 25 Manikin Carry Relay Men'!$C$7:$C$46,$A69,'4 x 25 Manikin Carry Relay Men'!$AJ$7:$AJ$46))))","v":""},{"$f":"IF($A69=\"\",\"\",IF(IF(SUMIF('Line Throw Relay Men'!$C$7:$C$46,$A69,'Line Throw Relay Men'!$AJ$7:$AJ$46)=0,1+MAX('Line Throw Relay Men'!$AJ$7:$AJ$46),SUMIF('Line Throw Relay Men'!$C$7:$C$46,$A69,'Line Throw Relay Men'!$AJ$7:$AJ$46))>2+MAX('Line Throw Relay Men'!$AJ$7:$AJ$46),MAX('Line Throw Relay Men'!$AJ$7:$AJ$46),IF(SUMIF('Line Throw Relay Men'!$C$7:$C$46,$A69,'Line Throw Relay Men'!$AJ$7:$AJ$46)=0,1+MAX('Line Throw Relay Men'!$AJ$7:$AJ$46),SUMIF('Line Throw Relay Men'!$C$7:$C$46,$A69,'Line Throw Relay Men'!$AJ$7:$AJ$46))))","v":""},"",""]
[]
[null,"Women's  Non-Students"]
[]
["Club Code","Club Name","50m Manikin Carry","100m Carry with Fins","100m tow with fins","200m Obs","200 Super","100 rescue","Line Throw","4 x 50 obs Relay","4 x 50 medley Relay","4 x 25 Manikin Carry Relay","4 x 12m Line Throw Relay","Totals","Position"]
[{"$f":"IF(A4=\"\",\"\",A4)","v":""},{"$f":"IF(B4=\"\",\"\",B4)","v":""},{"$f":"IF($A74=\"\",\"\",IF(IF(SUMIF('50m Manikin Carry Women'!$C$7:$C$46,$A74,'50m Manikin Carry Women'!$AE$7:$AE$46)=0,1+MAX('50m Manikin Carry Women'!$AE$7:$AE$46),SUMIF('50m Manikin Carry Women'!$C$7:$C$46,$A74,'50m Manikin Carry Women'!$AE$7:$AE$46))>MAX('50m Manikin Carry Women'!$AE$7:$AE$46)+2,MAX('50m Manikin Carry Women'!$AE$7:$AE$46),IF(SUMIF('50m Manikin Carry Women'!$C$7:$C$46,$A74,'50m Manikin Carry Women'!$AE$7:$AE$46)=0,1+MAX('50m Manikin Carry Women'!$AE$7:$AE$46),SUMIF('50m Manikin Carry Women'!$C$7:$C$46,$A74,'50m Manikin Carry Women'!$AE$7:$AE$46))))","v":""},{"$f":"IF($A74=\"\",\"\",IF(IF(SUMIF('100m Manikin Carry Women'!$C$7:$C$46,$A74,'100m Manikin Carry Women'!$AE$7:$AE$46)=0,1+MAX('100m Manikin Carry Women'!$AE$7:$AE$46),SUMIF('100m Manikin Carry Women'!$C$7:$C$46,$A74,'100m Manikin Carry Women'!$AE$7:$AE$46))>2+MAX('100m Manikin Carry Women'!$AE$7:$AE$46),MAX('100m Manikin Carry Women'!$AE$7:$AE$46),IF(SUMIF('100m Manikin Carry Women'!$C$7:$C$46,$A74,'100m Manikin Carry Women'!$AE$7:$AE$46)=0,1+MAX('100m Manikin Carry Women'!$AE$7:$AE$46),SUMIF('100m Manikin Carry Women'!$C$7:$C$46,$A74,'100m Manikin Carry Women'!$AE$7:$AE$46))))","v":""},{"$f":"IF($A74=\"\",\"\",IF(IF(SUMIF('100m Manikin Tow Women'!$C$7:$C$46,$A74,'100m Manikin Tow Women'!$AE$7:$AE$46)=0,1+MAX('100m Manikin Tow Women'!$AE$7:$AE$46),SUMIF('100m Manikin Tow Women'!$C$7:$C$46,$A74,'100m Manikin Tow Women'!$AE$7:$AE$46))>2+MAX('100m Manikin Tow Women'!$AE$7:$AE$46),MAX('100m Manikin Tow Women'!$AE$7:$AE$46),IF(SUMIF('100m Manikin Tow Women'!$C$7:$C$46,$A74,'100m Manikin Tow Women'!$AE$7:$AE$46)=0,1+MAX('100m Manikin Tow Women'!$AE$7:$AE$46),SUMIF('100m Manikin Tow Women'!$C$7:$C$46,$A74,'100m Manikin Tow Women'!$AE$7:$AE$46))))","v":""},{"$f":"IF($A74=\"\",\"\",IF(IF(SUMIF('200m Obs Women'!$C$7:$C$46,$A74,'200m Obs Women'!$AE$7:$AE$46)=0,1+MAX('200m Obs Women'!$AE$7:$AE$46),SUMIF('200m Obs Women'!$C$7:$C$46,$A74,'200m Obs Women'!$AE$7:$AE$46))>2+MAX('200m Obs Women'!$AE$7:$AE$46),MAX('200m Obs Women'!$AE$7:$AE$46),IF(SUMIF('200m Obs Women'!$C$7:$C$46,$A74,'200m Obs Women'!$AE$7:$AE$46)=0,1+MAX('200m Obs Women'!$AE$7:$AE$46),SUMIF('200m Obs Women'!$C$7:$C$46,$A74,'200m Obs Women'!$AE$7:$AE$46))))","v":""},{"$f":"IF($A74=\"\",\"\",IF(IF(SUMIF('200m Super Women'!$C$7:$C$46,$A74,'200m Super Women'!$AE$7:$AE$46)=0,1+MAX('200m Super Women'!$AE$7:$AE$46),SUMIF('200m Super Women'!$C$7:$C$46,$A74,'200m Super Women'!$AE$7:$AE$46))>2+MAX('200m Super Women'!$AE$7:$AE$46),MAX('200m Super Women'!$AE$7:$AE$46),IF(SUMIF('200m Super Women'!$C$7:$C$46,$A74,'200m Super Women'!$AE$7:$AE$46)=0,1+MAX('200m Super Women'!$AE$7:$AE$46),SUMIF('200m Super Women'!$C$7:$C$46,$A74,'200m Super Women'!$AE$7:$AE$46))))","v":""},{"$f":"IF($A74=\"\",\"\",IF(IF(SUMIF('100 Resue Women'!$C$7:$C$46,$A74,'100 Resue Women'!$AE$7:$AE$46)=0,1+MAX('100 Resue Women'!$AE$7:$AE$46),SUMIF('100 Resue Women'!$C$7:$C$46,$A74,'100 Resue Women'!$AE$7:$AE$46))>2+MAX('100 Resue Women'!$AE$7:$AE$46),MAX('100 Resue Women'!$AE$7:$AE$46),IF(SUMIF('100 Resue Women'!$C$7:$C$46,$A74,'100 Resue Women'!$AE$7:$AE$46)=0,1+MAX('100 Resue Women'!$AE$7:$AE$46),SUMIF('100 Resue Women'!$C$7:$C$46,$A74,'100 Resue Women'!$AE$7:$AE$46))))","v":""},{"$f":"IF($A74=\"\",\"\",IF(IF(SUMIF('Line Throw Women'!$C$7:$C$46,$A74,'Line Throw Women'!$AG$7:$AG$46)=0,MAX('Line Throw Women'!$AG$7:$AG$46),SUMIF('Line Throw Women'!$C$7:$C$46,$A74,'Line Throw Women'!$AG$7:$AG$46))>2+MAX('Line Throw Women'!$AG$7:$AG$46),MAX('Line Throw Women'!$AG$7:$AG$46),IF(SUMIF('Line Throw Women'!$C$7:$C$46,$A74,'Line Throw Women'!$AG$7:$AG$46)=0,1+MAX('Line Throw Women'!$AG$7:$AG$46),SUMIF('Line Throw Women'!$C$7:$C$46,$A74,'Line Throw Women'!$AG$7:$AG$46))))","v":""},{"$f":"IF($A74=\"\",\"\",IF(IF(SUMIF('4 x 50 Obs Relay Women'!$C$7:$C$46,$A74,'4 x 50 Obs Relay Women'!$AJ$7:$AJ$46)=0,1+MAX('4 x 50 Obs Relay Women'!$AJ$7:$AJ$46),SUMIF('4 x 50 Obs Relay Women'!$C$7:$C$46,$A74,'4 x 50 Obs Relay Women'!$AJ$7:$AJ$46))>2+MAX('4 x 50 Obs Relay Women'!$AJ$7:$AJ$46),MAX('4 x 50 Obs Relay Women'!$AJ$7:$AJ$46),IF(SUMIF('4 x 50 Obs Relay Women'!$C$7:$C$46,$A74,'4 x 50 Obs Relay Women'!$AJ$7:$AJ$46)=0,1+MAX('4 x 50 Obs Relay Women'!$AJ$7:$AJ$46),SUMIF('4 x 50 Obs Relay Women'!$C$7:$C$46,$A74,'4 x 50 Obs Relay Women'!$AJ$7:$AJ$46))))","v":""},{"$f":"IF($A74=\"\",\"\",IF(IF(SUMIF('4 x 50 medley Relay Women'!$C$7:$C$46,$A74,'4 x 50 medley Relay Women'!$AJ$7:$AJ$46)=0,1+MAX('4 x 50 medley Relay Women'!$AJ$7:$AJ$46),SUMIF('4 x 50 medley Relay Women'!$C$7:$C$46,$A74,'4 x 50 medley Relay Women'!$AJ$7:$AJ$46))>2+MAX('4 x 50 medley Relay Women'!$AJ$7:$AJ$46),MAX('4 x 50 medley Relay Women'!$AJ$7:$AJ$46),IF(SUMIF('4 x 50 medley Relay Women'!$C$7:$C$46,$A74,'4 x 50 medley Relay Women'!$AJ$7:$AJ$46)=0,1+MAX('4 x 50 medley Relay Women'!$AJ$7:$AJ$46),SUMIF('4 x 50 medley Relay Women'!$C$7:$C$46,$A74,'4 x 50 medley Relay Women'!$AJ$7:$AJ$46))))","v":""},{"$f":"IF($A74=\"\",\"\",IF(IF(SUMIF('4 x 25 Manikin Carry Women'!$C$7:$C$46,$A74,'4 x 25 Manikin Carry Women'!$AJ$7:$AJ$46)=0,1+MAX('4 x 25 Manikin Carry Women'!$AJ$7:$AJ$46),SUMIF('4 x 25 Manikin Carry Women'!$C$7:$C$46,$A74,'4 x 25 Manikin Carry Women'!$AJ$7:$AJ$46))>2+MAX('4 x 25 Manikin Carry Women'!$AJ$7:$AJ$46),MAX('4 x 25 Manikin Carry Women'!$AJ$7:$AJ$46),IF(SUMIF('4 x 25 Manikin Carry Women'!$C$7:$C$46,$A74,'4 x 25 Manikin Carry Women'!$AJ$7:$AJ$46)=0,1+MAX('4 x 25 Manikin Carry Women'!$AJ$7:$AJ$46),SUMIF('4 x 25 Manikin Carry Women'!$C$7:$C$46,$A74,'4 x 25 Manikin Carry Women'!$AJ$7:$AJ$46))))","v":""},{"$f":"IF($A74=\"\",\"\",IF(IF(SUMIF('Line Throw Relay Women'!$C$7:$C$46,$A74,'Line Throw Relay Women'!$AJ$7:$AJ$46)=0,1+MAX('Line Throw Relay Women'!$AJ$7:$AJ$46),SUMIF('Line Throw Relay Women'!$C$7:$C$46,$A74,'Line Throw Relay Women'!$AJ$7:$AJ$46))>2+MAX('Line Throw Relay Women'!$AJ$7:$AJ$46),MAX('Line Throw Relay Women'!$AJ$7:$AJ$46),IF(SUMIF('Line Throw Relay Women'!$C$7:$C$46,$A74,'Line Throw Relay Women'!$AJ$7:$AJ$46)=0,1+MAX('Line Throw Relay Women'!$AJ$7:$AJ$46),SUMIF('Line Throw Relay Women'!$C$7:$C$46,$A74,'Line Throw Relay Women'!$AJ$7:$AJ$46))))","v":""},{"$f":"IF(A74=\"\",\"\",SUM(C74:M74))","v":""},{"$f":"IF(A74=\"\",\"\",RANK(N74,$N$74:$N$104,1))","v":""}]
[{"$f":"IF(A5=\"\",\"\",A5)","v":""},"",{"$f":"IF($A75=\"\",\"\",IF(IF(SUMIF('50m Manikin Carry Women'!$C$7:$C$46,$A75,'50m Manikin Carry Women'!$AE$7:$AE$46)=0,1+MAX('50m Manikin Carry Women'!$AE$7:$AE$46),SUMIF('50m Manikin Carry Women'!$C$7:$C$46,$A75,'50m Manikin Carry Women'!$AE$7:$AE$46))>MAX('50m Manikin Carry Women'!$AE$7:$AE$46)+2,MAX('50m Manikin Carry Women'!$AE$7:$AE$46),IF(SUMIF('50m Manikin Carry Women'!$C$7:$C$46,$A75,'50m Manikin Carry Women'!$AE$7:$AE$46)=0,1+MAX('50m Manikin Carry Women'!$AE$7:$AE$46),SUMIF('50m Manikin Carry Women'!$C$7:$C$46,$A75,'50m Manikin Carry Women'!$AE$7:$AE$46))))","v":""},{"$f":"IF($A75=\"\",\"\",IF(IF(SUMIF('100m Manikin Carry Women'!$C$7:$C$46,$A75,'100m Manikin Carry Women'!$AE$7:$AE$46)=0,1+MAX('100m Manikin Carry Women'!$AE$7:$AE$46),SUMIF('100m Manikin Carry Women'!$C$7:$C$46,$A75,'100m Manikin Carry Women'!$AE$7:$AE$46))>2+MAX('100m Manikin Carry Women'!$AE$7:$AE$46),MAX('100m Manikin Carry Women'!$AE$7:$AE$46),IF(SUMIF('100m Manikin Carry Women'!$C$7:$C$46,$A75,'100m Manikin Carry Women'!$AE$7:$AE$46)=0,1+MAX('100m Manikin Carry Women'!$AE$7:$AE$46),SUMIF('100m Manikin Carry Women'!$C$7:$C$46,$A75,'100m Manikin Carry Women'!$AE$7:$AE$46))))","v":""},{"$f":"IF($A75=\"\",\"\",IF(IF(SUMIF('100m Manikin Tow Women'!$C$7:$C$46,$A75,'100m Manikin Tow Women'!$AE$7:$AE$46)=0,1+MAX('100m Manikin Tow Women'!$AE$7:$AE$46),SUMIF('100m Manikin Tow Women'!$C$7:$C$46,$A75,'100m Manikin Tow Women'!$AE$7:$AE$46))>2+MAX('100m Manikin Tow Women'!$AE$7:$AE$46),MAX('100m Manikin Tow Women'!$AE$7:$AE$46),IF(SUMIF('100m Manikin Tow Women'!$C$7:$C$46,$A75,'100m Manikin Tow Women'!$AE$7:$AE$46)=0,1+MAX('100m Manikin Tow Women'!$AE$7:$AE$46),SUMIF('100m Manikin Tow Women'!$C$7:$C$46,$A75,'100m Manikin Tow Women'!$AE$7:$AE$46))))","v":""},{"$f":"IF($A75=\"\",\"\",IF(IF(SUMIF('200m Obs Women'!$C$7:$C$46,$A75,'200m Obs Women'!$AE$7:$AE$46)=0,1+MAX('200m Obs Women'!$AE$7:$AE$46),SUMIF('200m Obs Women'!$C$7:$C$46,$A75,'200m Obs Women'!$AE$7:$AE$46))>2+MAX('200m Obs Women'!$AE$7:$AE$46),MAX('200m Obs Women'!$AE$7:$AE$46),IF(SUMIF('200m Obs Women'!$C$7:$C$46,$A75,'200m Obs Women'!$AE$7:$AE$46)=0,1+MAX('200m Obs Women'!$AE$7:$AE$46),SUMIF('200m Obs Women'!$C$7:$C$46,$A75,'200m Obs Women'!$AE$7:$AE$46))))","v":""},{"$f":"IF($A75=\"\",\"\",IF(IF(SUMIF('200m Super Women'!$C$7:$C$46,$A75,'200m Super Women'!$AE$7:$AE$46)=0,1+MAX('200m Super Women'!$AE$7:$AE$46),SUMIF('200m Super Women'!$C$7:$C$46,$A75,'200m Super Women'!$AE$7:$AE$46))>2+MAX('200m Super Women'!$AE$7:$AE$46),MAX('200m Super Women'!$AE$7:$AE$46),IF(SUMIF('200m Super Women'!$C$7:$C$46,$A75,'200m Super Women'!$AE$7:$AE$46)=0,1+MAX('200m Super Women'!$AE$7:$AE$46),SUMIF('200m Super Women'!$C$7:$C$46,$A75,'200m Super Women'!$AE$7:$AE$46))))","v":""},{"$f":"IF($A75=\"\",\"\",IF(IF(SUMIF('100 Resue Women'!$C$7:$C$46,$A75,'100 Resue Women'!$AE$7:$AE$46)=0,1+MAX('100 Resue Women'!$AE$7:$AE$46),SUMIF('100 Resue Women'!$C$7:$C$46,$A75,'100 Resue Women'!$AE$7:$AE$46))>2+MAX('100 Resue Women'!$AE$7:$AE$46),MAX('100 Resue Women'!$AE$7:$AE$46),IF(SUMIF('100 Resue Women'!$C$7:$C$46,$A75,'100 Resue Women'!$AE$7:$AE$46)=0,1+MAX('100 Resue Women'!$AE$7:$AE$46),SUMIF('100 Resue Women'!$C$7:$C$46,$A75,'100 Resue Women'!$AE$7:$AE$46))))","v":""},1,{"$f":"IF($A75=\"\",\"\",IF(IF(SUMIF('4 x 50 Obs Relay Women'!$C$7:$C$46,$A75,'4 x 50 Obs Relay Women'!$AJ$7:$AJ$46)=0,1+MAX('4 x 50 Obs Relay Women'!$AJ$7:$AJ$46),SUMIF('4 x 50 Obs Relay Women'!$C$7:$C$46,$A75,'4 x 50 Obs Relay Women'!$AJ$7:$AJ$46))>2+MAX('4 x 50 Obs Relay Women'!$AJ$7:$AJ$46),MAX('4 x 50 Obs Relay Women'!$AJ$7:$AJ$46),IF(SUMIF('4 x 50 Obs Relay Women'!$C$7:$C$46,$A75,'4 x 50 Obs Relay Women'!$AJ$7:$AJ$46)=0,1+MAX('4 x 50 Obs Relay Women'!$AJ$7:$AJ$46),SUMIF('4 x 50 Obs Relay Women'!$C$7:$C$46,$A75,'4 x 50 Obs Relay Women'!$AJ$7:$AJ$46))))","v":""},{"$f":"IF($A75=\"\",\"\",IF(IF(SUMIF('4 x 50 medley Relay Women'!$C$7:$C$46,$A75,'4 x 50 medley Relay Women'!$AJ$7:$AJ$46)=0,1+MAX('4 x 50 medley Relay Women'!$AJ$7:$AJ$46),SUMIF('4 x 50 medley Relay Women'!$C$7:$C$46,$A75,'4 x 50 medley Relay Women'!$AJ$7:$AJ$46))>2+MAX('4 x 50 medley Relay Women'!$AJ$7:$AJ$46),MAX('4 x 50 medley Relay Women'!$AJ$7:$AJ$46),IF(SUMIF('4 x 50 medley Relay Women'!$C$7:$C$46,$A75,'4 x 50 medley Relay Women'!$AJ$7:$AJ$46)=0,1+MAX('4 x 50 medley Relay Women'!$AJ$7:$AJ$46),SUMIF('4 x 50 medley Relay Women'!$C$7:$C$46,$A75,'4 x 50 medley Relay Women'!$AJ$7:$AJ$46))))","v":""},{"$f":"IF($A75=\"\",\"\",IF(IF(SUMIF('4 x 25 Manikin Carry Women'!$C$7:$C$46,$A75,'4 x 25 Manikin Carry Women'!$AJ$7:$AJ$46)=0,1+MAX('4 x 25 Manikin Carry Women'!$AJ$7:$AJ$46),SUMIF('4 x 25 Manikin Carry Women'!$C$7:$C$46,$A75,'4 x 25 Manikin Carry Women'!$AJ$7:$AJ$46))>2+MAX('4 x 25 Manikin Carry Women'!$AJ$7:$AJ$46),MAX('4 x 25 Manikin Carry Women'!$AJ$7:$AJ$46),IF(SUMIF('4 x 25 Manikin Carry Women'!$C$7:$C$46,$A75,'4 x 25 Manikin Carry Women'!$AJ$7:$AJ$46)=0,1+MAX('4 x 25 Manikin Carry Women'!$AJ$7:$AJ$46),SUMIF('4 x 25 Manikin Carry Women'!$C$7:$C$46,$A75,'4 x 25 Manikin Carry Women'!$AJ$7:$AJ$46))))","v":""},{"$f":"IF($A75=\"\",\"\",IF(IF(SUMIF('Line Throw Relay Women'!$C$7:$C$46,$A75,'Line Throw Relay Women'!$AJ$7:$AJ$46)=0,1+MAX('Line Throw Relay Women'!$AJ$7:$AJ$46),SUMIF('Line Throw Relay Women'!$C$7:$C$46,$A75,'Line Throw Relay Women'!$AJ$7:$AJ$46))>2+MAX('Line Throw Relay Women'!$AJ$7:$AJ$46),MAX('Line Throw Relay Women'!$AJ$7:$AJ$46),IF(SUMIF('Line Throw Relay Women'!$C$7:$C$46,$A75,'Line Throw Relay Women'!$AJ$7:$AJ$46)=0,1+MAX('Line Throw Relay Women'!$AJ$7:$AJ$46),SUMIF('Line Throw Relay Women'!$C$7:$C$46,$A75,'Line Throw Relay Women'!$AJ$7:$AJ$46))))","v":""},{"$f":"IF(A75=\"\",\"\",SUM(C75:M75))","v":""},{"$f":"IF(A75=\"\",\"\",RANK(N75,$N$74:$N$104,1))","v":""}]
["","",{"$f":"IF($A76=\"\",\"\",IF(IF(SUMIF('50m Manikin Carry Women'!$C$7:$C$46,$A76,'50m Manikin Carry Women'!$AE$7:$AE$46)=0,1+MAX('50m Manikin Carry Women'!$AE$7:$AE$46),SUMIF('50m Manikin Carry Women'!$C$7:$C$46,$A76,'50m Manikin Carry Women'!$AE$7:$AE$46))>MAX('50m Manikin Carry Women'!$AE$7:$AE$46)+2,MAX('50m Manikin Carry Women'!$AE$7:$AE$46),IF(SUMIF('50m Manikin Carry Women'!$C$7:$C$46,$A76,'50m Manikin Carry Women'!$AE$7:$AE$46)=0,1+MAX('50m Manikin Carry Women'!$AE$7:$AE$46),SUMIF('50m Manikin Carry Women'!$C$7:$C$46,$A76,'50m Manikin Carry Women'!$AE$7:$AE$46))))","v":""},{"$f":"IF($A76=\"\",\"\",IF(IF(SUMIF('100m Manikin Carry Women'!$C$7:$C$46,$A76,'100m Manikin Carry Women'!$AE$7:$AE$46)=0,1+MAX('100m Manikin Carry Women'!$AE$7:$AE$46),SUMIF('100m Manikin Carry Women'!$C$7:$C$46,$A76,'100m Manikin Carry Women'!$AE$7:$AE$46))>2+MAX('100m Manikin Carry Women'!$AE$7:$AE$46),MAX('100m Manikin Carry Women'!$AE$7:$AE$46),IF(SUMIF('100m Manikin Carry Women'!$C$7:$C$46,$A76,'100m Manikin Carry Women'!$AE$7:$AE$46)=0,1+MAX('100m Manikin Carry Women'!$AE$7:$AE$46),SUMIF('100m Manikin Carry Women'!$C$7:$C$46,$A76,'100m Manikin Carry Women'!$AE$7:$AE$46))))","v":""},{"$f":"IF($A76=\"\",\"\",IF(IF(SUMIF('100m Manikin Tow Women'!$C$7:$C$46,$A76,'100m Manikin Tow Women'!$AE$7:$AE$46)=0,1+MAX('100m Manikin Tow Women'!$AE$7:$AE$46),SUMIF('100m Manikin Tow Women'!$C$7:$C$46,$A76,'100m Manikin Tow Women'!$AE$7:$AE$46))>2+MAX('100m Manikin Tow Women'!$AE$7:$AE$46),MAX('100m Manikin Tow Women'!$AE$7:$AE$46),IF(SUMIF('100m Manikin Tow Women'!$C$7:$C$46,$A76,'100m Manikin Tow Women'!$AE$7:$AE$46)=0,1+MAX('100m Manikin Tow Women'!$AE$7:$AE$46),SUMIF('100m Manikin Tow Women'!$C$7:$C$46,$A76,'100m Manikin Tow Women'!$AE$7:$AE$46))))","v":""},{"$f":"IF($A76=\"\",\"\",IF(IF(SUMIF('200m Obs Women'!$C$7:$C$46,$A76,'200m Obs Women'!$AE$7:$AE$46)=0,1+MAX('200m Obs Women'!$AE$7:$AE$46),SUMIF('200m Obs Women'!$C$7:$C$46,$A76,'200m Obs Women'!$AE$7:$AE$46))>2+MAX('200m Obs Women'!$AE$7:$AE$46),MAX('200m Obs Women'!$AE$7:$AE$46),IF(SUMIF('200m Obs Women'!$C$7:$C$46,$A76,'200m Obs Women'!$AE$7:$AE$46)=0,1+MAX('200m Obs Women'!$AE$7:$AE$46),SUMIF('200m Obs Women'!$C$7:$C$46,$A76,'200m Obs Women'!$AE$7:$AE$46))))","v":""},{"$f":"IF($A76=\"\",\"\",IF(IF(SUMIF('200m Super Women'!$C$7:$C$46,$A76,'200m Super Women'!$AE$7:$AE$46)=0,1+MAX('200m Super Women'!$AE$7:$AE$46),SUMIF('200m Super Women'!$C$7:$C$46,$A76,'200m Super Women'!$AE$7:$AE$46))>2+MAX('200m Super Women'!$AE$7:$AE$46),MAX('200m Super Women'!$AE$7:$AE$46),IF(SUMIF('200m Super Women'!$C$7:$C$46,$A76,'200m Super Women'!$AE$7:$AE$46)=0,1+MAX('200m Super Women'!$AE$7:$AE$46),SUMIF('200m Super Women'!$C$7:$C$46,$A76,'200m Super Women'!$AE$7:$AE$46))))","v":""},{"$f":"IF($A76=\"\",\"\",IF(IF(SUMIF('100 Resue Women'!$C$7:$C$46,$A76,'100 Resue Women'!$AE$7:$AE$46)=0,1+MAX('100 Resue Women'!$AE$7:$AE$46),SUMIF('100 Resue Women'!$C$7:$C$46,$A76,'100 Resue Women'!$AE$7:$AE$46))>2+MAX('100 Resue Women'!$AE$7:$AE$46),MAX('100 Resue Women'!$AE$7:$AE$46),IF(SUMIF('100 Resue Women'!$C$7:$C$46,$A76,'100 Resue Women'!$AE$7:$AE$46)=0,1+MAX('100 Resue Women'!$AE$7:$AE$46),SUMIF('100 Resue Women'!$C$7:$C$46,$A76,'100 Resue Women'!$AE$7:$AE$46))))","v":""},{"$f":"IF($A76=\"\",\"\",IF(IF(SUMIF('Line Throw Women'!$C$7:$C$46,$A76,'Line Throw Women'!$AG$7:$AG$46)=0,MAX('Line Throw Women'!$AG$7:$AG$46),SUMIF('Line Throw Women'!$C$7:$C$46,$A76,'Line Throw Women'!$AG$7:$AG$46))>2+MAX('Line Throw Women'!$AG$7:$AG$46),MAX('Line Throw Women'!$AG$7:$AG$46),IF(SUMIF('Line Throw Women'!$C$7:$C$46,$A76,'Line Throw Women'!$AG$7:$AG$46)=0,1+MAX('Line Throw Women'!$AG$7:$AG$46),SUMIF('Line Throw Women'!$C$7:$C$46,$A76,'Line Throw Women'!$AG$7:$AG$46))))","v":""},{"$f":"IF($A76=\"\",\"\",IF(IF(SUMIF('4 x 50 Obs Relay Women'!$C$7:$C$46,$A76,'4 x 50 Obs Relay Women'!$AJ$7:$AJ$46)=0,1+MAX('4 x 50 Obs Relay Women'!$AJ$7:$AJ$46),SUMIF('4 x 50 Obs Relay Women'!$C$7:$C$46,$A76,'4 x 50 Obs Relay Women'!$AJ$7:$AJ$46))>2+MAX('4 x 50 Obs Relay Women'!$AJ$7:$AJ$46),MAX('4 x 50 Obs Relay Women'!$AJ$7:$AJ$46),IF(SUMIF('4 x 50 Obs Relay Women'!$C$7:$C$46,$A76,'4 x 50 Obs Relay Women'!$AJ$7:$AJ$46)=0,1+MAX('4 x 50 Obs Relay Women'!$AJ$7:$AJ$46),SUMIF('4 x 50 Obs Relay Women'!$C$7:$C$46,$A76,'4 x 50 Obs Relay Women'!$AJ$7:$AJ$46))))","v":""},{"$f":"IF($A76=\"\",\"\",IF(IF(SUMIF('4 x 50 medley Relay Women'!$C$7:$C$46,$A76,'4 x 50 medley Relay Women'!$AJ$7:$AJ$46)=0,1+MAX('4 x 50 medley Relay Women'!$AJ$7:$AJ$46),SUMIF('4 x 50 medley Relay Women'!$C$7:$C$46,$A76,'4 x 50 medley Relay Women'!$AJ$7:$AJ$46))>2+MAX('4 x 50 medley Relay Women'!$AJ$7:$AJ$46),MAX('4 x 50 medley Relay Women'!$AJ$7:$AJ$46),IF(SUMIF('4 x 50 medley Relay Women'!$C$7:$C$46,$A76,'4 x 50 medley Relay Women'!$AJ$7:$AJ$46)=0,1+MAX('4 x 50 medley Relay Women'!$AJ$7:$AJ$46),SUMIF('4 x 50 medley Relay Women'!$C$7:$C$46,$A76,'4 x 50 medley Relay Women'!$AJ$7:$AJ$46))))","v":""},{"$f":"IF($A76=\"\",\"\",IF(IF(SUMIF('4 x 25 Manikin Carry Women'!$C$7:$C$46,$A76,'4 x 25 Manikin Carry Women'!$AJ$7:$AJ$46)=0,1+MAX('4 x 25 Manikin Carry Women'!$AJ$7:$AJ$46),SUMIF('4 x 25 Manikin Carry Women'!$C$7:$C$46,$A76,'4 x 25 Manikin Carry Women'!$AJ$7:$AJ$46))>2+MAX('4 x 25 Manikin Carry Women'!$AJ$7:$AJ$46),MAX('4 x 25 Manikin Carry Women'!$AJ$7:$AJ$46),IF(SUMIF('4 x 25 Manikin Carry Women'!$C$7:$C$46,$A76,'4 x 25 Manikin Carry Women'!$AJ$7:$AJ$46)=0,1+MAX('4 x 25 Manikin Carry Women'!$AJ$7:$AJ$46),SUMIF('4 x 25 Manikin Carry Women'!$C$7:$C$46,$A76,'4 x 25 Manikin Carry Women'!$AJ$7:$AJ$46))))","v":""},{"$f":"IF($A76=\"\",\"\",IF(IF(SUMIF('Line Throw Relay Women'!$C$7:$C$46,$A76,'Line Throw Relay Women'!$AJ$7:$AJ$46)=0,1+MAX('Line Throw Relay Women'!$AJ$7:$AJ$46),SUMIF('Line Throw Relay Women'!$C$7:$C$46,$A76,'Line Throw Relay Women'!$AJ$7:$AJ$46))>2+MAX('Line Throw Relay Women'!$AJ$7:$AJ$46),MAX('Line Throw Relay Women'!$AJ$7:$AJ$46),IF(SUMIF('Line Throw Relay Women'!$C$7:$C$46,$A76,'Line Throw Relay Women'!$AJ$7:$AJ$46)=0,1+MAX('Line Throw Relay Women'!$AJ$7:$AJ$46),SUMIF('Line Throw Relay Women'!$C$7:$C$46,$A76,'Line Throw Relay Women'!$AJ$7:$AJ$46))))","v":""},"",""]
["","",{"$f":"IF($A77=\"\",\"\",IF(IF(SUMIF('50m Manikin Carry Women'!$C$7:$C$46,$A77,'50m Manikin Carry Women'!$AE$7:$AE$46)=0,1+MAX('50m Manikin Carry Women'!$AE$7:$AE$46),SUMIF('50m Manikin Carry Women'!$C$7:$C$46,$A77,'50m Manikin Carry Women'!$AE$7:$AE$46))>MAX('50m Manikin Carry Women'!$AE$7:$AE$46)+2,MAX('50m Manikin Carry Women'!$AE$7:$AE$46),IF(SUMIF('50m Manikin Carry Women'!$C$7:$C$46,$A77,'50m Manikin Carry Women'!$AE$7:$AE$46)=0,1+MAX('50m Manikin Carry Women'!$AE$7:$AE$46),SUMIF('50m Manikin Carry Women'!$C$7:$C$46,$A77,'50m Manikin Carry Women'!$AE$7:$AE$46))))","v":""},{"$f":"IF($A77=\"\",\"\",IF(IF(SUMIF('100m Manikin Carry Women'!$C$7:$C$46,$A77,'100m Manikin Carry Women'!$AE$7:$AE$46)=0,1+MAX('100m Manikin Carry Women'!$AE$7:$AE$46),SUMIF('100m Manikin Carry Women'!$C$7:$C$46,$A77,'100m Manikin Carry Women'!$AE$7:$AE$46))>2+MAX('100m Manikin Carry Women'!$AE$7:$AE$46),MAX('100m Manikin Carry Women'!$AE$7:$AE$46),IF(SUMIF('100m Manikin Carry Women'!$C$7:$C$46,$A77,'100m Manikin Carry Women'!$AE$7:$AE$46)=0,1+MAX('100m Manikin Carry Women'!$AE$7:$AE$46),SUMIF('100m Manikin Carry Women'!$C$7:$C$46,$A77,'100m Manikin Carry Women'!$AE$7:$AE$46))))","v":""},{"$f":"IF($A77=\"\",\"\",IF(IF(SUMIF('100m Manikin Tow Women'!$C$7:$C$46,$A77,'100m Manikin Tow Women'!$AE$7:$AE$46)=0,1+MAX('100m Manikin Tow Women'!$AE$7:$AE$46),SUMIF('100m Manikin Tow Women'!$C$7:$C$46,$A77,'100m Manikin Tow Women'!$AE$7:$AE$46))>2+MAX('100m Manikin Tow Women'!$AE$7:$AE$46),MAX('100m Manikin Tow Women'!$AE$7:$AE$46),IF(SUMIF('100m Manikin Tow Women'!$C$7:$C$46,$A77,'100m Manikin Tow Women'!$AE$7:$AE$46)=0,1+MAX('100m Manikin Tow Women'!$AE$7:$AE$46),SUMIF('100m Manikin Tow Women'!$C$7:$C$46,$A77,'100m Manikin Tow Women'!$AE$7:$AE$46))))","v":""},{"$f":"IF($A77=\"\",\"\",IF(IF(SUMIF('200m Obs Women'!$C$7:$C$46,$A77,'200m Obs Women'!$AE$7:$AE$46)=0,1+MAX('200m Obs Women'!$AE$7:$AE$46),SUMIF('200m Obs Women'!$C$7:$C$46,$A77,'200m Obs Women'!$AE$7:$AE$46))>2+MAX('200m Obs Women'!$AE$7:$AE$46),MAX('200m Obs Women'!$AE$7:$AE$46),IF(SUMIF('200m Obs Women'!$C$7:$C$46,$A77,'200m Obs Women'!$AE$7:$AE$46)=0,1+MAX('200m Obs Women'!$AE$7:$AE$46),SUMIF('200m Obs Women'!$C$7:$C$46,$A77,'200m Obs Women'!$AE$7:$AE$46))))","v":""},{"$f":"IF($A77=\"\",\"\",IF(IF(SUMIF('200m Super Women'!$C$7:$C$46,$A77,'200m Super Women'!$AE$7:$AE$46)=0,1+MAX('200m Super Women'!$AE$7:$AE$46),SUMIF('200m Super Women'!$C$7:$C$46,$A77,'200m Super Women'!$AE$7:$AE$46))>2+MAX('200m Super Women'!$AE$7:$AE$46),MAX('200m Super Women'!$AE$7:$AE$46),IF(SUMIF('200m Super Women'!$C$7:$C$46,$A77,'200m Super Women'!$AE$7:$AE$46)=0,1+MAX('200m Super Women'!$AE$7:$AE$46),SUMIF('200m Super Women'!$C$7:$C$46,$A77,'200m Super Women'!$AE$7:$AE$46))))","v":""},{"$f":"IF($A77=\"\",\"\",IF(IF(SUMIF('100 Resue Women'!$C$7:$C$46,$A77,'100 Resue Women'!$AE$7:$AE$46)=0,1+MAX('100 Resue Women'!$AE$7:$AE$46),SUMIF('100 Resue Women'!$C$7:$C$46,$A77,'100 Resue Women'!$AE$7:$AE$46))>2+MAX('100 Resue Women'!$AE$7:$AE$46),MAX('100 Resue Women'!$AE$7:$AE$46),IF(SUMIF('100 Resue Women'!$C$7:$C$46,$A77,'100 Resue Women'!$AE$7:$AE$46)=0,1+MAX('100 Resue Women'!$AE$7:$AE$46),SUMIF('100 Resue Women'!$C$7:$C$46,$A77,'100 Resue Women'!$AE$7:$AE$46))))","v":""},{"$f":"IF($A77=\"\",\"\",IF(IF(SUMIF('Line Throw Women'!$C$7:$C$46,$A77,'Line Throw Women'!$AG$7:$AG$46)=0,MAX('Line Throw Women'!$AG$7:$AG$46),SUMIF('Line Throw Women'!$C$7:$C$46,$A77,'Line Throw Women'!$AG$7:$AG$46))>2+MAX('Line Throw Women'!$AG$7:$AG$46),MAX('Line Throw Women'!$AG$7:$AG$46),IF(SUMIF('Line Throw Women'!$C$7:$C$46,$A77,'Line Throw Women'!$AG$7:$AG$46)=0,1+MAX('Line Throw Women'!$AG$7:$AG$46),SUMIF('Line Throw Women'!$C$7:$C$46,$A77,'Line Throw Women'!$AG$7:$AG$46))))","v":""},{"$f":"IF($A77=\"\",\"\",IF(IF(SUMIF('4 x 50 Obs Relay Women'!$C$7:$C$46,$A77,'4 x 50 Obs Relay Women'!$AJ$7:$AJ$46)=0,1+MAX('4 x 50 Obs Relay Women'!$AJ$7:$AJ$46),SUMIF('4 x 50 Obs Relay Women'!$C$7:$C$46,$A77,'4 x 50 Obs Relay Women'!$AJ$7:$AJ$46))>2+MAX('4 x 50 Obs Relay Women'!$AJ$7:$AJ$46),MAX('4 x 50 Obs Relay Women'!$AJ$7:$AJ$46),IF(SUMIF('4 x 50 Obs Relay Women'!$C$7:$C$46,$A77,'4 x 50 Obs Relay Women'!$AJ$7:$AJ$46)=0,1+MAX('4 x 50 Obs Relay Women'!$AJ$7:$AJ$46),SUMIF('4 x 50 Obs Relay Women'!$C$7:$C$46,$A77,'4 x 50 Obs Relay Women'!$AJ$7:$AJ$46))))","v":""},{"$f":"IF($A77=\"\",\"\",IF(IF(SUMIF('4 x 50 medley Relay Women'!$C$7:$C$46,$A77,'4 x 50 medley Relay Women'!$AJ$7:$AJ$46)=0,1+MAX('4 x 50 medley Relay Women'!$AJ$7:$AJ$46),SUMIF('4 x 50 medley Relay Women'!$C$7:$C$46,$A77,'4 x 50 medley Relay Women'!$AJ$7:$AJ$46))>2+MAX('4 x 50 medley Relay Women'!$AJ$7:$AJ$46),MAX('4 x 50 medley Relay Women'!$AJ$7:$AJ$46),IF(SUMIF('4 x 50 medley Relay Women'!$C$7:$C$46,$A77,'4 x 50 medley Relay Women'!$AJ$7:$AJ$46)=0,1+MAX('4 x 50 medley Relay Women'!$AJ$7:$AJ$46),SUMIF('4 x 50 medley Relay Women'!$C$7:$C$46,$A77,'4 x 50 medley Relay Women'!$AJ$7:$AJ$46))))","v":""},{"$f":"IF($A77=\"\",\"\",IF(IF(SUMIF('4 x 25 Manikin Carry Women'!$C$7:$C$46,$A77,'4 x 25 Manikin Carry Women'!$AJ$7:$AJ$46)=0,1+MAX('4 x 25 Manikin Carry Women'!$AJ$7:$AJ$46),SUMIF('4 x 25 Manikin Carry Women'!$C$7:$C$46,$A77,'4 x 25 Manikin Carry Women'!$AJ$7:$AJ$46))>2+MAX('4 x 25 Manikin Carry Women'!$AJ$7:$AJ$46),MAX('4 x 25 Manikin Carry Women'!$AJ$7:$AJ$46),IF(SUMIF('4 x 25 Manikin Carry Women'!$C$7:$C$46,$A77,'4 x 25 Manikin Carry Women'!$AJ$7:$AJ$46)=0,1+MAX('4 x 25 Manikin Carry Women'!$AJ$7:$AJ$46),SUMIF('4 x 25 Manikin Carry Women'!$C$7:$C$46,$A77,'4 x 25 Manikin Carry Women'!$AJ$7:$AJ$46))))","v":""},{"$f":"IF($A77=\"\",\"\",IF(IF(SUMIF('Line Throw Relay Women'!$C$7:$C$46,$A77,'Line Throw Relay Women'!$AJ$7:$AJ$46)=0,1+MAX('Line Throw Relay Women'!$AJ$7:$AJ$46),SUMIF('Line Throw Relay Women'!$C$7:$C$46,$A77,'Line Throw Relay Women'!$AJ$7:$AJ$46))>2+MAX('Line Throw Relay Women'!$AJ$7:$AJ$46),MAX('Line Throw Relay Women'!$AJ$7:$AJ$46),IF(SUMIF('Line Throw Relay Women'!$C$7:$C$46,$A77,'Line Throw Relay Women'!$AJ$7:$AJ$46)=0,1+MAX('Line Throw Relay Women'!$AJ$7:$AJ$46),SUMIF('Line Throw Relay Women'!$C$7:$C$46,$A77,'Line Throw Relay Women'!$AJ$7:$AJ$46))))","v":""},"",""]
["","",{"$f":"IF($A78=\"\",\"\",IF(IF(SUMIF('50m Manikin Carry Women'!$C$7:$C$46,$A78,'50m Manikin Carry Women'!$AE$7:$AE$46)=0,1+MAX('50m Manikin Carry Women'!$AE$7:$AE$46),SUMIF('50m Manikin Carry Women'!$C$7:$C$46,$A78,'50m Manikin Carry Women'!$AE$7:$AE$46))>MAX('50m Manikin Carry Women'!$AE$7:$AE$46)+2,MAX('50m Manikin Carry Women'!$AE$7:$AE$46),IF(SUMIF('50m Manikin Carry Women'!$C$7:$C$46,$A78,'50m Manikin Carry Women'!$AE$7:$AE$46)=0,1+MAX('50m Manikin Carry Women'!$AE$7:$AE$46),SUMIF('50m Manikin Carry Women'!$C$7:$C$46,$A78,'50m Manikin Carry Women'!$AE$7:$AE$46))))","v":""},{"$f":"IF($A78=\"\",\"\",IF(IF(SUMIF('100m Manikin Carry Women'!$C$7:$C$46,$A78,'100m Manikin Carry Women'!$AE$7:$AE$46)=0,1+MAX('100m Manikin Carry Women'!$AE$7:$AE$46),SUMIF('100m Manikin Carry Women'!$C$7:$C$46,$A78,'100m Manikin Carry Women'!$AE$7:$AE$46))>2+MAX('100m Manikin Carry Women'!$AE$7:$AE$46),MAX('100m Manikin Carry Women'!$AE$7:$AE$46),IF(SUMIF('100m Manikin Carry Women'!$C$7:$C$46,$A78,'100m Manikin Carry Women'!$AE$7:$AE$46)=0,1+MAX('100m Manikin Carry Women'!$AE$7:$AE$46),SUMIF('100m Manikin Carry Women'!$C$7:$C$46,$A78,'100m Manikin Carry Women'!$AE$7:$AE$46))))","v":""},{"$f":"IF($A78=\"\",\"\",IF(IF(SUMIF('100m Manikin Tow Women'!$C$7:$C$46,$A78,'100m Manikin Tow Women'!$AE$7:$AE$46)=0,1+MAX('100m Manikin Tow Women'!$AE$7:$AE$46),SUMIF('100m Manikin Tow Women'!$C$7:$C$46,$A78,'100m Manikin Tow Women'!$AE$7:$AE$46))>2+MAX('100m Manikin Tow Women'!$AE$7:$AE$46),MAX('100m Manikin Tow Women'!$AE$7:$AE$46),IF(SUMIF('100m Manikin Tow Women'!$C$7:$C$46,$A78,'100m Manikin Tow Women'!$AE$7:$AE$46)=0,1+MAX('100m Manikin Tow Women'!$AE$7:$AE$46),SUMIF('100m Manikin Tow Women'!$C$7:$C$46,$A78,'100m Manikin Tow Women'!$AE$7:$AE$46))))","v":""},{"$f":"IF($A78=\"\",\"\",IF(IF(SUMIF('200m Obs Women'!$C$7:$C$46,$A78,'200m Obs Women'!$AE$7:$AE$46)=0,1+MAX('200m Obs Women'!$AE$7:$AE$46),SUMIF('200m Obs Women'!$C$7:$C$46,$A78,'200m Obs Women'!$AE$7:$AE$46))>2+MAX('200m Obs Women'!$AE$7:$AE$46),MAX('200m Obs Women'!$AE$7:$AE$46),IF(SUMIF('200m Obs Women'!$C$7:$C$46,$A78,'200m Obs Women'!$AE$7:$AE$46)=0,1+MAX('200m Obs Women'!$AE$7:$AE$46),SUMIF('200m Obs Women'!$C$7:$C$46,$A78,'200m Obs Women'!$AE$7:$AE$46))))","v":""},{"$f":"IF($A78=\"\",\"\",IF(IF(SUMIF('200m Super Women'!$C$7:$C$46,$A78,'200m Super Women'!$AE$7:$AE$46)=0,1+MAX('200m Super Women'!$AE$7:$AE$46),SUMIF('200m Super Women'!$C$7:$C$46,$A78,'200m Super Women'!$AE$7:$AE$46))>2+MAX('200m Super Women'!$AE$7:$AE$46),MAX('200m Super Women'!$AE$7:$AE$46),IF(SUMIF('200m Super Women'!$C$7:$C$46,$A78,'200m Super Women'!$AE$7:$AE$46)=0,1+MAX('200m Super Women'!$AE$7:$AE$46),SUMIF('200m Super Women'!$C$7:$C$46,$A78,'200m Super Women'!$AE$7:$AE$46))))","v":""},{"$f":"IF($A78=\"\",\"\",IF(IF(SUMIF('100 Resue Women'!$C$7:$C$46,$A78,'100 Resue Women'!$AE$7:$AE$46)=0,1+MAX('100 Resue Women'!$AE$7:$AE$46),SUMIF('100 Resue Women'!$C$7:$C$46,$A78,'100 Resue Women'!$AE$7:$AE$46))>2+MAX('100 Resue Women'!$AE$7:$AE$46),MAX('100 Resue Women'!$AE$7:$AE$46),IF(SUMIF('100 Resue Women'!$C$7:$C$46,$A78,'100 Resue Women'!$AE$7:$AE$46)=0,1+MAX('100 Resue Women'!$AE$7:$AE$46),SUMIF('100 Resue Women'!$C$7:$C$46,$A78,'100 Resue Women'!$AE$7:$AE$46))))","v":""},{"$f":"IF($A78=\"\",\"\",IF(IF(SUMIF('Line Throw Women'!$C$7:$C$46,$A78,'Line Throw Women'!$AG$7:$AG$46)=0,MAX('Line Throw Women'!$AG$7:$AG$46),SUMIF('Line Throw Women'!$C$7:$C$46,$A78,'Line Throw Women'!$AG$7:$AG$46))>2+MAX('Line Throw Women'!$AG$7:$AG$46),MAX('Line Throw Women'!$AG$7:$AG$46),IF(SUMIF('Line Throw Women'!$C$7:$C$46,$A78,'Line Throw Women'!$AG$7:$AG$46)=0,1+MAX('Line Throw Women'!$AG$7:$AG$46),SUMIF('Line Throw Women'!$C$7:$C$46,$A78,'Line Throw Women'!$AG$7:$AG$46))))","v":""},{"$f":"IF($A78=\"\",\"\",IF(IF(SUMIF('4 x 50 Obs Relay Women'!$C$7:$C$46,$A78,'4 x 50 Obs Relay Women'!$AJ$7:$AJ$46)=0,1+MAX('4 x 50 Obs Relay Women'!$AJ$7:$AJ$46),SUMIF('4 x 50 Obs Relay Women'!$C$7:$C$46,$A78,'4 x 50 Obs Relay Women'!$AJ$7:$AJ$46))>2+MAX('4 x 50 Obs Relay Women'!$AJ$7:$AJ$46),MAX('4 x 50 Obs Relay Women'!$AJ$7:$AJ$46),IF(SUMIF('4 x 50 Obs Relay Women'!$C$7:$C$46,$A78,'4 x 50 Obs Relay Women'!$AJ$7:$AJ$46)=0,1+MAX('4 x 50 Obs Relay Women'!$AJ$7:$AJ$46),SUMIF('4 x 50 Obs Relay Women'!$C$7:$C$46,$A78,'4 x 50 Obs Relay Women'!$AJ$7:$AJ$46))))","v":""},{"$f":"IF($A78=\"\",\"\",IF(IF(SUMIF('4 x 50 medley Relay Women'!$C$7:$C$46,$A78,'4 x 50 medley Relay Women'!$AJ$7:$AJ$46)=0,1+MAX('4 x 50 medley Relay Women'!$AJ$7:$AJ$46),SUMIF('4 x 50 medley Relay Women'!$C$7:$C$46,$A78,'4 x 50 medley Relay Women'!$AJ$7:$AJ$46))>2+MAX('4 x 50 medley Relay Women'!$AJ$7:$AJ$46),MAX('4 x 50 medley Relay Women'!$AJ$7:$AJ$46),IF(SUMIF('4 x 50 medley Relay Women'!$C$7:$C$46,$A78,'4 x 50 medley Relay Women'!$AJ$7:$AJ$46)=0,1+MAX('4 x 50 medley Relay Women'!$AJ$7:$AJ$46),SUMIF('4 x 50 medley Relay Women'!$C$7:$C$46,$A78,'4 x 50 medley Relay Women'!$AJ$7:$AJ$46))))","v":""},{"$f":"IF($A78=\"\",\"\",IF(IF(SUMIF('4 x 25 Manikin Carry Women'!$C$7:$C$46,$A78,'4 x 25 Manikin Carry Women'!$AJ$7:$AJ$46)=0,1+MAX('4 x 25 Manikin Carry Women'!$AJ$7:$AJ$46),SUMIF('4 x 25 Manikin Carry Women'!$C$7:$C$46,$A78,'4 x 25 Manikin Carry Women'!$AJ$7:$AJ$46))>2+MAX('4 x 25 Manikin Carry Women'!$AJ$7:$AJ$46),MAX('4 x 25 Manikin Carry Women'!$AJ$7:$AJ$46),IF(SUMIF('4 x 25 Manikin Carry Women'!$C$7:$C$46,$A78,'4 x 25 Manikin Carry Women'!$AJ$7:$AJ$46)=0,1+MAX('4 x 25 Manikin Carry Women'!$AJ$7:$AJ$46),SUMIF('4 x 25 Manikin Carry Women'!$C$7:$C$46,$A78,'4 x 25 Manikin Carry Women'!$AJ$7:$AJ$46))))","v":""},{"$f":"IF($A78=\"\",\"\",IF(IF(SUMIF('Line Throw Relay Women'!$C$7:$C$46,$A78,'Line Throw Relay Women'!$AJ$7:$AJ$46)=0,1+MAX('Line Throw Relay Women'!$AJ$7:$AJ$46),SUMIF('Line Throw Relay Women'!$C$7:$C$46,$A78,'Line Throw Relay Women'!$AJ$7:$AJ$46))>2+MAX('Line Throw Relay Women'!$AJ$7:$AJ$46),MAX('Line Throw Relay Women'!$AJ$7:$AJ$46),IF(SUMIF('Line Throw Relay Women'!$C$7:$C$46,$A78,'Line Throw Relay Women'!$AJ$7:$AJ$46)=0,1+MAX('Line Throw Relay Women'!$AJ$7:$AJ$46),SUMIF('Line Throw Relay Women'!$C$7:$C$46,$A78,'Line Throw Relay Women'!$AJ$7:$AJ$46))))","v":""},"",""]
["","",{"$f":"IF($A79=\"\",\"\",IF(IF(SUMIF('50m Manikin Carry Women'!$C$7:$C$46,$A79,'50m Manikin Carry Women'!$AE$7:$AE$46)=0,1+MAX('50m Manikin Carry Women'!$AE$7:$AE$46),SUMIF('50m Manikin Carry Women'!$C$7:$C$46,$A79,'50m Manikin Carry Women'!$AE$7:$AE$46))>MAX('50m Manikin Carry Women'!$AE$7:$AE$46)+2,MAX('50m Manikin Carry Women'!$AE$7:$AE$46),IF(SUMIF('50m Manikin Carry Women'!$C$7:$C$46,$A79,'50m Manikin Carry Women'!$AE$7:$AE$46)=0,1+MAX('50m Manikin Carry Women'!$AE$7:$AE$46),SUMIF('50m Manikin Carry Women'!$C$7:$C$46,$A79,'50m Manikin Carry Women'!$AE$7:$AE$46))))","v":""},{"$f":"IF($A79=\"\",\"\",IF(IF(SUMIF('100m Manikin Carry Women'!$C$7:$C$46,$A79,'100m Manikin Carry Women'!$AE$7:$AE$46)=0,1+MAX('100m Manikin Carry Women'!$AE$7:$AE$46),SUMIF('100m Manikin Carry Women'!$C$7:$C$46,$A79,'100m Manikin Carry Women'!$AE$7:$AE$46))>2+MAX('100m Manikin Carry Women'!$AE$7:$AE$46),MAX('100m Manikin Carry Women'!$AE$7:$AE$46),IF(SUMIF('100m Manikin Carry Women'!$C$7:$C$46,$A79,'100m Manikin Carry Women'!$AE$7:$AE$46)=0,1+MAX('100m Manikin Carry Women'!$AE$7:$AE$46),SUMIF('100m Manikin Carry Women'!$C$7:$C$46,$A79,'100m Manikin Carry Women'!$AE$7:$AE$46))))","v":""},{"$f":"IF($A79=\"\",\"\",IF(IF(SUMIF('100m Manikin Tow Women'!$C$7:$C$46,$A79,'100m Manikin Tow Women'!$AE$7:$AE$46)=0,1+MAX('100m Manikin Tow Women'!$AE$7:$AE$46),SUMIF('100m Manikin Tow Women'!$C$7:$C$46,$A79,'100m Manikin Tow Women'!$AE$7:$AE$46))>2+MAX('100m Manikin Tow Women'!$AE$7:$AE$46),MAX('100m Manikin Tow Women'!$AE$7:$AE$46),IF(SUMIF('100m Manikin Tow Women'!$C$7:$C$46,$A79,'100m Manikin Tow Women'!$AE$7:$AE$46)=0,1+MAX('100m Manikin Tow Women'!$AE$7:$AE$46),SUMIF('100m Manikin Tow Women'!$C$7:$C$46,$A79,'100m Manikin Tow Women'!$AE$7:$AE$46))))","v":""},{"$f":"IF($A79=\"\",\"\",IF(IF(SUMIF('200m Obs Women'!$C$7:$C$46,$A79,'200m Obs Women'!$AE$7:$AE$46)=0,1+MAX('200m Obs Women'!$AE$7:$AE$46),SUMIF('200m Obs Women'!$C$7:$C$46,$A79,'200m Obs Women'!$AE$7:$AE$46))>2+MAX('200m Obs Women'!$AE$7:$AE$46),MAX('200m Obs Women'!$AE$7:$AE$46),IF(SUMIF('200m Obs Women'!$C$7:$C$46,$A79,'200m Obs Women'!$AE$7:$AE$46)=0,1+MAX('200m Obs Women'!$AE$7:$AE$46),SUMIF('200m Obs Women'!$C$7:$C$46,$A79,'200m Obs Women'!$AE$7:$AE$46))))","v":""},{"$f":"IF($A79=\"\",\"\",IF(IF(SUMIF('200m Super Women'!$C$7:$C$46,$A79,'200m Super Women'!$AE$7:$AE$46)=0,1+MAX('200m Super Women'!$AE$7:$AE$46),SUMIF('200m Super Women'!$C$7:$C$46,$A79,'200m Super Women'!$AE$7:$AE$46))>2+MAX('200m Super Women'!$AE$7:$AE$46),MAX('200m Super Women'!$AE$7:$AE$46),IF(SUMIF('200m Super Women'!$C$7:$C$46,$A79,'200m Super Women'!$AE$7:$AE$46)=0,1+MAX('200m Super Women'!$AE$7:$AE$46),SUMIF('200m Super Women'!$C$7:$C$46,$A79,'200m Super Women'!$AE$7:$AE$46))))","v":""},{"$f":"IF($A79=\"\",\"\",IF(IF(SUMIF('100 Resue Women'!$C$7:$C$46,$A79,'100 Resue Women'!$AE$7:$AE$46)=0,1+MAX('100 Resue Women'!$AE$7:$AE$46),SUMIF('100 Resue Women'!$C$7:$C$46,$A79,'100 Resue Women'!$AE$7:$AE$46))>2+MAX('100 Resue Women'!$AE$7:$AE$46),MAX('100 Resue Women'!$AE$7:$AE$46),IF(SUMIF('100 Resue Women'!$C$7:$C$46,$A79,'100 Resue Women'!$AE$7:$AE$46)=0,1+MAX('100 Resue Women'!$AE$7:$AE$46),SUMIF('100 Resue Women'!$C$7:$C$46,$A79,'100 Resue Women'!$AE$7:$AE$46))))","v":""},{"$f":"IF($A79=\"\",\"\",IF(IF(SUMIF('Line Throw Women'!$C$7:$C$46,$A79,'Line Throw Women'!$AG$7:$AG$46)=0,MAX('Line Throw Women'!$AG$7:$AG$46),SUMIF('Line Throw Women'!$C$7:$C$46,$A79,'Line Throw Women'!$AG$7:$AG$46))>2+MAX('Line Throw Women'!$AG$7:$AG$46),MAX('Line Throw Women'!$AG$7:$AG$46),IF(SUMIF('Line Throw Women'!$C$7:$C$46,$A79,'Line Throw Women'!$AG$7:$AG$46)=0,1+MAX('Line Throw Women'!$AG$7:$AG$46),SUMIF('Line Throw Women'!$C$7:$C$46,$A79,'Line Throw Women'!$AG$7:$AG$46))))","v":""},{"$f":"IF($A79=\"\",\"\",IF(IF(SUMIF('4 x 50 Obs Relay Women'!$C$7:$C$46,$A79,'4 x 50 Obs Relay Women'!$AJ$7:$AJ$46)=0,1+MAX('4 x 50 Obs Relay Women'!$AJ$7:$AJ$46),SUMIF('4 x 50 Obs Relay Women'!$C$7:$C$46,$A79,'4 x 50 Obs Relay Women'!$AJ$7:$AJ$46))>2+MAX('4 x 50 Obs Relay Women'!$AJ$7:$AJ$46),MAX('4 x 50 Obs Relay Women'!$AJ$7:$AJ$46),IF(SUMIF('4 x 50 Obs Relay Women'!$C$7:$C$46,$A79,'4 x 50 Obs Relay Women'!$AJ$7:$AJ$46)=0,1+MAX('4 x 50 Obs Relay Women'!$AJ$7:$AJ$46),SUMIF('4 x 50 Obs Relay Women'!$C$7:$C$46,$A79,'4 x 50 Obs Relay Women'!$AJ$7:$AJ$46))))","v":""},{"$f":"IF($A79=\"\",\"\",IF(IF(SUMIF('4 x 50 medley Relay Women'!$C$7:$C$46,$A79,'4 x 50 medley Relay Women'!$AJ$7:$AJ$46)=0,1+MAX('4 x 50 medley Relay Women'!$AJ$7:$AJ$46),SUMIF('4 x 50 medley Relay Women'!$C$7:$C$46,$A79,'4 x 50 medley Relay Women'!$AJ$7:$AJ$46))>2+MAX('4 x 50 medley Relay Women'!$AJ$7:$AJ$46),MAX('4 x 50 medley Relay Women'!$AJ$7:$AJ$46),IF(SUMIF('4 x 50 medley Relay Women'!$C$7:$C$46,$A79,'4 x 50 medley Relay Women'!$AJ$7:$AJ$46)=0,1+MAX('4 x 50 medley Relay Women'!$AJ$7:$AJ$46),SUMIF('4 x 50 medley Relay Women'!$C$7:$C$46,$A79,'4 x 50 medley Relay Women'!$AJ$7:$AJ$46))))","v":""},{"$f":"IF($A79=\"\",\"\",IF(IF(SUMIF('4 x 25 Manikin Carry Women'!$C$7:$C$46,$A79,'4 x 25 Manikin Carry Women'!$AJ$7:$AJ$46)=0,1+MAX('4 x 25 Manikin Carry Women'!$AJ$7:$AJ$46),SUMIF('4 x 25 Manikin Carry Women'!$C$7:$C$46,$A79,'4 x 25 Manikin Carry Women'!$AJ$7:$AJ$46))>2+MAX('4 x 25 Manikin Carry Women'!$AJ$7:$AJ$46),MAX('4 x 25 Manikin Carry Women'!$AJ$7:$AJ$46),IF(SUMIF('4 x 25 Manikin Carry Women'!$C$7:$C$46,$A79,'4 x 25 Manikin Carry Women'!$AJ$7:$AJ$46)=0,1+MAX('4 x 25 Manikin Carry Women'!$AJ$7:$AJ$46),SUMIF('4 x 25 Manikin Carry Women'!$C$7:$C$46,$A79,'4 x 25 Manikin Carry Women'!$AJ$7:$AJ$46))))","v":""},{"$f":"IF($A79=\"\",\"\",IF(IF(SUMIF('Line Throw Relay Women'!$C$7:$C$46,$A79,'Line Throw Relay Women'!$AJ$7:$AJ$46)=0,1+MAX('Line Throw Relay Women'!$AJ$7:$AJ$46),SUMIF('Line Throw Relay Women'!$C$7:$C$46,$A79,'Line Throw Relay Women'!$AJ$7:$AJ$46))>2+MAX('Line Throw Relay Women'!$AJ$7:$AJ$46),MAX('Line Throw Relay Women'!$AJ$7:$AJ$46),IF(SUMIF('Line Throw Relay Women'!$C$7:$C$46,$A79,'Line Throw Relay Women'!$AJ$7:$AJ$46)=0,1+MAX('Line Throw Relay Women'!$AJ$7:$AJ$46),SUMIF('Line Throw Relay Women'!$C$7:$C$46,$A79,'Line Throw Relay Women'!$AJ$7:$AJ$46))))","v":""},"",""]
["","",{"$f":"IF($A80=\"\",\"\",IF(IF(SUMIF('50m Manikin Carry Women'!$C$7:$C$46,$A80,'50m Manikin Carry Women'!$AE$7:$AE$46)=0,1+MAX('50m Manikin Carry Women'!$AE$7:$AE$46),SUMIF('50m Manikin Carry Women'!$C$7:$C$46,$A80,'50m Manikin Carry Women'!$AE$7:$AE$46))>MAX('50m Manikin Carry Women'!$AE$7:$AE$46)+2,MAX('50m Manikin Carry Women'!$AE$7:$AE$46),IF(SUMIF('50m Manikin Carry Women'!$C$7:$C$46,$A80,'50m Manikin Carry Women'!$AE$7:$AE$46)=0,1+MAX('50m Manikin Carry Women'!$AE$7:$AE$46),SUMIF('50m Manikin Carry Women'!$C$7:$C$46,$A80,'50m Manikin Carry Women'!$AE$7:$AE$46))))","v":""},{"$f":"IF($A80=\"\",\"\",IF(IF(SUMIF('100m Manikin Carry Women'!$C$7:$C$46,$A80,'100m Manikin Carry Women'!$AE$7:$AE$46)=0,1+MAX('100m Manikin Carry Women'!$AE$7:$AE$46),SUMIF('100m Manikin Carry Women'!$C$7:$C$46,$A80,'100m Manikin Carry Women'!$AE$7:$AE$46))>2+MAX('100m Manikin Carry Women'!$AE$7:$AE$46),MAX('100m Manikin Carry Women'!$AE$7:$AE$46),IF(SUMIF('100m Manikin Carry Women'!$C$7:$C$46,$A80,'100m Manikin Carry Women'!$AE$7:$AE$46)=0,1+MAX('100m Manikin Carry Women'!$AE$7:$AE$46),SUMIF('100m Manikin Carry Women'!$C$7:$C$46,$A80,'100m Manikin Carry Women'!$AE$7:$AE$46))))","v":""},{"$f":"IF($A80=\"\",\"\",IF(IF(SUMIF('100m Manikin Tow Women'!$C$7:$C$46,$A80,'100m Manikin Tow Women'!$AE$7:$AE$46)=0,1+MAX('100m Manikin Tow Women'!$AE$7:$AE$46),SUMIF('100m Manikin Tow Women'!$C$7:$C$46,$A80,'100m Manikin Tow Women'!$AE$7:$AE$46))>2+MAX('100m Manikin Tow Women'!$AE$7:$AE$46),MAX('100m Manikin Tow Women'!$AE$7:$AE$46),IF(SUMIF('100m Manikin Tow Women'!$C$7:$C$46,$A80,'100m Manikin Tow Women'!$AE$7:$AE$46)=0,1+MAX('100m Manikin Tow Women'!$AE$7:$AE$46),SUMIF('100m Manikin Tow Women'!$C$7:$C$46,$A80,'100m Manikin Tow Women'!$AE$7:$AE$46))))","v":""},{"$f":"IF($A80=\"\",\"\",IF(IF(SUMIF('200m Obs Women'!$C$7:$C$46,$A80,'200m Obs Women'!$AE$7:$AE$46)=0,1+MAX('200m Obs Women'!$AE$7:$AE$46),SUMIF('200m Obs Women'!$C$7:$C$46,$A80,'200m Obs Women'!$AE$7:$AE$46))>2+MAX('200m Obs Women'!$AE$7:$AE$46),MAX('200m Obs Women'!$AE$7:$AE$46),IF(SUMIF('200m Obs Women'!$C$7:$C$46,$A80,'200m Obs Women'!$AE$7:$AE$46)=0,1+MAX('200m Obs Women'!$AE$7:$AE$46),SUMIF('200m Obs Women'!$C$7:$C$46,$A80,'200m Obs Women'!$AE$7:$AE$46))))","v":""},{"$f":"IF($A80=\"\",\"\",IF(IF(SUMIF('200m Super Women'!$C$7:$C$46,$A80,'200m Super Women'!$AE$7:$AE$46)=0,1+MAX('200m Super Women'!$AE$7:$AE$46),SUMIF('200m Super Women'!$C$7:$C$46,$A80,'200m Super Women'!$AE$7:$AE$46))>2+MAX('200m Super Women'!$AE$7:$AE$46),MAX('200m Super Women'!$AE$7:$AE$46),IF(SUMIF('200m Super Women'!$C$7:$C$46,$A80,'200m Super Women'!$AE$7:$AE$46)=0,1+MAX('200m Super Women'!$AE$7:$AE$46),SUMIF('200m Super Women'!$C$7:$C$46,$A80,'200m Super Women'!$AE$7:$AE$46))))","v":""},{"$f":"IF($A80=\"\",\"\",IF(IF(SUMIF('100 Resue Women'!$C$7:$C$46,$A80,'100 Resue Women'!$AE$7:$AE$46)=0,1+MAX('100 Resue Women'!$AE$7:$AE$46),SUMIF('100 Resue Women'!$C$7:$C$46,$A80,'100 Resue Women'!$AE$7:$AE$46))>2+MAX('100 Resue Women'!$AE$7:$AE$46),MAX('100 Resue Women'!$AE$7:$AE$46),IF(SUMIF('100 Resue Women'!$C$7:$C$46,$A80,'100 Resue Women'!$AE$7:$AE$46)=0,1+MAX('100 Resue Women'!$AE$7:$AE$46),SUMIF('100 Resue Women'!$C$7:$C$46,$A80,'100 Resue Women'!$AE$7:$AE$46))))","v":""},{"$f":"IF($A80=\"\",\"\",IF(IF(SUMIF('Line Throw Women'!$C$7:$C$46,$A80,'Line Throw Women'!$AG$7:$AG$46)=0,MAX('Line Throw Women'!$AG$7:$AG$46),SUMIF('Line Throw Women'!$C$7:$C$46,$A80,'Line Throw Women'!$AG$7:$AG$46))>2+MAX('Line Throw Women'!$AG$7:$AG$46),MAX('Line Throw Women'!$AG$7:$AG$46),IF(SUMIF('Line Throw Women'!$C$7:$C$46,$A80,'Line Throw Women'!$AG$7:$AG$46)=0,1+MAX('Line Throw Women'!$AG$7:$AG$46),SUMIF('Line Throw Women'!$C$7:$C$46,$A80,'Line Throw Women'!$AG$7:$AG$46))))","v":""},{"$f":"IF($A80=\"\",\"\",IF(IF(SUMIF('4 x 50 Obs Relay Women'!$C$7:$C$46,$A80,'4 x 50 Obs Relay Women'!$AJ$7:$AJ$46)=0,1+MAX('4 x 50 Obs Relay Women'!$AJ$7:$AJ$46),SUMIF('4 x 50 Obs Relay Women'!$C$7:$C$46,$A80,'4 x 50 Obs Relay Women'!$AJ$7:$AJ$46))>2+MAX('4 x 50 Obs Relay Women'!$AJ$7:$AJ$46),MAX('4 x 50 Obs Relay Women'!$AJ$7:$AJ$46),IF(SUMIF('4 x 50 Obs Relay Women'!$C$7:$C$46,$A80,'4 x 50 Obs Relay Women'!$AJ$7:$AJ$46)=0,1+MAX('4 x 50 Obs Relay Women'!$AJ$7:$AJ$46),SUMIF('4 x 50 Obs Relay Women'!$C$7:$C$46,$A80,'4 x 50 Obs Relay Women'!$AJ$7:$AJ$46))))","v":""},{"$f":"IF($A80=\"\",\"\",IF(IF(SUMIF('4 x 50 medley Relay Women'!$C$7:$C$46,$A80,'4 x 50 medley Relay Women'!$AJ$7:$AJ$46)=0,1+MAX('4 x 50 medley Relay Women'!$AJ$7:$AJ$46),SUMIF('4 x 50 medley Relay Women'!$C$7:$C$46,$A80,'4 x 50 medley Relay Women'!$AJ$7:$AJ$46))>2+MAX('4 x 50 medley Relay Women'!$AJ$7:$AJ$46),MAX('4 x 50 medley Relay Women'!$AJ$7:$AJ$46),IF(SUMIF('4 x 50 medley Relay Women'!$C$7:$C$46,$A80,'4 x 50 medley Relay Women'!$AJ$7:$AJ$46)=0,1+MAX('4 x 50 medley Relay Women'!$AJ$7:$AJ$46),SUMIF('4 x 50 medley Relay Women'!$C$7:$C$46,$A80,'4 x 50 medley Relay Women'!$AJ$7:$AJ$46))))","v":""},{"$f":"IF($A80=\"\",\"\",IF(IF(SUMIF('4 x 25 Manikin Carry Women'!$C$7:$C$46,$A80,'4 x 25 Manikin Carry Women'!$AJ$7:$AJ$46)=0,1+MAX('4 x 25 Manikin Carry Women'!$AJ$7:$AJ$46),SUMIF('4 x 25 Manikin Carry Women'!$C$7:$C$46,$A80,'4 x 25 Manikin Carry Women'!$AJ$7:$AJ$46))>2+MAX('4 x 25 Manikin Carry Women'!$AJ$7:$AJ$46),MAX('4 x 25 Manikin Carry Women'!$AJ$7:$AJ$46),IF(SUMIF('4 x 25 Manikin Carry Women'!$C$7:$C$46,$A80,'4 x 25 Manikin Carry Women'!$AJ$7:$AJ$46)=0,1+MAX('4 x 25 Manikin Carry Women'!$AJ$7:$AJ$46),SUMIF('4 x 25 Manikin Carry Women'!$C$7:$C$46,$A80,'4 x 25 Manikin Carry Women'!$AJ$7:$AJ$46))))","v":""},{"$f":"IF($A80=\"\",\"\",IF(IF(SUMIF('Line Throw Relay Women'!$C$7:$C$46,$A80,'Line Throw Relay Women'!$AJ$7:$AJ$46)=0,1+MAX('Line Throw Relay Women'!$AJ$7:$AJ$46),SUMIF('Line Throw Relay Women'!$C$7:$C$46,$A80,'Line Throw Relay Women'!$AJ$7:$AJ$46))>2+MAX('Line Throw Relay Women'!$AJ$7:$AJ$46),MAX('Line Throw Relay Women'!$AJ$7:$AJ$46),IF(SUMIF('Line Throw Relay Women'!$C$7:$C$46,$A80,'Line Throw Relay Women'!$AJ$7:$AJ$46)=0,1+MAX('Line Throw Relay Women'!$AJ$7:$AJ$46),SUMIF('Line Throw Relay Women'!$C$7:$C$46,$A80,'Line Throw Relay Women'!$AJ$7:$AJ$46))))","v":""},"",""]
["","",{"$f":"IF($A81=\"\",\"\",IF(IF(SUMIF('50m Manikin Carry Women'!$C$7:$C$46,$A81,'50m Manikin Carry Women'!$AE$7:$AE$46)=0,1+MAX('50m Manikin Carry Women'!$AE$7:$AE$46),SUMIF('50m Manikin Carry Women'!$C$7:$C$46,$A81,'50m Manikin Carry Women'!$AE$7:$AE$46))>MAX('50m Manikin Carry Women'!$AE$7:$AE$46)+2,MAX('50m Manikin Carry Women'!$AE$7:$AE$46),IF(SUMIF('50m Manikin Carry Women'!$C$7:$C$46,$A81,'50m Manikin Carry Women'!$AE$7:$AE$46)=0,1+MAX('50m Manikin Carry Women'!$AE$7:$AE$46),SUMIF('50m Manikin Carry Women'!$C$7:$C$46,$A81,'50m Manikin Carry Women'!$AE$7:$AE$46))))","v":""},{"$f":"IF($A81=\"\",\"\",IF(IF(SUMIF('100m Manikin Carry Women'!$C$7:$C$46,$A81,'100m Manikin Carry Women'!$AE$7:$AE$46)=0,1+MAX('100m Manikin Carry Women'!$AE$7:$AE$46),SUMIF('100m Manikin Carry Women'!$C$7:$C$46,$A81,'100m Manikin Carry Women'!$AE$7:$AE$46))>2+MAX('100m Manikin Carry Women'!$AE$7:$AE$46),MAX('100m Manikin Carry Women'!$AE$7:$AE$46),IF(SUMIF('100m Manikin Carry Women'!$C$7:$C$46,$A81,'100m Manikin Carry Women'!$AE$7:$AE$46)=0,1+MAX('100m Manikin Carry Women'!$AE$7:$AE$46),SUMIF('100m Manikin Carry Women'!$C$7:$C$46,$A81,'100m Manikin Carry Women'!$AE$7:$AE$46))))","v":""},{"$f":"IF($A81=\"\",\"\",IF(IF(SUMIF('100m Manikin Tow Women'!$C$7:$C$46,$A81,'100m Manikin Tow Women'!$AE$7:$AE$46)=0,1+MAX('100m Manikin Tow Women'!$AE$7:$AE$46),SUMIF('100m Manikin Tow Women'!$C$7:$C$46,$A81,'100m Manikin Tow Women'!$AE$7:$AE$46))>2+MAX('100m Manikin Tow Women'!$AE$7:$AE$46),MAX('100m Manikin Tow Women'!$AE$7:$AE$46),IF(SUMIF('100m Manikin Tow Women'!$C$7:$C$46,$A81,'100m Manikin Tow Women'!$AE$7:$AE$46)=0,1+MAX('100m Manikin Tow Women'!$AE$7:$AE$46),SUMIF('100m Manikin Tow Women'!$C$7:$C$46,$A81,'100m Manikin Tow Women'!$AE$7:$AE$46))))","v":""},{"$f":"IF($A81=\"\",\"\",IF(IF(SUMIF('200m Obs Women'!$C$7:$C$46,$A81,'200m Obs Women'!$AE$7:$AE$46)=0,1+MAX('200m Obs Women'!$AE$7:$AE$46),SUMIF('200m Obs Women'!$C$7:$C$46,$A81,'200m Obs Women'!$AE$7:$AE$46))>2+MAX('200m Obs Women'!$AE$7:$AE$46),MAX('200m Obs Women'!$AE$7:$AE$46),IF(SUMIF('200m Obs Women'!$C$7:$C$46,$A81,'200m Obs Women'!$AE$7:$AE$46)=0,1+MAX('200m Obs Women'!$AE$7:$AE$46),SUMIF('200m Obs Women'!$C$7:$C$46,$A81,'200m Obs Women'!$AE$7:$AE$46))))","v":""},{"$f":"IF($A81=\"\",\"\",IF(IF(SUMIF('200m Super Women'!$C$7:$C$46,$A81,'200m Super Women'!$AE$7:$AE$46)=0,1+MAX('200m Super Women'!$AE$7:$AE$46),SUMIF('200m Super Women'!$C$7:$C$46,$A81,'200m Super Women'!$AE$7:$AE$46))>2+MAX('200m Super Women'!$AE$7:$AE$46),MAX('200m Super Women'!$AE$7:$AE$46),IF(SUMIF('200m Super Women'!$C$7:$C$46,$A81,'200m Super Women'!$AE$7:$AE$46)=0,1+MAX('200m Super Women'!$AE$7:$AE$46),SUMIF('200m Super Women'!$C$7:$C$46,$A81,'200m Super Women'!$AE$7:$AE$46))))","v":""},{"$f":"IF($A81=\"\",\"\",IF(IF(SUMIF('100 Resue Women'!$C$7:$C$46,$A81,'100 Resue Women'!$AE$7:$AE$46)=0,1+MAX('100 Resue Women'!$AE$7:$AE$46),SUMIF('100 Resue Women'!$C$7:$C$46,$A81,'100 Resue Women'!$AE$7:$AE$46))>2+MAX('100 Resue Women'!$AE$7:$AE$46),MAX('100 Resue Women'!$AE$7:$AE$46),IF(SUMIF('100 Resue Women'!$C$7:$C$46,$A81,'100 Resue Women'!$AE$7:$AE$46)=0,1+MAX('100 Resue Women'!$AE$7:$AE$46),SUMIF('100 Resue Women'!$C$7:$C$46,$A81,'100 Resue Women'!$AE$7:$AE$46))))","v":""},{"$f":"IF($A81=\"\",\"\",IF(IF(SUMIF('Line Throw Women'!$C$7:$C$46,$A81,'Line Throw Women'!$AG$7:$AG$46)=0,MAX('Line Throw Women'!$AG$7:$AG$46),SUMIF('Line Throw Women'!$C$7:$C$46,$A81,'Line Throw Women'!$AG$7:$AG$46))>2+MAX('Line Throw Women'!$AG$7:$AG$46),MAX('Line Throw Women'!$AG$7:$AG$46),IF(SUMIF('Line Throw Women'!$C$7:$C$46,$A81,'Line Throw Women'!$AG$7:$AG$46)=0,1+MAX('Line Throw Women'!$AG$7:$AG$46),SUMIF('Line Throw Women'!$C$7:$C$46,$A81,'Line Throw Women'!$AG$7:$AG$46))))","v":""},{"$f":"IF($A81=\"\",\"\",IF(IF(SUMIF('4 x 50 Obs Relay Women'!$C$7:$C$46,$A81,'4 x 50 Obs Relay Women'!$AJ$7:$AJ$46)=0,1+MAX('4 x 50 Obs Relay Women'!$AJ$7:$AJ$46),SUMIF('4 x 50 Obs Relay Women'!$C$7:$C$46,$A81,'4 x 50 Obs Relay Women'!$AJ$7:$AJ$46))>2+MAX('4 x 50 Obs Relay Women'!$AJ$7:$AJ$46),MAX('4 x 50 Obs Relay Women'!$AJ$7:$AJ$46),IF(SUMIF('4 x 50 Obs Relay Women'!$C$7:$C$46,$A81,'4 x 50 Obs Relay Women'!$AJ$7:$AJ$46)=0,1+MAX('4 x 50 Obs Relay Women'!$AJ$7:$AJ$46),SUMIF('4 x 50 Obs Relay Women'!$C$7:$C$46,$A81,'4 x 50 Obs Relay Women'!$AJ$7:$AJ$46))))","v":""},{"$f":"IF($A81=\"\",\"\",IF(IF(SUMIF('4 x 50 medley Relay Women'!$C$7:$C$46,$A81,'4 x 50 medley Relay Women'!$AJ$7:$AJ$46)=0,1+MAX('4 x 50 medley Relay Women'!$AJ$7:$AJ$46),SUMIF('4 x 50 medley Relay Women'!$C$7:$C$46,$A81,'4 x 50 medley Relay Women'!$AJ$7:$AJ$46))>2+MAX('4 x 50 medley Relay Women'!$AJ$7:$AJ$46),MAX('4 x 50 medley Relay Women'!$AJ$7:$AJ$46),IF(SUMIF('4 x 50 medley Relay Women'!$C$7:$C$46,$A81,'4 x 50 medley Relay Women'!$AJ$7:$AJ$46)=0,1+MAX('4 x 50 medley Relay Women'!$AJ$7:$AJ$46),SUMIF('4 x 50 medley Relay Women'!$C$7:$C$46,$A81,'4 x 50 medley Relay Women'!$AJ$7:$AJ$46))))","v":""},{"$f":"IF($A81=\"\",\"\",IF(IF(SUMIF('4 x 25 Manikin Carry Women'!$C$7:$C$46,$A81,'4 x 25 Manikin Carry Women'!$AJ$7:$AJ$46)=0,1+MAX('4 x 25 Manikin Carry Women'!$AJ$7:$AJ$46),SUMIF('4 x 25 Manikin Carry Women'!$C$7:$C$46,$A81,'4 x 25 Manikin Carry Women'!$AJ$7:$AJ$46))>2+MAX('4 x 25 Manikin Carry Women'!$AJ$7:$AJ$46),MAX('4 x 25 Manikin Carry Women'!$AJ$7:$AJ$46),IF(SUMIF('4 x 25 Manikin Carry Women'!$C$7:$C$46,$A81,'4 x 25 Manikin Carry Women'!$AJ$7:$AJ$46)=0,1+MAX('4 x 25 Manikin Carry Women'!$AJ$7:$AJ$46),SUMIF('4 x 25 Manikin Carry Women'!$C$7:$C$46,$A81,'4 x 25 Manikin Carry Women'!$AJ$7:$AJ$46))))","v":""},{"$f":"IF($A81=\"\",\"\",IF(IF(SUMIF('Line Throw Relay Women'!$C$7:$C$46,$A81,'Line Throw Relay Women'!$AJ$7:$AJ$46)=0,1+MAX('Line Throw Relay Women'!$AJ$7:$AJ$46),SUMIF('Line Throw Relay Women'!$C$7:$C$46,$A81,'Line Throw Relay Women'!$AJ$7:$AJ$46))>2+MAX('Line Throw Relay Women'!$AJ$7:$AJ$46),MAX('Line Throw Relay Women'!$AJ$7:$AJ$46),IF(SUMIF('Line Throw Relay Women'!$C$7:$C$46,$A81,'Line Throw Relay Women'!$AJ$7:$AJ$46)=0,1+MAX('Line Throw Relay Women'!$AJ$7:$AJ$46),SUMIF('Line Throw Relay Women'!$C$7:$C$46,$A81,'Line Throw Relay Women'!$AJ$7:$AJ$46))))","v":""},"",""]
["","",{"$f":"IF($A82=\"\",\"\",IF(IF(SUMIF('50m Manikin Carry Women'!$C$7:$C$46,$A82,'50m Manikin Carry Women'!$AE$7:$AE$46)=0,1+MAX('50m Manikin Carry Women'!$AE$7:$AE$46),SUMIF('50m Manikin Carry Women'!$C$7:$C$46,$A82,'50m Manikin Carry Women'!$AE$7:$AE$46))>MAX('50m Manikin Carry Women'!$AE$7:$AE$46)+2,MAX('50m Manikin Carry Women'!$AE$7:$AE$46),IF(SUMIF('50m Manikin Carry Women'!$C$7:$C$46,$A82,'50m Manikin Carry Women'!$AE$7:$AE$46)=0,1+MAX('50m Manikin Carry Women'!$AE$7:$AE$46),SUMIF('50m Manikin Carry Women'!$C$7:$C$46,$A82,'50m Manikin Carry Women'!$AE$7:$AE$46))))","v":""},{"$f":"IF($A82=\"\",\"\",IF(IF(SUMIF('100m Manikin Carry Women'!$C$7:$C$46,$A82,'100m Manikin Carry Women'!$AE$7:$AE$46)=0,1+MAX('100m Manikin Carry Women'!$AE$7:$AE$46),SUMIF('100m Manikin Carry Women'!$C$7:$C$46,$A82,'100m Manikin Carry Women'!$AE$7:$AE$46))>2+MAX('100m Manikin Carry Women'!$AE$7:$AE$46),MAX('100m Manikin Carry Women'!$AE$7:$AE$46),IF(SUMIF('100m Manikin Carry Women'!$C$7:$C$46,$A82,'100m Manikin Carry Women'!$AE$7:$AE$46)=0,1+MAX('100m Manikin Carry Women'!$AE$7:$AE$46),SUMIF('100m Manikin Carry Women'!$C$7:$C$46,$A82,'100m Manikin Carry Women'!$AE$7:$AE$46))))","v":""},{"$f":"IF($A82=\"\",\"\",IF(IF(SUMIF('100m Manikin Tow Women'!$C$7:$C$46,$A82,'100m Manikin Tow Women'!$AE$7:$AE$46)=0,1+MAX('100m Manikin Tow Women'!$AE$7:$AE$46),SUMIF('100m Manikin Tow Women'!$C$7:$C$46,$A82,'100m Manikin Tow Women'!$AE$7:$AE$46))>2+MAX('100m Manikin Tow Women'!$AE$7:$AE$46),MAX('100m Manikin Tow Women'!$AE$7:$AE$46),IF(SUMIF('100m Manikin Tow Women'!$C$7:$C$46,$A82,'100m Manikin Tow Women'!$AE$7:$AE$46)=0,1+MAX('100m Manikin Tow Women'!$AE$7:$AE$46),SUMIF('100m Manikin Tow Women'!$C$7:$C$46,$A82,'100m Manikin Tow Women'!$AE$7:$AE$46))))","v":""},{"$f":"IF($A82=\"\",\"\",IF(IF(SUMIF('200m Obs Women'!$C$7:$C$46,$A82,'200m Obs Women'!$AE$7:$AE$46)=0,1+MAX('200m Obs Women'!$AE$7:$AE$46),SUMIF('200m Obs Women'!$C$7:$C$46,$A82,'200m Obs Women'!$AE$7:$AE$46))>2+MAX('200m Obs Women'!$AE$7:$AE$46),MAX('200m Obs Women'!$AE$7:$AE$46),IF(SUMIF('200m Obs Women'!$C$7:$C$46,$A82,'200m Obs Women'!$AE$7:$AE$46)=0,1+MAX('200m Obs Women'!$AE$7:$AE$46),SUMIF('200m Obs Women'!$C$7:$C$46,$A82,'200m Obs Women'!$AE$7:$AE$46))))","v":""},{"$f":"IF($A82=\"\",\"\",IF(IF(SUMIF('200m Super Women'!$C$7:$C$46,$A82,'200m Super Women'!$AE$7:$AE$46)=0,1+MAX('200m Super Women'!$AE$7:$AE$46),SUMIF('200m Super Women'!$C$7:$C$46,$A82,'200m Super Women'!$AE$7:$AE$46))>2+MAX('200m Super Women'!$AE$7:$AE$46),MAX('200m Super Women'!$AE$7:$AE$46),IF(SUMIF('200m Super Women'!$C$7:$C$46,$A82,'200m Super Women'!$AE$7:$AE$46)=0,1+MAX('200m Super Women'!$AE$7:$AE$46),SUMIF('200m Super Women'!$C$7:$C$46,$A82,'200m Super Women'!$AE$7:$AE$46))))","v":""},{"$f":"IF($A82=\"\",\"\",IF(IF(SUMIF('100 Resue Women'!$C$7:$C$46,$A82,'100 Resue Women'!$AE$7:$AE$46)=0,1+MAX('100 Resue Women'!$AE$7:$AE$46),SUMIF('100 Resue Women'!$C$7:$C$46,$A82,'100 Resue Women'!$AE$7:$AE$46))>2+MAX('100 Resue Women'!$AE$7:$AE$46),MAX('100 Resue Women'!$AE$7:$AE$46),IF(SUMIF('100 Resue Women'!$C$7:$C$46,$A82,'100 Resue Women'!$AE$7:$AE$46)=0,1+MAX('100 Resue Women'!$AE$7:$AE$46),SUMIF('100 Resue Women'!$C$7:$C$46,$A82,'100 Resue Women'!$AE$7:$AE$46))))","v":""},{"$f":"IF($A82=\"\",\"\",IF(IF(SUMIF('Line Throw Women'!$C$7:$C$46,$A82,'Line Throw Women'!$AG$7:$AG$46)=0,MAX('Line Throw Women'!$AG$7:$AG$46),SUMIF('Line Throw Women'!$C$7:$C$46,$A82,'Line Throw Women'!$AG$7:$AG$46))>2+MAX('Line Throw Women'!$AG$7:$AG$46),MAX('Line Throw Women'!$AG$7:$AG$46),IF(SUMIF('Line Throw Women'!$C$7:$C$46,$A82,'Line Throw Women'!$AG$7:$AG$46)=0,1+MAX('Line Throw Women'!$AG$7:$AG$46),SUMIF('Line Throw Women'!$C$7:$C$46,$A82,'Line Throw Women'!$AG$7:$AG$46))))","v":""},{"$f":"IF($A82=\"\",\"\",IF(IF(SUMIF('4 x 50 Obs Relay Women'!$C$7:$C$46,$A82,'4 x 50 Obs Relay Women'!$AJ$7:$AJ$46)=0,1+MAX('4 x 50 Obs Relay Women'!$AJ$7:$AJ$46),SUMIF('4 x 50 Obs Relay Women'!$C$7:$C$46,$A82,'4 x 50 Obs Relay Women'!$AJ$7:$AJ$46))>2+MAX('4 x 50 Obs Relay Women'!$AJ$7:$AJ$46),MAX('4 x 50 Obs Relay Women'!$AJ$7:$AJ$46),IF(SUMIF('4 x 50 Obs Relay Women'!$C$7:$C$46,$A82,'4 x 50 Obs Relay Women'!$AJ$7:$AJ$46)=0,1+MAX('4 x 50 Obs Relay Women'!$AJ$7:$AJ$46),SUMIF('4 x 50 Obs Relay Women'!$C$7:$C$46,$A82,'4 x 50 Obs Relay Women'!$AJ$7:$AJ$46))))","v":""},{"$f":"IF($A82=\"\",\"\",IF(IF(SUMIF('4 x 50 medley Relay Women'!$C$7:$C$46,$A82,'4 x 50 medley Relay Women'!$AJ$7:$AJ$46)=0,1+MAX('4 x 50 medley Relay Women'!$AJ$7:$AJ$46),SUMIF('4 x 50 medley Relay Women'!$C$7:$C$46,$A82,'4 x 50 medley Relay Women'!$AJ$7:$AJ$46))>2+MAX('4 x 50 medley Relay Women'!$AJ$7:$AJ$46),MAX('4 x 50 medley Relay Women'!$AJ$7:$AJ$46),IF(SUMIF('4 x 50 medley Relay Women'!$C$7:$C$46,$A82,'4 x 50 medley Relay Women'!$AJ$7:$AJ$46)=0,1+MAX('4 x 50 medley Relay Women'!$AJ$7:$AJ$46),SUMIF('4 x 50 medley Relay Women'!$C$7:$C$46,$A82,'4 x 50 medley Relay Women'!$AJ$7:$AJ$46))))","v":""},{"$f":"IF($A82=\"\",\"\",IF(IF(SUMIF('4 x 25 Manikin Carry Women'!$C$7:$C$46,$A82,'4 x 25 Manikin Carry Women'!$AJ$7:$AJ$46)=0,1+MAX('4 x 25 Manikin Carry Women'!$AJ$7:$AJ$46),SUMIF('4 x 25 Manikin Carry Women'!$C$7:$C$46,$A82,'4 x 25 Manikin Carry Women'!$AJ$7:$AJ$46))>2+MAX('4 x 25 Manikin Carry Women'!$AJ$7:$AJ$46),MAX('4 x 25 Manikin Carry Women'!$AJ$7:$AJ$46),IF(SUMIF('4 x 25 Manikin Carry Women'!$C$7:$C$46,$A82,'4 x 25 Manikin Carry Women'!$AJ$7:$AJ$46)=0,1+MAX('4 x 25 Manikin Carry Women'!$AJ$7:$AJ$46),SUMIF('4 x 25 Manikin Carry Women'!$C$7:$C$46,$A82,'4 x 25 Manikin Carry Women'!$AJ$7:$AJ$46))))","v":""},{"$f":"IF($A82=\"\",\"\",IF(IF(SUMIF('Line Throw Relay Women'!$C$7:$C$46,$A82,'Line Throw Relay Women'!$AJ$7:$AJ$46)=0,1+MAX('Line Throw Relay Women'!$AJ$7:$AJ$46),SUMIF('Line Throw Relay Women'!$C$7:$C$46,$A82,'Line Throw Relay Women'!$AJ$7:$AJ$46))>2+MAX('Line Throw Relay Women'!$AJ$7:$AJ$46),MAX('Line Throw Relay Women'!$AJ$7:$AJ$46),IF(SUMIF('Line Throw Relay Women'!$C$7:$C$46,$A82,'Line Throw Relay Women'!$AJ$7:$AJ$46)=0,1+MAX('Line Throw Relay Women'!$AJ$7:$AJ$46),SUMIF('Line Throw Relay Women'!$C$7:$C$46,$A82,'Line Throw Relay Women'!$AJ$7:$AJ$46))))","v":""},"",""]
["","",{"$f":"IF($A83=\"\",\"\",IF(IF(SUMIF('50m Manikin Carry Women'!$C$7:$C$46,$A83,'50m Manikin Carry Women'!$AE$7:$AE$46)=0,1+MAX('50m Manikin Carry Women'!$AE$7:$AE$46),SUMIF('50m Manikin Carry Women'!$C$7:$C$46,$A83,'50m Manikin Carry Women'!$AE$7:$AE$46))>MAX('50m Manikin Carry Women'!$AE$7:$AE$46)+2,MAX('50m Manikin Carry Women'!$AE$7:$AE$46),IF(SUMIF('50m Manikin Carry Women'!$C$7:$C$46,$A83,'50m Manikin Carry Women'!$AE$7:$AE$46)=0,1+MAX('50m Manikin Carry Women'!$AE$7:$AE$46),SUMIF('50m Manikin Carry Women'!$C$7:$C$46,$A83,'50m Manikin Carry Women'!$AE$7:$AE$46))))","v":""},{"$f":"IF($A83=\"\",\"\",IF(IF(SUMIF('100m Manikin Carry Women'!$C$7:$C$46,$A83,'100m Manikin Carry Women'!$AE$7:$AE$46)=0,1+MAX('100m Manikin Carry Women'!$AE$7:$AE$46),SUMIF('100m Manikin Carry Women'!$C$7:$C$46,$A83,'100m Manikin Carry Women'!$AE$7:$AE$46))>2+MAX('100m Manikin Carry Women'!$AE$7:$AE$46),MAX('100m Manikin Carry Women'!$AE$7:$AE$46),IF(SUMIF('100m Manikin Carry Women'!$C$7:$C$46,$A83,'100m Manikin Carry Women'!$AE$7:$AE$46)=0,1+MAX('100m Manikin Carry Women'!$AE$7:$AE$46),SUMIF('100m Manikin Carry Women'!$C$7:$C$46,$A83,'100m Manikin Carry Women'!$AE$7:$AE$46))))","v":""},{"$f":"IF($A83=\"\",\"\",IF(IF(SUMIF('100m Manikin Tow Women'!$C$7:$C$46,$A83,'100m Manikin Tow Women'!$AE$7:$AE$46)=0,1+MAX('100m Manikin Tow Women'!$AE$7:$AE$46),SUMIF('100m Manikin Tow Women'!$C$7:$C$46,$A83,'100m Manikin Tow Women'!$AE$7:$AE$46))>2+MAX('100m Manikin Tow Women'!$AE$7:$AE$46),MAX('100m Manikin Tow Women'!$AE$7:$AE$46),IF(SUMIF('100m Manikin Tow Women'!$C$7:$C$46,$A83,'100m Manikin Tow Women'!$AE$7:$AE$46)=0,1+MAX('100m Manikin Tow Women'!$AE$7:$AE$46),SUMIF('100m Manikin Tow Women'!$C$7:$C$46,$A83,'100m Manikin Tow Women'!$AE$7:$AE$46))))","v":""},{"$f":"IF($A83=\"\",\"\",IF(IF(SUMIF('200m Obs Women'!$C$7:$C$46,$A83,'200m Obs Women'!$AE$7:$AE$46)=0,1+MAX('200m Obs Women'!$AE$7:$AE$46),SUMIF('200m Obs Women'!$C$7:$C$46,$A83,'200m Obs Women'!$AE$7:$AE$46))>2+MAX('200m Obs Women'!$AE$7:$AE$46),MAX('200m Obs Women'!$AE$7:$AE$46),IF(SUMIF('200m Obs Women'!$C$7:$C$46,$A83,'200m Obs Women'!$AE$7:$AE$46)=0,1+MAX('200m Obs Women'!$AE$7:$AE$46),SUMIF('200m Obs Women'!$C$7:$C$46,$A83,'200m Obs Women'!$AE$7:$AE$46))))","v":""},{"$f":"IF($A83=\"\",\"\",IF(IF(SUMIF('200m Super Women'!$C$7:$C$46,$A83,'200m Super Women'!$AE$7:$AE$46)=0,1+MAX('200m Super Women'!$AE$7:$AE$46),SUMIF('200m Super Women'!$C$7:$C$46,$A83,'200m Super Women'!$AE$7:$AE$46))>2+MAX('200m Super Women'!$AE$7:$AE$46),MAX('200m Super Women'!$AE$7:$AE$46),IF(SUMIF('200m Super Women'!$C$7:$C$46,$A83,'200m Super Women'!$AE$7:$AE$46)=0,1+MAX('200m Super Women'!$AE$7:$AE$46),SUMIF('200m Super Women'!$C$7:$C$46,$A83,'200m Super Women'!$AE$7:$AE$46))))","v":""},{"$f":"IF($A83=\"\",\"\",IF(IF(SUMIF('100 Resue Women'!$C$7:$C$46,$A83,'100 Resue Women'!$AE$7:$AE$46)=0,1+MAX('100 Resue Women'!$AE$7:$AE$46),SUMIF('100 Resue Women'!$C$7:$C$46,$A83,'100 Resue Women'!$AE$7:$AE$46))>2+MAX('100 Resue Women'!$AE$7:$AE$46),MAX('100 Resue Women'!$AE$7:$AE$46),IF(SUMIF('100 Resue Women'!$C$7:$C$46,$A83,'100 Resue Women'!$AE$7:$AE$46)=0,1+MAX('100 Resue Women'!$AE$7:$AE$46),SUMIF('100 Resue Women'!$C$7:$C$46,$A83,'100 Resue Women'!$AE$7:$AE$46))))","v":""},{"$f":"IF($A83=\"\",\"\",IF(IF(SUMIF('Line Throw Women'!$C$7:$C$46,$A83,'Line Throw Women'!$AG$7:$AG$46)=0,MAX('Line Throw Women'!$AG$7:$AG$46),SUMIF('Line Throw Women'!$C$7:$C$46,$A83,'Line Throw Women'!$AG$7:$AG$46))>2+MAX('Line Throw Women'!$AG$7:$AG$46),MAX('Line Throw Women'!$AG$7:$AG$46),IF(SUMIF('Line Throw Women'!$C$7:$C$46,$A83,'Line Throw Women'!$AG$7:$AG$46)=0,1+MAX('Line Throw Women'!$AG$7:$AG$46),SUMIF('Line Throw Women'!$C$7:$C$46,$A83,'Line Throw Women'!$AG$7:$AG$46))))","v":""},{"$f":"IF($A83=\"\",\"\",IF(IF(SUMIF('4 x 50 Obs Relay Women'!$C$7:$C$46,$A83,'4 x 50 Obs Relay Women'!$AJ$7:$AJ$46)=0,1+MAX('4 x 50 Obs Relay Women'!$AJ$7:$AJ$46),SUMIF('4 x 50 Obs Relay Women'!$C$7:$C$46,$A83,'4 x 50 Obs Relay Women'!$AJ$7:$AJ$46))>2+MAX('4 x 50 Obs Relay Women'!$AJ$7:$AJ$46),MAX('4 x 50 Obs Relay Women'!$AJ$7:$AJ$46),IF(SUMIF('4 x 50 Obs Relay Women'!$C$7:$C$46,$A83,'4 x 50 Obs Relay Women'!$AJ$7:$AJ$46)=0,1+MAX('4 x 50 Obs Relay Women'!$AJ$7:$AJ$46),SUMIF('4 x 50 Obs Relay Women'!$C$7:$C$46,$A83,'4 x 50 Obs Relay Women'!$AJ$7:$AJ$46))))","v":""},{"$f":"IF($A83=\"\",\"\",IF(IF(SUMIF('4 x 50 medley Relay Women'!$C$7:$C$46,$A83,'4 x 50 medley Relay Women'!$AJ$7:$AJ$46)=0,1+MAX('4 x 50 medley Relay Women'!$AJ$7:$AJ$46),SUMIF('4 x 50 medley Relay Women'!$C$7:$C$46,$A83,'4 x 50 medley Relay Women'!$AJ$7:$AJ$46))>2+MAX('4 x 50 medley Relay Women'!$AJ$7:$AJ$46),MAX('4 x 50 medley Relay Women'!$AJ$7:$AJ$46),IF(SUMIF('4 x 50 medley Relay Women'!$C$7:$C$46,$A83,'4 x 50 medley Relay Women'!$AJ$7:$AJ$46)=0,1+MAX('4 x 50 medley Relay Women'!$AJ$7:$AJ$46),SUMIF('4 x 50 medley Relay Women'!$C$7:$C$46,$A83,'4 x 50 medley Relay Women'!$AJ$7:$AJ$46))))","v":""},{"$f":"IF($A83=\"\",\"\",IF(IF(SUMIF('4 x 25 Manikin Carry Women'!$C$7:$C$46,$A83,'4 x 25 Manikin Carry Women'!$AJ$7:$AJ$46)=0,1+MAX('4 x 25 Manikin Carry Women'!$AJ$7:$AJ$46),SUMIF('4 x 25 Manikin Carry Women'!$C$7:$C$46,$A83,'4 x 25 Manikin Carry Women'!$AJ$7:$AJ$46))>2+MAX('4 x 25 Manikin Carry Women'!$AJ$7:$AJ$46),MAX('4 x 25 Manikin Carry Women'!$AJ$7:$AJ$46),IF(SUMIF('4 x 25 Manikin Carry Women'!$C$7:$C$46,$A83,'4 x 25 Manikin Carry Women'!$AJ$7:$AJ$46)=0,1+MAX('4 x 25 Manikin Carry Women'!$AJ$7:$AJ$46),SUMIF('4 x 25 Manikin Carry Women'!$C$7:$C$46,$A83,'4 x 25 Manikin Carry Women'!$AJ$7:$AJ$46))))","v":""},{"$f":"IF($A83=\"\",\"\",IF(IF(SUMIF('Line Throw Relay Women'!$C$7:$C$46,$A83,'Line Throw Relay Women'!$AJ$7:$AJ$46)=0,1+MAX('Line Throw Relay Women'!$AJ$7:$AJ$46),SUMIF('Line Throw Relay Women'!$C$7:$C$46,$A83,'Line Throw Relay Women'!$AJ$7:$AJ$46))>2+MAX('Line Throw Relay Women'!$AJ$7:$AJ$46),MAX('Line Throw Relay Women'!$AJ$7:$AJ$46),IF(SUMIF('Line Throw Relay Women'!$C$7:$C$46,$A83,'Line Throw Relay Women'!$AJ$7:$AJ$46)=0,1+MAX('Line Throw Relay Women'!$AJ$7:$AJ$46),SUMIF('Line Throw Relay Women'!$C$7:$C$46,$A83,'Line Throw Relay Women'!$AJ$7:$AJ$46))))","v":""},"",""]
["","",{"$f":"IF($A84=\"\",\"\",IF(IF(SUMIF('50m Manikin Carry Women'!$C$7:$C$46,$A84,'50m Manikin Carry Women'!$AE$7:$AE$46)=0,1+MAX('50m Manikin Carry Women'!$AE$7:$AE$46),SUMIF('50m Manikin Carry Women'!$C$7:$C$46,$A84,'50m Manikin Carry Women'!$AE$7:$AE$46))>MAX('50m Manikin Carry Women'!$AE$7:$AE$46)+2,MAX('50m Manikin Carry Women'!$AE$7:$AE$46),IF(SUMIF('50m Manikin Carry Women'!$C$7:$C$46,$A84,'50m Manikin Carry Women'!$AE$7:$AE$46)=0,1+MAX('50m Manikin Carry Women'!$AE$7:$AE$46),SUMIF('50m Manikin Carry Women'!$C$7:$C$46,$A84,'50m Manikin Carry Women'!$AE$7:$AE$46))))","v":""},{"$f":"IF($A84=\"\",\"\",IF(IF(SUMIF('100m Manikin Carry Women'!$C$7:$C$46,$A84,'100m Manikin Carry Women'!$AE$7:$AE$46)=0,1+MAX('100m Manikin Carry Women'!$AE$7:$AE$46),SUMIF('100m Manikin Carry Women'!$C$7:$C$46,$A84,'100m Manikin Carry Women'!$AE$7:$AE$46))>2+MAX('100m Manikin Carry Women'!$AE$7:$AE$46),MAX('100m Manikin Carry Women'!$AE$7:$AE$46),IF(SUMIF('100m Manikin Carry Women'!$C$7:$C$46,$A84,'100m Manikin Carry Women'!$AE$7:$AE$46)=0,1+MAX('100m Manikin Carry Women'!$AE$7:$AE$46),SUMIF('100m Manikin Carry Women'!$C$7:$C$46,$A84,'100m Manikin Carry Women'!$AE$7:$AE$46))))","v":""},{"$f":"IF($A84=\"\",\"\",IF(IF(SUMIF('100m Manikin Tow Women'!$C$7:$C$46,$A84,'100m Manikin Tow Women'!$AE$7:$AE$46)=0,1+MAX('100m Manikin Tow Women'!$AE$7:$AE$46),SUMIF('100m Manikin Tow Women'!$C$7:$C$46,$A84,'100m Manikin Tow Women'!$AE$7:$AE$46))>2+MAX('100m Manikin Tow Women'!$AE$7:$AE$46),MAX('100m Manikin Tow Women'!$AE$7:$AE$46),IF(SUMIF('100m Manikin Tow Women'!$C$7:$C$46,$A84,'100m Manikin Tow Women'!$AE$7:$AE$46)=0,1+MAX('100m Manikin Tow Women'!$AE$7:$AE$46),SUMIF('100m Manikin Tow Women'!$C$7:$C$46,$A84,'100m Manikin Tow Women'!$AE$7:$AE$46))))","v":""},{"$f":"IF($A84=\"\",\"\",IF(IF(SUMIF('200m Obs Women'!$C$7:$C$46,$A84,'200m Obs Women'!$AE$7:$AE$46)=0,1+MAX('200m Obs Women'!$AE$7:$AE$46),SUMIF('200m Obs Women'!$C$7:$C$46,$A84,'200m Obs Women'!$AE$7:$AE$46))>2+MAX('200m Obs Women'!$AE$7:$AE$46),MAX('200m Obs Women'!$AE$7:$AE$46),IF(SUMIF('200m Obs Women'!$C$7:$C$46,$A84,'200m Obs Women'!$AE$7:$AE$46)=0,1+MAX('200m Obs Women'!$AE$7:$AE$46),SUMIF('200m Obs Women'!$C$7:$C$46,$A84,'200m Obs Women'!$AE$7:$AE$46))))","v":""},{"$f":"IF($A84=\"\",\"\",IF(IF(SUMIF('200m Super Women'!$C$7:$C$46,$A84,'200m Super Women'!$AE$7:$AE$46)=0,1+MAX('200m Super Women'!$AE$7:$AE$46),SUMIF('200m Super Women'!$C$7:$C$46,$A84,'200m Super Women'!$AE$7:$AE$46))>2+MAX('200m Super Women'!$AE$7:$AE$46),MAX('200m Super Women'!$AE$7:$AE$46),IF(SUMIF('200m Super Women'!$C$7:$C$46,$A84,'200m Super Women'!$AE$7:$AE$46)=0,1+MAX('200m Super Women'!$AE$7:$AE$46),SUMIF('200m Super Women'!$C$7:$C$46,$A84,'200m Super Women'!$AE$7:$AE$46))))","v":""},{"$f":"IF($A84=\"\",\"\",IF(IF(SUMIF('100 Resue Women'!$C$7:$C$46,$A84,'100 Resue Women'!$AE$7:$AE$46)=0,1+MAX('100 Resue Women'!$AE$7:$AE$46),SUMIF('100 Resue Women'!$C$7:$C$46,$A84,'100 Resue Women'!$AE$7:$AE$46))>2+MAX('100 Resue Women'!$AE$7:$AE$46),MAX('100 Resue Women'!$AE$7:$AE$46),IF(SUMIF('100 Resue Women'!$C$7:$C$46,$A84,'100 Resue Women'!$AE$7:$AE$46)=0,1+MAX('100 Resue Women'!$AE$7:$AE$46),SUMIF('100 Resue Women'!$C$7:$C$46,$A84,'100 Resue Women'!$AE$7:$AE$46))))","v":""},{"$f":"IF($A84=\"\",\"\",IF(IF(SUMIF('Line Throw Women'!$C$7:$C$46,$A84,'Line Throw Women'!$AG$7:$AG$46)=0,MAX('Line Throw Women'!$AG$7:$AG$46),SUMIF('Line Throw Women'!$C$7:$C$46,$A84,'Line Throw Women'!$AG$7:$AG$46))>2+MAX('Line Throw Women'!$AG$7:$AG$46),MAX('Line Throw Women'!$AG$7:$AG$46),IF(SUMIF('Line Throw Women'!$C$7:$C$46,$A84,'Line Throw Women'!$AG$7:$AG$46)=0,1+MAX('Line Throw Women'!$AG$7:$AG$46),SUMIF('Line Throw Women'!$C$7:$C$46,$A84,'Line Throw Women'!$AG$7:$AG$46))))","v":""},{"$f":"IF($A84=\"\",\"\",IF(IF(SUMIF('4 x 50 Obs Relay Women'!$C$7:$C$46,$A84,'4 x 50 Obs Relay Women'!$AJ$7:$AJ$46)=0,1+MAX('4 x 50 Obs Relay Women'!$AJ$7:$AJ$46),SUMIF('4 x 50 Obs Relay Women'!$C$7:$C$46,$A84,'4 x 50 Obs Relay Women'!$AJ$7:$AJ$46))>2+MAX('4 x 50 Obs Relay Women'!$AJ$7:$AJ$46),MAX('4 x 50 Obs Relay Women'!$AJ$7:$AJ$46),IF(SUMIF('4 x 50 Obs Relay Women'!$C$7:$C$46,$A84,'4 x 50 Obs Relay Women'!$AJ$7:$AJ$46)=0,1+MAX('4 x 50 Obs Relay Women'!$AJ$7:$AJ$46),SUMIF('4 x 50 Obs Relay Women'!$C$7:$C$46,$A84,'4 x 50 Obs Relay Women'!$AJ$7:$AJ$46))))","v":""},{"$f":"IF($A84=\"\",\"\",IF(IF(SUMIF('4 x 50 medley Relay Women'!$C$7:$C$46,$A84,'4 x 50 medley Relay Women'!$AJ$7:$AJ$46)=0,1+MAX('4 x 50 medley Relay Women'!$AJ$7:$AJ$46),SUMIF('4 x 50 medley Relay Women'!$C$7:$C$46,$A84,'4 x 50 medley Relay Women'!$AJ$7:$AJ$46))>2+MAX('4 x 50 medley Relay Women'!$AJ$7:$AJ$46),MAX('4 x 50 medley Relay Women'!$AJ$7:$AJ$46),IF(SUMIF('4 x 50 medley Relay Women'!$C$7:$C$46,$A84,'4 x 50 medley Relay Women'!$AJ$7:$AJ$46)=0,1+MAX('4 x 50 medley Relay Women'!$AJ$7:$AJ$46),SUMIF('4 x 50 medley Relay Women'!$C$7:$C$46,$A84,'4 x 50 medley Relay Women'!$AJ$7:$AJ$46))))","v":""},{"$f":"IF($A84=\"\",\"\",IF(IF(SUMIF('4 x 25 Manikin Carry Women'!$C$7:$C$46,$A84,'4 x 25 Manikin Carry Women'!$AJ$7:$AJ$46)=0,1+MAX('4 x 25 Manikin Carry Women'!$AJ$7:$AJ$46),SUMIF('4 x 25 Manikin Carry Women'!$C$7:$C$46,$A84,'4 x 25 Manikin Carry Women'!$AJ$7:$AJ$46))>2+MAX('4 x 25 Manikin Carry Women'!$AJ$7:$AJ$46),MAX('4 x 25 Manikin Carry Women'!$AJ$7:$AJ$46),IF(SUMIF('4 x 25 Manikin Carry Women'!$C$7:$C$46,$A84,'4 x 25 Manikin Carry Women'!$AJ$7:$AJ$46)=0,1+MAX('4 x 25 Manikin Carry Women'!$AJ$7:$AJ$46),SUMIF('4 x 25 Manikin Carry Women'!$C$7:$C$46,$A84,'4 x 25 Manikin Carry Women'!$AJ$7:$AJ$46))))","v":""},{"$f":"IF($A84=\"\",\"\",IF(IF(SUMIF('Line Throw Relay Women'!$C$7:$C$46,$A84,'Line Throw Relay Women'!$AJ$7:$AJ$46)=0,1+MAX('Line Throw Relay Women'!$AJ$7:$AJ$46),SUMIF('Line Throw Relay Women'!$C$7:$C$46,$A84,'Line Throw Relay Women'!$AJ$7:$AJ$46))>2+MAX('Line Throw Relay Women'!$AJ$7:$AJ$46),MAX('Line Throw Relay Women'!$AJ$7:$AJ$46),IF(SUMIF('Line Throw Relay Women'!$C$7:$C$46,$A84,'Line Throw Relay Women'!$AJ$7:$AJ$46)=0,1+MAX('Line Throw Relay Women'!$AJ$7:$AJ$46),SUMIF('Line Throw Relay Women'!$C$7:$C$46,$A84,'Line Throw Relay Women'!$AJ$7:$AJ$46))))","v":""},"",""]
["","",{"$f":"IF($A85=\"\",\"\",IF(IF(SUMIF('50m Manikin Carry Women'!$C$7:$C$46,$A85,'50m Manikin Carry Women'!$AE$7:$AE$46)=0,1+MAX('50m Manikin Carry Women'!$AE$7:$AE$46),SUMIF('50m Manikin Carry Women'!$C$7:$C$46,$A85,'50m Manikin Carry Women'!$AE$7:$AE$46))>MAX('50m Manikin Carry Women'!$AE$7:$AE$46)+2,MAX('50m Manikin Carry Women'!$AE$7:$AE$46),IF(SUMIF('50m Manikin Carry Women'!$C$7:$C$46,$A85,'50m Manikin Carry Women'!$AE$7:$AE$46)=0,1+MAX('50m Manikin Carry Women'!$AE$7:$AE$46),SUMIF('50m Manikin Carry Women'!$C$7:$C$46,$A85,'50m Manikin Carry Women'!$AE$7:$AE$46))))","v":""},{"$f":"IF($A85=\"\",\"\",IF(IF(SUMIF('100m Manikin Carry Women'!$C$7:$C$46,$A85,'100m Manikin Carry Women'!$AE$7:$AE$46)=0,1+MAX('100m Manikin Carry Women'!$AE$7:$AE$46),SUMIF('100m Manikin Carry Women'!$C$7:$C$46,$A85,'100m Manikin Carry Women'!$AE$7:$AE$46))>2+MAX('100m Manikin Carry Women'!$AE$7:$AE$46),MAX('100m Manikin Carry Women'!$AE$7:$AE$46),IF(SUMIF('100m Manikin Carry Women'!$C$7:$C$46,$A85,'100m Manikin Carry Women'!$AE$7:$AE$46)=0,1+MAX('100m Manikin Carry Women'!$AE$7:$AE$46),SUMIF('100m Manikin Carry Women'!$C$7:$C$46,$A85,'100m Manikin Carry Women'!$AE$7:$AE$46))))","v":""},{"$f":"IF($A85=\"\",\"\",IF(IF(SUMIF('100m Manikin Tow Women'!$C$7:$C$46,$A85,'100m Manikin Tow Women'!$AE$7:$AE$46)=0,1+MAX('100m Manikin Tow Women'!$AE$7:$AE$46),SUMIF('100m Manikin Tow Women'!$C$7:$C$46,$A85,'100m Manikin Tow Women'!$AE$7:$AE$46))>2+MAX('100m Manikin Tow Women'!$AE$7:$AE$46),MAX('100m Manikin Tow Women'!$AE$7:$AE$46),IF(SUMIF('100m Manikin Tow Women'!$C$7:$C$46,$A85,'100m Manikin Tow Women'!$AE$7:$AE$46)=0,1+MAX('100m Manikin Tow Women'!$AE$7:$AE$46),SUMIF('100m Manikin Tow Women'!$C$7:$C$46,$A85,'100m Manikin Tow Women'!$AE$7:$AE$46))))","v":""},{"$f":"IF($A85=\"\",\"\",IF(IF(SUMIF('200m Obs Women'!$C$7:$C$46,$A85,'200m Obs Women'!$AE$7:$AE$46)=0,1+MAX('200m Obs Women'!$AE$7:$AE$46),SUMIF('200m Obs Women'!$C$7:$C$46,$A85,'200m Obs Women'!$AE$7:$AE$46))>2+MAX('200m Obs Women'!$AE$7:$AE$46),MAX('200m Obs Women'!$AE$7:$AE$46),IF(SUMIF('200m Obs Women'!$C$7:$C$46,$A85,'200m Obs Women'!$AE$7:$AE$46)=0,1+MAX('200m Obs Women'!$AE$7:$AE$46),SUMIF('200m Obs Women'!$C$7:$C$46,$A85,'200m Obs Women'!$AE$7:$AE$46))))","v":""},{"$f":"IF($A85=\"\",\"\",IF(IF(SUMIF('200m Super Women'!$C$7:$C$46,$A85,'200m Super Women'!$AE$7:$AE$46)=0,1+MAX('200m Super Women'!$AE$7:$AE$46),SUMIF('200m Super Women'!$C$7:$C$46,$A85,'200m Super Women'!$AE$7:$AE$46))>2+MAX('200m Super Women'!$AE$7:$AE$46),MAX('200m Super Women'!$AE$7:$AE$46),IF(SUMIF('200m Super Women'!$C$7:$C$46,$A85,'200m Super Women'!$AE$7:$AE$46)=0,1+MAX('200m Super Women'!$AE$7:$AE$46),SUMIF('200m Super Women'!$C$7:$C$46,$A85,'200m Super Women'!$AE$7:$AE$46))))","v":""},{"$f":"IF($A85=\"\",\"\",IF(IF(SUMIF('100 Resue Women'!$C$7:$C$46,$A85,'100 Resue Women'!$AE$7:$AE$46)=0,1+MAX('100 Resue Women'!$AE$7:$AE$46),SUMIF('100 Resue Women'!$C$7:$C$46,$A85,'100 Resue Women'!$AE$7:$AE$46))>2+MAX('100 Resue Women'!$AE$7:$AE$46),MAX('100 Resue Women'!$AE$7:$AE$46),IF(SUMIF('100 Resue Women'!$C$7:$C$46,$A85,'100 Resue Women'!$AE$7:$AE$46)=0,1+MAX('100 Resue Women'!$AE$7:$AE$46),SUMIF('100 Resue Women'!$C$7:$C$46,$A85,'100 Resue Women'!$AE$7:$AE$46))))","v":""},{"$f":"IF($A85=\"\",\"\",IF(IF(SUMIF('Line Throw Women'!$C$7:$C$46,$A85,'Line Throw Women'!$AG$7:$AG$46)=0,MAX('Line Throw Women'!$AG$7:$AG$46),SUMIF('Line Throw Women'!$C$7:$C$46,$A85,'Line Throw Women'!$AG$7:$AG$46))>2+MAX('Line Throw Women'!$AG$7:$AG$46),MAX('Line Throw Women'!$AG$7:$AG$46),IF(SUMIF('Line Throw Women'!$C$7:$C$46,$A85,'Line Throw Women'!$AG$7:$AG$46)=0,1+MAX('Line Throw Women'!$AG$7:$AG$46),SUMIF('Line Throw Women'!$C$7:$C$46,$A85,'Line Throw Women'!$AG$7:$AG$46))))","v":""},{"$f":"IF($A85=\"\",\"\",IF(IF(SUMIF('4 x 50 Obs Relay Women'!$C$7:$C$46,$A85,'4 x 50 Obs Relay Women'!$AJ$7:$AJ$46)=0,1+MAX('4 x 50 Obs Relay Women'!$AJ$7:$AJ$46),SUMIF('4 x 50 Obs Relay Women'!$C$7:$C$46,$A85,'4 x 50 Obs Relay Women'!$AJ$7:$AJ$46))>2+MAX('4 x 50 Obs Relay Women'!$AJ$7:$AJ$46),MAX('4 x 50 Obs Relay Women'!$AJ$7:$AJ$46),IF(SUMIF('4 x 50 Obs Relay Women'!$C$7:$C$46,$A85,'4 x 50 Obs Relay Women'!$AJ$7:$AJ$46)=0,1+MAX('4 x 50 Obs Relay Women'!$AJ$7:$AJ$46),SUMIF('4 x 50 Obs Relay Women'!$C$7:$C$46,$A85,'4 x 50 Obs Relay Women'!$AJ$7:$AJ$46))))","v":""},{"$f":"IF($A85=\"\",\"\",IF(IF(SUMIF('4 x 50 medley Relay Women'!$C$7:$C$46,$A85,'4 x 50 medley Relay Women'!$AJ$7:$AJ$46)=0,1+MAX('4 x 50 medley Relay Women'!$AJ$7:$AJ$46),SUMIF('4 x 50 medley Relay Women'!$C$7:$C$46,$A85,'4 x 50 medley Relay Women'!$AJ$7:$AJ$46))>2+MAX('4 x 50 medley Relay Women'!$AJ$7:$AJ$46),MAX('4 x 50 medley Relay Women'!$AJ$7:$AJ$46),IF(SUMIF('4 x 50 medley Relay Women'!$C$7:$C$46,$A85,'4 x 50 medley Relay Women'!$AJ$7:$AJ$46)=0,1+MAX('4 x 50 medley Relay Women'!$AJ$7:$AJ$46),SUMIF('4 x 50 medley Relay Women'!$C$7:$C$46,$A85,'4 x 50 medley Relay Women'!$AJ$7:$AJ$46))))","v":""},{"$f":"IF($A85=\"\",\"\",IF(IF(SUMIF('4 x 25 Manikin Carry Women'!$C$7:$C$46,$A85,'4 x 25 Manikin Carry Women'!$AJ$7:$AJ$46)=0,1+MAX('4 x 25 Manikin Carry Women'!$AJ$7:$AJ$46),SUMIF('4 x 25 Manikin Carry Women'!$C$7:$C$46,$A85,'4 x 25 Manikin Carry Women'!$AJ$7:$AJ$46))>2+MAX('4 x 25 Manikin Carry Women'!$AJ$7:$AJ$46),MAX('4 x 25 Manikin Carry Women'!$AJ$7:$AJ$46),IF(SUMIF('4 x 25 Manikin Carry Women'!$C$7:$C$46,$A85,'4 x 25 Manikin Carry Women'!$AJ$7:$AJ$46)=0,1+MAX('4 x 25 Manikin Carry Women'!$AJ$7:$AJ$46),SUMIF('4 x 25 Manikin Carry Women'!$C$7:$C$46,$A85,'4 x 25 Manikin Carry Women'!$AJ$7:$AJ$46))))","v":""},{"$f":"IF($A85=\"\",\"\",IF(IF(SUMIF('Line Throw Relay Women'!$C$7:$C$46,$A85,'Line Throw Relay Women'!$AJ$7:$AJ$46)=0,1+MAX('Line Throw Relay Women'!$AJ$7:$AJ$46),SUMIF('Line Throw Relay Women'!$C$7:$C$46,$A85,'Line Throw Relay Women'!$AJ$7:$AJ$46))>2+MAX('Line Throw Relay Women'!$AJ$7:$AJ$46),MAX('Line Throw Relay Women'!$AJ$7:$AJ$46),IF(SUMIF('Line Throw Relay Women'!$C$7:$C$46,$A85,'Line Throw Relay Women'!$AJ$7:$AJ$46)=0,1+MAX('Line Throw Relay Women'!$AJ$7:$AJ$46),SUMIF('Line Throw Relay Women'!$C$7:$C$46,$A85,'Line Throw Relay Women'!$AJ$7:$AJ$46))))","v":""},"",""]
["","",{"$f":"IF($A86=\"\",\"\",IF(IF(SUMIF('50m Manikin Carry Women'!$C$7:$C$46,$A86,'50m Manikin Carry Women'!$AE$7:$AE$46)=0,1+MAX('50m Manikin Carry Women'!$AE$7:$AE$46),SUMIF('50m Manikin Carry Women'!$C$7:$C$46,$A86,'50m Manikin Carry Women'!$AE$7:$AE$46))>MAX('50m Manikin Carry Women'!$AE$7:$AE$46)+2,MAX('50m Manikin Carry Women'!$AE$7:$AE$46),IF(SUMIF('50m Manikin Carry Women'!$C$7:$C$46,$A86,'50m Manikin Carry Women'!$AE$7:$AE$46)=0,1+MAX('50m Manikin Carry Women'!$AE$7:$AE$46),SUMIF('50m Manikin Carry Women'!$C$7:$C$46,$A86,'50m Manikin Carry Women'!$AE$7:$AE$46))))","v":""},{"$f":"IF($A86=\"\",\"\",IF(IF(SUMIF('100m Manikin Carry Women'!$C$7:$C$46,$A86,'100m Manikin Carry Women'!$AE$7:$AE$46)=0,1+MAX('100m Manikin Carry Women'!$AE$7:$AE$46),SUMIF('100m Manikin Carry Women'!$C$7:$C$46,$A86,'100m Manikin Carry Women'!$AE$7:$AE$46))>2+MAX('100m Manikin Carry Women'!$AE$7:$AE$46),MAX('100m Manikin Carry Women'!$AE$7:$AE$46),IF(SUMIF('100m Manikin Carry Women'!$C$7:$C$46,$A86,'100m Manikin Carry Women'!$AE$7:$AE$46)=0,1+MAX('100m Manikin Carry Women'!$AE$7:$AE$46),SUMIF('100m Manikin Carry Women'!$C$7:$C$46,$A86,'100m Manikin Carry Women'!$AE$7:$AE$46))))","v":""},{"$f":"IF($A86=\"\",\"\",IF(IF(SUMIF('100m Manikin Tow Women'!$C$7:$C$46,$A86,'100m Manikin Tow Women'!$AE$7:$AE$46)=0,1+MAX('100m Manikin Tow Women'!$AE$7:$AE$46),SUMIF('100m Manikin Tow Women'!$C$7:$C$46,$A86,'100m Manikin Tow Women'!$AE$7:$AE$46))>2+MAX('100m Manikin Tow Women'!$AE$7:$AE$46),MAX('100m Manikin Tow Women'!$AE$7:$AE$46),IF(SUMIF('100m Manikin Tow Women'!$C$7:$C$46,$A86,'100m Manikin Tow Women'!$AE$7:$AE$46)=0,1+MAX('100m Manikin Tow Women'!$AE$7:$AE$46),SUMIF('100m Manikin Tow Women'!$C$7:$C$46,$A86,'100m Manikin Tow Women'!$AE$7:$AE$46))))","v":""},{"$f":"IF($A86=\"\",\"\",IF(IF(SUMIF('200m Obs Women'!$C$7:$C$46,$A86,'200m Obs Women'!$AE$7:$AE$46)=0,1+MAX('200m Obs Women'!$AE$7:$AE$46),SUMIF('200m Obs Women'!$C$7:$C$46,$A86,'200m Obs Women'!$AE$7:$AE$46))>2+MAX('200m Obs Women'!$AE$7:$AE$46),MAX('200m Obs Women'!$AE$7:$AE$46),IF(SUMIF('200m Obs Women'!$C$7:$C$46,$A86,'200m Obs Women'!$AE$7:$AE$46)=0,1+MAX('200m Obs Women'!$AE$7:$AE$46),SUMIF('200m Obs Women'!$C$7:$C$46,$A86,'200m Obs Women'!$AE$7:$AE$46))))","v":""},{"$f":"IF($A86=\"\",\"\",IF(IF(SUMIF('200m Super Women'!$C$7:$C$46,$A86,'200m Super Women'!$AE$7:$AE$46)=0,1+MAX('200m Super Women'!$AE$7:$AE$46),SUMIF('200m Super Women'!$C$7:$C$46,$A86,'200m Super Women'!$AE$7:$AE$46))>2+MAX('200m Super Women'!$AE$7:$AE$46),MAX('200m Super Women'!$AE$7:$AE$46),IF(SUMIF('200m Super Women'!$C$7:$C$46,$A86,'200m Super Women'!$AE$7:$AE$46)=0,1+MAX('200m Super Women'!$AE$7:$AE$46),SUMIF('200m Super Women'!$C$7:$C$46,$A86,'200m Super Women'!$AE$7:$AE$46))))","v":""},{"$f":"IF($A86=\"\",\"\",IF(IF(SUMIF('100 Resue Women'!$C$7:$C$46,$A86,'100 Resue Women'!$AE$7:$AE$46)=0,1+MAX('100 Resue Women'!$AE$7:$AE$46),SUMIF('100 Resue Women'!$C$7:$C$46,$A86,'100 Resue Women'!$AE$7:$AE$46))>2+MAX('100 Resue Women'!$AE$7:$AE$46),MAX('100 Resue Women'!$AE$7:$AE$46),IF(SUMIF('100 Resue Women'!$C$7:$C$46,$A86,'100 Resue Women'!$AE$7:$AE$46)=0,1+MAX('100 Resue Women'!$AE$7:$AE$46),SUMIF('100 Resue Women'!$C$7:$C$46,$A86,'100 Resue Women'!$AE$7:$AE$46))))","v":""},{"$f":"IF($A86=\"\",\"\",IF(IF(SUMIF('Line Throw Women'!$C$7:$C$46,$A86,'Line Throw Women'!$AG$7:$AG$46)=0,MAX('Line Throw Women'!$AG$7:$AG$46),SUMIF('Line Throw Women'!$C$7:$C$46,$A86,'Line Throw Women'!$AG$7:$AG$46))>2+MAX('Line Throw Women'!$AG$7:$AG$46),MAX('Line Throw Women'!$AG$7:$AG$46),IF(SUMIF('Line Throw Women'!$C$7:$C$46,$A86,'Line Throw Women'!$AG$7:$AG$46)=0,1+MAX('Line Throw Women'!$AG$7:$AG$46),SUMIF('Line Throw Women'!$C$7:$C$46,$A86,'Line Throw Women'!$AG$7:$AG$46))))","v":""},{"$f":"IF($A86=\"\",\"\",IF(IF(SUMIF('4 x 50 Obs Relay Women'!$C$7:$C$46,$A86,'4 x 50 Obs Relay Women'!$AJ$7:$AJ$46)=0,1+MAX('4 x 50 Obs Relay Women'!$AJ$7:$AJ$46),SUMIF('4 x 50 Obs Relay Women'!$C$7:$C$46,$A86,'4 x 50 Obs Relay Women'!$AJ$7:$AJ$46))>2+MAX('4 x 50 Obs Relay Women'!$AJ$7:$AJ$46),MAX('4 x 50 Obs Relay Women'!$AJ$7:$AJ$46),IF(SUMIF('4 x 50 Obs Relay Women'!$C$7:$C$46,$A86,'4 x 50 Obs Relay Women'!$AJ$7:$AJ$46)=0,1+MAX('4 x 50 Obs Relay Women'!$AJ$7:$AJ$46),SUMIF('4 x 50 Obs Relay Women'!$C$7:$C$46,$A86,'4 x 50 Obs Relay Women'!$AJ$7:$AJ$46))))","v":""},{"$f":"IF($A86=\"\",\"\",IF(IF(SUMIF('4 x 50 medley Relay Women'!$C$7:$C$46,$A86,'4 x 50 medley Relay Women'!$AJ$7:$AJ$46)=0,1+MAX('4 x 50 medley Relay Women'!$AJ$7:$AJ$46),SUMIF('4 x 50 medley Relay Women'!$C$7:$C$46,$A86,'4 x 50 medley Relay Women'!$AJ$7:$AJ$46))>2+MAX('4 x 50 medley Relay Women'!$AJ$7:$AJ$46),MAX('4 x 50 medley Relay Women'!$AJ$7:$AJ$46),IF(SUMIF('4 x 50 medley Relay Women'!$C$7:$C$46,$A86,'4 x 50 medley Relay Women'!$AJ$7:$AJ$46)=0,1+MAX('4 x 50 medley Relay Women'!$AJ$7:$AJ$46),SUMIF('4 x 50 medley Relay Women'!$C$7:$C$46,$A86,'4 x 50 medley Relay Women'!$AJ$7:$AJ$46))))","v":""},{"$f":"IF($A86=\"\",\"\",IF(IF(SUMIF('4 x 25 Manikin Carry Women'!$C$7:$C$46,$A86,'4 x 25 Manikin Carry Women'!$AJ$7:$AJ$46)=0,1+MAX('4 x 25 Manikin Carry Women'!$AJ$7:$AJ$46),SUMIF('4 x 25 Manikin Carry Women'!$C$7:$C$46,$A86,'4 x 25 Manikin Carry Women'!$AJ$7:$AJ$46))>2+MAX('4 x 25 Manikin Carry Women'!$AJ$7:$AJ$46),MAX('4 x 25 Manikin Carry Women'!$AJ$7:$AJ$46),IF(SUMIF('4 x 25 Manikin Carry Women'!$C$7:$C$46,$A86,'4 x 25 Manikin Carry Women'!$AJ$7:$AJ$46)=0,1+MAX('4 x 25 Manikin Carry Women'!$AJ$7:$AJ$46),SUMIF('4 x 25 Manikin Carry Women'!$C$7:$C$46,$A86,'4 x 25 Manikin Carry Women'!$AJ$7:$AJ$46))))","v":""},{"$f":"IF($A86=\"\",\"\",IF(IF(SUMIF('Line Throw Relay Women'!$C$7:$C$46,$A86,'Line Throw Relay Women'!$AJ$7:$AJ$46)=0,1+MAX('Line Throw Relay Women'!$AJ$7:$AJ$46),SUMIF('Line Throw Relay Women'!$C$7:$C$46,$A86,'Line Throw Relay Women'!$AJ$7:$AJ$46))>2+MAX('Line Throw Relay Women'!$AJ$7:$AJ$46),MAX('Line Throw Relay Women'!$AJ$7:$AJ$46),IF(SUMIF('Line Throw Relay Women'!$C$7:$C$46,$A86,'Line Throw Relay Women'!$AJ$7:$AJ$46)=0,1+MAX('Line Throw Relay Women'!$AJ$7:$AJ$46),SUMIF('Line Throw Relay Women'!$C$7:$C$46,$A86,'Line Throw Relay Women'!$AJ$7:$AJ$46))))","v":""},"",""]
["","",{"$f":"IF($A87=\"\",\"\",IF(IF(SUMIF('50m Manikin Carry Women'!$C$7:$C$46,$A87,'50m Manikin Carry Women'!$AE$7:$AE$46)=0,1+MAX('50m Manikin Carry Women'!$AE$7:$AE$46),SUMIF('50m Manikin Carry Women'!$C$7:$C$46,$A87,'50m Manikin Carry Women'!$AE$7:$AE$46))>MAX('50m Manikin Carry Women'!$AE$7:$AE$46)+2,MAX('50m Manikin Carry Women'!$AE$7:$AE$46),IF(SUMIF('50m Manikin Carry Women'!$C$7:$C$46,$A87,'50m Manikin Carry Women'!$AE$7:$AE$46)=0,1+MAX('50m Manikin Carry Women'!$AE$7:$AE$46),SUMIF('50m Manikin Carry Women'!$C$7:$C$46,$A87,'50m Manikin Carry Women'!$AE$7:$AE$46))))","v":""},{"$f":"IF($A87=\"\",\"\",IF(IF(SUMIF('100m Manikin Carry Women'!$C$7:$C$46,$A87,'100m Manikin Carry Women'!$AE$7:$AE$46)=0,1+MAX('100m Manikin Carry Women'!$AE$7:$AE$46),SUMIF('100m Manikin Carry Women'!$C$7:$C$46,$A87,'100m Manikin Carry Women'!$AE$7:$AE$46))>2+MAX('100m Manikin Carry Women'!$AE$7:$AE$46),MAX('100m Manikin Carry Women'!$AE$7:$AE$46),IF(SUMIF('100m Manikin Carry Women'!$C$7:$C$46,$A87,'100m Manikin Carry Women'!$AE$7:$AE$46)=0,1+MAX('100m Manikin Carry Women'!$AE$7:$AE$46),SUMIF('100m Manikin Carry Women'!$C$7:$C$46,$A87,'100m Manikin Carry Women'!$AE$7:$AE$46))))","v":""},{"$f":"IF($A87=\"\",\"\",IF(IF(SUMIF('100m Manikin Tow Women'!$C$7:$C$46,$A87,'100m Manikin Tow Women'!$AE$7:$AE$46)=0,1+MAX('100m Manikin Tow Women'!$AE$7:$AE$46),SUMIF('100m Manikin Tow Women'!$C$7:$C$46,$A87,'100m Manikin Tow Women'!$AE$7:$AE$46))>2+MAX('100m Manikin Tow Women'!$AE$7:$AE$46),MAX('100m Manikin Tow Women'!$AE$7:$AE$46),IF(SUMIF('100m Manikin Tow Women'!$C$7:$C$46,$A87,'100m Manikin Tow Women'!$AE$7:$AE$46)=0,1+MAX('100m Manikin Tow Women'!$AE$7:$AE$46),SUMIF('100m Manikin Tow Women'!$C$7:$C$46,$A87,'100m Manikin Tow Women'!$AE$7:$AE$46))))","v":""},{"$f":"IF($A87=\"\",\"\",IF(IF(SUMIF('200m Obs Women'!$C$7:$C$46,$A87,'200m Obs Women'!$AE$7:$AE$46)=0,1+MAX('200m Obs Women'!$AE$7:$AE$46),SUMIF('200m Obs Women'!$C$7:$C$46,$A87,'200m Obs Women'!$AE$7:$AE$46))>2+MAX('200m Obs Women'!$AE$7:$AE$46),MAX('200m Obs Women'!$AE$7:$AE$46),IF(SUMIF('200m Obs Women'!$C$7:$C$46,$A87,'200m Obs Women'!$AE$7:$AE$46)=0,1+MAX('200m Obs Women'!$AE$7:$AE$46),SUMIF('200m Obs Women'!$C$7:$C$46,$A87,'200m Obs Women'!$AE$7:$AE$46))))","v":""},{"$f":"IF($A87=\"\",\"\",IF(IF(SUMIF('200m Super Women'!$C$7:$C$46,$A87,'200m Super Women'!$AE$7:$AE$46)=0,1+MAX('200m Super Women'!$AE$7:$AE$46),SUMIF('200m Super Women'!$C$7:$C$46,$A87,'200m Super Women'!$AE$7:$AE$46))>2+MAX('200m Super Women'!$AE$7:$AE$46),MAX('200m Super Women'!$AE$7:$AE$46),IF(SUMIF('200m Super Women'!$C$7:$C$46,$A87,'200m Super Women'!$AE$7:$AE$46)=0,1+MAX('200m Super Women'!$AE$7:$AE$46),SUMIF('200m Super Women'!$C$7:$C$46,$A87,'200m Super Women'!$AE$7:$AE$46))))","v":""},{"$f":"IF($A87=\"\",\"\",IF(IF(SUMIF('100 Resue Women'!$C$7:$C$46,$A87,'100 Resue Women'!$AE$7:$AE$46)=0,1+MAX('100 Resue Women'!$AE$7:$AE$46),SUMIF('100 Resue Women'!$C$7:$C$46,$A87,'100 Resue Women'!$AE$7:$AE$46))>2+MAX('100 Resue Women'!$AE$7:$AE$46),MAX('100 Resue Women'!$AE$7:$AE$46),IF(SUMIF('100 Resue Women'!$C$7:$C$46,$A87,'100 Resue Women'!$AE$7:$AE$46)=0,1+MAX('100 Resue Women'!$AE$7:$AE$46),SUMIF('100 Resue Women'!$C$7:$C$46,$A87,'100 Resue Women'!$AE$7:$AE$46))))","v":""},{"$f":"IF($A87=\"\",\"\",IF(IF(SUMIF('Line Throw Women'!$C$7:$C$46,$A87,'Line Throw Women'!$AG$7:$AG$46)=0,MAX('Line Throw Women'!$AG$7:$AG$46),SUMIF('Line Throw Women'!$C$7:$C$46,$A87,'Line Throw Women'!$AG$7:$AG$46))>2+MAX('Line Throw Women'!$AG$7:$AG$46),MAX('Line Throw Women'!$AG$7:$AG$46),IF(SUMIF('Line Throw Women'!$C$7:$C$46,$A87,'Line Throw Women'!$AG$7:$AG$46)=0,1+MAX('Line Throw Women'!$AG$7:$AG$46),SUMIF('Line Throw Women'!$C$7:$C$46,$A87,'Line Throw Women'!$AG$7:$AG$46))))","v":""},{"$f":"IF($A87=\"\",\"\",IF(IF(SUMIF('4 x 50 Obs Relay Women'!$C$7:$C$46,$A87,'4 x 50 Obs Relay Women'!$AJ$7:$AJ$46)=0,1+MAX('4 x 50 Obs Relay Women'!$AJ$7:$AJ$46),SUMIF('4 x 50 Obs Relay Women'!$C$7:$C$46,$A87,'4 x 50 Obs Relay Women'!$AJ$7:$AJ$46))>2+MAX('4 x 50 Obs Relay Women'!$AJ$7:$AJ$46),MAX('4 x 50 Obs Relay Women'!$AJ$7:$AJ$46),IF(SUMIF('4 x 50 Obs Relay Women'!$C$7:$C$46,$A87,'4 x 50 Obs Relay Women'!$AJ$7:$AJ$46)=0,1+MAX('4 x 50 Obs Relay Women'!$AJ$7:$AJ$46),SUMIF('4 x 50 Obs Relay Women'!$C$7:$C$46,$A87,'4 x 50 Obs Relay Women'!$AJ$7:$AJ$46))))","v":""},{"$f":"IF($A87=\"\",\"\",IF(IF(SUMIF('4 x 50 medley Relay Women'!$C$7:$C$46,$A87,'4 x 50 medley Relay Women'!$AJ$7:$AJ$46)=0,1+MAX('4 x 50 medley Relay Women'!$AJ$7:$AJ$46),SUMIF('4 x 50 medley Relay Women'!$C$7:$C$46,$A87,'4 x 50 medley Relay Women'!$AJ$7:$AJ$46))>2+MAX('4 x 50 medley Relay Women'!$AJ$7:$AJ$46),MAX('4 x 50 medley Relay Women'!$AJ$7:$AJ$46),IF(SUMIF('4 x 50 medley Relay Women'!$C$7:$C$46,$A87,'4 x 50 medley Relay Women'!$AJ$7:$AJ$46)=0,1+MAX('4 x 50 medley Relay Women'!$AJ$7:$AJ$46),SUMIF('4 x 50 medley Relay Women'!$C$7:$C$46,$A87,'4 x 50 medley Relay Women'!$AJ$7:$AJ$46))))","v":""},{"$f":"IF($A87=\"\",\"\",IF(IF(SUMIF('4 x 25 Manikin Carry Women'!$C$7:$C$46,$A87,'4 x 25 Manikin Carry Women'!$AJ$7:$AJ$46)=0,1+MAX('4 x 25 Manikin Carry Women'!$AJ$7:$AJ$46),SUMIF('4 x 25 Manikin Carry Women'!$C$7:$C$46,$A87,'4 x 25 Manikin Carry Women'!$AJ$7:$AJ$46))>2+MAX('4 x 25 Manikin Carry Women'!$AJ$7:$AJ$46),MAX('4 x 25 Manikin Carry Women'!$AJ$7:$AJ$46),IF(SUMIF('4 x 25 Manikin Carry Women'!$C$7:$C$46,$A87,'4 x 25 Manikin Carry Women'!$AJ$7:$AJ$46)=0,1+MAX('4 x 25 Manikin Carry Women'!$AJ$7:$AJ$46),SUMIF('4 x 25 Manikin Carry Women'!$C$7:$C$46,$A87,'4 x 25 Manikin Carry Women'!$AJ$7:$AJ$46))))","v":""},{"$f":"IF($A87=\"\",\"\",IF(IF(SUMIF('Line Throw Relay Women'!$C$7:$C$46,$A87,'Line Throw Relay Women'!$AJ$7:$AJ$46)=0,1+MAX('Line Throw Relay Women'!$AJ$7:$AJ$46),SUMIF('Line Throw Relay Women'!$C$7:$C$46,$A87,'Line Throw Relay Women'!$AJ$7:$AJ$46))>2+MAX('Line Throw Relay Women'!$AJ$7:$AJ$46),MAX('Line Throw Relay Women'!$AJ$7:$AJ$46),IF(SUMIF('Line Throw Relay Women'!$C$7:$C$46,$A87,'Line Throw Relay Women'!$AJ$7:$AJ$46)=0,1+MAX('Line Throw Relay Women'!$AJ$7:$AJ$46),SUMIF('Line Throw Relay Women'!$C$7:$C$46,$A87,'Line Throw Relay Women'!$AJ$7:$AJ$46))))","v":""},"",""]
["","",{"$f":"IF($A88=\"\",\"\",IF(IF(SUMIF('50m Manikin Carry Women'!$C$7:$C$46,$A88,'50m Manikin Carry Women'!$AE$7:$AE$46)=0,1+MAX('50m Manikin Carry Women'!$AE$7:$AE$46),SUMIF('50m Manikin Carry Women'!$C$7:$C$46,$A88,'50m Manikin Carry Women'!$AE$7:$AE$46))>MAX('50m Manikin Carry Women'!$AE$7:$AE$46)+2,MAX('50m Manikin Carry Women'!$AE$7:$AE$46),IF(SUMIF('50m Manikin Carry Women'!$C$7:$C$46,$A88,'50m Manikin Carry Women'!$AE$7:$AE$46)=0,1+MAX('50m Manikin Carry Women'!$AE$7:$AE$46),SUMIF('50m Manikin Carry Women'!$C$7:$C$46,$A88,'50m Manikin Carry Women'!$AE$7:$AE$46))))","v":""},{"$f":"IF($A88=\"\",\"\",IF(IF(SUMIF('100m Manikin Carry Women'!$C$7:$C$46,$A88,'100m Manikin Carry Women'!$AE$7:$AE$46)=0,1+MAX('100m Manikin Carry Women'!$AE$7:$AE$46),SUMIF('100m Manikin Carry Women'!$C$7:$C$46,$A88,'100m Manikin Carry Women'!$AE$7:$AE$46))>2+MAX('100m Manikin Carry Women'!$AE$7:$AE$46),MAX('100m Manikin Carry Women'!$AE$7:$AE$46),IF(SUMIF('100m Manikin Carry Women'!$C$7:$C$46,$A88,'100m Manikin Carry Women'!$AE$7:$AE$46)=0,1+MAX('100m Manikin Carry Women'!$AE$7:$AE$46),SUMIF('100m Manikin Carry Women'!$C$7:$C$46,$A88,'100m Manikin Carry Women'!$AE$7:$AE$46))))","v":""},{"$f":"IF($A88=\"\",\"\",IF(IF(SUMIF('100m Manikin Tow Women'!$C$7:$C$46,$A88,'100m Manikin Tow Women'!$AE$7:$AE$46)=0,1+MAX('100m Manikin Tow Women'!$AE$7:$AE$46),SUMIF('100m Manikin Tow Women'!$C$7:$C$46,$A88,'100m Manikin Tow Women'!$AE$7:$AE$46))>2+MAX('100m Manikin Tow Women'!$AE$7:$AE$46),MAX('100m Manikin Tow Women'!$AE$7:$AE$46),IF(SUMIF('100m Manikin Tow Women'!$C$7:$C$46,$A88,'100m Manikin Tow Women'!$AE$7:$AE$46)=0,1+MAX('100m Manikin Tow Women'!$AE$7:$AE$46),SUMIF('100m Manikin Tow Women'!$C$7:$C$46,$A88,'100m Manikin Tow Women'!$AE$7:$AE$46))))","v":""},{"$f":"IF($A88=\"\",\"\",IF(IF(SUMIF('200m Obs Women'!$C$7:$C$46,$A88,'200m Obs Women'!$AE$7:$AE$46)=0,1+MAX('200m Obs Women'!$AE$7:$AE$46),SUMIF('200m Obs Women'!$C$7:$C$46,$A88,'200m Obs Women'!$AE$7:$AE$46))>2+MAX('200m Obs Women'!$AE$7:$AE$46),MAX('200m Obs Women'!$AE$7:$AE$46),IF(SUMIF('200m Obs Women'!$C$7:$C$46,$A88,'200m Obs Women'!$AE$7:$AE$46)=0,1+MAX('200m Obs Women'!$AE$7:$AE$46),SUMIF('200m Obs Women'!$C$7:$C$46,$A88,'200m Obs Women'!$AE$7:$AE$46))))","v":""},{"$f":"IF($A88=\"\",\"\",IF(IF(SUMIF('200m Super Women'!$C$7:$C$46,$A88,'200m Super Women'!$AE$7:$AE$46)=0,1+MAX('200m Super Women'!$AE$7:$AE$46),SUMIF('200m Super Women'!$C$7:$C$46,$A88,'200m Super Women'!$AE$7:$AE$46))>2+MAX('200m Super Women'!$AE$7:$AE$46),MAX('200m Super Women'!$AE$7:$AE$46),IF(SUMIF('200m Super Women'!$C$7:$C$46,$A88,'200m Super Women'!$AE$7:$AE$46)=0,1+MAX('200m Super Women'!$AE$7:$AE$46),SUMIF('200m Super Women'!$C$7:$C$46,$A88,'200m Super Women'!$AE$7:$AE$46))))","v":""},{"$f":"IF($A88=\"\",\"\",IF(IF(SUMIF('100 Resue Women'!$C$7:$C$46,$A88,'100 Resue Women'!$AE$7:$AE$46)=0,1+MAX('100 Resue Women'!$AE$7:$AE$46),SUMIF('100 Resue Women'!$C$7:$C$46,$A88,'100 Resue Women'!$AE$7:$AE$46))>2+MAX('100 Resue Women'!$AE$7:$AE$46),MAX('100 Resue Women'!$AE$7:$AE$46),IF(SUMIF('100 Resue Women'!$C$7:$C$46,$A88,'100 Resue Women'!$AE$7:$AE$46)=0,1+MAX('100 Resue Women'!$AE$7:$AE$46),SUMIF('100 Resue Women'!$C$7:$C$46,$A88,'100 Resue Women'!$AE$7:$AE$46))))","v":""},{"$f":"IF($A88=\"\",\"\",IF(IF(SUMIF('Line Throw Women'!$C$7:$C$46,$A88,'Line Throw Women'!$AG$7:$AG$46)=0,MAX('Line Throw Women'!$AG$7:$AG$46),SUMIF('Line Throw Women'!$C$7:$C$46,$A88,'Line Throw Women'!$AG$7:$AG$46))>2+MAX('Line Throw Women'!$AG$7:$AG$46),MAX('Line Throw Women'!$AG$7:$AG$46),IF(SUMIF('Line Throw Women'!$C$7:$C$46,$A88,'Line Throw Women'!$AG$7:$AG$46)=0,1+MAX('Line Throw Women'!$AG$7:$AG$46),SUMIF('Line Throw Women'!$C$7:$C$46,$A88,'Line Throw Women'!$AG$7:$AG$46))))","v":""},{"$f":"IF($A88=\"\",\"\",IF(IF(SUMIF('4 x 50 Obs Relay Women'!$C$7:$C$46,$A88,'4 x 50 Obs Relay Women'!$AJ$7:$AJ$46)=0,1+MAX('4 x 50 Obs Relay Women'!$AJ$7:$AJ$46),SUMIF('4 x 50 Obs Relay Women'!$C$7:$C$46,$A88,'4 x 50 Obs Relay Women'!$AJ$7:$AJ$46))>2+MAX('4 x 50 Obs Relay Women'!$AJ$7:$AJ$46),MAX('4 x 50 Obs Relay Women'!$AJ$7:$AJ$46),IF(SUMIF('4 x 50 Obs Relay Women'!$C$7:$C$46,$A88,'4 x 50 Obs Relay Women'!$AJ$7:$AJ$46)=0,1+MAX('4 x 50 Obs Relay Women'!$AJ$7:$AJ$46),SUMIF('4 x 50 Obs Relay Women'!$C$7:$C$46,$A88,'4 x 50 Obs Relay Women'!$AJ$7:$AJ$46))))","v":""},{"$f":"IF($A88=\"\",\"\",IF(IF(SUMIF('4 x 50 medley Relay Women'!$C$7:$C$46,$A88,'4 x 50 medley Relay Women'!$AJ$7:$AJ$46)=0,1+MAX('4 x 50 medley Relay Women'!$AJ$7:$AJ$46),SUMIF('4 x 50 medley Relay Women'!$C$7:$C$46,$A88,'4 x 50 medley Relay Women'!$AJ$7:$AJ$46))>2+MAX('4 x 50 medley Relay Women'!$AJ$7:$AJ$46),MAX('4 x 50 medley Relay Women'!$AJ$7:$AJ$46),IF(SUMIF('4 x 50 medley Relay Women'!$C$7:$C$46,$A88,'4 x 50 medley Relay Women'!$AJ$7:$AJ$46)=0,1+MAX('4 x 50 medley Relay Women'!$AJ$7:$AJ$46),SUMIF('4 x 50 medley Relay Women'!$C$7:$C$46,$A88,'4 x 50 medley Relay Women'!$AJ$7:$AJ$46))))","v":""},{"$f":"IF($A88=\"\",\"\",IF(IF(SUMIF('4 x 25 Manikin Carry Women'!$C$7:$C$46,$A88,'4 x 25 Manikin Carry Women'!$AJ$7:$AJ$46)=0,1+MAX('4 x 25 Manikin Carry Women'!$AJ$7:$AJ$46),SUMIF('4 x 25 Manikin Carry Women'!$C$7:$C$46,$A88,'4 x 25 Manikin Carry Women'!$AJ$7:$AJ$46))>2+MAX('4 x 25 Manikin Carry Women'!$AJ$7:$AJ$46),MAX('4 x 25 Manikin Carry Women'!$AJ$7:$AJ$46),IF(SUMIF('4 x 25 Manikin Carry Women'!$C$7:$C$46,$A88,'4 x 25 Manikin Carry Women'!$AJ$7:$AJ$46)=0,1+MAX('4 x 25 Manikin Carry Women'!$AJ$7:$AJ$46),SUMIF('4 x 25 Manikin Carry Women'!$C$7:$C$46,$A88,'4 x 25 Manikin Carry Women'!$AJ$7:$AJ$46))))","v":""},{"$f":"IF($A88=\"\",\"\",IF(IF(SUMIF('Line Throw Relay Women'!$C$7:$C$46,$A88,'Line Throw Relay Women'!$AJ$7:$AJ$46)=0,1+MAX('Line Throw Relay Women'!$AJ$7:$AJ$46),SUMIF('Line Throw Relay Women'!$C$7:$C$46,$A88,'Line Throw Relay Women'!$AJ$7:$AJ$46))>2+MAX('Line Throw Relay Women'!$AJ$7:$AJ$46),MAX('Line Throw Relay Women'!$AJ$7:$AJ$46),IF(SUMIF('Line Throw Relay Women'!$C$7:$C$46,$A88,'Line Throw Relay Women'!$AJ$7:$AJ$46)=0,1+MAX('Line Throw Relay Women'!$AJ$7:$AJ$46),SUMIF('Line Throw Relay Women'!$C$7:$C$46,$A88,'Line Throw Relay Women'!$AJ$7:$AJ$46))))","v":""},"",""]
["","",{"$f":"IF($A89=\"\",\"\",IF(IF(SUMIF('50m Manikin Carry Women'!$C$7:$C$46,$A89,'50m Manikin Carry Women'!$AE$7:$AE$46)=0,1+MAX('50m Manikin Carry Women'!$AE$7:$AE$46),SUMIF('50m Manikin Carry Women'!$C$7:$C$46,$A89,'50m Manikin Carry Women'!$AE$7:$AE$46))>MAX('50m Manikin Carry Women'!$AE$7:$AE$46)+2,MAX('50m Manikin Carry Women'!$AE$7:$AE$46),IF(SUMIF('50m Manikin Carry Women'!$C$7:$C$46,$A89,'50m Manikin Carry Women'!$AE$7:$AE$46)=0,1+MAX('50m Manikin Carry Women'!$AE$7:$AE$46),SUMIF('50m Manikin Carry Women'!$C$7:$C$46,$A89,'50m Manikin Carry Women'!$AE$7:$AE$46))))","v":""},{"$f":"IF($A89=\"\",\"\",IF(IF(SUMIF('100m Manikin Carry Women'!$C$7:$C$46,$A89,'100m Manikin Carry Women'!$AE$7:$AE$46)=0,1+MAX('100m Manikin Carry Women'!$AE$7:$AE$46),SUMIF('100m Manikin Carry Women'!$C$7:$C$46,$A89,'100m Manikin Carry Women'!$AE$7:$AE$46))>2+MAX('100m Manikin Carry Women'!$AE$7:$AE$46),MAX('100m Manikin Carry Women'!$AE$7:$AE$46),IF(SUMIF('100m Manikin Carry Women'!$C$7:$C$46,$A89,'100m Manikin Carry Women'!$AE$7:$AE$46)=0,1+MAX('100m Manikin Carry Women'!$AE$7:$AE$46),SUMIF('100m Manikin Carry Women'!$C$7:$C$46,$A89,'100m Manikin Carry Women'!$AE$7:$AE$46))))","v":""},{"$f":"IF($A89=\"\",\"\",IF(IF(SUMIF('100m Manikin Tow Women'!$C$7:$C$46,$A89,'100m Manikin Tow Women'!$AE$7:$AE$46)=0,1+MAX('100m Manikin Tow Women'!$AE$7:$AE$46),SUMIF('100m Manikin Tow Women'!$C$7:$C$46,$A89,'100m Manikin Tow Women'!$AE$7:$AE$46))>2+MAX('100m Manikin Tow Women'!$AE$7:$AE$46),MAX('100m Manikin Tow Women'!$AE$7:$AE$46),IF(SUMIF('100m Manikin Tow Women'!$C$7:$C$46,$A89,'100m Manikin Tow Women'!$AE$7:$AE$46)=0,1+MAX('100m Manikin Tow Women'!$AE$7:$AE$46),SUMIF('100m Manikin Tow Women'!$C$7:$C$46,$A89,'100m Manikin Tow Women'!$AE$7:$AE$46))))","v":""},{"$f":"IF($A89=\"\",\"\",IF(IF(SUMIF('200m Obs Women'!$C$7:$C$46,$A89,'200m Obs Women'!$AE$7:$AE$46)=0,1+MAX('200m Obs Women'!$AE$7:$AE$46),SUMIF('200m Obs Women'!$C$7:$C$46,$A89,'200m Obs Women'!$AE$7:$AE$46))>2+MAX('200m Obs Women'!$AE$7:$AE$46),MAX('200m Obs Women'!$AE$7:$AE$46),IF(SUMIF('200m Obs Women'!$C$7:$C$46,$A89,'200m Obs Women'!$AE$7:$AE$46)=0,1+MAX('200m Obs Women'!$AE$7:$AE$46),SUMIF('200m Obs Women'!$C$7:$C$46,$A89,'200m Obs Women'!$AE$7:$AE$46))))","v":""},{"$f":"IF($A89=\"\",\"\",IF(IF(SUMIF('200m Super Women'!$C$7:$C$46,$A89,'200m Super Women'!$AE$7:$AE$46)=0,1+MAX('200m Super Women'!$AE$7:$AE$46),SUMIF('200m Super Women'!$C$7:$C$46,$A89,'200m Super Women'!$AE$7:$AE$46))>2+MAX('200m Super Women'!$AE$7:$AE$46),MAX('200m Super Women'!$AE$7:$AE$46),IF(SUMIF('200m Super Women'!$C$7:$C$46,$A89,'200m Super Women'!$AE$7:$AE$46)=0,1+MAX('200m Super Women'!$AE$7:$AE$46),SUMIF('200m Super Women'!$C$7:$C$46,$A89,'200m Super Women'!$AE$7:$AE$46))))","v":""},{"$f":"IF($A89=\"\",\"\",IF(IF(SUMIF('100 Resue Women'!$C$7:$C$46,$A89,'100 Resue Women'!$AE$7:$AE$46)=0,1+MAX('100 Resue Women'!$AE$7:$AE$46),SUMIF('100 Resue Women'!$C$7:$C$46,$A89,'100 Resue Women'!$AE$7:$AE$46))>2+MAX('100 Resue Women'!$AE$7:$AE$46),MAX('100 Resue Women'!$AE$7:$AE$46),IF(SUMIF('100 Resue Women'!$C$7:$C$46,$A89,'100 Resue Women'!$AE$7:$AE$46)=0,1+MAX('100 Resue Women'!$AE$7:$AE$46),SUMIF('100 Resue Women'!$C$7:$C$46,$A89,'100 Resue Women'!$AE$7:$AE$46))))","v":""},{"$f":"IF($A89=\"\",\"\",IF(IF(SUMIF('Line Throw Women'!$C$7:$C$46,$A89,'Line Throw Women'!$AG$7:$AG$46)=0,MAX('Line Throw Women'!$AG$7:$AG$46),SUMIF('Line Throw Women'!$C$7:$C$46,$A89,'Line Throw Women'!$AG$7:$AG$46))>2+MAX('Line Throw Women'!$AG$7:$AG$46),MAX('Line Throw Women'!$AG$7:$AG$46),IF(SUMIF('Line Throw Women'!$C$7:$C$46,$A89,'Line Throw Women'!$AG$7:$AG$46)=0,1+MAX('Line Throw Women'!$AG$7:$AG$46),SUMIF('Line Throw Women'!$C$7:$C$46,$A89,'Line Throw Women'!$AG$7:$AG$46))))","v":""},{"$f":"IF($A89=\"\",\"\",IF(IF(SUMIF('4 x 50 Obs Relay Women'!$C$7:$C$46,$A89,'4 x 50 Obs Relay Women'!$AJ$7:$AJ$46)=0,1+MAX('4 x 50 Obs Relay Women'!$AJ$7:$AJ$46),SUMIF('4 x 50 Obs Relay Women'!$C$7:$C$46,$A89,'4 x 50 Obs Relay Women'!$AJ$7:$AJ$46))>2+MAX('4 x 50 Obs Relay Women'!$AJ$7:$AJ$46),MAX('4 x 50 Obs Relay Women'!$AJ$7:$AJ$46),IF(SUMIF('4 x 50 Obs Relay Women'!$C$7:$C$46,$A89,'4 x 50 Obs Relay Women'!$AJ$7:$AJ$46)=0,1+MAX('4 x 50 Obs Relay Women'!$AJ$7:$AJ$46),SUMIF('4 x 50 Obs Relay Women'!$C$7:$C$46,$A89,'4 x 50 Obs Relay Women'!$AJ$7:$AJ$46))))","v":""},{"$f":"IF($A89=\"\",\"\",IF(IF(SUMIF('4 x 50 medley Relay Women'!$C$7:$C$46,$A89,'4 x 50 medley Relay Women'!$AJ$7:$AJ$46)=0,1+MAX('4 x 50 medley Relay Women'!$AJ$7:$AJ$46),SUMIF('4 x 50 medley Relay Women'!$C$7:$C$46,$A89,'4 x 50 medley Relay Women'!$AJ$7:$AJ$46))>2+MAX('4 x 50 medley Relay Women'!$AJ$7:$AJ$46),MAX('4 x 50 medley Relay Women'!$AJ$7:$AJ$46),IF(SUMIF('4 x 50 medley Relay Women'!$C$7:$C$46,$A89,'4 x 50 medley Relay Women'!$AJ$7:$AJ$46)=0,1+MAX('4 x 50 medley Relay Women'!$AJ$7:$AJ$46),SUMIF('4 x 50 medley Relay Women'!$C$7:$C$46,$A89,'4 x 50 medley Relay Women'!$AJ$7:$AJ$46))))","v":""},{"$f":"IF($A89=\"\",\"\",IF(IF(SUMIF('4 x 25 Manikin Carry Women'!$C$7:$C$46,$A89,'4 x 25 Manikin Carry Women'!$AJ$7:$AJ$46)=0,1+MAX('4 x 25 Manikin Carry Women'!$AJ$7:$AJ$46),SUMIF('4 x 25 Manikin Carry Women'!$C$7:$C$46,$A89,'4 x 25 Manikin Carry Women'!$AJ$7:$AJ$46))>2+MAX('4 x 25 Manikin Carry Women'!$AJ$7:$AJ$46),MAX('4 x 25 Manikin Carry Women'!$AJ$7:$AJ$46),IF(SUMIF('4 x 25 Manikin Carry Women'!$C$7:$C$46,$A89,'4 x 25 Manikin Carry Women'!$AJ$7:$AJ$46)=0,1+MAX('4 x 25 Manikin Carry Women'!$AJ$7:$AJ$46),SUMIF('4 x 25 Manikin Carry Women'!$C$7:$C$46,$A89,'4 x 25 Manikin Carry Women'!$AJ$7:$AJ$46))))","v":""},{"$f":"IF($A89=\"\",\"\",IF(IF(SUMIF('Line Throw Relay Women'!$C$7:$C$46,$A89,'Line Throw Relay Women'!$AJ$7:$AJ$46)=0,1+MAX('Line Throw Relay Women'!$AJ$7:$AJ$46),SUMIF('Line Throw Relay Women'!$C$7:$C$46,$A89,'Line Throw Relay Women'!$AJ$7:$AJ$46))>2+MAX('Line Throw Relay Women'!$AJ$7:$AJ$46),MAX('Line Throw Relay Women'!$AJ$7:$AJ$46),IF(SUMIF('Line Throw Relay Women'!$C$7:$C$46,$A89,'Line Throw Relay Women'!$AJ$7:$AJ$46)=0,1+MAX('Line Throw Relay Women'!$AJ$7:$AJ$46),SUMIF('Line Throw Relay Women'!$C$7:$C$46,$A89,'Line Throw Relay Women'!$AJ$7:$AJ$46))))","v":""},"",""]
["","",{"$f":"IF($A90=\"\",\"\",IF(IF(SUMIF('50m Manikin Carry Women'!$C$7:$C$46,$A90,'50m Manikin Carry Women'!$AE$7:$AE$46)=0,1+MAX('50m Manikin Carry Women'!$AE$7:$AE$46),SUMIF('50m Manikin Carry Women'!$C$7:$C$46,$A90,'50m Manikin Carry Women'!$AE$7:$AE$46))>MAX('50m Manikin Carry Women'!$AE$7:$AE$46)+2,MAX('50m Manikin Carry Women'!$AE$7:$AE$46),IF(SUMIF('50m Manikin Carry Women'!$C$7:$C$46,$A90,'50m Manikin Carry Women'!$AE$7:$AE$46)=0,1+MAX('50m Manikin Carry Women'!$AE$7:$AE$46),SUMIF('50m Manikin Carry Women'!$C$7:$C$46,$A90,'50m Manikin Carry Women'!$AE$7:$AE$46))))","v":""},{"$f":"IF($A90=\"\",\"\",IF(IF(SUMIF('100m Manikin Carry Women'!$C$7:$C$46,$A90,'100m Manikin Carry Women'!$AE$7:$AE$46)=0,1+MAX('100m Manikin Carry Women'!$AE$7:$AE$46),SUMIF('100m Manikin Carry Women'!$C$7:$C$46,$A90,'100m Manikin Carry Women'!$AE$7:$AE$46))>2+MAX('100m Manikin Carry Women'!$AE$7:$AE$46),MAX('100m Manikin Carry Women'!$AE$7:$AE$46),IF(SUMIF('100m Manikin Carry Women'!$C$7:$C$46,$A90,'100m Manikin Carry Women'!$AE$7:$AE$46)=0,1+MAX('100m Manikin Carry Women'!$AE$7:$AE$46),SUMIF('100m Manikin Carry Women'!$C$7:$C$46,$A90,'100m Manikin Carry Women'!$AE$7:$AE$46))))","v":""},{"$f":"IF($A90=\"\",\"\",IF(IF(SUMIF('100m Manikin Tow Women'!$C$7:$C$46,$A90,'100m Manikin Tow Women'!$AE$7:$AE$46)=0,1+MAX('100m Manikin Tow Women'!$AE$7:$AE$46),SUMIF('100m Manikin Tow Women'!$C$7:$C$46,$A90,'100m Manikin Tow Women'!$AE$7:$AE$46))>2+MAX('100m Manikin Tow Women'!$AE$7:$AE$46),MAX('100m Manikin Tow Women'!$AE$7:$AE$46),IF(SUMIF('100m Manikin Tow Women'!$C$7:$C$46,$A90,'100m Manikin Tow Women'!$AE$7:$AE$46)=0,1+MAX('100m Manikin Tow Women'!$AE$7:$AE$46),SUMIF('100m Manikin Tow Women'!$C$7:$C$46,$A90,'100m Manikin Tow Women'!$AE$7:$AE$46))))","v":""},{"$f":"IF($A90=\"\",\"\",IF(IF(SUMIF('200m Obs Women'!$C$7:$C$46,$A90,'200m Obs Women'!$AE$7:$AE$46)=0,1+MAX('200m Obs Women'!$AE$7:$AE$46),SUMIF('200m Obs Women'!$C$7:$C$46,$A90,'200m Obs Women'!$AE$7:$AE$46))>2+MAX('200m Obs Women'!$AE$7:$AE$46),MAX('200m Obs Women'!$AE$7:$AE$46),IF(SUMIF('200m Obs Women'!$C$7:$C$46,$A90,'200m Obs Women'!$AE$7:$AE$46)=0,1+MAX('200m Obs Women'!$AE$7:$AE$46),SUMIF('200m Obs Women'!$C$7:$C$46,$A90,'200m Obs Women'!$AE$7:$AE$46))))","v":""},{"$f":"IF($A90=\"\",\"\",IF(IF(SUMIF('200m Super Women'!$C$7:$C$46,$A90,'200m Super Women'!$AE$7:$AE$46)=0,1+MAX('200m Super Women'!$AE$7:$AE$46),SUMIF('200m Super Women'!$C$7:$C$46,$A90,'200m Super Women'!$AE$7:$AE$46))>2+MAX('200m Super Women'!$AE$7:$AE$46),MAX('200m Super Women'!$AE$7:$AE$46),IF(SUMIF('200m Super Women'!$C$7:$C$46,$A90,'200m Super Women'!$AE$7:$AE$46)=0,1+MAX('200m Super Women'!$AE$7:$AE$46),SUMIF('200m Super Women'!$C$7:$C$46,$A90,'200m Super Women'!$AE$7:$AE$46))))","v":""},{"$f":"IF($A90=\"\",\"\",IF(IF(SUMIF('100 Resue Women'!$C$7:$C$46,$A90,'100 Resue Women'!$AE$7:$AE$46)=0,1+MAX('100 Resue Women'!$AE$7:$AE$46),SUMIF('100 Resue Women'!$C$7:$C$46,$A90,'100 Resue Women'!$AE$7:$AE$46))>2+MAX('100 Resue Women'!$AE$7:$AE$46),MAX('100 Resue Women'!$AE$7:$AE$46),IF(SUMIF('100 Resue Women'!$C$7:$C$46,$A90,'100 Resue Women'!$AE$7:$AE$46)=0,1+MAX('100 Resue Women'!$AE$7:$AE$46),SUMIF('100 Resue Women'!$C$7:$C$46,$A90,'100 Resue Women'!$AE$7:$AE$46))))","v":""},{"$f":"IF($A90=\"\",\"\",IF(IF(SUMIF('Line Throw Women'!$C$7:$C$46,$A90,'Line Throw Women'!$AG$7:$AG$46)=0,MAX('Line Throw Women'!$AG$7:$AG$46),SUMIF('Line Throw Women'!$C$7:$C$46,$A90,'Line Throw Women'!$AG$7:$AG$46))>2+MAX('Line Throw Women'!$AG$7:$AG$46),MAX('Line Throw Women'!$AG$7:$AG$46),IF(SUMIF('Line Throw Women'!$C$7:$C$46,$A90,'Line Throw Women'!$AG$7:$AG$46)=0,1+MAX('Line Throw Women'!$AG$7:$AG$46),SUMIF('Line Throw Women'!$C$7:$C$46,$A90,'Line Throw Women'!$AG$7:$AG$46))))","v":""},{"$f":"IF($A90=\"\",\"\",IF(IF(SUMIF('4 x 50 Obs Relay Women'!$C$7:$C$46,$A90,'4 x 50 Obs Relay Women'!$AJ$7:$AJ$46)=0,1+MAX('4 x 50 Obs Relay Women'!$AJ$7:$AJ$46),SUMIF('4 x 50 Obs Relay Women'!$C$7:$C$46,$A90,'4 x 50 Obs Relay Women'!$AJ$7:$AJ$46))>2+MAX('4 x 50 Obs Relay Women'!$AJ$7:$AJ$46),MAX('4 x 50 Obs Relay Women'!$AJ$7:$AJ$46),IF(SUMIF('4 x 50 Obs Relay Women'!$C$7:$C$46,$A90,'4 x 50 Obs Relay Women'!$AJ$7:$AJ$46)=0,1+MAX('4 x 50 Obs Relay Women'!$AJ$7:$AJ$46),SUMIF('4 x 50 Obs Relay Women'!$C$7:$C$46,$A90,'4 x 50 Obs Relay Women'!$AJ$7:$AJ$46))))","v":""},{"$f":"IF($A90=\"\",\"\",IF(IF(SUMIF('4 x 50 medley Relay Women'!$C$7:$C$46,$A90,'4 x 50 medley Relay Women'!$AJ$7:$AJ$46)=0,1+MAX('4 x 50 medley Relay Women'!$AJ$7:$AJ$46),SUMIF('4 x 50 medley Relay Women'!$C$7:$C$46,$A90,'4 x 50 medley Relay Women'!$AJ$7:$AJ$46))>2+MAX('4 x 50 medley Relay Women'!$AJ$7:$AJ$46),MAX('4 x 50 medley Relay Women'!$AJ$7:$AJ$46),IF(SUMIF('4 x 50 medley Relay Women'!$C$7:$C$46,$A90,'4 x 50 medley Relay Women'!$AJ$7:$AJ$46)=0,1+MAX('4 x 50 medley Relay Women'!$AJ$7:$AJ$46),SUMIF('4 x 50 medley Relay Women'!$C$7:$C$46,$A90,'4 x 50 medley Relay Women'!$AJ$7:$AJ$46))))","v":""},{"$f":"IF($A90=\"\",\"\",IF(IF(SUMIF('4 x 25 Manikin Carry Women'!$C$7:$C$46,$A90,'4 x 25 Manikin Carry Women'!$AJ$7:$AJ$46)=0,1+MAX('4 x 25 Manikin Carry Women'!$AJ$7:$AJ$46),SUMIF('4 x 25 Manikin Carry Women'!$C$7:$C$46,$A90,'4 x 25 Manikin Carry Women'!$AJ$7:$AJ$46))>2+MAX('4 x 25 Manikin Carry Women'!$AJ$7:$AJ$46),MAX('4 x 25 Manikin Carry Women'!$AJ$7:$AJ$46),IF(SUMIF('4 x 25 Manikin Carry Women'!$C$7:$C$46,$A90,'4 x 25 Manikin Carry Women'!$AJ$7:$AJ$46)=0,1+MAX('4 x 25 Manikin Carry Women'!$AJ$7:$AJ$46),SUMIF('4 x 25 Manikin Carry Women'!$C$7:$C$46,$A90,'4 x 25 Manikin Carry Women'!$AJ$7:$AJ$46))))","v":""},{"$f":"IF($A90=\"\",\"\",IF(IF(SUMIF('Line Throw Relay Women'!$C$7:$C$46,$A90,'Line Throw Relay Women'!$AJ$7:$AJ$46)=0,1+MAX('Line Throw Relay Women'!$AJ$7:$AJ$46),SUMIF('Line Throw Relay Women'!$C$7:$C$46,$A90,'Line Throw Relay Women'!$AJ$7:$AJ$46))>2+MAX('Line Throw Relay Women'!$AJ$7:$AJ$46),MAX('Line Throw Relay Women'!$AJ$7:$AJ$46),IF(SUMIF('Line Throw Relay Women'!$C$7:$C$46,$A90,'Line Throw Relay Women'!$AJ$7:$AJ$46)=0,1+MAX('Line Throw Relay Women'!$AJ$7:$AJ$46),SUMIF('Line Throw Relay Women'!$C$7:$C$46,$A90,'Line Throw Relay Women'!$AJ$7:$AJ$46))))","v":""},"",""]
[{"$f":"IF(A21=\"\",\"\",A21)","v":""},"",{"$f":"IF($A91=\"\",\"\",IF(IF(SUMIF('50m Manikin Carry Women'!$C$7:$C$46,$A91,'50m Manikin Carry Women'!$AE$7:$AE$46)=0,1+MAX('50m Manikin Carry Women'!$AE$7:$AE$46),SUMIF('50m Manikin Carry Women'!$C$7:$C$46,$A91,'50m Manikin Carry Women'!$AE$7:$AE$46))>MAX('50m Manikin Carry Women'!$AE$7:$AE$46)+2,MAX('50m Manikin Carry Women'!$AE$7:$AE$46),IF(SUMIF('50m Manikin Carry Women'!$C$7:$C$46,$A91,'50m Manikin Carry Women'!$AE$7:$AE$46)=0,1+MAX('50m Manikin Carry Women'!$AE$7:$AE$46),SUMIF('50m Manikin Carry Women'!$C$7:$C$46,$A91,'50m Manikin Carry Women'!$AE$7:$AE$46))))","v":""},{"$f":"IF($A91=\"\",\"\",IF(IF(SUMIF('100m Manikin Carry Women'!$C$7:$C$46,$A91,'100m Manikin Carry Women'!$AE$7:$AE$46)=0,1+MAX('100m Manikin Carry Women'!$AE$7:$AE$46),SUMIF('100m Manikin Carry Women'!$C$7:$C$46,$A91,'100m Manikin Carry Women'!$AE$7:$AE$46))>2+MAX('100m Manikin Carry Women'!$AE$7:$AE$46),MAX('100m Manikin Carry Women'!$AE$7:$AE$46),IF(SUMIF('100m Manikin Carry Women'!$C$7:$C$46,$A91,'100m Manikin Carry Women'!$AE$7:$AE$46)=0,1+MAX('100m Manikin Carry Women'!$AE$7:$AE$46),SUMIF('100m Manikin Carry Women'!$C$7:$C$46,$A91,'100m Manikin Carry Women'!$AE$7:$AE$46))))","v":""},{"$f":"IF($A91=\"\",\"\",IF(IF(SUMIF('100m Manikin Tow Women'!$C$7:$C$46,$A91,'100m Manikin Tow Women'!$AE$7:$AE$46)=0,1+MAX('100m Manikin Tow Women'!$AE$7:$AE$46),SUMIF('100m Manikin Tow Women'!$C$7:$C$46,$A91,'100m Manikin Tow Women'!$AE$7:$AE$46))>2+MAX('100m Manikin Tow Women'!$AE$7:$AE$46),MAX('100m Manikin Tow Women'!$AE$7:$AE$46),IF(SUMIF('100m Manikin Tow Women'!$C$7:$C$46,$A91,'100m Manikin Tow Women'!$AE$7:$AE$46)=0,1+MAX('100m Manikin Tow Women'!$AE$7:$AE$46),SUMIF('100m Manikin Tow Women'!$C$7:$C$46,$A91,'100m Manikin Tow Women'!$AE$7:$AE$46))))","v":""},{"$f":"IF($A91=\"\",\"\",IF(IF(SUMIF('200m Obs Women'!$C$7:$C$46,$A91,'200m Obs Women'!$AE$7:$AE$46)=0,1+MAX('200m Obs Women'!$AE$7:$AE$46),SUMIF('200m Obs Women'!$C$7:$C$46,$A91,'200m Obs Women'!$AE$7:$AE$46))>2+MAX('200m Obs Women'!$AE$7:$AE$46),MAX('200m Obs Women'!$AE$7:$AE$46),IF(SUMIF('200m Obs Women'!$C$7:$C$46,$A91,'200m Obs Women'!$AE$7:$AE$46)=0,1+MAX('200m Obs Women'!$AE$7:$AE$46),SUMIF('200m Obs Women'!$C$7:$C$46,$A91,'200m Obs Women'!$AE$7:$AE$46))))","v":""},{"$f":"IF($A91=\"\",\"\",IF(IF(SUMIF('200m Super Women'!$C$7:$C$46,$A91,'200m Super Women'!$AE$7:$AE$46)=0,1+MAX('200m Super Women'!$AE$7:$AE$46),SUMIF('200m Super Women'!$C$7:$C$46,$A91,'200m Super Women'!$AE$7:$AE$46))>2+MAX('200m Super Women'!$AE$7:$AE$46),MAX('200m Super Women'!$AE$7:$AE$46),IF(SUMIF('200m Super Women'!$C$7:$C$46,$A91,'200m Super Women'!$AE$7:$AE$46)=0,1+MAX('200m Super Women'!$AE$7:$AE$46),SUMIF('200m Super Women'!$C$7:$C$46,$A91,'200m Super Women'!$AE$7:$AE$46))))","v":""},{"$f":"IF($A91=\"\",\"\",IF(IF(SUMIF('100 Resue Women'!$C$7:$C$46,$A91,'100 Resue Women'!$AE$7:$AE$46)=0,1+MAX('100 Resue Women'!$AE$7:$AE$46),SUMIF('100 Resue Women'!$C$7:$C$46,$A91,'100 Resue Women'!$AE$7:$AE$46))>2+MAX('100 Resue Women'!$AE$7:$AE$46),MAX('100 Resue Women'!$AE$7:$AE$46),IF(SUMIF('100 Resue Women'!$C$7:$C$46,$A91,'100 Resue Women'!$AE$7:$AE$46)=0,1+MAX('100 Resue Women'!$AE$7:$AE$46),SUMIF('100 Resue Women'!$C$7:$C$46,$A91,'100 Resue Women'!$AE$7:$AE$46))))","v":""},{"$f":"IF($A91=\"\",\"\",IF(IF(SUMIF('Line Throw Women'!$C$7:$C$46,$A91,'Line Throw Women'!$AG$7:$AG$46)=0,MAX('Line Throw Women'!$AG$7:$AG$46),SUMIF('Line Throw Women'!$C$7:$C$46,$A91,'Line Throw Women'!$AG$7:$AG$46))>2+MAX('Line Throw Women'!$AG$7:$AG$46),MAX('Line Throw Women'!$AG$7:$AG$46),IF(SUMIF('Line Throw Women'!$C$7:$C$46,$A91,'Line Throw Women'!$AG$7:$AG$46)=0,1+MAX('Line Throw Women'!$AG$7:$AG$46),SUMIF('Line Throw Women'!$C$7:$C$46,$A91,'Line Throw Women'!$AG$7:$AG$46))))","v":""},{"$f":"IF($A91=\"\",\"\",IF(IF(SUMIF('4 x 50 Obs Relay Women'!$C$7:$C$46,$A91,'4 x 50 Obs Relay Women'!$AJ$7:$AJ$46)=0,1+MAX('4 x 50 Obs Relay Women'!$AJ$7:$AJ$46),SUMIF('4 x 50 Obs Relay Women'!$C$7:$C$46,$A91,'4 x 50 Obs Relay Women'!$AJ$7:$AJ$46))>2+MAX('4 x 50 Obs Relay Women'!$AJ$7:$AJ$46),MAX('4 x 50 Obs Relay Women'!$AJ$7:$AJ$46),IF(SUMIF('4 x 50 Obs Relay Women'!$C$7:$C$46,$A91,'4 x 50 Obs Relay Women'!$AJ$7:$AJ$46)=0,1+MAX('4 x 50 Obs Relay Women'!$AJ$7:$AJ$46),SUMIF('4 x 50 Obs Relay Women'!$C$7:$C$46,$A91,'4 x 50 Obs Relay Women'!$AJ$7:$AJ$46))))","v":""},{"$f":"IF($A91=\"\",\"\",IF(IF(SUMIF('4 x 50 medley Relay Women'!$C$7:$C$46,$A91,'4 x 50 medley Relay Women'!$AJ$7:$AJ$46)=0,1+MAX('4 x 50 medley Relay Women'!$AJ$7:$AJ$46),SUMIF('4 x 50 medley Relay Women'!$C$7:$C$46,$A91,'4 x 50 medley Relay Women'!$AJ$7:$AJ$46))>2+MAX('4 x 50 medley Relay Women'!$AJ$7:$AJ$46),MAX('4 x 50 medley Relay Women'!$AJ$7:$AJ$46),IF(SUMIF('4 x 50 medley Relay Women'!$C$7:$C$46,$A91,'4 x 50 medley Relay Women'!$AJ$7:$AJ$46)=0,1+MAX('4 x 50 medley Relay Women'!$AJ$7:$AJ$46),SUMIF('4 x 50 medley Relay Women'!$C$7:$C$46,$A91,'4 x 50 medley Relay Women'!$AJ$7:$AJ$46))))","v":""},{"$f":"IF($A91=\"\",\"\",IF(IF(SUMIF('4 x 25 Manikin Carry Women'!$C$7:$C$46,$A91,'4 x 25 Manikin Carry Women'!$AJ$7:$AJ$46)=0,1+MAX('4 x 25 Manikin Carry Women'!$AJ$7:$AJ$46),SUMIF('4 x 25 Manikin Carry Women'!$C$7:$C$46,$A91,'4 x 25 Manikin Carry Women'!$AJ$7:$AJ$46))>2+MAX('4 x 25 Manikin Carry Women'!$AJ$7:$AJ$46),MAX('4 x 25 Manikin Carry Women'!$AJ$7:$AJ$46),IF(SUMIF('4 x 25 Manikin Carry Women'!$C$7:$C$46,$A91,'4 x 25 Manikin Carry Women'!$AJ$7:$AJ$46)=0,1+MAX('4 x 25 Manikin Carry Women'!$AJ$7:$AJ$46),SUMIF('4 x 25 Manikin Carry Women'!$C$7:$C$46,$A91,'4 x 25 Manikin Carry Women'!$AJ$7:$AJ$46))))","v":""},{"$f":"IF($A91=\"\",\"\",IF(IF(SUMIF('Line Throw Relay Women'!$C$7:$C$46,$A91,'Line Throw Relay Women'!$AJ$7:$AJ$46)=0,1+MAX('Line Throw Relay Women'!$AJ$7:$AJ$46),SUMIF('Line Throw Relay Women'!$C$7:$C$46,$A91,'Line Throw Relay Women'!$AJ$7:$AJ$46))>2+MAX('Line Throw Relay Women'!$AJ$7:$AJ$46),MAX('Line Throw Relay Women'!$AJ$7:$AJ$46),IF(SUMIF('Line Throw Relay Women'!$C$7:$C$46,$A91,'Line Throw Relay Women'!$AJ$7:$AJ$46)=0,1+MAX('Line Throw Relay Women'!$AJ$7:$AJ$46),SUMIF('Line Throw Relay Women'!$C$7:$C$46,$A91,'Line Throw Relay Women'!$AJ$7:$AJ$46))))","v":""},"",""]
["","",{"$f":"IF($A92=\"\",\"\",IF(IF(SUMIF('50m Manikin Carry Women'!$C$7:$C$46,$A92,'50m Manikin Carry Women'!$AE$7:$AE$46)=0,1+MAX('50m Manikin Carry Women'!$AE$7:$AE$46),SUMIF('50m Manikin Carry Women'!$C$7:$C$46,$A92,'50m Manikin Carry Women'!$AE$7:$AE$46))>MAX('50m Manikin Carry Women'!$AE$7:$AE$46)+2,MAX('50m Manikin Carry Women'!$AE$7:$AE$46),IF(SUMIF('50m Manikin Carry Women'!$C$7:$C$46,$A92,'50m Manikin Carry Women'!$AE$7:$AE$46)=0,1+MAX('50m Manikin Carry Women'!$AE$7:$AE$46),SUMIF('50m Manikin Carry Women'!$C$7:$C$46,$A92,'50m Manikin Carry Women'!$AE$7:$AE$46))))","v":""},{"$f":"IF($A92=\"\",\"\",IF(IF(SUMIF('100m Manikin Carry Women'!$C$7:$C$46,$A92,'100m Manikin Carry Women'!$AE$7:$AE$46)=0,1+MAX('100m Manikin Carry Women'!$AE$7:$AE$46),SUMIF('100m Manikin Carry Women'!$C$7:$C$46,$A92,'100m Manikin Carry Women'!$AE$7:$AE$46))>2+MAX('100m Manikin Carry Women'!$AE$7:$AE$46),MAX('100m Manikin Carry Women'!$AE$7:$AE$46),IF(SUMIF('100m Manikin Carry Women'!$C$7:$C$46,$A92,'100m Manikin Carry Women'!$AE$7:$AE$46)=0,1+MAX('100m Manikin Carry Women'!$AE$7:$AE$46),SUMIF('100m Manikin Carry Women'!$C$7:$C$46,$A92,'100m Manikin Carry Women'!$AE$7:$AE$46))))","v":""},{"$f":"IF($A92=\"\",\"\",IF(IF(SUMIF('100m Manikin Tow Women'!$C$7:$C$46,$A92,'100m Manikin Tow Women'!$AE$7:$AE$46)=0,1+MAX('100m Manikin Tow Women'!$AE$7:$AE$46),SUMIF('100m Manikin Tow Women'!$C$7:$C$46,$A92,'100m Manikin Tow Women'!$AE$7:$AE$46))>2+MAX('100m Manikin Tow Women'!$AE$7:$AE$46),MAX('100m Manikin Tow Women'!$AE$7:$AE$46),IF(SUMIF('100m Manikin Tow Women'!$C$7:$C$46,$A92,'100m Manikin Tow Women'!$AE$7:$AE$46)=0,1+MAX('100m Manikin Tow Women'!$AE$7:$AE$46),SUMIF('100m Manikin Tow Women'!$C$7:$C$46,$A92,'100m Manikin Tow Women'!$AE$7:$AE$46))))","v":""},{"$f":"IF($A92=\"\",\"\",IF(IF(SUMIF('200m Obs Women'!$C$7:$C$46,$A92,'200m Obs Women'!$AE$7:$AE$46)=0,1+MAX('200m Obs Women'!$AE$7:$AE$46),SUMIF('200m Obs Women'!$C$7:$C$46,$A92,'200m Obs Women'!$AE$7:$AE$46))>2+MAX('200m Obs Women'!$AE$7:$AE$46),MAX('200m Obs Women'!$AE$7:$AE$46),IF(SUMIF('200m Obs Women'!$C$7:$C$46,$A92,'200m Obs Women'!$AE$7:$AE$46)=0,1+MAX('200m Obs Women'!$AE$7:$AE$46),SUMIF('200m Obs Women'!$C$7:$C$46,$A92,'200m Obs Women'!$AE$7:$AE$46))))","v":""},{"$f":"IF($A92=\"\",\"\",IF(IF(SUMIF('200m Super Women'!$C$7:$C$46,$A92,'200m Super Women'!$AE$7:$AE$46)=0,1+MAX('200m Super Women'!$AE$7:$AE$46),SUMIF('200m Super Women'!$C$7:$C$46,$A92,'200m Super Women'!$AE$7:$AE$46))>2+MAX('200m Super Women'!$AE$7:$AE$46),MAX('200m Super Women'!$AE$7:$AE$46),IF(SUMIF('200m Super Women'!$C$7:$C$46,$A92,'200m Super Women'!$AE$7:$AE$46)=0,1+MAX('200m Super Women'!$AE$7:$AE$46),SUMIF('200m Super Women'!$C$7:$C$46,$A92,'200m Super Women'!$AE$7:$AE$46))))","v":""},{"$f":"IF($A92=\"\",\"\",IF(IF(SUMIF('100 Resue Women'!$C$7:$C$46,$A92,'100 Resue Women'!$AE$7:$AE$46)=0,1+MAX('100 Resue Women'!$AE$7:$AE$46),SUMIF('100 Resue Women'!$C$7:$C$46,$A92,'100 Resue Women'!$AE$7:$AE$46))>2+MAX('100 Resue Women'!$AE$7:$AE$46),MAX('100 Resue Women'!$AE$7:$AE$46),IF(SUMIF('100 Resue Women'!$C$7:$C$46,$A92,'100 Resue Women'!$AE$7:$AE$46)=0,1+MAX('100 Resue Women'!$AE$7:$AE$46),SUMIF('100 Resue Women'!$C$7:$C$46,$A92,'100 Resue Women'!$AE$7:$AE$46))))","v":""},{"$f":"IF($A92=\"\",\"\",IF(IF(SUMIF('Line Throw Women'!$C$7:$C$46,$A92,'Line Throw Women'!$AG$7:$AG$46)=0,MAX('Line Throw Women'!$AG$7:$AG$46),SUMIF('Line Throw Women'!$C$7:$C$46,$A92,'Line Throw Women'!$AG$7:$AG$46))>2+MAX('Line Throw Women'!$AG$7:$AG$46),MAX('Line Throw Women'!$AG$7:$AG$46),IF(SUMIF('Line Throw Women'!$C$7:$C$46,$A92,'Line Throw Women'!$AG$7:$AG$46)=0,1+MAX('Line Throw Women'!$AG$7:$AG$46),SUMIF('Line Throw Women'!$C$7:$C$46,$A92,'Line Throw Women'!$AG$7:$AG$46))))","v":""},{"$f":"IF($A92=\"\",\"\",IF(IF(SUMIF('4 x 50 Obs Relay Women'!$C$7:$C$46,$A92,'4 x 50 Obs Relay Women'!$AJ$7:$AJ$46)=0,1+MAX('4 x 50 Obs Relay Women'!$AJ$7:$AJ$46),SUMIF('4 x 50 Obs Relay Women'!$C$7:$C$46,$A92,'4 x 50 Obs Relay Women'!$AJ$7:$AJ$46))>2+MAX('4 x 50 Obs Relay Women'!$AJ$7:$AJ$46),MAX('4 x 50 Obs Relay Women'!$AJ$7:$AJ$46),IF(SUMIF('4 x 50 Obs Relay Women'!$C$7:$C$46,$A92,'4 x 50 Obs Relay Women'!$AJ$7:$AJ$46)=0,1+MAX('4 x 50 Obs Relay Women'!$AJ$7:$AJ$46),SUMIF('4 x 50 Obs Relay Women'!$C$7:$C$46,$A92,'4 x 50 Obs Relay Women'!$AJ$7:$AJ$46))))","v":""},{"$f":"IF($A92=\"\",\"\",IF(IF(SUMIF('4 x 50 medley Relay Women'!$C$7:$C$46,$A92,'4 x 50 medley Relay Women'!$AJ$7:$AJ$46)=0,1+MAX('4 x 50 medley Relay Women'!$AJ$7:$AJ$46),SUMIF('4 x 50 medley Relay Women'!$C$7:$C$46,$A92,'4 x 50 medley Relay Women'!$AJ$7:$AJ$46))>2+MAX('4 x 50 medley Relay Women'!$AJ$7:$AJ$46),MAX('4 x 50 medley Relay Women'!$AJ$7:$AJ$46),IF(SUMIF('4 x 50 medley Relay Women'!$C$7:$C$46,$A92,'4 x 50 medley Relay Women'!$AJ$7:$AJ$46)=0,1+MAX('4 x 50 medley Relay Women'!$AJ$7:$AJ$46),SUMIF('4 x 50 medley Relay Women'!$C$7:$C$46,$A92,'4 x 50 medley Relay Women'!$AJ$7:$AJ$46))))","v":""},{"$f":"IF($A92=\"\",\"\",IF(IF(SUMIF('4 x 25 Manikin Carry Women'!$C$7:$C$46,$A92,'4 x 25 Manikin Carry Women'!$AJ$7:$AJ$46)=0,1+MAX('4 x 25 Manikin Carry Women'!$AJ$7:$AJ$46),SUMIF('4 x 25 Manikin Carry Women'!$C$7:$C$46,$A92,'4 x 25 Manikin Carry Women'!$AJ$7:$AJ$46))>2+MAX('4 x 25 Manikin Carry Women'!$AJ$7:$AJ$46),MAX('4 x 25 Manikin Carry Women'!$AJ$7:$AJ$46),IF(SUMIF('4 x 25 Manikin Carry Women'!$C$7:$C$46,$A92,'4 x 25 Manikin Carry Women'!$AJ$7:$AJ$46)=0,1+MAX('4 x 25 Manikin Carry Women'!$AJ$7:$AJ$46),SUMIF('4 x 25 Manikin Carry Women'!$C$7:$C$46,$A92,'4 x 25 Manikin Carry Women'!$AJ$7:$AJ$46))))","v":""},{"$f":"IF($A92=\"\",\"\",IF(IF(SUMIF('Line Throw Relay Women'!$C$7:$C$46,$A92,'Line Throw Relay Women'!$AJ$7:$AJ$46)=0,1+MAX('Line Throw Relay Women'!$AJ$7:$AJ$46),SUMIF('Line Throw Relay Women'!$C$7:$C$46,$A92,'Line Throw Relay Women'!$AJ$7:$AJ$46))>2+MAX('Line Throw Relay Women'!$AJ$7:$AJ$46),MAX('Line Throw Relay Women'!$AJ$7:$AJ$46),IF(SUMIF('Line Throw Relay Women'!$C$7:$C$46,$A92,'Line Throw Relay Women'!$AJ$7:$AJ$46)=0,1+MAX('Line Throw Relay Women'!$AJ$7:$AJ$46),SUMIF('Line Throw Relay Women'!$C$7:$C$46,$A92,'Line Throw Relay Women'!$AJ$7:$AJ$46))))","v":""},"",""]
["","",{"$f":"IF($A93=\"\",\"\",IF(IF(SUMIF('50m Manikin Carry Women'!$C$7:$C$46,$A93,'50m Manikin Carry Women'!$AE$7:$AE$46)=0,1+MAX('50m Manikin Carry Women'!$AE$7:$AE$46),SUMIF('50m Manikin Carry Women'!$C$7:$C$46,$A93,'50m Manikin Carry Women'!$AE$7:$AE$46))>MAX('50m Manikin Carry Women'!$AE$7:$AE$46)+2,MAX('50m Manikin Carry Women'!$AE$7:$AE$46),IF(SUMIF('50m Manikin Carry Women'!$C$7:$C$46,$A93,'50m Manikin Carry Women'!$AE$7:$AE$46)=0,1+MAX('50m Manikin Carry Women'!$AE$7:$AE$46),SUMIF('50m Manikin Carry Women'!$C$7:$C$46,$A93,'50m Manikin Carry Women'!$AE$7:$AE$46))))","v":""},{"$f":"IF($A93=\"\",\"\",IF(IF(SUMIF('100m Manikin Carry Women'!$C$7:$C$46,$A93,'100m Manikin Carry Women'!$AE$7:$AE$46)=0,1+MAX('100m Manikin Carry Women'!$AE$7:$AE$46),SUMIF('100m Manikin Carry Women'!$C$7:$C$46,$A93,'100m Manikin Carry Women'!$AE$7:$AE$46))>2+MAX('100m Manikin Carry Women'!$AE$7:$AE$46),MAX('100m Manikin Carry Women'!$AE$7:$AE$46),IF(SUMIF('100m Manikin Carry Women'!$C$7:$C$46,$A93,'100m Manikin Carry Women'!$AE$7:$AE$46)=0,1+MAX('100m Manikin Carry Women'!$AE$7:$AE$46),SUMIF('100m Manikin Carry Women'!$C$7:$C$46,$A93,'100m Manikin Carry Women'!$AE$7:$AE$46))))","v":""},{"$f":"IF($A93=\"\",\"\",IF(IF(SUMIF('100m Manikin Tow Women'!$C$7:$C$46,$A93,'100m Manikin Tow Women'!$AE$7:$AE$46)=0,1+MAX('100m Manikin Tow Women'!$AE$7:$AE$46),SUMIF('100m Manikin Tow Women'!$C$7:$C$46,$A93,'100m Manikin Tow Women'!$AE$7:$AE$46))>2+MAX('100m Manikin Tow Women'!$AE$7:$AE$46),MAX('100m Manikin Tow Women'!$AE$7:$AE$46),IF(SUMIF('100m Manikin Tow Women'!$C$7:$C$46,$A93,'100m Manikin Tow Women'!$AE$7:$AE$46)=0,1+MAX('100m Manikin Tow Women'!$AE$7:$AE$46),SUMIF('100m Manikin Tow Women'!$C$7:$C$46,$A93,'100m Manikin Tow Women'!$AE$7:$AE$46))))","v":""},{"$f":"IF($A93=\"\",\"\",IF(IF(SUMIF('200m Obs Women'!$C$7:$C$46,$A93,'200m Obs Women'!$AE$7:$AE$46)=0,1+MAX('200m Obs Women'!$AE$7:$AE$46),SUMIF('200m Obs Women'!$C$7:$C$46,$A93,'200m Obs Women'!$AE$7:$AE$46))>2+MAX('200m Obs Women'!$AE$7:$AE$46),MAX('200m Obs Women'!$AE$7:$AE$46),IF(SUMIF('200m Obs Women'!$C$7:$C$46,$A93,'200m Obs Women'!$AE$7:$AE$46)=0,1+MAX('200m Obs Women'!$AE$7:$AE$46),SUMIF('200m Obs Women'!$C$7:$C$46,$A93,'200m Obs Women'!$AE$7:$AE$46))))","v":""},{"$f":"IF($A93=\"\",\"\",IF(IF(SUMIF('200m Super Women'!$C$7:$C$46,$A93,'200m Super Women'!$AE$7:$AE$46)=0,1+MAX('200m Super Women'!$AE$7:$AE$46),SUMIF('200m Super Women'!$C$7:$C$46,$A93,'200m Super Women'!$AE$7:$AE$46))>2+MAX('200m Super Women'!$AE$7:$AE$46),MAX('200m Super Women'!$AE$7:$AE$46),IF(SUMIF('200m Super Women'!$C$7:$C$46,$A93,'200m Super Women'!$AE$7:$AE$46)=0,1+MAX('200m Super Women'!$AE$7:$AE$46),SUMIF('200m Super Women'!$C$7:$C$46,$A93,'200m Super Women'!$AE$7:$AE$46))))","v":""},{"$f":"IF($A93=\"\",\"\",IF(IF(SUMIF('100 Resue Women'!$C$7:$C$46,$A93,'100 Resue Women'!$AE$7:$AE$46)=0,1+MAX('100 Resue Women'!$AE$7:$AE$46),SUMIF('100 Resue Women'!$C$7:$C$46,$A93,'100 Resue Women'!$AE$7:$AE$46))>2+MAX('100 Resue Women'!$AE$7:$AE$46),MAX('100 Resue Women'!$AE$7:$AE$46),IF(SUMIF('100 Resue Women'!$C$7:$C$46,$A93,'100 Resue Women'!$AE$7:$AE$46)=0,1+MAX('100 Resue Women'!$AE$7:$AE$46),SUMIF('100 Resue Women'!$C$7:$C$46,$A93,'100 Resue Women'!$AE$7:$AE$46))))","v":""},{"$f":"IF($A93=\"\",\"\",IF(IF(SUMIF('Line Throw Women'!$C$7:$C$46,$A93,'Line Throw Women'!$AG$7:$AG$46)=0,MAX('Line Throw Women'!$AG$7:$AG$46),SUMIF('Line Throw Women'!$C$7:$C$46,$A93,'Line Throw Women'!$AG$7:$AG$46))>2+MAX('Line Throw Women'!$AG$7:$AG$46),MAX('Line Throw Women'!$AG$7:$AG$46),IF(SUMIF('Line Throw Women'!$C$7:$C$46,$A93,'Line Throw Women'!$AG$7:$AG$46)=0,1+MAX('Line Throw Women'!$AG$7:$AG$46),SUMIF('Line Throw Women'!$C$7:$C$46,$A93,'Line Throw Women'!$AG$7:$AG$46))))","v":""},{"$f":"IF($A93=\"\",\"\",IF(IF(SUMIF('4 x 50 Obs Relay Women'!$C$7:$C$46,$A93,'4 x 50 Obs Relay Women'!$AJ$7:$AJ$46)=0,1+MAX('4 x 50 Obs Relay Women'!$AJ$7:$AJ$46),SUMIF('4 x 50 Obs Relay Women'!$C$7:$C$46,$A93,'4 x 50 Obs Relay Women'!$AJ$7:$AJ$46))>2+MAX('4 x 50 Obs Relay Women'!$AJ$7:$AJ$46),MAX('4 x 50 Obs Relay Women'!$AJ$7:$AJ$46),IF(SUMIF('4 x 50 Obs Relay Women'!$C$7:$C$46,$A93,'4 x 50 Obs Relay Women'!$AJ$7:$AJ$46)=0,1+MAX('4 x 50 Obs Relay Women'!$AJ$7:$AJ$46),SUMIF('4 x 50 Obs Relay Women'!$C$7:$C$46,$A93,'4 x 50 Obs Relay Women'!$AJ$7:$AJ$46))))","v":""},{"$f":"IF($A93=\"\",\"\",IF(IF(SUMIF('4 x 50 medley Relay Women'!$C$7:$C$46,$A93,'4 x 50 medley Relay Women'!$AJ$7:$AJ$46)=0,1+MAX('4 x 50 medley Relay Women'!$AJ$7:$AJ$46),SUMIF('4 x 50 medley Relay Women'!$C$7:$C$46,$A93,'4 x 50 medley Relay Women'!$AJ$7:$AJ$46))>2+MAX('4 x 50 medley Relay Women'!$AJ$7:$AJ$46),MAX('4 x 50 medley Relay Women'!$AJ$7:$AJ$46),IF(SUMIF('4 x 50 medley Relay Women'!$C$7:$C$46,$A93,'4 x 50 medley Relay Women'!$AJ$7:$AJ$46)=0,1+MAX('4 x 50 medley Relay Women'!$AJ$7:$AJ$46),SUMIF('4 x 50 medley Relay Women'!$C$7:$C$46,$A93,'4 x 50 medley Relay Women'!$AJ$7:$AJ$46))))","v":""},{"$f":"IF($A93=\"\",\"\",IF(IF(SUMIF('4 x 25 Manikin Carry Women'!$C$7:$C$46,$A93,'4 x 25 Manikin Carry Women'!$AJ$7:$AJ$46)=0,1+MAX('4 x 25 Manikin Carry Women'!$AJ$7:$AJ$46),SUMIF('4 x 25 Manikin Carry Women'!$C$7:$C$46,$A93,'4 x 25 Manikin Carry Women'!$AJ$7:$AJ$46))>2+MAX('4 x 25 Manikin Carry Women'!$AJ$7:$AJ$46),MAX('4 x 25 Manikin Carry Women'!$AJ$7:$AJ$46),IF(SUMIF('4 x 25 Manikin Carry Women'!$C$7:$C$46,$A93,'4 x 25 Manikin Carry Women'!$AJ$7:$AJ$46)=0,1+MAX('4 x 25 Manikin Carry Women'!$AJ$7:$AJ$46),SUMIF('4 x 25 Manikin Carry Women'!$C$7:$C$46,$A93,'4 x 25 Manikin Carry Women'!$AJ$7:$AJ$46))))","v":""},{"$f":"IF($A93=\"\",\"\",IF(IF(SUMIF('Line Throw Relay Women'!$C$7:$C$46,$A93,'Line Throw Relay Women'!$AJ$7:$AJ$46)=0,1+MAX('Line Throw Relay Women'!$AJ$7:$AJ$46),SUMIF('Line Throw Relay Women'!$C$7:$C$46,$A93,'Line Throw Relay Women'!$AJ$7:$AJ$46))>2+MAX('Line Throw Relay Women'!$AJ$7:$AJ$46),MAX('Line Throw Relay Women'!$AJ$7:$AJ$46),IF(SUMIF('Line Throw Relay Women'!$C$7:$C$46,$A93,'Line Throw Relay Women'!$AJ$7:$AJ$46)=0,1+MAX('Line Throw Relay Women'!$AJ$7:$AJ$46),SUMIF('Line Throw Relay Women'!$C$7:$C$46,$A93,'Line Throw Relay Women'!$AJ$7:$AJ$46))))","v":""},"",""]
["","",{"$f":"IF($A94=\"\",\"\",IF(IF(SUMIF('50m Manikin Carry Women'!$C$7:$C$46,$A94,'50m Manikin Carry Women'!$AE$7:$AE$46)=0,1+MAX('50m Manikin Carry Women'!$AE$7:$AE$46),SUMIF('50m Manikin Carry Women'!$C$7:$C$46,$A94,'50m Manikin Carry Women'!$AE$7:$AE$46))>MAX('50m Manikin Carry Women'!$AE$7:$AE$46)+2,MAX('50m Manikin Carry Women'!$AE$7:$AE$46),IF(SUMIF('50m Manikin Carry Women'!$C$7:$C$46,$A94,'50m Manikin Carry Women'!$AE$7:$AE$46)=0,1+MAX('50m Manikin Carry Women'!$AE$7:$AE$46),SUMIF('50m Manikin Carry Women'!$C$7:$C$46,$A94,'50m Manikin Carry Women'!$AE$7:$AE$46))))","v":""},{"$f":"IF($A94=\"\",\"\",IF(IF(SUMIF('100m Manikin Carry Women'!$C$7:$C$46,$A94,'100m Manikin Carry Women'!$AE$7:$AE$46)=0,1+MAX('100m Manikin Carry Women'!$AE$7:$AE$46),SUMIF('100m Manikin Carry Women'!$C$7:$C$46,$A94,'100m Manikin Carry Women'!$AE$7:$AE$46))>2+MAX('100m Manikin Carry Women'!$AE$7:$AE$46),MAX('100m Manikin Carry Women'!$AE$7:$AE$46),IF(SUMIF('100m Manikin Carry Women'!$C$7:$C$46,$A94,'100m Manikin Carry Women'!$AE$7:$AE$46)=0,1+MAX('100m Manikin Carry Women'!$AE$7:$AE$46),SUMIF('100m Manikin Carry Women'!$C$7:$C$46,$A94,'100m Manikin Carry Women'!$AE$7:$AE$46))))","v":""},{"$f":"IF($A94=\"\",\"\",IF(IF(SUMIF('100m Manikin Tow Women'!$C$7:$C$46,$A94,'100m Manikin Tow Women'!$AE$7:$AE$46)=0,1+MAX('100m Manikin Tow Women'!$AE$7:$AE$46),SUMIF('100m Manikin Tow Women'!$C$7:$C$46,$A94,'100m Manikin Tow Women'!$AE$7:$AE$46))>2+MAX('100m Manikin Tow Women'!$AE$7:$AE$46),MAX('100m Manikin Tow Women'!$AE$7:$AE$46),IF(SUMIF('100m Manikin Tow Women'!$C$7:$C$46,$A94,'100m Manikin Tow Women'!$AE$7:$AE$46)=0,1+MAX('100m Manikin Tow Women'!$AE$7:$AE$46),SUMIF('100m Manikin Tow Women'!$C$7:$C$46,$A94,'100m Manikin Tow Women'!$AE$7:$AE$46))))","v":""},{"$f":"IF($A94=\"\",\"\",IF(IF(SUMIF('200m Obs Women'!$C$7:$C$46,$A94,'200m Obs Women'!$AE$7:$AE$46)=0,1+MAX('200m Obs Women'!$AE$7:$AE$46),SUMIF('200m Obs Women'!$C$7:$C$46,$A94,'200m Obs Women'!$AE$7:$AE$46))>2+MAX('200m Obs Women'!$AE$7:$AE$46),MAX('200m Obs Women'!$AE$7:$AE$46),IF(SUMIF('200m Obs Women'!$C$7:$C$46,$A94,'200m Obs Women'!$AE$7:$AE$46)=0,1+MAX('200m Obs Women'!$AE$7:$AE$46),SUMIF('200m Obs Women'!$C$7:$C$46,$A94,'200m Obs Women'!$AE$7:$AE$46))))","v":""},{"$f":"IF($A94=\"\",\"\",IF(IF(SUMIF('200m Super Women'!$C$7:$C$46,$A94,'200m Super Women'!$AE$7:$AE$46)=0,1+MAX('200m Super Women'!$AE$7:$AE$46),SUMIF('200m Super Women'!$C$7:$C$46,$A94,'200m Super Women'!$AE$7:$AE$46))>2+MAX('200m Super Women'!$AE$7:$AE$46),MAX('200m Super Women'!$AE$7:$AE$46),IF(SUMIF('200m Super Women'!$C$7:$C$46,$A94,'200m Super Women'!$AE$7:$AE$46)=0,1+MAX('200m Super Women'!$AE$7:$AE$46),SUMIF('200m Super Women'!$C$7:$C$46,$A94,'200m Super Women'!$AE$7:$AE$46))))","v":""},{"$f":"IF($A94=\"\",\"\",IF(IF(SUMIF('100 Resue Women'!$C$7:$C$46,$A94,'100 Resue Women'!$AE$7:$AE$46)=0,1+MAX('100 Resue Women'!$AE$7:$AE$46),SUMIF('100 Resue Women'!$C$7:$C$46,$A94,'100 Resue Women'!$AE$7:$AE$46))>2+MAX('100 Resue Women'!$AE$7:$AE$46),MAX('100 Resue Women'!$AE$7:$AE$46),IF(SUMIF('100 Resue Women'!$C$7:$C$46,$A94,'100 Resue Women'!$AE$7:$AE$46)=0,1+MAX('100 Resue Women'!$AE$7:$AE$46),SUMIF('100 Resue Women'!$C$7:$C$46,$A94,'100 Resue Women'!$AE$7:$AE$46))))","v":""},{"$f":"IF($A94=\"\",\"\",IF(IF(SUMIF('Line Throw Women'!$C$7:$C$46,$A94,'Line Throw Women'!$AG$7:$AG$46)=0,MAX('Line Throw Women'!$AG$7:$AG$46),SUMIF('Line Throw Women'!$C$7:$C$46,$A94,'Line Throw Women'!$AG$7:$AG$46))>2+MAX('Line Throw Women'!$AG$7:$AG$46),MAX('Line Throw Women'!$AG$7:$AG$46),IF(SUMIF('Line Throw Women'!$C$7:$C$46,$A94,'Line Throw Women'!$AG$7:$AG$46)=0,1+MAX('Line Throw Women'!$AG$7:$AG$46),SUMIF('Line Throw Women'!$C$7:$C$46,$A94,'Line Throw Women'!$AG$7:$AG$46))))","v":""},{"$f":"IF($A94=\"\",\"\",IF(IF(SUMIF('4 x 50 Obs Relay Women'!$C$7:$C$46,$A94,'4 x 50 Obs Relay Women'!$AJ$7:$AJ$46)=0,1+MAX('4 x 50 Obs Relay Women'!$AJ$7:$AJ$46),SUMIF('4 x 50 Obs Relay Women'!$C$7:$C$46,$A94,'4 x 50 Obs Relay Women'!$AJ$7:$AJ$46))>2+MAX('4 x 50 Obs Relay Women'!$AJ$7:$AJ$46),MAX('4 x 50 Obs Relay Women'!$AJ$7:$AJ$46),IF(SUMIF('4 x 50 Obs Relay Women'!$C$7:$C$46,$A94,'4 x 50 Obs Relay Women'!$AJ$7:$AJ$46)=0,1+MAX('4 x 50 Obs Relay Women'!$AJ$7:$AJ$46),SUMIF('4 x 50 Obs Relay Women'!$C$7:$C$46,$A94,'4 x 50 Obs Relay Women'!$AJ$7:$AJ$46))))","v":""},{"$f":"IF($A94=\"\",\"\",IF(IF(SUMIF('4 x 50 medley Relay Women'!$C$7:$C$46,$A94,'4 x 50 medley Relay Women'!$AJ$7:$AJ$46)=0,1+MAX('4 x 50 medley Relay Women'!$AJ$7:$AJ$46),SUMIF('4 x 50 medley Relay Women'!$C$7:$C$46,$A94,'4 x 50 medley Relay Women'!$AJ$7:$AJ$46))>2+MAX('4 x 50 medley Relay Women'!$AJ$7:$AJ$46),MAX('4 x 50 medley Relay Women'!$AJ$7:$AJ$46),IF(SUMIF('4 x 50 medley Relay Women'!$C$7:$C$46,$A94,'4 x 50 medley Relay Women'!$AJ$7:$AJ$46)=0,1+MAX('4 x 50 medley Relay Women'!$AJ$7:$AJ$46),SUMIF('4 x 50 medley Relay Women'!$C$7:$C$46,$A94,'4 x 50 medley Relay Women'!$AJ$7:$AJ$46))))","v":""},{"$f":"IF($A94=\"\",\"\",IF(IF(SUMIF('4 x 25 Manikin Carry Women'!$C$7:$C$46,$A94,'4 x 25 Manikin Carry Women'!$AJ$7:$AJ$46)=0,1+MAX('4 x 25 Manikin Carry Women'!$AJ$7:$AJ$46),SUMIF('4 x 25 Manikin Carry Women'!$C$7:$C$46,$A94,'4 x 25 Manikin Carry Women'!$AJ$7:$AJ$46))>2+MAX('4 x 25 Manikin Carry Women'!$AJ$7:$AJ$46),MAX('4 x 25 Manikin Carry Women'!$AJ$7:$AJ$46),IF(SUMIF('4 x 25 Manikin Carry Women'!$C$7:$C$46,$A94,'4 x 25 Manikin Carry Women'!$AJ$7:$AJ$46)=0,1+MAX('4 x 25 Manikin Carry Women'!$AJ$7:$AJ$46),SUMIF('4 x 25 Manikin Carry Women'!$C$7:$C$46,$A94,'4 x 25 Manikin Carry Women'!$AJ$7:$AJ$46))))","v":""},{"$f":"IF($A94=\"\",\"\",IF(IF(SUMIF('Line Throw Relay Women'!$C$7:$C$46,$A94,'Line Throw Relay Women'!$AJ$7:$AJ$46)=0,1+MAX('Line Throw Relay Women'!$AJ$7:$AJ$46),SUMIF('Line Throw Relay Women'!$C$7:$C$46,$A94,'Line Throw Relay Women'!$AJ$7:$AJ$46))>2+MAX('Line Throw Relay Women'!$AJ$7:$AJ$46),MAX('Line Throw Relay Women'!$AJ$7:$AJ$46),IF(SUMIF('Line Throw Relay Women'!$C$7:$C$46,$A94,'Line Throw Relay Women'!$AJ$7:$AJ$46)=0,1+MAX('Line Throw Relay Women'!$AJ$7:$AJ$46),SUMIF('Line Throw Relay Women'!$C$7:$C$46,$A94,'Line Throw Relay Women'!$AJ$7:$AJ$46))))","v":""},"",""]
["","",{"$f":"IF($A95=\"\",\"\",IF(IF(SUMIF('50m Manikin Carry Women'!$C$7:$C$46,$A95,'50m Manikin Carry Women'!$AE$7:$AE$46)=0,1+MAX('50m Manikin Carry Women'!$AE$7:$AE$46),SUMIF('50m Manikin Carry Women'!$C$7:$C$46,$A95,'50m Manikin Carry Women'!$AE$7:$AE$46))>MAX('50m Manikin Carry Women'!$AE$7:$AE$46)+2,MAX('50m Manikin Carry Women'!$AE$7:$AE$46),IF(SUMIF('50m Manikin Carry Women'!$C$7:$C$46,$A95,'50m Manikin Carry Women'!$AE$7:$AE$46)=0,1+MAX('50m Manikin Carry Women'!$AE$7:$AE$46),SUMIF('50m Manikin Carry Women'!$C$7:$C$46,$A95,'50m Manikin Carry Women'!$AE$7:$AE$46))))","v":""},{"$f":"IF($A95=\"\",\"\",IF(IF(SUMIF('100m Manikin Carry Women'!$C$7:$C$46,$A95,'100m Manikin Carry Women'!$AE$7:$AE$46)=0,1+MAX('100m Manikin Carry Women'!$AE$7:$AE$46),SUMIF('100m Manikin Carry Women'!$C$7:$C$46,$A95,'100m Manikin Carry Women'!$AE$7:$AE$46))>2+MAX('100m Manikin Carry Women'!$AE$7:$AE$46),MAX('100m Manikin Carry Women'!$AE$7:$AE$46),IF(SUMIF('100m Manikin Carry Women'!$C$7:$C$46,$A95,'100m Manikin Carry Women'!$AE$7:$AE$46)=0,1+MAX('100m Manikin Carry Women'!$AE$7:$AE$46),SUMIF('100m Manikin Carry Women'!$C$7:$C$46,$A95,'100m Manikin Carry Women'!$AE$7:$AE$46))))","v":""},{"$f":"IF($A95=\"\",\"\",IF(IF(SUMIF('100m Manikin Tow Women'!$C$7:$C$46,$A95,'100m Manikin Tow Women'!$AE$7:$AE$46)=0,1+MAX('100m Manikin Tow Women'!$AE$7:$AE$46),SUMIF('100m Manikin Tow Women'!$C$7:$C$46,$A95,'100m Manikin Tow Women'!$AE$7:$AE$46))>2+MAX('100m Manikin Tow Women'!$AE$7:$AE$46),MAX('100m Manikin Tow Women'!$AE$7:$AE$46),IF(SUMIF('100m Manikin Tow Women'!$C$7:$C$46,$A95,'100m Manikin Tow Women'!$AE$7:$AE$46)=0,1+MAX('100m Manikin Tow Women'!$AE$7:$AE$46),SUMIF('100m Manikin Tow Women'!$C$7:$C$46,$A95,'100m Manikin Tow Women'!$AE$7:$AE$46))))","v":""},{"$f":"IF($A95=\"\",\"\",IF(IF(SUMIF('200m Obs Women'!$C$7:$C$46,$A95,'200m Obs Women'!$AE$7:$AE$46)=0,1+MAX('200m Obs Women'!$AE$7:$AE$46),SUMIF('200m Obs Women'!$C$7:$C$46,$A95,'200m Obs Women'!$AE$7:$AE$46))>2+MAX('200m Obs Women'!$AE$7:$AE$46),MAX('200m Obs Women'!$AE$7:$AE$46),IF(SUMIF('200m Obs Women'!$C$7:$C$46,$A95,'200m Obs Women'!$AE$7:$AE$46)=0,1+MAX('200m Obs Women'!$AE$7:$AE$46),SUMIF('200m Obs Women'!$C$7:$C$46,$A95,'200m Obs Women'!$AE$7:$AE$46))))","v":""},{"$f":"IF($A95=\"\",\"\",IF(IF(SUMIF('200m Super Women'!$C$7:$C$46,$A95,'200m Super Women'!$AE$7:$AE$46)=0,1+MAX('200m Super Women'!$AE$7:$AE$46),SUMIF('200m Super Women'!$C$7:$C$46,$A95,'200m Super Women'!$AE$7:$AE$46))>2+MAX('200m Super Women'!$AE$7:$AE$46),MAX('200m Super Women'!$AE$7:$AE$46),IF(SUMIF('200m Super Women'!$C$7:$C$46,$A95,'200m Super Women'!$AE$7:$AE$46)=0,1+MAX('200m Super Women'!$AE$7:$AE$46),SUMIF('200m Super Women'!$C$7:$C$46,$A95,'200m Super Women'!$AE$7:$AE$46))))","v":""},{"$f":"IF($A95=\"\",\"\",IF(IF(SUMIF('100 Resue Women'!$C$7:$C$46,$A95,'100 Resue Women'!$AE$7:$AE$46)=0,1+MAX('100 Resue Women'!$AE$7:$AE$46),SUMIF('100 Resue Women'!$C$7:$C$46,$A95,'100 Resue Women'!$AE$7:$AE$46))>2+MAX('100 Resue Women'!$AE$7:$AE$46),MAX('100 Resue Women'!$AE$7:$AE$46),IF(SUMIF('100 Resue Women'!$C$7:$C$46,$A95,'100 Resue Women'!$AE$7:$AE$46)=0,1+MAX('100 Resue Women'!$AE$7:$AE$46),SUMIF('100 Resue Women'!$C$7:$C$46,$A95,'100 Resue Women'!$AE$7:$AE$46))))","v":""},{"$f":"IF($A95=\"\",\"\",IF(IF(SUMIF('Line Throw Women'!$C$7:$C$46,$A95,'Line Throw Women'!$AG$7:$AG$46)=0,MAX('Line Throw Women'!$AG$7:$AG$46),SUMIF('Line Throw Women'!$C$7:$C$46,$A95,'Line Throw Women'!$AG$7:$AG$46))>2+MAX('Line Throw Women'!$AG$7:$AG$46),MAX('Line Throw Women'!$AG$7:$AG$46),IF(SUMIF('Line Throw Women'!$C$7:$C$46,$A95,'Line Throw Women'!$AG$7:$AG$46)=0,1+MAX('Line Throw Women'!$AG$7:$AG$46),SUMIF('Line Throw Women'!$C$7:$C$46,$A95,'Line Throw Women'!$AG$7:$AG$46))))","v":""},{"$f":"IF($A95=\"\",\"\",IF(IF(SUMIF('4 x 50 Obs Relay Women'!$C$7:$C$46,$A95,'4 x 50 Obs Relay Women'!$AJ$7:$AJ$46)=0,1+MAX('4 x 50 Obs Relay Women'!$AJ$7:$AJ$46),SUMIF('4 x 50 Obs Relay Women'!$C$7:$C$46,$A95,'4 x 50 Obs Relay Women'!$AJ$7:$AJ$46))>2+MAX('4 x 50 Obs Relay Women'!$AJ$7:$AJ$46),MAX('4 x 50 Obs Relay Women'!$AJ$7:$AJ$46),IF(SUMIF('4 x 50 Obs Relay Women'!$C$7:$C$46,$A95,'4 x 50 Obs Relay Women'!$AJ$7:$AJ$46)=0,1+MAX('4 x 50 Obs Relay Women'!$AJ$7:$AJ$46),SUMIF('4 x 50 Obs Relay Women'!$C$7:$C$46,$A95,'4 x 50 Obs Relay Women'!$AJ$7:$AJ$46))))","v":""},{"$f":"IF($A95=\"\",\"\",IF(IF(SUMIF('4 x 50 medley Relay Women'!$C$7:$C$46,$A95,'4 x 50 medley Relay Women'!$AJ$7:$AJ$46)=0,1+MAX('4 x 50 medley Relay Women'!$AJ$7:$AJ$46),SUMIF('4 x 50 medley Relay Women'!$C$7:$C$46,$A95,'4 x 50 medley Relay Women'!$AJ$7:$AJ$46))>2+MAX('4 x 50 medley Relay Women'!$AJ$7:$AJ$46),MAX('4 x 50 medley Relay Women'!$AJ$7:$AJ$46),IF(SUMIF('4 x 50 medley Relay Women'!$C$7:$C$46,$A95,'4 x 50 medley Relay Women'!$AJ$7:$AJ$46)=0,1+MAX('4 x 50 medley Relay Women'!$AJ$7:$AJ$46),SUMIF('4 x 50 medley Relay Women'!$C$7:$C$46,$A95,'4 x 50 medley Relay Women'!$AJ$7:$AJ$46))))","v":""},{"$f":"IF($A95=\"\",\"\",IF(IF(SUMIF('4 x 25 Manikin Carry Women'!$C$7:$C$46,$A95,'4 x 25 Manikin Carry Women'!$AJ$7:$AJ$46)=0,1+MAX('4 x 25 Manikin Carry Women'!$AJ$7:$AJ$46),SUMIF('4 x 25 Manikin Carry Women'!$C$7:$C$46,$A95,'4 x 25 Manikin Carry Women'!$AJ$7:$AJ$46))>2+MAX('4 x 25 Manikin Carry Women'!$AJ$7:$AJ$46),MAX('4 x 25 Manikin Carry Women'!$AJ$7:$AJ$46),IF(SUMIF('4 x 25 Manikin Carry Women'!$C$7:$C$46,$A95,'4 x 25 Manikin Carry Women'!$AJ$7:$AJ$46)=0,1+MAX('4 x 25 Manikin Carry Women'!$AJ$7:$AJ$46),SUMIF('4 x 25 Manikin Carry Women'!$C$7:$C$46,$A95,'4 x 25 Manikin Carry Women'!$AJ$7:$AJ$46))))","v":""},{"$f":"IF($A95=\"\",\"\",IF(IF(SUMIF('Line Throw Relay Women'!$C$7:$C$46,$A95,'Line Throw Relay Women'!$AJ$7:$AJ$46)=0,1+MAX('Line Throw Relay Women'!$AJ$7:$AJ$46),SUMIF('Line Throw Relay Women'!$C$7:$C$46,$A95,'Line Throw Relay Women'!$AJ$7:$AJ$46))>2+MAX('Line Throw Relay Women'!$AJ$7:$AJ$46),MAX('Line Throw Relay Women'!$AJ$7:$AJ$46),IF(SUMIF('Line Throw Relay Women'!$C$7:$C$46,$A95,'Line Throw Relay Women'!$AJ$7:$AJ$46)=0,1+MAX('Line Throw Relay Women'!$AJ$7:$AJ$46),SUMIF('Line Throw Relay Women'!$C$7:$C$46,$A95,'Line Throw Relay Women'!$AJ$7:$AJ$46))))","v":""},"",""]
["","",{"$f":"IF($A96=\"\",\"\",IF(IF(SUMIF('50m Manikin Carry Women'!$C$7:$C$46,$A96,'50m Manikin Carry Women'!$AE$7:$AE$46)=0,1+MAX('50m Manikin Carry Women'!$AE$7:$AE$46),SUMIF('50m Manikin Carry Women'!$C$7:$C$46,$A96,'50m Manikin Carry Women'!$AE$7:$AE$46))>MAX('50m Manikin Carry Women'!$AE$7:$AE$46)+2,MAX('50m Manikin Carry Women'!$AE$7:$AE$46),IF(SUMIF('50m Manikin Carry Women'!$C$7:$C$46,$A96,'50m Manikin Carry Women'!$AE$7:$AE$46)=0,1+MAX('50m Manikin Carry Women'!$AE$7:$AE$46),SUMIF('50m Manikin Carry Women'!$C$7:$C$46,$A96,'50m Manikin Carry Women'!$AE$7:$AE$46))))","v":""},{"$f":"IF($A96=\"\",\"\",IF(IF(SUMIF('100m Manikin Carry Women'!$C$7:$C$46,$A96,'100m Manikin Carry Women'!$AE$7:$AE$46)=0,1+MAX('100m Manikin Carry Women'!$AE$7:$AE$46),SUMIF('100m Manikin Carry Women'!$C$7:$C$46,$A96,'100m Manikin Carry Women'!$AE$7:$AE$46))>2+MAX('100m Manikin Carry Women'!$AE$7:$AE$46),MAX('100m Manikin Carry Women'!$AE$7:$AE$46),IF(SUMIF('100m Manikin Carry Women'!$C$7:$C$46,$A96,'100m Manikin Carry Women'!$AE$7:$AE$46)=0,1+MAX('100m Manikin Carry Women'!$AE$7:$AE$46),SUMIF('100m Manikin Carry Women'!$C$7:$C$46,$A96,'100m Manikin Carry Women'!$AE$7:$AE$46))))","v":""},{"$f":"IF($A96=\"\",\"\",IF(IF(SUMIF('100m Manikin Tow Women'!$C$7:$C$46,$A96,'100m Manikin Tow Women'!$AE$7:$AE$46)=0,1+MAX('100m Manikin Tow Women'!$AE$7:$AE$46),SUMIF('100m Manikin Tow Women'!$C$7:$C$46,$A96,'100m Manikin Tow Women'!$AE$7:$AE$46))>2+MAX('100m Manikin Tow Women'!$AE$7:$AE$46),MAX('100m Manikin Tow Women'!$AE$7:$AE$46),IF(SUMIF('100m Manikin Tow Women'!$C$7:$C$46,$A96,'100m Manikin Tow Women'!$AE$7:$AE$46)=0,1+MAX('100m Manikin Tow Women'!$AE$7:$AE$46),SUMIF('100m Manikin Tow Women'!$C$7:$C$46,$A96,'100m Manikin Tow Women'!$AE$7:$AE$46))))","v":""},{"$f":"IF($A96=\"\",\"\",IF(IF(SUMIF('200m Obs Women'!$C$7:$C$46,$A96,'200m Obs Women'!$AE$7:$AE$46)=0,1+MAX('200m Obs Women'!$AE$7:$AE$46),SUMIF('200m Obs Women'!$C$7:$C$46,$A96,'200m Obs Women'!$AE$7:$AE$46))>2+MAX('200m Obs Women'!$AE$7:$AE$46),MAX('200m Obs Women'!$AE$7:$AE$46),IF(SUMIF('200m Obs Women'!$C$7:$C$46,$A96,'200m Obs Women'!$AE$7:$AE$46)=0,1+MAX('200m Obs Women'!$AE$7:$AE$46),SUMIF('200m Obs Women'!$C$7:$C$46,$A96,'200m Obs Women'!$AE$7:$AE$46))))","v":""},{"$f":"IF($A96=\"\",\"\",IF(IF(SUMIF('200m Super Women'!$C$7:$C$46,$A96,'200m Super Women'!$AE$7:$AE$46)=0,1+MAX('200m Super Women'!$AE$7:$AE$46),SUMIF('200m Super Women'!$C$7:$C$46,$A96,'200m Super Women'!$AE$7:$AE$46))>2+MAX('200m Super Women'!$AE$7:$AE$46),MAX('200m Super Women'!$AE$7:$AE$46),IF(SUMIF('200m Super Women'!$C$7:$C$46,$A96,'200m Super Women'!$AE$7:$AE$46)=0,1+MAX('200m Super Women'!$AE$7:$AE$46),SUMIF('200m Super Women'!$C$7:$C$46,$A96,'200m Super Women'!$AE$7:$AE$46))))","v":""},{"$f":"IF($A96=\"\",\"\",IF(IF(SUMIF('100 Resue Women'!$C$7:$C$46,$A96,'100 Resue Women'!$AE$7:$AE$46)=0,1+MAX('100 Resue Women'!$AE$7:$AE$46),SUMIF('100 Resue Women'!$C$7:$C$46,$A96,'100 Resue Women'!$AE$7:$AE$46))>2+MAX('100 Resue Women'!$AE$7:$AE$46),MAX('100 Resue Women'!$AE$7:$AE$46),IF(SUMIF('100 Resue Women'!$C$7:$C$46,$A96,'100 Resue Women'!$AE$7:$AE$46)=0,1+MAX('100 Resue Women'!$AE$7:$AE$46),SUMIF('100 Resue Women'!$C$7:$C$46,$A96,'100 Resue Women'!$AE$7:$AE$46))))","v":""},{"$f":"IF($A96=\"\",\"\",IF(IF(SUMIF('Line Throw Women'!$C$7:$C$46,$A96,'Line Throw Women'!$AG$7:$AG$46)=0,MAX('Line Throw Women'!$AG$7:$AG$46),SUMIF('Line Throw Women'!$C$7:$C$46,$A96,'Line Throw Women'!$AG$7:$AG$46))>2+MAX('Line Throw Women'!$AG$7:$AG$46),MAX('Line Throw Women'!$AG$7:$AG$46),IF(SUMIF('Line Throw Women'!$C$7:$C$46,$A96,'Line Throw Women'!$AG$7:$AG$46)=0,1+MAX('Line Throw Women'!$AG$7:$AG$46),SUMIF('Line Throw Women'!$C$7:$C$46,$A96,'Line Throw Women'!$AG$7:$AG$46))))","v":""},{"$f":"IF($A96=\"\",\"\",IF(IF(SUMIF('4 x 50 Obs Relay Women'!$C$7:$C$46,$A96,'4 x 50 Obs Relay Women'!$AJ$7:$AJ$46)=0,1+MAX('4 x 50 Obs Relay Women'!$AJ$7:$AJ$46),SUMIF('4 x 50 Obs Relay Women'!$C$7:$C$46,$A96,'4 x 50 Obs Relay Women'!$AJ$7:$AJ$46))>2+MAX('4 x 50 Obs Relay Women'!$AJ$7:$AJ$46),MAX('4 x 50 Obs Relay Women'!$AJ$7:$AJ$46),IF(SUMIF('4 x 50 Obs Relay Women'!$C$7:$C$46,$A96,'4 x 50 Obs Relay Women'!$AJ$7:$AJ$46)=0,1+MAX('4 x 50 Obs Relay Women'!$AJ$7:$AJ$46),SUMIF('4 x 50 Obs Relay Women'!$C$7:$C$46,$A96,'4 x 50 Obs Relay Women'!$AJ$7:$AJ$46))))","v":""},{"$f":"IF($A96=\"\",\"\",IF(IF(SUMIF('4 x 50 medley Relay Women'!$C$7:$C$46,$A96,'4 x 50 medley Relay Women'!$AJ$7:$AJ$46)=0,1+MAX('4 x 50 medley Relay Women'!$AJ$7:$AJ$46),SUMIF('4 x 50 medley Relay Women'!$C$7:$C$46,$A96,'4 x 50 medley Relay Women'!$AJ$7:$AJ$46))>2+MAX('4 x 50 medley Relay Women'!$AJ$7:$AJ$46),MAX('4 x 50 medley Relay Women'!$AJ$7:$AJ$46),IF(SUMIF('4 x 50 medley Relay Women'!$C$7:$C$46,$A96,'4 x 50 medley Relay Women'!$AJ$7:$AJ$46)=0,1+MAX('4 x 50 medley Relay Women'!$AJ$7:$AJ$46),SUMIF('4 x 50 medley Relay Women'!$C$7:$C$46,$A96,'4 x 50 medley Relay Women'!$AJ$7:$AJ$46))))","v":""},{"$f":"IF($A96=\"\",\"\",IF(IF(SUMIF('4 x 25 Manikin Carry Women'!$C$7:$C$46,$A96,'4 x 25 Manikin Carry Women'!$AJ$7:$AJ$46)=0,1+MAX('4 x 25 Manikin Carry Women'!$AJ$7:$AJ$46),SUMIF('4 x 25 Manikin Carry Women'!$C$7:$C$46,$A96,'4 x 25 Manikin Carry Women'!$AJ$7:$AJ$46))>2+MAX('4 x 25 Manikin Carry Women'!$AJ$7:$AJ$46),MAX('4 x 25 Manikin Carry Women'!$AJ$7:$AJ$46),IF(SUMIF('4 x 25 Manikin Carry Women'!$C$7:$C$46,$A96,'4 x 25 Manikin Carry Women'!$AJ$7:$AJ$46)=0,1+MAX('4 x 25 Manikin Carry Women'!$AJ$7:$AJ$46),SUMIF('4 x 25 Manikin Carry Women'!$C$7:$C$46,$A96,'4 x 25 Manikin Carry Women'!$AJ$7:$AJ$46))))","v":""},{"$f":"IF($A96=\"\",\"\",IF(IF(SUMIF('Line Throw Relay Women'!$C$7:$C$46,$A96,'Line Throw Relay Women'!$AJ$7:$AJ$46)=0,1+MAX('Line Throw Relay Women'!$AJ$7:$AJ$46),SUMIF('Line Throw Relay Women'!$C$7:$C$46,$A96,'Line Throw Relay Women'!$AJ$7:$AJ$46))>2+MAX('Line Throw Relay Women'!$AJ$7:$AJ$46),MAX('Line Throw Relay Women'!$AJ$7:$AJ$46),IF(SUMIF('Line Throw Relay Women'!$C$7:$C$46,$A96,'Line Throw Relay Women'!$AJ$7:$AJ$46)=0,1+MAX('Line Throw Relay Women'!$AJ$7:$AJ$46),SUMIF('Line Throw Relay Women'!$C$7:$C$46,$A96,'Line Throw Relay Women'!$AJ$7:$AJ$46))))","v":""},"",""]
["","",{"$f":"IF($A97=\"\",\"\",IF(IF(SUMIF('50m Manikin Carry Women'!$C$7:$C$46,$A97,'50m Manikin Carry Women'!$AE$7:$AE$46)=0,1+MAX('50m Manikin Carry Women'!$AE$7:$AE$46),SUMIF('50m Manikin Carry Women'!$C$7:$C$46,$A97,'50m Manikin Carry Women'!$AE$7:$AE$46))>MAX('50m Manikin Carry Women'!$AE$7:$AE$46)+2,MAX('50m Manikin Carry Women'!$AE$7:$AE$46),IF(SUMIF('50m Manikin Carry Women'!$C$7:$C$46,$A97,'50m Manikin Carry Women'!$AE$7:$AE$46)=0,1+MAX('50m Manikin Carry Women'!$AE$7:$AE$46),SUMIF('50m Manikin Carry Women'!$C$7:$C$46,$A97,'50m Manikin Carry Women'!$AE$7:$AE$46))))","v":""},{"$f":"IF($A97=\"\",\"\",IF(IF(SUMIF('100m Manikin Carry Women'!$C$7:$C$46,$A97,'100m Manikin Carry Women'!$AE$7:$AE$46)=0,1+MAX('100m Manikin Carry Women'!$AE$7:$AE$46),SUMIF('100m Manikin Carry Women'!$C$7:$C$46,$A97,'100m Manikin Carry Women'!$AE$7:$AE$46))>2+MAX('100m Manikin Carry Women'!$AE$7:$AE$46),MAX('100m Manikin Carry Women'!$AE$7:$AE$46),IF(SUMIF('100m Manikin Carry Women'!$C$7:$C$46,$A97,'100m Manikin Carry Women'!$AE$7:$AE$46)=0,1+MAX('100m Manikin Carry Women'!$AE$7:$AE$46),SUMIF('100m Manikin Carry Women'!$C$7:$C$46,$A97,'100m Manikin Carry Women'!$AE$7:$AE$46))))","v":""},{"$f":"IF($A97=\"\",\"\",IF(IF(SUMIF('100m Manikin Tow Women'!$C$7:$C$46,$A97,'100m Manikin Tow Women'!$AE$7:$AE$46)=0,1+MAX('100m Manikin Tow Women'!$AE$7:$AE$46),SUMIF('100m Manikin Tow Women'!$C$7:$C$46,$A97,'100m Manikin Tow Women'!$AE$7:$AE$46))>2+MAX('100m Manikin Tow Women'!$AE$7:$AE$46),MAX('100m Manikin Tow Women'!$AE$7:$AE$46),IF(SUMIF('100m Manikin Tow Women'!$C$7:$C$46,$A97,'100m Manikin Tow Women'!$AE$7:$AE$46)=0,1+MAX('100m Manikin Tow Women'!$AE$7:$AE$46),SUMIF('100m Manikin Tow Women'!$C$7:$C$46,$A97,'100m Manikin Tow Women'!$AE$7:$AE$46))))","v":""},{"$f":"IF($A97=\"\",\"\",IF(IF(SUMIF('200m Obs Women'!$C$7:$C$46,$A97,'200m Obs Women'!$AE$7:$AE$46)=0,1+MAX('200m Obs Women'!$AE$7:$AE$46),SUMIF('200m Obs Women'!$C$7:$C$46,$A97,'200m Obs Women'!$AE$7:$AE$46))>2+MAX('200m Obs Women'!$AE$7:$AE$46),MAX('200m Obs Women'!$AE$7:$AE$46),IF(SUMIF('200m Obs Women'!$C$7:$C$46,$A97,'200m Obs Women'!$AE$7:$AE$46)=0,1+MAX('200m Obs Women'!$AE$7:$AE$46),SUMIF('200m Obs Women'!$C$7:$C$46,$A97,'200m Obs Women'!$AE$7:$AE$46))))","v":""},{"$f":"IF($A97=\"\",\"\",IF(IF(SUMIF('200m Super Women'!$C$7:$C$46,$A97,'200m Super Women'!$AE$7:$AE$46)=0,1+MAX('200m Super Women'!$AE$7:$AE$46),SUMIF('200m Super Women'!$C$7:$C$46,$A97,'200m Super Women'!$AE$7:$AE$46))>2+MAX('200m Super Women'!$AE$7:$AE$46),MAX('200m Super Women'!$AE$7:$AE$46),IF(SUMIF('200m Super Women'!$C$7:$C$46,$A97,'200m Super Women'!$AE$7:$AE$46)=0,1+MAX('200m Super Women'!$AE$7:$AE$46),SUMIF('200m Super Women'!$C$7:$C$46,$A97,'200m Super Women'!$AE$7:$AE$46))))","v":""},{"$f":"IF($A97=\"\",\"\",IF(IF(SUMIF('100 Resue Women'!$C$7:$C$46,$A97,'100 Resue Women'!$AE$7:$AE$46)=0,1+MAX('100 Resue Women'!$AE$7:$AE$46),SUMIF('100 Resue Women'!$C$7:$C$46,$A97,'100 Resue Women'!$AE$7:$AE$46))>2+MAX('100 Resue Women'!$AE$7:$AE$46),MAX('100 Resue Women'!$AE$7:$AE$46),IF(SUMIF('100 Resue Women'!$C$7:$C$46,$A97,'100 Resue Women'!$AE$7:$AE$46)=0,1+MAX('100 Resue Women'!$AE$7:$AE$46),SUMIF('100 Resue Women'!$C$7:$C$46,$A97,'100 Resue Women'!$AE$7:$AE$46))))","v":""},{"$f":"IF($A97=\"\",\"\",IF(IF(SUMIF('Line Throw Women'!$C$7:$C$46,$A97,'Line Throw Women'!$AG$7:$AG$46)=0,MAX('Line Throw Women'!$AG$7:$AG$46),SUMIF('Line Throw Women'!$C$7:$C$46,$A97,'Line Throw Women'!$AG$7:$AG$46))>2+MAX('Line Throw Women'!$AG$7:$AG$46),MAX('Line Throw Women'!$AG$7:$AG$46),IF(SUMIF('Line Throw Women'!$C$7:$C$46,$A97,'Line Throw Women'!$AG$7:$AG$46)=0,1+MAX('Line Throw Women'!$AG$7:$AG$46),SUMIF('Line Throw Women'!$C$7:$C$46,$A97,'Line Throw Women'!$AG$7:$AG$46))))","v":""},{"$f":"IF($A97=\"\",\"\",IF(IF(SUMIF('4 x 50 Obs Relay Women'!$C$7:$C$46,$A97,'4 x 50 Obs Relay Women'!$AJ$7:$AJ$46)=0,1+MAX('4 x 50 Obs Relay Women'!$AJ$7:$AJ$46),SUMIF('4 x 50 Obs Relay Women'!$C$7:$C$46,$A97,'4 x 50 Obs Relay Women'!$AJ$7:$AJ$46))>2+MAX('4 x 50 Obs Relay Women'!$AJ$7:$AJ$46),MAX('4 x 50 Obs Relay Women'!$AJ$7:$AJ$46),IF(SUMIF('4 x 50 Obs Relay Women'!$C$7:$C$46,$A97,'4 x 50 Obs Relay Women'!$AJ$7:$AJ$46)=0,1+MAX('4 x 50 Obs Relay Women'!$AJ$7:$AJ$46),SUMIF('4 x 50 Obs Relay Women'!$C$7:$C$46,$A97,'4 x 50 Obs Relay Women'!$AJ$7:$AJ$46))))","v":""},{"$f":"IF($A97=\"\",\"\",IF(IF(SUMIF('4 x 50 medley Relay Women'!$C$7:$C$46,$A97,'4 x 50 medley Relay Women'!$AJ$7:$AJ$46)=0,1+MAX('4 x 50 medley Relay Women'!$AJ$7:$AJ$46),SUMIF('4 x 50 medley Relay Women'!$C$7:$C$46,$A97,'4 x 50 medley Relay Women'!$AJ$7:$AJ$46))>2+MAX('4 x 50 medley Relay Women'!$AJ$7:$AJ$46),MAX('4 x 50 medley Relay Women'!$AJ$7:$AJ$46),IF(SUMIF('4 x 50 medley Relay Women'!$C$7:$C$46,$A97,'4 x 50 medley Relay Women'!$AJ$7:$AJ$46)=0,1+MAX('4 x 50 medley Relay Women'!$AJ$7:$AJ$46),SUMIF('4 x 50 medley Relay Women'!$C$7:$C$46,$A97,'4 x 50 medley Relay Women'!$AJ$7:$AJ$46))))","v":""},{"$f":"IF($A97=\"\",\"\",IF(IF(SUMIF('4 x 25 Manikin Carry Women'!$C$7:$C$46,$A97,'4 x 25 Manikin Carry Women'!$AJ$7:$AJ$46)=0,1+MAX('4 x 25 Manikin Carry Women'!$AJ$7:$AJ$46),SUMIF('4 x 25 Manikin Carry Women'!$C$7:$C$46,$A97,'4 x 25 Manikin Carry Women'!$AJ$7:$AJ$46))>2+MAX('4 x 25 Manikin Carry Women'!$AJ$7:$AJ$46),MAX('4 x 25 Manikin Carry Women'!$AJ$7:$AJ$46),IF(SUMIF('4 x 25 Manikin Carry Women'!$C$7:$C$46,$A97,'4 x 25 Manikin Carry Women'!$AJ$7:$AJ$46)=0,1+MAX('4 x 25 Manikin Carry Women'!$AJ$7:$AJ$46),SUMIF('4 x 25 Manikin Carry Women'!$C$7:$C$46,$A97,'4 x 25 Manikin Carry Women'!$AJ$7:$AJ$46))))","v":""},{"$f":"IF($A97=\"\",\"\",IF(IF(SUMIF('Line Throw Relay Women'!$C$7:$C$46,$A97,'Line Throw Relay Women'!$AJ$7:$AJ$46)=0,1+MAX('Line Throw Relay Women'!$AJ$7:$AJ$46),SUMIF('Line Throw Relay Women'!$C$7:$C$46,$A97,'Line Throw Relay Women'!$AJ$7:$AJ$46))>2+MAX('Line Throw Relay Women'!$AJ$7:$AJ$46),MAX('Line Throw Relay Women'!$AJ$7:$AJ$46),IF(SUMIF('Line Throw Relay Women'!$C$7:$C$46,$A97,'Line Throw Relay Women'!$AJ$7:$AJ$46)=0,1+MAX('Line Throw Relay Women'!$AJ$7:$AJ$46),SUMIF('Line Throw Relay Women'!$C$7:$C$46,$A97,'Line Throw Relay Women'!$AJ$7:$AJ$46))))","v":""},"",""]
["","",{"$f":"IF($A98=\"\",\"\",IF(IF(SUMIF('50m Manikin Carry Women'!$C$7:$C$46,$A98,'50m Manikin Carry Women'!$AE$7:$AE$46)=0,1+MAX('50m Manikin Carry Women'!$AE$7:$AE$46),SUMIF('50m Manikin Carry Women'!$C$7:$C$46,$A98,'50m Manikin Carry Women'!$AE$7:$AE$46))>MAX('50m Manikin Carry Women'!$AE$7:$AE$46)+2,MAX('50m Manikin Carry Women'!$AE$7:$AE$46),IF(SUMIF('50m Manikin Carry Women'!$C$7:$C$46,$A98,'50m Manikin Carry Women'!$AE$7:$AE$46)=0,1+MAX('50m Manikin Carry Women'!$AE$7:$AE$46),SUMIF('50m Manikin Carry Women'!$C$7:$C$46,$A98,'50m Manikin Carry Women'!$AE$7:$AE$46))))","v":""},{"$f":"IF($A98=\"\",\"\",IF(IF(SUMIF('100m Manikin Carry Women'!$C$7:$C$46,$A98,'100m Manikin Carry Women'!$AE$7:$AE$46)=0,1+MAX('100m Manikin Carry Women'!$AE$7:$AE$46),SUMIF('100m Manikin Carry Women'!$C$7:$C$46,$A98,'100m Manikin Carry Women'!$AE$7:$AE$46))>2+MAX('100m Manikin Carry Women'!$AE$7:$AE$46),MAX('100m Manikin Carry Women'!$AE$7:$AE$46),IF(SUMIF('100m Manikin Carry Women'!$C$7:$C$46,$A98,'100m Manikin Carry Women'!$AE$7:$AE$46)=0,1+MAX('100m Manikin Carry Women'!$AE$7:$AE$46),SUMIF('100m Manikin Carry Women'!$C$7:$C$46,$A98,'100m Manikin Carry Women'!$AE$7:$AE$46))))","v":""},{"$f":"IF($A98=\"\",\"\",IF(IF(SUMIF('100m Manikin Tow Women'!$C$7:$C$46,$A98,'100m Manikin Tow Women'!$AE$7:$AE$46)=0,1+MAX('100m Manikin Tow Women'!$AE$7:$AE$46),SUMIF('100m Manikin Tow Women'!$C$7:$C$46,$A98,'100m Manikin Tow Women'!$AE$7:$AE$46))>2+MAX('100m Manikin Tow Women'!$AE$7:$AE$46),MAX('100m Manikin Tow Women'!$AE$7:$AE$46),IF(SUMIF('100m Manikin Tow Women'!$C$7:$C$46,$A98,'100m Manikin Tow Women'!$AE$7:$AE$46)=0,1+MAX('100m Manikin Tow Women'!$AE$7:$AE$46),SUMIF('100m Manikin Tow Women'!$C$7:$C$46,$A98,'100m Manikin Tow Women'!$AE$7:$AE$46))))","v":""},{"$f":"IF($A98=\"\",\"\",IF(IF(SUMIF('200m Obs Women'!$C$7:$C$46,$A98,'200m Obs Women'!$AE$7:$AE$46)=0,1+MAX('200m Obs Women'!$AE$7:$AE$46),SUMIF('200m Obs Women'!$C$7:$C$46,$A98,'200m Obs Women'!$AE$7:$AE$46))>2+MAX('200m Obs Women'!$AE$7:$AE$46),MAX('200m Obs Women'!$AE$7:$AE$46),IF(SUMIF('200m Obs Women'!$C$7:$C$46,$A98,'200m Obs Women'!$AE$7:$AE$46)=0,1+MAX('200m Obs Women'!$AE$7:$AE$46),SUMIF('200m Obs Women'!$C$7:$C$46,$A98,'200m Obs Women'!$AE$7:$AE$46))))","v":""},{"$f":"IF($A98=\"\",\"\",IF(IF(SUMIF('200m Super Women'!$C$7:$C$46,$A98,'200m Super Women'!$AE$7:$AE$46)=0,1+MAX('200m Super Women'!$AE$7:$AE$46),SUMIF('200m Super Women'!$C$7:$C$46,$A98,'200m Super Women'!$AE$7:$AE$46))>2+MAX('200m Super Women'!$AE$7:$AE$46),MAX('200m Super Women'!$AE$7:$AE$46),IF(SUMIF('200m Super Women'!$C$7:$C$46,$A98,'200m Super Women'!$AE$7:$AE$46)=0,1+MAX('200m Super Women'!$AE$7:$AE$46),SUMIF('200m Super Women'!$C$7:$C$46,$A98,'200m Super Women'!$AE$7:$AE$46))))","v":""},{"$f":"IF($A98=\"\",\"\",IF(IF(SUMIF('100 Resue Women'!$C$7:$C$46,$A98,'100 Resue Women'!$AE$7:$AE$46)=0,1+MAX('100 Resue Women'!$AE$7:$AE$46),SUMIF('100 Resue Women'!$C$7:$C$46,$A98,'100 Resue Women'!$AE$7:$AE$46))>2+MAX('100 Resue Women'!$AE$7:$AE$46),MAX('100 Resue Women'!$AE$7:$AE$46),IF(SUMIF('100 Resue Women'!$C$7:$C$46,$A98,'100 Resue Women'!$AE$7:$AE$46)=0,1+MAX('100 Resue Women'!$AE$7:$AE$46),SUMIF('100 Resue Women'!$C$7:$C$46,$A98,'100 Resue Women'!$AE$7:$AE$46))))","v":""},{"$f":"IF($A98=\"\",\"\",IF(IF(SUMIF('Line Throw Women'!$C$7:$C$46,$A98,'Line Throw Women'!$AG$7:$AG$46)=0,MAX('Line Throw Women'!$AG$7:$AG$46),SUMIF('Line Throw Women'!$C$7:$C$46,$A98,'Line Throw Women'!$AG$7:$AG$46))>2+MAX('Line Throw Women'!$AG$7:$AG$46),MAX('Line Throw Women'!$AG$7:$AG$46),IF(SUMIF('Line Throw Women'!$C$7:$C$46,$A98,'Line Throw Women'!$AG$7:$AG$46)=0,1+MAX('Line Throw Women'!$AG$7:$AG$46),SUMIF('Line Throw Women'!$C$7:$C$46,$A98,'Line Throw Women'!$AG$7:$AG$46))))","v":""},{"$f":"IF($A98=\"\",\"\",IF(IF(SUMIF('4 x 50 Obs Relay Women'!$C$7:$C$46,$A98,'4 x 50 Obs Relay Women'!$AJ$7:$AJ$46)=0,1+MAX('4 x 50 Obs Relay Women'!$AJ$7:$AJ$46),SUMIF('4 x 50 Obs Relay Women'!$C$7:$C$46,$A98,'4 x 50 Obs Relay Women'!$AJ$7:$AJ$46))>2+MAX('4 x 50 Obs Relay Women'!$AJ$7:$AJ$46),MAX('4 x 50 Obs Relay Women'!$AJ$7:$AJ$46),IF(SUMIF('4 x 50 Obs Relay Women'!$C$7:$C$46,$A98,'4 x 50 Obs Relay Women'!$AJ$7:$AJ$46)=0,1+MAX('4 x 50 Obs Relay Women'!$AJ$7:$AJ$46),SUMIF('4 x 50 Obs Relay Women'!$C$7:$C$46,$A98,'4 x 50 Obs Relay Women'!$AJ$7:$AJ$46))))","v":""},{"$f":"IF($A98=\"\",\"\",IF(IF(SUMIF('4 x 50 medley Relay Women'!$C$7:$C$46,$A98,'4 x 50 medley Relay Women'!$AJ$7:$AJ$46)=0,1+MAX('4 x 50 medley Relay Women'!$AJ$7:$AJ$46),SUMIF('4 x 50 medley Relay Women'!$C$7:$C$46,$A98,'4 x 50 medley Relay Women'!$AJ$7:$AJ$46))>2+MAX('4 x 50 medley Relay Women'!$AJ$7:$AJ$46),MAX('4 x 50 medley Relay Women'!$AJ$7:$AJ$46),IF(SUMIF('4 x 50 medley Relay Women'!$C$7:$C$46,$A98,'4 x 50 medley Relay Women'!$AJ$7:$AJ$46)=0,1+MAX('4 x 50 medley Relay Women'!$AJ$7:$AJ$46),SUMIF('4 x 50 medley Relay Women'!$C$7:$C$46,$A98,'4 x 50 medley Relay Women'!$AJ$7:$AJ$46))))","v":""},{"$f":"IF($A98=\"\",\"\",IF(IF(SUMIF('4 x 25 Manikin Carry Women'!$C$7:$C$46,$A98,'4 x 25 Manikin Carry Women'!$AJ$7:$AJ$46)=0,1+MAX('4 x 25 Manikin Carry Women'!$AJ$7:$AJ$46),SUMIF('4 x 25 Manikin Carry Women'!$C$7:$C$46,$A98,'4 x 25 Manikin Carry Women'!$AJ$7:$AJ$46))>2+MAX('4 x 25 Manikin Carry Women'!$AJ$7:$AJ$46),MAX('4 x 25 Manikin Carry Women'!$AJ$7:$AJ$46),IF(SUMIF('4 x 25 Manikin Carry Women'!$C$7:$C$46,$A98,'4 x 25 Manikin Carry Women'!$AJ$7:$AJ$46)=0,1+MAX('4 x 25 Manikin Carry Women'!$AJ$7:$AJ$46),SUMIF('4 x 25 Manikin Carry Women'!$C$7:$C$46,$A98,'4 x 25 Manikin Carry Women'!$AJ$7:$AJ$46))))","v":""},{"$f":"IF($A98=\"\",\"\",IF(IF(SUMIF('Line Throw Relay Women'!$C$7:$C$46,$A98,'Line Throw Relay Women'!$AJ$7:$AJ$46)=0,1+MAX('Line Throw Relay Women'!$AJ$7:$AJ$46),SUMIF('Line Throw Relay Women'!$C$7:$C$46,$A98,'Line Throw Relay Women'!$AJ$7:$AJ$46))>2+MAX('Line Throw Relay Women'!$AJ$7:$AJ$46),MAX('Line Throw Relay Women'!$AJ$7:$AJ$46),IF(SUMIF('Line Throw Relay Women'!$C$7:$C$46,$A98,'Line Throw Relay Women'!$AJ$7:$AJ$46)=0,1+MAX('Line Throw Relay Women'!$AJ$7:$AJ$46),SUMIF('Line Throw Relay Women'!$C$7:$C$46,$A98,'Line Throw Relay Women'!$AJ$7:$AJ$46))))","v":""},"",""]
["","",{"$f":"IF($A99=\"\",\"\",IF(IF(SUMIF('50m Manikin Carry Women'!$C$7:$C$46,$A99,'50m Manikin Carry Women'!$AE$7:$AE$46)=0,1+MAX('50m Manikin Carry Women'!$AE$7:$AE$46),SUMIF('50m Manikin Carry Women'!$C$7:$C$46,$A99,'50m Manikin Carry Women'!$AE$7:$AE$46))>MAX('50m Manikin Carry Women'!$AE$7:$AE$46)+2,MAX('50m Manikin Carry Women'!$AE$7:$AE$46),IF(SUMIF('50m Manikin Carry Women'!$C$7:$C$46,$A99,'50m Manikin Carry Women'!$AE$7:$AE$46)=0,1+MAX('50m Manikin Carry Women'!$AE$7:$AE$46),SUMIF('50m Manikin Carry Women'!$C$7:$C$46,$A99,'50m Manikin Carry Women'!$AE$7:$AE$46))))","v":""},{"$f":"IF($A99=\"\",\"\",IF(IF(SUMIF('100m Manikin Carry Women'!$C$7:$C$46,$A99,'100m Manikin Carry Women'!$AE$7:$AE$46)=0,1+MAX('100m Manikin Carry Women'!$AE$7:$AE$46),SUMIF('100m Manikin Carry Women'!$C$7:$C$46,$A99,'100m Manikin Carry Women'!$AE$7:$AE$46))>2+MAX('100m Manikin Carry Women'!$AE$7:$AE$46),MAX('100m Manikin Carry Women'!$AE$7:$AE$46),IF(SUMIF('100m Manikin Carry Women'!$C$7:$C$46,$A99,'100m Manikin Carry Women'!$AE$7:$AE$46)=0,1+MAX('100m Manikin Carry Women'!$AE$7:$AE$46),SUMIF('100m Manikin Carry Women'!$C$7:$C$46,$A99,'100m Manikin Carry Women'!$AE$7:$AE$46))))","v":""},{"$f":"IF($A99=\"\",\"\",IF(IF(SUMIF('100m Manikin Tow Women'!$C$7:$C$46,$A99,'100m Manikin Tow Women'!$AE$7:$AE$46)=0,1+MAX('100m Manikin Tow Women'!$AE$7:$AE$46),SUMIF('100m Manikin Tow Women'!$C$7:$C$46,$A99,'100m Manikin Tow Women'!$AE$7:$AE$46))>2+MAX('100m Manikin Tow Women'!$AE$7:$AE$46),MAX('100m Manikin Tow Women'!$AE$7:$AE$46),IF(SUMIF('100m Manikin Tow Women'!$C$7:$C$46,$A99,'100m Manikin Tow Women'!$AE$7:$AE$46)=0,1+MAX('100m Manikin Tow Women'!$AE$7:$AE$46),SUMIF('100m Manikin Tow Women'!$C$7:$C$46,$A99,'100m Manikin Tow Women'!$AE$7:$AE$46))))","v":""},{"$f":"IF($A99=\"\",\"\",IF(IF(SUMIF('200m Obs Women'!$C$7:$C$46,$A99,'200m Obs Women'!$AE$7:$AE$46)=0,1+MAX('200m Obs Women'!$AE$7:$AE$46),SUMIF('200m Obs Women'!$C$7:$C$46,$A99,'200m Obs Women'!$AE$7:$AE$46))>2+MAX('200m Obs Women'!$AE$7:$AE$46),MAX('200m Obs Women'!$AE$7:$AE$46),IF(SUMIF('200m Obs Women'!$C$7:$C$46,$A99,'200m Obs Women'!$AE$7:$AE$46)=0,1+MAX('200m Obs Women'!$AE$7:$AE$46),SUMIF('200m Obs Women'!$C$7:$C$46,$A99,'200m Obs Women'!$AE$7:$AE$46))))","v":""},{"$f":"IF($A99=\"\",\"\",IF(IF(SUMIF('200m Super Women'!$C$7:$C$46,$A99,'200m Super Women'!$AE$7:$AE$46)=0,1+MAX('200m Super Women'!$AE$7:$AE$46),SUMIF('200m Super Women'!$C$7:$C$46,$A99,'200m Super Women'!$AE$7:$AE$46))>2+MAX('200m Super Women'!$AE$7:$AE$46),MAX('200m Super Women'!$AE$7:$AE$46),IF(SUMIF('200m Super Women'!$C$7:$C$46,$A99,'200m Super Women'!$AE$7:$AE$46)=0,1+MAX('200m Super Women'!$AE$7:$AE$46),SUMIF('200m Super Women'!$C$7:$C$46,$A99,'200m Super Women'!$AE$7:$AE$46))))","v":""},{"$f":"IF($A99=\"\",\"\",IF(IF(SUMIF('100 Resue Women'!$C$7:$C$46,$A99,'100 Resue Women'!$AE$7:$AE$46)=0,1+MAX('100 Resue Women'!$AE$7:$AE$46),SUMIF('100 Resue Women'!$C$7:$C$46,$A99,'100 Resue Women'!$AE$7:$AE$46))>2+MAX('100 Resue Women'!$AE$7:$AE$46),MAX('100 Resue Women'!$AE$7:$AE$46),IF(SUMIF('100 Resue Women'!$C$7:$C$46,$A99,'100 Resue Women'!$AE$7:$AE$46)=0,1+MAX('100 Resue Women'!$AE$7:$AE$46),SUMIF('100 Resue Women'!$C$7:$C$46,$A99,'100 Resue Women'!$AE$7:$AE$46))))","v":""},{"$f":"IF($A99=\"\",\"\",IF(IF(SUMIF('Line Throw Women'!$C$7:$C$46,$A99,'Line Throw Women'!$AG$7:$AG$46)=0,MAX('Line Throw Women'!$AG$7:$AG$46),SUMIF('Line Throw Women'!$C$7:$C$46,$A99,'Line Throw Women'!$AG$7:$AG$46))>2+MAX('Line Throw Women'!$AG$7:$AG$46),MAX('Line Throw Women'!$AG$7:$AG$46),IF(SUMIF('Line Throw Women'!$C$7:$C$46,$A99,'Line Throw Women'!$AG$7:$AG$46)=0,1+MAX('Line Throw Women'!$AG$7:$AG$46),SUMIF('Line Throw Women'!$C$7:$C$46,$A99,'Line Throw Women'!$AG$7:$AG$46))))","v":""},{"$f":"IF($A99=\"\",\"\",IF(IF(SUMIF('4 x 50 Obs Relay Women'!$C$7:$C$46,$A99,'4 x 50 Obs Relay Women'!$AJ$7:$AJ$46)=0,1+MAX('4 x 50 Obs Relay Women'!$AJ$7:$AJ$46),SUMIF('4 x 50 Obs Relay Women'!$C$7:$C$46,$A99,'4 x 50 Obs Relay Women'!$AJ$7:$AJ$46))>2+MAX('4 x 50 Obs Relay Women'!$AJ$7:$AJ$46),MAX('4 x 50 Obs Relay Women'!$AJ$7:$AJ$46),IF(SUMIF('4 x 50 Obs Relay Women'!$C$7:$C$46,$A99,'4 x 50 Obs Relay Women'!$AJ$7:$AJ$46)=0,1+MAX('4 x 50 Obs Relay Women'!$AJ$7:$AJ$46),SUMIF('4 x 50 Obs Relay Women'!$C$7:$C$46,$A99,'4 x 50 Obs Relay Women'!$AJ$7:$AJ$46))))","v":""},{"$f":"IF($A99=\"\",\"\",IF(IF(SUMIF('4 x 50 medley Relay Women'!$C$7:$C$46,$A99,'4 x 50 medley Relay Women'!$AJ$7:$AJ$46)=0,1+MAX('4 x 50 medley Relay Women'!$AJ$7:$AJ$46),SUMIF('4 x 50 medley Relay Women'!$C$7:$C$46,$A99,'4 x 50 medley Relay Women'!$AJ$7:$AJ$46))>2+MAX('4 x 50 medley Relay Women'!$AJ$7:$AJ$46),MAX('4 x 50 medley Relay Women'!$AJ$7:$AJ$46),IF(SUMIF('4 x 50 medley Relay Women'!$C$7:$C$46,$A99,'4 x 50 medley Relay Women'!$AJ$7:$AJ$46)=0,1+MAX('4 x 50 medley Relay Women'!$AJ$7:$AJ$46),SUMIF('4 x 50 medley Relay Women'!$C$7:$C$46,$A99,'4 x 50 medley Relay Women'!$AJ$7:$AJ$46))))","v":""},{"$f":"IF($A99=\"\",\"\",IF(IF(SUMIF('4 x 25 Manikin Carry Women'!$C$7:$C$46,$A99,'4 x 25 Manikin Carry Women'!$AJ$7:$AJ$46)=0,1+MAX('4 x 25 Manikin Carry Women'!$AJ$7:$AJ$46),SUMIF('4 x 25 Manikin Carry Women'!$C$7:$C$46,$A99,'4 x 25 Manikin Carry Women'!$AJ$7:$AJ$46))>2+MAX('4 x 25 Manikin Carry Women'!$AJ$7:$AJ$46),MAX('4 x 25 Manikin Carry Women'!$AJ$7:$AJ$46),IF(SUMIF('4 x 25 Manikin Carry Women'!$C$7:$C$46,$A99,'4 x 25 Manikin Carry Women'!$AJ$7:$AJ$46)=0,1+MAX('4 x 25 Manikin Carry Women'!$AJ$7:$AJ$46),SUMIF('4 x 25 Manikin Carry Women'!$C$7:$C$46,$A99,'4 x 25 Manikin Carry Women'!$AJ$7:$AJ$46))))","v":""},{"$f":"IF($A99=\"\",\"\",IF(IF(SUMIF('Line Throw Relay Women'!$C$7:$C$46,$A99,'Line Throw Relay Women'!$AJ$7:$AJ$46)=0,1+MAX('Line Throw Relay Women'!$AJ$7:$AJ$46),SUMIF('Line Throw Relay Women'!$C$7:$C$46,$A99,'Line Throw Relay Women'!$AJ$7:$AJ$46))>2+MAX('Line Throw Relay Women'!$AJ$7:$AJ$46),MAX('Line Throw Relay Women'!$AJ$7:$AJ$46),IF(SUMIF('Line Throw Relay Women'!$C$7:$C$46,$A99,'Line Throw Relay Women'!$AJ$7:$AJ$46)=0,1+MAX('Line Throw Relay Women'!$AJ$7:$AJ$46),SUMIF('Line Throw Relay Women'!$C$7:$C$46,$A99,'Line Throw Relay Women'!$AJ$7:$AJ$46))))","v":""},"",""]
["","",{"$f":"IF($A100=\"\",\"\",IF(IF(SUMIF('50m Manikin Carry Women'!$C$7:$C$46,$A100,'50m Manikin Carry Women'!$AE$7:$AE$46)=0,1+MAX('50m Manikin Carry Women'!$AE$7:$AE$46),SUMIF('50m Manikin Carry Women'!$C$7:$C$46,$A100,'50m Manikin Carry Women'!$AE$7:$AE$46))>MAX('50m Manikin Carry Women'!$AE$7:$AE$46)+2,MAX('50m Manikin Carry Women'!$AE$7:$AE$46),IF(SUMIF('50m Manikin Carry Women'!$C$7:$C$46,$A100,'50m Manikin Carry Women'!$AE$7:$AE$46)=0,1+MAX('50m Manikin Carry Women'!$AE$7:$AE$46),SUMIF('50m Manikin Carry Women'!$C$7:$C$46,$A100,'50m Manikin Carry Women'!$AE$7:$AE$46))))","v":""},{"$f":"IF($A100=\"\",\"\",IF(IF(SUMIF('100m Manikin Carry Women'!$C$7:$C$46,$A100,'100m Manikin Carry Women'!$AE$7:$AE$46)=0,1+MAX('100m Manikin Carry Women'!$AE$7:$AE$46),SUMIF('100m Manikin Carry Women'!$C$7:$C$46,$A100,'100m Manikin Carry Women'!$AE$7:$AE$46))>2+MAX('100m Manikin Carry Women'!$AE$7:$AE$46),MAX('100m Manikin Carry Women'!$AE$7:$AE$46),IF(SUMIF('100m Manikin Carry Women'!$C$7:$C$46,$A100,'100m Manikin Carry Women'!$AE$7:$AE$46)=0,1+MAX('100m Manikin Carry Women'!$AE$7:$AE$46),SUMIF('100m Manikin Carry Women'!$C$7:$C$46,$A100,'100m Manikin Carry Women'!$AE$7:$AE$46))))","v":""},{"$f":"IF($A100=\"\",\"\",IF(IF(SUMIF('100m Manikin Tow Women'!$C$7:$C$46,$A100,'100m Manikin Tow Women'!$AE$7:$AE$46)=0,1+MAX('100m Manikin Tow Women'!$AE$7:$AE$46),SUMIF('100m Manikin Tow Women'!$C$7:$C$46,$A100,'100m Manikin Tow Women'!$AE$7:$AE$46))>2+MAX('100m Manikin Tow Women'!$AE$7:$AE$46),MAX('100m Manikin Tow Women'!$AE$7:$AE$46),IF(SUMIF('100m Manikin Tow Women'!$C$7:$C$46,$A100,'100m Manikin Tow Women'!$AE$7:$AE$46)=0,1+MAX('100m Manikin Tow Women'!$AE$7:$AE$46),SUMIF('100m Manikin Tow Women'!$C$7:$C$46,$A100,'100m Manikin Tow Women'!$AE$7:$AE$46))))","v":""},{"$f":"IF($A100=\"\",\"\",IF(IF(SUMIF('200m Obs Women'!$C$7:$C$46,$A100,'200m Obs Women'!$AE$7:$AE$46)=0,1+MAX('200m Obs Women'!$AE$7:$AE$46),SUMIF('200m Obs Women'!$C$7:$C$46,$A100,'200m Obs Women'!$AE$7:$AE$46))>2+MAX('200m Obs Women'!$AE$7:$AE$46),MAX('200m Obs Women'!$AE$7:$AE$46),IF(SUMIF('200m Obs Women'!$C$7:$C$46,$A100,'200m Obs Women'!$AE$7:$AE$46)=0,1+MAX('200m Obs Women'!$AE$7:$AE$46),SUMIF('200m Obs Women'!$C$7:$C$46,$A100,'200m Obs Women'!$AE$7:$AE$46))))","v":""},{"$f":"IF($A100=\"\",\"\",IF(IF(SUMIF('200m Super Women'!$C$7:$C$46,$A100,'200m Super Women'!$AE$7:$AE$46)=0,1+MAX('200m Super Women'!$AE$7:$AE$46),SUMIF('200m Super Women'!$C$7:$C$46,$A100,'200m Super Women'!$AE$7:$AE$46))>2+MAX('200m Super Women'!$AE$7:$AE$46),MAX('200m Super Women'!$AE$7:$AE$46),IF(SUMIF('200m Super Women'!$C$7:$C$46,$A100,'200m Super Women'!$AE$7:$AE$46)=0,1+MAX('200m Super Women'!$AE$7:$AE$46),SUMIF('200m Super Women'!$C$7:$C$46,$A100,'200m Super Women'!$AE$7:$AE$46))))","v":""},{"$f":"IF($A100=\"\",\"\",IF(IF(SUMIF('100 Resue Women'!$C$7:$C$46,$A100,'100 Resue Women'!$AE$7:$AE$46)=0,1+MAX('100 Resue Women'!$AE$7:$AE$46),SUMIF('100 Resue Women'!$C$7:$C$46,$A100,'100 Resue Women'!$AE$7:$AE$46))>2+MAX('100 Resue Women'!$AE$7:$AE$46),MAX('100 Resue Women'!$AE$7:$AE$46),IF(SUMIF('100 Resue Women'!$C$7:$C$46,$A100,'100 Resue Women'!$AE$7:$AE$46)=0,1+MAX('100 Resue Women'!$AE$7:$AE$46),SUMIF('100 Resue Women'!$C$7:$C$46,$A100,'100 Resue Women'!$AE$7:$AE$46))))","v":""},{"$f":"IF($A100=\"\",\"\",IF(IF(SUMIF('Line Throw Women'!$C$7:$C$46,$A100,'Line Throw Women'!$AG$7:$AG$46)=0,MAX('Line Throw Women'!$AG$7:$AG$46),SUMIF('Line Throw Women'!$C$7:$C$46,$A100,'Line Throw Women'!$AG$7:$AG$46))>2+MAX('Line Throw Women'!$AG$7:$AG$46),MAX('Line Throw Women'!$AG$7:$AG$46),IF(SUMIF('Line Throw Women'!$C$7:$C$46,$A100,'Line Throw Women'!$AG$7:$AG$46)=0,1+MAX('Line Throw Women'!$AG$7:$AG$46),SUMIF('Line Throw Women'!$C$7:$C$46,$A100,'Line Throw Women'!$AG$7:$AG$46))))","v":""},{"$f":"IF($A100=\"\",\"\",IF(IF(SUMIF('4 x 50 Obs Relay Women'!$C$7:$C$46,$A100,'4 x 50 Obs Relay Women'!$AJ$7:$AJ$46)=0,1+MAX('4 x 50 Obs Relay Women'!$AJ$7:$AJ$46),SUMIF('4 x 50 Obs Relay Women'!$C$7:$C$46,$A100,'4 x 50 Obs Relay Women'!$AJ$7:$AJ$46))>2+MAX('4 x 50 Obs Relay Women'!$AJ$7:$AJ$46),MAX('4 x 50 Obs Relay Women'!$AJ$7:$AJ$46),IF(SUMIF('4 x 50 Obs Relay Women'!$C$7:$C$46,$A100,'4 x 50 Obs Relay Women'!$AJ$7:$AJ$46)=0,1+MAX('4 x 50 Obs Relay Women'!$AJ$7:$AJ$46),SUMIF('4 x 50 Obs Relay Women'!$C$7:$C$46,$A100,'4 x 50 Obs Relay Women'!$AJ$7:$AJ$46))))","v":""},{"$f":"IF($A100=\"\",\"\",IF(IF(SUMIF('4 x 50 medley Relay Women'!$C$7:$C$46,$A100,'4 x 50 medley Relay Women'!$AJ$7:$AJ$46)=0,1+MAX('4 x 50 medley Relay Women'!$AJ$7:$AJ$46),SUMIF('4 x 50 medley Relay Women'!$C$7:$C$46,$A100,'4 x 50 medley Relay Women'!$AJ$7:$AJ$46))>2+MAX('4 x 50 medley Relay Women'!$AJ$7:$AJ$46),MAX('4 x 50 medley Relay Women'!$AJ$7:$AJ$46),IF(SUMIF('4 x 50 medley Relay Women'!$C$7:$C$46,$A100,'4 x 50 medley Relay Women'!$AJ$7:$AJ$46)=0,1+MAX('4 x 50 medley Relay Women'!$AJ$7:$AJ$46),SUMIF('4 x 50 medley Relay Women'!$C$7:$C$46,$A100,'4 x 50 medley Relay Women'!$AJ$7:$AJ$46))))","v":""},{"$f":"IF($A100=\"\",\"\",IF(IF(SUMIF('4 x 25 Manikin Carry Women'!$C$7:$C$46,$A100,'4 x 25 Manikin Carry Women'!$AJ$7:$AJ$46)=0,1+MAX('4 x 25 Manikin Carry Women'!$AJ$7:$AJ$46),SUMIF('4 x 25 Manikin Carry Women'!$C$7:$C$46,$A100,'4 x 25 Manikin Carry Women'!$AJ$7:$AJ$46))>2+MAX('4 x 25 Manikin Carry Women'!$AJ$7:$AJ$46),MAX('4 x 25 Manikin Carry Women'!$AJ$7:$AJ$46),IF(SUMIF('4 x 25 Manikin Carry Women'!$C$7:$C$46,$A100,'4 x 25 Manikin Carry Women'!$AJ$7:$AJ$46)=0,1+MAX('4 x 25 Manikin Carry Women'!$AJ$7:$AJ$46),SUMIF('4 x 25 Manikin Carry Women'!$C$7:$C$46,$A100,'4 x 25 Manikin Carry Women'!$AJ$7:$AJ$46))))","v":""},{"$f":"IF($A100=\"\",\"\",IF(IF(SUMIF('Line Throw Relay Women'!$C$7:$C$46,$A100,'Line Throw Relay Women'!$AJ$7:$AJ$46)=0,1+MAX('Line Throw Relay Women'!$AJ$7:$AJ$46),SUMIF('Line Throw Relay Women'!$C$7:$C$46,$A100,'Line Throw Relay Women'!$AJ$7:$AJ$46))>2+MAX('Line Throw Relay Women'!$AJ$7:$AJ$46),MAX('Line Throw Relay Women'!$AJ$7:$AJ$46),IF(SUMIF('Line Throw Relay Women'!$C$7:$C$46,$A100,'Line Throw Relay Women'!$AJ$7:$AJ$46)=0,1+MAX('Line Throw Relay Women'!$AJ$7:$AJ$46),SUMIF('Line Throw Relay Women'!$C$7:$C$46,$A100,'Line Throw Relay Women'!$AJ$7:$AJ$46))))","v":""},"",""]
["","",{"$f":"IF($A101=\"\",\"\",IF(IF(SUMIF('50m Manikin Carry Women'!$C$7:$C$46,$A101,'50m Manikin Carry Women'!$AE$7:$AE$46)=0,1+MAX('50m Manikin Carry Women'!$AE$7:$AE$46),SUMIF('50m Manikin Carry Women'!$C$7:$C$46,$A101,'50m Manikin Carry Women'!$AE$7:$AE$46))>MAX('50m Manikin Carry Women'!$AE$7:$AE$46)+2,MAX('50m Manikin Carry Women'!$AE$7:$AE$46),IF(SUMIF('50m Manikin Carry Women'!$C$7:$C$46,$A101,'50m Manikin Carry Women'!$AE$7:$AE$46)=0,1+MAX('50m Manikin Carry Women'!$AE$7:$AE$46),SUMIF('50m Manikin Carry Women'!$C$7:$C$46,$A101,'50m Manikin Carry Women'!$AE$7:$AE$46))))","v":""},{"$f":"IF($A101=\"\",\"\",IF(IF(SUMIF('100m Manikin Carry Women'!$C$7:$C$46,$A101,'100m Manikin Carry Women'!$AE$7:$AE$46)=0,1+MAX('100m Manikin Carry Women'!$AE$7:$AE$46),SUMIF('100m Manikin Carry Women'!$C$7:$C$46,$A101,'100m Manikin Carry Women'!$AE$7:$AE$46))>2+MAX('100m Manikin Carry Women'!$AE$7:$AE$46),MAX('100m Manikin Carry Women'!$AE$7:$AE$46),IF(SUMIF('100m Manikin Carry Women'!$C$7:$C$46,$A101,'100m Manikin Carry Women'!$AE$7:$AE$46)=0,1+MAX('100m Manikin Carry Women'!$AE$7:$AE$46),SUMIF('100m Manikin Carry Women'!$C$7:$C$46,$A101,'100m Manikin Carry Women'!$AE$7:$AE$46))))","v":""},{"$f":"IF($A101=\"\",\"\",IF(IF(SUMIF('100m Manikin Tow Women'!$C$7:$C$46,$A101,'100m Manikin Tow Women'!$AE$7:$AE$46)=0,1+MAX('100m Manikin Tow Women'!$AE$7:$AE$46),SUMIF('100m Manikin Tow Women'!$C$7:$C$46,$A101,'100m Manikin Tow Women'!$AE$7:$AE$46))>2+MAX('100m Manikin Tow Women'!$AE$7:$AE$46),MAX('100m Manikin Tow Women'!$AE$7:$AE$46),IF(SUMIF('100m Manikin Tow Women'!$C$7:$C$46,$A101,'100m Manikin Tow Women'!$AE$7:$AE$46)=0,1+MAX('100m Manikin Tow Women'!$AE$7:$AE$46),SUMIF('100m Manikin Tow Women'!$C$7:$C$46,$A101,'100m Manikin Tow Women'!$AE$7:$AE$46))))","v":""},{"$f":"IF($A101=\"\",\"\",IF(IF(SUMIF('200m Obs Women'!$C$7:$C$46,$A101,'200m Obs Women'!$AE$7:$AE$46)=0,1+MAX('200m Obs Women'!$AE$7:$AE$46),SUMIF('200m Obs Women'!$C$7:$C$46,$A101,'200m Obs Women'!$AE$7:$AE$46))>2+MAX('200m Obs Women'!$AE$7:$AE$46),MAX('200m Obs Women'!$AE$7:$AE$46),IF(SUMIF('200m Obs Women'!$C$7:$C$46,$A101,'200m Obs Women'!$AE$7:$AE$46)=0,1+MAX('200m Obs Women'!$AE$7:$AE$46),SUMIF('200m Obs Women'!$C$7:$C$46,$A101,'200m Obs Women'!$AE$7:$AE$46))))","v":""},{"$f":"IF($A101=\"\",\"\",IF(IF(SUMIF('200m Super Women'!$C$7:$C$46,$A101,'200m Super Women'!$AE$7:$AE$46)=0,1+MAX('200m Super Women'!$AE$7:$AE$46),SUMIF('200m Super Women'!$C$7:$C$46,$A101,'200m Super Women'!$AE$7:$AE$46))>2+MAX('200m Super Women'!$AE$7:$AE$46),MAX('200m Super Women'!$AE$7:$AE$46),IF(SUMIF('200m Super Women'!$C$7:$C$46,$A101,'200m Super Women'!$AE$7:$AE$46)=0,1+MAX('200m Super Women'!$AE$7:$AE$46),SUMIF('200m Super Women'!$C$7:$C$46,$A101,'200m Super Women'!$AE$7:$AE$46))))","v":""},{"$f":"IF($A101=\"\",\"\",IF(IF(SUMIF('100 Resue Women'!$C$7:$C$46,$A101,'100 Resue Women'!$AE$7:$AE$46)=0,1+MAX('100 Resue Women'!$AE$7:$AE$46),SUMIF('100 Resue Women'!$C$7:$C$46,$A101,'100 Resue Women'!$AE$7:$AE$46))>2+MAX('100 Resue Women'!$AE$7:$AE$46),MAX('100 Resue Women'!$AE$7:$AE$46),IF(SUMIF('100 Resue Women'!$C$7:$C$46,$A101,'100 Resue Women'!$AE$7:$AE$46)=0,1+MAX('100 Resue Women'!$AE$7:$AE$46),SUMIF('100 Resue Women'!$C$7:$C$46,$A101,'100 Resue Women'!$AE$7:$AE$46))))","v":""},{"$f":"IF($A101=\"\",\"\",IF(IF(SUMIF('Line Throw Women'!$C$7:$C$46,$A101,'Line Throw Women'!$AG$7:$AG$46)=0,MAX('Line Throw Women'!$AG$7:$AG$46),SUMIF('Line Throw Women'!$C$7:$C$46,$A101,'Line Throw Women'!$AG$7:$AG$46))>2+MAX('Line Throw Women'!$AG$7:$AG$46),MAX('Line Throw Women'!$AG$7:$AG$46),IF(SUMIF('Line Throw Women'!$C$7:$C$46,$A101,'Line Throw Women'!$AG$7:$AG$46)=0,1+MAX('Line Throw Women'!$AG$7:$AG$46),SUMIF('Line Throw Women'!$C$7:$C$46,$A101,'Line Throw Women'!$AG$7:$AG$46))))","v":""},{"$f":"IF($A101=\"\",\"\",IF(IF(SUMIF('4 x 50 Obs Relay Women'!$C$7:$C$46,$A101,'4 x 50 Obs Relay Women'!$AJ$7:$AJ$46)=0,1+MAX('4 x 50 Obs Relay Women'!$AJ$7:$AJ$46),SUMIF('4 x 50 Obs Relay Women'!$C$7:$C$46,$A101,'4 x 50 Obs Relay Women'!$AJ$7:$AJ$46))>2+MAX('4 x 50 Obs Relay Women'!$AJ$7:$AJ$46),MAX('4 x 50 Obs Relay Women'!$AJ$7:$AJ$46),IF(SUMIF('4 x 50 Obs Relay Women'!$C$7:$C$46,$A101,'4 x 50 Obs Relay Women'!$AJ$7:$AJ$46)=0,1+MAX('4 x 50 Obs Relay Women'!$AJ$7:$AJ$46),SUMIF('4 x 50 Obs Relay Women'!$C$7:$C$46,$A101,'4 x 50 Obs Relay Women'!$AJ$7:$AJ$46))))","v":""},{"$f":"IF($A101=\"\",\"\",IF(IF(SUMIF('4 x 50 medley Relay Women'!$C$7:$C$46,$A101,'4 x 50 medley Relay Women'!$AJ$7:$AJ$46)=0,1+MAX('4 x 50 medley Relay Women'!$AJ$7:$AJ$46),SUMIF('4 x 50 medley Relay Women'!$C$7:$C$46,$A101,'4 x 50 medley Relay Women'!$AJ$7:$AJ$46))>2+MAX('4 x 50 medley Relay Women'!$AJ$7:$AJ$46),MAX('4 x 50 medley Relay Women'!$AJ$7:$AJ$46),IF(SUMIF('4 x 50 medley Relay Women'!$C$7:$C$46,$A101,'4 x 50 medley Relay Women'!$AJ$7:$AJ$46)=0,1+MAX('4 x 50 medley Relay Women'!$AJ$7:$AJ$46),SUMIF('4 x 50 medley Relay Women'!$C$7:$C$46,$A101,'4 x 50 medley Relay Women'!$AJ$7:$AJ$46))))","v":""},{"$f":"IF($A101=\"\",\"\",IF(IF(SUMIF('4 x 25 Manikin Carry Women'!$C$7:$C$46,$A101,'4 x 25 Manikin Carry Women'!$AJ$7:$AJ$46)=0,1+MAX('4 x 25 Manikin Carry Women'!$AJ$7:$AJ$46),SUMIF('4 x 25 Manikin Carry Women'!$C$7:$C$46,$A101,'4 x 25 Manikin Carry Women'!$AJ$7:$AJ$46))>2+MAX('4 x 25 Manikin Carry Women'!$AJ$7:$AJ$46),MAX('4 x 25 Manikin Carry Women'!$AJ$7:$AJ$46),IF(SUMIF('4 x 25 Manikin Carry Women'!$C$7:$C$46,$A101,'4 x 25 Manikin Carry Women'!$AJ$7:$AJ$46)=0,1+MAX('4 x 25 Manikin Carry Women'!$AJ$7:$AJ$46),SUMIF('4 x 25 Manikin Carry Women'!$C$7:$C$46,$A101,'4 x 25 Manikin Carry Women'!$AJ$7:$AJ$46))))","v":""},{"$f":"IF($A101=\"\",\"\",IF(IF(SUMIF('Line Throw Relay Women'!$C$7:$C$46,$A101,'Line Throw Relay Women'!$AJ$7:$AJ$46)=0,1+MAX('Line Throw Relay Women'!$AJ$7:$AJ$46),SUMIF('Line Throw Relay Women'!$C$7:$C$46,$A101,'Line Throw Relay Women'!$AJ$7:$AJ$46))>2+MAX('Line Throw Relay Women'!$AJ$7:$AJ$46),MAX('Line Throw Relay Women'!$AJ$7:$AJ$46),IF(SUMIF('Line Throw Relay Women'!$C$7:$C$46,$A101,'Line Throw Relay Women'!$AJ$7:$AJ$46)=0,1+MAX('Line Throw Relay Women'!$AJ$7:$AJ$46),SUMIF('Line Throw Relay Women'!$C$7:$C$46,$A101,'Line Throw Relay Women'!$AJ$7:$AJ$46))))","v":""},"",""]
["","",{"$f":"IF($A102=\"\",\"\",IF(IF(SUMIF('50m Manikin Carry Women'!$C$7:$C$46,$A102,'50m Manikin Carry Women'!$AE$7:$AE$46)=0,1+MAX('50m Manikin Carry Women'!$AE$7:$AE$46),SUMIF('50m Manikin Carry Women'!$C$7:$C$46,$A102,'50m Manikin Carry Women'!$AE$7:$AE$46))>MAX('50m Manikin Carry Women'!$AE$7:$AE$46)+2,MAX('50m Manikin Carry Women'!$AE$7:$AE$46),IF(SUMIF('50m Manikin Carry Women'!$C$7:$C$46,$A102,'50m Manikin Carry Women'!$AE$7:$AE$46)=0,1+MAX('50m Manikin Carry Women'!$AE$7:$AE$46),SUMIF('50m Manikin Carry Women'!$C$7:$C$46,$A102,'50m Manikin Carry Women'!$AE$7:$AE$46))))","v":""},{"$f":"IF($A102=\"\",\"\",IF(IF(SUMIF('100m Manikin Carry Women'!$C$7:$C$46,$A102,'100m Manikin Carry Women'!$AE$7:$AE$46)=0,1+MAX('100m Manikin Carry Women'!$AE$7:$AE$46),SUMIF('100m Manikin Carry Women'!$C$7:$C$46,$A102,'100m Manikin Carry Women'!$AE$7:$AE$46))>2+MAX('100m Manikin Carry Women'!$AE$7:$AE$46),MAX('100m Manikin Carry Women'!$AE$7:$AE$46),IF(SUMIF('100m Manikin Carry Women'!$C$7:$C$46,$A102,'100m Manikin Carry Women'!$AE$7:$AE$46)=0,1+MAX('100m Manikin Carry Women'!$AE$7:$AE$46),SUMIF('100m Manikin Carry Women'!$C$7:$C$46,$A102,'100m Manikin Carry Women'!$AE$7:$AE$46))))","v":""},{"$f":"IF($A102=\"\",\"\",IF(IF(SUMIF('100m Manikin Tow Women'!$C$7:$C$46,$A102,'100m Manikin Tow Women'!$AE$7:$AE$46)=0,1+MAX('100m Manikin Tow Women'!$AE$7:$AE$46),SUMIF('100m Manikin Tow Women'!$C$7:$C$46,$A102,'100m Manikin Tow Women'!$AE$7:$AE$46))>2+MAX('100m Manikin Tow Women'!$AE$7:$AE$46),MAX('100m Manikin Tow Women'!$AE$7:$AE$46),IF(SUMIF('100m Manikin Tow Women'!$C$7:$C$46,$A102,'100m Manikin Tow Women'!$AE$7:$AE$46)=0,1+MAX('100m Manikin Tow Women'!$AE$7:$AE$46),SUMIF('100m Manikin Tow Women'!$C$7:$C$46,$A102,'100m Manikin Tow Women'!$AE$7:$AE$46))))","v":""},{"$f":"IF($A102=\"\",\"\",IF(IF(SUMIF('200m Obs Women'!$C$7:$C$46,$A102,'200m Obs Women'!$AE$7:$AE$46)=0,1+MAX('200m Obs Women'!$AE$7:$AE$46),SUMIF('200m Obs Women'!$C$7:$C$46,$A102,'200m Obs Women'!$AE$7:$AE$46))>2+MAX('200m Obs Women'!$AE$7:$AE$46),MAX('200m Obs Women'!$AE$7:$AE$46),IF(SUMIF('200m Obs Women'!$C$7:$C$46,$A102,'200m Obs Women'!$AE$7:$AE$46)=0,1+MAX('200m Obs Women'!$AE$7:$AE$46),SUMIF('200m Obs Women'!$C$7:$C$46,$A102,'200m Obs Women'!$AE$7:$AE$46))))","v":""},{"$f":"IF($A102=\"\",\"\",IF(IF(SUMIF('200m Super Women'!$C$7:$C$46,$A102,'200m Super Women'!$AE$7:$AE$46)=0,1+MAX('200m Super Women'!$AE$7:$AE$46),SUMIF('200m Super Women'!$C$7:$C$46,$A102,'200m Super Women'!$AE$7:$AE$46))>2+MAX('200m Super Women'!$AE$7:$AE$46),MAX('200m Super Women'!$AE$7:$AE$46),IF(SUMIF('200m Super Women'!$C$7:$C$46,$A102,'200m Super Women'!$AE$7:$AE$46)=0,1+MAX('200m Super Women'!$AE$7:$AE$46),SUMIF('200m Super Women'!$C$7:$C$46,$A102,'200m Super Women'!$AE$7:$AE$46))))","v":""},{"$f":"IF($A102=\"\",\"\",IF(IF(SUMIF('100 Resue Women'!$C$7:$C$46,$A102,'100 Resue Women'!$AE$7:$AE$46)=0,1+MAX('100 Resue Women'!$AE$7:$AE$46),SUMIF('100 Resue Women'!$C$7:$C$46,$A102,'100 Resue Women'!$AE$7:$AE$46))>2+MAX('100 Resue Women'!$AE$7:$AE$46),MAX('100 Resue Women'!$AE$7:$AE$46),IF(SUMIF('100 Resue Women'!$C$7:$C$46,$A102,'100 Resue Women'!$AE$7:$AE$46)=0,1+MAX('100 Resue Women'!$AE$7:$AE$46),SUMIF('100 Resue Women'!$C$7:$C$46,$A102,'100 Resue Women'!$AE$7:$AE$46))))","v":""},{"$f":"IF($A102=\"\",\"\",IF(IF(SUMIF('Line Throw Women'!$C$7:$C$46,$A102,'Line Throw Women'!$AG$7:$AG$46)=0,MAX('Line Throw Women'!$AG$7:$AG$46),SUMIF('Line Throw Women'!$C$7:$C$46,$A102,'Line Throw Women'!$AG$7:$AG$46))>2+MAX('Line Throw Women'!$AG$7:$AG$46),MAX('Line Throw Women'!$AG$7:$AG$46),IF(SUMIF('Line Throw Women'!$C$7:$C$46,$A102,'Line Throw Women'!$AG$7:$AG$46)=0,1+MAX('Line Throw Women'!$AG$7:$AG$46),SUMIF('Line Throw Women'!$C$7:$C$46,$A102,'Line Throw Women'!$AG$7:$AG$46))))","v":""},{"$f":"IF($A102=\"\",\"\",IF(IF(SUMIF('4 x 50 Obs Relay Women'!$C$7:$C$46,$A102,'4 x 50 Obs Relay Women'!$AJ$7:$AJ$46)=0,1+MAX('4 x 50 Obs Relay Women'!$AJ$7:$AJ$46),SUMIF('4 x 50 Obs Relay Women'!$C$7:$C$46,$A102,'4 x 50 Obs Relay Women'!$AJ$7:$AJ$46))>2+MAX('4 x 50 Obs Relay Women'!$AJ$7:$AJ$46),MAX('4 x 50 Obs Relay Women'!$AJ$7:$AJ$46),IF(SUMIF('4 x 50 Obs Relay Women'!$C$7:$C$46,$A102,'4 x 50 Obs Relay Women'!$AJ$7:$AJ$46)=0,1+MAX('4 x 50 Obs Relay Women'!$AJ$7:$AJ$46),SUMIF('4 x 50 Obs Relay Women'!$C$7:$C$46,$A102,'4 x 50 Obs Relay Women'!$AJ$7:$AJ$46))))","v":""},{"$f":"IF($A102=\"\",\"\",IF(IF(SUMIF('4 x 50 medley Relay Women'!$C$7:$C$46,$A102,'4 x 50 medley Relay Women'!$AJ$7:$AJ$46)=0,1+MAX('4 x 50 medley Relay Women'!$AJ$7:$AJ$46),SUMIF('4 x 50 medley Relay Women'!$C$7:$C$46,$A102,'4 x 50 medley Relay Women'!$AJ$7:$AJ$46))>2+MAX('4 x 50 medley Relay Women'!$AJ$7:$AJ$46),MAX('4 x 50 medley Relay Women'!$AJ$7:$AJ$46),IF(SUMIF('4 x 50 medley Relay Women'!$C$7:$C$46,$A102,'4 x 50 medley Relay Women'!$AJ$7:$AJ$46)=0,1+MAX('4 x 50 medley Relay Women'!$AJ$7:$AJ$46),SUMIF('4 x 50 medley Relay Women'!$C$7:$C$46,$A102,'4 x 50 medley Relay Women'!$AJ$7:$AJ$46))))","v":""},{"$f":"IF($A102=\"\",\"\",IF(IF(SUMIF('4 x 25 Manikin Carry Women'!$C$7:$C$46,$A102,'4 x 25 Manikin Carry Women'!$AJ$7:$AJ$46)=0,1+MAX('4 x 25 Manikin Carry Women'!$AJ$7:$AJ$46),SUMIF('4 x 25 Manikin Carry Women'!$C$7:$C$46,$A102,'4 x 25 Manikin Carry Women'!$AJ$7:$AJ$46))>2+MAX('4 x 25 Manikin Carry Women'!$AJ$7:$AJ$46),MAX('4 x 25 Manikin Carry Women'!$AJ$7:$AJ$46),IF(SUMIF('4 x 25 Manikin Carry Women'!$C$7:$C$46,$A102,'4 x 25 Manikin Carry Women'!$AJ$7:$AJ$46)=0,1+MAX('4 x 25 Manikin Carry Women'!$AJ$7:$AJ$46),SUMIF('4 x 25 Manikin Carry Women'!$C$7:$C$46,$A102,'4 x 25 Manikin Carry Women'!$AJ$7:$AJ$46))))","v":""},{"$f":"IF($A102=\"\",\"\",IF(IF(SUMIF('Line Throw Relay Women'!$C$7:$C$46,$A102,'Line Throw Relay Women'!$AJ$7:$AJ$46)=0,1+MAX('Line Throw Relay Women'!$AJ$7:$AJ$46),SUMIF('Line Throw Relay Women'!$C$7:$C$46,$A102,'Line Throw Relay Women'!$AJ$7:$AJ$46))>2+MAX('Line Throw Relay Women'!$AJ$7:$AJ$46),MAX('Line Throw Relay Women'!$AJ$7:$AJ$46),IF(SUMIF('Line Throw Relay Women'!$C$7:$C$46,$A102,'Line Throw Relay Women'!$AJ$7:$AJ$46)=0,1+MAX('Line Throw Relay Women'!$AJ$7:$AJ$46),SUMIF('Line Throw Relay Women'!$C$7:$C$46,$A102,'Line Throw Relay Women'!$AJ$7:$AJ$46))))","v":""},"",""]
["","",{"$f":"IF($A103=\"\",\"\",IF(IF(SUMIF('50m Manikin Carry Women'!$C$7:$C$46,$A103,'50m Manikin Carry Women'!$AE$7:$AE$46)=0,1+MAX('50m Manikin Carry Women'!$AE$7:$AE$46),SUMIF('50m Manikin Carry Women'!$C$7:$C$46,$A103,'50m Manikin Carry Women'!$AE$7:$AE$46))>MAX('50m Manikin Carry Women'!$AE$7:$AE$46)+2,MAX('50m Manikin Carry Women'!$AE$7:$AE$46),IF(SUMIF('50m Manikin Carry Women'!$C$7:$C$46,$A103,'50m Manikin Carry Women'!$AE$7:$AE$46)=0,1+MAX('50m Manikin Carry Women'!$AE$7:$AE$46),SUMIF('50m Manikin Carry Women'!$C$7:$C$46,$A103,'50m Manikin Carry Women'!$AE$7:$AE$46))))","v":""},{"$f":"IF($A103=\"\",\"\",IF(IF(SUMIF('100m Manikin Carry Women'!$C$7:$C$46,$A103,'100m Manikin Carry Women'!$AE$7:$AE$46)=0,1+MAX('100m Manikin Carry Women'!$AE$7:$AE$46),SUMIF('100m Manikin Carry Women'!$C$7:$C$46,$A103,'100m Manikin Carry Women'!$AE$7:$AE$46))>2+MAX('100m Manikin Carry Women'!$AE$7:$AE$46),MAX('100m Manikin Carry Women'!$AE$7:$AE$46),IF(SUMIF('100m Manikin Carry Women'!$C$7:$C$46,$A103,'100m Manikin Carry Women'!$AE$7:$AE$46)=0,1+MAX('100m Manikin Carry Women'!$AE$7:$AE$46),SUMIF('100m Manikin Carry Women'!$C$7:$C$46,$A103,'100m Manikin Carry Women'!$AE$7:$AE$46))))","v":""},{"$f":"IF($A103=\"\",\"\",IF(IF(SUMIF('100m Manikin Tow Women'!$C$7:$C$46,$A103,'100m Manikin Tow Women'!$AE$7:$AE$46)=0,1+MAX('100m Manikin Tow Women'!$AE$7:$AE$46),SUMIF('100m Manikin Tow Women'!$C$7:$C$46,$A103,'100m Manikin Tow Women'!$AE$7:$AE$46))>2+MAX('100m Manikin Tow Women'!$AE$7:$AE$46),MAX('100m Manikin Tow Women'!$AE$7:$AE$46),IF(SUMIF('100m Manikin Tow Women'!$C$7:$C$46,$A103,'100m Manikin Tow Women'!$AE$7:$AE$46)=0,1+MAX('100m Manikin Tow Women'!$AE$7:$AE$46),SUMIF('100m Manikin Tow Women'!$C$7:$C$46,$A103,'100m Manikin Tow Women'!$AE$7:$AE$46))))","v":""},{"$f":"IF($A103=\"\",\"\",IF(IF(SUMIF('200m Obs Women'!$C$7:$C$46,$A103,'200m Obs Women'!$AE$7:$AE$46)=0,1+MAX('200m Obs Women'!$AE$7:$AE$46),SUMIF('200m Obs Women'!$C$7:$C$46,$A103,'200m Obs Women'!$AE$7:$AE$46))>2+MAX('200m Obs Women'!$AE$7:$AE$46),MAX('200m Obs Women'!$AE$7:$AE$46),IF(SUMIF('200m Obs Women'!$C$7:$C$46,$A103,'200m Obs Women'!$AE$7:$AE$46)=0,1+MAX('200m Obs Women'!$AE$7:$AE$46),SUMIF('200m Obs Women'!$C$7:$C$46,$A103,'200m Obs Women'!$AE$7:$AE$46))))","v":""},{"$f":"IF($A103=\"\",\"\",IF(IF(SUMIF('200m Super Women'!$C$7:$C$46,$A103,'200m Super Women'!$AE$7:$AE$46)=0,1+MAX('200m Super Women'!$AE$7:$AE$46),SUMIF('200m Super Women'!$C$7:$C$46,$A103,'200m Super Women'!$AE$7:$AE$46))>2+MAX('200m Super Women'!$AE$7:$AE$46),MAX('200m Super Women'!$AE$7:$AE$46),IF(SUMIF('200m Super Women'!$C$7:$C$46,$A103,'200m Super Women'!$AE$7:$AE$46)=0,1+MAX('200m Super Women'!$AE$7:$AE$46),SUMIF('200m Super Women'!$C$7:$C$46,$A103,'200m Super Women'!$AE$7:$AE$46))))","v":""},{"$f":"IF($A103=\"\",\"\",IF(IF(SUMIF('100 Resue Women'!$C$7:$C$46,$A103,'100 Resue Women'!$AE$7:$AE$46)=0,1+MAX('100 Resue Women'!$AE$7:$AE$46),SUMIF('100 Resue Women'!$C$7:$C$46,$A103,'100 Resue Women'!$AE$7:$AE$46))>2+MAX('100 Resue Women'!$AE$7:$AE$46),MAX('100 Resue Women'!$AE$7:$AE$46),IF(SUMIF('100 Resue Women'!$C$7:$C$46,$A103,'100 Resue Women'!$AE$7:$AE$46)=0,1+MAX('100 Resue Women'!$AE$7:$AE$46),SUMIF('100 Resue Women'!$C$7:$C$46,$A103,'100 Resue Women'!$AE$7:$AE$46))))","v":""},{"$f":"IF($A103=\"\",\"\",IF(IF(SUMIF('Line Throw Women'!$C$7:$C$46,$A103,'Line Throw Women'!$AG$7:$AG$46)=0,MAX('Line Throw Women'!$AG$7:$AG$46),SUMIF('Line Throw Women'!$C$7:$C$46,$A103,'Line Throw Women'!$AG$7:$AG$46))>2+MAX('Line Throw Women'!$AG$7:$AG$46),MAX('Line Throw Women'!$AG$7:$AG$46),IF(SUMIF('Line Throw Women'!$C$7:$C$46,$A103,'Line Throw Women'!$AG$7:$AG$46)=0,1+MAX('Line Throw Women'!$AG$7:$AG$46),SUMIF('Line Throw Women'!$C$7:$C$46,$A103,'Line Throw Women'!$AG$7:$AG$46))))","v":""},{"$f":"IF($A103=\"\",\"\",IF(IF(SUMIF('4 x 50 Obs Relay Women'!$C$7:$C$46,$A103,'4 x 50 Obs Relay Women'!$AJ$7:$AJ$46)=0,1+MAX('4 x 50 Obs Relay Women'!$AJ$7:$AJ$46),SUMIF('4 x 50 Obs Relay Women'!$C$7:$C$46,$A103,'4 x 50 Obs Relay Women'!$AJ$7:$AJ$46))>2+MAX('4 x 50 Obs Relay Women'!$AJ$7:$AJ$46),MAX('4 x 50 Obs Relay Women'!$AJ$7:$AJ$46),IF(SUMIF('4 x 50 Obs Relay Women'!$C$7:$C$46,$A103,'4 x 50 Obs Relay Women'!$AJ$7:$AJ$46)=0,1+MAX('4 x 50 Obs Relay Women'!$AJ$7:$AJ$46),SUMIF('4 x 50 Obs Relay Women'!$C$7:$C$46,$A103,'4 x 50 Obs Relay Women'!$AJ$7:$AJ$46))))","v":""},{"$f":"IF($A103=\"\",\"\",IF(IF(SUMIF('4 x 50 medley Relay Women'!$C$7:$C$46,$A103,'4 x 50 medley Relay Women'!$AJ$7:$AJ$46)=0,1+MAX('4 x 50 medley Relay Women'!$AJ$7:$AJ$46),SUMIF('4 x 50 medley Relay Women'!$C$7:$C$46,$A103,'4 x 50 medley Relay Women'!$AJ$7:$AJ$46))>2+MAX('4 x 50 medley Relay Women'!$AJ$7:$AJ$46),MAX('4 x 50 medley Relay Women'!$AJ$7:$AJ$46),IF(SUMIF('4 x 50 medley Relay Women'!$C$7:$C$46,$A103,'4 x 50 medley Relay Women'!$AJ$7:$AJ$46)=0,1+MAX('4 x 50 medley Relay Women'!$AJ$7:$AJ$46),SUMIF('4 x 50 medley Relay Women'!$C$7:$C$46,$A103,'4 x 50 medley Relay Women'!$AJ$7:$AJ$46))))","v":""},{"$f":"IF($A103=\"\",\"\",IF(IF(SUMIF('4 x 25 Manikin Carry Women'!$C$7:$C$46,$A103,'4 x 25 Manikin Carry Women'!$AJ$7:$AJ$46)=0,1+MAX('4 x 25 Manikin Carry Women'!$AJ$7:$AJ$46),SUMIF('4 x 25 Manikin Carry Women'!$C$7:$C$46,$A103,'4 x 25 Manikin Carry Women'!$AJ$7:$AJ$46))>2+MAX('4 x 25 Manikin Carry Women'!$AJ$7:$AJ$46),MAX('4 x 25 Manikin Carry Women'!$AJ$7:$AJ$46),IF(SUMIF('4 x 25 Manikin Carry Women'!$C$7:$C$46,$A103,'4 x 25 Manikin Carry Women'!$AJ$7:$AJ$46)=0,1+MAX('4 x 25 Manikin Carry Women'!$AJ$7:$AJ$46),SUMIF('4 x 25 Manikin Carry Women'!$C$7:$C$46,$A103,'4 x 25 Manikin Carry Women'!$AJ$7:$AJ$46))))","v":""},{"$f":"IF($A103=\"\",\"\",IF(IF(SUMIF('Line Throw Relay Women'!$C$7:$C$46,$A103,'Line Throw Relay Women'!$AJ$7:$AJ$46)=0,1+MAX('Line Throw Relay Women'!$AJ$7:$AJ$46),SUMIF('Line Throw Relay Women'!$C$7:$C$46,$A103,'Line Throw Relay Women'!$AJ$7:$AJ$46))>2+MAX('Line Throw Relay Women'!$AJ$7:$AJ$46),MAX('Line Throw Relay Women'!$AJ$7:$AJ$46),IF(SUMIF('Line Throw Relay Women'!$C$7:$C$46,$A103,'Line Throw Relay Women'!$AJ$7:$AJ$46)=0,1+MAX('Line Throw Relay Women'!$AJ$7:$AJ$46),SUMIF('Line Throw Relay Women'!$C$7:$C$46,$A103,'Line Throw Relay Women'!$AJ$7:$AJ$46))))","v":""},"",""]
["","",{"$f":"IF($A104=\"\",\"\",IF(IF(SUMIF('50m Manikin Carry Women'!$C$7:$C$46,$A104,'50m Manikin Carry Women'!$AE$7:$AE$46)=0,1+MAX('50m Manikin Carry Women'!$AE$7:$AE$46),SUMIF('50m Manikin Carry Women'!$C$7:$C$46,$A104,'50m Manikin Carry Women'!$AE$7:$AE$46))>MAX('50m Manikin Carry Women'!$AE$7:$AE$46)+2,MAX('50m Manikin Carry Women'!$AE$7:$AE$46),IF(SUMIF('50m Manikin Carry Women'!$C$7:$C$46,$A104,'50m Manikin Carry Women'!$AE$7:$AE$46)=0,1+MAX('50m Manikin Carry Women'!$AE$7:$AE$46),SUMIF('50m Manikin Carry Women'!$C$7:$C$46,$A104,'50m Manikin Carry Women'!$AE$7:$AE$46))))","v":""},{"$f":"IF($A104=\"\",\"\",IF(IF(SUMIF('100m Manikin Carry Women'!$C$7:$C$46,$A104,'100m Manikin Carry Women'!$AE$7:$AE$46)=0,1+MAX('100m Manikin Carry Women'!$AE$7:$AE$46),SUMIF('100m Manikin Carry Women'!$C$7:$C$46,$A104,'100m Manikin Carry Women'!$AE$7:$AE$46))>2+MAX('100m Manikin Carry Women'!$AE$7:$AE$46),MAX('100m Manikin Carry Women'!$AE$7:$AE$46),IF(SUMIF('100m Manikin Carry Women'!$C$7:$C$46,$A104,'100m Manikin Carry Women'!$AE$7:$AE$46)=0,1+MAX('100m Manikin Carry Women'!$AE$7:$AE$46),SUMIF('100m Manikin Carry Women'!$C$7:$C$46,$A104,'100m Manikin Carry Women'!$AE$7:$AE$46))))","v":""},{"$f":"IF($A104=\"\",\"\",IF(IF(SUMIF('100m Manikin Tow Women'!$C$7:$C$46,$A104,'100m Manikin Tow Women'!$AE$7:$AE$46)=0,1+MAX('100m Manikin Tow Women'!$AE$7:$AE$46),SUMIF('100m Manikin Tow Women'!$C$7:$C$46,$A104,'100m Manikin Tow Women'!$AE$7:$AE$46))>2+MAX('100m Manikin Tow Women'!$AE$7:$AE$46),MAX('100m Manikin Tow Women'!$AE$7:$AE$46),IF(SUMIF('100m Manikin Tow Women'!$C$7:$C$46,$A104,'100m Manikin Tow Women'!$AE$7:$AE$46)=0,1+MAX('100m Manikin Tow Women'!$AE$7:$AE$46),SUMIF('100m Manikin Tow Women'!$C$7:$C$46,$A104,'100m Manikin Tow Women'!$AE$7:$AE$46))))","v":""},{"$f":"IF($A104=\"\",\"\",IF(IF(SUMIF('200m Obs Women'!$C$7:$C$46,$A104,'200m Obs Women'!$AE$7:$AE$46)=0,1+MAX('200m Obs Women'!$AE$7:$AE$46),SUMIF('200m Obs Women'!$C$7:$C$46,$A104,'200m Obs Women'!$AE$7:$AE$46))>2+MAX('200m Obs Women'!$AE$7:$AE$46),MAX('200m Obs Women'!$AE$7:$AE$46),IF(SUMIF('200m Obs Women'!$C$7:$C$46,$A104,'200m Obs Women'!$AE$7:$AE$46)=0,1+MAX('200m Obs Women'!$AE$7:$AE$46),SUMIF('200m Obs Women'!$C$7:$C$46,$A104,'200m Obs Women'!$AE$7:$AE$46))))","v":""},{"$f":"IF($A104=\"\",\"\",IF(IF(SUMIF('200m Super Women'!$C$7:$C$46,$A104,'200m Super Women'!$AE$7:$AE$46)=0,1+MAX('200m Super Women'!$AE$7:$AE$46),SUMIF('200m Super Women'!$C$7:$C$46,$A104,'200m Super Women'!$AE$7:$AE$46))>2+MAX('200m Super Women'!$AE$7:$AE$46),MAX('200m Super Women'!$AE$7:$AE$46),IF(SUMIF('200m Super Women'!$C$7:$C$46,$A104,'200m Super Women'!$AE$7:$AE$46)=0,1+MAX('200m Super Women'!$AE$7:$AE$46),SUMIF('200m Super Women'!$C$7:$C$46,$A104,'200m Super Women'!$AE$7:$AE$46))))","v":""},{"$f":"IF($A104=\"\",\"\",IF(IF(SUMIF('100 Resue Women'!$C$7:$C$46,$A104,'100 Resue Women'!$AE$7:$AE$46)=0,1+MAX('100 Resue Women'!$AE$7:$AE$46),SUMIF('100 Resue Women'!$C$7:$C$46,$A104,'100 Resue Women'!$AE$7:$AE$46))>2+MAX('100 Resue Women'!$AE$7:$AE$46),MAX('100 Resue Women'!$AE$7:$AE$46),IF(SUMIF('100 Resue Women'!$C$7:$C$46,$A104,'100 Resue Women'!$AE$7:$AE$46)=0,1+MAX('100 Resue Women'!$AE$7:$AE$46),SUMIF('100 Resue Women'!$C$7:$C$46,$A104,'100 Resue Women'!$AE$7:$AE$46))))","v":""},{"$f":"IF($A104=\"\",\"\",IF(IF(SUMIF('Line Throw Women'!$C$7:$C$46,$A104,'Line Throw Women'!$AG$7:$AG$46)=0,MAX('Line Throw Women'!$AG$7:$AG$46),SUMIF('Line Throw Women'!$C$7:$C$46,$A104,'Line Throw Women'!$AG$7:$AG$46))>2+MAX('Line Throw Women'!$AG$7:$AG$46),MAX('Line Throw Women'!$AG$7:$AG$46),IF(SUMIF('Line Throw Women'!$C$7:$C$46,$A104,'Line Throw Women'!$AG$7:$AG$46)=0,1+MAX('Line Throw Women'!$AG$7:$AG$46),SUMIF('Line Throw Women'!$C$7:$C$46,$A104,'Line Throw Women'!$AG$7:$AG$46))))","v":""},{"$f":"IF($A104=\"\",\"\",IF(IF(SUMIF('4 x 50 Obs Relay Women'!$C$7:$C$46,$A104,'4 x 50 Obs Relay Women'!$AJ$7:$AJ$46)=0,1+MAX('4 x 50 Obs Relay Women'!$AJ$7:$AJ$46),SUMIF('4 x 50 Obs Relay Women'!$C$7:$C$46,$A104,'4 x 50 Obs Relay Women'!$AJ$7:$AJ$46))>2+MAX('4 x 50 Obs Relay Women'!$AJ$7:$AJ$46),MAX('4 x 50 Obs Relay Women'!$AJ$7:$AJ$46),IF(SUMIF('4 x 50 Obs Relay Women'!$C$7:$C$46,$A104,'4 x 50 Obs Relay Women'!$AJ$7:$AJ$46)=0,1+MAX('4 x 50 Obs Relay Women'!$AJ$7:$AJ$46),SUMIF('4 x 50 Obs Relay Women'!$C$7:$C$46,$A104,'4 x 50 Obs Relay Women'!$AJ$7:$AJ$46))))","v":""},{"$f":"IF($A104=\"\",\"\",IF(IF(SUMIF('4 x 50 medley Relay Women'!$C$7:$C$46,$A104,'4 x 50 medley Relay Women'!$AJ$7:$AJ$46)=0,1+MAX('4 x 50 medley Relay Women'!$AJ$7:$AJ$46),SUMIF('4 x 50 medley Relay Women'!$C$7:$C$46,$A104,'4 x 50 medley Relay Women'!$AJ$7:$AJ$46))>2+MAX('4 x 50 medley Relay Women'!$AJ$7:$AJ$46),MAX('4 x 50 medley Relay Women'!$AJ$7:$AJ$46),IF(SUMIF('4 x 50 medley Relay Women'!$C$7:$C$46,$A104,'4 x 50 medley Relay Women'!$AJ$7:$AJ$46)=0,1+MAX('4 x 50 medley Relay Women'!$AJ$7:$AJ$46),SUMIF('4 x 50 medley Relay Women'!$C$7:$C$46,$A104,'4 x 50 medley Relay Women'!$AJ$7:$AJ$46))))","v":""},{"$f":"IF($A104=\"\",\"\",IF(IF(SUMIF('4 x 25 Manikin Carry Women'!$C$7:$C$46,$A104,'4 x 25 Manikin Carry Women'!$AJ$7:$AJ$46)=0,1+MAX('4 x 25 Manikin Carry Women'!$AJ$7:$AJ$46),SUMIF('4 x 25 Manikin Carry Women'!$C$7:$C$46,$A104,'4 x 25 Manikin Carry Women'!$AJ$7:$AJ$46))>2+MAX('4 x 25 Manikin Carry Women'!$AJ$7:$AJ$46),MAX('4 x 25 Manikin Carry Women'!$AJ$7:$AJ$46),IF(SUMIF('4 x 25 Manikin Carry Women'!$C$7:$C$46,$A104,'4 x 25 Manikin Carry Women'!$AJ$7:$AJ$46)=0,1+MAX('4 x 25 Manikin Carry Women'!$AJ$7:$AJ$46),SUMIF('4 x 25 Manikin Carry Women'!$C$7:$C$46,$A104,'4 x 25 Manikin Carry Women'!$AJ$7:$AJ$46))))","v":""},{"$f":"IF($A104=\"\",\"\",IF(IF(SUMIF('Line Throw Relay Women'!$C$7:$C$46,$A104,'Line Throw Relay Women'!$AJ$7:$AJ$46)=0,1+MAX('Line Throw Relay Women'!$AJ$7:$AJ$46),SUMIF('Line Throw Relay Women'!$C$7:$C$46,$A104,'Line Throw Relay Women'!$AJ$7:$AJ$46))>2+MAX('Line Throw Relay Women'!$AJ$7:$AJ$46),MAX('Line Throw Relay Women'!$AJ$7:$AJ$46),IF(SUMIF('Line Throw Relay Women'!$C$7:$C$46,$A104,'Line Throw Relay Women'!$AJ$7:$AJ$46)=0,1+MAX('Line Throw Relay Women'!$AJ$7:$AJ$46),SUMIF('Line Throw Relay Women'!$C$7:$C$46,$A104,'Line Throw Relay Women'!$AJ$7:$AJ$46))))","v":""},"",""]

{"sheet":"Overall","index":7,"n_rows":70,"n_cols":51,"rows_kept":70,"cut":false,"hidden":true,"merged":[]}
[]
[null,"Men's All Clubs"]
[]
["Club Code","Club Name",null,"50m Manikin Carry",null,"25m Manikin Carry",null,"100m Carry with Fins",null,"50 Carry with Fins",null,"100m tow with fins",null,"50 Tow with Fins",null,"200m Obs",null,"100m Obs",null,"50m Obs",null,"200 Super",null,"100 Super",null,"100 rescue",null,"50 Rescue",null,"Line Throw",null,"4 x 50 obs Relay",null,"4 x 25 Obs Relay",null,"4 x 50 medley Relay",null,"4 x 25 Medley Relay",null,"4 x 25 Manikin Carry Relay",null,"4x 12.5m Manikin Carry Relay",null,"4 x 12.5m Line Throw Relay",null,"6 x 50 Obs Relay",null,"6 x 50 Free Relay",null,"Totals","Position"]
[{"$f":"IF('Combined Overalls'!A4=\"\",\"\",'Combined Overalls'!A4)","v":""},{"$f":"IF('Combined Overalls'!B4=\"\",\"\",'Combined Overalls'!B4)","v":""},{"$f":"MAX(IF($A5='50m Manikin Carry Men'!$C$7:$C$46,'50m Manikin Carry Men'!$AA$7:$AA$46,0))","v":0},{"$f":"IF(OR($A5=\"\",MAX(C$5:C$35)=0),\"\",IF(C5<>0,C5,MAX(C$5:C$35)+1))","v":""},{"$f":"MAX(IF($A5='25m Manikin Carry Men'!$C$7:$C$46,'25m Manikin Carry Men'!$AA$7:$AA$46,0))","v":0},{"$f":"IF(OR($A5=\"\",MAX(E$5:E$35)=0),\"\",IF(E5<>0,E5,MAX(E$5:E$35)+1))","v":""},{"$f":"MAX(IF($A5='100m Manikin Carry Men'!$C$7:$C$46,'100m Manikin Carry Men'!$AA$7:$AA$46,0))","v":0},{"$f":"IF(OR($A5=\"\",MAX(G$5:G$35)=0),\"\",IF(G5<>0,G5,MAX(G$5:G$35)+1))","v":""},{"$f":"MAX(IF($A5='50m Manikin Carry Men Fin'!$C$7:$C$46,'50m Manikin Carry Men Fin'!$AA$7:$AA$46,0))","v":0},{"$f":"IF(OR($A5=\"\",MAX(I$5:I$35)=0),\"\",IF(I5<>0,I5,MAX(I$5:I$35)+1))","v":""},{"$f":"MAX(IF($A5='100m Manikin Tow Men'!$C$7:$C$46,'100m Manikin Tow Men'!$AA$7:$AA$46,0))","v":0},{"$f":"IF(OR($A5=\"\",MAX(K$5:K$35)=0),\"\",IF(K5<>0,K5,MAX(K$5:K$35)+1))","v":""},{"$f":"MAX(IF($A5='50m Manikin Tow Men'!$C$7:$C$46,'50m Manikin Tow Men'!$AA$7:$AA$46,0))","v":0},{"$f":"IF(OR($A5=\"\",MAX(M$5:M$35)=0),\"\",IF(M5<>0,M5,MAX(M$5:M$35)+1))","v":""},{"$f":"MAX(IF($A5='200m Obs Men'!$C$7:$C$46,'200m Obs Men'!$AA$7:$AA$46,0))","v":0},{"$f":"IF(OR($A5=\"\",MAX(O$5:O$35)=0),\"\",IF(O5<>0,O5,MAX(O$5:O$35)+1))","v":""},{"$f":"MAX(IF($A5='100m Obs Men'!$C$7:$C$46,'100m Obs Men'!$AA$7:$AA$46,0))","v":0},{"$f":"IF(OR($A5=\"\",MAX(Q$5:Q$35)=0),\"\",IF(Q5<>0,Q5,MAX(Q$5:Q$35)+1))","v":""},{"$f":"MAX(IF($A5='50m Obs Men'!$C$7:$C$46,'50m Obs Men'!$AA$7:$AA$46,0))","v":0},{"$f":"IF(OR($A5=\"\",MAX(S$5:S$35)=0),\"\",IF(S5<>0,S5,MAX(S$5:S$35)+1))","v":""},{"$f":"MAX(IF($A5='200m Super Men'!$C$7:$C$46,'200m Super Men'!$AA$7:$AA$46,0))","v":0},{"$f":"IF(OR($A5=\"\",MAX(U$5:U$35)=0),\"\",IF(U5<>0,U5,MAX(U$5:U$35)+1))","v":""},{"$f":"MAX(IF($A5='100m Super Men'!$C$7:$C$46,'100m Super Men'!$AA$7:$AA$46,0))","v":0},{"$f":"IF(OR($A5=\"\",MAX(W$5:W$35)=0),\"\",IF(W5<>0,W5,MAX(W$5:W$35)+1))","v":""},{"$f":"MAX(IF($A5='100 Resue Men'!$C$7:$C$46,'100 Resue Men'!$AA$7:$AA$46,0))","v":0},{"$f":"IF(OR($A5=\"\",MAX(Y$5:Y$35)=0),\"\",IF(Y5<>0,Y5,MAX(Y$5:Y$35)+1))","v":""},{"$f":"MAX(IF($A5='50m Rescue Men'!$C$7:$C$46,'50m Rescue Men'!$AA$7:$AA$46,0))","v":0},{"$f":"IF(OR($A5=\"\",MAX(AA$5:AA$35)=0),\"\",IF(AA5<>0,AA5,MAX(AA$5:AA$35)+1))","v":""},{"$f":"MAX(IF($A5='Line Throw Men'!$C$7:$C$46,'Line Throw Men'!$AC$7:$AC$46,0))","v":0},{"$f":"IF(OR($A5=\"\",MAX(AC$5:AC$35)=0),\"\",IF(AC5<>0,AC5,MAX(AC$5:AC$35)+1))","v":""},{"$f":"MAX(IF($A5='4 x 50 Obs Relay Men'!$C$7:$C$46,'4 x 50 Obs Relay Men'!$AF$7:$AF$46,0))","v":0},{"$f":"IF(OR($A5=\"\",MAX(AE$5:AE$35)=0),\"\",IF(AE5<>0,AE5,MAX(AE$5:AE$35)+1))","v":""},{"$f":"MAX(IF($A5='4 x 25 Obs Relay Men'!$C$7:$C$46,'4 x 25 Obs Relay Men'!$AF$7:$AF$46,0))","v":0},{"$f":"IF(OR($A5=\"\",MAX(AG$5:AG$35)=0),\"\",IF(AG5<>0,AG5,MAX(AG$5:AG$35)+1))","v":""},{"$f":"MAX(IF($A5='4 x 50 medley Relay Men'!$C$7:$C$46,'4 x 50 medley Relay Men'!$AF$7:$AF$46,0))","v":0},{"$f":"IF(OR($A5=\"\",MAX(AI$5:AI$35)=0),\"\",IF(AI5<>0,AI5,MAX(AI$5:AI$35)+1))","v":""},{"$f":"MAX(IF($A5='4 x 25  medley Relay Men'!$C$7:$C$46,'4 x 25  medley Relay Men'!$AF$7:$AF$46,0))","v":0},{"$f":"IF(OR($A5=\"\",MAX(AK$5:AK$35)=0),\"\",IF(AK5<>0,AK5,MAX(AK$5:AK$35)+1))","v":""},{"$f":"MAX(IF($A5='4 x 25 Manikin Carry Relay Men'!$C$7:$C$46,'4 x 25 Manikin Carry Relay Men'!$AF$7:$AF$46,0))","v":0},{"$f":"IF(OR($A5=\"\",MAX(AM$5:AM$35)=0),\"\",IF(AM5<>0,AM5,MAX(AM$5:AM$35)+1))","v":""},{"$f":"MAX(IF($A5='4 x 12.5m Manikin Relay Men'!$C$7:$C$46,'4 x 12.5m Manikin Relay Men'!$AF$7:$AF$46,0))","v":0},{"$f":"IF(OR($A5=\"\",MAX(AO$5:AO$35)=0),\"\",IF(AO5<>0,AO5,MAX(AO$5:AO$35)+1))","v":""},{"$f":"MAX(IF($A5='Line Throw Relay Men'!$C$7:$C$46,'Line Throw Relay Men'!$AF$7:$AF$46,0))","v":0},{"$f":"IF(OR($A5=\"\",MAX(AQ$5:AQ$35)=0),\"\",IF(AQ5<>0,AQ5,MAX(AQ$5:AQ$35)+1))","v":""},{"$f":"MAX(IF($A5='6x50m Obs Men'!$C$7:$C$46,'6x50m Obs Men'!$AA$7:$AA$46,0))","v":0},{"$f":"IF(OR($A5=\"\",MAX(AS$5:AS$35)=0),\"\",IF(AS5<>0,AS5,MAX(AS$5:AS$35)+1))","v":""},{"$f":"MAX(IF($A5='6x50m Free Men'!$C$7:$C$46,'6x50m Free Men'!$AA$7:$AA$46,0))","v":0},{"$f":"IF(OR($A5=\"\",MAX(AU$5:AU$35)=0),\"\",IF(AU5<>0,AU5,MAX(AU$5:AU$35)+1))","v":""},{"$f":"SUM(IF(C$4:AR$4=\"\",\"\",C5:AR5))","v":0},{"$f":"IF($A5=\"\",\"\",IF(AW5<>0,AW5,\"\"))","v":""},{"$f":"IF(OR(A5=\"\",MAX(AX$5:AX$35)=0),\"\",RANK(AX5,$AX$5:$AX$35,1))","v":""}]
[{"$f":"IF('Combined Overalls'!A5=\"\",\"\",'Combined Overalls'!A5)","v":""},{"$f":"IF('Combined Overalls'!B5=\"\",\"\",'Combined Overalls'!B5)","v":""},{"$f":"MAX(IF($A6='50m Manikin Carry Men'!$C$7:$C$46,'50m Manikin Carry Men'!$AA$7:$AA$46,0))","v":0},{"$f":"IF(OR($A6=\"\",MAX(C$5:C$35)=0),\"\",IF(C6<>0,C6,MAX(C$5:C$35)+1))","v":""},{"$f":"MAX(IF($A6='25m Manikin Carry Men'!$C$7:$C$46,'25m Manikin Carry Men'!$AA$7:$AA$46,0))","v":0},{"$f":"IF(OR($A6=\"\",MAX(E$5:E$35)=0),\"\",IF(E6<>0,E6,MAX(E$5:E$35)+1))","v":""},{"$f":"MAX(IF($A6='100m Manikin Carry Men'!$C$7:$C$46,'100m Manikin Carry Men'!$AA$7:$AA$46,0))","v":0},{"$f":"IF(OR($A6=\"\",MAX(G$5:G$35)=0),\"\",IF(G6<>0,G6,MAX(G$5:G$35)+1))","v":""},{"$f":"MAX(IF($A6='50m Manikin Carry Men Fin'!$C$7:$C$46,'50m Manikin Carry Men Fin'!$AA$7:$AA$46,0))","v":0},{"$f":"IF(OR($A6=\"\",MAX(I$5:I$35)=0),\"\",IF(I6<>0,I6,MAX(I$5:I$35)+1))","v":""},{"$f":"MAX(IF($A6='100m Manikin Tow Men'!$C$7:$C$46,'100m Manikin Tow Men'!$AA$7:$AA$46,0))","v":0},{"$f":"IF(OR($A6=\"\",MAX(K$5:K$35)=0),\"\",IF(K6<>0,K6,MAX(K$5:K$35)+1))","v":""},{"$f":"MAX(IF($A6='50m Manikin Tow Men'!$C$7:$C$46,'50m Manikin Tow Men'!$AA$7:$AA$46,0))","v":0},{"$f":"IF(OR($A6=\"\",MAX(M$5:M$35)=0),\"\",IF(M6<>0,M6,MAX(M$5:M$35)+1))","v":""},{"$f":"MAX(IF($A6='200m Obs Men'!$C$7:$C$46,'200m Obs Men'!$AA$7:$AA$46,0))","v":0},{"$f":"IF(OR($A6=\"\",MAX(O$5:O$35)=0),\"\",IF(O6<>0,O6,MAX(O$5:O$35)+1))","v":""},{"$f":"MAX(IF($A6='100m Obs Men'!$C$7:$C$46,'100m Obs Men'!$AA$7:$AA$46,0))","v":0},{"$f":"IF(OR($A6=\"\",MAX(Q$5:Q$35)=0),\"\",IF(Q6<>0,Q6,MAX(Q$5:Q$35)+1))","v":""},{"$f":"MAX(IF($A6='50m Obs Men'!$C$7:$C$46,'50m Obs Men'!$AA$7:$AA$46,0))","v":0},{"$f":"IF(OR($A6=\"\",MAX(S$5:S$35)=0),\"\",IF(S6<>0,S6,MAX(S$5:S$35)+1))","v":""},{"$f":"MAX(IF($A6='200m Super Men'!$C$7:$C$46,'200m Super Men'!$AA$7:$AA$46,0))","v":0},{"$f":"IF(OR($A6=\"\",MAX(U$5:U$35)=0),\"\",IF(U6<>0,U6,MAX(U$5:U$35)+1))","v":""},{"$f":"MAX(IF($A6='100m Super Men'!$C$7:$C$46,'100m Super Men'!$AA$7:$AA$46,0))","v":0},{"$f":"IF(OR($A6=\"\",MAX(W$5:W$35)=0),\"\",IF(W6<>0,W6,MAX(W$5:W$35)+1))","v":""},{"$f":"MAX(IF($A6='100 Resue Men'!$C$7:$C$46,'100 Resue Men'!$AA$7:$AA$46,0))","v":0},{"$f":"IF(OR($A6=\"\",MAX(Y$5:Y$35)=0),\"\",IF(Y6<>0,Y6,MAX(Y$5:Y$35)+1))","v":""},{"$f":"MAX(IF($A6='50m Rescue Men'!$C$7:$C$46,'50m Rescue Men'!$AA$7:$AA$46,0))","v":0},{"$f":"IF(OR($A6=\"\",MAX(AA$5:AA$35)=0),\"\",IF(AA6<>0,AA6,MAX(AA$5:AA$35)+1))","v":""},{"$f":"MAX(IF($A6='Line Throw Men'!$C$7:$C$46,'Line Throw Men'!$AC$7:$AC$46,0))","v":0},{"$f":"IF(OR($A6=\"\",MAX(AC$5:AC$35)=0),\"\",IF(AC6<>0,AC6,MAX(AC$5:AC$35)+1))","v":""},{"$f":"MAX(IF($A6='4 x 50 Obs Relay Men'!$C$7:$C$46,'4 x 50 Obs Relay Men'!$AF$7:$AF$46,0))","v":0},"",{"$f":"MAX(IF($A6='4 x 25 Obs Relay Men'!$C$7:$C$46,'4 x 25 Obs Relay Men'!$AF$7:$AF$46,0))","v":0},{"$f":"IF(OR($A6=\"\",MAX(AG$5:AG$35)=0),\"\",IF(AG6<>0,AG6,MAX(AG$5:AG$35)+1))","v":""},{"$f":"MAX(IF($A6='4 x 50 medley Relay Men'!$C$7:$C$46,'4 x 50 medley Relay Men'!$AF$7:$AF$46,0))","v":0},{"$f":"IF(OR($A6=\"\",MAX(AI$5:AI$35)=0),\"\",IF(AI6<>0,AI6,MAX(AI$5:AI$35)+1))","v":""},{"$f":"MAX(IF($A6='4 x 25  medley Relay Men'!$C$7:$C$46,'4 x 25  medley Relay Men'!$AF$7:$AF$46,0))","v":0},{"$f":"IF(OR($A6=\"\",MAX(AK$5:AK$35)=0),\"\",IF(AK6<>0,AK6,MAX(AK$5:AK$35)+1))","v":""},{"$f":"MAX(IF($A6='4 x 25 Manikin Carry Relay Men'!$C$7:$C$46,'4 x 25 Manikin Carry Relay Men'!$AF$7:$AF$46,0))","v":0},{"$f":"IF(OR($A6=\"\",MAX(AM$5:AM$35)=0),\"\",IF(AM6<>0,AM6,MAX(AM$5:AM$35)+1))","v":""},{"$f":"MAX(IF($A6='4 x 12.5m Manikin Relay Men'!$C$7:$C$46,'4 x 12.5m Manikin Relay Men'!$AF$7:$AF$46,0))","v":0},{"$f":"IF(OR($A6=\"\",MAX(AO$5:AO$35)=0),\"\",IF(AO6<>0,AO6,MAX(AO$5:AO$35)+1))","v":""},{"$f":"MAX(IF($A6='Line Throw Relay Men'!$C$7:$C$46,'Line Throw Relay Men'!$AF$7:$AF$46,0))","v":0},{"$f":"IF(OR($A6=\"\",MAX(AQ$5:AQ$35)=0),\"\",IF(AQ6<>0,AQ6,MAX(AQ$5:AQ$35)+1))","v":""},{"$f":"MAX(IF($A6='6x50m Obs Men'!$C$7:$C$46,'6x50m Obs Men'!$AA$7:$AA$46,0))","v":0},{"$f":"IF(OR($A6=\"\",MAX(AS$5:AS$35)=0),\"\",IF(AS6<>0,AS6,MAX(AS$5:AS$35)+1))","v":""},{"$f":"MAX(IF($A6='6x50m Free Men'!$C$7:$C$46,'6x50m Free Men'!$AA$7:$AA$46,0))","v":0},{"$f":"IF(OR($A6=\"\",MAX(AU$5:AU$35)=0),\"\",IF(AU6<>0,AU6,MAX(AU$5:AU$35)+1))","v":""},{"$f":"SUM(IF(C$4:AR$4=\"\",\"\",C6:AR6))","v":0},"",""]
[{"$f":"IF('Combined Overalls'!A6=\"\",\"\",'Combined Overalls'!A6)","v":""},{"$f":"IF('Combined Overalls'!B6=\"\",\"\",'Combined Overalls'!B6)","v":""},{"$f":"MAX(IF($A7='50m Manikin Carry Men'!$C$7:$C$46,'50m Manikin Carry Men'!$AA$7:$AA$46,0))","v":0},"",{"$f":"MAX(IF($A7='25m Manikin Carry Men'!$C$7:$C$46,'25m Manikin Carry Men'!$AA$7:$AA$46,0))","v":0},"",{"$f":"MAX(IF($A7='100m Manikin Carry Men'!$C$7:$C$46,'100m Manikin Carry Men'!$AA$7:$AA$46,0))","v":0},"",{"$f":"MAX(IF($A7='50m Manikin Carry Men Fin'!$C$7:$C$46,'50m Manikin Carry Men Fin'!$AA$7:$AA$46,0))","v":0},"",{"$f":"MAX(IF($A7='100m Manikin Tow Men'!$C$7:$C$46,'100m Manikin Tow Men'!$AA$7:$AA$46,0))","v":0},"",{"$f":"MAX(IF($A7='50m Manikin Tow Men'!$C$7:$C$46,'50m Manikin Tow Men'!$AA$7:$AA$46,0))","v":0},"",{"$f":"MAX(IF($A7='200m Obs Men'!$C$7:$C$46,'200m Obs Men'!$AA$7:$AA$46,0))","v":0},"",{"$f":"MAX(IF($A7='100m Obs Men'!$C$7:$C$46,'100m Obs Men'!$AA$7:$AA$46,0))","v":0},"",{"$f":"MAX(IF($A7='50m Obs Men'!$C$7:$C$46,'50m Obs Men'!$AA$7:$AA$46,0))","v":0},"",{"$f":"MAX(IF($A7='200m Super Men'!$C$7:$C$46,'200m Super Men'!$AA$7:$AA$46,0))","v":0},"",{"$f":"MAX(IF($A7='100m Super Men'!$C$7:$C$46,'100m Super Men'!$AA$7:$AA$46,0))","v":0},"",{"$f":"MAX(IF($A7='100 Resue Men'!$C$7:$C$46,'100 Resue Men'!$AA$7:$AA$46,0))","v":0},"",{"$f":"MAX(IF($A7='50m Rescue Men'!$C$7:$C$46,'50m Rescue Men'!$AA$7:$AA$46,0))","v":0},"",{"$f":"MAX(IF($A7='Line Throw Men'!$C$7:$C$46,'Line Throw Men'!$AC$7:$AC$46,0))","v":0},"",{"$f":"MAX(IF($A7='4 x 50 Obs Relay Men'!$C$7:$C$46,'4 x 50 Obs Relay Men'!$AF$7:$AF$46,0))","v":0},"",{"$f":"MAX(IF($A7='4 x 25 Obs Relay Men'!$C$7:$C$46,'4 x 25 Obs Relay Men'!$AF$7:$AF$46,0))","v":0},"",{"$f":"MAX(IF($A7='4 x 50 medley Relay Men'!$C$7:$C$46,'4 x 50 medley Relay Men'!$AF$7:$AF$46,0))","v":0},"",{"$f":"MAX(IF($A7='4 x 25  medley Relay Men'!$C$7:$C$46,'4 x 25  medley Relay Men'!$AF$7:$AF$46,0))","v":0},"",{"$f":"MAX(IF($A7='4 x 25 Manikin Carry Relay Men'!$C$7:$C$46,'4 x 25 Manikin Carry Relay Men'!$AF$7:$AF$46,0))","v":0},"",{"$f":"MAX(IF($A7='4 x 12.5m Manikin Relay Men'!$C$7:$C$46,'4 x 12.5m Manikin Relay Men'!$AF$7:$AF$46,0))","v":0},"",{"$f":"MAX(IF($A7='Line Throw Relay Men'!$C$7:$C$46,'Line Throw Relay Men'!$AF$7:$AF$46,0))","v":0},"",{"$f":"MAX(IF($A7='6x50m Obs Men'!$C$7:$C$46,'6x50m Obs Men'!$AA$7:$AA$46,0))","v":0},"",{"$f":"MAX(IF($A7='6x50m Free Men'!$C$7:$C$46,'6x50m Free Men'!$AA$7:$AA$46,0))","v":0},"",{"$f":"SUM(IF(C$4:AR$4=\"\",\"\",C7:AR7))","v":0},"",""]
[{"$f":"IF('Combined Overalls'!A7=\"\",\"\",'Combined Overalls'!A7)","v":""},{"$f":"IF('Combined Overalls'!B7=\"\",\"\",'Combined Overalls'!B7)","v":""},{"$f":"MAX(IF($A8='50m Manikin Carry Men'!$C$7:$C$46,'50m Manikin Carry Men'!$AA$7:$AA$46,0))","v":0},"",{"$f":"MAX(IF($A8='25m Manikin Carry Men'!$C$7:$C$46,'25m Manikin Carry Men'!$AA$7:$AA$46,0))","v":0},"",{"$f":"MAX(IF($A8='100m Manikin Carry Men'!$C$7:$C$46,'100m Manikin Carry Men'!$AA$7:$AA$46,0))","v":0},"",{"$f":"MAX(IF($A8='50m Manikin Carry Men Fin'!$C$7:$C$46,'50m Manikin Carry Men Fin'!$AA$7:$AA$46,0))","v":0},"",{"$f":"MAX(IF($A8='100m Manikin Tow Men'!$C$7:$C$46,'100m Manikin Tow Men'!$AA$7:$AA$46,0))","v":0},"",{"$f":"MAX(IF($A8='50m Manikin Tow Men'!$C$7:$C$46,'50m Manikin Tow Men'!$AA$7:$AA$46,0))","v":0},"",{"$f":"MAX(IF($A8='200m Obs Men'!$C$7:$C$46,'200m Obs Men'!$AA$7:$AA$46,0))","v":0},"",{"$f":"MAX(IF($A8='100m Obs Men'!$C$7:$C$46,'100m Obs Men'!$AA$7:$AA$46,0))","v":0},"",{"$f":"MAX(IF($A8='50m Obs Men'!$C$7:$C$46,'50m Obs Men'!$AA$7:$AA$46,0))","v":0},"",{"$f":"MAX(IF($A8='200m Super Men'!$C$7:$C$46,'200m Super Men'!$AA$7:$AA$46,0))","v":0},"",{"$f":"MAX(IF($A8='100m Super Men'!$C$7:$C$46,'100m Super Men'!$AA$7:$AA$46,0))","v":0},"",{"$f":"MAX(IF($A8='100 Resue Men'!$C$7:$C$46,'100 Resue Men'!$AA$7:$AA$46,0))","v":0},"",{"$f":"MAX(IF($A8='50m Rescue Men'!$C$7:$C$46,'50m Rescue Men'!$AA$7:$AA$46,0))","v":0},"",{"$f":"MAX(IF($A8='Line Throw Men'!$C$7:$C$46,'Line Throw Men'!$AC$7:$AC$46,0))","v":0},"",{"$f":"MAX(IF($A8='4 x 50 Obs Relay Men'!$C$7:$C$46,'4 x 50 Obs Relay Men'!$AF$7:$AF$46,0))","v":0},"",{"$f":"MAX(IF($A8='4 x 25 Obs Relay Men'!$C$7:$C$46,'4 x 25 Obs Relay Men'!$AF$7:$AF$46,0))","v":0},"",{"$f":"MAX(IF($A8='4 x 50 medley Relay Men'!$C$7:$C$46,'4 x 50 medley Relay Men'!$AF$7:$AF$46,0))","v":0},"",{"$f":"MAX(IF($A8='4 x 25  medley Relay Men'!$C$7:$C$46,'4 x 25  medley Relay Men'!$AF$7:$AF$46,0))","v":0},"",{"$f":"MAX(IF($A8='4 x 25 Manikin Carry Relay Men'!$C$7:$C$46,'4 x 25 Manikin Carry Relay Men'!$AF$7:$AF$46,0))","v":0},"",{"$f":"MAX(IF($A8='4 x 12.5m Manikin Relay Men'!$C$7:$C$46,'4 x 12.5m Manikin Relay Men'!$AF$7:$AF$46,0))","v":0},"",{"$f":"MAX(IF($A8='Line Throw Relay Men'!$C$7:$C$46,'Line Throw Relay Men'!$AF$7:$AF$46,0))","v":0},"",{"$f":"MAX(IF($A8='6x50m Obs Men'!$C$7:$C$46,'6x50m Obs Men'!$AA$7:$AA$46,0))","v":0},"",{"$f":"MAX(IF($A8='6x50m Free Men'!$C$7:$C$46,'6x50m Free Men'!$AA$7:$AA$46,0))","v":0},"",{"$f":"SUM(IF(C$4:AR$4=\"\",\"\",C8:AR8))","v":0},"",""]
[{"$f":"IF('Combined Overalls'!A8=\"\",\"\",'Combined Overalls'!A8)","v":""},{"$f":"IF('Combined Overalls'!B8=\"\",\"\",'Combined Overalls'!B8)","v":""},{"$f":"MAX(IF($A9='50m Manikin Carry Men'!$C$7:$C$46,'50m Manikin Carry Men'!$AA$7:$AA$46,0))","v":0},"",{"$f":"MAX(IF($A9='25m Manikin Carry Men'!$C$7:$C$46,'25m Manikin Carry Men'!$AA$7:$AA$46,0))","v":0},"",{"$f":"MAX(IF($A9='100m Manikin Carry Men'!$C$7:$C$46,'100m Manikin Carry Men'!$AA$7:$AA$46,0))","v":0},"",{"$f":"MAX(IF($A9='50m Manikin Carry Men Fin'!$C$7:$C$46,'50m Manikin Carry Men Fin'!$AA$7:$AA$46,0))","v":0},"",{"$f":"MAX(IF($A9='100m Manikin Tow Men'!$C$7:$C$46,'100m Manikin Tow Men'!$AA$7:$AA$46,0))","v":0},"",{"$f":"MAX(IF($A9='50m Manikin Tow Men'!$C$7:$C$46,'50m Manikin Tow Men'!$AA$7:$AA$46,0))","v":0},"",{"$f":"MAX(IF($A9='200m Obs Men'!$C$7:$C$46,'200m Obs Men'!$AA$7:$AA$46,0))","v":0},"",{"$f":"MAX(IF($A9='100m Obs Men'!$C$7:$C$46,'100m Obs Men'!$AA$7:$AA$46,0))","v":0},"",{"$f":"MAX(IF($A9='50m Obs Men'!$C$7:$C$46,'50m Obs Men'!$AA$7:$AA$46,0))","v":0},"",{"$f":"MAX(IF($A9='200m Super Men'!$C$7:$C$46,'200m Super Men'!$AA$7:$AA$46,0))","v":0},"",{"$f":"MAX(IF($A9='100m Super Men'!$C$7:$C$46,'100m Super Men'!$AA$7:$AA$46,0))","v":0},"",{"$f":"MAX(IF($A9='100 Resue Men'!$C$7:$C$46,'100 Resue Men'!$AA$7:$AA$46,0))","v":0},"",{"$f":"MAX(IF($A9='50m Rescue Men'!$C$7:$C$46,'50m Rescue Men'!$AA$7:$AA$46,0))","v":0},"",{"$f":"MAX(IF($A9='Line Throw Men'!$C$7:$C$46,'Line Throw Men'!$AC$7:$AC$46,0))","v":0},"",{"$f":"MAX(IF($A9='4 x 50 Obs Relay Men'!$C$7:$C$46,'4 x 50 Obs Relay Men'!$AF$7:$AF$46,0))","v":0},"",{"$f":"MAX(IF($A9='4 x 25 Obs Relay Men'!$C$7:$C$46,'4 x 25 Obs Relay Men'!$AF$7:$AF$46,0))","v":0},"",{"$f":"MAX(IF($A9='4 x 50 medley Relay Men'!$C$7:$C$46,'4 x 50 medley Relay Men'!$AF$7:$AF$46,0))","v":0},"",{"$f":"MAX(IF($A9='4 x 25  medley Relay Men'!$C$7:$C$46,'4 x 25  medley Relay Men'!$AF$7:$AF$46,0))","v":0},"",{"$f":"MAX(IF($A9='4 x 25 Manikin Carry Relay Men'!$C$7:$C$46,'4 x 25 Manikin Carry Relay Men'!$AF$7:$AF$46,0))","v":0},"",{"$f":"MAX(IF($A9='4 x 12.5m Manikin Relay Men'!$C$7:$C$46,'4 x 12.5m Manikin Relay Men'!$AF$7:$AF$46,0))","v":0},"",{"$f":"MAX(IF($A9='Line Throw Relay Men'!$C$7:$C$46,'Line Throw Relay Men'!$AF$7:$AF$46,0))","v":0},"",{"$f":"MAX(IF($A9='6x50m Obs Men'!$C$7:$C$46,'6x50m Obs Men'!$AA$7:$AA$46,0))","v":0},"",{"$f":"MAX(IF($A9='6x50m Free Men'!$C$7:$C$46,'6x50m Free Men'!$AA$7:$AA$46,0))","v":0},"",{"$f":"SUM(IF(C$4:AR$4=\"\",\"\",C9:AR9))","v":0},"",""]
[{"$f":"IF('Combined Overalls'!A9=\"\",\"\",'Combined Overalls'!A9)","v":""},{"$f":"IF('Combined Overalls'!B9=\"\",\"\",'Combined Overalls'!B9)","v":""},{"$f":"MAX(IF($A10='50m Manikin Carry Men'!$C$7:$C$46,'50m Manikin Carry Men'!$AA$7:$AA$46,0))","v":0},"",{"$f":"MAX(IF($A10='25m Manikin Carry Men'!$C$7:$C$46,'25m Manikin Carry Men'!$AA$7:$AA$46,0))","v":0},"",{"$f":"MAX(IF($A10='100m Manikin Carry Men'!$C$7:$C$46,'100m Manikin Carry Men'!$AA$7:$AA$46,0))","v":0},"",{"$f":"MAX(IF($A10='50m Manikin Carry Men Fin'!$C$7:$C$46,'50m Manikin Carry Men Fin'!$AA$7:$AA$46,0))","v":0},"",{"$f":"MAX(IF($A10='100m Manikin Tow Men'!$C$7:$C$46,'100m Manikin Tow Men'!$AA$7:$AA$46,0))","v":0},"",{"$f":"MAX(IF($A10='50m Manikin Tow Men'!$C$7:$C$46,'50m Manikin Tow Men'!$AA$7:$AA$46,0))","v":0},"",{"$f":"MAX(IF($A10='200m Obs Men'!$C$7:$C$46,'200m Obs Men'!$AA$7:$AA$46,0))","v":0},"",{"$f":"MAX(IF($A10='100m Obs Men'!$C$7:$C$46,'100m Obs Men'!$AA$7:$AA$46,0))","v":0},"",{"$f":"MAX(IF($A10='50m Obs Men'!$C$7:$C$46,'50m Obs Men'!$AA$7:$AA$46,0))","v":0},"",{"$f":"MAX(IF($A10='200m Super Men'!$C$7:$C$46,'200m Super Men'!$AA$7:$AA$46,0))","v":0},"",{"$f":"MAX(IF($A10='100m Super Men'!$C$7:$C$46,'100m Super Men'!$AA$7:$AA$46,0))","v":0},"",{"$f":"MAX(IF($A10='100 Resue Men'!$C$7:$C$46,'100 Resue Men'!$AA$7:$AA$46,0))","v":0},"",{"$f":"MAX(IF($A10='50m Rescue Men'!$C$7:$C$46,'50m Rescue Men'!$AA$7:$AA$46,0))","v":0},"",{"$f":"MAX(IF($A10='Line Throw Men'!$C$7:$C$46,'Line Throw Men'!$AC$7:$AC$46,0))","v":0},"",{"$f":"MAX(IF($A10='4 x 50 Obs Relay Men'!$C$7:$C$46,'4 x 50 Obs Relay Men'!$AF$7:$AF$46,0))","v":0},"",{"$f":"MAX(IF($A10='4 x 25 Obs Relay Men'!$C$7:$C$46,'4 x 25 Obs Relay Men'!$AF$7:$AF$46,0))","v":0},"",{"$f":"MAX(IF($A10='4 x 50 medley Relay Men'!$C$7:$C$46,'4 x 50 medley Relay Men'!$AF$7:$AF$46,0))","v":0},"",{"$f":"MAX(IF($A10='4 x 25  medley Relay Men'!$C$7:$C$46,'4 x 25  medley Relay Men'!$AF$7:$AF$46,0))","v":0},"",{"$f":"MAX(IF($A10='4 x 25 Manikin Carry Relay Men'!$C$7:$C$46,'4 x 25 Manikin Carry Relay Men'!$AF$7:$AF$46,0))","v":0},"",{"$f":"MAX(IF($A10='4 x 12.5m Manikin Relay Men'!$C$7:$C$46,'4 x 12.5m Manikin Relay Men'!$AF$7:$AF$46,0))","v":0},"",{"$f":"MAX(IF($A10='Line Throw Relay Men'!$C$7:$C$46,'Line Throw Relay Men'!$AF$7:$AF$46,0))","v":0},"",{"$f":"MAX(IF($A10='6x50m Obs Men'!$C$7:$C$46,'6x50m Obs Men'!$AA$7:$AA$46,0))","v":0},"",{"$f":"MAX(IF($A10='6x50m Free Men'!$C$7:$C$46,'6x50m Free Men'!$AA$7:$AA$46,0))","v":0},"",{"$f":"SUM(IF(C$4:AR$4=\"\",\"\",C10:AR10))","v":0},"",""]
[{"$f":"IF('Combined Overalls'!A10=\"\",\"\",'Combined Overalls'!A10)","v":""},{"$f":"IF('Combined Overalls'!B10=\"\",\"\",'Combined Overalls'!B10)","v":""},{"$f":"MAX(IF($A11='50m Manikin Carry Men'!$C$7:$C$46,'50m Manikin Carry Men'!$AA$7:$AA$46,0))","v":0},"",{"$f":"MAX(IF($A11='25m Manikin Carry Men'!$C$7:$C$46,'25m Manikin Carry Men'!$AA$7:$AA$46,0))","v":0},"",{"$f":"MAX(IF($A11='100m Manikin Carry Men'!$C$7:$C$46,'100m Manikin Carry Men'!$AA$7:$AA$46,0))","v":0},"",{"$f":"MAX(IF($A11='50m Manikin Carry Men Fin'!$C$7:$C$46,'50m Manikin Carry Men Fin'!$AA$7:$AA$46,0))","v":0},"",{"$f":"MAX(IF($A11='100m Manikin Tow Men'!$C$7:$C$46,'100m Manikin Tow Men'!$AA$7:$AA$46,0))","v":0},"",{"$f":"MAX(IF($A11='50m Manikin Tow Men'!$C$7:$C$46,'50m Manikin Tow Men'!$AA$7:$AA$46,0))","v":0},"",{"$f":"MAX(IF($A11='200m Obs Men'!$C$7:$C$46,'200m Obs Men'!$AA$7:$AA$46,0))","v":0},"",{"$f":"MAX(IF($A11='100m Obs Men'!$C$7:$C$46,'100m Obs Men'!$AA$7:$AA$46,0))","v":0},"",{"$f":"MAX(IF($A11='50m Obs Men'!$C$7:$C$46,'50m Obs Men'!$AA$7:$AA$46,0))","v":0},"",{"$f":"MAX(IF($A11='200m Super Men'!$C$7:$C$46,'200m Super Men'!$AA$7:$AA$46,0))","v":0},"",{"$f":"MAX(IF($A11='100m Super Men'!$C$7:$C$46,'100m Super Men'!$AA$7:$AA$46,0))","v":0},"",{"$f":"MAX(IF($A11='100 Resue Men'!$C$7:$C$46,'100 Resue Men'!$AA$7:$AA$46,0))","v":0},"",{"$f":"MAX(IF($A11='50m Rescue Men'!$C$7:$C$46,'50m Rescue Men'!$AA$7:$AA$46,0))","v":0},"",{"$f":"MAX(IF($A11='Line Throw Men'!$C$7:$C$46,'Line Throw Men'!$AC$7:$AC$46,0))","v":0},"",{"$f":"MAX(IF($A11='4 x 50 Obs Relay Men'!$C$7:$C$46,'4 x 50 Obs Relay Men'!$AF$7:$AF$46,0))","v":0},"",{"$f":"MAX(IF($A11='4 x 25 Obs Relay Men'!$C$7:$C$46,'4 x 25 Obs Relay Men'!$AF$7:$AF$46,0))","v":0},"",{"$f":"MAX(IF($A11='4 x 50 medley Relay Men'!$C$7:$C$46,'4 x 50 medley Relay Men'!$AF$7:$AF$46,0))","v":0},"",{"$f":"MAX(IF($A11='4 x 25  medley Relay Men'!$C$7:$C$46,'4 x 25  medley Relay Men'!$AF$7:$AF$46,0))","v":0},"",{"$f":"MAX(IF($A11='4 x 25 Manikin Carry Relay Men'!$C$7:$C$46,'4 x 25 Manikin Carry Relay Men'!$AF$7:$AF$46,0))","v":0},"",{"$f":"MAX(IF($A11='4 x 12.5m Manikin Relay Men'!$C$7:$C$46,'4 x 12.5m Manikin Relay Men'!$AF$7:$AF$46,0))","v":0},"",{"$f":"MAX(IF($A11='Line Throw Relay Men'!$C$7:$C$46,'Line Throw Relay Men'!$AF$7:$AF$46,0))","v":0},"",{"$f":"MAX(IF($A11='6x50m Obs Men'!$C$7:$C$46,'6x50m Obs Men'!$AA$7:$AA$46,0))","v":0},"",{"$f":"MAX(IF($A11='6x50m Free Men'!$C$7:$C$46,'6x50m Free Men'!$AA$7:$AA$46,0))","v":0},"",{"$f":"SUM(IF(C$4:AR$4=\"\",\"\",C11:AR11))","v":0},"",""]
[{"$f":"IF('Combined Overalls'!A11=\"\",\"\",'Combined Overalls'!A11)","v":""},{"$f":"IF('Combined Overalls'!B11=\"\",\"\",'Combined Overalls'!B11)","v":""},{"$f":"MAX(IF($A12='50m Manikin Carry Men'!$C$7:$C$46,'50m Manikin Carry Men'!$AA$7:$AA$46,0))","v":0},"",{"$f":"MAX(IF($A12='25m Manikin Carry Men'!$C$7:$C$46,'25m Manikin Carry Men'!$AA$7:$AA$46,0))","v":0},"",{"$f":"MAX(IF($A12='100m Manikin Carry Men'!$C$7:$C$46,'100m Manikin Carry Men'!$AA$7:$AA$46,0))","v":0},"",{"$f":"MAX(IF($A12='50m Manikin Carry Men Fin'!$C$7:$C$46,'50m Manikin Carry Men Fin'!$AA$7:$AA$46,0))","v":0},"",{"$f":"MAX(IF($A12='100m Manikin Tow Men'!$C$7:$C$46,'100m Manikin Tow Men'!$AA$7:$AA$46,0))","v":0},"",{"$f":"MAX(IF($A12='50m Manikin Tow Men'!$C$7:$C$46,'50m Manikin Tow Men'!$AA$7:$AA$46,0))","v":0},"",{"$f":"MAX(IF($A12='200m Obs Men'!$C$7:$C$46,'200m Obs Men'!$AA$7:$AA$46,0))","v":0},"",{"$f":"MAX(IF($A12='100m Obs Men'!$C$7:$C$46,'100m Obs Men'!$AA$7:$AA$46,0))","v":0},"",{"$f":"MAX(IF($A12='50m Obs Men'!$C$7:$C$46,'50m Obs Men'!$AA$7:$AA$46,0))","v":0},"",{"$f":"MAX(IF($A12='200m Super Men'!$C$7:$C$46,'200m Super Men'!$AA$7:$AA$46,0))","v":0},"",{"$f":"MAX(IF($A12='100m Super Men'!$C$7:$C$46,'100m Super Men'!$AA$7:$AA$46,0))","v":0},"",{"$f":"MAX(IF($A12='100 Resue Men'!$C$7:$C$46,'100 Resue Men'!$AA$7:$AA$46,0))","v":0},"",{"$f":"MAX(IF($A12='50m Rescue Men'!$C$7:$C$46,'50m Rescue Men'!$AA$7:$AA$46,0))","v":0},"",{"$f":"MAX(IF($A12='Line Throw Men'!$C$7:$C$46,'Line Throw Men'!$AC$7:$AC$46,0))","v":0},"",{"$f":"MAX(IF($A12='4 x 50 Obs Relay Men'!$C$7:$C$46,'4 x 50 Obs Relay Men'!$AF$7:$AF$46,0))","v":0},"",{"$f":"MAX(IF($A12='4 x 25 Obs Relay Men'!$C$7:$C$46,'4 x 25 Obs Relay Men'!$AF$7:$AF$46,0))","v":0},"",{"$f":"MAX(IF($A12='4 x 50 medley Relay Men'!$C$7:$C$46,'4 x 50 medley Relay Men'!$AF$7:$AF$46,0))","v":0},"",{"$f":"MAX(IF($A12='4 x 25  medley Relay Men'!$C$7:$C$46,'4 x 25  medley Relay Men'!$AF$7:$AF$46,0))","v":0},"",{"$f":"MAX(IF($A12='4 x 25 Manikin Carry Relay Men'!$C$7:$C$46,'4 x 25 Manikin Carry Relay Men'!$AF$7:$AF$46,0))","v":0},"",{"$f":"MAX(IF($A12='4 x 12.5m Manikin Relay Men'!$C$7:$C$46,'4 x 12.5m Manikin Relay Men'!$AF$7:$AF$46,0))","v":0},"",{"$f":"MAX(IF($A12='Line Throw Relay Men'!$C$7:$C$46,'Line Throw Relay Men'!$AF$7:$AF$46,0))","v":0},"",{"$f":"MAX(IF($A12='6x50m Obs Men'!$C$7:$C$46,'6x50m Obs Men'!$AA$7:$AA$46,0))","v":0},"",{"$f":"MAX(IF($A12='6x50m Free Men'!$C$7:$C$46,'6x50m Free Men'!$AA$7:$AA$46,0))","v":0},"",{"$f":"SUM(IF(C$4:AR$4=\"\",\"\",C12:AR12))","v":0},"",""]
[{"$f":"IF('Combined Overalls'!A12=\"\",\"\",'Combined Overalls'!A12)","v":""},{"$f":"IF('Combined Overalls'!B12=\"\",\"\",'Combined Overalls'!B12)","v":""},{"$f":"MAX(IF($A13='50m Manikin Carry Men'!$C$7:$C$46,'50m Manikin Carry Men'!$AA$7:$AA$46,0))","v":0},"",{"$f":"MAX(IF($A13='25m Manikin Carry Men'!$C$7:$C$46,'25m Manikin Carry Men'!$AA$7:$AA$46,0))","v":0},"",{"$f":"MAX(IF($A13='100m Manikin Carry Men'!$C$7:$C$46,'100m Manikin Carry Men'!$AA$7:$AA$46,0))","v":0},"",{"$f":"MAX(IF($A13='50m Manikin Carry Men Fin'!$C$7:$C$46,'50m Manikin Carry Men Fin'!$AA$7:$AA$46,0))","v":0},"",{"$f":"MAX(IF($A13='100m Manikin Tow Men'!$C$7:$C$46,'100m Manikin Tow Men'!$AA$7:$AA$46,0))","v":0},"",{"$f":"MAX(IF($A13='50m Manikin Tow Men'!$C$7:$C$46,'50m Manikin Tow Men'!$AA$7:$AA$46,0))","v":0},"",{"$f":"MAX(IF($A13='200m Obs Men'!$C$7:$C$46,'200m Obs Men'!$AA$7:$AA$46,0))","v":0},"",{"$f":"MAX(IF($A13='100m Obs Men'!$C$7:$C$46,'100m Obs Men'!$AA$7:$AA$46,0))","v":0},"",{"$f":"MAX(IF($A13='50m Obs Men'!$C$7:$C$46,'50m Obs Men'!$AA$7:$AA$46,0))","v":0},"",{"$f":"MAX(IF($A13='200m Super Men'!$C$7:$C$46,'200m Super Men'!$AA$7:$AA$46,0))","v":0},"",{"$f":"MAX(IF($A13='100m Super Men'!$C$7:$C$46,'100m Super Men'!$AA$7:$AA$46,0))","v":0},"",{"$f":"MAX(IF($A13='100 Resue Men'!$C$7:$C$46,'100 Resue Men'!$AA$7:$AA$46,0))","v":0},"",{"$f":"MAX(IF($A13='50m Rescue Men'!$C$7:$C$46,'50m Rescue Men'!$AA$7:$AA$46,0))","v":0},"",{"$f":"MAX(IF($A13='Line Throw Men'!$C$7:$C$46,'Line Throw Men'!$AC$7:$AC$46,0))","v":0},"",{"$f":"MAX(IF($A13='4 x 50 Obs Relay Men'!$C$7:$C$46,'4 x 50 Obs Relay Men'!$AF$7:$AF$46,0))","v":0},"",{"$f":"MAX(IF($A13='4 x 25 Obs Relay Men'!$C$7:$C$46,'4 x 25 Obs Relay Men'!$AF$7:$AF$46,0))","v":0},"",{"$f":"MAX(IF($A13='4 x 50 medley Relay Men'!$C$7:$C$46,'4 x 50 medley Relay Men'!$AF$7:$AF$46,0))","v":0},"",{"$f":"MAX(IF($A13='4 x 25  medley Relay Men'!$C$7:$C$46,'4 x 25  medley Relay Men'!$AF$7:$AF$46,0))","v":0},"",{"$f":"MAX(IF($A13='4 x 25 Manikin Carry Relay Men'!$C$7:$C$46,'4 x 25 Manikin Carry Relay Men'!$AF$7:$AF$46,0))","v":0},"",{"$f":"MAX(IF($A13='4 x 12.5m Manikin Relay Men'!$C$7:$C$46,'4 x 12.5m Manikin Relay Men'!$AF$7:$AF$46,0))","v":0},"",{"$f":"MAX(IF($A13='Line Throw Relay Men'!$C$7:$C$46,'Line Throw Relay Men'!$AF$7:$AF$46,0))","v":0},"",{"$f":"MAX(IF($A13='6x50m Obs Men'!$C$7:$C$46,'6x50m Obs Men'!$AA$7:$AA$46,0))","v":0},"",{"$f":"MAX(IF($A13='6x50m Free Men'!$C$7:$C$46,'6x50m Free Men'!$AA$7:$AA$46,0))","v":0},"",{"$f":"SUM(IF(C$4:AR$4=\"\",\"\",C13:AR13))","v":0},"",""]
[{"$f":"IF('Combined Overalls'!A13=\"\",\"\",'Combined Overalls'!A13)","v":""},{"$f":"IF('Combined Overalls'!B13=\"\",\"\",'Combined Overalls'!B13)","v":""},{"$f":"MAX(IF($A14='50m Manikin Carry Men'!$C$7:$C$46,'50m Manikin Carry Men'!$AA$7:$AA$46,0))","v":0},"",{"$f":"MAX(IF($A14='25m Manikin Carry Men'!$C$7:$C$46,'25m Manikin Carry Men'!$AA$7:$AA$46,0))","v":0},"",{"$f":"MAX(IF($A14='100m Manikin Carry Men'!$C$7:$C$46,'100m Manikin Carry Men'!$AA$7:$AA$46,0))","v":0},"",{"$f":"MAX(IF($A14='50m Manikin Carry Men Fin'!$C$7:$C$46,'50m Manikin Carry Men Fin'!$AA$7:$AA$46,0))","v":0},"",{"$f":"MAX(IF($A14='100m Manikin Tow Men'!$C$7:$C$46,'100m Manikin Tow Men'!$AA$7:$AA$46,0))","v":0},"",{"$f":"MAX(IF($A14='50m Manikin Tow Men'!$C$7:$C$46,'50m Manikin Tow Men'!$AA$7:$AA$46,0))","v":0},"",{"$f":"MAX(IF($A14='200m Obs Men'!$C$7:$C$46,'200m Obs Men'!$AA$7:$AA$46,0))","v":0},"",{"$f":"MAX(IF($A14='100m Obs Men'!$C$7:$C$46,'100m Obs Men'!$AA$7:$AA$46,0))","v":0},"",{"$f":"MAX(IF($A14='50m Obs Men'!$C$7:$C$46,'50m Obs Men'!$AA$7:$AA$46,0))","v":0},"",{"$f":"MAX(IF($A14='200m Super Men'!$C$7:$C$46,'200m Super Men'!$AA$7:$AA$46,0))","v":0},"",{"$f":"MAX(IF($A14='100m Super Men'!$C$7:$C$46,'100m Super Men'!$AA$7:$AA$46,0))","v":0},"",{"$f":"MAX(IF($A14='100 Resue Men'!$C$7:$C$46,'100 Resue Men'!$AA$7:$AA$46,0))","v":0},"",{"$f":"MAX(IF($A14='50m Rescue Men'!$C$7:$C$46,'50m Rescue Men'!$AA$7:$AA$46,0))","v":0},"",{"$f":"MAX(IF($A14='Line Throw Men'!$C$7:$C$46,'Line Throw Men'!$AC$7:$AC$46,0))","v":0},"",{"$f":"MAX(IF($A14='4 x 50 Obs Relay Men'!$C$7:$C$46,'4 x 50 Obs Relay Men'!$AF$7:$AF$46,0))","v":0},"",{"$f":"MAX(IF($A14='4 x 25 Obs Relay Men'!$C$7:$C$46,'4 x 25 Obs Relay Men'!$AF$7:$AF$46,0))","v":0},"",{"$f":"MAX(IF($A14='4 x 50 medley Relay Men'!$C$7:$C$46,'4 x 50 medley Relay Men'!$AF$7:$AF$46,0))","v":0},"",{"$f":"MAX(IF($A14='4 x 25  medley Relay Men'!$C$7:$C$46,'4 x 25  medley Relay Men'!$AF$7:$AF$46,0))","v":0},"",{"$f":"MAX(IF($A14='4 x 25 Manikin Carry Relay Men'!$C$7:$C$46,'4 x 25 Manikin Carry Relay Men'!$AF$7:$AF$46,0))","v":0},"",{"$f":"MAX(IF($A14='4 x 12.5m Manikin Relay Men'!$C$7:$C$46,'4 x 12.5m Manikin Relay Men'!$AF$7:$AF$46,0))","v":0},"",{"$f":"MAX(IF($A14='Line Throw Relay Men'!$C$7:$C$46,'Line Throw Relay Men'!$AF$7:$AF$46,0))","v":0},"",{"$f":"MAX(IF($A14='6x50m Obs Men'!$C$7:$C$46,'6x50m Obs Men'!$AA$7:$AA$46,0))","v":0},"",{"$f":"MAX(IF($A14='6x50m Free Men'!$C$7:$C$46,'6x50m Free Men'!$AA$7:$AA$46,0))","v":0},"",{"$f":"SUM(IF(C$4:AR$4=\"\",\"\",C14:AR14))","v":0},"",""]
[{"$f":"IF('Combined Overalls'!A14=\"\",\"\",'Combined Overalls'!A14)","v":""},{"$f":"IF('Combined Overalls'!B14=\"\",\"\",'Combined Overalls'!B14)","v":""},{"$f":"MAX(IF($A15='50m Manikin Carry Men'!$C$7:$C$46,'50m Manikin Carry Men'!$AA$7:$AA$46,0))","v":0},"",{"$f":"MAX(IF($A15='25m Manikin Carry Men'!$C$7:$C$46,'25m Manikin Carry Men'!$AA$7:$AA$46,0))","v":0},"",{"$f":"MAX(IF($A15='100m Manikin Carry Men'!$C$7:$C$46,'100m Manikin Carry Men'!$AA$7:$AA$46,0))","v":0},"",{"$f":"MAX(IF($A15='50m Manikin Carry Men Fin'!$C$7:$C$46,'50m Manikin Carry Men Fin'!$AA$7:$AA$46,0))","v":0},"",{"$f":"MAX(IF($A15='100m Manikin Tow Men'!$C$7:$C$46,'100m Manikin Tow Men'!$AA$7:$AA$46,0))","v":0},"",{"$f":"MAX(IF($A15='50m Manikin Tow Men'!$C$7:$C$46,'50m Manikin Tow Men'!$AA$7:$AA$46,0))","v":0},"",{"$f":"MAX(IF($A15='200m Obs Men'!$C$7:$C$46,'200m Obs Men'!$AA$7:$AA$46,0))","v":0},"",{"$f":"MAX(IF($A15='100m Obs Men'!$C$7:$C$46,'100m Obs Men'!$AA$7:$AA$46,0))","v":0},"",{"$f":"MAX(IF($A15='50m Obs Men'!$C$7:$C$46,'50m Obs Men'!$AA$7:$AA$46,0))","v":0},"",{"$f":"MAX(IF($A15='200m Super Men'!$C$7:$C$46,'200m Super Men'!$AA$7:$AA$46,0))","v":0},"",{"$f":"MAX(IF($A15='100m Super Men'!$C$7:$C$46,'100m Super Men'!$AA$7:$AA$46,0))","v":0},"",{"$f":"MAX(IF($A15='100 Resue Men'!$C$7:$C$46,'100 Resue Men'!$AA$7:$AA$46,0))","v":0},"",{"$f":"MAX(IF($A15='50m Rescue Men'!$C$7:$C$46,'50m Rescue Men'!$AA$7:$AA$46,0))","v":0},"",{"$f":"MAX(IF($A15='Line Throw Men'!$C$7:$C$46,'Line Throw Men'!$AC$7:$AC$46,0))","v":0},"",{"$f":"MAX(IF($A15='4 x 50 Obs Relay Men'!$C$7:$C$46,'4 x 50 Obs Relay Men'!$AF$7:$AF$46,0))","v":0},"",{"$f":"MAX(IF($A15='4 x 25 Obs Relay Men'!$C$7:$C$46,'4 x 25 Obs Relay Men'!$AF$7:$AF$46,0))","v":0},"",{"$f":"MAX(IF($A15='4 x 50 medley Relay Men'!$C$7:$C$46,'4 x 50 medley Relay Men'!$AF$7:$AF$46,0))","v":0},"",{"$f":"MAX(IF($A15='4 x 25  medley Relay Men'!$C$7:$C$46,'4 x 25  medley Relay Men'!$AF$7:$AF$46,0))","v":0},"",{"$f":"MAX(IF($A15='4 x 25 Manikin Carry Relay Men'!$C$7:$C$46,'4 x 25 Manikin Carry Relay Men'!$AF$7:$AF$46,0))","v":0},"",{"$f":"MAX(IF($A15='4 x 12.5m Manikin Relay Men'!$C$7:$C$46,'4 x 12.5m Manikin Relay Men'!$AF$7:$AF$46,0))","v":0},"",{"$f":"MAX(IF($A15='Line Throw Relay Men'!$C$7:$C$46,'Line Throw Relay Men'!$AF$7:$AF$46,0))","v":0},"",{"$f":"MAX(IF($A15='6x50m Obs Men'!$C$7:$C$46,'6x50m Obs Men'!$AA$7:$AA$46,0))","v":0},"",{"$f":"MAX(IF($A15='6x50m Free Men'!$C$7:$C$46,'6x50m Free Men'!$AA$7:$AA$46,0))","v":0},"",{"$f":"SUM(IF(C$4:AR$4=\"\",\"\",C15:AR15))","v":0},"",""]
[{"$f":"IF('Combined Overalls'!A15=\"\",\"\",'Combined Overalls'!A15)","v":""},{"$f":"IF('Combined Overalls'!B15=\"\",\"\",'Combined Overalls'!B15)","v":""},{"$f":"MAX(IF($A16='50m Manikin Carry Men'!$C$7:$C$46,'50m Manikin Carry Men'!$AA$7:$AA$46,0))","v":0},"",{"$f":"MAX(IF($A16='25m Manikin Carry Men'!$C$7:$C$46,'25m Manikin Carry Men'!$AA$7:$AA$46,0))","v":0},"",{"$f":"MAX(IF($A16='100m Manikin Carry Men'!$C$7:$C$46,'100m Manikin Carry Men'!$AA$7:$AA$46,0))","v":0},"",{"$f":"MAX(IF($A16='50m Manikin Carry Men Fin'!$C$7:$C$46,'50m Manikin Carry Men Fin'!$AA$7:$AA$46,0))","v":0},"",{"$f":"MAX(IF($A16='100m Manikin Tow Men'!$C$7:$C$46,'100m Manikin Tow Men'!$AA$7:$AA$46,0))","v":0},"",{"$f":"MAX(IF($A16='50m Manikin Tow Men'!$C$7:$C$46,'50m Manikin Tow Men'!$AA$7:$AA$46,0))","v":0},"",{"$f":"MAX(IF($A16='200m Obs Men'!$C$7:$C$46,'200m Obs Men'!$AA$7:$AA$46,0))","v":0},"",{"$f":"MAX(IF($A16='100m Obs Men'!$C$7:$C$46,'100m Obs Men'!$AA$7:$AA$46,0))","v":0},"",{"$f":"MAX(IF($A16='50m Obs Men'!$C$7:$C$46,'50m Obs Men'!$AA$7:$AA$46,0))","v":0},"",{"$f":"MAX(IF($A16='200m Super Men'!$C$7:$C$46,'200m Super Men'!$AA$7:$AA$46,0))","v":0},"",{"$f":"MAX(IF($A16='100m Super Men'!$C$7:$C$46,'100m Super Men'!$AA$7:$AA$46,0))","v":0},"",{"$f":"MAX(IF($A16='100 Resue Men'!$C$7:$C$46,'100 Resue Men'!$AA$7:$AA$46,0))","v":0},"",{"$f":"MAX(IF($A16='50m Rescue Men'!$C$7:$C$46,'50m Rescue Men'!$AA$7:$AA$46,0))","v":0},"",{"$f":"MAX(IF($A16='Line Throw Men'!$C$7:$C$46,'Line Throw Men'!$AC$7:$AC$46,0))","v":0},"",{"$f":"MAX(IF($A16='4 x 50 Obs Relay Men'!$C$7:$C$46,'4 x 50 Obs Relay Men'!$AF$7:$AF$46,0))","v":0},"",{"$f":"MAX(IF($A16='4 x 25 Obs Relay Men'!$C$7:$C$46,'4 x 25 Obs Relay Men'!$AF$7:$AF$46,0))","v":0},"",{"$f":"MAX(IF($A16='4 x 50 medley Relay Men'!$C$7:$C$46,'4 x 50 medley Relay Men'!$AF$7:$AF$46,0))","v":0},"",{"$f":"MAX(IF($A16='4 x 25  medley Relay Men'!$C$7:$C$46,'4 x 25  medley Relay Men'!$AF$7:$AF$46,0))","v":0},"",{"$f":"MAX(IF($A16='4 x 25 Manikin Carry Relay Men'!$C$7:$C$46,'4 x 25 Manikin Carry Relay Men'!$AF$7:$AF$46,0))","v":0},"",{"$f":"MAX(IF($A16='4 x 12.5m Manikin Relay Men'!$C$7:$C$46,'4 x 12.5m Manikin Relay Men'!$AF$7:$AF$46,0))","v":0},"",{"$f":"MAX(IF($A16='Line Throw Relay Men'!$C$7:$C$46,'Line Throw Relay Men'!$AF$7:$AF$46,0))","v":0},"",{"$f":"MAX(IF($A16='6x50m Obs Men'!$C$7:$C$46,'6x50m Obs Men'!$AA$7:$AA$46,0))","v":0},"",{"$f":"MAX(IF($A16='6x50m Free Men'!$C$7:$C$46,'6x50m Free Men'!$AA$7:$AA$46,0))","v":0},"",{"$f":"SUM(IF(C$4:AR$4=\"\",\"\",C16:AR16))","v":0},"",""]
[{"$f":"IF('Combined Overalls'!A16=\"\",\"\",'Combined Overalls'!A16)","v":""},{"$f":"IF('Combined Overalls'!B16=\"\",\"\",'Combined Overalls'!B16)","v":""},{"$f":"MAX(IF($A17='50m Manikin Carry Men'!$C$7:$C$46,'50m Manikin Carry Men'!$AA$7:$AA$46,0))","v":0},"",{"$f":"MAX(IF($A17='25m Manikin Carry Men'!$C$7:$C$46,'25m Manikin Carry Men'!$AA$7:$AA$46,0))","v":0},"",{"$f":"MAX(IF($A17='100m Manikin Carry Men'!$C$7:$C$46,'100m Manikin Carry Men'!$AA$7:$AA$46,0))","v":0},"",{"$f":"MAX(IF($A17='50m Manikin Carry Men Fin'!$C$7:$C$46,'50m Manikin Carry Men Fin'!$AA$7:$AA$46,0))","v":0},"",{"$f":"MAX(IF($A17='100m Manikin Tow Men'!$C$7:$C$46,'100m Manikin Tow Men'!$AA$7:$AA$46,0))","v":0},"",{"$f":"MAX(IF($A17='50m Manikin Tow Men'!$C$7:$C$46,'50m Manikin Tow Men'!$AA$7:$AA$46,0))","v":0},"",{"$f":"MAX(IF($A17='200m Obs Men'!$C$7:$C$46,'200m Obs Men'!$AA$7:$AA$46,0))","v":0},"",{"$f":"MAX(IF($A17='100m Obs Men'!$C$7:$C$46,'100m Obs Men'!$AA$7:$AA$46,0))","v":0},"",{"$f":"MAX(IF($A17='50m Obs Men'!$C$7:$C$46,'50m Obs Men'!$AA$7:$AA$46,0))","v":0},"",{"$f":"MAX(IF($A17='200m Super Men'!$C$7:$C$46,'200m Super Men'!$AA$7:$AA$46,0))","v":0},"",{"$f":"MAX(IF($A17='100m Super Men'!$C$7:$C$46,'100m Super Men'!$AA$7:$AA$46,0))","v":0},"",{"$f":"MAX(IF($A17='100 Resue Men'!$C$7:$C$46,'100 Resue Men'!$AA$7:$AA$46,0))","v":0},"",{"$f":"MAX(IF($A17='50m Rescue Men'!$C$7:$C$46,'50m Rescue Men'!$AA$7:$AA$46,0))","v":0},"",{"$f":"MAX(IF($A17='Line Throw Men'!$C$7:$C$46,'Line Throw Men'!$AC$7:$AC$46,0))","v":0},"",{"$f":"MAX(IF($A17='4 x 50 Obs Relay Men'!$C$7:$C$46,'4 x 50 Obs Relay Men'!$AF$7:$AF$46,0))","v":0},"",{"$f":"MAX(IF($A17='4 x 25 Obs Relay Men'!$C$7:$C$46,'4 x 25 Obs Relay Men'!$AF$7:$AF$46,0))","v":0},"",{"$f":"MAX(IF($A17='4 x 50 medley Relay Men'!$C$7:$C$46,'4 x 50 medley Relay Men'!$AF$7:$AF$46,0))","v":0},"",{"$f":"MAX(IF($A17='4 x 25  medley Relay Men'!$C$7:$C$46,'4 x 25  medley Relay Men'!$AF$7:$AF$46,0))","v":0},"",{"$f":"MAX(IF($A17='4 x 25 Manikin Carry Relay Men'!$C$7:$C$46,'4 x 25 Manikin Carry Relay Men'!$AF$7:$AF$46,0))","v":0},"",{"$f":"MAX(IF($A17='4 x 12.5m Manikin Relay Men'!$C$7:$C$46,'4 x 12.5m Manikin Relay Men'!$AF$7:$AF$46,0))","v":0},"",{"$f":"MAX(IF($A17='Line Throw Relay Men'!$C$7:$C$46,'Line Throw Relay Men'!$AF$7:$AF$46,0))","v":0},"",{"$f":"MAX(IF($A17='6x50m Obs Men'!$C$7:$C$46,'6x50m Obs Men'!$AA$7:$AA$46,0))","v":0},"",{"$f":"MAX(IF($A17='6x50m Free Men'!$C$7:$C$46,'6x50m Free Men'!$AA$7:$AA$46,0))","v":0},"",{"$f":"SUM(IF(C$4:AR$4=\"\",\"\",C17:AR17))","v":0},"",""]
[{"$f":"IF('Combined Overalls'!A17=\"\",\"\",'Combined Overalls'!A17)","v":""},{"$f":"IF('Combined Overalls'!B17=\"\",\"\",'Combined Overalls'!B17)","v":""},{"$f":"MAX(IF($A18='50m Manikin Carry Men'!$C$7:$C$46,'50m Manikin Carry Men'!$AA$7:$AA$46,0))","v":0},"",{"$f":"MAX(IF($A18='25m Manikin Carry Men'!$C$7:$C$46,'25m Manikin Carry Men'!$AA$7:$AA$46,0))","v":0},"",{"$f":"MAX(IF($A18='100m Manikin Carry Men'!$C$7:$C$46,'100m Manikin Carry Men'!$AA$7:$AA$46,0))","v":0},"",{"$f":"MAX(IF($A18='50m Manikin Carry Men Fin'!$C$7:$C$46,'50m Manikin Carry Men Fin'!$AA$7:$AA$46,0))","v":0},"",{"$f":"MAX(IF($A18='100m Manikin Tow Men'!$C$7:$C$46,'100m Manikin Tow Men'!$AA$7:$AA$46,0))","v":0},"",{"$f":"MAX(IF($A18='50m Manikin Tow Men'!$C$7:$C$46,'50m Manikin Tow Men'!$AA$7:$AA$46,0))","v":0},"",{"$f":"MAX(IF($A18='200m Obs Men'!$C$7:$C$46,'200m Obs Men'!$AA$7:$AA$46,0))","v":0},"",{"$f":"MAX(IF($A18='100m Obs Men'!$C$7:$C$46,'100m Obs Men'!$AA$7:$AA$46,0))","v":0},"",{"$f":"MAX(IF($A18='50m Obs Men'!$C$7:$C$46,'50m Obs Men'!$AA$7:$AA$46,0))","v":0},"",{"$f":"MAX(IF($A18='200m Super Men'!$C$7:$C$46,'200m Super Men'!$AA$7:$AA$46,0))","v":0},"",{"$f":"MAX(IF($A18='100m Super Men'!$C$7:$C$46,'100m Super Men'!$AA$7:$AA$46,0))","v":0},"",{"$f":"MAX(IF($A18='100 Resue Men'!$C$7:$C$46,'100 Resue Men'!$AA$7:$AA$46,0))","v":0},"",{"$f":"MAX(IF($A18='50m Rescue Men'!$C$7:$C$46,'50m Rescue Men'!$AA$7:$AA$46,0))","v":0},"",{"$f":"MAX(IF($A18='Line Throw Men'!$C$7:$C$46,'Line Throw Men'!$AC$7:$AC$46,0))","v":0},"",{"$f":"MAX(IF($A18='4 x 50 Obs Relay Men'!$C$7:$C$46,'4 x 50 Obs Relay Men'!$AF$7:$AF$46,0))","v":0},"",{"$f":"MAX(IF($A18='4 x 25 Obs Relay Men'!$C$7:$C$46,'4 x 25 Obs Relay Men'!$AF$7:$AF$46,0))","v":0},"",{"$f":"MAX(IF($A18='4 x 50 medley Relay Men'!$C$7:$C$46,'4 x 50 medley Relay Men'!$AF$7:$AF$46,0))","v":0},"",{"$f":"MAX(IF($A18='4 x 25  medley Relay Men'!$C$7:$C$46,'4 x 25  medley Relay Men'!$AF$7:$AF$46,0))","v":0},"",{"$f":"MAX(IF($A18='4 x 25 Manikin Carry Relay Men'!$C$7:$C$46,'4 x 25 Manikin Carry Relay Men'!$AF$7:$AF$46,0))","v":0},"",{"$f":"MAX(IF($A18='4 x 12.5m Manikin Relay Men'!$C$7:$C$46,'4 x 12.5m Manikin Relay Men'!$AF$7:$AF$46,0))","v":0},"",{"$f":"MAX(IF($A18='Line Throw Relay Men'!$C$7:$C$46,'Line Throw Relay Men'!$AF$7:$AF$46,0))","v":0},"",{"$f":"MAX(IF($A18='6x50m Obs Men'!$C$7:$C$46,'6x50m Obs Men'!$AA$7:$AA$46,0))","v":0},"",{"$f":"MAX(IF($A18='6x50m Free Men'!$C$7:$C$46,'6x50m Free Men'!$AA$7:$AA$46,0))","v":0},"",{"$f":"SUM(IF(C$4:AR$4=\"\",\"\",C18:AR18))","v":0},"",""]
[{"$f":"IF('Combined Overalls'!A18=\"\",\"\",'Combined Overalls'!A18)","v":""},{"$f":"IF('Combined Overalls'!B18=\"\",\"\",'Combined Overalls'!B18)","v":""},{"$f":"MAX(IF($A19='50m Manikin Carry Men'!$C$7:$C$46,'50m Manikin Carry Men'!$AA$7:$AA$46,0))","v":0},"",{"$f":"MAX(IF($A19='25m Manikin Carry Men'!$C$7:$C$46,'25m Manikin Carry Men'!$AA$7:$AA$46,0))","v":0},"",{"$f":"MAX(IF($A19='100m Manikin Carry Men'!$C$7:$C$46,'100m Manikin Carry Men'!$AA$7:$AA$46,0))","v":0},"",{"$f":"MAX(IF($A19='50m Manikin Carry Men Fin'!$C$7:$C$46,'50m Manikin Carry Men Fin'!$AA$7:$AA$46,0))","v":0},"",{"$f":"MAX(IF($A19='100m Manikin Tow Men'!$C$7:$C$46,'100m Manikin Tow Men'!$AA$7:$AA$46,0))","v":0},"",{"$f":"MAX(IF($A19='50m Manikin Tow Men'!$C$7:$C$46,'50m Manikin Tow Men'!$AA$7:$AA$46,0))","v":0},"",{"$f":"MAX(IF($A19='200m Obs Men'!$C$7:$C$46,'200m Obs Men'!$AA$7:$AA$46,0))","v":0},"",{"$f":"MAX(IF($A19='100m Obs Men'!$C$7:$C$46,'100m Obs Men'!$AA$7:$AA$46,0))","v":0},"",{"$f":"MAX(IF($A19='50m Obs Men'!$C$7:$C$46,'50m Obs Men'!$AA$7:$AA$46,0))","v":0},"",{"$f":"MAX(IF($A19='200m Super Men'!$C$7:$C$46,'200m Super Men'!$AA$7:$AA$46,0))","v":0},"",{"$f":"MAX(IF($A19='100m Super Men'!$C$7:$C$46,'100m Super Men'!$AA$7:$AA$46,0))","v":0},"",{"$f":"MAX(IF($A19='100 Resue Men'!$C$7:$C$46,'100 Resue Men'!$AA$7:$AA$46,0))","v":0},"",{"$f":"MAX(IF($A19='50m Rescue Men'!$C$7:$C$46,'50m Rescue Men'!$AA$7:$AA$46,0))","v":0},"",{"$f":"MAX(IF($A19='Line Throw Men'!$C$7:$C$46,'Line Throw Men'!$AC$7:$AC$46,0))","v":0},"",{"$f":"MAX(IF($A19='4 x 50 Obs Relay Men'!$C$7:$C$46,'4 x 50 Obs Relay Men'!$AF$7:$AF$46,0))","v":0},"",{"$f":"MAX(IF($A19='4 x 25 Obs Relay Men'!$C$7:$C$46,'4 x 25 Obs Relay Men'!$AF$7:$AF$46,0))","v":0},"",{"$f":"MAX(IF($A19='4 x 50 medley Relay Men'!$C$7:$C$46,'4 x 50 medley Relay Men'!$AF$7:$AF$46,0))","v":0},"",{"$f":"MAX(IF($A19='4 x 25  medley Relay Men'!$C$7:$C$46,'4 x 25  medley Relay Men'!$AF$7:$AF$46,0))","v":0},"",{"$f":"MAX(IF($A19='4 x 25 Manikin Carry Relay Men'!$C$7:$C$46,'4 x 25 Manikin Carry Relay Men'!$AF$7:$AF$46,0))","v":0},"",{"$f":"MAX(IF($A19='4 x 12.5m Manikin Relay Men'!$C$7:$C$46,'4 x 12.5m Manikin Relay Men'!$AF$7:$AF$46,0))","v":0},"",{"$f":"MAX(IF($A19='Line Throw Relay Men'!$C$7:$C$46,'Line Throw Relay Men'!$AF$7:$AF$46,0))","v":0},"",{"$f":"MAX(IF($A19='6x50m Obs Men'!$C$7:$C$46,'6x50m Obs Men'!$AA$7:$AA$46,0))","v":0},"",{"$f":"MAX(IF($A19='6x50m Free Men'!$C$7:$C$46,'6x50m Free Men'!$AA$7:$AA$46,0))","v":0},"",{"$f":"SUM(IF(C$4:AR$4=\"\",\"\",C19:AR19))","v":0},"",""]
[{"$f":"IF('Combined Overalls'!A19=\"\",\"\",'Combined Overalls'!A19)","v":""},{"$f":"IF('Combined Overalls'!B19=\"\",\"\",'Combined Overalls'!B19)","v":""},{"$f":"MAX(IF($A20='50m Manikin Carry Men'!$C$7:$C$46,'50m Manikin Carry Men'!$AA$7:$AA$46,0))","v":0},"",{"$f":"MAX(IF($A20='25m Manikin Carry Men'!$C$7:$C$46,'25m Manikin Carry Men'!$AA$7:$AA$46,0))","v":0},"",{"$f":"MAX(IF($A20='100m Manikin Carry Men'!$C$7:$C$46,'100m Manikin Carry Men'!$AA$7:$AA$46,0))","v":0},"",{"$f":"MAX(IF($A20='50m Manikin Carry Men Fin'!$C$7:$C$46,'50m Manikin Carry Men Fin'!$AA$7:$AA$46,0))","v":0},"",{"$f":"MAX(IF($A20='100m Manikin Tow Men'!$C$7:$C$46,'100m Manikin Tow Men'!$AA$7:$AA$46,0))","v":0},"",{"$f":"MAX(IF($A20='50m Manikin Tow Men'!$C$7:$C$46,'50m Manikin Tow Men'!$AA$7:$AA$46,0))","v":0},"",{"$f":"MAX(IF($A20='200m Obs Men'!$C$7:$C$46,'200m Obs Men'!$AA$7:$AA$46,0))","v":0},"",{"$f":"MAX(IF($A20='100m Obs Men'!$C$7:$C$46,'100m Obs Men'!$AA$7:$AA$46,0))","v":0},"",{"$f":"MAX(IF($A20='50m Obs Men'!$C$7:$C$46,'50m Obs Men'!$AA$7:$AA$46,0))","v":0},"",{"$f":"MAX(IF($A20='200m Super Men'!$C$7:$C$46,'200m Super Men'!$AA$7:$AA$46,0))","v":0},"",{"$f":"MAX(IF($A20='100m Super Men'!$C$7:$C$46,'100m Super Men'!$AA$7:$AA$46,0))","v":0},"",{"$f":"MAX(IF($A20='100 Resue Men'!$C$7:$C$46,'100 Resue Men'!$AA$7:$AA$46,0))","v":0},"",{"$f":"MAX(IF($A20='50m Rescue Men'!$C$7:$C$46,'50m Rescue Men'!$AA$7:$AA$46,0))","v":0},"",{"$f":"MAX(IF($A20='Line Throw Men'!$C$7:$C$46,'Line Throw Men'!$AC$7:$AC$46,0))","v":0},"",{"$f":"MAX(IF($A20='4 x 50 Obs Relay Men'!$C$7:$C$46,'4 x 50 Obs Relay Men'!$AF$7:$AF$46,0))","v":0},"",{"$f":"MAX(IF($A20='4 x 25 Obs Relay Men'!$C$7:$C$46,'4 x 25 Obs Relay Men'!$AF$7:$AF$46,0))","v":0},"",{"$f":"MAX(IF($A20='4 x 50 medley Relay Men'!$C$7:$C$46,'4 x 50 medley Relay Men'!$AF$7:$AF$46,0))","v":0},"",{"$f":"MAX(IF($A20='4 x 25  medley Relay Men'!$C$7:$C$46,'4 x 25  medley Relay Men'!$AF$7:$AF$46,0))","v":0},"",{"$f":"MAX(IF($A20='4 x 25 Manikin Carry Relay Men'!$C$7:$C$46,'4 x 25 Manikin Carry Relay Men'!$AF$7:$AF$46,0))","v":0},"",{"$f":"MAX(IF($A20='4 x 12.5m Manikin Relay Men'!$C$7:$C$46,'4 x 12.5m Manikin Relay Men'!$AF$7:$AF$46,0))","v":0},"",{"$f":"MAX(IF($A20='Line Throw Relay Men'!$C$7:$C$46,'Line Throw Relay Men'!$AF$7:$AF$46,0))","v":0},"",{"$f":"MAX(IF($A20='6x50m Obs Men'!$C$7:$C$46,'6x50m Obs Men'!$AA$7:$AA$46,0))","v":0},"",{"$f":"MAX(IF($A20='6x50m Free Men'!$C$7:$C$46,'6x50m Free Men'!$AA$7:$AA$46,0))","v":0},"",{"$f":"SUM(IF(C$4:AR$4=\"\",\"\",C20:AR20))","v":0},"",""]
[{"$f":"IF('Combined Overalls'!A20=\"\",\"\",'Combined Overalls'!A20)","v":""},{"$f":"IF('Combined Overalls'!B20=\"\",\"\",'Combined Overalls'!B20)","v":""},{"$f":"MAX(IF($A21='50m Manikin Carry Men'!$C$7:$C$46,'50m Manikin Carry Men'!$AA$7:$AA$46,0))","v":0},"",{"$f":"MAX(IF($A21='25m Manikin Carry Men'!$C$7:$C$46,'25m Manikin Carry Men'!$AA$7:$AA$46,0))","v":0},"",{"$f":"MAX(IF($A21='100m Manikin Carry Men'!$C$7:$C$46,'100m Manikin Carry Men'!$AA$7:$AA$46,0))","v":0},"",{"$f":"MAX(IF($A21='50m Manikin Carry Men Fin'!$C$7:$C$46,'50m Manikin Carry Men Fin'!$AA$7:$AA$46,0))","v":0},"",{"$f":"MAX(IF($A21='100m Manikin Tow Men'!$C$7:$C$46,'100m Manikin Tow Men'!$AA$7:$AA$46,0))","v":0},"",{"$f":"MAX(IF($A21='50m Manikin Tow Men'!$C$7:$C$46,'50m Manikin Tow Men'!$AA$7:$AA$46,0))","v":0},"",{"$f":"MAX(IF($A21='200m Obs Men'!$C$7:$C$46,'200m Obs Men'!$AA$7:$AA$46,0))","v":0},"",{"$f":"MAX(IF($A21='100m Obs Men'!$C$7:$C$46,'100m Obs Men'!$AA$7:$AA$46,0))","v":0},"",{"$f":"MAX(IF($A21='50m Obs Men'!$C$7:$C$46,'50m Obs Men'!$AA$7:$AA$46,0))","v":0},"",{"$f":"MAX(IF($A21='200m Super Men'!$C$7:$C$46,'200m Super Men'!$AA$7:$AA$46,0))","v":0},"",{"$f":"MAX(IF($A21='100m Super Men'!$C$7:$C$46,'100m Super Men'!$AA$7:$AA$46,0))","v":0},"",{"$f":"MAX(IF($A21='100 Resue Men'!$C$7:$C$46,'100 Resue Men'!$AA$7:$AA$46,0))","v":0},"",{"$f":"MAX(IF($A21='50m Rescue Men'!$C$7:$C$46,'50m Rescue Men'!$AA$7:$AA$46,0))","v":0},"",{"$f":"MAX(IF($A21='Line Throw Men'!$C$7:$C$46,'Line Throw Men'!$AC$7:$AC$46,0))","v":0},"",{"$f":"MAX(IF($A21='4 x 50 Obs Relay Men'!$C$7:$C$46,'4 x 50 Obs Relay Men'!$AF$7:$AF$46,0))","v":0},"",{"$f":"MAX(IF($A21='4 x 25 Obs Relay Men'!$C$7:$C$46,'4 x 25 Obs Relay Men'!$AF$7:$AF$46,0))","v":0},"",{"$f":"MAX(IF($A21='4 x 50 medley Relay Men'!$C$7:$C$46,'4 x 50 medley Relay Men'!$AF$7:$AF$46,0))","v":0},"",{"$f":"MAX(IF($A21='4 x 25  medley Relay Men'!$C$7:$C$46,'4 x 25  medley Relay Men'!$AF$7:$AF$46,0))","v":0},"",{"$f":"MAX(IF($A21='4 x 25 Manikin Carry Relay Men'!$C$7:$C$46,'4 x 25 Manikin Carry Relay Men'!$AF$7:$AF$46,0))","v":0},"",{"$f":"MAX(IF($A21='4 x 12.5m Manikin Relay Men'!$C$7:$C$46,'4 x 12.5m Manikin Relay Men'!$AF$7:$AF$46,0))","v":0},"",{"$f":"MAX(IF($A21='Line Throw Relay Men'!$C$7:$C$46,'Line Throw Relay Men'!$AF$7:$AF$46,0))","v":0},"",{"$f":"MAX(IF($A21='6x50m Obs Men'!$C$7:$C$46,'6x50m Obs Men'!$AA$7:$AA$46,0))","v":0},"",{"$f":"MAX(IF($A21='6x50m Free Men'!$C$7:$C$46,'6x50m Free Men'!$AA$7:$AA$46,0))","v":0},"",{"$f":"SUM(IF(C$4:AR$4=\"\",\"\",C21:AR21))","v":0},"",""]
[{"$f":"IF('Combined Overalls'!A21=\"\",\"\",'Combined Overalls'!A21)","v":""},{"$f":"IF('Combined Overalls'!B21=\"\",\"\",'Combined Overalls'!B21)","v":""},{"$f":"MAX(IF($A22='50m Manikin Carry Men'!$C$7:$C$46,'50m Manikin Carry Men'!$AA$7:$AA$46,0))","v":0},"",{"$f":"MAX(IF($A22='25m Manikin Carry Men'!$C$7:$C$46,'25m Manikin Carry Men'!$AA$7:$AA$46,0))","v":0},"",{"$f":"MAX(IF($A22='100m Manikin Carry Men'!$C$7:$C$46,'100m Manikin Carry Men'!$AA$7:$AA$46,0))","v":0},"",{"$f":"MAX(IF($A22='50m Manikin Carry Men Fin'!$C$7:$C$46,'50m Manikin Carry Men Fin'!$AA$7:$AA$46,0))","v":0},"",{"$f":"MAX(IF($A22='100m Manikin Tow Men'!$C$7:$C$46,'100m Manikin Tow Men'!$AA$7:$AA$46,0))","v":0},"",{"$f":"MAX(IF($A22='50m Manikin Tow Men'!$C$7:$C$46,'50m Manikin Tow Men'!$AA$7:$AA$46,0))","v":0},"",{"$f":"MAX(IF($A22='200m Obs Men'!$C$7:$C$46,'200m Obs Men'!$AA$7:$AA$46,0))","v":0},"",{"$f":"MAX(IF($A22='100m Obs Men'!$C$7:$C$46,'100m Obs Men'!$AA$7:$AA$46,0))","v":0},"",{"$f":"MAX(IF($A22='50m Obs Men'!$C$7:$C$46,'50m Obs Men'!$AA$7:$AA$46,0))","v":0},"",{"$f":"MAX(IF($A22='200m Super Men'!$C$7:$C$46,'200m Super Men'!$AA$7:$AA$46,0))","v":0},"",{"$f":"MAX(IF($A22='100m Super Men'!$C$7:$C$46,'100m Super Men'!$AA$7:$AA$46,0))","v":0},"",{"$f":"MAX(IF($A22='100 Resue Men'!$C$7:$C$46,'100 Resue Men'!$AA$7:$AA$46,0))","v":0},"",{"$f":"MAX(IF($A22='50m Rescue Men'!$C$7:$C$46,'50m Rescue Men'!$AA$7:$AA$46,0))","v":0},"",{"$f":"MAX(IF($A22='Line Throw Men'!$C$7:$C$46,'Line Throw Men'!$AC$7:$AC$46,0))","v":0},"",{"$f":"MAX(IF($A22='4 x 50 Obs Relay Men'!$C$7:$C$46,'4 x 50 Obs Relay Men'!$AF$7:$AF$46,0))","v":0},"",{"$f":"MAX(IF($A22='4 x 25 Obs Relay Men'!$C$7:$C$46,'4 x 25 Obs Relay Men'!$AF$7:$AF$46,0))","v":0},"",{"$f":"MAX(IF($A22='4 x 50 medley Relay Men'!$C$7:$C$46,'4 x 50 medley Relay Men'!$AF$7:$AF$46,0))","v":0},"",{"$f":"MAX(IF($A22='4 x 25  medley Relay Men'!$C$7:$C$46,'4 x 25  medley Relay Men'!$AF$7:$AF$46,0))","v":0},"",{"$f":"MAX(IF($A22='4 x 25 Manikin Carry Relay Men'!$C$7:$C$46,'4 x 25 Manikin Carry Relay Men'!$AF$7:$AF$46,0))","v":0},"",{"$f":"MAX(IF($A22='4 x 12.5m Manikin Relay Men'!$C$7:$C$46,'4 x 12.5m Manikin Relay Men'!$AF$7:$AF$46,0))","v":0},"",{"$f":"MAX(IF($A22='Line Throw Relay Men'!$C$7:$C$46,'Line Throw Relay Men'!$AF$7:$AF$46,0))","v":0},"",{"$f":"MAX(IF($A22='6x50m Obs Men'!$C$7:$C$46,'6x50m Obs Men'!$AA$7:$AA$46,0))","v":0},"",{"$f":"MAX(IF($A22='6x50m Free Men'!$C$7:$C$46,'6x50m Free Men'!$AA$7:$AA$46,0))","v":0},"",{"$f":"SUM(IF(C$4:AR$4=\"\",\"\",C22:AR22))","v":0},"",""]
[{"$f":"IF('Combined Overalls'!A22=\"\",\"\",'Combined Overalls'!A22)","v":""},{"$f":"IF('Combined Overalls'!B22=\"\",\"\",'Combined Overalls'!B22)","v":""},{"$f":"MAX(IF($A23='50m Manikin Carry Men'!$C$7:$C$46,'50m Manikin Carry Men'!$AA$7:$AA$46,0))","v":0},"",{"$f":"MAX(IF($A23='25m Manikin Carry Men'!$C$7:$C$46,'25m Manikin Carry Men'!$AA$7:$AA$46,0))","v":0},"",{"$f":"MAX(IF($A23='100m Manikin Carry Men'!$C$7:$C$46,'100m Manikin Carry Men'!$AA$7:$AA$46,0))","v":0},"",{"$f":"MAX(IF($A23='50m Manikin Carry Men Fin'!$C$7:$C$46,'50m Manikin Carry Men Fin'!$AA$7:$AA$46,0))","v":0},"",{"$f":"MAX(IF($A23='100m Manikin Tow Men'!$C$7:$C$46,'100m Manikin Tow Men'!$AA$7:$AA$46,0))","v":0},"",{"$f":"MAX(IF($A23='50m Manikin Tow Men'!$C$7:$C$46,'50m Manikin Tow Men'!$AA$7:$AA$46,0))","v":0},"",{"$f":"MAX(IF($A23='200m Obs Men'!$C$7:$C$46,'200m Obs Men'!$AA$7:$AA$46,0))","v":0},"",{"$f":"MAX(IF($A23='100m Obs Men'!$C$7:$C$46,'100m Obs Men'!$AA$7:$AA$46,0))","v":0},"",{"$f":"MAX(IF($A23='50m Obs Men'!$C$7:$C$46,'50m Obs Men'!$AA$7:$AA$46,0))","v":0},"",{"$f":"MAX(IF($A23='200m Super Men'!$C$7:$C$46,'200m Super Men'!$AA$7:$AA$46,0))","v":0},"",{"$f":"MAX(IF($A23='100m Super Men'!$C$7:$C$46,'100m Super Men'!$AA$7:$AA$46,0))","v":0},"",{"$f":"MAX(IF($A23='100 Resue Men'!$C$7:$C$46,'100 Resue Men'!$AA$7:$AA$46,0))","v":0},"",{"$f":"MAX(IF($A23='50m Rescue Men'!$C$7:$C$46,'50m Rescue Men'!$AA$7:$AA$46,0))","v":0},"",{"$f":"MAX(IF($A23='Line Throw Men'!$C$7:$C$46,'Line Throw Men'!$AC$7:$AC$46,0))","v":0},"",{"$f":"MAX(IF($A23='4 x 50 Obs Relay Men'!$C$7:$C$46,'4 x 50 Obs Relay Men'!$AF$7:$AF$46,0))","v":0},"",{"$f":"MAX(IF($A23='4 x 25 Obs Relay Men'!$C$7:$C$46,'4 x 25 Obs Relay Men'!$AF$7:$AF$46,0))","v":0},"",{"$f":"MAX(IF($A23='4 x 50 medley Relay Men'!$C$7:$C$46,'4 x 50 medley Relay Men'!$AF$7:$AF$46,0))","v":0},"",{"$f":"MAX(IF($A23='4 x 25  medley Relay Men'!$C$7:$C$46,'4 x 25  medley Relay Men'!$AF$7:$AF$46,0))","v":0},"",{"$f":"MAX(IF($A23='4 x 25 Manikin Carry Relay Men'!$C$7:$C$46,'4 x 25 Manikin Carry Relay Men'!$AF$7:$AF$46,0))","v":0},"",{"$f":"MAX(IF($A23='4 x 12.5m Manikin Relay Men'!$C$7:$C$46,'4 x 12.5m Manikin Relay Men'!$AF$7:$AF$46,0))","v":0},"",{"$f":"MAX(IF($A23='Line Throw Relay Men'!$C$7:$C$46,'Line Throw Relay Men'!$AF$7:$AF$46,0))","v":0},"",{"$f":"MAX(IF($A23='6x50m Obs Men'!$C$7:$C$46,'6x50m Obs Men'!$AA$7:$AA$46,0))","v":0},"",{"$f":"MAX(IF($A23='6x50m Free Men'!$C$7:$C$46,'6x50m Free Men'!$AA$7:$AA$46,0))","v":0},"",{"$f":"SUM(IF(C$4:AR$4=\"\",\"\",C23:AR23))","v":0},"",""]
[{"$f":"IF('Combined Overalls'!A23=\"\",\"\",'Combined Overalls'!A23)","v":""},{"$f":"IF('Combined Overalls'!B23=\"\",\"\",'Combined Overalls'!B23)","v":""},{"$f":"MAX(IF($A24='50m Manikin Carry Men'!$C$7:$C$46,'50m Manikin Carry Men'!$AA$7:$AA$46,0))","v":0},"",{"$f":"MAX(IF($A24='25m Manikin Carry Men'!$C$7:$C$46,'25m Manikin Carry Men'!$AA$7:$AA$46,0))","v":0},"",{"$f":"MAX(IF($A24='100m Manikin Carry Men'!$C$7:$C$46,'100m Manikin Carry Men'!$AA$7:$AA$46,0))","v":0},"",{"$f":"MAX(IF($A24='50m Manikin Carry Men Fin'!$C$7:$C$46,'50m Manikin Carry Men Fin'!$AA$7:$AA$46,0))","v":0},"",{"$f":"MAX(IF($A24='100m Manikin Tow Men'!$C$7:$C$46,'100m Manikin Tow Men'!$AA$7:$AA$46,0))","v":0},"",{"$f":"MAX(IF($A24='50m Manikin Tow Men'!$C$7:$C$46,'50m Manikin Tow Men'!$AA$7:$AA$46,0))","v":0},"",{"$f":"MAX(IF($A24='200m Obs Men'!$C$7:$C$46,'200m Obs Men'!$AA$7:$AA$46,0))","v":0},"",{"$f":"MAX(IF($A24='100m Obs Men'!$C$7:$C$46,'100m Obs Men'!$AA$7:$AA$46,0))","v":0},"",{"$f":"MAX(IF($A24='50m Obs Men'!$C$7:$C$46,'50m Obs Men'!$AA$7:$AA$46,0))","v":0},"",{"$f":"MAX(IF($A24='200m Super Men'!$C$7:$C$46,'200m Super Men'!$AA$7:$AA$46,0))","v":0},"",{"$f":"MAX(IF($A24='100m Super Men'!$C$7:$C$46,'100m Super Men'!$AA$7:$AA$46,0))","v":0},"",{"$f":"MAX(IF($A24='100 Resue Men'!$C$7:$C$46,'100 Resue Men'!$AA$7:$AA$46,0))","v":0},"",{"$f":"MAX(IF($A24='50m Rescue Men'!$C$7:$C$46,'50m Rescue Men'!$AA$7:$AA$46,0))","v":0},"",{"$f":"MAX(IF($A24='Line Throw Men'!$C$7:$C$46,'Line Throw Men'!$AC$7:$AC$46,0))","v":0},"",{"$f":"MAX(IF($A24='4 x 50 Obs Relay Men'!$C$7:$C$46,'4 x 50 Obs Relay Men'!$AF$7:$AF$46,0))","v":0},"",{"$f":"MAX(IF($A24='4 x 25 Obs Relay Men'!$C$7:$C$46,'4 x 25 Obs Relay Men'!$AF$7:$AF$46,0))","v":0},"",{"$f":"MAX(IF($A24='4 x 50 medley Relay Men'!$C$7:$C$46,'4 x 50 medley Relay Men'!$AF$7:$AF$46,0))","v":0},"",{"$f":"MAX(IF($A24='4 x 25  medley Relay Men'!$C$7:$C$46,'4 x 25  medley Relay Men'!$AF$7:$AF$46,0))","v":0},"",{"$f":"MAX(IF($A24='4 x 25 Manikin Carry Relay Men'!$C$7:$C$46,'4 x 25 Manikin Carry Relay Men'!$AF$7:$AF$46,0))","v":0},"",{"$f":"MAX(IF($A24='4 x 12.5m Manikin Relay Men'!$C$7:$C$46,'4 x 12.5m Manikin Relay Men'!$AF$7:$AF$46,0))","v":0},"",{"$f":"MAX(IF($A24='Line Throw Relay Men'!$C$7:$C$46,'Line Throw Relay Men'!$AF$7:$AF$46,0))","v":0},"",{"$f":"MAX(IF($A24='6x50m Obs Men'!$C$7:$C$46,'6x50m Obs Men'!$AA$7:$AA$46,0))","v":0},"",{"$f":"MAX(IF($A24='6x50m Free Men'!$C$7:$C$46,'6x50m Free Men'!$AA$7:$AA$46,0))","v":0},"",{"$f":"SUM(IF(C$4:AR$4=\"\",\"\",C24:AR24))","v":0},"",""]
[{"$f":"IF('Combined Overalls'!A24=\"\",\"\",'Combined Overalls'!A24)","v":""},{"$f":"IF('Combined Overalls'!B24=\"\",\"\",'Combined Overalls'!B24)","v":""},{"$f":"MAX(IF($A25='50m Manikin Carry Men'!$C$7:$C$46,'50m Manikin Carry Men'!$AA$7:$AA$46,0))","v":0},"",{"$f":"MAX(IF($A25='25m Manikin Carry Men'!$C$7:$C$46,'25m Manikin Carry Men'!$AA$7:$AA$46,0))","v":0},"",{"$f":"MAX(IF($A25='100m Manikin Carry Men'!$C$7:$C$46,'100m Manikin Carry Men'!$AA$7:$AA$46,0))","v":0},"",{"$f":"MAX(IF($A25='50m Manikin Carry Men Fin'!$C$7:$C$46,'50m Manikin Carry Men Fin'!$AA$7:$AA$46,0))","v":0},"",{"$f":"MAX(IF($A25='100m Manikin Tow Men'!$C$7:$C$46,'100m Manikin Tow Men'!$AA$7:$AA$46,0))","v":0},"",{"$f":"MAX(IF($A25='50m Manikin Tow Men'!$C$7:$C$46,'50m Manikin Tow Men'!$AA$7:$AA$46,0))","v":0},"",{"$f":"MAX(IF($A25='200m Obs Men'!$C$7:$C$46,'200m Obs Men'!$AA$7:$AA$46,0))","v":0},"",{"$f":"MAX(IF($A25='100m Obs Men'!$C$7:$C$46,'100m Obs Men'!$AA$7:$AA$46,0))","v":0},"",{"$f":"MAX(IF($A25='50m Obs Men'!$C$7:$C$46,'50m Obs Men'!$AA$7:$AA$46,0))","v":0},"",{"$f":"MAX(IF($A25='200m Super Men'!$C$7:$C$46,'200m Super Men'!$AA$7:$AA$46,0))","v":0},"",{"$f":"MAX(IF($A25='100m Super Men'!$C$7:$C$46,'100m Super Men'!$AA$7:$AA$46,0))","v":0},"",{"$f":"MAX(IF($A25='100 Resue Men'!$C$7:$C$46,'100 Resue Men'!$AA$7:$AA$46,0))","v":0},"",{"$f":"MAX(IF($A25='50m Rescue Men'!$C$7:$C$46,'50m Rescue Men'!$AA$7:$AA$46,0))","v":0},"",{"$f":"MAX(IF($A25='Line Throw Men'!$C$7:$C$46,'Line Throw Men'!$AC$7:$AC$46,0))","v":0},"",{"$f":"MAX(IF($A25='4 x 50 Obs Relay Men'!$C$7:$C$46,'4 x 50 Obs Relay Men'!$AF$7:$AF$46,0))","v":0},"",{"$f":"MAX(IF($A25='4 x 25 Obs Relay Men'!$C$7:$C$46,'4 x 25 Obs Relay Men'!$AF$7:$AF$46,0))","v":0},"",{"$f":"MAX(IF($A25='4 x 50 medley Relay Men'!$C$7:$C$46,'4 x 50 medley Relay Men'!$AF$7:$AF$46,0))","v":0},"",{"$f":"MAX(IF($A25='4 x 25  medley Relay Men'!$C$7:$C$46,'4 x 25  medley Relay Men'!$AF$7:$AF$46,0))","v":0},"",{"$f":"MAX(IF($A25='4 x 25 Manikin Carry Relay Men'!$C$7:$C$46,'4 x 25 Manikin Carry Relay Men'!$AF$7:$AF$46,0))","v":0},"",{"$f":"MAX(IF($A25='4 x 12.5m Manikin Relay Men'!$C$7:$C$46,'4 x 12.5m Manikin Relay Men'!$AF$7:$AF$46,0))","v":0},"",{"$f":"MAX(IF($A25='Line Throw Relay Men'!$C$7:$C$46,'Line Throw Relay Men'!$AF$7:$AF$46,0))","v":0},"",{"$f":"MAX(IF($A25='6x50m Obs Men'!$C$7:$C$46,'6x50m Obs Men'!$AA$7:$AA$46,0))","v":0},"",{"$f":"MAX(IF($A25='6x50m Free Men'!$C$7:$C$46,'6x50m Free Men'!$AA$7:$AA$46,0))","v":0},"",{"$f":"SUM(IF(C$4:AR$4=\"\",\"\",C25:AR25))","v":0},"",""]
[{"$f":"IF('Combined Overalls'!A25=\"\",\"\",'Combined Overalls'!A25)","v":""},{"$f":"IF('Combined Overalls'!B25=\"\",\"\",'Combined Overalls'!B25)","v":""},{"$f":"MAX(IF($A26='50m Manikin Carry Men'!$C$7:$C$46,'50m Manikin Carry Men'!$AA$7:$AA$46,0))","v":0},"",{"$f":"MAX(IF($A26='25m Manikin Carry Men'!$C$7:$C$46,'25m Manikin Carry Men'!$AA$7:$AA$46,0))","v":0},"",{"$f":"MAX(IF($A26='100m Manikin Carry Men'!$C$7:$C$46,'100m Manikin Carry Men'!$AA$7:$AA$46,0))","v":0},"",{"$f":"MAX(IF($A26='50m Manikin Carry Men Fin'!$C$7:$C$46,'50m Manikin Carry Men Fin'!$AA$7:$AA$46,0))","v":0},"",{"$f":"MAX(IF($A26='100m Manikin Tow Men'!$C$7:$C$46,'100m Manikin Tow Men'!$AA$7:$AA$46,0))","v":0},"",{"$f":"MAX(IF($A26='50m Manikin Tow Men'!$C$7:$C$46,'50m Manikin Tow Men'!$AA$7:$AA$46,0))","v":0},"",{"$f":"MAX(IF($A26='200m Obs Men'!$C$7:$C$46,'200m Obs Men'!$AA$7:$AA$46,0))","v":0},"",{"$f":"MAX(IF($A26='100m Obs Men'!$C$7:$C$46,'100m Obs Men'!$AA$7:$AA$46,0))","v":0},"",{"$f":"MAX(IF($A26='50m Obs Men'!$C$7:$C$46,'50m Obs Men'!$AA$7:$AA$46,0))","v":0},"",{"$f":"MAX(IF($A26='200m Super Men'!$C$7:$C$46,'200m Super Men'!$AA$7:$AA$46,0))","v":0},"",{"$f":"MAX(IF($A26='100m Super Men'!$C$7:$C$46,'100m Super Men'!$AA$7:$AA$46,0))","v":0},"",{"$f":"MAX(IF($A26='100 Resue Men'!$C$7:$C$46,'100 Resue Men'!$AA$7:$AA$46,0))","v":0},"",{"$f":"MAX(IF($A26='50m Rescue Men'!$C$7:$C$46,'50m Rescue Men'!$AA$7:$AA$46,0))","v":0},"",{"$f":"MAX(IF($A26='Line Throw Men'!$C$7:$C$46,'Line Throw Men'!$AC$7:$AC$46,0))","v":0},"",{"$f":"MAX(IF($A26='4 x 50 Obs Relay Men'!$C$7:$C$46,'4 x 50 Obs Relay Men'!$AF$7:$AF$46,0))","v":0},"",{"$f":"MAX(IF($A26='4 x 25 Obs Relay Men'!$C$7:$C$46,'4 x 25 Obs Relay Men'!$AF$7:$AF$46,0))","v":0},"",{"$f":"MAX(IF($A26='4 x 50 medley Relay Men'!$C$7:$C$46,'4 x 50 medley Relay Men'!$AF$7:$AF$46,0))","v":0},"",{"$f":"MAX(IF($A26='4 x 25  medley Relay Men'!$C$7:$C$46,'4 x 25  medley Relay Men'!$AF$7:$AF$46,0))","v":0},"",{"$f":"MAX(IF($A26='4 x 25 Manikin Carry Relay Men'!$C$7:$C$46,'4 x 25 Manikin Carry Relay Men'!$AF$7:$AF$46,0))","v":0},"",{"$f":"MAX(IF($A26='4 x 12.5m Manikin Relay Men'!$C$7:$C$46,'4 x 12.5m Manikin Relay Men'!$AF$7:$AF$46,0))","v":0},"",{"$f":"MAX(IF($A26='Line Throw Relay Men'!$C$7:$C$46,'Line Throw Relay Men'!$AF$7:$AF$46,0))","v":0},"",{"$f":"MAX(IF($A26='6x50m Obs Men'!$C$7:$C$46,'6x50m Obs Men'!$AA$7:$AA$46,0))","v":0},"",{"$f":"MAX(IF($A26='6x50m Free Men'!$C$7:$C$46,'6x50m Free Men'!$AA$7:$AA$46,0))","v":0},"",{"$f":"SUM(IF(C$4:AR$4=\"\",\"\",C26:AR26))","v":0},"",""]
[{"$f":"IF('Combined Overalls'!A26=\"\",\"\",'Combined Overalls'!A26)","v":""},{"$f":"IF('Combined Overalls'!B26=\"\",\"\",'Combined Overalls'!B26)","v":""},{"$f":"MAX(IF($A27='50m Manikin Carry Men'!$C$7:$C$46,'50m Manikin Carry Men'!$AA$7:$AA$46,0))","v":0},"",{"$f":"MAX(IF($A27='25m Manikin Carry Men'!$C$7:$C$46,'25m Manikin Carry Men'!$AA$7:$AA$46,0))","v":0},"",{"$f":"MAX(IF($A27='100m Manikin Carry Men'!$C$7:$C$46,'100m Manikin Carry Men'!$AA$7:$AA$46,0))","v":0},"",{"$f":"MAX(IF($A27='50m Manikin Carry Men Fin'!$C$7:$C$46,'50m Manikin Carry Men Fin'!$AA$7:$AA$46,0))","v":0},"",{"$f":"MAX(IF($A27='100m Manikin Tow Men'!$C$7:$C$46,'100m Manikin Tow Men'!$AA$7:$AA$46,0))","v":0},"",{"$f":"MAX(IF($A27='50m Manikin Tow Men'!$C$7:$C$46,'50m Manikin Tow Men'!$AA$7:$AA$46,0))","v":0},"",{"$f":"MAX(IF($A27='200m Obs Men'!$C$7:$C$46,'200m Obs Men'!$AA$7:$AA$46,0))","v":0},"",{"$f":"MAX(IF($A27='100m Obs Men'!$C$7:$C$46,'100m Obs Men'!$AA$7:$AA$46,0))","v":0},"",{"$f":"MAX(IF($A27='50m Obs Men'!$C$7:$C$46,'50m Obs Men'!$AA$7:$AA$46,0))","v":0},"",{"$f":"MAX(IF($A27='200m Super Men'!$C$7:$C$46,'200m Super Men'!$AA$7:$AA$46,0))","v":0},"",{"$f":"MAX(IF($A27='100m Super Men'!$C$7:$C$46,'100m Super Men'!$AA$7:$AA$46,0))","v":0},"",{"$f":"MAX(IF($A27='100 Resue Men'!$C$7:$C$46,'100 Resue Men'!$AA$7:$AA$46,0))","v":0},"",{"$f":"MAX(IF($A27='50m Rescue Men'!$C$7:$C$46,'50m Rescue Men'!$AA$7:$AA$46,0))","v":0},"",{"$f":"MAX(IF($A27='Line Throw Men'!$C$7:$C$46,'Line Throw Men'!$AC$7:$AC$46,0))","v":0},"",{"$f":"MAX(IF($A27='4 x 50 Obs Relay Men'!$C$7:$C$46,'4 x 50 Obs Relay Men'!$AF$7:$AF$46,0))","v":0},"",{"$f":"MAX(IF($A27='4 x 25 Obs Relay Men'!$C$7:$C$46,'4 x 25 Obs Relay Men'!$AF$7:$AF$46,0))","v":0},"",{"$f":"MAX(IF($A27='4 x 50 medley Relay Men'!$C$7:$C$46,'4 x 50 medley Relay Men'!$AF$7:$AF$46,0))","v":0},"",{"$f":"MAX(IF($A27='4 x 25  medley Relay Men'!$C$7:$C$46,'4 x 25  medley Relay Men'!$AF$7:$AF$46,0))","v":0},"",{"$f":"MAX(IF($A27='4 x 25 Manikin Carry Relay Men'!$C$7:$C$46,'4 x 25 Manikin Carry Relay Men'!$AF$7:$AF$46,0))","v":0},"",{"$f":"MAX(IF($A27='4 x 12.5m Manikin Relay Men'!$C$7:$C$46,'4 x 12.5m Manikin Relay Men'!$AF$7:$AF$46,0))","v":0},"",{"$f":"MAX(IF($A27='Line Throw Relay Men'!$C$7:$C$46,'Line Throw Relay Men'!$AF$7:$AF$46,0))","v":0},"",{"$f":"MAX(IF($A27='6x50m Obs Men'!$C$7:$C$46,'6x50m Obs Men'!$AA$7:$AA$46,0))","v":0},"",{"$f":"MAX(IF($A27='6x50m Free Men'!$C$7:$C$46,'6x50m Free Men'!$AA$7:$AA$46,0))","v":0},"",{"$f":"SUM(IF(C$4:AR$4=\"\",\"\",C27:AR27))","v":0},"",""]
[{"$f":"IF('Combined Overalls'!A27=\"\",\"\",'Combined Overalls'!A27)","v":""},{"$f":"IF('Combined Overalls'!B27=\"\",\"\",'Combined Overalls'!B27)","v":""},{"$f":"MAX(IF($A28='50m Manikin Carry Men'!$C$7:$C$46,'50m Manikin Carry Men'!$AA$7:$AA$46,0))","v":0},"",{"$f":"MAX(IF($A28='25m Manikin Carry Men'!$C$7:$C$46,'25m Manikin Carry Men'!$AA$7:$AA$46,0))","v":0},"",{"$f":"MAX(IF($A28='100m Manikin Carry Men'!$C$7:$C$46,'100m Manikin Carry Men'!$AA$7:$AA$46,0))","v":0},"",{"$f":"MAX(IF($A28='50m Manikin Carry Men Fin'!$C$7:$C$46,'50m Manikin Carry Men Fin'!$AA$7:$AA$46,0))","v":0},"",{"$f":"MAX(IF($A28='100m Manikin Tow Men'!$C$7:$C$46,'100m Manikin Tow Men'!$AA$7:$AA$46,0))","v":0},"",{"$f":"MAX(IF($A28='50m Manikin Tow Men'!$C$7:$C$46,'50m Manikin Tow Men'!$AA$7:$AA$46,0))","v":0},"",{"$f":"MAX(IF($A28='200m Obs Men'!$C$7:$C$46,'200m Obs Men'!$AA$7:$AA$46,0))","v":0},"",{"$f":"MAX(IF($A28='100m Obs Men'!$C$7:$C$46,'100m Obs Men'!$AA$7:$AA$46,0))","v":0},"",{"$f":"MAX(IF($A28='50m Obs Men'!$C$7:$C$46,'50m Obs Men'!$AA$7:$AA$46,0))","v":0},"",{"$f":"MAX(IF($A28='200m Super Men'!$C$7:$C$46,'200m Super Men'!$AA$7:$AA$46,0))","v":0},"",{"$f":"MAX(IF($A28='100m Super Men'!$C$7:$C$46,'100m Super Men'!$AA$7:$AA$46,0))","v":0},"",{"$f":"MAX(IF($A28='100 Resue Men'!$C$7:$C$46,'100 Resue Men'!$AA$7:$AA$46,0))","v":0},"",{"$f":"MAX(IF($A28='50m Rescue Men'!$C$7:$C$46,'50m Rescue Men'!$AA$7:$AA$46,0))","v":0},"",{"$f":"MAX(IF($A28='Line Throw Men'!$C$7:$C$46,'Line Throw Men'!$AC$7:$AC$46,0))","v":0},"",{"$f":"MAX(IF($A28='4 x 50 Obs Relay Men'!$C$7:$C$46,'4 x 50 Obs Relay Men'!$AF$7:$AF$46,0))","v":0},"",{"$f":"MAX(IF($A28='4 x 25 Obs Relay Men'!$C$7:$C$46,'4 x 25 Obs Relay Men'!$AF$7:$AF$46,0))","v":0},"",{"$f":"MAX(IF($A28='4 x 50 medley Relay Men'!$C$7:$C$46,'4 x 50 medley Relay Men'!$AF$7:$AF$46,0))","v":0},"",{"$f":"MAX(IF($A28='4 x 25  medley Relay Men'!$C$7:$C$46,'4 x 25  medley Relay Men'!$AF$7:$AF$46,0))","v":0},"",{"$f":"MAX(IF($A28='4 x 25 Manikin Carry Relay Men'!$C$7:$C$46,'4 x 25 Manikin Carry Relay Men'!$AF$7:$AF$46,0))","v":0},"",{"$f":"MAX(IF($A28='4 x 12.5m Manikin Relay Men'!$C$7:$C$46,'4 x 12.5m Manikin Relay Men'!$AF$7:$AF$46,0))","v":0},"",{"$f":"MAX(IF($A28='Line Throw Relay Men'!$C$7:$C$46,'Line Throw Relay Men'!$AF$7:$AF$46,0))","v":0},"",{"$f":"MAX(IF($A28='6x50m Obs Men'!$C$7:$C$46,'6x50m Obs Men'!$AA$7:$AA$46,0))","v":0},"",{"$f":"MAX(IF($A28='6x50m Free Men'!$C$7:$C$46,'6x50m Free Men'!$AA$7:$AA$46,0))","v":0},"",{"$f":"SUM(IF(C$4:AR$4=\"\",\"\",C28:AR28))","v":0},"",""]
[{"$f":"IF('Combined Overalls'!A28=\"\",\"\",'Combined Overalls'!A28)","v":""},{"$f":"IF('Combined Overalls'!B28=\"\",\"\",'Combined Overalls'!B28)","v":""},{"$f":"MAX(IF($A29='50m Manikin Carry Men'!$C$7:$C$46,'50m Manikin Carry Men'!$AA$7:$AA$46,0))","v":0},"",{"$f":"MAX(IF($A29='25m Manikin Carry Men'!$C$7:$C$46,'25m Manikin Carry Men'!$AA$7:$AA$46,0))","v":0},"",{"$f":"MAX(IF($A29='100m Manikin Carry Men'!$C$7:$C$46,'100m Manikin Carry Men'!$AA$7:$AA$46,0))","v":0},"",{"$f":"MAX(IF($A29='50m Manikin Carry Men Fin'!$C$7:$C$46,'50m Manikin Carry Men Fin'!$AA$7:$AA$46,0))","v":0},"",{"$f":"MAX(IF($A29='100m Manikin Tow Men'!$C$7:$C$46,'100m Manikin Tow Men'!$AA$7:$AA$46,0))","v":0},"",{"$f":"MAX(IF($A29='50m Manikin Tow Men'!$C$7:$C$46,'50m Manikin Tow Men'!$AA$7:$AA$46,0))","v":0},"",{"$f":"MAX(IF($A29='200m Obs Men'!$C$7:$C$46,'200m Obs Men'!$AA$7:$AA$46,0))","v":0},"",{"$f":"MAX(IF($A29='100m Obs Men'!$C$7:$C$46,'100m Obs Men'!$AA$7:$AA$46,0))","v":0},"",{"$f":"MAX(IF($A29='50m Obs Men'!$C$7:$C$46,'50m Obs Men'!$AA$7:$AA$46,0))","v":0},"",{"$f":"MAX(IF($A29='200m Super Men'!$C$7:$C$46,'200m Super Men'!$AA$7:$AA$46,0))","v":0},"",{"$f":"MAX(IF($A29='100m Super Men'!$C$7:$C$46,'100m Super Men'!$AA$7:$AA$46,0))","v":0},"",{"$f":"MAX(IF($A29='100 Resue Men'!$C$7:$C$46,'100 Resue Men'!$AA$7:$AA$46,0))","v":0},"",{"$f":"MAX(IF($A29='50m Rescue Men'!$C$7:$C$46,'50m Rescue Men'!$AA$7:$AA$46,0))","v":0},"",{"$f":"MAX(IF($A29='Line Throw Men'!$C$7:$C$46,'Line Throw Men'!$AC$7:$AC$46,0))","v":0},"",{"$f":"MAX(IF($A29='4 x 50 Obs Relay Men'!$C$7:$C$46,'4 x 50 Obs Relay Men'!$AF$7:$AF$46,0))","v":0},"",{"$f":"MAX(IF($A29='4 x 25 Obs Relay Men'!$C$7:$C$46,'4 x 25 Obs Relay Men'!$AF$7:$AF$46,0))","v":0},"",{"$f":"MAX(IF($A29='4 x 50 medley Relay Men'!$C$7:$C$46,'4 x 50 medley Relay Men'!$AF$7:$AF$46,0))","v":0},"",{"$f":"MAX(IF($A29='4 x 25  medley Relay Men'!$C$7:$C$46,'4 x 25  medley Relay Men'!$AF$7:$AF$46,0))","v":0},"",{"$f":"MAX(IF($A29='4 x 25 Manikin Carry Relay Men'!$C$7:$C$46,'4 x 25 Manikin Carry Relay Men'!$AF$7:$AF$46,0))","v":0},"",{"$f":"MAX(IF($A29='4 x 12.5m Manikin Relay Men'!$C$7:$C$46,'4 x 12.5m Manikin Relay Men'!$AF$7:$AF$46,0))","v":0},"",{"$f":"MAX(IF($A29='Line Throw Relay Men'!$C$7:$C$46,'Line Throw Relay Men'!$AF$7:$AF$46,0))","v":0},"",{"$f":"MAX(IF($A29='6x50m Obs Men'!$C$7:$C$46,'6x50m Obs Men'!$AA$7:$AA$46,0))","v":0},"",{"$f":"MAX(IF($A29='6x50m Free Men'!$C$7:$C$46,'6x50m Free Men'!$AA$7:$AA$46,0))","v":0},"",{"$f":"SUM(IF(C$4:AR$4=\"\",\"\",C29:AR29))","v":0},"",""]
[{"$f":"IF('Combined Overalls'!A29=\"\",\"\",'Combined Overalls'!A29)","v":""},{"$f":"IF('Combined Overalls'!B29=\"\",\"\",'Combined Overalls'!B29)","v":""},{"$f":"MAX(IF($A30='50m Manikin Carry Men'!$C$7:$C$46,'50m Manikin Carry Men'!$AA$7:$AA$46,0))","v":0},"",{"$f":"MAX(IF($A30='25m Manikin Carry Men'!$C$7:$C$46,'25m Manikin Carry Men'!$AA$7:$AA$46,0))","v":0},"",{"$f":"MAX(IF($A30='100m Manikin Carry Men'!$C$7:$C$46,'100m Manikin Carry Men'!$AA$7:$AA$46,0))","v":0},"",{"$f":"MAX(IF($A30='50m Manikin Carry Men Fin'!$C$7:$C$46,'50m Manikin Carry Men Fin'!$AA$7:$AA$46,0))","v":0},"",{"$f":"MAX(IF($A30='100m Manikin Tow Men'!$C$7:$C$46,'100m Manikin Tow Men'!$AA$7:$AA$46,0))","v":0},"",{"$f":"MAX(IF($A30='50m Manikin Tow Men'!$C$7:$C$46,'50m Manikin Tow Men'!$AA$7:$AA$46,0))","v":0},"",{"$f":"MAX(IF($A30='200m Obs Men'!$C$7:$C$46,'200m Obs Men'!$AA$7:$AA$46,0))","v":0},"",{"$f":"MAX(IF($A30='100m Obs Men'!$C$7:$C$46,'100m Obs Men'!$AA$7:$AA$46,0))","v":0},"",{"$f":"MAX(IF($A30='50m Obs Men'!$C$7:$C$46,'50m Obs Men'!$AA$7:$AA$46,0))","v":0},"",{"$f":"MAX(IF($A30='200m Super Men'!$C$7:$C$46,'200m Super Men'!$AA$7:$AA$46,0))","v":0},"",{"$f":"MAX(IF($A30='100m Super Men'!$C$7:$C$46,'100m Super Men'!$AA$7:$AA$46,0))","v":0},"",{"$f":"MAX(IF($A30='100 Resue Men'!$C$7:$C$46,'100 Resue Men'!$AA$7:$AA$46,0))","v":0},"",{"$f":"MAX(IF($A30='50m Rescue Men'!$C$7:$C$46,'50m Rescue Men'!$AA$7:$AA$46,0))","v":0},"",{"$f":"MAX(IF($A30='Line Throw Men'!$C$7:$C$46,'Line Throw Men'!$AC$7:$AC$46,0))","v":0},"",{"$f":"MAX(IF($A30='4 x 50 Obs Relay Men'!$C$7:$C$46,'4 x 50 Obs Relay Men'!$AF$7:$AF$46,0))","v":0},"",{"$f":"MAX(IF($A30='4 x 25 Obs Relay Men'!$C$7:$C$46,'4 x 25 Obs Relay Men'!$AF$7:$AF$46,0))","v":0},"",{"$f":"MAX(IF($A30='4 x 50 medley Relay Men'!$C$7:$C$46,'4 x 50 medley Relay Men'!$AF$7:$AF$46,0))","v":0},"",{"$f":"MAX(IF($A30='4 x 25  medley Relay Men'!$C$7:$C$46,'4 x 25  medley Relay Men'!$AF$7:$AF$46,0))","v":0},"",{"$f":"MAX(IF($A30='4 x 25 Manikin Carry Relay Men'!$C$7:$C$46,'4 x 25 Manikin Carry Relay Men'!$AF$7:$AF$46,0))","v":0},"",{"$f":"MAX(IF($A30='4 x 12.5m Manikin Relay Men'!$C$7:$C$46,'4 x 12.5m Manikin Relay Men'!$AF$7:$AF$46,0))","v":0},"",{"$f":"MAX(IF($A30='Line Throw Relay Men'!$C$7:$C$46,'Line Throw Relay Men'!$AF$7:$AF$46,0))","v":0},"",{"$f":"MAX(IF($A30='6x50m Obs Men'!$C$7:$C$46,'6x50m Obs Men'!$AA$7:$AA$46,0))","v":0},"",{"$f":"MAX(IF($A30='6x50m Free Men'!$C$7:$C$46,'6x50m Free Men'!$AA$7:$AA$46,0))","v":0},"",{"$f":"SUM(IF(C$4:AR$4=\"\",\"\",C30:AR30))","v":0},"",""]
[{"$f":"IF('Combined Overalls'!A30=\"\",\"\",'Combined Overalls'!A30)","v":""},{"$f":"IF('Combined Overalls'!B30=\"\",\"\",'Combined Overalls'!B30)","v":""},{"$f":"MAX(IF($A31='50m Manikin Carry Men'!$C$7:$C$46,'50m Manikin Carry Men'!$AA$7:$AA$46,0))","v":0},"",{"$f":"MAX(IF($A31='25m Manikin Carry Men'!$C$7:$C$46,'25m Manikin Carry Men'!$AA$7:$AA$46,0))","v":0},"",{"$f":"MAX(IF($A31='100m Manikin Carry Men'!$C$7:$C$46,'100m Manikin Carry Men'!$AA$7:$AA$46,0))","v":0},"",{"$f":"MAX(IF($A31='50m Manikin Carry Men Fin'!$C$7:$C$46,'50m Manikin Carry Men Fin'!$AA$7:$AA$46,0))","v":0},"",{"$f":"MAX(IF($A31='100m Manikin Tow Men'!$C$7:$C$46,'100m Manikin Tow Men'!$AA$7:$AA$46,0))","v":0},"",{"$f":"MAX(IF($A31='50m Manikin Tow Men'!$C$7:$C$46,'50m Manikin Tow Men'!$AA$7:$AA$46,0))","v":0},"",{"$f":"MAX(IF($A31='200m Obs Men'!$C$7:$C$46,'200m Obs Men'!$AA$7:$AA$46,0))","v":0},"",{"$f":"MAX(IF($A31='100m Obs Men'!$C$7:$C$46,'100m Obs Men'!$AA$7:$AA$46,0))","v":0},"",{"$f":"MAX(IF($A31='50m Obs Men'!$C$7:$C$46,'50m Obs Men'!$AA$7:$AA$46,0))","v":0},"",{"$f":"MAX(IF($A31='200m Super Men'!$C$7:$C$46,'200m Super Men'!$AA$7:$AA$46,0))","v":0},"",{"$f":"MAX(IF($A31='100m Super Men'!$C$7:$C$46,'100m Super Men'!$AA$7:$AA$46,0))","v":0},"",{"$f":"MAX(IF($A31='100 Resue Men'!$C$7:$C$46,'100 Resue Men'!$AA$7:$AA$46,0))","v":0},"",{"$f":"MAX(IF($A31='50m Rescue Men'!$C$7:$C$46,'50m Rescue Men'!$AA$7:$AA$46,0))","v":0},"",{"$f":"MAX(IF($A31='Line Throw Men'!$C$7:$C$46,'Line Throw Men'!$AC$7:$AC$46,0))","v":0},"",{"$f":"MAX(IF($A31='4 x 50 Obs Relay Men'!$C$7:$C$46,'4 x 50 Obs Relay Men'!$AF$7:$AF$46,0))","v":0},"",{"$f":"MAX(IF($A31='4 x 25 Obs Relay Men'!$C$7:$C$46,'4 x 25 Obs Relay Men'!$AF$7:$AF$46,0))","v":0},"",{"$f":"MAX(IF($A31='4 x 50 medley Relay Men'!$C$7:$C$46,'4 x 50 medley Relay Men'!$AF$7:$AF$46,0))","v":0},"",{"$f":"MAX(IF($A31='4 x 25  medley Relay Men'!$C$7:$C$46,'4 x 25  medley Relay Men'!$AF$7:$AF$46,0))","v":0},"",{"$f":"MAX(IF($A31='4 x 25 Manikin Carry Relay Men'!$C$7:$C$46,'4 x 25 Manikin Carry Relay Men'!$AF$7:$AF$46,0))","v":0},"",{"$f":"MAX(IF($A31='4 x 12.5m Manikin Relay Men'!$C$7:$C$46,'4 x 12.5m Manikin Relay Men'!$AF$7:$AF$46,0))","v":0},"",{"$f":"MAX(IF($A31='Line Throw Relay Men'!$C$7:$C$46,'Line Throw Relay Men'!$AF$7:$AF$46,0))","v":0},"",{"$f":"MAX(IF($A31='6x50m Obs Men'!$C$7:$C$46,'6x50m Obs Men'!$AA$7:$AA$46,0))","v":0},"",{"$f":"MAX(IF($A31='6x50m Free Men'!$C$7:$C$46,'6x50m Free Men'!$AA$7:$AA$46,0))","v":0},"",{"$f":"SUM(IF(C$4:AR$4=\"\",\"\",C31:AR31))","v":0},"",""]
[{"$f":"IF('Combined Overalls'!A31=\"\",\"\",'Combined Overalls'!A31)","v":""},{"$f":"IF('Combined Overalls'!B31=\"\",\"\",'Combined Overalls'!B31)","v":""},{"$f":"MAX(IF($A32='50m Manikin Carry Men'!$C$7:$C$46,'50m Manikin Carry Men'!$AA$7:$AA$46,0))","v":0},"",{"$f":"MAX(IF($A32='25m Manikin Carry Men'!$C$7:$C$46,'25m Manikin Carry Men'!$AA$7:$AA$46,0))","v":0},"",{"$f":"MAX(IF($A32='100m Manikin Carry Men'!$C$7:$C$46,'100m Manikin Carry Men'!$AA$7:$AA$46,0))","v":0},"",{"$f":"MAX(IF($A32='50m Manikin Carry Men Fin'!$C$7:$C$46,'50m Manikin Carry Men Fin'!$AA$7:$AA$46,0))","v":0},"",{"$f":"MAX(IF($A32='100m Manikin Tow Men'!$C$7:$C$46,'100m Manikin Tow Men'!$AA$7:$AA$46,0))","v":0},"",{"$f":"MAX(IF($A32='50m Manikin Tow Men'!$C$7:$C$46,'50m Manikin Tow Men'!$AA$7:$AA$46,0))","v":0},"",{"$f":"MAX(IF($A32='200m Obs Men'!$C$7:$C$46,'200m Obs Men'!$AA$7:$AA$46,0))","v":0},"",{"$f":"MAX(IF($A32='100m Obs Men'!$C$7:$C$46,'100m Obs Men'!$AA$7:$AA$46,0))","v":0},"",{"$f":"MAX(IF($A32='50m Obs Men'!$C$7:$C$46,'50m Obs Men'!$AA$7:$AA$46,0))","v":0},"",{"$f":"MAX(IF($A32='200m Super Men'!$C$7:$C$46,'200m Super Men'!$AA$7:$AA$46,0))","v":0},"",{"$f":"MAX(IF($A32='100m Super Men'!$C$7:$C$46,'100m Super Men'!$AA$7:$AA$46,0))","v":0},"",{"$f":"MAX(IF($A32='100 Resue Men'!$C$7:$C$46,'100 Resue Men'!$AA$7:$AA$46,0))","v":0},"",{"$f":"MAX(IF($A32='50m Rescue Men'!$C$7:$C$46,'50m Rescue Men'!$AA$7:$AA$46,0))","v":0},"",{"$f":"MAX(IF($A32='Line Throw Men'!$C$7:$C$46,'Line Throw Men'!$AC$7:$AC$46,0))","v":0},"",{"$f":"MAX(IF($A32='4 x 50 Obs Relay Men'!$C$7:$C$46,'4 x 50 Obs Relay Men'!$AF$7:$AF$46,0))","v":0},"",{"$f":"MAX(IF($A32='4 x 25 Obs Relay Men'!$C$7:$C$46,'4 x 25 Obs Relay Men'!$AF$7:$AF$46,0))","v":0},"",{"$f":"MAX(IF($A32='4 x 50 medley Relay Men'!$C$7:$C$46,'4 x 50 medley Relay Men'!$AF$7:$AF$46,0))","v":0},"",{"$f":"MAX(IF($A32='4 x 25  medley Relay Men'!$C$7:$C$46,'4 x 25  medley Relay Men'!$AF$7:$AF$46,0))","v":0},"",{"$f":"MAX(IF($A32='4 x 25 Manikin Carry Relay Men'!$C$7:$C$46,'4 x 25 Manikin Carry Relay Men'!$AF$7:$AF$46,0))","v":0},"",{"$f":"MAX(IF($A32='4 x 12.5m Manikin Relay Men'!$C$7:$C$46,'4 x 12.5m Manikin Relay Men'!$AF$7:$AF$46,0))","v":0},"",{"$f":"MAX(IF($A32='Line Throw Relay Men'!$C$7:$C$46,'Line Throw Relay Men'!$AF$7:$AF$46,0))","v":0},"",{"$f":"MAX(IF($A32='6x50m Obs Men'!$C$7:$C$46,'6x50m Obs Men'!$AA$7:$AA$46,0))","v":0},"",{"$f":"MAX(IF($A32='6x50m Free Men'!$C$7:$C$46,'6x50m Free Men'!$AA$7:$AA$46,0))","v":0},"",{"$f":"SUM(IF(C$4:AR$4=\"\",\"\",C32:AR32))","v":0},"",""]
[{"$f":"IF('Combined Overalls'!A32=\"\",\"\",'Combined Overalls'!A32)","v":""},{"$f":"IF('Combined Overalls'!B32=\"\",\"\",'Combined Overalls'!B32)","v":""},{"$f":"MAX(IF($A33='50m Manikin Carry Men'!$C$7:$C$46,'50m Manikin Carry Men'!$AA$7:$AA$46,0))","v":0},"",{"$f":"MAX(IF($A33='25m Manikin Carry Men'!$C$7:$C$46,'25m Manikin Carry Men'!$AA$7:$AA$46,0))","v":0},"",{"$f":"MAX(IF($A33='100m Manikin Carry Men'!$C$7:$C$46,'100m Manikin Carry Men'!$AA$7:$AA$46,0))","v":0},"",{"$f":"MAX(IF($A33='50m Manikin Carry Men Fin'!$C$7:$C$46,'50m Manikin Carry Men Fin'!$AA$7:$AA$46,0))","v":0},"",{"$f":"MAX(IF($A33='100m Manikin Tow Men'!$C$7:$C$46,'100m Manikin Tow Men'!$AA$7:$AA$46,0))","v":0},"",{"$f":"MAX(IF($A33='50m Manikin Tow Men'!$C$7:$C$46,'50m Manikin Tow Men'!$AA$7:$AA$46,0))","v":0},"",{"$f":"MAX(IF($A33='200m Obs Men'!$C$7:$C$46,'200m Obs Men'!$AA$7:$AA$46,0))","v":0},"",{"$f":"MAX(IF($A33='100m Obs Men'!$C$7:$C$46,'100m Obs Men'!$AA$7:$AA$46,0))","v":0},"",{"$f":"MAX(IF($A33='50m Obs Men'!$C$7:$C$46,'50m Obs Men'!$AA$7:$AA$46,0))","v":0},"",{"$f":"MAX(IF($A33='200m Super Men'!$C$7:$C$46,'200m Super Men'!$AA$7:$AA$46,0))","v":0},"",{"$f":"MAX(IF($A33='100m Super Men'!$C$7:$C$46,'100m Super Men'!$AA$7:$AA$46,0))","v":0},"",{"$f":"MAX(IF($A33='100 Resue Men'!$C$7:$C$46,'100 Resue Men'!$AA$7:$AA$46,0))","v":0},"",{"$f":"MAX(IF($A33='50m Rescue Men'!$C$7:$C$46,'50m Rescue Men'!$AA$7:$AA$46,0))","v":0},"",{"$f":"MAX(IF($A33='Line Throw Men'!$C$7:$C$46,'Line Throw Men'!$AC$7:$AC$46,0))","v":0},"",{"$f":"MAX(IF($A33='4 x 50 Obs Relay Men'!$C$7:$C$46,'4 x 50 Obs Relay Men'!$AF$7:$AF$46,0))","v":0},"",{"$f":"MAX(IF($A33='4 x 25 Obs Relay Men'!$C$7:$C$46,'4 x 25 Obs Relay Men'!$AF$7:$AF$46,0))","v":0},"",{"$f":"MAX(IF($A33='4 x 50 medley Relay Men'!$C$7:$C$46,'4 x 50 medley Relay Men'!$AF$7:$AF$46,0))","v":0},"",{"$f":"MAX(IF($A33='4 x 25  medley Relay Men'!$C$7:$C$46,'4 x 25  medley Relay Men'!$AF$7:$AF$46,0))","v":0},"",{"$f":"MAX(IF($A33='4 x 25 Manikin Carry Relay Men'!$C$7:$C$46,'4 x 25 Manikin Carry Relay Men'!$AF$7:$AF$46,0))","v":0},"",{"$f":"MAX(IF($A33='4 x 12.5m Manikin Relay Men'!$C$7:$C$46,'4 x 12.5m Manikin Relay Men'!$AF$7:$AF$46,0))","v":0},"",{"$f":"MAX(IF($A33='Line Throw Relay Men'!$C$7:$C$46,'Line Throw Relay Men'!$AF$7:$AF$46,0))","v":0},"",{"$f":"MAX(IF($A33='6x50m Obs Men'!$C$7:$C$46,'6x50m Obs Men'!$AA$7:$AA$46,0))","v":0},"",{"$f":"MAX(IF($A33='6x50m Free Men'!$C$7:$C$46,'6x50m Free Men'!$AA$7:$AA$46,0))","v":0},"",{"$f":"SUM(IF(C$4:AR$4=\"\",\"\",C33:AR33))","v":0},"",""]
[{"$f":"IF('Combined Overalls'!A33=\"\",\"\",'Combined Overalls'!A33)","v":""},{"$f":"IF('Combined Overalls'!B33=\"\",\"\",'Combined Overalls'!B33)","v":""},{"$f":"MAX(IF($A34='50m Manikin Carry Men'!$C$7:$C$46,'50m Manikin Carry Men'!$AA$7:$AA$46,0))","v":0},"",{"$f":"MAX(IF($A34='25m Manikin Carry Men'!$C$7:$C$46,'25m Manikin Carry Men'!$AA$7:$AA$46,0))","v":0},"",{"$f":"MAX(IF($A34='100m Manikin Carry Men'!$C$7:$C$46,'100m Manikin Carry Men'!$AA$7:$AA$46,0))","v":0},"",{"$f":"MAX(IF($A34='50m Manikin Carry Men Fin'!$C$7:$C$46,'50m Manikin Carry Men Fin'!$AA$7:$AA$46,0))","v":0},"",{"$f":"MAX(IF($A34='100m Manikin Tow Men'!$C$7:$C$46,'100m Manikin Tow Men'!$AA$7:$AA$46,0))","v":0},"",{"$f":"MAX(IF($A34='50m Manikin Tow Men'!$C$7:$C$46,'50m Manikin Tow Men'!$AA$7:$AA$46,0))","v":0},"",{"$f":"MAX(IF($A34='200m Obs Men'!$C$7:$C$46,'200m Obs Men'!$AA$7:$AA$46,0))","v":0},"",{"$f":"MAX(IF($A34='100m Obs Men'!$C$7:$C$46,'100m Obs Men'!$AA$7:$AA$46,0))","v":0},"",{"$f":"MAX(IF($A34='50m Obs Men'!$C$7:$C$46,'50m Obs Men'!$AA$7:$AA$46,0))","v":0},"",{"$f":"MAX(IF($A34='200m Super Men'!$C$7:$C$46,'200m Super Men'!$AA$7:$AA$46,0))","v":0},"",{"$f":"MAX(IF($A34='100m Super Men'!$C$7:$C$46,'100m Super Men'!$AA$7:$AA$46,0))","v":0},"",{"$f":"MAX(IF($A34='100 Resue Men'!$C$7:$C$46,'100 Resue Men'!$AA$7:$AA$46,0))","v":0},"",{"$f":"MAX(IF($A34='50m Rescue Men'!$C$7:$C$46,'50m Rescue Men'!$AA$7:$AA$46,0))","v":0},"",{"$f":"MAX(IF($A34='Line Throw Men'!$C$7:$C$46,'Line Throw Men'!$AC$7:$AC$46,0))","v":0},"",{"$f":"MAX(IF($A34='4 x 50 Obs Relay Men'!$C$7:$C$46,'4 x 50 Obs Relay Men'!$AF$7:$AF$46,0))","v":0},"",{"$f":"MAX(IF($A34='4 x 25 Obs Relay Men'!$C$7:$C$46,'4 x 25 Obs Relay Men'!$AF$7:$AF$46,0))","v":0},"",{"$f":"MAX(IF($A34='4 x 50 medley Relay Men'!$C$7:$C$46,'4 x 50 medley Relay Men'!$AF$7:$AF$46,0))","v":0},"",{"$f":"MAX(IF($A34='4 x 25  medley Relay Men'!$C$7:$C$46,'4 x 25  medley Relay Men'!$AF$7:$AF$46,0))","v":0},"",{"$f":"MAX(IF($A34='4 x 25 Manikin Carry Relay Men'!$C$7:$C$46,'4 x 25 Manikin Carry Relay Men'!$AF$7:$AF$46,0))","v":0},"",{"$f":"MAX(IF($A34='4 x 12.5m Manikin Relay Men'!$C$7:$C$46,'4 x 12.5m Manikin Relay Men'!$AF$7:$AF$46,0))","v":0},"",{"$f":"MAX(IF($A34='Line Throw Relay Men'!$C$7:$C$46,'Line Throw Relay Men'!$AF$7:$AF$46,0))","v":0},"",{"$f":"MAX(IF($A34='6x50m Obs Men'!$C$7:$C$46,'6x50m Obs Men'!$AA$7:$AA$46,0))","v":0},"",{"$f":"MAX(IF($A34='6x50m Free Men'!$C$7:$C$46,'6x50m Free Men'!$AA$7:$AA$46,0))","v":0},"",{"$f":"SUM(IF(C$4:AR$4=\"\",\"\",C34:AR34))","v":0},"",""]
[{"$f":"IF('Combined Overalls'!A34=\"\",\"\",'Combined Overalls'!A34)","v":""},{"$f":"IF('Combined Overalls'!B34=\"\",\"\",'Combined Overalls'!B34)","v":""},{"$f":"MAX(IF($A35='50m Manikin Carry Men'!$C$7:$C$46,'50m Manikin Carry Men'!$AA$7:$AA$46,0))","v":0},"",{"$f":"MAX(IF($A35='25m Manikin Carry Men'!$C$7:$C$46,'25m Manikin Carry Men'!$AA$7:$AA$46,0))","v":0},"",{"$f":"MAX(IF($A35='100m Manikin Carry Men'!$C$7:$C$46,'100m Manikin Carry Men'!$AA$7:$AA$46,0))","v":0},"",{"$f":"MAX(IF($A35='50m Manikin Carry Men Fin'!$C$7:$C$46,'50m Manikin Carry Men Fin'!$AA$7:$AA$46,0))","v":0},"",{"$f":"MAX(IF($A35='100m Manikin Tow Men'!$C$7:$C$46,'100m Manikin Tow Men'!$AA$7:$AA$46,0))","v":0},"",{"$f":"MAX(IF($A35='50m Manikin Tow Men'!$C$7:$C$46,'50m Manikin Tow Men'!$AA$7:$AA$46,0))","v":0},"",{"$f":"MAX(IF($A35='200m Obs Men'!$C$7:$C$46,'200m Obs Men'!$AA$7:$AA$46,0))","v":0},"",{"$f":"MAX(IF($A35='100m Obs Men'!$C$7:$C$46,'100m Obs Men'!$AA$7:$AA$46,0))","v":0},"",{"$f":"MAX(IF($A35='50m Obs Men'!$C$7:$C$46,'50m Obs Men'!$AA$7:$AA$46,0))","v":0},"",{"$f":"MAX(IF($A35='200m Super Men'!$C$7:$C$46,'200m Super Men'!$AA$7:$AA$46,0))","v":0},"",{"$f":"MAX(IF($A35='100m Super Men'!$C$7:$C$46,'100m Super Men'!$AA$7:$AA$46,0))","v":0},"",{"$f":"MAX(IF($A35='100 Resue Men'!$C$7:$C$46,'100 Resue Men'!$AA$7:$AA$46,0))","v":0},"",{"$f":"MAX(IF($A35='50m Rescue Men'!$C$7:$C$46,'50m Rescue Men'!$AA$7:$AA$46,0))","v":0},"",{"$f":"MAX(IF($A35='Line Throw Men'!$C$7:$C$46,'Line Throw Men'!$AC$7:$AC$46,0))","v":0},"",{"$f":"MAX(IF($A35='4 x 50 Obs Relay Men'!$C$7:$C$46,'4 x 50 Obs Relay Men'!$AF$7:$AF$46,0))","v":0},"",{"$f":"MAX(IF($A35='4 x 25 Obs Relay Men'!$C$7:$C$46,'4 x 25 Obs Relay Men'!$AF$7:$AF$46,0))","v":0},"",{"$f":"MAX(IF($A35='4 x 50 medley Relay Men'!$C$7:$C$46,'4 x 50 medley Relay Men'!$AF$7:$AF$46,0))","v":0},"",{"$f":"MAX(IF($A35='4 x 25  medley Relay Men'!$C$7:$C$46,'4 x 25  medley Relay Men'!$AF$7:$AF$46,0))","v":0},"",{"$f":"MAX(IF($A35='4 x 25 Manikin Carry Relay Men'!$C$7:$C$46,'4 x 25 Manikin Carry Relay Men'!$AF$7:$AF$46,0))","v":0},"",{"$f":"MAX(IF($A35='4 x 12.5m Manikin Relay Men'!$C$7:$C$46,'4 x 12.5m Manikin Relay Men'!$AF$7:$AF$46,0))","v":0},"",{"$f":"MAX(IF($A35='Line Throw Relay Men'!$C$7:$C$46,'Line Throw Relay Men'!$AF$7:$AF$46,0))","v":0},"",{"$f":"MAX(IF($A35='6x50m Obs Men'!$C$7:$C$46,'6x50m Obs Men'!$AA$7:$AA$46,0))","v":0},"",{"$f":"MAX(IF($A35='6x50m Free Men'!$C$7:$C$46,'6x50m Free Men'!$AA$7:$AA$46,0))","v":0},"",{"$f":"SUM(IF(C$4:AR$4=\"\",\"\",C35:AR35))","v":0},"",""]
[]
[null,"Women's All Clubs"]
[]
["Club Code","Club Name",null,"50m Manikin Carry",null,"25m Manikin Carry",null,"100m Carry with Fins",null,"50 Carry with Fins",null,"100m tow with fins",null,"50 Tow with Fins",null,"200m Obs",null,"100m Obs",null,"50m Obs",null,"200 Super",null,"100 Super",null,"100 rescue",null,"50 Rescue",null,"Line Throw",null,"4 x 50 obs Relay",null,"4 x 25 Obs Relay",null,"4 x 50 medley Relay",null,"4 x 25 Medley Relay",null,"4 x 25 Manikin Carry Relay",null,"4x 12.5m Manikin Carry Relay",null,"4 x 12.5m Line Throw Relay",null,"4 x 12.5m Line Throw Relay",null,"4 x 12.5m Line Throw Relay",null,"Totals","Position"]
[{"$f":"IF(A5=\"\",\"\",A5)","v":""},{"$f":"IF(B5=\"\",\"\",B5)","v":""},{"$f":"MAX(IF($A40='50m Manikin Carry Women'!$C$7:$C$46,'50m Manikin Carry Women'!$AA$7:$AA$46,0))","v":0},{"$f":"IF(OR($A40=\"\",MAX(C$40:C$70)=0),\"\",IF(C40<>0,C40,MAX(C$40:C$70)+1))","v":""},{"$f":"MAX(IF($A40='25m Manikin Carry Women'!$C$7:$C$46,'25m Manikin Carry Women'!$AA$7:$AA$46,0))","v":0},{"$f":"IF(OR($A40=\"\",MAX(E$40:E$70)=0),\"\",IF(E40<>0,E40,MAX(E$40:E$70)+1))","v":""},{"$f":"MAX(IF($A40='100m Manikin Carry Women'!$C$7:$C$46,'100m Manikin Carry Women'!$AA$7:$AA$46,0))","v":0},{"$f":"IF(OR($A40=\"\",MAX(G$40:G$70)=0),\"\",IF(G40<>0,G40,MAX(G$40:G$70)+1))","v":""},{"$f":"MAX(IF($A40='50m Manikin Carry Women Fin'!$C$7:$C$46,'50m Manikin Carry Women Fin'!$AA$7:$AA$46,0))","v":0},{"$f":"IF(OR($A40=\"\",MAX(I$40:I$70)=0),\"\",IF(I40<>0,I40,MAX(I$40:I$70)+1))","v":""},{"$f":"MAX(IF($A40='100m Manikin Tow Women'!$C$7:$C$46,'100m Manikin Tow Women'!$AA$7:$AA$46,0))","v":0},{"$f":"IF(OR($A40=\"\",MAX(K$40:K$70)=0),\"\",IF(K40<>0,K40,MAX(K$40:K$70)+1))","v":""},{"$f":"MAX(IF($A40='50m Manikin Tow Women'!$C$7:$C$46,'50m Manikin Tow Women'!$AA$7:$AA$46,0))","v":0},{"$f":"IF(OR($A40=\"\",MAX(M$40:M$70)=0),\"\",IF(M40<>0,M40,MAX(M$40:M$70)+1))","v":""},{"$f":"MAX(IF($A40='200m Obs Women'!$C$7:$C$46,'200m Obs Women'!$AA$7:$AA$46,0))","v":0},{"$f":"IF(OR($A40=\"\",MAX(O$40:O$70)=0),\"\",IF(O40<>0,O40,MAX(O$40:O$70)+1))","v":""},{"$f":"MAX(IF($A40='100m Obs Women'!$C$7:$C$46,'100m Obs Women'!$AA$7:$AA$46,0))","v":0},{"$f":"IF(OR($A40=\"\",MAX(Q$40:Q$70)=0),\"\",IF(Q40<>0,Q40,MAX(Q$40:Q$70)+1))","v":""},{"$f":"MAX(IF($A40='50m Obs Women'!$C$7:$C$46,'50m Obs Women'!$AA$7:$AA$46,0))","v":0},{"$f":"IF(OR($A40=\"\",MAX(S$40:S$70)=0),\"\",IF(S40<>0,S40,MAX(S$40:S$70)+1))","v":""},{"$f":"MAX(IF($A40='200m Super Women'!$C$7:$C$46,'200m Super Women'!$AA$7:$AA$46,0))","v":0},{"$f":"IF(OR($A40=\"\",MAX(U$40:U$70)=0),\"\",IF(U40<>0,U40,MAX(U$40:U$70)+1))","v":""},{"$f":"MAX(IF($A40='100m Super Women'!$C$7:$C$46,'100m Super Women'!$AA$7:$AA$46,0))","v":0},{"$f":"IF(OR($A40=\"\",MAX(W$40:W$70)=0),\"\",IF(W40<>0,W40,MAX(W$40:W$70)+1))","v":""},{"$f":"MAX(IF($A40='100 Resue Women'!$C$7:$C$46,'100 Resue Women'!$AA$7:$AA$46,0))","v":0},{"$f":"IF(OR($A40=\"\",MAX(Y$40:Y$70)=0),\"\",IF(Y40<>0,Y40,MAX(Y$40:Y$70)+1))","v":""},{"$f":"MAX(IF($A40='50m Rescue Women'!$C$7:$C$46,'50m Rescue Women'!$AA$7:$AA$46,0))","v":0},{"$f":"IF(OR($A40=\"\",MAX(AA$40:AA$70)=0),\"\",IF(AA40<>0,AA40,MAX(AA$40:AA$70)+1))","v":""},{"$f":"MAX(IF($A40='Line Throw Women'!$C$7:$C$46,'Line Throw Women'!$AC$7:$AC$46,0))","v":0},{"$f":"IF(OR($A40=\"\",MAX(AC$40:AC$70)=0),\"\",IF(AC40<>0,AC40,MAX(AC$40:AC$70)+1))","v":""},{"$f":"MAX(IF($A40='4 x 50 Obs Relay Women'!$C$7:$C$46,'4 x 50 Obs Relay Women'!$AF$7:$AF$46,0))","v":0},{"$f":"IF(OR($A40=\"\",MAX(AE$40:AE$70)=0),\"\",IF(AE40<>0,AE40,MAX(AE$40:AE$70)+1))","v":""},{"$f":"MAX(IF($A40='4 x 25 Obs Relay Women'!$C$7:$C$46,'4 x 25 Obs Relay Women'!$AF$7:$AF$46,0))","v":0},{"$f":"IF(OR($A40=\"\",MAX(AG$40:AG$70)=0),\"\",IF(AG40<>0,AG40,MAX(AG$40:AG$70)+1))","v":""},{"$f":"MAX(IF($A40='4 x 50 medley Relay Women'!$C$7:$C$46,'4 x 50 medley Relay Women'!$AF$7:$AF$46,0))","v":0},{"$f":"IF(OR($A40=\"\",MAX(AI$40:AI$70)=0),\"\",IF(AI40<>0,AI40,MAX(AI$40:AI$70)+1))","v":""},{"$f":"MAX(IF($A40='4 x 25 Medley Relay Women'!$C$7:$C$46,'4 x 25 Medley Relay Women'!$AF$7:$AF$46,0))","v":0},{"$f":"IF(OR($A40=\"\",MAX(AK$40:AK$70)=0),\"\",IF(AK40<>0,AK40,MAX(AK$40:AK$70)+1))","v":""},{"$f":"MAX(IF($A40='4 x 25 Manikin Carry Women'!$C$7:$C$46,'4 x 25 Manikin Carry Women'!$AF$7:$AF$46,0))","v":0},{"$f":"IF(OR($A40=\"\",MAX(AM$40:AM$70)=0),\"\",IF(AM40<>0,AM40,MAX(AM$40:AM$70)+1))","v":""},{"$f":"MAX(IF($A40='4 x 12.5 Manikin Relay Women'!$C$7:$C$46,'4 x 12.5 Manikin Relay Women'!$AF$7:$AF$46,0))","v":0},{"$f":"IF(OR($A40=\"\",MAX(AO$40:AO$70)=0),\"\",IF(AO40<>0,AO40,MAX(AO$40:AO$70)+1))","v":""},{"$f":"MAX(IF($A40='Line Throw Relay Men'!$C$7:$C$46,'Line Throw Relay Men'!$AF$7:$AF$46,0))","v":0},{"$f":"IF(OR($A40=\"\",MAX(AQ$40:AQ$70)=0),\"\",IF(AQ40<>0,AQ40,MAX(AQ$40:AQ$70)+1))","v":""},{"$f":"MAX(IF($A40='Line Throw Relay Men'!$C$7:$C$46,'Line Throw Relay Men'!$AF$7:$AF$46,0))","v":0},{"$f":"IF(OR($A40=\"\",MAX(AS$40:AS$70)=0),\"\",IF(AS40<>0,AS40,MAX(AS$40:AS$70)+1))","v":""},{"$f":"MAX(IF($A40='Line Throw Relay Men'!$C$7:$C$46,'Line Throw Relay Men'!$AF$7:$AF$46,0))","v":0},{"$f":"IF(OR($A40=\"\",MAX(AU$40:AU$70)=0),\"\",IF(AU40<>0,AU40,MAX(AU$40:AU$70)+1))","v":""},{"$f":"SUM(IF(C$4:AR$4=\"\",\"\",C40:AR40))","v":0},{"$f":"IF($A40=\"\",\"\",IF(AW40<>0,AW40,\"\"))","v":""},{"$f":"IF(OR(A40=\"\",MAX(AX$40:AX$70)=0),\"\",RANK(AX40,$AX$40:$AX$70,1))","v":""}]
[{"$f":"IF(A6=\"\",\"\",A6)","v":""},"",{"$f":"MAX(IF($A41='50m Manikin Carry Women'!$C$7:$C$46,'50m Manikin Carry Women'!$AA$7:$AA$46,0))","v":0},{"$f":"IF(OR($A41=\"\",MAX(C$40:C$70)=0),\"\",IF(C41<>0,C41,MAX(C$40:C$70)+1))","v":""},{"$f":"MAX(IF($A41='25m Manikin Carry Women'!$C$7:$C$46,'25m Manikin Carry Women'!$AA$7:$AA$46,0))","v":0},{"$f":"IF(OR($A41=\"\",MAX(E$40:E$70)=0),\"\",IF(E41<>0,E41,MAX(E$40:E$70)+1))","v":""},{"$f":"MAX(IF($A41='100m Manikin Carry Women'!$C$7:$C$46,'100m Manikin Carry Women'!$AA$7:$AA$46,0))","v":0},{"$f":"IF(OR($A41=\"\",MAX(G$40:G$70)=0),\"\",IF(G41<>0,G41,MAX(G$40:G$70)+1))","v":""},{"$f":"MAX(IF($A41='50m Manikin Carry Women Fin'!$C$7:$C$46,'50m Manikin Carry Women Fin'!$AA$7:$AA$46,0))","v":0},{"$f":"IF(OR($A41=\"\",MAX(I$40:I$70)=0),\"\",IF(I41<>0,I41,MAX(I$40:I$70)+1))","v":""},{"$f":"MAX(IF($A41='100m Manikin Tow Women'!$C$7:$C$46,'100m Manikin Tow Women'!$AA$7:$AA$46,0))","v":0},{"$f":"IF(OR($A41=\"\",MAX(K$40:K$70)=0),\"\",IF(K41<>0,K41,MAX(K$40:K$70)+1))","v":""},{"$f":"MAX(IF($A41='50m Manikin Tow Women'!$C$7:$C$46,'50m Manikin Tow Women'!$AA$7:$AA$46,0))","v":0},{"$f":"IF(OR($A41=\"\",MAX(M$40:M$70)=0),\"\",IF(M41<>0,M41,MAX(M$40:M$70)+1))","v":""},{"$f":"MAX(IF($A41='200m Obs Women'!$C$7:$C$46,'200m Obs Women'!$AA$7:$AA$46,0))","v":0},{"$f":"IF(OR($A41=\"\",MAX(O$40:O$70)=0),\"\",IF(O41<>0,O41,MAX(O$40:O$70)+1))","v":""},{"$f":"MAX(IF($A41='100m Obs Women'!$C$7:$C$46,'100m Obs Women'!$AA$7:$AA$46,0))","v":0},{"$f":"IF(OR($A41=\"\",MAX(Q$40:Q$70)=0),\"\",IF(Q41<>0,Q41,MAX(Q$40:Q$70)+1))","v":""},{"$f":"MAX(IF($A41='50m Obs Women'!$C$7:$C$46,'50m Obs Women'!$AA$7:$AA$46,0))","v":0},{"$f":"IF(OR($A41=\"\",MAX(S$40:S$70)=0),\"\",IF(S41<>0,S41,MAX(S$40:S$70)+1))","v":""},{"$f":"MAX(IF($A41='200m Super Women'!$C$7:$C$46,'200m Super Women'!$AA$7:$AA$46,0))","v":0},{"$f":"IF(OR($A41=\"\",MAX(U$40:U$70)=0),\"\",IF(U41<>0,U41,MAX(U$40:U$70)+1))","v":""},{"$f":"MAX(IF($A41='100m Super Women'!$C$7:$C$46,'100m Super Women'!$AA$7:$AA$46,0))","v":0},{"$f":"IF(OR($A41=\"\",MAX(W$40:W$70)=0),\"\",IF(W41<>0,W41,MAX(W$40:W$70)+1))","v":""},{"$f":"MAX(IF($A41='100 Resue Women'!$C$7:$C$46,'100 Resue Women'!$AA$7:$AA$46,0))","v":0},{"$f":"IF(OR($A41=\"\",MAX(Y$40:Y$70)=0),\"\",IF(Y41<>0,Y41,MAX(Y$40:Y$70)+1))","v":""},{"$f":"MAX(IF($A41='50m Rescue Women'!$C$7:$C$46,'50m Rescue Women'!$AA$7:$AA$46,0))","v":0},{"$f":"IF(OR($A41=\"\",MAX(AA$40:AA$70)=0),\"\",IF(AA41<>0,AA41,MAX(AA$40:AA$70)+1))","v":""},{"$f":"MAX(IF($A41='Line Throw Women'!$C$7:$C$46,'Line Throw Women'!$AC$7:$AC$46,0))","v":0},{"$f":"IF(OR($A41=\"\",MAX(AC$40:AC$70)=0),\"\",IF(AC41<>0,AC41,MAX(AC$40:AC$70)+1))","v":""},{"$f":"MAX(IF($A41='4 x 50 Obs Relay Women'!$C$7:$C$46,'4 x 50 Obs Relay Women'!$AF$7:$AF$46,0))","v":0},{"$f":"IF(OR($A41=\"\",MAX(AE$40:AE$70)=0),\"\",IF(AE41<>0,AE41,MAX(AE$40:AE$70)+1))","v":""},{"$f":"MAX(IF($A41='4 x 25 Obs Relay Women'!$C$7:$C$46,'4 x 25 Obs Relay Women'!$AF$7:$AF$46,0))","v":0},{"$f":"IF(OR($A41=\"\",MAX(AG$40:AG$70)=0),\"\",IF(AG41<>0,AG41,MAX(AG$40:AG$70)+1))","v":""},{"$f":"MAX(IF($A41='4 x 50 medley Relay Women'!$C$7:$C$46,'4 x 50 medley Relay Women'!$AF$7:$AF$46,0))","v":0},{"$f":"IF(OR($A41=\"\",MAX(AI$40:AI$70)=0),\"\",IF(AI41<>0,AI41,MAX(AI$40:AI$70)+1))","v":""},{"$f":"MAX(IF($A41='4 x 25 Medley Relay Women'!$C$7:$C$46,'4 x 25 Medley Relay Women'!$AF$7:$AF$46,0))","v":0},{"$f":"IF(OR($A41=\"\",MAX(AK$40:AK$70)=0),\"\",IF(AK41<>0,AK41,MAX(AK$40:AK$70)+1))","v":""},{"$f":"MAX(IF($A41='4 x 25 Manikin Carry Women'!$C$7:$C$46,'4 x 25 Manikin Carry Women'!$AF$7:$AF$46,0))","v":0},{"$f":"IF(OR($A41=\"\",MAX(AM$40:AM$70)=0),\"\",IF(AM41<>0,AM41,MAX(AM$40:AM$70)+1))","v":""},{"$f":"MAX(IF($A41='4 x 12.5 Manikin Relay Women'!$C$7:$C$46,'4 x 12.5 Manikin Relay Women'!$AF$7:$AF$46,0))","v":0},{"$f":"IF(OR($A41=\"\",MAX(AO$40:AO$70)=0),\"\",IF(AO41<>0,AO41,MAX(AO$40:AO$70)+1))","v":""},{"$f":"MAX(IF($A41='Line Throw Relay Men'!$C$7:$C$46,'Line Throw Relay Men'!$AF$7:$AF$46,0))","v":0},{"$f":"IF(OR($A41=\"\",MAX(AQ$40:AQ$70)=0),\"\",IF(AQ41<>0,AQ41,MAX(AQ$40:AQ$70)+1))","v":""},{"$f":"MAX(IF($A41='Line Throw Relay Men'!$C$7:$C$46,'Line Throw Relay Men'!$AF$7:$AF$46,0))","v":0},{"$f":"IF(OR($A41=\"\",MAX(AS$40:AS$70)=0),\"\",IF(AS41<>0,AS41,MAX(AS$40:AS$70)+1))","v":""},{"$f":"MAX(IF($A41='Line Throw Relay Men'!$C$7:$C$46,'Line Throw Relay Men'!$AF$7:$AF$46,0))","v":0},{"$f":"IF(OR($A41=\"\",MAX(AU$40:AU$70)=0),\"\",IF(AU41<>0,AU41,MAX(AU$40:AU$70)+1))","v":""},{"$f":"SUM(IF(C$4:AR$4=\"\",\"\",C41:AR41))","v":0},"",""]
[{"$f":"IF(A7=\"\",\"\",A7)","v":""},"",{"$f":"MAX(IF($A42='50m Manikin Carry Women'!$C$7:$C$46,'50m Manikin Carry Women'!$AA$7:$AA$46,0))","v":0},"",{"$f":"MAX(IF($A42='25m Manikin Carry Women'!$C$7:$C$46,'25m Manikin Carry Women'!$AA$7:$AA$46,0))","v":0},"",{"$f":"MAX(IF($A42='100m Manikin Carry Women'!$C$7:$C$46,'100m Manikin Carry Women'!$AA$7:$AA$46,0))","v":0},"",{"$f":"MAX(IF($A42='50m Manikin Carry Women Fin'!$C$7:$C$46,'50m Manikin Carry Women Fin'!$AA$7:$AA$46,0))","v":0},"",{"$f":"MAX(IF($A42='100m Manikin Tow Women'!$C$7:$C$46,'100m Manikin Tow Women'!$AA$7:$AA$46,0))","v":0},"",{"$f":"MAX(IF($A42='50m Manikin Tow Women'!$C$7:$C$46,'50m Manikin Tow Women'!$AA$7:$AA$46,0))","v":0},"",{"$f":"MAX(IF($A42='200m Obs Women'!$C$7:$C$46,'200m Obs Women'!$AA$7:$AA$46,0))","v":0},"",{"$f":"MAX(IF($A42='100m Obs Women'!$C$7:$C$46,'100m Obs Women'!$AA$7:$AA$46,0))","v":0},"",{"$f":"MAX(IF($A42='50m Obs Women'!$C$7:$C$46,'50m Obs Women'!$AA$7:$AA$46,0))","v":0},"",{"$f":"MAX(IF($A42='200m Super Women'!$C$7:$C$46,'200m Super Women'!$AA$7:$AA$46,0))","v":0},"",{"$f":"MAX(IF($A42='100m Super Women'!$C$7:$C$46,'100m Super Women'!$AA$7:$AA$46,0))","v":0},"",{"$f":"MAX(IF($A42='100 Resue Women'!$C$7:$C$46,'100 Resue Women'!$AA$7:$AA$46,0))","v":0},"",{"$f":"MAX(IF($A42='50m Rescue Women'!$C$7:$C$46,'50m Rescue Women'!$AA$7:$AA$46,0))","v":0},"",{"$f":"MAX(IF($A42='Line Throw Women'!$C$7:$C$46,'Line Throw Women'!$AC$7:$AC$46,0))","v":0},"",{"$f":"MAX(IF($A42='4 x 50 Obs Relay Women'!$C$7:$C$46,'4 x 50 Obs Relay Women'!$AF$7:$AF$46,0))","v":0},"",{"$f":"MAX(IF($A42='4 x 25 Obs Relay Women'!$C$7:$C$46,'4 x 25 Obs Relay Women'!$AF$7:$AF$46,0))","v":0},"",{"$f":"MAX(IF($A42='4 x 50 medley Relay Women'!$C$7:$C$46,'4 x 50 medley Relay Women'!$AF$7:$AF$46,0))","v":0},"",{"$f":"MAX(IF($A42='4 x 25 Medley Relay Women'!$C$7:$C$46,'4 x 25 Medley Relay Women'!$AF$7:$AF$46,0))","v":0},"",{"$f":"MAX(IF($A42='4 x 25 Manikin Carry Women'!$C$7:$C$46,'4 x 25 Manikin Carry Women'!$AF$7:$AF$46,0))","v":0},"",{"$f":"MAX(IF($A42='4 x 12.5 Manikin Relay Women'!$C$7:$C$46,'4 x 12.5 Manikin Relay Women'!$AF$7:$AF$46,0))","v":0},"",{"$f":"MAX(IF($A42='Line Throw Relay Men'!$C$7:$C$46,'Line Throw Relay Men'!$AF$7:$AF$46,0))","v":0},"",{"$f":"MAX(IF($A42='Line Throw Relay Men'!$C$7:$C$46,'Line Throw Relay Men'!$AF$7:$AF$46,0))","v":0},"",{"$f":"MAX(IF($A42='Line Throw Relay Men'!$C$7:$C$46,'Line Throw Relay Men'!$AF$7:$AF$46,0))","v":0},"",{"$f":"SUM(IF(C$4:AR$4=\"\",\"\",C42:AR42))","v":0},"",""]
[{"$f":"IF(A8=\"\",\"\",A8)","v":""},"",{"$f":"MAX(IF($A43='50m Manikin Carry Women'!$C$7:$C$46,'50m Manikin Carry Women'!$AA$7:$AA$46,0))","v":0},"",{"$f":"MAX(IF($A43='25m Manikin Carry Women'!$C$7:$C$46,'25m Manikin Carry Women'!$AA$7:$AA$46,0))","v":0},"",{"$f":"MAX(IF($A43='100m Manikin Carry Women'!$C$7:$C$46,'100m Manikin Carry Women'!$AA$7:$AA$46,0))","v":0},"",{"$f":"MAX(IF($A43='50m Manikin Carry Women Fin'!$C$7:$C$46,'50m Manikin Carry Women Fin'!$AA$7:$AA$46,0))","v":0},"",{"$f":"MAX(IF($A43='100m Manikin Tow Women'!$C$7:$C$46,'100m Manikin Tow Women'!$AA$7:$AA$46,0))","v":0},"",{"$f":"MAX(IF($A43='50m Manikin Tow Women'!$C$7:$C$46,'50m Manikin Tow Women'!$AA$7:$AA$46,0))","v":0},"",{"$f":"MAX(IF($A43='200m Obs Women'!$C$7:$C$46,'200m Obs Women'!$AA$7:$AA$46,0))","v":0},"",{"$f":"MAX(IF($A43='100m Obs Women'!$C$7:$C$46,'100m Obs Women'!$AA$7:$AA$46,0))","v":0},"",{"$f":"MAX(IF($A43='50m Obs Women'!$C$7:$C$46,'50m Obs Women'!$AA$7:$AA$46,0))","v":0},"",{"$f":"MAX(IF($A43='200m Super Women'!$C$7:$C$46,'200m Super Women'!$AA$7:$AA$46,0))","v":0},"",{"$f":"MAX(IF($A43='100m Super Women'!$C$7:$C$46,'100m Super Women'!$AA$7:$AA$46,0))","v":0},"",{"$f":"MAX(IF($A43='100 Resue Women'!$C$7:$C$46,'100 Resue Women'!$AA$7:$AA$46,0))","v":0},"",{"$f":"MAX(IF($A43='50m Rescue Women'!$C$7:$C$46,'50m Rescue Women'!$AA$7:$AA$46,0))","v":0},"",{"$f":"MAX(IF($A43='Line Throw Women'!$C$7:$C$46,'Line Throw Women'!$AC$7:$AC$46,0))","v":0},"",{"$f":"MAX(IF($A43='4 x 50 Obs Relay Women'!$C$7:$C$46,'4 x 50 Obs Relay Women'!$AF$7:$AF$46,0))","v":0},"",{"$f":"MAX(IF($A43='4 x 25 Obs Relay Women'!$C$7:$C$46,'4 x 25 Obs Relay Women'!$AF$7:$AF$46,0))","v":0},"",{"$f":"MAX(IF($A43='4 x 50 medley Relay Women'!$C$7:$C$46,'4 x 50 medley Relay Women'!$AF$7:$AF$46,0))","v":0},"",{"$f":"MAX(IF($A43='4 x 25 Medley Relay Women'!$C$7:$C$46,'4 x 25 Medley Relay Women'!$AF$7:$AF$46,0))","v":0},"",{"$f":"MAX(IF($A43='4 x 25 Manikin Carry Women'!$C$7:$C$46,'4 x 25 Manikin Carry Women'!$AF$7:$AF$46,0))","v":0},"",{"$f":"MAX(IF($A43='4 x 12.5 Manikin Relay Women'!$C$7:$C$46,'4 x 12.5 Manikin Relay Women'!$AF$7:$AF$46,0))","v":0},"",{"$f":"MAX(IF($A43='Line Throw Relay Men'!$C$7:$C$46,'Line Throw Relay Men'!$AF$7:$AF$46,0))","v":0},"",{"$f":"MAX(IF($A43='Line Throw Relay Men'!$C$7:$C$46,'Line Throw Relay Men'!$AF$7:$AF$46,0))","v":0},"",{"$f":"MAX(IF($A43='Line Throw Relay Men'!$C$7:$C$46,'Line Throw Relay Men'!$AF$7:$AF$46,0))","v":0},"",{"$f":"SUM(IF(C$4:AR$4=\"\",\"\",C43:AR43))","v":0},"",""]
[{"$f":"IF(A9=\"\",\"\",A9)","v":""},"",{"$f":"MAX(IF($A44='50m Manikin Carry Women'!$C$7:$C$46,'50m Manikin Carry Women'!$AA$7:$AA$46,0))","v":0},"",{"$f":"MAX(IF($A44='25m Manikin Carry Women'!$C$7:$C$46,'25m Manikin Carry Women'!$AA$7:$AA$46,0))","v":0},"",{"$f":"MAX(IF($A44='100m Manikin Carry Women'!$C$7:$C$46,'100m Manikin Carry Women'!$AA$7:$AA$46,0))","v":0},"",{"$f":"MAX(IF($A44='50m Manikin Carry Women Fin'!$C$7:$C$46,'50m Manikin Carry Women Fin'!$AA$7:$AA$46,0))","v":0},"",{"$f":"MAX(IF($A44='100m Manikin Tow Women'!$C$7:$C$46,'100m Manikin Tow Women'!$AA$7:$AA$46,0))","v":0},"",{"$f":"MAX(IF($A44='50m Manikin Tow Women'!$C$7:$C$46,'50m Manikin Tow Women'!$AA$7:$AA$46,0))","v":0},"",{"$f":"MAX(IF($A44='200m Obs Women'!$C$7:$C$46,'200m Obs Women'!$AA$7:$AA$46,0))","v":0},"",{"$f":"MAX(IF($A44='100m Obs Women'!$C$7:$C$46,'100m Obs Women'!$AA$7:$AA$46,0))","v":0},"",{"$f":"MAX(IF($A44='50m Obs Women'!$C$7:$C$46,'50m Obs Women'!$AA$7:$AA$46,0))","v":0},"",{"$f":"MAX(IF($A44='200m Super Women'!$C$7:$C$46,'200m Super Women'!$AA$7:$AA$46,0))","v":0},"",{"$f":"MAX(IF($A44='100m Super Women'!$C$7:$C$46,'100m Super Women'!$AA$7:$AA$46,0))","v":0},"",{"$f":"MAX(IF($A44='100 Resue Women'!$C$7:$C$46,'100 Resue Women'!$AA$7:$AA$46,0))","v":0},"",{"$f":"MAX(IF($A44='50m Rescue Women'!$C$7:$C$46,'50m Rescue Women'!$AA$7:$AA$46,0))","v":0},"",{"$f":"MAX(IF($A44='Line Throw Women'!$C$7:$C$46,'Line Throw Women'!$AC$7:$AC$46,0))","v":0},"",{"$f":"MAX(IF($A44='4 x 50 Obs Relay Women'!$C$7:$C$46,'4 x 50 Obs Relay Women'!$AF$7:$AF$46,0))","v":0},"",{"$f":"MAX(IF($A44='4 x 25 Obs Relay Women'!$C$7:$C$46,'4 x 25 Obs Relay Women'!$AF$7:$AF$46,0))","v":0},"",{"$f":"MAX(IF($A44='4 x 50 medley Relay Women'!$C$7:$C$46,'4 x 50 medley Relay Women'!$AF$7:$AF$46,0))","v":0},"",{"$f":"MAX(IF($A44='4 x 25 Medley Relay Women'!$C$7:$C$46,'4 x 25 Medley Relay Women'!$AF$7:$AF$46,0))","v":0},"",{"$f":"MAX(IF($A44='4 x 25 Manikin Carry Women'!$C$7:$C$46,'4 x 25 Manikin Carry Women'!$AF$7:$AF$46,0))","v":0},"",{"$f":"MAX(IF($A44='4 x 12.5 Manikin Relay Women'!$C$7:$C$46,'4 x 12.5 Manikin Relay Women'!$AF$7:$AF$46,0))","v":0},"",{"$f":"MAX(IF($A44='Line Throw Relay Men'!$C$7:$C$46,'Line Throw Relay Men'!$AF$7:$AF$46,0))","v":0},"",{"$f":"MAX(IF($A44='Line Throw Relay Men'!$C$7:$C$46,'Line Throw Relay Men'!$AF$7:$AF$46,0))","v":0},"",{"$f":"MAX(IF($A44='Line Throw Relay Men'!$C$7:$C$46,'Line Throw Relay Men'!$AF$7:$AF$46,0))","v":0},"",{"$f":"SUM(IF(C$4:AR$4=\"\",\"\",C44:AR44))","v":0},"",""]
[{"$f":"IF(A10=\"\",\"\",A10)","v":""},"",{"$f":"MAX(IF($A45='50m Manikin Carry Women'!$C$7:$C$46,'50m Manikin Carry Women'!$AA$7:$AA$46,0))","v":0},"",{"$f":"MAX(IF($A45='25m Manikin Carry Women'!$C$7:$C$46,'25m Manikin Carry Women'!$AA$7:$AA$46,0))","v":0},"",{"$f":"MAX(IF($A45='100m Manikin Carry Women'!$C$7:$C$46,'100m Manikin Carry Women'!$AA$7:$AA$46,0))","v":0},"",{"$f":"MAX(IF($A45='50m Manikin Carry Women Fin'!$C$7:$C$46,'50m Manikin Carry Women Fin'!$AA$7:$AA$46,0))","v":0},"",{"$f":"MAX(IF($A45='100m Manikin Tow Women'!$C$7:$C$46,'100m Manikin Tow Women'!$AA$7:$AA$46,0))","v":0},"",{"$f":"MAX(IF($A45='50m Manikin Tow Women'!$C$7:$C$46,'50m Manikin Tow Women'!$AA$7:$AA$46,0))","v":0},"",{"$f":"MAX(IF($A45='200m Obs Women'!$C$7:$C$46,'200m Obs Women'!$AA$7:$AA$46,0))","v":0},"",{"$f":"MAX(IF($A45='100m Obs Women'!$C$7:$C$46,'100m Obs Women'!$AA$7:$AA$46,0))","v":0},"",{"$f":"MAX(IF($A45='50m Obs Women'!$C$7:$C$46,'50m Obs Women'!$AA$7:$AA$46,0))","v":0},"",{"$f":"MAX(IF($A45='200m Super Women'!$C$7:$C$46,'200m Super Women'!$AA$7:$AA$46,0))","v":0},"",{"$f":"MAX(IF($A45='100m Super Women'!$C$7:$C$46,'100m Super Women'!$AA$7:$AA$46,0))","v":0},"",{"$f":"MAX(IF($A45='100 Resue Women'!$C$7:$C$46,'100 Resue Women'!$AA$7:$AA$46,0))","v":0},"",{"$f":"MAX(IF($A45='50m Rescue Women'!$C$7:$C$46,'50m Rescue Women'!$AA$7:$AA$46,0))","v":0},"",{"$f":"MAX(IF($A45='Line Throw Women'!$C$7:$C$46,'Line Throw Women'!$AC$7:$AC$46,0))","v":0},"",{"$f":"MAX(IF($A45='4 x 50 Obs Relay Women'!$C$7:$C$46,'4 x 50 Obs Relay Women'!$AF$7:$AF$46,0))","v":0},"",{"$f":"MAX(IF($A45='4 x 25 Obs Relay Women'!$C$7:$C$46,'4 x 25 Obs Relay Women'!$AF$7:$AF$46,0))","v":0},"",{"$f":"MAX(IF($A45='4 x 50 medley Relay Women'!$C$7:$C$46,'4 x 50 medley Relay Women'!$AF$7:$AF$46,0))","v":0},"",{"$f":"MAX(IF($A45='4 x 25 Medley Relay Women'!$C$7:$C$46,'4 x 25 Medley Relay Women'!$AF$7:$AF$46,0))","v":0},"",{"$f":"MAX(IF($A45='4 x 25 Manikin Carry Women'!$C$7:$C$46,'4 x 25 Manikin Carry Women'!$AF$7:$AF$46,0))","v":0},"",{"$f":"MAX(IF($A45='4 x 12.5 Manikin Relay Women'!$C$7:$C$46,'4 x 12.5 Manikin Relay Women'!$AF$7:$AF$46,0))","v":0},"",{"$f":"MAX(IF($A45='Line Throw Relay Men'!$C$7:$C$46,'Line Throw Relay Men'!$AF$7:$AF$46,0))","v":0},"",{"$f":"MAX(IF($A45='Line Throw Relay Men'!$C$7:$C$46,'Line Throw Relay Men'!$AF$7:$AF$46,0))","v":0},"",{"$f":"MAX(IF($A45='Line Throw Relay Men'!$C$7:$C$46,'Line Throw Relay Men'!$AF$7:$AF$46,0))","v":0},"",{"$f":"SUM(IF(C$4:AR$4=\"\",\"\",C45:AR45))","v":0},"",""]
[{"$f":"IF(A11=\"\",\"\",A11)","v":""},"",{"$f":"MAX(IF($A46='50m Manikin Carry Women'!$C$7:$C$46,'50m Manikin Carry Women'!$AA$7:$AA$46,0))","v":0},"",{"$f":"MAX(IF($A46='25m Manikin Carry Women'!$C$7:$C$46,'25m Manikin Carry Women'!$AA$7:$AA$46,0))","v":0},"",{"$f":"MAX(IF($A46='100m Manikin Carry Women'!$C$7:$C$46,'100m Manikin Carry Women'!$AA$7:$AA$46,0))","v":0},"",{"$f":"MAX(IF($A46='50m Manikin Carry Women Fin'!$C$7:$C$46,'50m Manikin Carry Women Fin'!$AA$7:$AA$46,0))","v":0},"",{"$f":"MAX(IF($A46='100m Manikin Tow Women'!$C$7:$C$46,'100m Manikin Tow Women'!$AA$7:$AA$46,0))","v":0},"",{"$f":"MAX(IF($A46='50m Manikin Tow Women'!$C$7:$C$46,'50m Manikin Tow Women'!$AA$7:$AA$46,0))","v":0},"",{"$f":"MAX(IF($A46='200m Obs Women'!$C$7:$C$46,'200m Obs Women'!$AA$7:$AA$46,0))","v":0},"",{"$f":"MAX(IF($A46='100m Obs Women'!$C$7:$C$46,'100m Obs Women'!$AA$7:$AA$46,0))","v":0},"",{"$f":"MAX(IF($A46='50m Obs Women'!$C$7:$C$46,'50m Obs Women'!$AA$7:$AA$46,0))","v":0},"",{"$f":"MAX(IF($A46='200m Super Women'!$C$7:$C$46,'200m Super Women'!$AA$7:$AA$46,0))","v":0},"",{"$f":"MAX(IF($A46='100m Super Women'!$C$7:$C$46,'100m Super Women'!$AA$7:$AA$46,0))","v":0},"",{"$f":"MAX(IF($A46='100 Resue Women'!$C$7:$C$46,'100 Resue Women'!$AA$7:$AA$46,0))","v":0},"",{"$f":"MAX(IF($A46='50m Rescue Women'!$C$7:$C$46,'50m Rescue Women'!$AA$7:$AA$46,0))","v":0},"",{"$f":"MAX(IF($A46='Line Throw Women'!$C$7:$C$46,'Line Throw Women'!$AC$7:$AC$46,0))","v":0},"",{"$f":"MAX(IF($A46='4 x 50 Obs Relay Women'!$C$7:$C$46,'4 x 50 Obs Relay Women'!$AF$7:$AF$46,0))","v":0},"",{"$f":"MAX(IF($A46='4 x 25 Obs Relay Women'!$C$7:$C$46,'4 x 25 Obs Relay Women'!$AF$7:$AF$46,0))","v":0},"",{"$f":"MAX(IF($A46='4 x 50 medley Relay Women'!$C$7:$C$46,'4 x 50 medley Relay Women'!$AF$7:$AF$46,0))","v":0},"",{"$f":"MAX(IF($A46='4 x 25 Medley Relay Women'!$C$7:$C$46,'4 x 25 Medley Relay Women'!$AF$7:$AF$46,0))","v":0},"",{"$f":"MAX(IF($A46='4 x 25 Manikin Carry Women'!$C$7:$C$46,'4 x 25 Manikin Carry Women'!$AF$7:$AF$46,0))","v":0},"",{"$f":"MAX(IF($A46='4 x 12.5 Manikin Relay Women'!$C$7:$C$46,'4 x 12.5 Manikin Relay Women'!$AF$7:$AF$46,0))","v":0},"",{"$f":"MAX(IF($A46='Line Throw Relay Men'!$C$7:$C$46,'Line Throw Relay Men'!$AF$7:$AF$46,0))","v":0},"",{"$f":"MAX(IF($A46='Line Throw Relay Men'!$C$7:$C$46,'Line Throw Relay Men'!$AF$7:$AF$46,0))","v":0},"",{"$f":"MAX(IF($A46='Line Throw Relay Men'!$C$7:$C$46,'Line Throw Relay Men'!$AF$7:$AF$46,0))","v":0},"",{"$f":"SUM(IF(C$4:AR$4=\"\",\"\",C46:AR46))","v":0},"",""]
[{"$f":"IF(A12=\"\",\"\",A12)","v":""},"",{"$f":"MAX(IF($A47='50m Manikin Carry Women'!$C$7:$C$46,'50m Manikin Carry Women'!$AA$7:$AA$46,0))","v":0},"",{"$f":"MAX(IF($A47='25m Manikin Carry Women'!$C$7:$C$46,'25m Manikin Carry Women'!$AA$7:$AA$46,0))","v":0},"",{"$f":"MAX(IF($A47='100m Manikin Carry Women'!$C$7:$C$46,'100m Manikin Carry Women'!$AA$7:$AA$46,0))","v":0},"",{"$f":"MAX(IF($A47='50m Manikin Carry Women Fin'!$C$7:$C$46,'50m Manikin Carry Women Fin'!$AA$7:$AA$46,0))","v":0},"",{"$f":"MAX(IF($A47='100m Manikin Tow Women'!$C$7:$C$46,'100m Manikin Tow Women'!$AA$7:$AA$46,0))","v":0},"",{"$f":"MAX(IF($A47='50m Manikin Tow Women'!$C$7:$C$46,'50m Manikin Tow Women'!$AA$7:$AA$46,0))","v":0},"",{"$f":"MAX(IF($A47='200m Obs Women'!$C$7:$C$46,'200m Obs Women'!$AA$7:$AA$46,0))","v":0},"",{"$f":"MAX(IF($A47='100m Obs Women'!$C$7:$C$46,'100m Obs Women'!$AA$7:$AA$46,0))","v":0},"",{"$f":"MAX(IF($A47='50m Obs Women'!$C$7:$C$46,'50m Obs Women'!$AA$7:$AA$46,0))","v":0},"",{"$f":"MAX(IF($A47='200m Super Women'!$C$7:$C$46,'200m Super Women'!$AA$7:$AA$46,0))","v":0},"",{"$f":"MAX(IF($A47='100m Super Women'!$C$7:$C$46,'100m Super Women'!$AA$7:$AA$46,0))","v":0},"",{"$f":"MAX(IF($A47='100 Resue Women'!$C$7:$C$46,'100 Resue Women'!$AA$7:$AA$46,0))","v":0},"",{"$f":"MAX(IF($A47='50m Rescue Women'!$C$7:$C$46,'50m Rescue Women'!$AA$7:$AA$46,0))","v":0},"",{"$f":"MAX(IF($A47='Line Throw Women'!$C$7:$C$46,'Line Throw Women'!$AC$7:$AC$46,0))","v":0},"",{"$f":"MAX(IF($A47='4 x 50 Obs Relay Women'!$C$7:$C$46,'4 x 50 Obs Relay Women'!$AF$7:$AF$46,0))","v":0},"",{"$f":"MAX(IF($A47='4 x 25 Obs Relay Women'!$C$7:$C$46,'4 x 25 Obs Relay Women'!$AF$7:$AF$46,0))","v":0},"",{"$f":"MAX(IF($A47='4 x 50 medley Relay Women'!$C$7:$C$46,'4 x 50 medley Relay Women'!$AF$7:$AF$46,0))","v":0},"",{"$f":"MAX(IF($A47='4 x 25 Medley Relay Women'!$C$7:$C$46,'4 x 25 Medley Relay Women'!$AF$7:$AF$46,0))","v":0},"",{"$f":"MAX(IF($A47='4 x 25 Manikin Carry Women'!$C$7:$C$46,'4 x 25 Manikin Carry Women'!$AF$7:$AF$46,0))","v":0},"",{"$f":"MAX(IF($A47='4 x 12.5 Manikin Relay Women'!$C$7:$C$46,'4 x 12.5 Manikin Relay Women'!$AF$7:$AF$46,0))","v":0},"",{"$f":"MAX(IF($A47='Line Throw Relay Men'!$C$7:$C$46,'Line Throw Relay Men'!$AF$7:$AF$46,0))","v":0},"",{"$f":"MAX(IF($A47='Line Throw Relay Men'!$C$7:$C$46,'Line Throw Relay Men'!$AF$7:$AF$46,0))","v":0},"",{"$f":"MAX(IF($A47='Line Throw Relay Men'!$C$7:$C$46,'Line Throw Relay Men'!$AF$7:$AF$46,0))","v":0},"",{"$f":"SUM(IF(C$4:AR$4=\"\",\"\",C47:AR47))","v":0},"",""]
[{"$f":"IF(A13=\"\",\"\",A13)","v":""},"",{"$f":"MAX(IF($A48='50m Manikin Carry Women'!$C$7:$C$46,'50m Manikin Carry Women'!$AA$7:$AA$46,0))","v":0},"",{"$f":"MAX(IF($A48='25m Manikin Carry Women'!$C$7:$C$46,'25m Manikin Carry Women'!$AA$7:$AA$46,0))","v":0},"",{"$f":"MAX(IF($A48='100m Manikin Carry Women'!$C$7:$C$46,'100m Manikin Carry Women'!$AA$7:$AA$46,0))","v":0},"",{"$f":"MAX(IF($A48='50m Manikin Carry Women Fin'!$C$7:$C$46,'50m Manikin Carry Women Fin'!$AA$7:$AA$46,0))","v":0},"",{"$f":"MAX(IF($A48='100m Manikin Tow Women'!$C$7:$C$46,'100m Manikin Tow Women'!$AA$7:$AA$46,0))","v":0},"",{"$f":"MAX(IF($A48='50m Manikin Tow Women'!$C$7:$C$46,'50m Manikin Tow Women'!$AA$7:$AA$46,0))","v":0},"",{"$f":"MAX(IF($A48='200m Obs Women'!$C$7:$C$46,'200m Obs Women'!$AA$7:$AA$46,0))","v":0},"",{"$f":"MAX(IF($A48='100m Obs Women'!$C$7:$C$46,'100m Obs Women'!$AA$7:$AA$46,0))","v":0},"",{"$f":"MAX(IF($A48='50m Obs Women'!$C$7:$C$46,'50m Obs Women'!$AA$7:$AA$46,0))","v":0},"",{"$f":"MAX(IF($A48='200m Super Women'!$C$7:$C$46,'200m Super Women'!$AA$7:$AA$46,0))","v":0},"",{"$f":"MAX(IF($A48='100m Super Women'!$C$7:$C$46,'100m Super Women'!$AA$7:$AA$46,0))","v":0},"",{"$f":"MAX(IF($A48='100 Resue Women'!$C$7:$C$46,'100 Resue Women'!$AA$7:$AA$46,0))","v":0},"",{"$f":"MAX(IF($A48='50m Rescue Women'!$C$7:$C$46,'50m Rescue Women'!$AA$7:$AA$46,0))","v":0},"",{"$f":"MAX(IF($A48='Line Throw Women'!$C$7:$C$46,'Line Throw Women'!$AC$7:$AC$46,0))","v":0},"",{"$f":"MAX(IF($A48='4 x 50 Obs Relay Women'!$C$7:$C$46,'4 x 50 Obs Relay Women'!$AF$7:$AF$46,0))","v":0},"",{"$f":"MAX(IF($A48='4 x 25 Obs Relay Women'!$C$7:$C$46,'4 x 25 Obs Relay Women'!$AF$7:$AF$46,0))","v":0},"",{"$f":"MAX(IF($A48='4 x 50 medley Relay Women'!$C$7:$C$46,'4 x 50 medley Relay Women'!$AF$7:$AF$46,0))","v":0},"",{"$f":"MAX(IF($A48='4 x 25 Medley Relay Women'!$C$7:$C$46,'4 x 25 Medley Relay Women'!$AF$7:$AF$46,0))","v":0},"",{"$f":"MAX(IF($A48='4 x 25 Manikin Carry Women'!$C$7:$C$46,'4 x 25 Manikin Carry Women'!$AF$7:$AF$46,0))","v":0},"",{"$f":"MAX(IF($A48='4 x 12.5 Manikin Relay Women'!$C$7:$C$46,'4 x 12.5 Manikin Relay Women'!$AF$7:$AF$46,0))","v":0},"",{"$f":"MAX(IF($A48='Line Throw Relay Men'!$C$7:$C$46,'Line Throw Relay Men'!$AF$7:$AF$46,0))","v":0},"",{"$f":"MAX(IF($A48='Line Throw Relay Men'!$C$7:$C$46,'Line Throw Relay Men'!$AF$7:$AF$46,0))","v":0},"",{"$f":"MAX(IF($A48='Line Throw Relay Men'!$C$7:$C$46,'Line Throw Relay Men'!$AF$7:$AF$46,0))","v":0},"",{"$f":"SUM(IF(C$4:AR$4=\"\",\"\",C48:AR48))","v":0},"",""]
[{"$f":"IF(A14=\"\",\"\",A14)","v":""},"",{"$f":"MAX(IF($A49='50m Manikin Carry Women'!$C$7:$C$46,'50m Manikin Carry Women'!$AA$7:$AA$46,0))","v":0},"",{"$f":"MAX(IF($A49='25m Manikin Carry Women'!$C$7:$C$46,'25m Manikin Carry Women'!$AA$7:$AA$46,0))","v":0},"",{"$f":"MAX(IF($A49='100m Manikin Carry Women'!$C$7:$C$46,'100m Manikin Carry Women'!$AA$7:$AA$46,0))","v":0},"",{"$f":"MAX(IF($A49='50m Manikin Carry Women Fin'!$C$7:$C$46,'50m Manikin Carry Women Fin'!$AA$7:$AA$46,0))","v":0},"",{"$f":"MAX(IF($A49='100m Manikin Tow Women'!$C$7:$C$46,'100m Manikin Tow Women'!$AA$7:$AA$46,0))","v":0},"",{"$f":"MAX(IF($A49='50m Manikin Tow Women'!$C$7:$C$46,'50m Manikin Tow Women'!$AA$7:$AA$46,0))","v":0},"",{"$f":"MAX(IF($A49='200m Obs Women'!$C$7:$C$46,'200m Obs Women'!$AA$7:$AA$46,0))","v":0},"",{"$f":"MAX(IF($A49='100m Obs Women'!$C$7:$C$46,'100m Obs Women'!$AA$7:$AA$46,0))","v":0},"",{"$f":"MAX(IF($A49='50m Obs Women'!$C$7:$C$46,'50m Obs Women'!$AA$7:$AA$46,0))","v":0},"",{"$f":"MAX(IF($A49='200m Super Women'!$C$7:$C$46,'200m Super Women'!$AA$7:$AA$46,0))","v":0},"",{"$f":"MAX(IF($A49='100m Super Women'!$C$7:$C$46,'100m Super Women'!$AA$7:$AA$46,0))","v":0},"",{"$f":"MAX(IF($A49='100 Resue Women'!$C$7:$C$46,'100 Resue Women'!$AA$7:$AA$46,0))","v":0},"",{"$f":"MAX(IF($A49='50m Rescue Women'!$C$7:$C$46,'50m Rescue Women'!$AA$7:$AA$46,0))","v":0},"",{"$f":"MAX(IF($A49='Line Throw Women'!$C$7:$C$46,'Line Throw Women'!$AC$7:$AC$46,0))","v":0},"",{"$f":"MAX(IF($A49='4 x 50 Obs Relay Women'!$C$7:$C$46,'4 x 50 Obs Relay Women'!$AF$7:$AF$46,0))","v":0},"",{"$f":"MAX(IF($A49='4 x 25 Obs Relay Women'!$C$7:$C$46,'4 x 25 Obs Relay Women'!$AF$7:$AF$46,0))","v":0},"",{"$f":"MAX(IF($A49='4 x 50 medley Relay Women'!$C$7:$C$46,'4 x 50 medley Relay Women'!$AF$7:$AF$46,0))","v":0},"",{"$f":"MAX(IF($A49='4 x 25 Medley Relay Women'!$C$7:$C$46,'4 x 25 Medley Relay Women'!$AF$7:$AF$46,0))","v":0},"",{"$f":"MAX(IF($A49='4 x 25 Manikin Carry Women'!$C$7:$C$46,'4 x 25 Manikin Carry Women'!$AF$7:$AF$46,0))","v":0},"",{"$f":"MAX(IF($A49='4 x 12.5 Manikin Relay Women'!$C$7:$C$46,'4 x 12.5 Manikin Relay Women'!$AF$7:$AF$46,0))","v":0},"",{"$f":"MAX(IF($A49='Line Throw Relay Men'!$C$7:$C$46,'Line Throw Relay Men'!$AF$7:$AF$46,0))","v":0},"",{"$f":"MAX(IF($A49='Line Throw Relay Men'!$C$7:$C$46,'Line Throw Relay Men'!$AF$7:$AF$46,0))","v":0},"",{"$f":"MAX(IF($A49='Line Throw Relay Men'!$C$7:$C$46,'Line Throw Relay Men'!$AF$7:$AF$46,0))","v":0},"",{"$f":"SUM(IF(C$4:AR$4=\"\",\"\",C49:AR49))","v":0},"",""]
[{"$f":"IF(A15=\"\",\"\",A15)","v":""},"",{"$f":"MAX(IF($A50='50m Manikin Carry Women'!$C$7:$C$46,'50m Manikin Carry Women'!$AA$7:$AA$46,0))","v":0},"",{"$f":"MAX(IF($A50='25m Manikin Carry Women'!$C$7:$C$46,'25m Manikin Carry Women'!$AA$7:$AA$46,0))","v":0},"",{"$f":"MAX(IF($A50='100m Manikin Carry Women'!$C$7:$C$46,'100m Manikin Carry Women'!$AA$7:$AA$46,0))","v":0},"",{"$f":"MAX(IF($A50='50m Manikin Carry Women Fin'!$C$7:$C$46,'50m Manikin Carry Women Fin'!$AA$7:$AA$46,0))","v":0},"",{"$f":"MAX(IF($A50='100m Manikin Tow Women'!$C$7:$C$46,'100m Manikin Tow Women'!$AA$7:$AA$46,0))","v":0},"",{"$f":"MAX(IF($A50='50m Manikin Tow Women'!$C$7:$C$46,'50m Manikin Tow Women'!$AA$7:$AA$46,0))","v":0},"",{"$f":"MAX(IF($A50='200m Obs Women'!$C$7:$C$46,'200m Obs Women'!$AA$7:$AA$46,0))","v":0},"",{"$f":"MAX(IF($A50='100m Obs Women'!$C$7:$C$46,'100m Obs Women'!$AA$7:$AA$46,0))","v":0},"",{"$f":"MAX(IF($A50='50m Obs Women'!$C$7:$C$46,'50m Obs Women'!$AA$7:$AA$46,0))","v":0},"",{"$f":"MAX(IF($A50='200m Super Women'!$C$7:$C$46,'200m Super Women'!$AA$7:$AA$46,0))","v":0},"",{"$f":"MAX(IF($A50='100m Super Women'!$C$7:$C$46,'100m Super Women'!$AA$7:$AA$46,0))","v":0},"",{"$f":"MAX(IF($A50='100 Resue Women'!$C$7:$C$46,'100 Resue Women'!$AA$7:$AA$46,0))","v":0},"",{"$f":"MAX(IF($A50='50m Rescue Women'!$C$7:$C$46,'50m Rescue Women'!$AA$7:$AA$46,0))","v":0},"",{"$f":"MAX(IF($A50='Line Throw Women'!$C$7:$C$46,'Line Throw Women'!$AC$7:$AC$46,0))","v":0},"",{"$f":"MAX(IF($A50='4 x 50 Obs Relay Women'!$C$7:$C$46,'4 x 50 Obs Relay Women'!$AF$7:$AF$46,0))","v":0},"",{"$f":"MAX(IF($A50='4 x 25 Obs Relay Women'!$C$7:$C$46,'4 x 25 Obs Relay Women'!$AF$7:$AF$46,0))","v":0},"",{"$f":"MAX(IF($A50='4 x 50 medley Relay Women'!$C$7:$C$46,'4 x 50 medley Relay Women'!$AF$7:$AF$46,0))","v":0},"",{"$f":"MAX(IF($A50='4 x 25 Medley Relay Women'!$C$7:$C$46,'4 x 25 Medley Relay Women'!$AF$7:$AF$46,0))","v":0},"",{"$f":"MAX(IF($A50='4 x 25 Manikin Carry Women'!$C$7:$C$46,'4 x 25 Manikin Carry Women'!$AF$7:$AF$46,0))","v":0},"",{"$f":"MAX(IF($A50='4 x 12.5 Manikin Relay Women'!$C$7:$C$46,'4 x 12.5 Manikin Relay Women'!$AF$7:$AF$46,0))","v":0},"",{"$f":"MAX(IF($A50='Line Throw Relay Men'!$C$7:$C$46,'Line Throw Relay Men'!$AF$7:$AF$46,0))","v":0},"",{"$f":"MAX(IF($A50='Line Throw Relay Men'!$C$7:$C$46,'Line Throw Relay Men'!$AF$7:$AF$46,0))","v":0},"",{"$f":"MAX(IF($A50='Line Throw Relay Men'!$C$7:$C$46,'Line Throw Relay Men'!$AF$7:$AF$46,0))","v":0},"",{"$f":"SUM(IF(C$4:AR$4=\"\",\"\",C50:AR50))","v":0},"",""]
[{"$f":"IF(A16=\"\",\"\",A16)","v":""},"",{"$f":"MAX(IF($A51='50m Manikin Carry Women'!$C$7:$C$46,'50m Manikin Carry Women'!$AA$7:$AA$46,0))","v":0},"",{"$f":"MAX(IF($A51='25m Manikin Carry Women'!$C$7:$C$46,'25m Manikin Carry Women'!$AA$7:$AA$46,0))","v":0},"",{"$f":"MAX(IF($A51='100m Manikin Carry Women'!$C$7:$C$46,'100m Manikin Carry Women'!$AA$7:$AA$46,0))","v":0},"",{"$f":"MAX(IF($A51='50m Manikin Carry Women Fin'!$C$7:$C$46,'50m Manikin Carry Women Fin'!$AA$7:$AA$46,0))","v":0},"",{"$f":"MAX(IF($A51='100m Manikin Tow Women'!$C$7:$C$46,'100m Manikin Tow Women'!$AA$7:$AA$46,0))","v":0},"",{"$f":"MAX(IF($A51='50m Manikin Tow Women'!$C$7:$C$46,'50m Manikin Tow Women'!$AA$7:$AA$46,0))","v":0},"",{"$f":"MAX(IF($A51='200m Obs Women'!$C$7:$C$46,'200m Obs Women'!$AA$7:$AA$46,0))","v":0},"",{"$f":"MAX(IF($A51='100m Obs Women'!$C$7:$C$46,'100m Obs Women'!$AA$7:$AA$46,0))","v":0},"",{"$f":"MAX(IF($A51='50m Obs Women'!$C$7:$C$46,'50m Obs Women'!$AA$7:$AA$46,0))","v":0},"",{"$f":"MAX(IF($A51='200m Super Women'!$C$7:$C$46,'200m Super Women'!$AA$7:$AA$46,0))","v":0},"",{"$f":"MAX(IF($A51='100m Super Women'!$C$7:$C$46,'100m Super Women'!$AA$7:$AA$46,0))","v":0},"",{"$f":"MAX(IF($A51='100 Resue Women'!$C$7:$C$46,'100 Resue Women'!$AA$7:$AA$46,0))","v":0},"",{"$f":"MAX(IF($A51='50m Rescue Women'!$C$7:$C$46,'50m Rescue Women'!$AA$7:$AA$46,0))","v":0},"",{"$f":"MAX(IF($A51='Line Throw Women'!$C$7:$C$46,'Line Throw Women'!$AC$7:$AC$46,0))","v":0},"",{"$f":"MAX(IF($A51='4 x 50 Obs Relay Women'!$C$7:$C$46,'4 x 50 Obs Relay Women'!$AF$7:$AF$46,0))","v":0},"",{"$f":"MAX(IF($A51='4 x 25 Obs Relay Women'!$C$7:$C$46,'4 x 25 Obs Relay Women'!$AF$7:$AF$46,0))","v":0},"",{"$f":"MAX(IF($A51='4 x 50 medley Relay Women'!$C$7:$C$46,'4 x 50 medley Relay Women'!$AF$7:$AF$46,0))","v":0},"",{"$f":"MAX(IF($A51='4 x 25 Medley Relay Women'!$C$7:$C$46,'4 x 25 Medley Relay Women'!$AF$7:$AF$46,0))","v":0},"",{"$f":"MAX(IF($A51='4 x 25 Manikin Carry Women'!$C$7:$C$46,'4 x 25 Manikin Carry Women'!$AF$7:$AF$46,0))","v":0},"",{"$f":"MAX(IF($A51='4 x 12.5 Manikin Relay Women'!$C$7:$C$46,'4 x 12.5 Manikin Relay Women'!$AF$7:$AF$46,0))","v":0},"",{"$f":"MAX(IF($A51='Line Throw Relay Men'!$C$7:$C$46,'Line Throw Relay Men'!$AF$7:$AF$46,0))","v":0},"",{"$f":"MAX(IF($A51='Line Throw Relay Men'!$C$7:$C$46,'Line Throw Relay Men'!$AF$7:$AF$46,0))","v":0},"",{"$f":"MAX(IF($A51='Line Throw Relay Men'!$C$7:$C$46,'Line Throw Relay Men'!$AF$7:$AF$46,0))","v":0},"",{"$f":"SUM(IF(C$4:AR$4=\"\",\"\",C51:AR51))","v":0},"",""]
[{"$f":"IF(A17=\"\",\"\",A17)","v":""},"",{"$f":"MAX(IF($A52='50m Manikin Carry Women'!$C$7:$C$46,'50m Manikin Carry Women'!$AA$7:$AA$46,0))","v":0},"",{"$f":"MAX(IF($A52='25m Manikin Carry Women'!$C$7:$C$46,'25m Manikin Carry Women'!$AA$7:$AA$46,0))","v":0},"",{"$f":"MAX(IF($A52='100m Manikin Carry Women'!$C$7:$C$46,'100m Manikin Carry Women'!$AA$7:$AA$46,0))","v":0},"",{"$f":"MAX(IF($A52='50m Manikin Carry Women Fin'!$C$7:$C$46,'50m Manikin Carry Women Fin'!$AA$7:$AA$46,0))","v":0},"",{"$f":"MAX(IF($A52='100m Manikin Tow Women'!$C$7:$C$46,'100m Manikin Tow Women'!$AA$7:$AA$46,0))","v":0},"",{"$f":"MAX(IF($A52='50m Manikin Tow Women'!$C$7:$C$46,'50m Manikin Tow Women'!$AA$7:$AA$46,0))","v":0},"",{"$f":"MAX(IF($A52='200m Obs Women'!$C$7:$C$46,'200m Obs Women'!$AA$7:$AA$46,0))","v":0},"",{"$f":"MAX(IF($A52='100m Obs Women'!$C$7:$C$46,'100m Obs Women'!$AA$7:$AA$46,0))","v":0},"",{"$f":"MAX(IF($A52='50m Obs Women'!$C$7:$C$46,'50m Obs Women'!$AA$7:$AA$46,0))","v":0},"",{"$f":"MAX(IF($A52='200m Super Women'!$C$7:$C$46,'200m Super Women'!$AA$7:$AA$46,0))","v":0},"",{"$f":"MAX(IF($A52='100m Super Women'!$C$7:$C$46,'100m Super Women'!$AA$7:$AA$46,0))","v":0},"",{"$f":"MAX(IF($A52='100 Resue Women'!$C$7:$C$46,'100 Resue Women'!$AA$7:$AA$46,0))","v":0},"",{"$f":"MAX(IF($A52='50m Rescue Women'!$C$7:$C$46,'50m Rescue Women'!$AA$7:$AA$46,0))","v":0},"",{"$f":"MAX(IF($A52='Line Throw Women'!$C$7:$C$46,'Line Throw Women'!$AC$7:$AC$46,0))","v":0},"",{"$f":"MAX(IF($A52='4 x 50 Obs Relay Women'!$C$7:$C$46,'4 x 50 Obs Relay Women'!$AF$7:$AF$46,0))","v":0},"",{"$f":"MAX(IF($A52='4 x 25 Obs Relay Women'!$C$7:$C$46,'4 x 25 Obs Relay Women'!$AF$7:$AF$46,0))","v":0},"",{"$f":"MAX(IF($A52='4 x 50 medley Relay Women'!$C$7:$C$46,'4 x 50 medley Relay Women'!$AF$7:$AF$46,0))","v":0},"",{"$f":"MAX(IF($A52='4 x 25 Medley Relay Women'!$C$7:$C$46,'4 x 25 Medley Relay Women'!$AF$7:$AF$46,0))","v":0},"",{"$f":"MAX(IF($A52='4 x 25 Manikin Carry Women'!$C$7:$C$46,'4 x 25 Manikin Carry Women'!$AF$7:$AF$46,0))","v":0},"",{"$f":"MAX(IF($A52='4 x 12.5 Manikin Relay Women'!$C$7:$C$46,'4 x 12.5 Manikin Relay Women'!$AF$7:$AF$46,0))","v":0},"",{"$f":"MAX(IF($A52='Line Throw Relay Men'!$C$7:$C$46,'Line Throw Relay Men'!$AF$7:$AF$46,0))","v":0},"",{"$f":"MAX(IF($A52='Line Throw Relay Men'!$C$7:$C$46,'Line Throw Relay Men'!$AF$7:$AF$46,0))","v":0},"",{"$f":"MAX(IF($A52='Line Throw Relay Men'!$C$7:$C$46,'Line Throw Relay Men'!$AF$7:$AF$46,0))","v":0},"",{"$f":"SUM(IF(C$4:AR$4=\"\",\"\",C52:AR52))","v":0},"",""]
[{"$f":"IF(A18=\"\",\"\",A18)","v":""},"",{"$f":"MAX(IF($A53='50m Manikin Carry Women'!$C$7:$C$46,'50m Manikin Carry Women'!$AA$7:$AA$46,0))","v":0},"",{"$f":"MAX(IF($A53='25m Manikin Carry Women'!$C$7:$C$46,'25m Manikin Carry Women'!$AA$7:$AA$46,0))","v":0},"",{"$f":"MAX(IF($A53='100m Manikin Carry Women'!$C$7:$C$46,'100m Manikin Carry Women'!$AA$7:$AA$46,0))","v":0},"",{"$f":"MAX(IF($A53='50m Manikin Carry Women Fin'!$C$7:$C$46,'50m Manikin Carry Women Fin'!$AA$7:$AA$46,0))","v":0},"",{"$f":"MAX(IF($A53='100m Manikin Tow Women'!$C$7:$C$46,'100m Manikin Tow Women'!$AA$7:$AA$46,0))","v":0},"",{"$f":"MAX(IF($A53='50m Manikin Tow Women'!$C$7:$C$46,'50m Manikin Tow Women'!$AA$7:$AA$46,0))","v":0},"",{"$f":"MAX(IF($A53='200m Obs Women'!$C$7:$C$46,'200m Obs Women'!$AA$7:$AA$46,0))","v":0},"",{"$f":"MAX(IF($A53='100m Obs Women'!$C$7:$C$46,'100m Obs Women'!$AA$7:$AA$46,0))","v":0},"",{"$f":"MAX(IF($A53='50m Obs Women'!$C$7:$C$46,'50m Obs Women'!$AA$7:$AA$46,0))","v":0},"",{"$f":"MAX(IF($A53='200m Super Women'!$C$7:$C$46,'200m Super Women'!$AA$7:$AA$46,0))","v":0},"",{"$f":"MAX(IF($A53='100m Super Women'!$C$7:$C$46,'100m Super Women'!$AA$7:$AA$46,0))","v":0},"",{"$f":"MAX(IF($A53='100 Resue Women'!$C$7:$C$46,'100 Resue Women'!$AA$7:$AA$46,0))","v":0},"",{"$f":"MAX(IF($A53='50m Rescue Women'!$C$7:$C$46,'50m Rescue Women'!$AA$7:$AA$46,0))","v":0},"",{"$f":"MAX(IF($A53='Line Throw Women'!$C$7:$C$46,'Line Throw Women'!$AC$7:$AC$46,0))","v":0},"",{"$f":"MAX(IF($A53='4 x 50 Obs Relay Women'!$C$7:$C$46,'4 x 50 Obs Relay Women'!$AF$7:$AF$46,0))","v":0},"",{"$f":"MAX(IF($A53='4 x 25 Obs Relay Women'!$C$7:$C$46,'4 x 25 Obs Relay Women'!$AF$7:$AF$46,0))","v":0},"",{"$f":"MAX(IF($A53='4 x 50 medley Relay Women'!$C$7:$C$46,'4 x 50 medley Relay Women'!$AF$7:$AF$46,0))","v":0},"",{"$f":"MAX(IF($A53='4 x 25 Medley Relay Women'!$C$7:$C$46,'4 x 25 Medley Relay Women'!$AF$7:$AF$46,0))","v":0},"",{"$f":"MAX(IF($A53='4 x 25 Manikin Carry Women'!$C$7:$C$46,'4 x 25 Manikin Carry Women'!$AF$7:$AF$46,0))","v":0},"",{"$f":"MAX(IF($A53='4 x 12.5 Manikin Relay Women'!$C$7:$C$46,'4 x 12.5 Manikin Relay Women'!$AF$7:$AF$46,0))","v":0},"",{"$f":"MAX(IF($A53='Line Throw Relay Men'!$C$7:$C$46,'Line Throw Relay Men'!$AF$7:$AF$46,0))","v":0},"",{"$f":"MAX(IF($A53='Line Throw Relay Men'!$C$7:$C$46,'Line Throw Relay Men'!$AF$7:$AF$46,0))","v":0},"",{"$f":"MAX(IF($A53='Line Throw Relay Men'!$C$7:$C$46,'Line Throw Relay Men'!$AF$7:$AF$46,0))","v":0},"",{"$f":"SUM(IF(C$4:AR$4=\"\",\"\",C53:AR53))","v":0},"",""]
[{"$f":"IF(A19=\"\",\"\",A19)","v":""},"",{"$f":"MAX(IF($A54='50m Manikin Carry Women'!$C$7:$C$46,'50m Manikin Carry Women'!$AA$7:$AA$46,0))","v":0},"",{"$f":"MAX(IF($A54='25m Manikin Carry Women'!$C$7:$C$46,'25m Manikin Carry Women'!$AA$7:$AA$46,0))","v":0},"",{"$f":"MAX(IF($A54='100m Manikin Carry Women'!$C$7:$C$46,'100m Manikin Carry Women'!$AA$7:$AA$46,0))","v":0},"",{"$f":"MAX(IF($A54='50m Manikin Carry Women Fin'!$C$7:$C$46,'50m Manikin Carry Women Fin'!$AA$7:$AA$46,0))","v":0},"",{"$f":"MAX(IF($A54='100m Manikin Tow Women'!$C$7:$C$46,'100m Manikin Tow Women'!$AA$7:$AA$46,0))","v":0},"",{"$f":"MAX(IF($A54='50m Manikin Tow Women'!$C$7:$C$46,'50m Manikin Tow Women'!$AA$7:$AA$46,0))","v":0},"",{"$f":"MAX(IF($A54='200m Obs Women'!$C$7:$C$46,'200m Obs Women'!$AA$7:$AA$46,0))","v":0},"",{"$f":"MAX(IF($A54='100m Obs Women'!$C$7:$C$46,'100m Obs Women'!$AA$7:$AA$46,0))","v":0},"",{"$f":"MAX(IF($A54='50m Obs Women'!$C$7:$C$46,'50m Obs Women'!$AA$7:$AA$46,0))","v":0},"",{"$f":"MAX(IF($A54='200m Super Women'!$C$7:$C$46,'200m Super Women'!$AA$7:$AA$46,0))","v":0},"",{"$f":"MAX(IF($A54='100m Super Women'!$C$7:$C$46,'100m Super Women'!$AA$7:$AA$46,0))","v":0},"",{"$f":"MAX(IF($A54='100 Resue Women'!$C$7:$C$46,'100 Resue Women'!$AA$7:$AA$46,0))","v":0},"",{"$f":"MAX(IF($A54='50m Rescue Women'!$C$7:$C$46,'50m Rescue Women'!$AA$7:$AA$46,0))","v":0},"",{"$f":"MAX(IF($A54='Line Throw Women'!$C$7:$C$46,'Line Throw Women'!$AC$7:$AC$46,0))","v":0},"",{"$f":"MAX(IF($A54='4 x 50 Obs Relay Women'!$C$7:$C$46,'4 x 50 Obs Relay Women'!$AF$7:$AF$46,0))","v":0},"",{"$f":"MAX(IF($A54='4 x 25 Obs Relay Women'!$C$7:$C$46,'4 x 25 Obs Relay Women'!$AF$7:$AF$46,0))","v":0},"",{"$f":"MAX(IF($A54='4 x 50 medley Relay Women'!$C$7:$C$46,'4 x 50 medley Relay Women'!$AF$7:$AF$46,0))","v":0},"",{"$f":"MAX(IF($A54='4 x 25 Medley Relay Women'!$C$7:$C$46,'4 x 25 Medley Relay Women'!$AF$7:$AF$46,0))","v":0},"",{"$f":"MAX(IF($A54='4 x 25 Manikin Carry Women'!$C$7:$C$46,'4 x 25 Manikin Carry Women'!$AF$7:$AF$46,0))","v":0},"",{"$f":"MAX(IF($A54='4 x 12.5 Manikin Relay Women'!$C$7:$C$46,'4 x 12.5 Manikin Relay Women'!$AF$7:$AF$46,0))","v":0},"",{"$f":"MAX(IF($A54='Line Throw Relay Men'!$C$7:$C$46,'Line Throw Relay Men'!$AF$7:$AF$46,0))","v":0},"",{"$f":"MAX(IF($A54='Line Throw Relay Men'!$C$7:$C$46,'Line Throw Relay Men'!$AF$7:$AF$46,0))","v":0},"",{"$f":"MAX(IF($A54='Line Throw Relay Men'!$C$7:$C$46,'Line Throw Relay Men'!$AF$7:$AF$46,0))","v":0},"",{"$f":"SUM(IF(C$4:AR$4=\"\",\"\",C54:AR54))","v":0},"",""]
[{"$f":"IF(A20=\"\",\"\",A20)","v":""},"",{"$f":"MAX(IF($A55='50m Manikin Carry Women'!$C$7:$C$46,'50m Manikin Carry Women'!$AA$7:$AA$46,0))","v":0},"",{"$f":"MAX(IF($A55='25m Manikin Carry Women'!$C$7:$C$46,'25m Manikin Carry Women'!$AA$7:$AA$46,0))","v":0},"",{"$f":"MAX(IF($A55='100m Manikin Carry Women'!$C$7:$C$46,'100m Manikin Carry Women'!$AA$7:$AA$46,0))","v":0},"",{"$f":"MAX(IF($A55='50m Manikin Carry Women Fin'!$C$7:$C$46,'50m Manikin Carry Women Fin'!$AA$7:$AA$46,0))","v":0},"",{"$f":"MAX(IF($A55='100m Manikin Tow Women'!$C$7:$C$46,'100m Manikin Tow Women'!$AA$7:$AA$46,0))","v":0},"",{"$f":"MAX(IF($A55='50m Manikin Tow Women'!$C$7:$C$46,'50m Manikin Tow Women'!$AA$7:$AA$46,0))","v":0},"",{"$f":"MAX(IF($A55='200m Obs Women'!$C$7:$C$46,'200m Obs Women'!$AA$7:$AA$46,0))","v":0},"",{"$f":"MAX(IF($A55='100m Obs Women'!$C$7:$C$46,'100m Obs Women'!$AA$7:$AA$46,0))","v":0},"",{"$f":"MAX(IF($A55='50m Obs Women'!$C$7:$C$46,'50m Obs Women'!$AA$7:$AA$46,0))","v":0},"",{"$f":"MAX(IF($A55='200m Super Women'!$C$7:$C$46,'200m Super Women'!$AA$7:$AA$46,0))","v":0},"",{"$f":"MAX(IF($A55='100m Super Women'!$C$7:$C$46,'100m Super Women'!$AA$7:$AA$46,0))","v":0},"",{"$f":"MAX(IF($A55='100 Resue Women'!$C$7:$C$46,'100 Resue Women'!$AA$7:$AA$46,0))","v":0},"",{"$f":"MAX(IF($A55='50m Rescue Women'!$C$7:$C$46,'50m Rescue Women'!$AA$7:$AA$46,0))","v":0},"",{"$f":"MAX(IF($A55='Line Throw Women'!$C$7:$C$46,'Line Throw Women'!$AC$7:$AC$46,0))","v":0},"",{"$f":"MAX(IF($A55='4 x 50 Obs Relay Women'!$C$7:$C$46,'4 x 50 Obs Relay Women'!$AF$7:$AF$46,0))","v":0},"",{"$f":"MAX(IF($A55='4 x 25 Obs Relay Women'!$C$7:$C$46,'4 x 25 Obs Relay Women'!$AF$7:$AF$46,0))","v":0},"",{"$f":"MAX(IF($A55='4 x 50 medley Relay Women'!$C$7:$C$46,'4 x 50 medley Relay Women'!$AF$7:$AF$46,0))","v":0},"",{"$f":"MAX(IF($A55='4 x 25 Medley Relay Women'!$C$7:$C$46,'4 x 25 Medley Relay Women'!$AF$7:$AF$46,0))","v":0},"",{"$f":"MAX(IF($A55='4 x 25 Manikin Carry Women'!$C$7:$C$46,'4 x 25 Manikin Carry Women'!$AF$7:$AF$46,0))","v":0},"",{"$f":"MAX(IF($A55='4 x 12.5 Manikin Relay Women'!$C$7:$C$46,'4 x 12.5 Manikin Relay Women'!$AF$7:$AF$46,0))","v":0},"",{"$f":"MAX(IF($A55='Line Throw Relay Men'!$C$7:$C$46,'Line Throw Relay Men'!$AF$7:$AF$46,0))","v":0},"",{"$f":"MAX(IF($A55='Line Throw Relay Men'!$C$7:$C$46,'Line Throw Relay Men'!$AF$7:$AF$46,0))","v":0},"",{"$f":"MAX(IF($A55='Line Throw Relay Men'!$C$7:$C$46,'Line Throw Relay Men'!$AF$7:$AF$46,0))","v":0},"",{"$f":"SUM(IF(C$4:AR$4=\"\",\"\",C55:AR55))","v":0},"",""]
[{"$f":"IF(A21=\"\",\"\",A21)","v":""},"",{"$f":"MAX(IF($A56='50m Manikin Carry Women'!$C$7:$C$46,'50m Manikin Carry Women'!$AA$7:$AA$46,0))","v":0},"",{"$f":"MAX(IF($A56='25m Manikin Carry Women'!$C$7:$C$46,'25m Manikin Carry Women'!$AA$7:$AA$46,0))","v":0},"",{"$f":"MAX(IF($A56='100m Manikin Carry Women'!$C$7:$C$46,'100m Manikin Carry Women'!$AA$7:$AA$46,0))","v":0},"",{"$f":"MAX(IF($A56='50m Manikin Carry Women Fin'!$C$7:$C$46,'50m Manikin Carry Women Fin'!$AA$7:$AA$46,0))","v":0},"",{"$f":"MAX(IF($A56='100m Manikin Tow Women'!$C$7:$C$46,'100m Manikin Tow Women'!$AA$7:$AA$46,0))","v":0},"",{"$f":"MAX(IF($A56='50m Manikin Tow Women'!$C$7:$C$46,'50m Manikin Tow Women'!$AA$7:$AA$46,0))","v":0},"",{"$f":"MAX(IF($A56='200m Obs Women'!$C$7:$C$46,'200m Obs Women'!$AA$7:$AA$46,0))","v":0},"",{"$f":"MAX(IF($A56='100m Obs Women'!$C$7:$C$46,'100m Obs Women'!$AA$7:$AA$46,0))","v":0},"",{"$f":"MAX(IF($A56='50m Obs Women'!$C$7:$C$46,'50m Obs Women'!$AA$7:$AA$46,0))","v":0},"",{"$f":"MAX(IF($A56='200m Super Women'!$C$7:$C$46,'200m Super Women'!$AA$7:$AA$46,0))","v":0},"",{"$f":"MAX(IF($A56='100m Super Women'!$C$7:$C$46,'100m Super Women'!$AA$7:$AA$46,0))","v":0},"",{"$f":"MAX(IF($A56='100 Resue Women'!$C$7:$C$46,'100 Resue Women'!$AA$7:$AA$46,0))","v":0},"",{"$f":"MAX(IF($A56='50m Rescue Women'!$C$7:$C$46,'50m Rescue Women'!$AA$7:$AA$46,0))","v":0},"",{"$f":"MAX(IF($A56='Line Throw Women'!$C$7:$C$46,'Line Throw Women'!$AC$7:$AC$46,0))","v":0},"",{"$f":"MAX(IF($A56='4 x 50 Obs Relay Women'!$C$7:$C$46,'4 x 50 Obs Relay Women'!$AF$7:$AF$46,0))","v":0},"",{"$f":"MAX(IF($A56='4 x 25 Obs Relay Women'!$C$7:$C$46,'4 x 25 Obs Relay Women'!$AF$7:$AF$46,0))","v":0},"",{"$f":"MAX(IF($A56='4 x 50 medley Relay Women'!$C$7:$C$46,'4 x 50 medley Relay Women'!$AF$7:$AF$46,0))","v":0},"",{"$f":"MAX(IF($A56='4 x 25 Medley Relay Women'!$C$7:$C$46,'4 x 25 Medley Relay Women'!$AF$7:$AF$46,0))","v":0},"",{"$f":"MAX(IF($A56='4 x 25 Manikin Carry Women'!$C$7:$C$46,'4 x 25 Manikin Carry Women'!$AF$7:$AF$46,0))","v":0},"",{"$f":"MAX(IF($A56='4 x 12.5 Manikin Relay Women'!$C$7:$C$46,'4 x 12.5 Manikin Relay Women'!$AF$7:$AF$46,0))","v":0},"",{"$f":"MAX(IF($A56='Line Throw Relay Men'!$C$7:$C$46,'Line Throw Relay Men'!$AF$7:$AF$46,0))","v":0},"",{"$f":"MAX(IF($A56='Line Throw Relay Men'!$C$7:$C$46,'Line Throw Relay Men'!$AF$7:$AF$46,0))","v":0},"",{"$f":"MAX(IF($A56='Line Throw Relay Men'!$C$7:$C$46,'Line Throw Relay Men'!$AF$7:$AF$46,0))","v":0},"",{"$f":"SUM(IF(C$4:AR$4=\"\",\"\",C56:AR56))","v":0},"",""]
[{"$f":"IF(A22=\"\",\"\",A22)","v":""},"",{"$f":"MAX(IF($A57='50m Manikin Carry Women'!$C$7:$C$46,'50m Manikin Carry Women'!$AA$7:$AA$46,0))","v":0},"",{"$f":"MAX(IF($A57='25m Manikin Carry Women'!$C$7:$C$46,'25m Manikin Carry Women'!$AA$7:$AA$46,0))","v":0},"",{"$f":"MAX(IF($A57='100m Manikin Carry Women'!$C$7:$C$46,'100m Manikin Carry Women'!$AA$7:$AA$46,0))","v":0},"",{"$f":"MAX(IF($A57='50m Manikin Carry Women Fin'!$C$7:$C$46,'50m Manikin Carry Women Fin'!$AA$7:$AA$46,0))","v":0},"",{"$f":"MAX(IF($A57='100m Manikin Tow Women'!$C$7:$C$46,'100m Manikin Tow Women'!$AA$7:$AA$46,0))","v":0},"",{"$f":"MAX(IF($A57='50m Manikin Tow Women'!$C$7:$C$46,'50m Manikin Tow Women'!$AA$7:$AA$46,0))","v":0},"",{"$f":"MAX(IF($A57='200m Obs Women'!$C$7:$C$46,'200m Obs Women'!$AA$7:$AA$46,0))","v":0},"",{"$f":"MAX(IF($A57='100m Obs Women'!$C$7:$C$46,'100m Obs Women'!$AA$7:$AA$46,0))","v":0},"",{"$f":"MAX(IF($A57='50m Obs Women'!$C$7:$C$46,'50m Obs Women'!$AA$7:$AA$46,0))","v":0},"",{"$f":"MAX(IF($A57='200m Super Women'!$C$7:$C$46,'200m Super Women'!$AA$7:$AA$46,0))","v":0},"",{"$f":"MAX(IF($A57='100m Super Women'!$C$7:$C$46,'100m Super Women'!$AA$7:$AA$46,0))","v":0},"",{"$f":"MAX(IF($A57='100 Resue Women'!$C$7:$C$46,'100 Resue Women'!$AA$7:$AA$46,0))","v":0},"",{"$f":"MAX(IF($A57='50m Rescue Women'!$C$7:$C$46,'50m Rescue Women'!$AA$7:$AA$46,0))","v":0},"",{"$f":"MAX(IF($A57='Line Throw Women'!$C$7:$C$46,'Line Throw Women'!$AC$7:$AC$46,0))","v":0},"",{"$f":"MAX(IF($A57='4 x 50 Obs Relay Women'!$C$7:$C$46,'4 x 50 Obs Relay Women'!$AF$7:$AF$46,0))","v":0},"",{"$f":"MAX(IF($A57='4 x 25 Obs Relay Women'!$C$7:$C$46,'4 x 25 Obs Relay Women'!$AF$7:$AF$46,0))","v":0},"",{"$f":"MAX(IF($A57='4 x 50 medley Relay Women'!$C$7:$C$46,'4 x 50 medley Relay Women'!$AF$7:$AF$46,0))","v":0},"",{"$f":"MAX(IF($A57='4 x 25 Medley Relay Women'!$C$7:$C$46,'4 x 25 Medley Relay Women'!$AF$7:$AF$46,0))","v":0},"",{"$f":"MAX(IF($A57='4 x 25 Manikin Carry Women'!$C$7:$C$46,'4 x 25 Manikin Carry Women'!$AF$7:$AF$46,0))","v":0},"",{"$f":"MAX(IF($A57='4 x 12.5 Manikin Relay Women'!$C$7:$C$46,'4 x 12.5 Manikin Relay Women'!$AF$7:$AF$46,0))","v":0},"",{"$f":"MAX(IF($A57='Line Throw Relay Men'!$C$7:$C$46,'Line Throw Relay Men'!$AF$7:$AF$46,0))","v":0},"",{"$f":"MAX(IF($A57='Line Throw Relay Men'!$C$7:$C$46,'Line Throw Relay Men'!$AF$7:$AF$46,0))","v":0},"",{"$f":"MAX(IF($A57='Line Throw Relay Men'!$C$7:$C$46,'Line Throw Relay Men'!$AF$7:$AF$46,0))","v":0},"",{"$f":"SUM(IF(C$4:AR$4=\"\",\"\",C57:AR57))","v":0},"",""]
[{"$f":"IF(A23=\"\",\"\",A23)","v":""},"",{"$f":"MAX(IF($A58='50m Manikin Carry Women'!$C$7:$C$46,'50m Manikin Carry Women'!$AA$7:$AA$46,0))","v":0},"",{"$f":"MAX(IF($A58='25m Manikin Carry Women'!$C$7:$C$46,'25m Manikin Carry Women'!$AA$7:$AA$46,0))","v":0},"",{"$f":"MAX(IF($A58='100m Manikin Carry Women'!$C$7:$C$46,'100m Manikin Carry Women'!$AA$7:$AA$46,0))","v":0},"",{"$f":"MAX(IF($A58='50m Manikin Carry Women Fin'!$C$7:$C$46,'50m Manikin Carry Women Fin'!$AA$7:$AA$46,0))","v":0},"",{"$f":"MAX(IF($A58='100m Manikin Tow Women'!$C$7:$C$46,'100m Manikin Tow Women'!$AA$7:$AA$46,0))","v":0},"",{"$f":"MAX(IF($A58='50m Manikin Tow Women'!$C$7:$C$46,'50m Manikin Tow Women'!$AA$7:$AA$46,0))","v":0},"",{"$f":"MAX(IF($A58='200m Obs Women'!$C$7:$C$46,'200m Obs Women'!$AA$7:$AA$46,0))","v":0},"",{"$f":"MAX(IF($A58='100m Obs Women'!$C$7:$C$46,'100m Obs Women'!$AA$7:$AA$46,0))","v":0},"",{"$f":"MAX(IF($A58='50m Obs Women'!$C$7:$C$46,'50m Obs Women'!$AA$7:$AA$46,0))","v":0},"",{"$f":"MAX(IF($A58='200m Super Women'!$C$7:$C$46,'200m Super Women'!$AA$7:$AA$46,0))","v":0},"",{"$f":"MAX(IF($A58='100m Super Women'!$C$7:$C$46,'100m Super Women'!$AA$7:$AA$46,0))","v":0},"",{"$f":"MAX(IF($A58='100 Resue Women'!$C$7:$C$46,'100 Resue Women'!$AA$7:$AA$46,0))","v":0},"",{"$f":"MAX(IF($A58='50m Rescue Women'!$C$7:$C$46,'50m Rescue Women'!$AA$7:$AA$46,0))","v":0},"",{"$f":"MAX(IF($A58='Line Throw Women'!$C$7:$C$46,'Line Throw Women'!$AC$7:$AC$46,0))","v":0},"",{"$f":"MAX(IF($A58='4 x 50 Obs Relay Women'!$C$7:$C$46,'4 x 50 Obs Relay Women'!$AF$7:$AF$46,0))","v":0},"",{"$f":"MAX(IF($A58='4 x 25 Obs Relay Women'!$C$7:$C$46,'4 x 25 Obs Relay Women'!$AF$7:$AF$46,0))","v":0},"",{"$f":"MAX(IF($A58='4 x 50 medley Relay Women'!$C$7:$C$46,'4 x 50 medley Relay Women'!$AF$7:$AF$46,0))","v":0},"",{"$f":"MAX(IF($A58='4 x 25 Medley Relay Women'!$C$7:$C$46,'4 x 25 Medley Relay Women'!$AF$7:$AF$46,0))","v":0},"",{"$f":"MAX(IF($A58='4 x 25 Manikin Carry Women'!$C$7:$C$46,'4 x 25 Manikin Carry Women'!$AF$7:$AF$46,0))","v":0},"",{"$f":"MAX(IF($A58='4 x 12.5 Manikin Relay Women'!$C$7:$C$46,'4 x 12.5 Manikin Relay Women'!$AF$7:$AF$46,0))","v":0},"",{"$f":"MAX(IF($A58='Line Throw Relay Men'!$C$7:$C$46,'Line Throw Relay Men'!$AF$7:$AF$46,0))","v":0},"",{"$f":"MAX(IF($A58='Line Throw Relay Men'!$C$7:$C$46,'Line Throw Relay Men'!$AF$7:$AF$46,0))","v":0},"",{"$f":"MAX(IF($A58='Line Throw Relay Men'!$C$7:$C$46,'Line Throw Relay Men'!$AF$7:$AF$46,0))","v":0},"",{"$f":"SUM(IF(C$4:AR$4=\"\",\"\",C58:AR58))","v":0},"",""]
[{"$f":"IF(A24=\"\",\"\",A24)","v":""},"",{"$f":"MAX(IF($A59='50m Manikin Carry Women'!$C$7:$C$46,'50m Manikin Carry Women'!$AA$7:$AA$46,0))","v":0},"",{"$f":"MAX(IF($A59='25m Manikin Carry Women'!$C$7:$C$46,'25m Manikin Carry Women'!$AA$7:$AA$46,0))","v":0},"",{"$f":"MAX(IF($A59='100m Manikin Carry Women'!$C$7:$C$46,'100m Manikin Carry Women'!$AA$7:$AA$46,0))","v":0},"",{"$f":"MAX(IF($A59='50m Manikin Carry Women Fin'!$C$7:$C$46,'50m Manikin Carry Women Fin'!$AA$7:$AA$46,0))","v":0},"",{"$f":"MAX(IF($A59='100m Manikin Tow Women'!$C$7:$C$46,'100m Manikin Tow Women'!$AA$7:$AA$46,0))","v":0},"",{"$f":"MAX(IF($A59='50m Manikin Tow Women'!$C$7:$C$46,'50m Manikin Tow Women'!$AA$7:$AA$46,0))","v":0},"",{"$f":"MAX(IF($A59='200m Obs Women'!$C$7:$C$46,'200m Obs Women'!$AA$7:$AA$46,0))","v":0},"",{"$f":"MAX(IF($A59='100m Obs Women'!$C$7:$C$46,'100m Obs Women'!$AA$7:$AA$46,0))","v":0},"",{"$f":"MAX(IF($A59='50m Obs Women'!$C$7:$C$46,'50m Obs Women'!$AA$7:$AA$46,0))","v":0},"",{"$f":"MAX(IF($A59='200m Super Women'!$C$7:$C$46,'200m Super Women'!$AA$7:$AA$46,0))","v":0},"",{"$f":"MAX(IF($A59='100m Super Women'!$C$7:$C$46,'100m Super Women'!$AA$7:$AA$46,0))","v":0},"",{"$f":"MAX(IF($A59='100 Resue Women'!$C$7:$C$46,'100 Resue Women'!$AA$7:$AA$46,0))","v":0},"",{"$f":"MAX(IF($A59='50m Rescue Women'!$C$7:$C$46,'50m Rescue Women'!$AA$7:$AA$46,0))","v":0},"",{"$f":"MAX(IF($A59='Line Throw Women'!$C$7:$C$46,'Line Throw Women'!$AC$7:$AC$46,0))","v":0},"",{"$f":"MAX(IF($A59='4 x 50 Obs Relay Women'!$C$7:$C$46,'4 x 50 Obs Relay Women'!$AF$7:$AF$46,0))","v":0},"",{"$f":"MAX(IF($A59='4 x 25 Obs Relay Women'!$C$7:$C$46,'4 x 25 Obs Relay Women'!$AF$7:$AF$46,0))","v":0},"",{"$f":"MAX(IF($A59='4 x 50 medley Relay Women'!$C$7:$C$46,'4 x 50 medley Relay Women'!$AF$7:$AF$46,0))","v":0},"",{"$f":"MAX(IF($A59='4 x 25 Medley Relay Women'!$C$7:$C$46,'4 x 25 Medley Relay Women'!$AF$7:$AF$46,0))","v":0},"",{"$f":"MAX(IF($A59='4 x 25 Manikin Carry Women'!$C$7:$C$46,'4 x 25 Manikin Carry Women'!$AF$7:$AF$46,0))","v":0},"",{"$f":"MAX(IF($A59='4 x 12.5 Manikin Relay Women'!$C$7:$C$46,'4 x 12.5 Manikin Relay Women'!$AF$7:$AF$46,0))","v":0},"",{"$f":"MAX(IF($A59='Line Throw Relay Men'!$C$7:$C$46,'Line Throw Relay Men'!$AF$7:$AF$46,0))","v":0},"",{"$f":"MAX(IF($A59='Line Throw Relay Men'!$C$7:$C$46,'Line Throw Relay Men'!$AF$7:$AF$46,0))","v":0},"",{"$f":"MAX(IF($A59='Line Throw Relay Men'!$C$7:$C$46,'Line Throw Relay Men'!$AF$7:$AF$46,0))","v":0},"",{"$f":"SUM(IF(C$4:AR$4=\"\",\"\",C59:AR59))","v":0},"",""]
[{"$f":"IF(A25=\"\",\"\",A25)","v":""},"",{"$f":"MAX(IF($A60='50m Manikin Carry Women'!$C$7:$C$46,'50m Manikin Carry Women'!$AA$7:$AA$46,0))","v":0},"",{"$f":"MAX(IF($A60='25m Manikin Carry Women'!$C$7:$C$46,'25m Manikin Carry Women'!$AA$7:$AA$46,0))","v":0},"",{"$f":"MAX(IF($A60='100m Manikin Carry Women'!$C$7:$C$46,'100m Manikin Carry Women'!$AA$7:$AA$46,0))","v":0},"",{"$f":"MAX(IF($A60='50m Manikin Carry Women Fin'!$C$7:$C$46,'50m Manikin Carry Women Fin'!$AA$7:$AA$46,0))","v":0},"",{"$f":"MAX(IF($A60='100m Manikin Tow Women'!$C$7:$C$46,'100m Manikin Tow Women'!$AA$7:$AA$46,0))","v":0},"",{"$f":"MAX(IF($A60='50m Manikin Tow Women'!$C$7:$C$46,'50m Manikin Tow Women'!$AA$7:$AA$46,0))","v":0},"",{"$f":"MAX(IF($A60='200m Obs Women'!$C$7:$C$46,'200m Obs Women'!$AA$7:$AA$46,0))","v":0},"",{"$f":"MAX(IF($A60='100m Obs Women'!$C$7:$C$46,'100m Obs Women'!$AA$7:$AA$46,0))","v":0},"",{"$f":"MAX(IF($A60='50m Obs Women'!$C$7:$C$46,'50m Obs Women'!$AA$7:$AA$46,0))","v":0},"",{"$f":"MAX(IF($A60='200m Super Women'!$C$7:$C$46,'200m Super Women'!$AA$7:$AA$46,0))","v":0},"",{"$f":"MAX(IF($A60='100m Super Women'!$C$7:$C$46,'100m Super Women'!$AA$7:$AA$46,0))","v":0},"",{"$f":"MAX(IF($A60='100 Resue Women'!$C$7:$C$46,'100 Resue Women'!$AA$7:$AA$46,0))","v":0},"",{"$f":"MAX(IF($A60='50m Rescue Women'!$C$7:$C$46,'50m Rescue Women'!$AA$7:$AA$46,0))","v":0},"",{"$f":"MAX(IF($A60='Line Throw Women'!$C$7:$C$46,'Line Throw Women'!$AC$7:$AC$46,0))","v":0},"",{"$f":"MAX(IF($A60='4 x 50 Obs Relay Women'!$C$7:$C$46,'4 x 50 Obs Relay Women'!$AF$7:$AF$46,0))","v":0},"",{"$f":"MAX(IF($A60='4 x 25 Obs Relay Women'!$C$7:$C$46,'4 x 25 Obs Relay Women'!$AF$7:$AF$46,0))","v":0},"",{"$f":"MAX(IF($A60='4 x 50 medley Relay Women'!$C$7:$C$46,'4 x 50 medley Relay Women'!$AF$7:$AF$46,0))","v":0},"",{"$f":"MAX(IF($A60='4 x 25 Medley Relay Women'!$C$7:$C$46,'4 x 25 Medley Relay Women'!$AF$7:$AF$46,0))","v":0},"",{"$f":"MAX(IF($A60='4 x 25 Manikin Carry Women'!$C$7:$C$46,'4 x 25 Manikin Carry Women'!$AF$7:$AF$46,0))","v":0},"",{"$f":"MAX(IF($A60='4 x 12.5 Manikin Relay Women'!$C$7:$C$46,'4 x 12.5 Manikin Relay Women'!$AF$7:$AF$46,0))","v":0},"",{"$f":"MAX(IF($A60='Line Throw Relay Men'!$C$7:$C$46,'Line Throw Relay Men'!$AF$7:$AF$46,0))","v":0},"",{"$f":"MAX(IF($A60='Line Throw Relay Men'!$C$7:$C$46,'Line Throw Relay Men'!$AF$7:$AF$46,0))","v":0},"",{"$f":"MAX(IF($A60='Line Throw Relay Men'!$C$7:$C$46,'Line Throw Relay Men'!$AF$7:$AF$46,0))","v":0},"",{"$f":"SUM(IF(C$4:AR$4=\"\",\"\",C60:AR60))","v":0},"",""]
[{"$f":"IF(A26=\"\",\"\",A26)","v":""},"",{"$f":"MAX(IF($A61='50m Manikin Carry Women'!$C$7:$C$46,'50m Manikin Carry Women'!$AA$7:$AA$46,0))","v":0},"",{"$f":"MAX(IF($A61='25m Manikin Carry Women'!$C$7:$C$46,'25m Manikin Carry Women'!$AA$7:$AA$46,0))","v":0},"",{"$f":"MAX(IF($A61='100m Manikin Carry Women'!$C$7:$C$46,'100m Manikin Carry Women'!$AA$7:$AA$46,0))","v":0},"",{"$f":"MAX(IF($A61='50m Manikin Carry Women Fin'!$C$7:$C$46,'50m Manikin Carry Women Fin'!$AA$7:$AA$46,0))","v":0},"",{"$f":"MAX(IF($A61='100m Manikin Tow Women'!$C$7:$C$46,'100m Manikin Tow Women'!$AA$7:$AA$46,0))","v":0},"",{"$f":"MAX(IF($A61='50m Manikin Tow Women'!$C$7:$C$46,'50m Manikin Tow Women'!$AA$7:$AA$46,0))","v":0},"",{"$f":"MAX(IF($A61='200m Obs Women'!$C$7:$C$46,'200m Obs Women'!$AA$7:$AA$46,0))","v":0},"",{"$f":"MAX(IF($A61='100m Obs Women'!$C$7:$C$46,'100m Obs Women'!$AA$7:$AA$46,0))","v":0},"",{"$f":"MAX(IF($A61='50m Obs Women'!$C$7:$C$46,'50m Obs Women'!$AA$7:$AA$46,0))","v":0},"",{"$f":"MAX(IF($A61='200m Super Women'!$C$7:$C$46,'200m Super Women'!$AA$7:$AA$46,0))","v":0},"",{"$f":"MAX(IF($A61='100m Super Women'!$C$7:$C$46,'100m Super Women'!$AA$7:$AA$46,0))","v":0},"",{"$f":"MAX(IF($A61='100 Resue Women'!$C$7:$C$46,'100 Resue Women'!$AA$7:$AA$46,0))","v":0},"",{"$f":"MAX(IF($A61='50m Rescue Women'!$C$7:$C$46,'50m Rescue Women'!$AA$7:$AA$46,0))","v":0},"",{"$f":"MAX(IF($A61='Line Throw Women'!$C$7:$C$46,'Line Throw Women'!$AC$7:$AC$46,0))","v":0},"",{"$f":"MAX(IF($A61='4 x 50 Obs Relay Women'!$C$7:$C$46,'4 x 50 Obs Relay Women'!$AF$7:$AF$46,0))","v":0},"",{"$f":"MAX(IF($A61='4 x 25 Obs Relay Women'!$C$7:$C$46,'4 x 25 Obs Relay Women'!$AF$7:$AF$46,0))","v":0},"",{"$f":"MAX(IF($A61='4 x 50 medley Relay Women'!$C$7:$C$46,'4 x 50 medley Relay Women'!$AF$7:$AF$46,0))","v":0},"",{"$f":"MAX(IF($A61='4 x 25 Medley Relay Women'!$C$7:$C$46,'4 x 25 Medley Relay Women'!$AF$7:$AF$46,0))","v":0},"",{"$f":"MAX(IF($A61='4 x 25 Manikin Carry Women'!$C$7:$C$46,'4 x 25 Manikin Carry Women'!$AF$7:$AF$46,0))","v":0},"",{"$f":"MAX(IF($A61='4 x 12.5 Manikin Relay Women'!$C$7:$C$46,'4 x 12.5 Manikin Relay Women'!$AF$7:$AF$46,0))","v":0},"",{"$f":"MAX(IF($A61='Line Throw Relay Men'!$C$7:$C$46,'Line Throw Relay Men'!$AF$7:$AF$46,0))","v":0},"",{"$f":"MAX(IF($A61='Line Throw Relay Men'!$C$7:$C$46,'Line Throw Relay Men'!$AF$7:$AF$46,0))","v":0},"",{"$f":"MAX(IF($A61='Line Throw Relay Men'!$C$7:$C$46,'Line Throw Relay Men'!$AF$7:$AF$46,0))","v":0},"",{"$f":"SUM(IF(C$4:AR$4=\"\",\"\",C61:AR61))","v":0},"",""]
[{"$f":"IF(A27=\"\",\"\",A27)","v":""},"",{"$f":"MAX(IF($A62='50m Manikin Carry Women'!$C$7:$C$46,'50m Manikin Carry Women'!$AA$7:$AA$46,0))","v":0},"",{"$f":"MAX(IF($A62='25m Manikin Carry Women'!$C$7:$C$46,'25m Manikin Carry Women'!$AA$7:$AA$46,0))","v":0},"",{"$f":"MAX(IF($A62='100m Manikin Carry Women'!$C$7:$C$46,'100m Manikin Carry Women'!$AA$7:$AA$46,0))","v":0},"",{"$f":"MAX(IF($A62='50m Manikin Carry Women Fin'!$C$7:$C$46,'50m Manikin Carry Women Fin'!$AA$7:$AA$46,0))","v":0},"",{"$f":"MAX(IF($A62='100m Manikin Tow Women'!$C$7:$C$46,'100m Manikin Tow Women'!$AA$7:$AA$46,0))","v":0},"",{"$f":"MAX(IF($A62='50m Manikin Tow Women'!$C$7:$C$46,'50m Manikin Tow Women'!$AA$7:$AA$46,0))","v":0},"",{"$f":"MAX(IF($A62='200m Obs Women'!$C$7:$C$46,'200m Obs Women'!$AA$7:$AA$46,0))","v":0},"",{"$f":"MAX(IF($A62='100m Obs Women'!$C$7:$C$46,'100m Obs Women'!$AA$7:$AA$46,0))","v":0},"",{"$f":"MAX(IF($A62='50m Obs Women'!$C$7:$C$46,'50m Obs Women'!$AA$7:$AA$46,0))","v":0},"",{"$f":"MAX(IF($A62='200m Super Women'!$C$7:$C$46,'200m Super Women'!$AA$7:$AA$46,0))","v":0},"",{"$f":"MAX(IF($A62='100m Super Women'!$C$7:$C$46,'100m Super Women'!$AA$7:$AA$46,0))","v":0},"",{"$f":"MAX(IF($A62='100 Resue Women'!$C$7:$C$46,'100 Resue Women'!$AA$7:$AA$46,0))","v":0},"",{"$f":"MAX(IF($A62='50m Rescue Women'!$C$7:$C$46,'50m Rescue Women'!$AA$7:$AA$46,0))","v":0},"",{"$f":"MAX(IF($A62='Line Throw Women'!$C$7:$C$46,'Line Throw Women'!$AC$7:$AC$46,0))","v":0},"",{"$f":"MAX(IF($A62='4 x 50 Obs Relay Women'!$C$7:$C$46,'4 x 50 Obs Relay Women'!$AF$7:$AF$46,0))","v":0},"",{"$f":"MAX(IF($A62='4 x 25 Obs Relay Women'!$C$7:$C$46,'4 x 25 Obs Relay Women'!$AF$7:$AF$46,0))","v":0},"",{"$f":"MAX(IF($A62='4 x 50 medley Relay Women'!$C$7:$C$46,'4 x 50 medley Relay Women'!$AF$7:$AF$46,0))","v":0},"",{"$f":"MAX(IF($A62='4 x 25 Medley Relay Women'!$C$7:$C$46,'4 x 25 Medley Relay Women'!$AF$7:$AF$46,0))","v":0},"",{"$f":"MAX(IF($A62='4 x 25 Manikin Carry Women'!$C$7:$C$46,'4 x 25 Manikin Carry Women'!$AF$7:$AF$46,0))","v":0},"",{"$f":"MAX(IF($A62='4 x 12.5 Manikin Relay Women'!$C$7:$C$46,'4 x 12.5 Manikin Relay Women'!$AF$7:$AF$46,0))","v":0},"",{"$f":"MAX(IF($A62='Line Throw Relay Men'!$C$7:$C$46,'Line Throw Relay Men'!$AF$7:$AF$46,0))","v":0},"",{"$f":"MAX(IF($A62='Line Throw Relay Men'!$C$7:$C$46,'Line Throw Relay Men'!$AF$7:$AF$46,0))","v":0},"",{"$f":"MAX(IF($A62='Line Throw Relay Men'!$C$7:$C$46,'Line Throw Relay Men'!$AF$7:$AF$46,0))","v":0},"",{"$f":"SUM(IF(C$4:AR$4=\"\",\"\",C62:AR62))","v":0},"",""]
[{"$f":"IF(A28=\"\",\"\",A28)","v":""},"",{"$f":"MAX(IF($A63='50m Manikin Carry Women'!$C$7:$C$46,'50m Manikin Carry Women'!$AA$7:$AA$46,0))","v":0},"",{"$f":"MAX(IF($A63='25m Manikin Carry Women'!$C$7:$C$46,'25m Manikin Carry Women'!$AA$7:$AA$46,0))","v":0},"",{"$f":"MAX(IF($A63='100m Manikin Carry Women'!$C$7:$C$46,'100m Manikin Carry Women'!$AA$7:$AA$46,0))","v":0},"",{"$f":"MAX(IF($A63='50m Manikin Carry Women Fin'!$C$7:$C$46,'50m Manikin Carry Women Fin'!$AA$7:$AA$46,0))","v":0},"",{"$f":"MAX(IF($A63='100m Manikin Tow Women'!$C$7:$C$46,'100m Manikin Tow Women'!$AA$7:$AA$46,0))","v":0},"",{"$f":"MAX(IF($A63='50m Manikin Tow Women'!$C$7:$C$46,'50m Manikin Tow Women'!$AA$7:$AA$46,0))","v":0},"",{"$f":"MAX(IF($A63='200m Obs Women'!$C$7:$C$46,'200m Obs Women'!$AA$7:$AA$46,0))","v":0},"",{"$f":"MAX(IF($A63='100m Obs Women'!$C$7:$C$46,'100m Obs Women'!$AA$7:$AA$46,0))","v":0},"",{"$f":"MAX(IF($A63='50m Obs Women'!$C$7:$C$46,'50m Obs Women'!$AA$7:$AA$46,0))","v":0},"",{"$f":"MAX(IF($A63='200m Super Women'!$C$7:$C$46,'200m Super Women'!$AA$7:$AA$46,0))","v":0},"",{"$f":"MAX(IF($A63='100m Super Women'!$C$7:$C$46,'100m Super Women'!$AA$7:$AA$46,0))","v":0},"",{"$f":"MAX(IF($A63='100 Resue Women'!$C$7:$C$46,'100 Resue Women'!$AA$7:$AA$46,0))","v":0},"",{"$f":"MAX(IF($A63='50m Rescue Women'!$C$7:$C$46,'50m Rescue Women'!$AA$7:$AA$46,0))","v":0},"",{"$f":"MAX(IF($A63='Line Throw Women'!$C$7:$C$46,'Line Throw Women'!$AC$7:$AC$46,0))","v":0},"",{"$f":"MAX(IF($A63='4 x 50 Obs Relay Women'!$C$7:$C$46,'4 x 50 Obs Relay Women'!$AF$7:$AF$46,0))","v":0},"",{"$f":"MAX(IF($A63='4 x 25 Obs Relay Women'!$C$7:$C$46,'4 x 25 Obs Relay Women'!$AF$7:$AF$46,0))","v":0},"",{"$f":"MAX(IF($A63='4 x 50 medley Relay Women'!$C$7:$C$46,'4 x 50 medley Relay Women'!$AF$7:$AF$46,0))","v":0},"",{"$f":"MAX(IF($A63='4 x 25 Medley Relay Women'!$C$7:$C$46,'4 x 25 Medley Relay Women'!$AF$7:$AF$46,0))","v":0},"",{"$f":"MAX(IF($A63='4 x 25 Manikin Carry Women'!$C$7:$C$46,'4 x 25 Manikin Carry Women'!$AF$7:$AF$46,0))","v":0},"",{"$f":"MAX(IF($A63='4 x 12.5 Manikin Relay Women'!$C$7:$C$46,'4 x 12.5 Manikin Relay Women'!$AF$7:$AF$46,0))","v":0},"",{"$f":"MAX(IF($A63='Line Throw Relay Men'!$C$7:$C$46,'Line Throw Relay Men'!$AF$7:$AF$46,0))","v":0},"",{"$f":"MAX(IF($A63='Line Throw Relay Men'!$C$7:$C$46,'Line Throw Relay Men'!$AF$7:$AF$46,0))","v":0},"",{"$f":"MAX(IF($A63='Line Throw Relay Men'!$C$7:$C$46,'Line Throw Relay Men'!$AF$7:$AF$46,0))","v":0},"",{"$f":"SUM(IF(C$4:AR$4=\"\",\"\",C63:AR63))","v":0},"",""]
[{"$f":"IF(A29=\"\",\"\",A29)","v":""},"",{"$f":"MAX(IF($A64='50m Manikin Carry Women'!$C$7:$C$46,'50m Manikin Carry Women'!$AA$7:$AA$46,0))","v":0},"",{"$f":"MAX(IF($A64='25m Manikin Carry Women'!$C$7:$C$46,'25m Manikin Carry Women'!$AA$7:$AA$46,0))","v":0},"",{"$f":"MAX(IF($A64='100m Manikin Carry Women'!$C$7:$C$46,'100m Manikin Carry Women'!$AA$7:$AA$46,0))","v":0},"",{"$f":"MAX(IF($A64='50m Manikin Carry Women Fin'!$C$7:$C$46,'50m Manikin Carry Women Fin'!$AA$7:$AA$46,0))","v":0},"",{"$f":"MAX(IF($A64='100m Manikin Tow Women'!$C$7:$C$46,'100m Manikin Tow Women'!$AA$7:$AA$46,0))","v":0},"",{"$f":"MAX(IF($A64='50m Manikin Tow Women'!$C$7:$C$46,'50m Manikin Tow Women'!$AA$7:$AA$46,0))","v":0},"",{"$f":"MAX(IF($A64='200m Obs Women'!$C$7:$C$46,'200m Obs Women'!$AA$7:$AA$46,0))","v":0},"",{"$f":"MAX(IF($A64='100m Obs Women'!$C$7:$C$46,'100m Obs Women'!$AA$7:$AA$46,0))","v":0},"",{"$f":"MAX(IF($A64='50m Obs Women'!$C$7:$C$46,'50m Obs Women'!$AA$7:$AA$46,0))","v":0},"",{"$f":"MAX(IF($A64='200m Super Women'!$C$7:$C$46,'200m Super Women'!$AA$7:$AA$46,0))","v":0},"",{"$f":"MAX(IF($A64='100m Super Women'!$C$7:$C$46,'100m Super Women'!$AA$7:$AA$46,0))","v":0},"",{"$f":"MAX(IF($A64='100 Resue Women'!$C$7:$C$46,'100 Resue Women'!$AA$7:$AA$46,0))","v":0},"",{"$f":"MAX(IF($A64='50m Rescue Women'!$C$7:$C$46,'50m Rescue Women'!$AA$7:$AA$46,0))","v":0},"",{"$f":"MAX(IF($A64='Line Throw Women'!$C$7:$C$46,'Line Throw Women'!$AC$7:$AC$46,0))","v":0},"",{"$f":"MAX(IF($A64='4 x 50 Obs Relay Women'!$C$7:$C$46,'4 x 50 Obs Relay Women'!$AF$7:$AF$46,0))","v":0},"",{"$f":"MAX(IF($A64='4 x 25 Obs Relay Women'!$C$7:$C$46,'4 x 25 Obs Relay Women'!$AF$7:$AF$46,0))","v":0},"",{"$f":"MAX(IF($A64='4 x 50 medley Relay Women'!$C$7:$C$46,'4 x 50 medley Relay Women'!$AF$7:$AF$46,0))","v":0},"",{"$f":"MAX(IF($A64='4 x 25 Medley Relay Women'!$C$7:$C$46,'4 x 25 Medley Relay Women'!$AF$7:$AF$46,0))","v":0},"",{"$f":"MAX(IF($A64='4 x 25 Manikin Carry Women'!$C$7:$C$46,'4 x 25 Manikin Carry Women'!$AF$7:$AF$46,0))","v":0},"",{"$f":"MAX(IF($A64='4 x 12.5 Manikin Relay Women'!$C$7:$C$46,'4 x 12.5 Manikin Relay Women'!$AF$7:$AF$46,0))","v":0},"",{"$f":"MAX(IF($A64='Line Throw Relay Men'!$C$7:$C$46,'Line Throw Relay Men'!$AF$7:$AF$46,0))","v":0},"",{"$f":"MAX(IF($A64='Line Throw Relay Men'!$C$7:$C$46,'Line Throw Relay Men'!$AF$7:$AF$46,0))","v":0},"",{"$f":"MAX(IF($A64='Line Throw Relay Men'!$C$7:$C$46,'Line Throw Relay Men'!$AF$7:$AF$46,0))","v":0},"",{"$f":"SUM(IF(C$4:AR$4=\"\",\"\",C64:AR64))","v":0},"",""]
[{"$f":"IF(A30=\"\",\"\",A30)","v":""},"",{"$f":"MAX(IF($A65='50m Manikin Carry Women'!$C$7:$C$46,'50m Manikin Carry Women'!$AA$7:$AA$46,0))","v":0},"",{"$f":"MAX(IF($A65='25m Manikin Carry Women'!$C$7:$C$46,'25m Manikin Carry Women'!$AA$7:$AA$46,0))","v":0},"",{"$f":"MAX(IF($A65='100m Manikin Carry Women'!$C$7:$C$46,'100m Manikin Carry Women'!$AA$7:$AA$46,0))","v":0},"",{"$f":"MAX(IF($A65='50m Manikin Carry Women Fin'!$C$7:$C$46,'50m Manikin Carry Women Fin'!$AA$7:$AA$46,0))","v":0},"",{"$f":"MAX(IF($A65='100m Manikin Tow Women'!$C$7:$C$46,'100m Manikin Tow Women'!$AA$7:$AA$46,0))","v":0},"",{"$f":"MAX(IF($A65='50m Manikin Tow Women'!$C$7:$C$46,'50m Manikin Tow Women'!$AA$7:$AA$46,0))","v":0},"",{"$f":"MAX(IF($A65='200m Obs Women'!$C$7:$C$46,'200m Obs Women'!$AA$7:$AA$46,0))","v":0},"",{"$f":"MAX(IF($A65='100m Obs Women'!$C$7:$C$46,'100m Obs Women'!$AA$7:$AA$46,0))","v":0},"",{"$f":"MAX(IF($A65='50m Obs Women'!$C$7:$C$46,'50m Obs Women'!$AA$7:$AA$46,0))","v":0},"",{"$f":"MAX(IF($A65='200m Super Women'!$C$7:$C$46,'200m Super Women'!$AA$7:$AA$46,0))","v":0},"",{"$f":"MAX(IF($A65='100m Super Women'!$C$7:$C$46,'100m Super Women'!$AA$7:$AA$46,0))","v":0},"",{"$f":"MAX(IF($A65='100 Resue Women'!$C$7:$C$46,'100 Resue Women'!$AA$7:$AA$46,0))","v":0},"",{"$f":"MAX(IF($A65='50m Rescue Women'!$C$7:$C$46,'50m Rescue Women'!$AA$7:$AA$46,0))","v":0},"",{"$f":"MAX(IF($A65='Line Throw Women'!$C$7:$C$46,'Line Throw Women'!$AC$7:$AC$46,0))","v":0},"",{"$f":"MAX(IF($A65='4 x 50 Obs Relay Women'!$C$7:$C$46,'4 x 50 Obs Relay Women'!$AF$7:$AF$46,0))","v":0},"",{"$f":"MAX(IF($A65='4 x 25 Obs Relay Women'!$C$7:$C$46,'4 x 25 Obs Relay Women'!$AF$7:$AF$46,0))","v":0},"",{"$f":"MAX(IF($A65='4 x 50 medley Relay Women'!$C$7:$C$46,'4 x 50 medley Relay Women'!$AF$7:$AF$46,0))","v":0},"",{"$f":"MAX(IF($A65='4 x 25 Medley Relay Women'!$C$7:$C$46,'4 x 25 Medley Relay Women'!$AF$7:$AF$46,0))","v":0},"",{"$f":"MAX(IF($A65='4 x 25 Manikin Carry Women'!$C$7:$C$46,'4 x 25 Manikin Carry Women'!$AF$7:$AF$46,0))","v":0},"",{"$f":"MAX(IF($A65='4 x 12.5 Manikin Relay Women'!$C$7:$C$46,'4 x 12.5 Manikin Relay Women'!$AF$7:$AF$46,0))","v":0},"",{"$f":"MAX(IF($A65='Line Throw Relay Men'!$C$7:$C$46,'Line Throw Relay Men'!$AF$7:$AF$46,0))","v":0},"",{"$f":"MAX(IF($A65='Line Throw Relay Men'!$C$7:$C$46,'Line Throw Relay Men'!$AF$7:$AF$46,0))","v":0},"",{"$f":"MAX(IF($A65='Line Throw Relay Men'!$C$7:$C$46,'Line Throw Relay Men'!$AF$7:$AF$46,0))","v":0},"",{"$f":"SUM(IF(C$4:AR$4=\"\",\"\",C65:AR65))","v":0},"",""]
[{"$f":"IF(A31=\"\",\"\",A31)","v":""},"",{"$f":"MAX(IF($A66='50m Manikin Carry Women'!$C$7:$C$46,'50m Manikin Carry Women'!$AA$7:$AA$46,0))","v":0},"",{"$f":"MAX(IF($A66='25m Manikin Carry Women'!$C$7:$C$46,'25m Manikin Carry Women'!$AA$7:$AA$46,0))","v":0},"",{"$f":"MAX(IF($A66='100m Manikin Carry Women'!$C$7:$C$46,'100m Manikin Carry Women'!$AA$7:$AA$46,0))","v":0},"",{"$f":"MAX(IF($A66='50m Manikin Carry Women Fin'!$C$7:$C$46,'50m Manikin Carry Women Fin'!$AA$7:$AA$46,0))","v":0},"",{"$f":"MAX(IF($A66='100m Manikin Tow Women'!$C$7:$C$46,'100m Manikin Tow Women'!$AA$7:$AA$46,0))","v":0},"",{"$f":"MAX(IF($A66='50m Manikin Tow Women'!$C$7:$C$46,'50m Manikin Tow Women'!$AA$7:$AA$46,0))","v":0},"",{"$f":"MAX(IF($A66='200m Obs Women'!$C$7:$C$46,'200m Obs Women'!$AA$7:$AA$46,0))","v":0},"",{"$f":"MAX(IF($A66='100m Obs Women'!$C$7:$C$46,'100m Obs Women'!$AA$7:$AA$46,0))","v":0},"",{"$f":"MAX(IF($A66='50m Obs Women'!$C$7:$C$46,'50m Obs Women'!$AA$7:$AA$46,0))","v":0},"",{"$f":"MAX(IF($A66='200m Super Women'!$C$7:$C$46,'200m Super Women'!$AA$7:$AA$46,0))","v":0},"",{"$f":"MAX(IF($A66='100m Super Women'!$C$7:$C$46,'100m Super Women'!$AA$7:$AA$46,0))","v":0},"",{"$f":"MAX(IF($A66='100 Resue Women'!$C$7:$C$46,'100 Resue Women'!$AA$7:$AA$46,0))","v":0},"",{"$f":"MAX(IF($A66='50m Rescue Women'!$C$7:$C$46,'50m Rescue Women'!$AA$7:$AA$46,0))","v":0},"",{"$f":"MAX(IF($A66='Line Throw Women'!$C$7:$C$46,'Line Throw Women'!$AC$7:$AC$46,0))","v":0},"",{"$f":"MAX(IF($A66='4 x 50 Obs Relay Women'!$C$7:$C$46,'4 x 50 Obs Relay Women'!$AF$7:$AF$46,0))","v":0},"",{"$f":"MAX(IF($A66='4 x 25 Obs Relay Women'!$C$7:$C$46,'4 x 25 Obs Relay Women'!$AF$7:$AF$46,0))","v":0},"",{"$f":"MAX(IF($A66='4 x 50 medley Relay Women'!$C$7:$C$46,'4 x 50 medley Relay Women'!$AF$7:$AF$46,0))","v":0},"",{"$f":"MAX(IF($A66='4 x 25 Medley Relay Women'!$C$7:$C$46,'4 x 25 Medley Relay Women'!$AF$7:$AF$46,0))","v":0},"",{"$f":"MAX(IF($A66='4 x 25 Manikin Carry Women'!$C$7:$C$46,'4 x 25 Manikin Carry Women'!$AF$7:$AF$46,0))","v":0},"",{"$f":"MAX(IF($A66='4 x 12.5 Manikin Relay Women'!$C$7:$C$46,'4 x 12.5 Manikin Relay Women'!$AF$7:$AF$46,0))","v":0},"",{"$f":"MAX(IF($A66='Line Throw Relay Men'!$C$7:$C$46,'Line Throw Relay Men'!$AF$7:$AF$46,0))","v":0},"",{"$f":"MAX(IF($A66='Line Throw Relay Men'!$C$7:$C$46,'Line Throw Relay Men'!$AF$7:$AF$46,0))","v":0},"",{"$f":"MAX(IF($A66='Line Throw Relay Men'!$C$7:$C$46,'Line Throw Relay Men'!$AF$7:$AF$46,0))","v":0},"",{"$f":"SUM(IF(C$4:AR$4=\"\",\"\",C66:AR66))","v":0},"",""]
[{"$f":"IF(A32=\"\",\"\",A32)","v":""},"",{"$f":"MAX(IF($A67='50m Manikin Carry Women'!$C$7:$C$46,'50m Manikin Carry Women'!$AA$7:$AA$46,0))","v":0},"",{"$f":"MAX(IF($A67='25m Manikin Carry Women'!$C$7:$C$46,'25m Manikin Carry Women'!$AA$7:$AA$46,0))","v":0},"",{"$f":"MAX(IF($A67='100m Manikin Carry Women'!$C$7:$C$46,'100m Manikin Carry Women'!$AA$7:$AA$46,0))","v":0},"",{"$f":"MAX(IF($A67='50m Manikin Carry Women Fin'!$C$7:$C$46,'50m Manikin Carry Women Fin'!$AA$7:$AA$46,0))","v":0},"",{"$f":"MAX(IF($A67='100m Manikin Tow Women'!$C$7:$C$46,'100m Manikin Tow Women'!$AA$7:$AA$46,0))","v":0},"",{"$f":"MAX(IF($A67='50m Manikin Tow Women'!$C$7:$C$46,'50m Manikin Tow Women'!$AA$7:$AA$46,0))","v":0},"",{"$f":"MAX(IF($A67='200m Obs Women'!$C$7:$C$46,'200m Obs Women'!$AA$7:$AA$46,0))","v":0},"",{"$f":"MAX(IF($A67='100m Obs Women'!$C$7:$C$46,'100m Obs Women'!$AA$7:$AA$46,0))","v":0},"",{"$f":"MAX(IF($A67='50m Obs Women'!$C$7:$C$46,'50m Obs Women'!$AA$7:$AA$46,0))","v":0},"",{"$f":"MAX(IF($A67='200m Super Women'!$C$7:$C$46,'200m Super Women'!$AA$7:$AA$46,0))","v":0},"",{"$f":"MAX(IF($A67='100m Super Women'!$C$7:$C$46,'100m Super Women'!$AA$7:$AA$46,0))","v":0},"",{"$f":"MAX(IF($A67='100 Resue Women'!$C$7:$C$46,'100 Resue Women'!$AA$7:$AA$46,0))","v":0},"",{"$f":"MAX(IF($A67='50m Rescue Women'!$C$7:$C$46,'50m Rescue Women'!$AA$7:$AA$46,0))","v":0},"",{"$f":"MAX(IF($A67='Line Throw Women'!$C$7:$C$46,'Line Throw Women'!$AC$7:$AC$46,0))","v":0},"",{"$f":"MAX(IF($A67='4 x 50 Obs Relay Women'!$C$7:$C$46,'4 x 50 Obs Relay Women'!$AF$7:$AF$46,0))","v":0},"",{"$f":"MAX(IF($A67='4 x 25 Obs Relay Women'!$C$7:$C$46,'4 x 25 Obs Relay Women'!$AF$7:$AF$46,0))","v":0},"",{"$f":"MAX(IF($A67='4 x 50 medley Relay Women'!$C$7:$C$46,'4 x 50 medley Relay Women'!$AF$7:$AF$46,0))","v":0},"",{"$f":"MAX(IF($A67='4 x 25 Medley Relay Women'!$C$7:$C$46,'4 x 25 Medley Relay Women'!$AF$7:$AF$46,0))","v":0},"",{"$f":"MAX(IF($A67='4 x 25 Manikin Carry Women'!$C$7:$C$46,'4 x 25 Manikin Carry Women'!$AF$7:$AF$46,0))","v":0},"",{"$f":"MAX(IF($A67='4 x 12.5 Manikin Relay Women'!$C$7:$C$46,'4 x 12.5 Manikin Relay Women'!$AF$7:$AF$46,0))","v":0},"",{"$f":"MAX(IF($A67='Line Throw Relay Men'!$C$7:$C$46,'Line Throw Relay Men'!$AF$7:$AF$46,0))","v":0},"",{"$f":"MAX(IF($A67='Line Throw Relay Men'!$C$7:$C$46,'Line Throw Relay Men'!$AF$7:$AF$46,0))","v":0},"",{"$f":"MAX(IF($A67='Line Throw Relay Men'!$C$7:$C$46,'Line Throw Relay Men'!$AF$7:$AF$46,0))","v":0},"",{"$f":"SUM(IF(C$4:AR$4=\"\",\"\",C67:AR67))","v":0},"",""]
[{"$f":"IF(A33=\"\",\"\",A33)","v":""},"",{"$f":"MAX(IF($A68='50m Manikin Carry Women'!$C$7:$C$46,'50m Manikin Carry Women'!$AA$7:$AA$46,0))","v":0},"",{"$f":"MAX(IF($A68='25m Manikin Carry Women'!$C$7:$C$46,'25m Manikin Carry Women'!$AA$7:$AA$46,0))","v":0},"",{"$f":"MAX(IF($A68='100m Manikin Carry Women'!$C$7:$C$46,'100m Manikin Carry Women'!$AA$7:$AA$46,0))","v":0},"",{"$f":"MAX(IF($A68='50m Manikin Carry Women Fin'!$C$7:$C$46,'50m Manikin Carry Women Fin'!$AA$7:$AA$46,0))","v":0},"",{"$f":"MAX(IF($A68='100m Manikin Tow Women'!$C$7:$C$46,'100m Manikin Tow Women'!$AA$7:$AA$46,0))","v":0},"",{"$f":"MAX(IF($A68='50m Manikin Tow Women'!$C$7:$C$46,'50m Manikin Tow Women'!$AA$7:$AA$46,0))","v":0},"",{"$f":"MAX(IF($A68='200m Obs Women'!$C$7:$C$46,'200m Obs Women'!$AA$7:$AA$46,0))","v":0},"",{"$f":"MAX(IF($A68='100m Obs Women'!$C$7:$C$46,'100m Obs Women'!$AA$7:$AA$46,0))","v":0},"",{"$f":"MAX(IF($A68='50m Obs Women'!$C$7:$C$46,'50m Obs Women'!$AA$7:$AA$46,0))","v":0},"",{"$f":"MAX(IF($A68='200m Super Women'!$C$7:$C$46,'200m Super Women'!$AA$7:$AA$46,0))","v":0},"",{"$f":"MAX(IF($A68='100m Super Women'!$C$7:$C$46,'100m Super Women'!$AA$7:$AA$46,0))","v":0},"",{"$f":"MAX(IF($A68='100 Resue Women'!$C$7:$C$46,'100 Resue Women'!$AA$7:$AA$46,0))","v":0},"",{"$f":"MAX(IF($A68='50m Rescue Women'!$C$7:$C$46,'50m Rescue Women'!$AA$7:$AA$46,0))","v":0},"",{"$f":"MAX(IF($A68='Line Throw Women'!$C$7:$C$46,'Line Throw Women'!$AC$7:$AC$46,0))","v":0},"",{"$f":"MAX(IF($A68='4 x 50 Obs Relay Women'!$C$7:$C$46,'4 x 50 Obs Relay Women'!$AF$7:$AF$46,0))","v":0},"",{"$f":"MAX(IF($A68='4 x 25 Obs Relay Women'!$C$7:$C$46,'4 x 25 Obs Relay Women'!$AF$7:$AF$46,0))","v":0},"",{"$f":"MAX(IF($A68='4 x 50 medley Relay Women'!$C$7:$C$46,'4 x 50 medley Relay Women'!$AF$7:$AF$46,0))","v":0},"",{"$f":"MAX(IF($A68='4 x 25 Medley Relay Women'!$C$7:$C$46,'4 x 25 Medley Relay Women'!$AF$7:$AF$46,0))","v":0},"",{"$f":"MAX(IF($A68='4 x 25 Manikin Carry Women'!$C$7:$C$46,'4 x 25 Manikin Carry Women'!$AF$7:$AF$46,0))","v":0},"",{"$f":"MAX(IF($A68='4 x 12.5 Manikin Relay Women'!$C$7:$C$46,'4 x 12.5 Manikin Relay Women'!$AF$7:$AF$46,0))","v":0},"",{"$f":"MAX(IF($A68='Line Throw Relay Men'!$C$7:$C$46,'Line Throw Relay Men'!$AF$7:$AF$46,0))","v":0},"",{"$f":"MAX(IF($A68='Line Throw Relay Men'!$C$7:$C$46,'Line Throw Relay Men'!$AF$7:$AF$46,0))","v":0},"",{"$f":"MAX(IF($A68='Line Throw Relay Men'!$C$7:$C$46,'Line Throw Relay Men'!$AF$7:$AF$46,0))","v":0},"",{"$f":"SUM(IF(C$4:AR$4=\"\",\"\",C68:AR68))","v":0},"",""]
[{"$f":"IF(A34=\"\",\"\",A34)","v":""},"",{"$f":"MAX(IF($A69='50m Manikin Carry Women'!$C$7:$C$46,'50m Manikin Carry Women'!$AA$7:$AA$46,0))","v":0},"",{"$f":"MAX(IF($A69='25m Manikin Carry Women'!$C$7:$C$46,'25m Manikin Carry Women'!$AA$7:$AA$46,0))","v":0},"",{"$f":"MAX(IF($A69='100m Manikin Carry Women'!$C$7:$C$46,'100m Manikin Carry Women'!$AA$7:$AA$46,0))","v":0},"",{"$f":"MAX(IF($A69='50m Manikin Carry Women Fin'!$C$7:$C$46,'50m Manikin Carry Women Fin'!$AA$7:$AA$46,0))","v":0},"",{"$f":"MAX(IF($A69='100m Manikin Tow Women'!$C$7:$C$46,'100m Manikin Tow Women'!$AA$7:$AA$46,0))","v":0},"",{"$f":"MAX(IF($A69='50m Manikin Tow Women'!$C$7:$C$46,'50m Manikin Tow Women'!$AA$7:$AA$46,0))","v":0},"",{"$f":"MAX(IF($A69='200m Obs Women'!$C$7:$C$46,'200m Obs Women'!$AA$7:$AA$46,0))","v":0},"",{"$f":"MAX(IF($A69='100m Obs Women'!$C$7:$C$46,'100m Obs Women'!$AA$7:$AA$46,0))","v":0},"",{"$f":"MAX(IF($A69='50m Obs Women'!$C$7:$C$46,'50m Obs Women'!$AA$7:$AA$46,0))","v":0},"",{"$f":"MAX(IF($A69='200m Super Women'!$C$7:$C$46,'200m Super Women'!$AA$7:$AA$46,0))","v":0},"",{"$f":"MAX(IF($A69='100m Super Women'!$C$7:$C$46,'100m Super Women'!$AA$7:$AA$46,0))","v":0},"",{"$f":"MAX(IF($A69='100 Resue Women'!$C$7:$C$46,'100 Resue Women'!$AA$7:$AA$46,0))","v":0},"",{"$f":"MAX(IF($A69='50m Rescue Women'!$C$7:$C$46,'50m Rescue Women'!$AA$7:$AA$46,0))","v":0},"",{"$f":"MAX(IF($A69='Line Throw Women'!$C$7:$C$46,'Line Throw Women'!$AC$7:$AC$46,0))","v":0},"",{"$f":"MAX(IF($A69='4 x 50 Obs Relay Women'!$C$7:$C$46,'4 x 50 Obs Relay Women'!$AF$7:$AF$46,0))","v":0},"",{"$f":"MAX(IF($A69='4 x 25 Obs Relay Women'!$C$7:$C$46,'4 x 25 Obs Relay Women'!$AF$7:$AF$46,0))","v":0},"",{"$f":"MAX(IF($A69='4 x 50 medley Relay Women'!$C$7:$C$46,'4 x 50 medley Relay Women'!$AF$7:$AF$46,0))","v":0},"",{"$f":"MAX(IF($A69='4 x 25 Medley Relay Women'!$C$7:$C$46,'4 x 25 Medley Relay Women'!$AF$7:$AF$46,0))","v":0},"",{"$f":"MAX(IF($A69='4 x 25 Manikin Carry Women'!$C$7:$C$46,'4 x 25 Manikin Carry Women'!$AF$7:$AF$46,0))","v":0},"",{"$f":"MAX(IF($A69='4 x 12.5 Manikin Relay Women'!$C$7:$C$46,'4 x 12.5 Manikin Relay Women'!$AF$7:$AF$46,0))","v":0},"",{"$f":"MAX(IF($A69='Line Throw Relay Men'!$C$7:$C$46,'Line Throw Relay Men'!$AF$7:$AF$46,0))","v":0},"",{"$f":"MAX(IF($A69='Line Throw Relay Men'!$C$7:$C$46,'Line Throw Relay Men'!$AF$7:$AF$46,0))","v":0},"",{"$f":"MAX(IF($A69='Line Throw Relay Men'!$C$7:$C$46,'Line Throw Relay Men'!$AF$7:$AF$46,0))","v":0},"",{"$f":"SUM(IF(C$4:AR$4=\"\",\"\",C69:AR69))","v":0},"",""]
[{"$f":"IF(A35=\"\",\"\",A35)","v":""},"",{"$f":"MAX(IF($A70='50m Manikin Carry Women'!$C$7:$C$46,'50m Manikin Carry Women'!$AA$7:$AA$46,0))","v":0},"",{"$f":"MAX(IF($A70='25m Manikin Carry Women'!$C$7:$C$46,'25m Manikin Carry Women'!$AA$7:$AA$46,0))","v":0},"",{"$f":"MAX(IF($A70='100m Manikin Carry Women'!$C$7:$C$46,'100m Manikin Carry Women'!$AA$7:$AA$46,0))","v":0},"",{"$f":"MAX(IF($A70='50m Manikin Carry Women Fin'!$C$7:$C$46,'50m Manikin Carry Women Fin'!$AA$7:$AA$46,0))","v":0},"",{"$f":"MAX(IF($A70='100m Manikin Tow Women'!$C$7:$C$46,'100m Manikin Tow Women'!$AA$7:$AA$46,0))","v":0},"",{"$f":"MAX(IF($A70='50m Manikin Tow Women'!$C$7:$C$46,'50m Manikin Tow Women'!$AA$7:$AA$46,0))","v":0},"",{"$f":"MAX(IF($A70='200m Obs Women'!$C$7:$C$46,'200m Obs Women'!$AA$7:$AA$46,0))","v":0},"",{"$f":"MAX(IF($A70='100m Obs Women'!$C$7:$C$46,'100m Obs Women'!$AA$7:$AA$46,0))","v":0},"",{"$f":"MAX(IF($A70='50m Obs Women'!$C$7:$C$46,'50m Obs Women'!$AA$7:$AA$46,0))","v":0},"",{"$f":"MAX(IF($A70='200m Super Women'!$C$7:$C$46,'200m Super Women'!$AA$7:$AA$46,0))","v":0},"",{"$f":"MAX(IF($A70='100m Super Women'!$C$7:$C$46,'100m Super Women'!$AA$7:$AA$46,0))","v":0},"",{"$f":"MAX(IF($A70='100 Resue Women'!$C$7:$C$46,'100 Resue Women'!$AA$7:$AA$46,0))","v":0},"",{"$f":"MAX(IF($A70='50m Rescue Women'!$C$7:$C$46,'50m Rescue Women'!$AA$7:$AA$46,0))","v":0},"",{"$f":"MAX(IF($A70='Line Throw Women'!$C$7:$C$46,'Line Throw Women'!$AC$7:$AC$46,0))","v":0},"",{"$f":"MAX(IF($A70='4 x 50 Obs Relay Women'!$C$7:$C$46,'4 x 50 Obs Relay Women'!$AF$7:$AF$46,0))","v":0},"",{"$f":"MAX(IF($A70='4 x 25 Obs Relay Women'!$C$7:$C$46,'4 x 25 Obs Relay Women'!$AF$7:$AF$46,0))","v":0},"",{"$f":"MAX(IF($A70='4 x 50 medley Relay Women'!$C$7:$C$46,'4 x 50 medley Relay Women'!$AF$7:$AF$46,0))","v":0},"",{"$f":"MAX(IF($A70='4 x 25 Medley Relay Women'!$C$7:$C$46,'4 x 25 Medley Relay Women'!$AF$7:$AF$46,0))","v":0},"",{"$f":"MAX(IF($A70='4 x 25 Manikin Carry Women'!$C$7:$C$46,'4 x 25 Manikin Carry Women'!$AF$7:$AF$46,0))","v":0},"",{"$f":"MAX(IF($A70='4 x 12.5 Manikin Relay Women'!$C$7:$C$46,'4 x 12.5 Manikin Relay Women'!$AF$7:$AF$46,0))","v":0},"",{"$f":"MAX(IF($A70='Line Throw Relay Men'!$C$7:$C$46,'Line Throw Relay Men'!$AF$7:$AF$46,0))","v":0},"",{"$f":"MAX(IF($A70='Line Throw Relay Men'!$C$7:$C$46,'Line Throw Relay Men'!$AF$7:$AF$46,0))","v":0},"",{"$f":"MAX(IF($A70='Line Throw Relay Men'!$C$7:$C$46,'Line Throw Relay Men'!$AF$7:$AF$46,0))","v":0},"",{"$f":"SUM(IF(C$4:AR$4=\"\",\"\",C70:AR70))","v":0},"",""]

{"sheet":"50m Manikin Carry Men","index":8,"n_rows":101,"n_cols":32,"rows_kept":101,"cut":false,"hidden":true,"merged":[[4,6,4,7],[4,9,4,10],[4,11,4,13],[1,10,1,11]]}
[null,null,null,null,null,null,null,null,null,null,null,null,null,null,"UR in seconds"]
[null,"Men's",null,"50m Manikin Carry ",null,null,null,null,null,null,"Club to \nHighlight",null,null,null,{"$f":"'Data for points'!B5","v":0},{"$f":"CONCATENATE(\"University  Record=\",INT(O2/60),\" minS\",MOD(O2,60),\" secs\")","v":"University  Record=0 minS0 secs"}]
[]
[]
["A University(Boolean)","Club Name","Club Code","Competitor","CompetitorID","AceptanceID","ID code",null,"Entry Time(Seconds)","Entry Time",null,"Time",null,null,"Time(seconds)","Finish \nStatus","TimeSand  DQs","Rank","Competition \nPlace","PointSCalculation","Lifesaving Points","Survive and Save Status","Squad List","Rank For \nSquadSMembers","Top Finisher for there Unit","Top finisher Select Competitor for ranking","Squad \nPoints","Uni Finishers","Student \nPoints","Non-Uni Finishers","Non-Student \nPoints"]
[null,null,null,null,null,null,null,null,null,"Mins","Seconds","Mins","Seconds","1/100"]
[null,null,null,null,null,null,null,null,null,{"$f":"INT(I7/60)","v":0},{"$f":"MOD(I7,60)","v":0},null,null,null,{"$f":"L7*60+M7+N7/100","v":0},null,{"$f":"IF(P7<>\"Finished\",IF(P7<=0,\"\",P7),IF(P7=\"Finished\",IF(O7<=0,\"\",O7),\"\"))","v":""},{"$f":"IF(OR(LEFT(Q7,1)=\"D\",Q7=\"\"),\"\",RANK(Q7,$Q$7:$Q$46,1))","v":""},{"$f":"IF(LEFT(P7,1)=\"D\",MAX($R$7:$R$46)+1,R7)","v":""},{"$f":"(1-(O7-$O$2)/$O$2)*1000","v":{"$error":"#DIV/0!"}},{"$f":"IF(P7<>\"Finished\",\"\",IF(T7<0,0,T7))","v":""},{"$f":"IF(P7<>\"Finished\",\"\",VLOOKUP(O7,'Data for points'!$B$16:$Z$22,24,TRUE))","v":""},{"$f":"IF(G7=\"S\",S7,\"\")","v":""},{"$f":"IF(W7=\"\",\"\",RANK(W7,$W$7:$W$46,1))","v":""},{"$f":"MIN(IF($C$7:$C$46=C7,$X$7:$X$46,\"\"))","v":0},{"$f":"IF(Y7=X7,Y7,\"\")","v":""},{"$f":"IF(Z7=\"\",\"\",RANK(Z7,$Z$7:$Z$46,1))","v":""},{"$f":"IF(A7=1,AA7,\"\")","v":""},{"$f":"IF(AB7=\"\",\"\",RANK(AB7,$AB$7:$AB$46,1))","v":""},{"$f":"IF(A7=0,AA7,\"\")","v":""},{"$f":"IF(AD7=\"\",\"\",RANK(AD7,$AD$7:$AD$46,1))","v":""},{"$f":"IF(OR(P7<>\"Finished\",O7>$O$2),\"\",\"UR\")","v":""}]
[null,null,null,null,null,null,null,null,null,{"$f":"INT(I8/60)","v":0},{"$f":"MOD(I8,60)","v":0},null,null,null,{"$f":"L8*60+M8+N8/100","v":0},null,{"$f":"IF(P8<>\"Finished\",IF(P8<=0,\"\",P8),IF(P8=\"Finished\",IF(O8<=0,\"\",O8),\"\"))","v":""},{"$f":"IF(OR(LEFT(Q8,1)=\"D\",Q8=\"\"),\"\",RANK(Q8,$Q$7:$Q$46,1))","v":""},{"$f":"IF(LEFT(P8,1)=\"D\",MAX($R$7:$R$46)+1,R8)","v":""},{"$f":"(1-(O8-$O$2)/$O$2)*1000","v":{"$error":"#DIV/0!"}},{"$f":"IF(P8<>\"Finished\",\"\",IF(T8<0,0,T8))","v":""},{"$f":"IF(P8<>\"Finished\",\"\",VLOOKUP(O8,'Data for points'!$B$16:$Z$22,24,TRUE))","v":""},{"$f":"IF(G8=\"S\",S8,\"\")","v":""},{"$f":"IF(W8=\"\",\"\",RANK(W8,$W$7:$W$46,1))","v":""},{"$f":"MIN(IF($C$7:$C$46=C8,$X$7:$X$46,\"\"))","v":0},{"$f":"IF(Y8=X8,Y8,\"\")","v":""},{"$f":"IF(Z8=\"\",\"\",RANK(Z8,$Z$7:$Z$46,1))","v":""},{"$f":"IF(A8=1,AA8,\"\")","v":""},{"$f":"IF(AB8=\"\",\"\",RANK(AB8,$AB$7:$AB$46,1))","v":""},{"$f":"IF(A8=0,AA8,\"\")","v":""},"",{"$f":"IF(OR(P8<>\"Finished\",O8>$O$2),\"\",\"UR\")","v":""}]
[null,null,null,null,null,null,null,null,null,0,0,null,null,null,0,null,"","","",{"$error":"#DIV/0!"},"",{"$f":"IF(P9<>\"Finished\",\"\",VLOOKUP(O9,'Data for points'!$B$16:$Z$22,24,TRUE))","v":""},"","",{"$f":"MIN(IF($C$7:$C$46=C9,$X$7:$X$46,\"\"))","v":0},"","","","","","",""]
[null,null,null,null,null,null,null,null,null,0,0,null,null,null,0,null,"","","",{"$error":"#DIV/0!"},"",{"$f":"IF(P10<>\"Finished\",\"\",VLOOKUP(O10,'Data for points'!$B$16:$Z$22,24,TRUE))","v":""},"","",{"$f":"MIN(IF($C$7:$C$46=C10,$X$7:$X$46,\"\"))","v":0},"","","","","","",""]
[null,null,null,null,null,null,null,null,null,0,0,null,null,null,0,null,"","","",{"$error":"#DIV/0!"},"",{"$f":"IF(P11<>\"Finished\",\"\",VLOOKUP(O11,'Data for points'!$B$16:$Z$22,24,TRUE))","v":""},"","",{"$f":"MIN(IF($C$7:$C$46=C11,$X$7:$X$46,\"\"))","v":0},"","","","","","",""]
[null,null,null,null,null,null,null,null,null,0,0,null,null,null,0,null,"","",{"$f":"IF(LEFT(P12,1)=\"D\",MAX($R$7:$R$46)+1,R12)","v":""},{"$error":"#DIV/0!"},"",{"$f":"IF(P12<>\"Finished\",\"\",VLOOKUP(O12,'Data for points'!$B$16:$Z$22,24,TRUE))","v":""},"","",{"$f":"MIN(IF($C$7:$C$46=C12,$X$7:$X$46,\"\"))","v":0},"","","","","","",""]
[null,null,null,null,null,null,null,null,null,0,0,null,null,null,0,null,"","","",{"$error":"#DIV/0!"},"",{"$f":"IF(P13<>\"Finished\",\"\",VLOOKUP(O13,'Data for points'!$B$16:$Z$22,24,TRUE))","v":""},"","",{"$f":"MIN(IF($C$7:$C$46=C13,$X$7:$X$46,\"\"))","v":0},"","","","","","",""]
[null,null,null,null,null,null,null,null,null,0,0,null,null,null,0,null,"","","",{"$error":"#DIV/0!"},"",{"$f":"IF(P14<>\"Finished\",\"\",VLOOKUP(O14,'Data for points'!$B$16:$Z$22,24,TRUE))","v":""},"","",{"$f":"MIN(IF($C$7:$C$46=C14,$X$7:$X$46,\"\"))","v":0},"","","","","","",""]
[null,null,null,null,null,null,null,null,null,0,0,null,null,null,0,null,"","","",{"$error":"#DIV/0!"},"",{"$f":"IF(P15<>\"Finished\",\"\",VLOOKUP(O15,'Data for points'!$B$16:$Z$22,24,TRUE))","v":""},"","",{"$f":"MIN(IF($C$7:$C$46=C15,$X$7:$X$46,\"\"))","v":0},"","","","","","",""]
[null,null,null,null,null,null,null,null,null,0,0,null,null,null,0,null,"","","",{"$error":"#DIV/0!"},"",{"$f":"IF(P16<>\"Finished\",\"\",VLOOKUP(O16,'Data for points'!$B$16:$Z$22,24,TRUE))","v":""},"","",{"$f":"MIN(IF($C$7:$C$46=C16,$X$7:$X$46,\"\"))","v":0},"","","","","","",""]
[null,null,null,null,null,null,null,null,null,0,0,null,null,null,0,null,"","","",{"$error":"#DIV/0!"},"",{"$f":"IF(P17<>\"Finished\",\"\",VLOOKUP(O17,'Data for points'!$B$16:$Z$22,24,TRUE))","v":""},"","",{"$f":"MIN(IF($C$7:$C$46=C17,$X$7:$X$46,\"\"))","v":0},"","","","","","",""]
[null,null,null,null,null,null,null,null,null,0,0,null,null,null,0,null,"","","",{"$error":"#DIV/0!"},"",{"$f":"IF(P18<>\"Finished\",\"\",VLOOKUP(O18,'Data for points'!$B$16:$Z$22,24,TRUE))","v":""},"","",{"$f":"MIN(IF($C$7:$C$46=C18,$X$7:$X$46,\"\"))","v":0},"","","","","","",""]
[null,null,null,null,null,null,null,null,null,0,0,null,null,null,0,null,"","","",{"$error":"#DIV/0!"},"",{"$f":"IF(P19<>\"Finished\",\"\",VLOOKUP(O19,'Data for points'!$B$16:$Z$22,24,TRUE))","v":""},"","",{"$f":"MIN(IF($C$7:$C$46=C19,$X$7:$X$46,\"\"))","v":0},"","","","","","",""]
[null,null,null,null,null,null,null,null,null,0,0,null,null,null,0,null,"","","",{"$error":"#DIV/0!"},"",{"$f":"IF(P20<>\"Finished\",\"\",VLOOKUP(O20,'Data for points'!$B$16:$Z$22,24,TRUE))","v":""},"","",{"$f":"MIN(IF($C$7:$C$46=C20,$X$7:$X$46,\"\"))","v":0},"","","","","","",""]
[null,null,null,null,null,null,null,null,null,0,0,null,null,null,0,null,"","","",{"$error":"#DIV/0!"},"",{"$f":"IF(P21<>\"Finished\",\"\",VLOOKUP(O21,'Data for points'!$B$16:$Z$22,24,TRUE))","v":""},"","",{"$f":"MIN(IF($C$7:$C$46=C21,$X$7:$X$46,\"\"))","v":0},"","","","","","",""]
[null,null,null,null,null,null,null,null,null,0,0,null,null,null,0,null,"","","",{"$error":"#DIV/0!"},"",{"$f":"IF(P22<>\"Finished\",\"\",VLOOKUP(O22,'Data for points'!$B$16:$Z$22,24,TRUE))","v":""},"","",{"$f":"MIN(IF($C$7:$C$46=C22,$X$7:$X$46,\"\"))","v":0},"","","","","","",""]
[null,null,null,null,null,null,null,null,null,0,0,null,null,null,0,null,"","","",{"$error":"#DIV/0!"},"",{"$f":"IF(P23<>\"Finished\",\"\",VLOOKUP(O23,'Data for points'!$B$16:$Z$22,24,TRUE))","v":""},"","",{"$f":"MIN(IF($C$7:$C$46=C23,$X$7:$X$46,\"\"))","v":0},"","","","","","",""]
[null,null,null,null,null,null,null,null,null,0,0,null,null,null,0,null,"","","",{"$error":"#DIV/0!"},"",{"$f":"IF(P24<>\"Finished\",\"\",VLOOKUP(O24,'Data for points'!$B$16:$Z$22,24,TRUE))","v":""},"","",{"$f":"MIN(IF($C$7:$C$46=C24,$X$7:$X$46,\"\"))","v":0},"","","","","","",""]
[null,null,null,null,null,null,null,null,null,0,0,null,null,null,0,null,"","","",{"$error":"#DIV/0!"},"",{"$f":"IF(P25<>\"Finished\",\"\",VLOOKUP(O25,'Data for points'!$B$16:$Z$22,24,TRUE))","v":""},"","",{"$f":"MIN(IF($C$7:$C$46=C25,$X$7:$X$46,\"\"))","v":0},"","","","","","",""]
[null,null,null,null,null,null,null,null,null,0,0,null,null,null,0,null,"","","",{"$error":"#DIV/0!"},"",{"$f":"IF(P26<>\"Finished\",\"\",VLOOKUP(O26,'Data for points'!$B$16:$Z$22,24,TRUE))","v":""},"","",{"$f":"MIN(IF($C$7:$C$46=C26,$X$7:$X$46,\"\"))","v":0},"","","","","","",""]
[null,null,null,null,null,null,null,null,null,0,0,null,null,null,0,null,"","","",{"$error":"#DIV/0!"},"",{"$f":"IF(P27<>\"Finished\",\"\",VLOOKUP(O27,'Data for points'!$B$16:$Z$22,24,TRUE))","v":""},"","",{"$f":"MIN(IF($C$7:$C$46=C27,$X$7:$X$46,\"\"))","v":0},"","","","","","",""]
[null,null,null,null,null,null,null,null,null,0,0,null,null,null,0,null,"","","",{"$error":"#DIV/0!"},"",{"$f":"IF(P28<>\"Finished\",\"\",VLOOKUP(O28,'Data for points'!$B$16:$Z$22,24,TRUE))","v":""},"","",{"$f":"MIN(IF($C$7:$C$46=C28,$X$7:$X$46,\"\"))","v":0},"","","","","","",""]
[null,null,null,null,null,null,null,null,null,0,0,null,null,null,0,null,"","","",{"$error":"#DIV/0!"},"",{"$f":"IF(P29<>\"Finished\",\"\",VLOOKUP(O29,'Data for points'!$B$16:$Z$22,24,TRUE))","v":""},"","",{"$f":"MIN(IF($C$7:$C$46=C29,$X$7:$X$46,\"\"))","v":0},"","","","","","",""]
[null,null,null,null,null,null,null,null,null,0,0,null,null,null,0,null,"","","",{"$error":"#DIV/0!"},"",{"$f":"IF(P30<>\"Finished\",\"\",VLOOKUP(O30,'Data for points'!$B$16:$Z$22,24,TRUE))","v":""},"","",{"$f":"MIN(IF($C$7:$C$46=C30,$X$7:$X$46,\"\"))","v":0},"","","","","","",""]
[null,null,null,null,null,null,null,null,null,0,0,null,null,null,0,null,"","","",{"$error":"#DIV/0!"},"",{"$f":"IF(P31<>\"Finished\",\"\",VLOOKUP(O31,'Data for points'!$B$16:$Z$22,24,TRUE))","v":""},"","",{"$f":"MIN(IF($C$7:$C$46=C31,$X$7:$X$46,\"\"))","v":0},"","","","","","",""]
[null,null,null,null,null,null,null,null,null,0,0,null,null,null,0,null,"","","",{"$error":"#DIV/0!"},"",{"$f":"IF(P32<>\"Finished\",\"\",VLOOKUP(O32,'Data for points'!$B$16:$Z$22,24,TRUE))","v":""},"","",{"$f":"MIN(IF($C$7:$C$46=C32,$X$7:$X$46,\"\"))","v":0},"","","","","","",""]
[null,null,null,null,null,null,null,null,null,0,0,null,null,null,0,null,"","","",{"$error":"#DIV/0!"},"",{"$f":"IF(P33<>\"Finished\",\"\",VLOOKUP(O33,'Data for points'!$B$16:$Z$22,24,TRUE))","v":""},"","",{"$f":"MIN(IF($C$7:$C$46=C33,$X$7:$X$46,\"\"))","v":0},"","","","","","",""]
[null,null,null,null,null,null,null,null,null,0,0,null,null,null,0,null,"","","",{"$error":"#DIV/0!"},"",{"$f":"IF(P34<>\"Finished\",\"\",VLOOKUP(O34,'Data for points'!$B$16:$Z$22,24,TRUE))","v":""},"","",{"$f":"MIN(IF($C$7:$C$46=C34,$X$7:$X$46,\"\"))","v":0},"","","","","","",""]
[null,null,null,null,null,null,null,null,null,0,0,null,null,null,0,null,"","","",{"$error":"#DIV/0!"},"",{"$f":"IF(P35<>\"Finished\",\"\",VLOOKUP(O35,'Data for points'!$B$16:$Z$22,24,TRUE))","v":""},"","",{"$f":"MIN(IF($C$7:$C$46=C35,$X$7:$X$46,\"\"))","v":0},"","","","","","",""]
[null,null,null,null,null,null,null,null,null,0,0,null,null,null,0,null,"","","",{"$error":"#DIV/0!"},"",{"$f":"IF(P36<>\"Finished\",\"\",VLOOKUP(O36,'Data for points'!$B$16:$Z$22,24,TRUE))","v":""},"","",{"$f":"MIN(IF($C$7:$C$46=C36,$X$7:$X$46,\"\"))","v":0},"","","","","","",""]
[null,null,null,null,null,null,null,null,null,{"$f":"INT(I37/60)","v":0},0,null,null,null,0,null,"","","",{"$error":"#DIV/0!"},"",{"$f":"IF(P37<>\"Finished\",\"\",VLOOKUP(O37,'Data for points'!$B$16:$Z$22,24,TRUE))","v":""},"","",{"$f":"MIN(IF($C$7:$C$46=C37,$X$7:$X$46,\"\"))","v":0},"","","","","","",""]
[null,null,null,null,null,null,null,null,null,0,0,null,null,null,0,null,"","","",{"$error":"#DIV/0!"},"",{"$f":"IF(P38<>\"Finished\",\"\",VLOOKUP(O38,'Data for points'!$B$16:$Z$22,24,TRUE))","v":""},"","",{"$f":"MIN(IF($C$7:$C$46=C38,$X$7:$X$46,\"\"))","v":0},"","","","","","",""]
[null,null,null,null,null,null,null,null,null,0,0,null,null,null,0,null,"","","",{"$error":"#DIV/0!"},"",{"$f":"IF(P39<>\"Finished\",\"\",VLOOKUP(O39,'Data for points'!$B$16:$Z$22,24,TRUE))","v":""},"","",{"$f":"MIN(IF($C$7:$C$46=C39,$X$7:$X$46,\"\"))","v":0},"","","","","","",""]
[null,null,null,null,null,null,null,null,null,0,0,null,null,null,0,null,"","","",{"$error":"#DIV/0!"},"",{"$f":"IF(P40<>\"Finished\",\"\",VLOOKUP(O40,'Data for points'!$B$16:$Z$22,24,TRUE))","v":""},"","",{"$f":"MIN(IF($C$7:$C$46=C40,$X$7:$X$46,\"\"))","v":0},"","","","","","",""]
[null,null,null,null,null,null,null,null,null,0,0,null,null,null,0,null,"","","",{"$error":"#DIV/0!"},"",{"$f":"IF(P41<>\"Finished\",\"\",VLOOKUP(O41,'Data for points'!$B$16:$Z$22,24,TRUE))","v":""},"","",{"$f":"MIN(IF($C$7:$C$46=C41,$X$7:$X$46,\"\"))","v":0},"","","","","","",""]
[null,null,null,null,null,null,null,null,null,0,0,null,null,null,0,null,"","","",{"$error":"#DIV/0!"},"",{"$f":"IF(P42<>\"Finished\",\"\",VLOOKUP(O42,'Data for points'!$B$16:$Z$22,24,TRUE))","v":""},"","",{"$f":"MIN(IF($C$7:$C$46=C42,$X$7:$X$46,\"\"))","v":0},"","","","","","",""]
[null,null,null,null,null,null,null,null,null,0,0,null,null,null,0,null,"","","",{"$error":"#DIV/0!"},"",{"$f":"IF(P43<>\"Finished\",\"\",VLOOKUP(O43,'Data for points'!$B$16:$Z$22,24,TRUE))","v":""},"","",{"$f":"MIN(IF($C$7:$C$46=C43,$X$7:$X$46,\"\"))","v":0},"","","","","","",""]
[null,null,null,null,null,null,null,null,null,0,0,null,null,null,0,null,"","","",{"$error":"#DIV/0!"},"",{"$f":"IF(P44<>\"Finished\",\"\",VLOOKUP(O44,'Data for points'!$B$16:$Z$22,24,TRUE))","v":""},"","",{"$f":"MIN(IF($C$7:$C$46=C44,$X$7:$X$46,\"\"))","v":0},"","","","","","",""]
[null,null,null,null,null,null,null,null,null,0,0,null,null,null,0,null,"","","",{"$error":"#DIV/0!"},"",{"$f":"IF(P45<>\"Finished\",\"\",VLOOKUP(O45,'Data for points'!$B$16:$Z$22,24,TRUE))","v":""},"","",{"$f":"MIN(IF($C$7:$C$46=C45,$X$7:$X$46,\"\"))","v":0},"","","","","","",""]
[null,null,null,null,null,null,null,null,null,0,0,null,null,null,0,null,"","","",{"$error":"#DIV/0!"},"",{"$f":"IF(P46<>\"Finished\",\"\",VLOOKUP(O46,'Data for points'!$B$16:$Z$22,24,TRUE))","v":""},"","",{"$f":"MIN(IF($C$7:$C$46=C46,$X$7:$X$46,\"\"))","v":0},"","","","","","",""]
[]
[]
[]
[]
[]
[]
[]
[]
[]
[]
[]
[]
[]
[]
[]
[]
[]
[]
[]
[]
[]
[]
[]
[]
[]
[]
[]
[]
[]
[]
[]
[]
[]
[]
[]
[]
[]
[]
[]
[]
[]
[]
[]
[]
[]
[]
[]
[]
[]
[]
[]
[]
[]
[null,null,null,null,null,null,null,null,null,null,null,null,null,null,null,"Finished"]
[null,null,null,null,null,null,null,null,null,null,null,null,null,null,null,"Disqualified"]

{"sheet":"6x50m Free Women","index":9,"n_rows":101,"n_cols":32,"rows_kept":101,"cut":false,"hidden":true,"merged":[[1,10,1,11],[4,6,4,7],[4,9,4,10],[4,11,4,13]]}
[null,null,null,null,null,null,null,null,null,null,null,null,null,null,"UR in seconds"]
[null,"Women's",null,"6x50mFree",null,null,null,null,null,null,"Club to \nHighlight",null,null,null,{"$f":"'Data for points'!Y6","v":0},{"$f":"CONCATENATE(\"University  Record=\",INT(O2/60),\" minS\",MOD(O2,60),\" secs\")","v":"University  Record=0 minS0 secs"}]
[]
[]
["A University(Boolean)","Club Name","Club Code","Competitor","CompetitorID","AceptanceID","ID code",null,"Entry Time(Seconds)","Entry Time",null,"Time",null,null,"Time(seconds)","Finish \nStatus","TimeSand  DQs","Rank","Competition \nPlace","PointSCalculation","Lifesaving Points","Survive and Save Status","Squad List","Rank For \nSquadSMembers","Top Finisher for there Unit","Top finisher Select Competitor for ranking","Squad \nPoints","Uni Finishers","Student \nPoints","Non-Uni Finishers","Non-Student \nPoints"]
[null,null,null,null,null,null,null,null,null,"Mins","Seconds","Mins","Seconds","1/100"]
[0,null,null,null,null,null,null,null,null,{"$f":"INT(I7/60)","v":0},{"$f":"MOD(I7,60)","v":0},null,null,null,{"$f":"L7*60+M7+N7/100","v":0},null,{"$f":"IF(P7<>\"Finished\",IF(P7<=0,\"\",P7),IF(P7=\"Finished\",IF(O7<=0,\"\",O7),\"\"))","v":""},{"$f":"IF(OR(LEFT(Q7,1)=\"D\",Q7=\"\"),\"\",RANK(Q7,$Q$7:$Q$46,1))","v":""},{"$f":"IF(LEFT(P7,1)=\"D\",MAX($R$7:$R$46)+1,R7)","v":""},{"$f":"(1-(O7-$O$2)/$O$2)*1000","v":{"$error":"#DIV/0!"}},{"$f":"IF(P7<>\"Finished\",\"\",IF(T7<0,0,T7))","v":""},{"$f":"IF(P7<>\"Finished\",\"\",VLOOKUP(O7,'Data for points'!$Y$26:$Z$33,2,TRUE))","v":""},{"$f":"IF(G7=\"S\",S7,\"\")","v":""},{"$f":"IF(W7=\"\",\"\",RANK(W7,$W$7:$W$46,1))","v":""},{"$f":"MIN(IF($C$7:$C$46=C7,$X$7:$X$46,\"\"))","v":0},{"$f":"IF(Y7=X7,Y7,\"\")","v":""},{"$f":"IF(Z7=\"\",\"\",RANK(Z7,$Z$7:$Z$46,1))","v":""},{"$f":"IF(A7=1,AA7,\"\")","v":""},{"$f":"IF(AB7=\"\",\"\",RANK(AB7,$AB$7:$AB$46,1))","v":""},{"$f":"IF(A7=0,AA7,\"\")","v":""},{"$f":"IF(AD7=\"\",\"\",RANK(AD7,$AD$7:$AD$46,1))","v":""},{"$f":"IF(OR(P7<>\"Finished\",O7>$O$2),\"\",\"UR\")","v":""}]
[0,null,null,null,null,null,null,null,null,0,0,null,null,null,0,null,{"$f":"IF(P8<>\"Finished\",IF(P8<=0,\"\",P8),IF(P8=\"Finished\",IF(O8<=0,\"\",O8),\"\"))","v":""},{"$f":"IF(OR(LEFT(Q8,1)=\"D\",Q8=\"\"),\"\",RANK(Q8,$Q$7:$Q$46,1))","v":""},{"$f":"IF(LEFT(P8,1)=\"D\",MAX($R$7:$R$46)+1,R8)","v":""},{"$f":"(1-(O8-$O$2)/$O$2)*1000","v":{"$error":"#DIV/0!"}},{"$f":"IF(P8<>\"Finished\",\"\",IF(T8<0,0,T8))","v":""},{"$f":"IF(P8<>\"Finished\",\"\",VLOOKUP(O8,'Data for points'!$Y$26:$Z$33,2,TRUE))","v":""},{"$f":"IF(G8=\"S\",S8,\"\")","v":""},{"$f":"IF(W8=\"\",\"\",RANK(W8,$W$7:$W$46,1))","v":""},{"$f":"MIN(IF($C$7:$C$46=C8,$X$7:$X$46,\"\"))","v":0},{"$f":"IF(Y8=X8,Y8,\"\")","v":""},{"$f":"IF(Z8=\"\",\"\",RANK(Z8,$Z$7:$Z$46,1))","v":""},{"$f":"IF(A8=1,AA8,\"\")","v":""},{"$f":"IF(AB8=\"\",\"\",RANK(AB8,$AB$7:$AB$46,1))","v":""},{"$f":"IF(A8=0,AA8,\"\")","v":""},"",{"$f":"IF(OR(P8<>\"Finished\",O8>$O$2),\"\",\"UR\")","v":""}]
[0,null,null,null,null,null,null,null,null,0,0,null,null,null,0,null,"","","",{"$error":"#DIV/0!"},"",{"$f":"IF(P9<>\"Finished\",\"\",VLOOKUP(O9,'Data for points'!$Y$26:$Z$33,2,TRUE))","v":""},"","",{"$f":"MIN(IF($C$7:$C$46=C9,$X$7:$X$46,\"\"))","v":0},"","","","","","",""]
[0,null,null,null,null,null,null,null,null,0,0,null,null,null,0,null,"","","",{"$error":"#DIV/0!"},"",{"$f":"IF(P10<>\"Finished\",\"\",VLOOKUP(O10,'Data for points'!$Y$26:$Z$33,2,TRUE))","v":""},"","",{"$f":"MIN(IF($C$7:$C$46=C10,$X$7:$X$46,\"\"))","v":0},"","","","","","",""]
[0,null,null,null,null,null,null,null,null,0,0,null,null,null,0,null,"","","",{"$error":"#DIV/0!"},"",{"$f":"IF(P11<>\"Finished\",\"\",VLOOKUP(O11,'Data for points'!$Y$26:$Z$33,2,TRUE))","v":""},"","",{"$f":"MIN(IF($C$7:$C$46=C11,$X$7:$X$46,\"\"))","v":0},"","","","","","",""]
[null,null,null,null,null,null,null,null,null,0,0,null,null,null,0,null,"","","",{"$error":"#DIV/0!"},"",{"$f":"IF(P12<>\"Finished\",\"\",VLOOKUP(O12,'Data for points'!$Y$26:$Z$33,2,TRUE))","v":""},"","",{"$f":"MIN(IF($C$7:$C$46=C12,$X$7:$X$46,\"\"))","v":0},"","","","","","",""]
[null,null,null,null,null,null,null,null,null,0,0,null,null,null,0,null,"","","",{"$error":"#DIV/0!"},"",{"$f":"IF(P13<>\"Finished\",\"\",VLOOKUP(O13,'Data for points'!$Y$26:$Z$33,2,TRUE))","v":""},"","",{"$f":"MIN(IF($C$7:$C$46=C13,$X$7:$X$46,\"\"))","v":0},"","","","","","",""]
[null,null,null,null,null,null,null,null,null,0,0,null,null,null,0,null,"","","",{"$error":"#DIV/0!"},"",{"$f":"IF(P14<>\"Finished\",\"\",VLOOKUP(O14,'Data for points'!$Y$26:$Z$33,2,TRUE))","v":""},"","",{"$f":"MIN(IF($C$7:$C$46=C14,$X$7:$X$46,\"\"))","v":0},"","","","","","",""]
[null,null,null,null,null,null,null,null,null,0,0,null,null,null,0,null,"","","",{"$error":"#DIV/0!"},"",{"$f":"IF(P15<>\"Finished\",\"\",VLOOKUP(O15,'Data for points'!$Y$26:$Z$33,2,TRUE))","v":""},"","",{"$f":"MIN(IF($C$7:$C$46=C15,$X$7:$X$46,\"\"))","v":0},"","","","","","",""]
[null,null,null,null,null,null,null,null,null,0,0,null,null,null,0,null,"","","",{"$error":"#DIV/0!"},"",{"$f":"IF(P16<>\"Finished\",\"\",VLOOKUP(O16,'Data for points'!$Y$26:$Z$33,2,TRUE))","v":""},"","",{"$f":"MIN(IF($C$7:$C$46=C16,$X$7:$X$46,\"\"))","v":0},"","","","","","",""]
[null,null,null,null,null,null,null,null,null,0,0,null,null,null,0,null,"","","",{"$error":"#DIV/0!"},"",{"$f":"IF(P17<>\"Finished\",\"\",VLOOKUP(O17,'Data for points'!$Y$26:$Z$33,2,TRUE))","v":""},"","",{"$f":"MIN(IF($C$7:$C$46=C17,$X$7:$X$46,\"\"))","v":0},"","","","","","",""]
[null,null,null,null,null,null,null,null,null,0,0,null,null,null,0,null,"","","",{"$error":"#DIV/0!"},"",{"$f":"IF(P18<>\"Finished\",\"\",VLOOKUP(O18,'Data for points'!$Y$26:$Z$33,2,TRUE))","v":""},"","",{"$f":"MIN(IF($C$7:$C$46=C18,$X$7:$X$46,\"\"))","v":0},"","","","","","",""]
[null,null,null,null,null,null,null,null,null,0,0,null,null,null,0,null,"","","",{"$error":"#DIV/0!"},"",{"$f":"IF(P19<>\"Finished\",\"\",VLOOKUP(O19,'Data for points'!$Y$26:$Z$33,2,TRUE))","v":""},"","",{"$f":"MIN(IF($C$7:$C$46=C19,$X$7:$X$46,\"\"))","v":0},"","","","","","",""]
[null,null,null,null,null,null,null,null,null,0,0,null,null,null,0,null,"","","",{"$error":"#DIV/0!"},"",{"$f":"IF(P20<>\"Finished\",\"\",VLOOKUP(O20,'Data for points'!$Y$26:$Z$33,2,TRUE))","v":""},"","",{"$f":"MIN(IF($C$7:$C$46=C20,$X$7:$X$46,\"\"))","v":0},"","","","","","",""]
[null,null,null,null,null,null,null,null,null,0,0,null,null,null,0,null,"","","",{"$error":"#DIV/0!"},"",{"$f":"IF(P21<>\"Finished\",\"\",VLOOKUP(O21,'Data for points'!$Y$26:$Z$33,2,TRUE))","v":""},"","",{"$f":"MIN(IF($C$7:$C$46=C21,$X$7:$X$46,\"\"))","v":0},"","","","","","",""]
[null,null,null,null,null,null,null,null,null,0,0,null,null,null,0,null,"","","",{"$error":"#DIV/0!"},"",{"$f":"IF(P22<>\"Finished\",\"\",VLOOKUP(O22,'Data for points'!$Y$26:$Z$33,2,TRUE))","v":""},"","",{"$f":"MIN(IF($C$7:$C$46=C22,$X$7:$X$46,\"\"))","v":0},"","","","","","",""]
[null,null,null,null,null,null,null,null,null,0,0,null,null,null,0,null,"","","",{"$error":"#DIV/0!"},"",{"$f":"IF(P23<>\"Finished\",\"\",VLOOKUP(O23,'Data for points'!$Y$26:$Z$33,2,TRUE))","v":""},"","",{"$f":"MIN(IF($C$7:$C$46=C23,$X$7:$X$46,\"\"))","v":0},"","","","","","",""]
[null,null,null,null,null,null,null,null,null,0,0,null,null,null,0,null,"","","",{"$error":"#DIV/0!"},"",{"$f":"IF(P24<>\"Finished\",\"\",VLOOKUP(O24,'Data for points'!$Y$26:$Z$33,2,TRUE))","v":""},"","",{"$f":"MIN(IF($C$7:$C$46=C24,$X$7:$X$46,\"\"))","v":0},"","","","","","",""]
[null,null,null,null,null,null,null,null,null,0,0,null,null,null,0,null,"","","",{"$error":"#DIV/0!"},"",{"$f":"IF(P25<>\"Finished\",\"\",VLOOKUP(O25,'Data for points'!$Y$26:$Z$33,2,TRUE))","v":""},"","",{"$f":"MIN(IF($C$7:$C$46=C25,$X$7:$X$46,\"\"))","v":0},"","","","","","",""]
[null,null,null,null,null,null,null,null,null,0,0,null,null,null,0,null,"","","",{"$error":"#DIV/0!"},"",{"$f":"IF(P26<>\"Finished\",\"\",VLOOKUP(O26,'Data for points'!$Y$26:$Z$33,2,TRUE))","v":""},"","",{"$f":"MIN(IF($C$7:$C$46=C26,$X$7:$X$46,\"\"))","v":0},"","","","","","",""]
[null,null,null,null,null,null,null,null,null,0,0,null,null,null,0,null,"","","",{"$error":"#DIV/0!"},"",{"$f":"IF(P27<>\"Finished\",\"\",VLOOKUP(O27,'Data for points'!$Y$26:$Z$33,2,TRUE))","v":""},"","",{"$f":"MIN(IF($C$7:$C$46=C27,$X$7:$X$46,\"\"))","v":0},"","","","","","",""]
[null,null,null,null,null,null,null,null,null,0,0,null,null,null,0,null,"","","",{"$error":"#DIV/0!"},"",{"$f":"IF(P28<>\"Finished\",\"\",VLOOKUP(O28,'Data for points'!$Y$26:$Z$33,2,TRUE))","v":""},"","",{"$f":"MIN(IF($C$7:$C$46=C28,$X$7:$X$46,\"\"))","v":0},"","","","","","",""]
[null,null,null,null,null,null,null,null,null,0,0,null,null,null,0,null,"","","",{"$error":"#DIV/0!"},"",{"$f":"IF(P29<>\"Finished\",\"\",VLOOKUP(O29,'Data for points'!$Y$26:$Z$33,2,TRUE))","v":""},"","",{"$f":"MIN(IF($C$7:$C$46=C29,$X$7:$X$46,\"\"))","v":0},"","","","","","",""]
[null,null,null,null,null,null,null,null,null,0,0,null,null,null,0,null,"","","",{"$error":"#DIV/0!"},"",{"$f":"IF(P30<>\"Finished\",\"\",VLOOKUP(O30,'Data for points'!$Y$26:$Z$33,2,TRUE))","v":""},"","",{"$f":"MIN(IF($C$7:$C$46=C30,$X$7:$X$46,\"\"))","v":0},"","","","","","",""]
[null,null,null,null,null,null,null,null,null,0,0,null,null,null,0,null,"","","",{"$error":"#DIV/0!"},"",{"$f":"IF(P31<>\"Finished\",\"\",VLOOKUP(O31,'Data for points'!$Y$26:$Z$33,2,TRUE))","v":""},"","",{"$f":"MIN(IF($C$7:$C$46=C31,$X$7:$X$46,\"\"))","v":0},"","","","","","",""]
[null,null,null,null,null,null,null,null,null,0,0,null,null,null,0,null,"","","",{"$error":"#DIV/0!"},"",{"$f":"IF(P32<>\"Finished\",\"\",VLOOKUP(O32,'Data for points'!$Y$26:$Z$33,2,TRUE))","v":""},"","",{"$f":"MIN(IF($C$7:$C$46=C32,$X$7:$X$46,\"\"))","v":0},"","","","","","",""]
[null,null,null,null,null,null,null,null,null,0,0,null,null,null,0,null,"","","",{"$error":"#DIV/0!"},"",{"$f":"IF(P33<>\"Finished\",\"\",VLOOKUP(O33,'Data for points'!$Y$26:$Z$33,2,TRUE))","v":""},"","",{"$f":"MIN(IF($C$7:$C$46=C33,$X$7:$X$46,\"\"))","v":0},"","","","","","",""]
[null,null,null,null,null,null,null,null,null,0,0,null,null,null,0,null,"","","",{"$error":"#DIV/0!"},"",{"$f":"IF(P34<>\"Finished\",\"\",VLOOKUP(O34,'Data for points'!$Y$26:$Z$33,2,TRUE))","v":""},"","",{"$f":"MIN(IF($C$7:$C$46=C34,$X$7:$X$46,\"\"))","v":0},"","","","","","",""]
[null,null,null,null,null,null,null,null,null,0,0,null,null,null,0,null,"","","",{"$error":"#DIV/0!"},"",{"$f":"IF(P35<>\"Finished\",\"\",VLOOKUP(O35,'Data for points'!$Y$26:$Z$33,2,TRUE))","v":""},"","",{"$f":"MIN(IF($C$7:$C$46=C35,$X$7:$X$46,\"\"))","v":0},"","","","","","",""]
[null,null,null,null,null,null,null,null,null,0,0,null,null,null,0,null,"","","",{"$error":"#DIV/0!"},"",{"$f":"IF(P36<>\"Finished\",\"\",VLOOKUP(O36,'Data for points'!$Y$26:$Z$33,2,TRUE))","v":""},"","",{"$f":"MIN(IF($C$7:$C$46=C36,$X$7:$X$46,\"\"))","v":0},"","","","","","",""]
[null,null,null,null,null,null,null,null,null,0,0,null,null,null,0,null,"","","",{"$error":"#DIV/0!"},"",{"$f":"IF(P37<>\"Finished\",\"\",VLOOKUP(O37,'Data for points'!$Y$26:$Z$33,2,TRUE))","v":""},"","",{"$f":"MIN(IF($C$7:$C$46=C37,$X$7:$X$46,\"\"))","v":0},"","","","","","",""]
[null,null,null,null,null,null,null,null,null,0,0,null,null,null,0,null,"","","",{"$error":"#DIV/0!"},"",{"$f":"IF(P38<>\"Finished\",\"\",VLOOKUP(O38,'Data for points'!$Y$26:$Z$33,2,TRUE))","v":""},"","",{"$f":"MIN(IF($C$7:$C$46=C38,$X$7:$X$46,\"\"))","v":0},"","","","","","",""]
[null,null,null,null,null,null,null,null,null,0,0,null,null,null,0,null,"","","",{"$error":"#DIV/0!"},"",{"$f":"IF(P39<>\"Finished\",\"\",VLOOKUP(O39,'Data for points'!$Y$26:$Z$33,2,TRUE))","v":""},"","",{"$f":"MIN(IF($C$7:$C$46=C39,$X$7:$X$46,\"\"))","v":0},"","","","","","",""]
[null,null,null,null,null,null,null,null,null,0,0,null,null,null,0,null,"","","",{"$error":"#DIV/0!"},"",{"$f":"IF(P40<>\"Finished\",\"\",VLOOKUP(O40,'Data for points'!$Y$26:$Z$33,2,TRUE))","v":""},"","",{"$f":"MIN(IF($C$7:$C$46=C40,$X$7:$X$46,\"\"))","v":0},"","","","","","",""]
[null,null,null,null,null,null,null,null,null,0,0,null,null,null,0,null,"","","",{"$error":"#DIV/0!"},"",{"$f":"IF(P41<>\"Finished\",\"\",VLOOKUP(O41,'Data for points'!$Y$26:$Z$33,2,TRUE))","v":""},"","",{"$f":"MIN(IF($C$7:$C$46=C41,$X$7:$X$46,\"\"))","v":0},"","","","","","",""]
[null,null,null,null,null,null,null,null,null,0,0,null,null,null,0,null,"","","",{"$error":"#DIV/0!"},"",{"$f":"IF(P42<>\"Finished\",\"\",VLOOKUP(O42,'Data for points'!$Y$26:$Z$33,2,TRUE))","v":""},"","",{"$f":"MIN(IF($C$7:$C$46=C42,$X$7:$X$46,\"\"))","v":0},"","","","","","",""]
[null,null,null,null,null,null,null,null,null,0,0,null,null,null,0,null,"","","",{"$error":"#DIV/0!"},"",{"$f":"IF(P43<>\"Finished\",\"\",VLOOKUP(O43,'Data for points'!$Y$26:$Z$33,2,TRUE))","v":""},"","",{"$f":"MIN(IF($C$7:$C$46=C43,$X$7:$X$46,\"\"))","v":0},"","","","","","",""]
[null,null,null,null,null,null,null,null,null,0,0,null,null,null,0,null,"","","",{"$error":"#DIV/0!"},"",{"$f":"IF(P44<>\"Finished\",\"\",VLOOKUP(O44,'Data for points'!$Y$26:$Z$33,2,TRUE))","v":""},"","",{"$f":"MIN(IF($C$7:$C$46=C44,$X$7:$X$46,\"\"))","v":0},"","","","","","",""]
[null,null,null,null,null,null,null,null,null,0,0,null,null,null,0,null,"","","",{"$error":"#DIV/0!"},"",{"$f":"IF(P45<>\"Finished\",\"\",VLOOKUP(O45,'Data for points'!$Y$26:$Z$33,2,TRUE))","v":""},"","",{"$f":"MIN(IF($C$7:$C$46=C45,$X$7:$X$46,\"\"))","v":0},"","","","","","",""]
[null,null,null,null,null,null,null,null,null,0,0,null,null,null,0,null,"","","",{"$error":"#DIV/0!"},"",{"$f":"IF(P46<>\"Finished\",\"\",VLOOKUP(O46,'Data for points'!$Y$26:$Z$33,2,TRUE))","v":""},"","",{"$f":"MIN(IF($C$7:$C$46=C46,$X$7:$X$46,\"\"))","v":0},"","","","","","",""]
[]
[]
[]
[]
[]
[]
[]
[]
[]
[]
[]
[]
[]
[]
[]
[]
[]
[]
[]
[]
[]
[]
[]
[]
[]
[]
[]
[]
[]
[]
[]
[]
[]
[]
[]
[]
[]
[]
[]
[]
[]
[]
[]
[]
[]
[]
[]
[]
[]
[]
[]
[]
[]
[null,null,null,null,null,null,null,null,null,null,null,null,null,null,null,"Finished"]
[null,null,null,null,null,null,null,null,null,null,null,null,null,null,null,"Disqualified"]

{"sheet":"6x50m Free Men","index":10,"n_rows":101,"n_cols":32,"rows_kept":101,"cut":false,"hidden":true,"merged":[[1,10,1,11],[4,6,4,7],[4,9,4,10],[4,11,4,13]]}
[null,null,null,null,null,null,null,null,null,null,null,null,null,null,"UR in seconds"]
[null,"Men's",null,"6x50m Free",null,null,null,null,null,null,"Club to \nHighlight",null,null,null,{"$f":"'Data for points'!Y5","v":0},{"$f":"CONCATENATE(\"University  Record=\",INT(O2/60),\" minS\",MOD(O2,60),\" secs\")","v":"University  Record=0 minS0 secs"}]
[]
[]
["A University(Boolean)","Club Name","Club Code","Competitor","CompetitorID","AceptanceID","ID code",null,"Entry Time(Seconds)","Entry Time",null,"Time",null,null,"Time(seconds)","Finish \nStatus","TimeSand  DQs","Rank","Competition \nPlace","PointSCalculation","Lifesaving Points","Survive and Save Status","Squad List","Rank For \nSquadSMembers","Top Finisher for there Unit","Top finisher Select Competitor for ranking","Squad \nPoints","Uni Finishers","Student \nPoints","Non-Uni Finishers","Non-Student \nPoints"]
[null,null,null,null,null,null,null,null,null,"Mins","Seconds","Mins","Seconds","1/100"]
[1,null,null,null,null,null,null,null,0,{"$f":"INT(I7/60)","v":0},{"$f":"MOD(I7,60)","v":0},2,19,95,{"$f":"L7*60+M7+N7/100","v":139.94999999999999},"Finished",{"$f":"IF(P7<>\"Finished\",IF(P7<=0,\"\",P7),IF(P7=\"Finished\",IF(O7<=0,\"\",O7),\"\"))","v":139.94999999999999},{"$f":"IF(OR(LEFT(Q7,1)=\"D\",Q7=\"\"),\"\",RANK(Q7,$Q$7:$Q$46,1))","v":2},{"$f":"IF(LEFT(P7,1)=\"D\",MAX($R$7:$R$46)+1,R7)","v":2},{"$f":"(1-(O7-$O$2)/$O$2)*1000","v":{"$error":"#DIV/0!"}},{"$f":"IF(P7<>\"Finished\",\"\",IF(T7<0,0,T7))","v":{"$error":"#DIV/0!"}},{"$f":"IF(P7<>\"Finished\",\"\",VLOOKUP(O7,'Data for points'!$Y$16:$Z$22,2,TRUE))","v":{"$error":"#N/A"}},{"$f":"IF(G7=\"S\",S7,\"\")","v":""},{"$f":"IF(W7=\"\",\"\",RANK(W7,$W$7:$W$46,1))","v":""},{"$f":"MIN(IF($C$7:$C$46=C7,$X$7:$X$46,\"\"))","v":0},{"$f":"IF(Y7=X7,Y7,\"\")","v":""},{"$f":"IF(Z7=\"\",\"\",RANK(Z7,$Z$7:$Z$46,1))","v":""},{"$f":"IF(A7=1,AA7,\"\")","v":""},{"$f":"IF(AB7=\"\",\"\",RANK(AB7,$AB$7:$AB$46,1))","v":""},{"$f":"IF(A7=0,AA7,\"\")","v":""},{"$f":"IF(AD7=\"\",\"\",RANK(AD7,$AD$7:$AD$46,1))","v":""},{"$f":"IF(OR(P7<>\"Finished\",O7>$O$2),\"\",\"UR\")","v":""}]
[1,null,null,null,null,null,null,null,0,0,0,2,55,49,175.49,"Finished",{"$f":"IF(P8<>\"Finished\",IF(P8<=0,\"\",P8),IF(P8=\"Finished\",IF(O8<=0,\"\",O8),\"\"))","v":175.49},{"$f":"IF(OR(LEFT(Q8,1)=\"D\",Q8=\"\"),\"\",RANK(Q8,$Q$7:$Q$46,1))","v":7},{"$f":"IF(LEFT(P8,1)=\"D\",MAX($R$7:$R$46)+1,R8)","v":7},{"$f":"(1-(O8-$O$2)/$O$2)*1000","v":{"$error":"#DIV/0!"}},{"$f":"IF(P8<>\"Finished\",\"\",IF(T8<0,0,T8))","v":{"$error":"#DIV/0!"}},{"$f":"IF(P8<>\"Finished\",\"\",VLOOKUP(O8,'Data for points'!$Y$16:$Z$22,2,TRUE))","v":{"$error":"#N/A"}},{"$f":"IF(G8=\"S\",S8,\"\")","v":""},{"$f":"IF(W8=\"\",\"\",RANK(W8,$W$7:$W$46,1))","v":""},{"$f":"MIN(IF($C$7:$C$46=C8,$X$7:$X$46,\"\"))","v":0},{"$f":"IF(Y8=X8,Y8,\"\")","v":""},{"$f":"IF(Z8=\"\",\"\",RANK(Z8,$Z$7:$Z$46,1))","v":""},{"$f":"IF(A8=1,AA8,\"\")","v":""},{"$f":"IF(AB8=\"\",\"\",RANK(AB8,$AB$7:$AB$46,1))","v":""},{"$f":"IF(A8=0,AA8,\"\")","v":""},"",{"$f":"IF(OR(P8<>\"Finished\",O8>$O$2),\"\",\"UR\")","v":""}]
[0,null,null,null,null,null,null,null,0,0,0,2,5,96,125.96,"Finished",125.96,1,1,{"$error":"#DIV/0!"},{"$error":"#DIV/0!"},{"$f":"IF(P9<>\"Finished\",\"\",VLOOKUP(O9,'Data for points'!$Y$16:$Z$22,2,TRUE))","v":{"$error":"#N/A"}},"","",{"$f":"MIN(IF($C$7:$C$46=C9,$X$7:$X$46,\"\"))","v":0},"","","","","","",""]
[0,null,null,null,null,null,null,null,0,0,0,2,35,99,155.99,"Finished",155.99,4,4,{"$error":"#DIV/0!"},{"$error":"#DIV/0!"},{"$f":"IF(P10<>\"Finished\",\"\",VLOOKUP(O10,'Data for points'!$Y$16:$Z$22,2,TRUE))","v":{"$error":"#N/A"}},"","",{"$f":"MIN(IF($C$7:$C$46=C10,$X$7:$X$46,\"\"))","v":0},"","","","","","",""]
[0,null,null,null,null,null,null,null,0,0,0,2,36,88,156.88,"Finished",156.88,5,5,{"$error":"#DIV/0!"},{"$error":"#DIV/0!"},{"$f":"IF(P11<>\"Finished\",\"\",VLOOKUP(O11,'Data for points'!$Y$16:$Z$22,2,TRUE))","v":{"$error":"#N/A"}},"","",{"$f":"MIN(IF($C$7:$C$46=C11,$X$7:$X$46,\"\"))","v":0},"","","","","","",""]
[0,null,null,null,null,null,null,null,0,0,0,2,39,71,159.71,"Finished",159.71,6,6,{"$error":"#DIV/0!"},{"$error":"#DIV/0!"},{"$f":"IF(P12<>\"Finished\",\"\",VLOOKUP(O12,'Data for points'!$Y$16:$Z$22,2,TRUE))","v":{"$error":"#N/A"}},"","",{"$f":"MIN(IF($C$7:$C$46=C12,$X$7:$X$46,\"\"))","v":0},"","","","","","",""]
[0,null,null,null,null,null,null,null,0,0,0,2,26,16,146.16,"Finished",146.16,3,3,{"$error":"#DIV/0!"},{"$error":"#DIV/0!"},{"$f":"IF(P13<>\"Finished\",\"\",VLOOKUP(O13,'Data for points'!$Y$16:$Z$22,2,TRUE))","v":{"$error":"#N/A"}},"","",{"$f":"MIN(IF($C$7:$C$46=C13,$X$7:$X$46,\"\"))","v":0},"","","","","","",""]
[0,null,null,null,null,null,null,null,null,0,0,null,null,null,0,null,"","","",{"$error":"#DIV/0!"},"",{"$f":"IF(P14<>\"Finished\",\"\",VLOOKUP(O14,'Data for points'!$Y$16:$Z$22,2,TRUE))","v":""},"","",{"$f":"MIN(IF($C$7:$C$46=C14,$X$7:$X$46,\"\"))","v":0},"","","","","","",""]
[null,null,null,null,null,null,null,null,null,0,0,null,null,null,0,null,"","","",{"$error":"#DIV/0!"},"",{"$f":"IF(P15<>\"Finished\",\"\",VLOOKUP(O15,'Data for points'!$Y$16:$Z$22,2,TRUE))","v":""},"","",{"$f":"MIN(IF($C$7:$C$46=C15,$X$7:$X$46,\"\"))","v":0},"","","","","","",""]
[null,null,null,null,null,null,null,null,null,0,0,null,null,null,0,null,"","","",{"$error":"#DIV/0!"},"",{"$f":"IF(P16<>\"Finished\",\"\",VLOOKUP(O16,'Data for points'!$Y$16:$Z$22,2,TRUE))","v":""},"","",{"$f":"MIN(IF($C$7:$C$46=C16,$X$7:$X$46,\"\"))","v":0},"","","","","","",""]
[null,null,null,null,null,null,null,null,null,0,0,null,null,null,0,null,"","","",{"$error":"#DIV/0!"},"",{"$f":"IF(P17<>\"Finished\",\"\",VLOOKUP(O17,'Data for points'!$Y$16:$Z$22,2,TRUE))","v":""},"","",{"$f":"MIN(IF($C$7:$C$46=C17,$X$7:$X$46,\"\"))","v":0},"","","","","","",""]
[null,null,null,null,null,null,null,null,null,0,0,null,null,null,0,null,"","","",{"$error":"#DIV/0!"},"",{"$f":"IF(P18<>\"Finished\",\"\",VLOOKUP(O18,'Data for points'!$Y$16:$Z$22,2,TRUE))","v":""},"","",{"$f":"MIN(IF($C$7:$C$46=C18,$X$7:$X$46,\"\"))","v":0},"","","","","","",""]
[null,null,null,null,null,null,null,null,null,0,0,null,null,null,0,null,"","","",{"$error":"#DIV/0!"},"",{"$f":"IF(P19<>\"Finished\",\"\",VLOOKUP(O19,'Data for points'!$Y$16:$Z$22,2,TRUE))","v":""},"","",{"$f":"MIN(IF($C$7:$C$46=C19,$X$7:$X$46,\"\"))","v":0},"","","","","","",""]
[null,null,null,null,null,null,null,null,null,0,0,null,null,null,0,null,"","","",{"$error":"#DIV/0!"},"",{"$f":"IF(P20<>\"Finished\",\"\",VLOOKUP(O20,'Data for points'!$Y$16:$Z$22,2,TRUE))","v":""},"","",{"$f":"MIN(IF($C$7:$C$46=C20,$X$7:$X$46,\"\"))","v":0},"","","","","","",""]
[null,null,null,null,null,null,null,null,null,0,0,null,null,null,0,null,"","","",{"$error":"#DIV/0!"},"",{"$f":"IF(P21<>\"Finished\",\"\",VLOOKUP(O21,'Data for points'!$Y$16:$Z$22,2,TRUE))","v":""},"","",{"$f":"MIN(IF($C$7:$C$46=C21,$X$7:$X$46,\"\"))","v":0},"","","","","","",""]
[null,null,null,null,null,null,null,null,null,0,0,null,null,null,0,null,"","","",{"$error":"#DIV/0!"},"",{"$f":"IF(P22<>\"Finished\",\"\",VLOOKUP(O22,'Data for points'!$Y$16:$Z$22,2,TRUE))","v":""},"","",{"$f":"MIN(IF($C$7:$C$46=C22,$X$7:$X$46,\"\"))","v":0},"","","","","","",""]
[null,null,null,null,null,null,null,null,null,0,0,null,null,null,0,null,"","","",{"$error":"#DIV/0!"},"",{"$f":"IF(P23<>\"Finished\",\"\",VLOOKUP(O23,'Data for points'!$Y$16:$Z$22,2,TRUE))","v":""},"","",{"$f":"MIN(IF($C$7:$C$46=C23,$X$7:$X$46,\"\"))","v":0},"","","","","","",""]
[null,null,null,null,null,null,null,null,null,0,0,null,null,null,0,null,"","","",{"$error":"#DIV/0!"},"",{"$f":"IF(P24<>\"Finished\",\"\",VLOOKUP(O24,'Data for points'!$Y$16:$Z$22,2,TRUE))","v":""},"","",{"$f":"MIN(IF($C$7:$C$46=C24,$X$7:$X$46,\"\"))","v":0},"","","","","","",""]
[null,null,null,null,null,null,null,null,null,0,0,null,null,null,0,null,"","","",{"$error":"#DIV/0!"},"",{"$f":"IF(P25<>\"Finished\",\"\",VLOOKUP(O25,'Data for points'!$Y$16:$Z$22,2,TRUE))","v":""},"","",{"$f":"MIN(IF($C$7:$C$46=C25,$X$7:$X$46,\"\"))","v":0},"","","","","","",""]
[null,null,null,null,null,null,null,null,null,0,0,null,null,null,0,null,"","","",{"$error":"#DIV/0!"},"",{"$f":"IF(P26<>\"Finished\",\"\",VLOOKUP(O26,'Data for points'!$Y$16:$Z$22,2,TRUE))","v":""},"","",{"$f":"MIN(IF($C$7:$C$46=C26,$X$7:$X$46,\"\"))","v":0},"","","","","","",""]
[null,null,null,null,null,null,null,null,null,0,0,null,null,null,0,null,"","","",{"$error":"#DIV/0!"},"",{"$f":"IF(P27<>\"Finished\",\"\",VLOOKUP(O27,'Data for points'!$Y$16:$Z$22,2,TRUE))","v":""},"","",{"$f":"MIN(IF($C$7:$C$46=C27,$X$7:$X$46,\"\"))","v":0},"","","","","","",""]
[null,null,null,null,null,null,null,null,null,0,0,null,null,null,0,null,"","","",{"$error":"#DIV/0!"},"",{"$f":"IF(P28<>\"Finished\",\"\",VLOOKUP(O28,'Data for points'!$Y$16:$Z$22,2,TRUE))","v":""},"","",{"$f":"MIN(IF($C$7:$C$46=C28,$X$7:$X$46,\"\"))","v":0},"","","","","","",""]
[null,null,null,null,null,null,null,null,null,0,0,null,null,null,0,null,"","","",{"$error":"#DIV/0!"},"",{"$f":"IF(P29<>\"Finished\",\"\",VLOOKUP(O29,'Data for points'!$Y$16:$Z$22,2,TRUE))","v":""},"","",{"$f":"MIN(IF($C$7:$C$46=C29,$X$7:$X$46,\"\"))","v":0},"","","","","","",""]
[null,null,null,null,null,null,null,null,null,0,0,null,null,null,0,null,"","","",{"$error":"#DIV/0!"},"",{"$f":"IF(P30<>\"Finished\",\"\",VLOOKUP(O30,'Data for points'!$Y$16:$Z$22,2,TRUE))","v":""},"","",{"$f":"MIN(IF($C$7:$C$46=C30,$X$7:$X$46,\"\"))","v":0},"","","","","","",""]
[null,null,null,null,null,null,null,null,null,0,0,null,null,null,0,null,"","","",{"$error":"#DIV/0!"},"",{"$f":"IF(P31<>\"Finished\",\"\",VLOOKUP(O31,'Data for points'!$Y$16:$Z$22,2,TRUE))","v":""},"","",{"$f":"MIN(IF($C$7:$C$46=C31,$X$7:$X$46,\"\"))","v":0},"","","","","","",""]
[null,null,null,null,null,null,null,null,null,0,0,null,null,null,0,null,"","","",{"$error":"#DIV/0!"},"",{"$f":"IF(P32<>\"Finished\",\"\",VLOOKUP(O32,'Data for points'!$Y$16:$Z$22,2,TRUE))","v":""},"","",{"$f":"MIN(IF($C$7:$C$46=C32,$X$7:$X$46,\"\"))","v":0},"","","","","","",""]
[null,null,null,null,null,null,null,null,null,0,0,null,null,null,0,null,"","","",{"$error":"#DIV/0!"},"",{"$f":"IF(P33<>\"Finished\",\"\",VLOOKUP(O33,'Data for points'!$Y$16:$Z$22,2,TRUE))","v":""},"","",{"$f":"MIN(IF($C$7:$C$46=C33,$X$7:$X$46,\"\"))","v":0},"","","","","","",""]
[null,null,null,null,null,null,null,null,null,0,0,null,null,null,0,null,"","","",{"$error":"#DIV/0!"},"",{"$f":"IF(P34<>\"Finished\",\"\",VLOOKUP(O34,'Data for points'!$Y$16:$Z$22,2,TRUE))","v":""},"","",{"$f":"MIN(IF($C$7:$C$46=C34,$X$7:$X$46,\"\"))","v":0},"","","","","","",""]
[null,null,null,null,null,null,null,null,null,0,0,null,null,null,0,null,"","","",{"$error":"#DIV/0!"},"",{"$f":"IF(P35<>\"Finished\",\"\",VLOOKUP(O35,'Data for points'!$Y$16:$Z$22,2,TRUE))","v":""},"","",{"$f":"MIN(IF($C$7:$C$46=C35,$X$7:$X$46,\"\"))","v":0},"","","","","","",""]
[null,null,null,null,null,null,null,null,null,0,0,null,null,null,0,null,"","","",{"$error":"#DIV/0!"},"",{"$f":"IF(P36<>\"Finished\",\"\",VLOOKUP(O36,'Data for points'!$Y$16:$Z$22,2,TRUE))","v":""},"","",{"$f":"MIN(IF($C$7:$C$46=C36,$X$7:$X$46,\"\"))","v":0},"","","","","","",""]
[null,null,null,null,null,null,null,null,null,0,0,null,null,null,0,null,"","","",{"$error":"#DIV/0!"},"",{"$f":"IF(P37<>\"Finished\",\"\",VLOOKUP(O37,'Data for points'!$Y$16:$Z$22,2,TRUE))","v":""},"","",{"$f":"MIN(IF($C$7:$C$46=C37,$X$7:$X$46,\"\"))","v":0},"","","","","","",""]
[null,null,null,null,null,null,null,null,null,0,0,null,null,null,0,null,"","","",{"$error":"#DIV/0!"},"",{"$f":"IF(P38<>\"Finished\",\"\",VLOOKUP(O38,'Data for points'!$Y$16:$Z$22,2,TRUE))","v":""},"","",{"$f":"MIN(IF($C$7:$C$46=C38,$X$7:$X$46,\"\"))","v":0},"","","","","","",""]
[null,null,null,null,null,null,null,null,null,0,0,null,null,null,0,null,"","","",{"$error":"#DIV/0!"},"",{"$f":"IF(P39<>\"Finished\",\"\",VLOOKUP(O39,'Data for points'!$Y$16:$Z$22,2,TRUE))","v":""},"","",{"$f":"MIN(IF($C$7:$C$46=C39,$X$7:$X$46,\"\"))","v":0},"","","","","","",""]
[null,null,null,null,null,null,null,null,null,0,0,null,null,null,0,null,"","","",{"$error":"#DIV/0!"},"",{"$f":"IF(P40<>\"Finished\",\"\",VLOOKUP(O40,'Data for points'!$Y$16:$Z$22,2,TRUE))","v":""},"","",{"$f":"MIN(IF($C$7:$C$46=C40,$X$7:$X$46,\"\"))","v":0},"","","","","","",""]
[null,null,null,null,null,null,null,null,null,0,0,null,null,null,0,null,"","","",{"$error":"#DIV/0!"},"",{"$f":"IF(P41<>\"Finished\",\"\",VLOOKUP(O41,'Data for points'!$Y$16:$Z$22,2,TRUE))","v":""},"","",{"$f":"MIN(IF($C$7:$C$46=C41,$X$7:$X$46,\"\"))","v":0},"","","","","","",""]
[null,null,null,null,null,null,null,null,null,0,0,null,null,null,0,null,"","","",{"$error":"#DIV/0!"},"",{"$f":"IF(P42<>\"Finished\",\"\",VLOOKUP(O42,'Data for points'!$Y$16:$Z$22,2,TRUE))","v":""},"","",{"$f":"MIN(IF($C$7:$C$46=C42,$X$7:$X$46,\"\"))","v":0},"","","","","","",""]
[null,null,null,null,null,null,null,null,null,0,0,null,null,null,0,null,"","","",{"$error":"#DIV/0!"},"",{"$f":"IF(P43<>\"Finished\",\"\",VLOOKUP(O43,'Data for points'!$Y$16:$Z$22,2,TRUE))","v":""},"","",{"$f":"MIN(IF($C$7:$C$46=C43,$X$7:$X$46,\"\"))","v":0},"","","","","","",""]
[null,null,null,null,null,null,null,null,null,0,0,null,null,null,0,null,"","","",{"$error":"#DIV/0!"},"",{"$f":"IF(P44<>\"Finished\",\"\",VLOOKUP(O44,'Data for points'!$Y$16:$Z$22,2,TRUE))","v":""},"","",{"$f":"MIN(IF($C$7:$C$46=C44,$X$7:$X$46,\"\"))","v":0},"","","","","","",""]
[null,null,null,null,null,null,null,null,null,0,0,null,null,null,0,null,"","","",{"$error":"#DIV/0!"},"",{"$f":"IF(P45<>\"Finished\",\"\",VLOOKUP(O45,'Data for points'!$Y$16:$Z$22,2,TRUE))","v":""},"","",{"$f":"MIN(IF($C$7:$C$46=C45,$X$7:$X$46,\"\"))","v":0},"","","","","","",""]
[null,null,null,null,null,null,null,null,null,0,0,null,null,null,0,null,"","","",{"$error":"#DIV/0!"},"",{"$f":"IF(P46<>\"Finished\",\"\",VLOOKUP(O46,'Data for points'!$Y$16:$Z$22,2,TRUE))","v":""},"","",{"$f":"MIN(IF($C$7:$C$46=C46,$X$7:$X$46,\"\"))","v":0},"","","","","","",""]
[]
[]
[]
[]
[]
[]
[]
[]
[]
[]
[]
[]
[]
[]
[]
[]
[]
[]
[]
[]
[]
[]
[]
[]
[]
[]
[]
[]
[]
[]
[]
[]
[]
[]
[]
[]
[]
[]
[]
[]
[]
[]
[]
[]
[]
[]
[]
[]
[]
[]
[]
[]
[]
[null,null,null,null,null,null,null,null,null,null,null,null,null,null,null,"Finished"]
[null,null,null,null,null,null,null,null,null,null,null,null,null,null,null,"Disqualified"]

{"sheet":"6x50m Obs Men","index":11,"n_rows":101,"n_cols":32,"rows_kept":101,"cut":false,"hidden":true,"merged":[[1,10,1,11],[4,6,4,7],[4,9,4,10],[4,11,4,13]]}
[null,null,null,null,null,null,null,null,null,null,null,null,null,null,"UR in seconds"]
[null,"Men's",null,"6x50m Obs",null,null,null,null,null,null,"Club to \nHighlight",null,null,null,{"$f":"'Data for points'!Y5","v":0},{"$f":"CONCATENATE(\"University  Record=\",INT(O2/60),\" minS\",MOD(O2,60),\" secs\")","v":"University  Record=0 minS0 secs"}]
[]
[]
["A University(Boolean)","Club Name","Club Code","Competitor","CompetitorID","AceptanceID","ID code",null,"Entry Time(Seconds)","Entry Time",null,"Time",null,null,"Time(seconds)","Finish \nStatus","TimeSand  DQs","Rank","Competition \nPlace","PointSCalculation","Lifesaving Points","Survive and Save Status","Squad List","Rank For \nSquadSMembers","Top Finisher for there Unit","Top finisher Select Competitor for ranking","Squad \nPoints","Uni Finishers","Student \nPoints","Non-Uni Finishers","Non-Student \nPoints"]
[null,null,null,null,null,null,null,null,null,"Mins","Seconds","Mins","Seconds","1/100"]
[null,null,null,null,null,null,null,null,0,{"$f":"INT(I7/60)","v":0},{"$f":"MOD(I7,60)","v":0},3,5,87,{"$f":"L7*60+M7+N7/100","v":185.87},"Finished",{"$f":"IF(P7<>\"Finished\",IF(P7<=0,\"\",P7),IF(P7=\"Finished\",IF(O7<=0,\"\",O7),\"\"))","v":185.87},{"$f":"IF(OR(LEFT(Q7,1)=\"D\",Q7=\"\"),\"\",RANK(Q7,$Q$7:$Q$46,1))","v":2},{"$f":"IF(LEFT(P7,1)=\"D\",MAX($R$7:$R$46)+1,R7)","v":2},{"$f":"(1-(O7-$O$2)/$O$2)*1000","v":{"$error":"#DIV/0!"}},{"$f":"IF(P7<>\"Finished\",\"\",IF(T7<0,0,T7))","v":{"$error":"#DIV/0!"}},{"$f":"IF(P7<>\"Finished\",\"\",VLOOKUP(O7,'Data for points'!$X$16:$Z$22,2,TRUE))","v":"Good"},{"$f":"IF(G7=\"S\",S7,\"\")","v":""},{"$f":"IF(W7=\"\",\"\",RANK(W7,$W$7:$W$46,1))","v":""},{"$f":"MIN(IF($C$7:$C$46=C7,$X$7:$X$46,\"\"))","v":0},{"$f":"IF(Y7=X7,Y7,\"\")","v":""},{"$f":"IF(Z7=\"\",\"\",RANK(Z7,$Z$7:$Z$46,1))","v":""},{"$f":"IF(A7=1,AA7,\"\")","v":""},{"$f":"IF(AB7=\"\",\"\",RANK(AB7,$AB$7:$AB$46,1))","v":""},{"$f":"IF(A7=0,AA7,\"\")","v":""},{"$f":"IF(AD7=\"\",\"\",RANK(AD7,$AD$7:$AD$46,1))","v":""},{"$f":"IF(OR(P7<>\"Finished\",O7>$O$2),\"\",\"UR\")","v":""}]
[null,null,null,null,null,null,null,null,0,0,0,4,14,41,254.41,"Finished",{"$f":"IF(P8<>\"Finished\",IF(P8<=0,\"\",P8),IF(P8=\"Finished\",IF(O8<=0,\"\",O8),\"\"))","v":254.41},{"$f":"IF(OR(LEFT(Q8,1)=\"D\",Q8=\"\"),\"\",RANK(Q8,$Q$7:$Q$46,1))","v":7},{"$f":"IF(LEFT(P8,1)=\"D\",MAX($R$7:$R$46)+1,R8)","v":7},{"$f":"(1-(O8-$O$2)/$O$2)*1000","v":{"$error":"#DIV/0!"}},{"$f":"IF(P8<>\"Finished\",\"\",IF(T8<0,0,T8))","v":{"$error":"#DIV/0!"}},{"$f":"IF(P8<>\"Finished\",\"\",VLOOKUP(O8,'Data for points'!$X$16:$Z$22,2,TRUE))","v":"Pass"},{"$f":"IF(G8=\"S\",S8,\"\")","v":""},{"$f":"IF(W8=\"\",\"\",RANK(W8,$W$7:$W$46,1))","v":""},{"$f":"MIN(IF($C$7:$C$46=C8,$X$7:$X$46,\"\"))","v":0},{"$f":"IF(Y8=X8,Y8,\"\")","v":""},{"$f":"IF(Z8=\"\",\"\",RANK(Z8,$Z$7:$Z$46,1))","v":""},{"$f":"IF(A8=1,AA8,\"\")","v":""},{"$f":"IF(AB8=\"\",\"\",RANK(AB8,$AB$7:$AB$46,1))","v":""},{"$f":"IF(A8=0,AA8,\"\")","v":""},"",{"$f":"IF(OR(P8<>\"Finished\",O8>$O$2),\"\",\"UR\")","v":""}]
[null,null,null,null,null,null,null,null,0,0,0,2,59,2,179.02,"Finished",179.02,1,1,{"$error":"#DIV/0!"},{"$error":"#DIV/0!"},{"$f":"IF(P9<>\"Finished\",\"\",VLOOKUP(O9,'Data for points'!$X$16:$Z$22,2,TRUE))","v":"Very Good"},"","",{"$f":"MIN(IF($C$7:$C$46=C9,$X$7:$X$46,\"\"))","v":0},"","","","","","",""]
[null,null,null,null,null,null,null,null,0,0,0,3,26,89,206.89,"Finished",206.89,5,5,{"$error":"#DIV/0!"},{"$error":"#DIV/0!"},{"$f":"IF(P10<>\"Finished\",\"\",VLOOKUP(O10,'Data for points'!$X$16:$Z$22,2,TRUE))","v":"Fair"},"","",{"$f":"MIN(IF($C$7:$C$46=C10,$X$7:$X$46,\"\"))","v":0},"","","","","","",""]
[null,null,null,null,null,null,null,null,0,0,0,3,43,22,223.22,"Finished",223.22,6,6,{"$error":"#DIV/0!"},{"$error":"#DIV/0!"},{"$f":"IF(P11<>\"Finished\",\"\",VLOOKUP(O11,'Data for points'!$X$16:$Z$22,2,TRUE))","v":"Pass"},"","",{"$f":"MIN(IF($C$7:$C$46=C11,$X$7:$X$46,\"\"))","v":0},"","","","","","",""]
[null,null,null,null,null,null,null,null,0,0,0,3,26,88,206.88,"Finished",206.88,4,4,{"$error":"#DIV/0!"},{"$error":"#DIV/0!"},{"$f":"IF(P12<>\"Finished\",\"\",VLOOKUP(O12,'Data for points'!$X$16:$Z$22,2,TRUE))","v":"Fair"},"","",{"$f":"MIN(IF($C$7:$C$46=C12,$X$7:$X$46,\"\"))","v":0},"","","","","","",""]
[null,null,null,null,null,null,null,null,0,0,0,3,21,25,201.25,"Finished",201.25,3,3,{"$error":"#DIV/0!"},{"$error":"#DIV/0!"},{"$f":"IF(P13<>\"Finished\",\"\",VLOOKUP(O13,'Data for points'!$X$16:$Z$22,2,TRUE))","v":"Fair"},"","",{"$f":"MIN(IF($C$7:$C$46=C13,$X$7:$X$46,\"\"))","v":0},"","","","","","",""]
[null,null,null,null,null,null,null,null,null,0,0,null,null,null,0,null,"","","",{"$error":"#DIV/0!"},"",{"$f":"IF(P14<>\"Finished\",\"\",VLOOKUP(O14,'Data for points'!$X$16:$Z$22,2,TRUE))","v":""},"","",{"$f":"MIN(IF($C$7:$C$46=C14,$X$7:$X$46,\"\"))","v":0},"","","","","","",""]
[null,null,null,null,null,null,null,null,null,0,0,null,null,null,0,null,"","","",{"$error":"#DIV/0!"},"",{"$f":"IF(P15<>\"Finished\",\"\",VLOOKUP(O15,'Data for points'!$X$16:$Z$22,2,TRUE))","v":""},"","",{"$f":"MIN(IF($C$7:$C$46=C15,$X$7:$X$46,\"\"))","v":0},"","","","","","",""]
[null,null,null,null,null,null,null,null,null,0,0,null,null,null,0,null,"","","",{"$error":"#DIV/0!"},"",{"$f":"IF(P16<>\"Finished\",\"\",VLOOKUP(O16,'Data for points'!$X$16:$Z$22,2,TRUE))","v":""},"","",{"$f":"MIN(IF($C$7:$C$46=C16,$X$7:$X$46,\"\"))","v":0},"","","","","","",""]
[null,null,null,null,null,null,null,null,null,0,0,null,null,null,0,null,"","","",{"$error":"#DIV/0!"},"",{"$f":"IF(P17<>\"Finished\",\"\",VLOOKUP(O17,'Data for points'!$X$16:$Z$22,2,TRUE))","v":""},"","",{"$f":"MIN(IF($C$7:$C$46=C17,$X$7:$X$46,\"\"))","v":0},"","","","","","",""]
[null,null,null,null,null,null,null,null,null,0,0,null,null,null,0,null,"","","",{"$error":"#DIV/0!"},"",{"$f":"IF(P18<>\"Finished\",\"\",VLOOKUP(O18,'Data for points'!$X$16:$Z$22,2,TRUE))","v":""},"","",{"$f":"MIN(IF($C$7:$C$46=C18,$X$7:$X$46,\"\"))","v":0},"","","","","","",""]
[null,null,null,null,null,null,null,null,null,0,0,null,null,null,0,null,"","","",{"$error":"#DIV/0!"},"",{"$f":"IF(P19<>\"Finished\",\"\",VLOOKUP(O19,'Data for points'!$X$16:$Z$22,2,TRUE))","v":""},"","",{"$f":"MIN(IF($C$7:$C$46=C19,$X$7:$X$46,\"\"))","v":0},"","","","","","",""]
[null,null,null,null,null,null,null,null,null,0,0,null,null,null,0,null,"","","",{"$error":"#DIV/0!"},"",{"$f":"IF(P20<>\"Finished\",\"\",VLOOKUP(O20,'Data for points'!$X$16:$Z$22,2,TRUE))","v":""},"","",{"$f":"MIN(IF($C$7:$C$46=C20,$X$7:$X$46,\"\"))","v":0},"","","","","","",""]
[null,null,null,null,null,null,null,null,null,0,0,null,null,null,0,null,"","","",{"$error":"#DIV/0!"},"",{"$f":"IF(P21<>\"Finished\",\"\",VLOOKUP(O21,'Data for points'!$X$16:$Z$22,2,TRUE))","v":""},"","",{"$f":"MIN(IF($C$7:$C$46=C21,$X$7:$X$46,\"\"))","v":0},"","","","","","",""]
[null,null,null,null,null,null,null,null,null,0,0,null,null,null,0,null,"","","",{"$error":"#DIV/0!"},"",{"$f":"IF(P22<>\"Finished\",\"\",VLOOKUP(O22,'Data for points'!$X$16:$Z$22,2,TRUE))","v":""},"","",{"$f":"MIN(IF($C$7:$C$46=C22,$X$7:$X$46,\"\"))","v":0},"","","","","","",""]
[null,null,null,null,null,null,null,null,null,0,0,null,null,null,0,null,"","","",{"$error":"#DIV/0!"},"",{"$f":"IF(P23<>\"Finished\",\"\",VLOOKUP(O23,'Data for points'!$X$16:$Z$22,2,TRUE))","v":""},"","",{"$f":"MIN(IF($C$7:$C$46=C23,$X$7:$X$46,\"\"))","v":0},"","","","","","",""]
[null,null,null,null,null,null,null,null,null,0,0,null,null,null,0,null,"","","",{"$error":"#DIV/0!"},"",{"$f":"IF(P24<>\"Finished\",\"\",VLOOKUP(O24,'Data for points'!$X$16:$Z$22,2,TRUE))","v":""},"","",{"$f":"MIN(IF($C$7:$C$46=C24,$X$7:$X$46,\"\"))","v":0},"","","","","","",""]
[null,null,null,null,null,null,null,null,null,0,0,null,null,null,0,null,"","","",{"$error":"#DIV/0!"},"",{"$f":"IF(P25<>\"Finished\",\"\",VLOOKUP(O25,'Data for points'!$X$16:$Z$22,2,TRUE))","v":""},"","",{"$f":"MIN(IF($C$7:$C$46=C25,$X$7:$X$46,\"\"))","v":0},"","","","","","",""]
[null,null,null,null,null,null,null,null,null,0,0,null,null,null,0,null,"","","",{"$error":"#DIV/0!"},"",{"$f":"IF(P26<>\"Finished\",\"\",VLOOKUP(O26,'Data for points'!$X$16:$Z$22,2,TRUE))","v":""},"","",{"$f":"MIN(IF($C$7:$C$46=C26,$X$7:$X$46,\"\"))","v":0},"","","","","","",""]
[null,null,null,null,null,null,null,null,null,0,0,null,null,null,0,null,"","","",{"$error":"#DIV/0!"},"",{"$f":"IF(P27<>\"Finished\",\"\",VLOOKUP(O27,'Data for points'!$X$16:$Z$22,2,TRUE))","v":""},"","",{"$f":"MIN(IF($C$7:$C$46=C27,$X$7:$X$46,\"\"))","v":0},"","","","","","",""]
[null,null,null,null,null,null,null,null,null,0,0,null,null,null,0,null,"","","",{"$error":"#DIV/0!"},"",{"$f":"IF(P28<>\"Finished\",\"\",VLOOKUP(O28,'Data for points'!$X$16:$Z$22,2,TRUE))","v":""},"","",{"$f":"MIN(IF($C$7:$C$46=C28,$X$7:$X$46,\"\"))","v":0},"","","","","","",""]
[null,null,null,null,null,null,null,null,null,0,0,null,null,null,0,null,"","","",{"$error":"#DIV/0!"},"",{"$f":"IF(P29<>\"Finished\",\"\",VLOOKUP(O29,'Data for points'!$X$16:$Z$22,2,TRUE))","v":""},"","",{"$f":"MIN(IF($C$7:$C$46=C29,$X$7:$X$46,\"\"))","v":0},"","","","","","",""]
[null,null,null,null,null,null,null,null,null,0,0,null,null,null,0,null,"","","",{"$error":"#DIV/0!"},"",{"$f":"IF(P30<>\"Finished\",\"\",VLOOKUP(O30,'Data for points'!$X$16:$Z$22,2,TRUE))","v":""},"","",{"$f":"MIN(IF($C$7:$C$46=C30,$X$7:$X$46,\"\"))","v":0},"","","","","","",""]
[null,null,null,null,null,null,null,null,null,0,0,null,null,null,0,null,"","","",{"$error":"#DIV/0!"},"",{"$f":"IF(P31<>\"Finished\",\"\",VLOOKUP(O31,'Data for points'!$X$16:$Z$22,2,TRUE))","v":""},"","",{"$f":"MIN(IF($C$7:$C$46=C31,$X$7:$X$46,\"\"))","v":0},"","","","","","",""]
[null,null,null,null,null,null,null,null,null,0,0,null,null,null,0,null,"","","",{"$error":"#DIV/0!"},"",{"$f":"IF(P32<>\"Finished\",\"\",VLOOKUP(O32,'Data for points'!$X$16:$Z$22,2,TRUE))","v":""},"","",{"$f":"MIN(IF($C$7:$C$46=C32,$X$7:$X$46,\"\"))","v":0},"","","","","","",""]
[null,null,null,null,null,null,null,null,null,0,0,null,null,null,0,null,"","","",{"$error":"#DIV/0!"},"",{"$f":"IF(P33<>\"Finished\",\"\",VLOOKUP(O33,'Data for points'!$X$16:$Z$22,2,TRUE))","v":""},"","",{"$f":"MIN(IF($C$7:$C$46=C33,$X$7:$X$46,\"\"))","v":0},"","","","","","",""]
[null,null,null,null,null,null,null,null,null,0,0,null,null,null,0,null,"","","",{"$error":"#DIV/0!"},"",{"$f":"IF(P34<>\"Finished\",\"\",VLOOKUP(O34,'Data for points'!$X$16:$Z$22,2,TRUE))","v":""},"","",{"$f":"MIN(IF($C$7:$C$46=C34,$X$7:$X$46,\"\"))","v":0},"","","","","","",""]
[null,null,null,null,null,null,null,null,null,0,0,null,null,null,0,null,"","","",{"$error":"#DIV/0!"},"",{"$f":"IF(P35<>\"Finished\",\"\",VLOOKUP(O35,'Data for points'!$X$16:$Z$22,2,TRUE))","v":""},"","",{"$f":"MIN(IF($C$7:$C$46=C35,$X$7:$X$46,\"\"))","v":0},"","","","","","",""]
[null,null,null,null,null,null,null,null,null,0,0,null,null,null,0,null,"","","",{"$error":"#DIV/0!"},"",{"$f":"IF(P36<>\"Finished\",\"\",VLOOKUP(O36,'Data for points'!$X$16:$Z$22,2,TRUE))","v":""},"","",{"$f":"MIN(IF($C$7:$C$46=C36,$X$7:$X$46,\"\"))","v":0},"","","","","","",""]
[null,null,null,null,null,null,null,null,null,0,0,null,null,null,0,null,"","","",{"$error":"#DIV/0!"},"",{"$f":"IF(P37<>\"Finished\",\"\",VLOOKUP(O37,'Data for points'!$X$16:$Z$22,2,TRUE))","v":""},"","",{"$f":"MIN(IF($C$7:$C$46=C37,$X$7:$X$46,\"\"))","v":0},"","","","","","",""]
[null,null,null,null,null,null,null,null,null,0,0,null,null,null,0,null,"","","",{"$error":"#DIV/0!"},"",{"$f":"IF(P38<>\"Finished\",\"\",VLOOKUP(O38,'Data for points'!$X$16:$Z$22,2,TRUE))","v":""},"","",{"$f":"MIN(IF($C$7:$C$46=C38,$X$7:$X$46,\"\"))","v":0},"","","","","","",""]
[null,null,null,null,null,null,null,null,null,0,0,null,null,null,0,null,"","","",{"$error":"#DIV/0!"},"",{"$f":"IF(P39<>\"Finished\",\"\",VLOOKUP(O39,'Data for points'!$X$16:$Z$22,2,TRUE))","v":""},"","",{"$f":"MIN(IF($C$7:$C$46=C39,$X$7:$X$46,\"\"))","v":0},"","","","","","",""]
[null,null,null,null,null,null,null,null,null,0,0,null,null,null,0,null,"","","",{"$error":"#DIV/0!"},"",{"$f":"IF(P40<>\"Finished\",\"\",VLOOKUP(O40,'Data for points'!$X$16:$Z$22,2,TRUE))","v":""},"","",{"$f":"MIN(IF($C$7:$C$46=C40,$X$7:$X$46,\"\"))","v":0},"","","","","","",""]
[null,null,null,null,null,null,null,null,null,0,0,null,null,null,0,null,"","","",{"$error":"#DIV/0!"},"",{"$f":"IF(P41<>\"Finished\",\"\",VLOOKUP(O41,'Data for points'!$X$16:$Z$22,2,TRUE))","v":""},"","",{"$f":"MIN(IF($C$7:$C$46=C41,$X$7:$X$46,\"\"))","v":0},"","","","","","",""]
[null,null,null,null,null,null,null,null,null,0,0,null,null,null,0,null,"","","",{"$error":"#DIV/0!"},"",{"$f":"IF(P42<>\"Finished\",\"\",VLOOKUP(O42,'Data for points'!$X$16:$Z$22,2,TRUE))","v":""},"","",{"$f":"MIN(IF($C$7:$C$46=C42,$X$7:$X$46,\"\"))","v":0},"","","","","","",""]
[null,null,null,null,null,null,null,null,null,0,0,null,null,null,0,null,"","","",{"$error":"#DIV/0!"},"",{"$f":"IF(P43<>\"Finished\",\"\",VLOOKUP(O43,'Data for points'!$X$16:$Z$22,2,TRUE))","v":""},"","",{"$f":"MIN(IF($C$7:$C$46=C43,$X$7:$X$46,\"\"))","v":0},"","","","","","",""]
[null,null,null,null,null,null,null,null,null,0,0,null,null,null,0,null,"","","",{"$error":"#DIV/0!"},"",{"$f":"IF(P44<>\"Finished\",\"\",VLOOKUP(O44,'Data for points'!$X$16:$Z$22,2,TRUE))","v":""},"","",{"$f":"MIN(IF($C$7:$C$46=C44,$X$7:$X$46,\"\"))","v":0},"","","","","","",""]
[null,null,null,null,null,null,null,null,null,0,0,null,null,null,0,null,"","","",{"$error":"#DIV/0!"},"",{"$f":"IF(P45<>\"Finished\",\"\",VLOOKUP(O45,'Data for points'!$X$16:$Z$22,2,TRUE))","v":""},"","",{"$f":"MIN(IF($C$7:$C$46=C45,$X$7:$X$46,\"\"))","v":0},"","","","","","",""]
[null,null,null,null,null,null,null,null,null,0,0,null,null,null,0,null,"","","",{"$error":"#DIV/0!"},"",{"$f":"IF(P46<>\"Finished\",\"\",VLOOKUP(O46,'Data for points'!$X$16:$Z$22,2,TRUE))","v":""},"","",{"$f":"MIN(IF($C$7:$C$46=C46,$X$7:$X$46,\"\"))","v":0},"","","","","","",""]
[]
[]
[]
[]
[]
[]
[]
[]
[]
[]
[]
[]
[]
[]
[]
[]
[]
[]
[]
[]
[]
[]
[]
[]
[]
[]
[]
[]
[]
[]
[]
[]
[]
[]
[]
[]
[]
[]
[]
[]
[]
[]
[]
[]
[]
[]
[]
[]
[]
[]
[]
[]
[]
[null,null,null,null,null,null,null,null,null,null,null,null,null,null,null,"Finished"]
[null,null,null,null,null,null,null,null,null,null,null,null,null,null,null,"Disqualified"]

{"sheet":"6x50m Obs Women","index":12,"n_rows":101,"n_cols":32,"rows_kept":101,"cut":false,"hidden":true,"merged":[[1,10,1,11],[4,6,4,7],[4,9,4,10],[4,11,4,13]]}
[null,null,null,null,null,null,null,null,null,null,null,null,null,null,"UR in seconds"]
[null,"Women's",null,"6x50m Obs",null,null,null,null,null,null,"Club to \nHighlight",null,null,null,{"$f":"'Data for points'!X6","v":0},{"$f":"CONCATENATE(\"University  Record=\",INT(O2/60),\" minS\",MOD(O2,60),\" secs\")","v":"University  Record=0 minS0 secs"}]
[]
[]
["A University(Boolean)","Club Name","Club Code","Competitor","CompetitorID","AceptanceID","ID code",null,"Entry Time(Seconds)","Entry Time",null,"Time",null,null,"Time(seconds)","Finish \nStatus","TimeSand  DQs","Rank","Competition \nPlace","PointSCalculation","Lifesaving Points","Survive and Save Status","Squad List","Rank For \nSquadSMembers","Top Finisher for there Unit","Top finisher Select Competitor for ranking","Squad \nPoints","Uni Finishers","Student \nPoints","Non-Uni Finishers","Non-Student \nPoints"]
[null,null,null,null,null,null,null,null,null,"Mins","Seconds","Mins","Seconds","1/100"]
[0,null,null,null,null,null,null,null,null,{"$f":"INT(I7/60)","v":0},{"$f":"MOD(I7,60)","v":0},null,null,null,{"$f":"L7*60+M7+N7/100","v":0},null,{"$f":"IF(P7<>\"Finished\",IF(P7<=0,\"\",P7),IF(P7=\"Finished\",IF(O7<=0,\"\",O7),\"\"))","v":""},{"$f":"IF(OR(LEFT(Q7,1)=\"D\",Q7=\"\"),\"\",RANK(Q7,$Q$7:$Q$46,1))","v":""},{"$f":"IF(LEFT(P7,1)=\"D\",MAX($R$7:$R$46)+1,R7)","v":""},{"$f":"(1-(O7-$O$2)/$O$2)*1000","v":{"$error":"#DIV/0!"}},{"$f":"IF(P7<>\"Finished\",\"\",IF(T7<0,0,T7))","v":""},{"$f":"IF(P7<>\"Finished\",\"\",VLOOKUP(O7,'Data for points'!$X$26:$Z$33,3,TRUE))","v":""},{"$f":"IF(G7=\"S\",S7,\"\")","v":""},{"$f":"IF(W7=\"\",\"\",RANK(W7,$W$7:$W$46,1))","v":""},{"$f":"MIN(IF($C$7:$C$46=C7,$X$7:$X$46,\"\"))","v":0},{"$f":"IF(Y7=X7,Y7,\"\")","v":""},{"$f":"IF(Z7=\"\",\"\",RANK(Z7,$Z$7:$Z$46,1))","v":""},{"$f":"IF(A7=1,AA7,\"\")","v":""},{"$f":"IF(AB7=\"\",\"\",RANK(AB7,$AB$7:$AB$46,1))","v":""},{"$f":"IF(A7=0,AA7,\"\")","v":""},{"$f":"IF(AD7=\"\",\"\",RANK(AD7,$AD$7:$AD$46,1))","v":""},{"$f":"IF(OR(P7<>\"Finished\",O7>$O$2),\"\",\"UR\")","v":""}]
[0,null,null,null,null,null,null,null,null,0,0,null,null,null,0,null,{"$f":"IF(P8<>\"Finished\",IF(P8<=0,\"\",P8),IF(P8=\"Finished\",IF(O8<=0,\"\",O8),\"\"))","v":""},{"$f":"IF(OR(LEFT(Q8,1)=\"D\",Q8=\"\"),\"\",RANK(Q8,$Q$7:$Q$46,1))","v":""},{"$f":"IF(LEFT(P8,1)=\"D\",MAX($R$7:$R$46)+1,R8)","v":""},{"$f":"(1-(O8-$O$2)/$O$2)*1000","v":{"$error":"#DIV/0!"}},{"$f":"IF(P8<>\"Finished\",\"\",IF(T8<0,0,T8))","v":""},{"$f":"IF(P8<>\"Finished\",\"\",VLOOKUP(O8,'Data for points'!$X$26:$Z$33,3,TRUE))","v":""},{"$f":"IF(G8=\"S\",S8,\"\")","v":""},{"$f":"IF(W8=\"\",\"\",RANK(W8,$W$7:$W$46,1))","v":""},{"$f":"MIN(IF($C$7:$C$46=C8,$X$7:$X$46,\"\"))","v":0},{"$f":"IF(Y8=X8,Y8,\"\")","v":""},{"$f":"IF(Z8=\"\",\"\",RANK(Z8,$Z$7:$Z$46,1))","v":""},{"$f":"IF(A8=1,AA8,\"\")","v":""},{"$f":"IF(AB8=\"\",\"\",RANK(AB8,$AB$7:$AB$46,1))","v":""},{"$f":"IF(A8=0,AA8,\"\")","v":""},"",{"$f":"IF(OR(P8<>\"Finished\",O8>$O$2),\"\",\"UR\")","v":""}]
[0,null,null,null,null,null,null,null,null,0,0,null,null,null,0,null,"","","",{"$error":"#DIV/0!"},"",{"$f":"IF(P9<>\"Finished\",\"\",VLOOKUP(O9,'Data for points'!$X$26:$Z$33,3,TRUE))","v":""},"","",{"$f":"MIN(IF($C$7:$C$46=C9,$X$7:$X$46,\"\"))","v":0},"","","","","","",""]
[0,null,null,null,null,null,null,null,null,0,0,null,null,null,0,null,"","","",{"$error":"#DIV/0!"},"",{"$f":"IF(P10<>\"Finished\",\"\",VLOOKUP(O10,'Data for points'!$X$26:$Z$33,3,TRUE))","v":""},"","",{"$f":"MIN(IF($C$7:$C$46=C10,$X$7:$X$46,\"\"))","v":0},"","","","","","",""]
[0,null,null,null,null,null,null,null,null,0,0,null,null,null,0,null,"","","",{"$error":"#DIV/0!"},"",{"$f":"IF(P11<>\"Finished\",\"\",VLOOKUP(O11,'Data for points'!$X$26:$Z$33,3,TRUE))","v":""},"","",{"$f":"MIN(IF($C$7:$C$46=C11,$X$7:$X$46,\"\"))","v":0},"","","","","","",""]
[null,null,null,null,null,null,null,null,null,0,0,null,null,null,0,null,"","","",{"$error":"#DIV/0!"},"",{"$f":"IF(P12<>\"Finished\",\"\",VLOOKUP(O12,'Data for points'!$X$26:$Z$33,3,TRUE))","v":""},"","",{"$f":"MIN(IF($C$7:$C$46=C12,$X$7:$X$46,\"\"))","v":0},"","","","","","",""]
[null,null,null,null,null,null,null,null,null,0,0,null,null,null,0,null,"","","",{"$error":"#DIV/0!"},"",{"$f":"IF(P13<>\"Finished\",\"\",VLOOKUP(O13,'Data for points'!$X$26:$Z$33,3,TRUE))","v":""},"","",{"$f":"MIN(IF($C$7:$C$46=C13,$X$7:$X$46,\"\"))","v":0},"","","","","","",""]
[null,null,null,null,null,null,null,null,null,0,0,null,null,null,0,null,"","","",{"$error":"#DIV/0!"},"",{"$f":"IF(P14<>\"Finished\",\"\",VLOOKUP(O14,'Data for points'!$X$26:$Z$33,3,TRUE))","v":""},"","",{"$f":"MIN(IF($C$7:$C$46=C14,$X$7:$X$46,\"\"))","v":0},"","","","","","",""]
[null,null,null,null,null,null,null,null,null,0,0,null,null,null,0,null,"","","",{"$error":"#DIV/0!"},"",{"$f":"IF(P15<>\"Finished\",\"\",VLOOKUP(O15,'Data for points'!$X$26:$Z$33,3,TRUE))","v":""},"","",{"$f":"MIN(IF($C$7:$C$46=C15,$X$7:$X$46,\"\"))","v":0},"","","","","","",""]
[null,null,null,null,null,null,null,null,null,0,0,null,null,null,0,null,"","","",{"$error":"#DIV/0!"},"",{"$f":"IF(P16<>\"Finished\",\"\",VLOOKUP(O16,'Data for points'!$X$26:$Z$33,3,TRUE))","v":""},"","",{"$f":"MIN(IF($C$7:$C$46=C16,$X$7:$X$46,\"\"))","v":0},"","","","","","",""]
[null,null,null,null,null,null,null,null,null,0,0,null,null,null,0,null,"","","",{"$error":"#DIV/0!"},"",{"$f":"IF(P17<>\"Finished\",\"\",VLOOKUP(O17,'Data for points'!$X$26:$Z$33,3,TRUE))","v":""},"","",{"$f":"MIN(IF($C$7:$C$46=C17,$X$7:$X$46,\"\"))","v":0},"","","","","","",""]
[null,null,null,null,null,null,null,null,null,0,0,null,null,null,0,null,"","","",{"$error":"#DIV/0!"},"",{"$f":"IF(P18<>\"Finished\",\"\",VLOOKUP(O18,'Data for points'!$X$26:$Z$33,3,TRUE))","v":""},"","",{"$f":"MIN(IF($C$7:$C$46=C18,$X$7:$X$46,\"\"))","v":0},"","","","","","",""]
[null,null,null,null,null,null,null,null,null,0,0,null,null,null,0,null,"","","",{"$error":"#DIV/0!"},"",{"$f":"IF(P19<>\"Finished\",\"\",VLOOKUP(O19,'Data for points'!$X$26:$Z$33,3,TRUE))","v":""},"","",{"$f":"MIN(IF($C$7:$C$46=C19,$X$7:$X$46,\"\"))","v":0},"","","","","","",""]
[null,null,null,null,null,null,null,null,null,0,0,null,null,null,0,null,"","","",{"$error":"#DIV/0!"},"",{"$f":"IF(P20<>\"Finished\",\"\",VLOOKUP(O20,'Data for points'!$X$26:$Z$33,3,TRUE))","v":""},"","",{"$f":"MIN(IF($C$7:$C$46=C20,$X$7:$X$46,\"\"))","v":0},"","","","","","",""]
[null,null,null,null,null,null,null,null,null,0,0,null,null,null,0,null,"","","",{"$error":"#DIV/0!"},"",{"$f":"IF(P21<>\"Finished\",\"\",VLOOKUP(O21,'Data for points'!$X$26:$Z$33,3,TRUE))","v":""},"","",{"$f":"MIN(IF($C$7:$C$46=C21,$X$7:$X$46,\"\"))","v":0},"","","","","","",""]
[null,null,null,null,null,null,null,null,null,0,0,null,null,null,0,null,"","","",{"$error":"#DIV/0!"},"",{"$f":"IF(P22<>\"Finished\",\"\",VLOOKUP(O22,'Data for points'!$X$26:$Z$33,3,TRUE))","v":""},"","",{"$f":"MIN(IF($C$7:$C$46=C22,$X$7:$X$46,\"\"))","v":0},"","","","","","",""]
[null,null,null,null,null,null,null,null,null,0,0,null,null,null,0,null,"","","",{"$error":"#DIV/0!"},"",{"$f":"IF(P23<>\"Finished\",\"\",VLOOKUP(O23,'Data for points'!$X$26:$Z$33,3,TRUE))","v":""},"","",{"$f":"MIN(IF($C$7:$C$46=C23,$X$7:$X$46,\"\"))","v":0},"","","","","","",""]
[null,null,null,null,null,null,null,null,null,0,0,null,null,null,0,null,"","","",{"$error":"#DIV/0!"},"",{"$f":"IF(P24<>\"Finished\",\"\",VLOOKUP(O24,'Data for points'!$X$26:$Z$33,3,TRUE))","v":""},"","",{"$f":"MIN(IF($C$7:$C$46=C24,$X$7:$X$46,\"\"))","v":0},"","","","","","",""]
[null,null,null,null,null,null,null,null,null,0,0,null,null,null,0,null,"","","",{"$error":"#DIV/0!"},"",{"$f":"IF(P25<>\"Finished\",\"\",VLOOKUP(O25,'Data for points'!$X$26:$Z$33,3,TRUE))","v":""},"","",{"$f":"MIN(IF($C$7:$C$46=C25,$X$7:$X$46,\"\"))","v":0},"","","","","","",""]
[null,null,null,null,null,null,null,null,null,0,0,null,null,null,0,null,"","","",{"$error":"#DIV/0!"},"",{"$f":"IF(P26<>\"Finished\",\"\",VLOOKUP(O26,'Data for points'!$X$26:$Z$33,3,TRUE))","v":""},"","",{"$f":"MIN(IF($C$7:$C$46=C26,$X$7:$X$46,\"\"))","v":0},"","","","","","",""]
[null,null,null,null,null,null,null,null,null,0,0,null,null,null,0,null,"","","",{"$error":"#DIV/0!"},"",{"$f":"IF(P27<>\"Finished\",\"\",VLOOKUP(O27,'Data for points'!$X$26:$Z$33,3,TRUE))","v":""},"","",{"$f":"MIN(IF($C$7:$C$46=C27,$X$7:$X$46,\"\"))","v":0},"","","","","","",""]
[null,null,null,null,null,null,null,null,null,0,0,null,null,null,0,null,"","","",{"$error":"#DIV/0!"},"",{"$f":"IF(P28<>\"Finished\",\"\",VLOOKUP(O28,'Data for points'!$X$26:$Z$33,3,TRUE))","v":""},"","",{"$f":"MIN(IF($C$7:$C$46=C28,$X$7:$X$46,\"\"))","v":0},"","","","","","",""]
[null,null,null,null,null,null,null,null,null,0,0,null,null,null,0,null,"","","",{"$error":"#DIV/0!"},"",{"$f":"IF(P29<>\"Finished\",\"\",VLOOKUP(O29,'Data for points'!$X$26:$Z$33,3,TRUE))","v":""},"","",{"$f":"MIN(IF($C$7:$C$46=C29,$X$7:$X$46,\"\"))","v":0},"","","","","","",""]
[null,null,null,null,null,null,null,null,null,0,0,null,null,null,0,null,"","","",{"$error":"#DIV/0!"},"",{"$f":"IF(P30<>\"Finished\",\"\",VLOOKUP(O30,'Data for points'!$X$26:$Z$33,3,TRUE))","v":""},"","",{"$f":"MIN(IF($C$7:$C$46=C30,$X$7:$X$46,\"\"))","v":0},"","","","","","",""]
[null,null,null,null,null,null,null,null,null,0,0,null,null,null,0,null,"","","",{"$error":"#DIV/0!"},"",{"$f":"IF(P31<>\"Finished\",\"\",VLOOKUP(O31,'Data for points'!$X$26:$Z$33,3,TRUE))","v":""},"","",{"$f":"MIN(IF($C$7:$C$46=C31,$X$7:$X$46,\"\"))","v":0},"","","","","","",""]
[null,null,null,null,null,null,null,null,null,0,0,null,null,null,0,null,"","","",{"$error":"#DIV/0!"},"",{"$f":"IF(P32<>\"Finished\",\"\",VLOOKUP(O32,'Data for points'!$X$26:$Z$33,3,TRUE))","v":""},"","",{"$f":"MIN(IF($C$7:$C$46=C32,$X$7:$X$46,\"\"))","v":0},"","","","","","",""]
[null,null,null,null,null,null,null,null,null,0,0,null,null,null,0,null,"","","",{"$error":"#DIV/0!"},"",{"$f":"IF(P33<>\"Finished\",\"\",VLOOKUP(O33,'Data for points'!$X$26:$Z$33,3,TRUE))","v":""},"","",{"$f":"MIN(IF($C$7:$C$46=C33,$X$7:$X$46,\"\"))","v":0},"","","","","","",""]
[null,null,null,null,null,null,null,null,null,0,0,null,null,null,0,null,"","","",{"$error":"#DIV/0!"},"",{"$f":"IF(P34<>\"Finished\",\"\",VLOOKUP(O34,'Data for points'!$X$26:$Z$33,3,TRUE))","v":""},"","",{"$f":"MIN(IF($C$7:$C$46=C34,$X$7:$X$46,\"\"))","v":0},"","","","","","",""]
[null,null,null,null,null,null,null,null,null,0,0,null,null,null,0,null,"","","",{"$error":"#DIV/0!"},"",{"$f":"IF(P35<>\"Finished\",\"\",VLOOKUP(O35,'Data for points'!$X$26:$Z$33,3,TRUE))","v":""},"","",{"$f":"MIN(IF($C$7:$C$46=C35,$X$7:$X$46,\"\"))","v":0},"","","","","","",""]
[null,null,null,null,null,null,null,null,null,0,0,null,null,null,0,null,"","","",{"$error":"#DIV/0!"},"",{"$f":"IF(P36<>\"Finished\",\"\",VLOOKUP(O36,'Data for points'!$X$26:$Z$33,3,TRUE))","v":""},"","",{"$f":"MIN(IF($C$7:$C$46=C36,$X$7:$X$46,\"\"))","v":0},"","","","","","",""]
[null,null,null,null,null,null,null,null,null,0,0,null,null,null,0,null,"","","",{"$error":"#DIV/0!"},"",{"$f":"IF(P37<>\"Finished\",\"\",VLOOKUP(O37,'Data for points'!$X$26:$Z$33,3,TRUE))","v":""},"","",{"$f":"MIN(IF($C$7:$C$46=C37,$X$7:$X$46,\"\"))","v":0},"","","","","","",""]
[null,null,null,null,null,null,null,null,null,0,0,null,null,null,0,null,"","","",{"$error":"#DIV/0!"},"",{"$f":"IF(P38<>\"Finished\",\"\",VLOOKUP(O38,'Data for points'!$X$26:$Z$33,3,TRUE))","v":""},"","",{"$f":"MIN(IF($C$7:$C$46=C38,$X$7:$X$46,\"\"))","v":0},"","","","","","",""]
[null,null,null,null,null,null,null,null,null,0,0,null,null,null,0,null,"","","",{"$error":"#DIV/0!"},"",{"$f":"IF(P39<>\"Finished\",\"\",VLOOKUP(O39,'Data for points'!$X$26:$Z$33,3,TRUE))","v":""},"","",{"$f":"MIN(IF($C$7:$C$46=C39,$X$7:$X$46,\"\"))","v":0},"","","","","","",""]
[null,null,null,null,null,null,null,null,null,0,0,null,null,null,0,null,"","","",{"$error":"#DIV/0!"},"",{"$f":"IF(P40<>\"Finished\",\"\",VLOOKUP(O40,'Data for points'!$X$26:$Z$33,3,TRUE))","v":""},"","",{"$f":"MIN(IF($C$7:$C$46=C40,$X$7:$X$46,\"\"))","v":0},"","","","","","",""]
[null,null,null,null,null,null,null,null,null,0,0,null,null,null,0,null,"","","",{"$error":"#DIV/0!"},"",{"$f":"IF(P41<>\"Finished\",\"\",VLOOKUP(O41,'Data for points'!$X$26:$Z$33,3,TRUE))","v":""},"","",{"$f":"MIN(IF($C$7:$C$46=C41,$X$7:$X$46,\"\"))","v":0},"","","","","","",""]
[null,null,null,null,null,null,null,null,null,0,0,null,null,null,0,null,"","","",{"$error":"#DIV/0!"},"",{"$f":"IF(P42<>\"Finished\",\"\",VLOOKUP(O42,'Data for points'!$X$26:$Z$33,3,TRUE))","v":""},"","",{"$f":"MIN(IF($C$7:$C$46=C42,$X$7:$X$46,\"\"))","v":0},"","","","","","",""]
[null,null,null,null,null,null,null,null,null,0,0,null,null,null,0,null,"","","",{"$error":"#DIV/0!"},"",{"$f":"IF(P43<>\"Finished\",\"\",VLOOKUP(O43,'Data for points'!$X$26:$Z$33,3,TRUE))","v":""},"","",{"$f":"MIN(IF($C$7:$C$46=C43,$X$7:$X$46,\"\"))","v":0},"","","","","","",""]
[null,null,null,null,null,null,null,null,null,0,0,null,null,null,0,null,"","","",{"$error":"#DIV/0!"},"",{"$f":"IF(P44<>\"Finished\",\"\",VLOOKUP(O44,'Data for points'!$X$26:$Z$33,3,TRUE))","v":""},"","",{"$f":"MIN(IF($C$7:$C$46=C44,$X$7:$X$46,\"\"))","v":0},"","","","","","",""]
[null,null,null,null,null,null,null,null,null,0,0,null,null,null,0,null,"","","",{"$error":"#DIV/0!"},"",{"$f":"IF(P45<>\"Finished\",\"\",VLOOKUP(O45,'Data for points'!$X$26:$Z$33,3,TRUE))","v":""},"","",{"$f":"MIN(IF($C$7:$C$46=C45,$X$7:$X$46,\"\"))","v":0},"","","","","","",""]
[null,null,null,null,null,null,null,null,null,0,0,null,null,null,0,null,"","","",{"$error":"#DIV/0!"},"",{"$f":"IF(P46<>\"Finished\",\"\",VLOOKUP(O46,'Data for points'!$X$26:$Z$33,3,TRUE))","v":""},"","",{"$f":"MIN(IF($C$7:$C$46=C46,$X$7:$X$46,\"\"))","v":0},"","","","","","",""]
[]
[]
[]
[]
[]
[]
[]
[]
[]
[]
[]
[]
[]
[]
[]
[]
[]
[]
[]
[]
[]
[]
[]
[]
[]
[]
[]
[]
[]
[]
[]
[]
[]
[]
[]
[]
[]
[]
[]
[]
[]
[]
[]
[]
[]
[]
[]
[]
[]
[]
[]
[]
[]
[null,null,null,null,null,null,null,null,null,null,null,null,null,null,null,"Finished"]
[null,null,null,null,null,null,null,null,null,null,null,null,null,null,null,"Disqualified"]

{"sheet":"50m Obs Men","index":13,"n_rows":101,"n_cols":32,"rows_kept":101,"cut":false,"hidden":true,"merged":[[1,10,1,11],[4,6,4,7],[4,9,4,10],[4,11,4,13]]}
[null,null,null,null,null,null,null,null,null,null,null,null,null,null,"UR in seconds"]
[null,"Men's",null,"50m Obs",null,null,null,null,null,null,"Club to \nHighlight",null,null,null,{"$f":"'Data for points'!V5","v":0},{"$f":"CONCATENATE(\"University  Record=\",INT(O2/60),\" minS\",MOD(O2,60),\" secs\")","v":"University  Record=0 minS0 secs"}]
[]
[]
["A University(Boolean)","Club Name","Club Code","Competitor","CompetitorID","AceptanceID","ID code",null,"Entry Time(Seconds)","Entry Time",null,"Time",null,null,"Time(seconds)","Finish \nStatus","TimeSand  DQs","Rank","Competition \nPlace","PointSCalculation","Lifesaving Points","Survive and Save Status","Squad List","Rank For \nSquadSMembers","Top Finisher for there Unit","Top finisher Select Competitor for ranking","Squad \nPoints","Uni Finishers","Student \nPoints","Non-Uni Finishers","Non-Student \nPoints"]
[null,null,null,null,null,null,null,null,null,"Mins","Seconds","Mins","Seconds","1/100"]
[0,null,null,null,null,null,null,null,null,{"$f":"INT(I7/60)","v":0},{"$f":"MOD(I7,60)","v":0},null,null,null,{"$f":"L7*60+M7+N7/100","v":0},null,{"$f":"IF(P7<>\"Finished\",IF(P7<=0,\"\",P7),IF(P7=\"Finished\",IF(O7<=0,\"\",O7),\"\"))","v":""},{"$f":"IF(OR(LEFT(Q7,1)=\"D\",Q7=\"\"),\"\",RANK(Q7,$Q$7:$Q$46,1))","v":""},{"$f":"IF(LEFT(P7,1)=\"D\",MAX($R$7:$R$46)+1,R7)","v":""},{"$f":"(1-(O7-$O$2)/$O$2)*1000","v":{"$error":"#DIV/0!"}},{"$f":"IF(P7<>\"Finished\",\"\",IF(T7<0,0,T7))","v":""},{"$f":"IF(P7<>\"Finished\",\"\",VLOOKUP(O7,'Data for points'!$V$16:$Z$22,2,TRUE))","v":""},{"$f":"IF(G7=\"S\",S7,\"\")","v":""},{"$f":"IF(W7=\"\",\"\",RANK(W7,$W$7:$W$46,1))","v":""},{"$f":"MIN(IF($C$7:$C$46=C7,$X$7:$X$46,\"\"))","v":0},{"$f":"IF(Y7=X7,Y7,\"\")","v":""},{"$f":"IF(Z7=\"\",\"\",RANK(Z7,$Z$7:$Z$46,1))","v":""},{"$f":"IF(A7=1,AA7,\"\")","v":""},{"$f":"IF(AB7=\"\",\"\",RANK(AB7,$AB$7:$AB$46,1))","v":""},{"$f":"IF(A7=0,AA7,\"\")","v":""},{"$f":"IF(AD7=\"\",\"\",RANK(AD7,$AD$7:$AD$46,1))","v":""},{"$f":"IF(OR(P7<>\"Finished\",O7>$O$2),\"\",\"UR\")","v":""}]
[0,null,null,null,null,null,null,null,null,0,0,null,null,null,0,null,{"$f":"IF(P8<>\"Finished\",IF(P8<=0,\"\",P8),IF(P8=\"Finished\",IF(O8<=0,\"\",O8),\"\"))","v":""},{"$f":"IF(OR(LEFT(Q8,1)=\"D\",Q8=\"\"),\"\",RANK(Q8,$Q$7:$Q$46,1))","v":""},{"$f":"IF(LEFT(P8,1)=\"D\",MAX($R$7:$R$46)+1,R8)","v":""},{"$f":"(1-(O8-$O$2)/$O$2)*1000","v":{"$error":"#DIV/0!"}},{"$f":"IF(P8<>\"Finished\",\"\",IF(T8<0,0,T8))","v":""},{"$f":"IF(P8<>\"Finished\",\"\",VLOOKUP(O8,'Data for points'!$V$16:$Z$22,2,TRUE))","v":""},{"$f":"IF(G8=\"S\",S8,\"\")","v":""},{"$f":"IF(W8=\"\",\"\",RANK(W8,$W$7:$W$46,1))","v":""},{"$f":"MIN(IF($C$7:$C$46=C8,$X$7:$X$46,\"\"))","v":0},{"$f":"IF(Y8=X8,Y8,\"\")","v":""},{"$f":"IF(Z8=\"\",\"\",RANK(Z8,$Z$7:$Z$46,1))","v":""},{"$f":"IF(A8=1,AA8,\"\")","v":""},{"$f":"IF(AB8=\"\",\"\",RANK(AB8,$AB$7:$AB$46,1))","v":""},{"$f":"IF(A8=0,AA8,\"\")","v":""},"",{"$f":"IF(OR(P8<>\"Finished\",O8>$O$2),\"\",\"UR\")","v":""}]
[0,null,null,null,null,null,null,null,null,0,0,null,null,null,0,null,"","","",{"$error":"#DIV/0!"},"",{"$f":"IF(P9<>\"Finished\",\"\",VLOOKUP(O9,'Data for points'!$V$16:$Z$22,2,TRUE))","v":""},"","",{"$f":"MIN(IF($C$7:$C$46=C9,$X$7:$X$46,\"\"))","v":0},"","","","","","",""]
[0,null,null,null,null,null,null,null,null,0,0,null,null,null,0,null,"","","",{"$error":"#DIV/0!"},"",{"$f":"IF(P10<>\"Finished\",\"\",VLOOKUP(O10,'Data for points'!$V$16:$Z$22,2,TRUE))","v":""},"","",{"$f":"MIN(IF($C$7:$C$46=C10,$X$7:$X$46,\"\"))","v":0},"","","","","","",""]
[0,null,null,null,null,null,null,null,null,0,0,null,null,null,0,null,"","","",{"$error":"#DIV/0!"},"",{"$f":"IF(P11<>\"Finished\",\"\",VLOOKUP(O11,'Data for points'!$V$16:$Z$22,2,TRUE))","v":""},"","",{"$f":"MIN(IF($C$7:$C$46=C11,$X$7:$X$46,\"\"))","v":0},"","","","","","",""]
[0,null,null,null,null,null,null,null,null,0,0,null,null,null,0,null,"","","",{"$error":"#DIV/0!"},"",{"$f":"IF(P12<>\"Finished\",\"\",VLOOKUP(O12,'Data for points'!$V$16:$Z$22,2,TRUE))","v":""},"","",{"$f":"MIN(IF($C$7:$C$46=C12,$X$7:$X$46,\"\"))","v":0},"","","","","","",""]
[0,null,null,null,null,null,null,null,null,0,0,null,null,null,0,null,"","","",{"$error":"#DIV/0!"},"",{"$f":"IF(P13<>\"Finished\",\"\",VLOOKUP(O13,'Data for points'!$V$16:$Z$22,2,TRUE))","v":""},"","",{"$f":"MIN(IF($C$7:$C$46=C13,$X$7:$X$46,\"\"))","v":0},"","","","","","",""]
[0,null,null,null,null,null,null,null,null,0,0,null,null,null,0,null,"","","",{"$error":"#DIV/0!"},"",{"$f":"IF(P14<>\"Finished\",\"\",VLOOKUP(O14,'Data for points'!$V$16:$Z$22,2,TRUE))","v":""},"","",{"$f":"MIN(IF($C$7:$C$46=C14,$X$7:$X$46,\"\"))","v":0},"","","","","","",""]
[null,null,null,null,null,null,null,null,null,0,0,null,null,null,0,null,"","","",{"$error":"#DIV/0!"},"",{"$f":"IF(P15<>\"Finished\",\"\",VLOOKUP(O15,'Data for points'!$V$16:$Z$22,2,TRUE))","v":""},"","",{"$f":"MIN(IF($C$7:$C$46=C15,$X$7:$X$46,\"\"))","v":0},"","","","","","",""]
[null,null,null,null,null,null,null,null,null,{"$f":"INT(I16/60)","v":0},{"$f":"MOD(I16,60)","v":0},null,null,null,0,null,"","","",{"$error":"#DIV/0!"},"",{"$f":"IF(P16<>\"Finished\",\"\",VLOOKUP(O16,'Data for points'!$V$16:$Z$22,2,TRUE))","v":""},"","",{"$f":"MIN(IF($C$7:$C$46=C16,$X$7:$X$46,\"\"))","v":0},"","","","","","",""]
[null,null,null,null,null,null,null,null,null,0,0,null,null,null,0,null,"","","",{"$error":"#DIV/0!"},"",{"$f":"IF(P17<>\"Finished\",\"\",VLOOKUP(O17,'Data for points'!$V$16:$Z$22,2,TRUE))","v":""},"","",{"$f":"MIN(IF($C$7:$C$46=C17,$X$7:$X$46,\"\"))","v":0},"","","","","","",""]
[null,null,null,null,null,null,null,null,null,0,0,null,null,null,0,null,"","","",{"$error":"#DIV/0!"},"",{"$f":"IF(P18<>\"Finished\",\"\",VLOOKUP(O18,'Data for points'!$V$16:$Z$22,2,TRUE))","v":""},"","",{"$f":"MIN(IF($C$7:$C$46=C18,$X$7:$X$46,\"\"))","v":0},"","","","","","",""]
[null,null,null,null,null,null,null,null,null,0,0,null,null,null,0,null,"","","",{"$error":"#DIV/0!"},"",{"$f":"IF(P19<>\"Finished\",\"\",VLOOKUP(O19,'Data for points'!$V$16:$Z$22,2,TRUE))","v":""},"","",{"$f":"MIN(IF($C$7:$C$46=C19,$X$7:$X$46,\"\"))","v":0},"","","","","","",""]
[null,null,null,null,null,null,null,null,null,0,0,null,null,null,0,null,"","","",{"$error":"#DIV/0!"},"",{"$f":"IF(P20<>\"Finished\",\"\",VLOOKUP(O20,'Data for points'!$V$16:$Z$22,2,TRUE))","v":""},"","",{"$f":"MIN(IF($C$7:$C$46=C20,$X$7:$X$46,\"\"))","v":0},"","","","","","",""]
[null,null,null,null,null,null,null,null,null,0,0,null,null,null,0,null,"","","",{"$error":"#DIV/0!"},"",{"$f":"IF(P21<>\"Finished\",\"\",VLOOKUP(O21,'Data for points'!$V$16:$Z$22,2,TRUE))","v":""},"","",{"$f":"MIN(IF($C$7:$C$46=C21,$X$7:$X$46,\"\"))","v":0},"","","","","","",""]
[null,null,null,null,null,null,null,null,null,0,0,null,null,null,0,null,"","","",{"$error":"#DIV/0!"},"",{"$f":"IF(P22<>\"Finished\",\"\",VLOOKUP(O22,'Data for points'!$V$16:$Z$22,2,TRUE))","v":""},"","",{"$f":"MIN(IF($C$7:$C$46=C22,$X$7:$X$46,\"\"))","v":0},"","","","","","",""]
[null,null,null,null,null,null,null,null,null,0,0,null,null,null,0,null,"","","",{"$error":"#DIV/0!"},"",{"$f":"IF(P23<>\"Finished\",\"\",VLOOKUP(O23,'Data for points'!$V$16:$Z$22,2,TRUE))","v":""},"","",{"$f":"MIN(IF($C$7:$C$46=C23,$X$7:$X$46,\"\"))","v":0},"","","","","","",""]
[null,null,null,null,null,null,null,null,null,0,0,null,null,null,0,null,"","","",{"$error":"#DIV/0!"},"",{"$f":"IF(P24<>\"Finished\",\"\",VLOOKUP(O24,'Data for points'!$V$16:$Z$22,2,TRUE))","v":""},"","",{"$f":"MIN(IF($C$7:$C$46=C24,$X$7:$X$46,\"\"))","v":0},"","","","","","",""]
[null,null,null,null,null,null,null,null,null,0,0,null,null,null,0,null,"","","",{"$error":"#DIV/0!"},"",{"$f":"IF(P25<>\"Finished\",\"\",VLOOKUP(O25,'Data for points'!$V$16:$Z$22,2,TRUE))","v":""},"","",{"$f":"MIN(IF($C$7:$C$46=C25,$X$7:$X$46,\"\"))","v":0},"","","","","","",""]
[null,null,null,null,null,null,null,null,null,0,0,null,null,null,0,null,"","","",{"$error":"#DIV/0!"},"",{"$f":"IF(P26<>\"Finished\",\"\",VLOOKUP(O26,'Data for points'!$V$16:$Z$22,2,TRUE))","v":""},"","",{"$f":"MIN(IF($C$7:$C$46=C26,$X$7:$X$46,\"\"))","v":0},"","","","","","",""]
[null,null,null,null,null,null,null,null,null,0,0,null,null,null,0,null,"","","",{"$error":"#DIV/0!"},"",{"$f":"IF(P27<>\"Finished\",\"\",VLOOKUP(O27,'Data for points'!$V$16:$Z$22,2,TRUE))","v":""},"","",{"$f":"MIN(IF($C$7:$C$46=C27,$X$7:$X$46,\"\"))","v":0},"","","","","","",""]
[null,null,null,null,null,null,null,null,null,0,0,null,null,null,0,null,"","","",{"$error":"#DIV/0!"},"",{"$f":"IF(P28<>\"Finished\",\"\",VLOOKUP(O28,'Data for points'!$V$16:$Z$22,2,TRUE))","v":""},"","",{"$f":"MIN(IF($C$7:$C$46=C28,$X$7:$X$46,\"\"))","v":0},"","","","","","",""]
[null,null,null,null,null,null,null,null,null,0,0,null,null,null,0,null,"","","",{"$error":"#DIV/0!"},"",{"$f":"IF(P29<>\"Finished\",\"\",VLOOKUP(O29,'Data for points'!$V$16:$Z$22,2,TRUE))","v":""},"","",{"$f":"MIN(IF($C$7:$C$46=C29,$X$7:$X$46,\"\"))","v":0},"","","","","","",""]
[null,null,null,null,null,null,null,null,null,0,0,null,null,null,0,null,"","","",{"$error":"#DIV/0!"},"",{"$f":"IF(P30<>\"Finished\",\"\",VLOOKUP(O30,'Data for points'!$V$16:$Z$22,2,TRUE))","v":""},"","",{"$f":"MIN(IF($C$7:$C$46=C30,$X$7:$X$46,\"\"))","v":0},"","","","","","",""]
[null,null,null,null,null,null,null,null,null,0,0,null,null,null,0,null,"","","",{"$error":"#DIV/0!"},"",{"$f":"IF(P31<>\"Finished\",\"\",VLOOKUP(O31,'Data for points'!$V$16:$Z$22,2,TRUE))","v":""},"","",{"$f":"MIN(IF($C$7:$C$46=C31,$X$7:$X$46,\"\"))","v":0},"","","","","","",""]
[null,null,null,null,null,null,null,null,null,0,0,null,null,null,0,null,"","","",{"$error":"#DIV/0!"},"",{"$f":"IF(P32<>\"Finished\",\"\",VLOOKUP(O32,'Data for points'!$V$16:$Z$22,2,TRUE))","v":""},"","",{"$f":"MIN(IF($C$7:$C$46=C32,$X$7:$X$46,\"\"))","v":0},"","","","","","",""]
[null,null,null,null,null,null,null,null,null,0,0,null,null,null,0,null,"","","",{"$error":"#DIV/0!"},"",{"$f":"IF(P33<>\"Finished\",\"\",VLOOKUP(O33,'Data for points'!$V$16:$Z$22,2,TRUE))","v":""},"","",{"$f":"MIN(IF($C$7:$C$46=C33,$X$7:$X$46,\"\"))","v":0},"","","","","","",""]
[null,null,null,null,null,null,null,null,null,0,0,null,null,null,0,null,"","","",{"$error":"#DIV/0!"},"",{"$f":"IF(P34<>\"Finished\",\"\",VLOOKUP(O34,'Data for points'!$V$16:$Z$22,2,TRUE))","v":""},"","",{"$f":"MIN(IF($C$7:$C$46=C34,$X$7:$X$46,\"\"))","v":0},"","","","","","",""]
[null,null,null,null,null,null,null,null,null,0,0,null,null,null,0,null,"","","",{"$error":"#DIV/0!"},"",{"$f":"IF(P35<>\"Finished\",\"\",VLOOKUP(O35,'Data for points'!$V$16:$Z$22,2,TRUE))","v":""},"","",{"$f":"MIN(IF($C$7:$C$46=C35,$X$7:$X$46,\"\"))","v":0},"","","","","","",""]
[null,null,null,null,null,null,null,null,null,0,0,null,null,null,0,null,"","","",{"$error":"#DIV/0!"},"",{"$f":"IF(P36<>\"Finished\",\"\",VLOOKUP(O36,'Data for points'!$V$16:$Z$22,2,TRUE))","v":""},"","",{"$f":"MIN(IF($C$7:$C$46=C36,$X$7:$X$46,\"\"))","v":0},"","","","","","",""]
[null,null,null,null,null,null,null,null,null,0,0,null,null,null,0,null,"","","",{"$error":"#DIV/0!"},"",{"$f":"IF(P37<>\"Finished\",\"\",VLOOKUP(O37,'Data for points'!$V$16:$Z$22,2,TRUE))","v":""},"","",{"$f":"MIN(IF($C$7:$C$46=C37,$X$7:$X$46,\"\"))","v":0},"","","","","","",""]
[null,null,null,null,null,null,null,null,null,0,0,null,null,null,0,null,"","","",{"$error":"#DIV/0!"},"",{"$f":"IF(P38<>\"Finished\",\"\",VLOOKUP(O38,'Data for points'!$V$16:$Z$22,2,TRUE))","v":""},"","",{"$f":"MIN(IF($C$7:$C$46=C38,$X$7:$X$46,\"\"))","v":0},"","","","","","",""]
[null,null,null,null,null,null,null,null,null,0,0,null,null,null,0,null,"","","",{"$error":"#DIV/0!"},"",{"$f":"IF(P39<>\"Finished\",\"\",VLOOKUP(O39,'Data for points'!$V$16:$Z$22,2,TRUE))","v":""},"","",{"$f":"MIN(IF($C$7:$C$46=C39,$X$7:$X$46,\"\"))","v":0},"","","","","","",""]
[null,null,null,null,null,null,null,null,null,0,0,null,null,null,0,null,"","","",{"$error":"#DIV/0!"},"",{"$f":"IF(P40<>\"Finished\",\"\",VLOOKUP(O40,'Data for points'!$V$16:$Z$22,2,TRUE))","v":""},"","",{"$f":"MIN(IF($C$7:$C$46=C40,$X$7:$X$46,\"\"))","v":0},"","","","","","",""]
[null,null,null,null,null,null,null,null,null,0,0,null,null,null,0,null,"","","",{"$error":"#DIV/0!"},"",{"$f":"IF(P41<>\"Finished\",\"\",VLOOKUP(O41,'Data for points'!$V$16:$Z$22,2,TRUE))","v":""},"","",{"$f":"MIN(IF($C$7:$C$46=C41,$X$7:$X$46,\"\"))","v":0},"","","","","","",""]
[null,null,null,null,null,null,null,null,null,0,0,null,null,null,0,null,"","","",{"$error":"#DIV/0!"},"",{"$f":"IF(P42<>\"Finished\",\"\",VLOOKUP(O42,'Data for points'!$V$16:$Z$22,2,TRUE))","v":""},"","",{"$f":"MIN(IF($C$7:$C$46=C42,$X$7:$X$46,\"\"))","v":0},"","","","","","",""]
[null,null,null,null,null,null,null,null,null,0,0,null,null,null,0,null,"","","",{"$error":"#DIV/0!"},"",{"$f":"IF(P43<>\"Finished\",\"\",VLOOKUP(O43,'Data for points'!$V$16:$Z$22,2,TRUE))","v":""},"","",{"$f":"MIN(IF($C$7:$C$46=C43,$X$7:$X$46,\"\"))","v":0},"","","","","","",""]
[null,null,null,null,null,null,null,null,null,0,0,null,null,null,0,null,"","","",{"$error":"#DIV/0!"},"",{"$f":"IF(P44<>\"Finished\",\"\",VLOOKUP(O44,'Data for points'!$V$16:$Z$22,2,TRUE))","v":""},"","",{"$f":"MIN(IF($C$7:$C$46=C44,$X$7:$X$46,\"\"))","v":0},"","","","","","",""]
[null,null,null,null,null,null,null,null,null,0,0,null,null,null,0,null,"","","",{"$error":"#DIV/0!"},"",{"$f":"IF(P45<>\"Finished\",\"\",VLOOKUP(O45,'Data for points'!$V$16:$Z$22,2,TRUE))","v":""},"","",{"$f":"MIN(IF($C$7:$C$46=C45,$X$7:$X$46,\"\"))","v":0},"","","","","","",""]
[null,null,null,null,null,null,null,null,null,0,0,null,null,null,0,null,"","","",{"$error":"#DIV/0!"},"",{"$f":"IF(P46<>\"Finished\",\"\",VLOOKUP(O46,'Data for points'!$V$16:$Z$22,2,TRUE))","v":""},"","",{"$f":"MIN(IF($C$7:$C$46=C46,$X$7:$X$46,\"\"))","v":0},"","","","","","",""]
[]
[]
[]
[]
[]
[]
[]
[]
[]
[]
[]
[]
[]
[]
[]
[]
[]
[]
[]
[]
[]
[]
[]
[]
[]
[]
[]
[]
[]
[]
[]
[]
[]
[]
[]
[]
[]
[]
[]
[]
[]
[]
[]
[]
[]
[]
[]
[]
[]
[]
[]
[]
[]
[null,null,null,null,null,null,null,null,null,null,null,null,null,null,null,"Finished"]
[null,null,null,null,null,null,null,null,null,null,null,null,null,null,null,"Disqualified"]

{"sheet":"50m Obs Women","index":14,"n_rows":101,"n_cols":32,"rows_kept":101,"cut":false,"hidden":true,"merged":[[1,10,1,11],[4,6,4,7],[4,9,4,10],[4,11,4,13]]}
[null,null,null,null,null,null,null,null,null,null,null,null,null,null,"UR in seconds"]
[null,"Women's",null,"50m Obs",null,null,null,null,null,null,"Club to \nHighlight",null,null,null,{"$f":"'Data for points'!V6","v":0},{"$f":"CONCATENATE(\"University  Record=\",INT(O2/60),\" minS\",MOD(O2,60),\" secs\")","v":"University  Record=0 minS0 secs"}]
[]
[]
["A University(Boolean)","Club Name","Club Code","Competitor","CompetitorID","AceptanceID","ID code",null,"Entry Time(Seconds)","Entry Time",null,"Time",null,null,"Time(seconds)","Finish \nStatus","TimeSand  DQs","Rank","Competition \nPlace","PointSCalculation","Lifesaving Points","Survive and Save Status","Squad List","Rank For \nSquadSMembers","Top Finisher for there Unit","Top finisher Select Competitor for ranking","Squad \nPoints","Uni Finishers","Student \nPoints","Non-Uni Finishers","Non-Student \nPoints"]
[null,null,null,null,null,null,null,null,null,"Mins","Seconds","Mins","Seconds","1/100"]
[0,null,null,null,null,null,null,null,null,{"$f":"INT(I7/60)","v":0},{"$f":"MOD(I7,60)","v":0},null,null,null,{"$f":"L7*60+M7+N7/100","v":0},null,{"$f":"IF(P7<>\"Finished\",IF(P7<=0,\"\",P7),IF(P7=\"Finished\",IF(O7<=0,\"\",O7),\"\"))","v":""},{"$f":"IF(OR(LEFT(Q7,1)=\"D\",Q7=\"\"),\"\",RANK(Q7,$Q$7:$Q$46,1))","v":""},{"$f":"IF(LEFT(P7,1)=\"D\",MAX($R$7:$R$46)+1,R7)","v":""},{"$f":"(1-(O7-$O$2)/$O$2)*1000","v":{"$error":"#DIV/0!"}},{"$f":"IF(P7<>\"Finished\",\"\",IF(T7<0,0,T7))","v":""},{"$f":"IF(P7<>\"Finished\",\"\",VLOOKUP(O7,'Data for points'!$V$26:$Z$33,2,TRUE))","v":""},{"$f":"IF(G7=\"S\",S7,\"\")","v":""},{"$f":"IF(W7=\"\",\"\",RANK(W7,$W$7:$W$46,1))","v":""},{"$f":"MIN(IF($C$7:$C$46=C7,$X$7:$X$46,\"\"))","v":0},{"$f":"IF(Y7=X7,Y7,\"\")","v":""},{"$f":"IF(Z7=\"\",\"\",RANK(Z7,$Z$7:$Z$46,1))","v":""},{"$f":"IF(A7=1,AA7,\"\")","v":""},{"$f":"IF(AB7=\"\",\"\",RANK(AB7,$AB$7:$AB$46,1))","v":""},{"$f":"IF(A7=0,AA7,\"\")","v":""},{"$f":"IF(AD7=\"\",\"\",RANK(AD7,$AD$7:$AD$46,1))","v":""},{"$f":"IF(OR(P7<>\"Finished\",O7>$O$2),\"\",\"UR\")","v":""}]
[0,null,null,null,null,null,null,null,null,0,0,null,null,null,0,null,{"$f":"IF(P8<>\"Finished\",IF(P8<=0,\"\",P8),IF(P8=\"Finished\",IF(O8<=0,\"\",O8),\"\"))","v":""},{"$f":"IF(OR(LEFT(Q8,1)=\"D\",Q8=\"\"),\"\",RANK(Q8,$Q$7:$Q$46,1))","v":""},{"$f":"IF(LEFT(P8,1)=\"D\",MAX($R$7:$R$46)+1,R8)","v":""},{"$f":"(1-(O8-$O$2)/$O$2)*1000","v":{"$error":"#DIV/0!"}},{"$f":"IF(P8<>\"Finished\",\"\",IF(T8<0,0,T8))","v":""},{"$f":"IF(P8<>\"Finished\",\"\",VLOOKUP(O8,'Data for points'!$V$26:$Z$33,2,TRUE))","v":""},{"$f":"IF(G8=\"S\",S8,\"\")","v":""},{"$f":"IF(W8=\"\",\"\",RANK(W8,$W$7:$W$46,1))","v":""},{"$f":"MIN(IF($C$7:$C$46=C8,$X$7:$X$46,\"\"))","v":0},{"$f":"IF(Y8=X8,Y8,\"\")","v":""},{"$f":"IF(Z8=\"\",\"\",RANK(Z8,$Z$7:$Z$46,1))","v":""},{"$f":"IF(A8=1,AA8,\"\")","v":""},{"$f":"IF(AB8=\"\",\"\",RANK(AB8,$AB$7:$AB$46,1))","v":""},{"$f":"IF(A8=0,AA8,\"\")","v":""},"",{"$f":"IF(OR(P8<>\"Finished\",O8>$O$2),\"\",\"UR\")","v":""}]
[0,null,null,null,null,null,null,null,null,0,0,null,null,null,0,null,"","","",{"$error":"#DIV/0!"},"",{"$f":"IF(P9<>\"Finished\",\"\",VLOOKUP(O9,'Data for points'!$V$26:$Z$33,2,TRUE))","v":""},"","",{"$f":"MIN(IF($C$7:$C$46=C9,$X$7:$X$46,\"\"))","v":0},"","","","","","",""]
[0,null,null,null,null,null,null,null,null,0,0,null,null,null,0,null,"","","",{"$error":"#DIV/0!"},"",{"$f":"IF(P10<>\"Finished\",\"\",VLOOKUP(O10,'Data for points'!$V$26:$Z$33,2,TRUE))","v":""},"","",{"$f":"MIN(IF($C$7:$C$46=C10,$X$7:$X$46,\"\"))","v":0},"","","","","","",""]
[0,null,null,null,null,null,null,null,null,0,0,null,null,null,0,null,"","","",{"$error":"#DIV/0!"},"",{"$f":"IF(P11<>\"Finished\",\"\",VLOOKUP(O11,'Data for points'!$V$26:$Z$33,2,TRUE))","v":""},"","",{"$f":"MIN(IF($C$7:$C$46=C11,$X$7:$X$46,\"\"))","v":0},"","","","","","",""]
[null,null,null,null,null,null,null,null,null,0,0,null,null,null,0,null,"","","",{"$error":"#DIV/0!"},"",{"$f":"IF(P12<>\"Finished\",\"\",VLOOKUP(O12,'Data for points'!$V$26:$Z$33,2,TRUE))","v":""},"","",{"$f":"MIN(IF($C$7:$C$46=C12,$X$7:$X$46,\"\"))","v":0},"","","","","","",""]
[null,null,null,null,null,null,null,null,null,0,0,null,null,null,0,null,"","","",{"$error":"#DIV/0!"},"",{"$f":"IF(P13<>\"Finished\",\"\",VLOOKUP(O13,'Data for points'!$V$26:$Z$33,2,TRUE))","v":""},"","",{"$f":"MIN(IF($C$7:$C$46=C13,$X$7:$X$46,\"\"))","v":0},"","","","","","",""]
[null,null,null,null,null,null,null,null,null,0,0,null,null,null,0,null,"","","",{"$error":"#DIV/0!"},"",{"$f":"IF(P14<>\"Finished\",\"\",VLOOKUP(O14,'Data for points'!$V$26:$Z$33,2,TRUE))","v":""},"","",{"$f":"MIN(IF($C$7:$C$46=C14,$X$7:$X$46,\"\"))","v":0},"","","","","","",""]
[null,null,null,null,null,null,null,null,null,0,0,null,null,null,0,null,"","","",{"$error":"#DIV/0!"},"",{"$f":"IF(P15<>\"Finished\",\"\",VLOOKUP(O15,'Data for points'!$V$26:$Z$33,2,TRUE))","v":""},"","",{"$f":"MIN(IF($C$7:$C$46=C15,$X$7:$X$46,\"\"))","v":0},"","","","","","",""]
[null,null,null,null,null,null,null,null,null,0,0,null,null,null,0,null,"","","",{"$error":"#DIV/0!"},"",{"$f":"IF(P16<>\"Finished\",\"\",VLOOKUP(O16,'Data for points'!$V$26:$Z$33,2,TRUE))","v":""},"","",{"$f":"MIN(IF($C$7:$C$46=C16,$X$7:$X$46,\"\"))","v":0},"","","","","","",""]
[null,null,null,null,null,null,null,null,null,0,0,null,null,null,0,null,"","","",{"$error":"#DIV/0!"},"",{"$f":"IF(P17<>\"Finished\",\"\",VLOOKUP(O17,'Data for points'!$V$26:$Z$33,2,TRUE))","v":""},"","",{"$f":"MIN(IF($C$7:$C$46=C17,$X$7:$X$46,\"\"))","v":0},"","","","","","",""]
[null,null,null,null,null,null,null,null,null,{"$f":"INT(I18/60)","v":0},{"$f":"MOD(I18,60)","v":0},null,null,null,0,null,"","","",{"$error":"#DIV/0!"},"",{"$f":"IF(P18<>\"Finished\",\"\",VLOOKUP(O18,'Data for points'!$V$26:$Z$33,2,TRUE))","v":""},"","",{"$f":"MIN(IF($C$7:$C$46=C18,$X$7:$X$46,\"\"))","v":0},"","","","","","",""]
[null,null,null,null,null,null,null,null,null,0,0,null,null,null,0,null,"","","",{"$error":"#DIV/0!"},"",{"$f":"IF(P19<>\"Finished\",\"\",VLOOKUP(O19,'Data for points'!$V$26:$Z$33,2,TRUE))","v":""},"","",{"$f":"MIN(IF($C$7:$C$46=C19,$X$7:$X$46,\"\"))","v":0},"","","","","","",""]
[null,null,null,null,null,null,null,null,null,0,0,null,null,null,0,null,"","","",{"$error":"#DIV/0!"},"",{"$f":"IF(P20<>\"Finished\",\"\",VLOOKUP(O20,'Data for points'!$V$26:$Z$33,2,TRUE))","v":""},"","",{"$f":"MIN(IF($C$7:$C$46=C20,$X$7:$X$46,\"\"))","v":0},"","","","","","",""]
[null,null,null,null,null,null,null,null,null,0,0,null,null,null,0,null,"","","",{"$error":"#DIV/0!"},"",{"$f":"IF(P21<>\"Finished\",\"\",VLOOKUP(O21,'Data for points'!$V$26:$Z$33,2,TRUE))","v":""},"","",{"$f":"MIN(IF($C$7:$C$46=C21,$X$7:$X$46,\"\"))","v":0},"","","","","","",""]
[null,null,null,null,null,null,null,null,null,0,0,null,null,null,0,null,"","","",{"$error":"#DIV/0!"},"",{"$f":"IF(P22<>\"Finished\",\"\",VLOOKUP(O22,'Data for points'!$V$26:$Z$33,2,TRUE))","v":""},"","",{"$f":"MIN(IF($C$7:$C$46=C22,$X$7:$X$46,\"\"))","v":0},"","","","","","",""]
[null,null,null,null,null,null,null,null,null,0,0,null,null,null,0,null,"","","",{"$error":"#DIV/0!"},"",{"$f":"IF(P23<>\"Finished\",\"\",VLOOKUP(O23,'Data for points'!$V$26:$Z$33,2,TRUE))","v":""},"","",{"$f":"MIN(IF($C$7:$C$46=C23,$X$7:$X$46,\"\"))","v":0},"","","","","","",""]
[null,null,null,null,null,null,null,null,null,0,0,null,null,null,0,null,"","","",{"$error":"#DIV/0!"},"",{"$f":"IF(P24<>\"Finished\",\"\",VLOOKUP(O24,'Data for points'!$V$26:$Z$33,2,TRUE))","v":""},"","",{"$f":"MIN(IF($C$7:$C$46=C24,$X$7:$X$46,\"\"))","v":0},"","","","","","",""]
[null,null,null,null,null,null,null,null,null,0,0,null,null,null,0,null,"","","",{"$error":"#DIV/0!"},"",{"$f":"IF(P25<>\"Finished\",\"\",VLOOKUP(O25,'Data for points'!$V$26:$Z$33,2,TRUE))","v":""},"","",{"$f":"MIN(IF($C$7:$C$46=C25,$X$7:$X$46,\"\"))","v":0},"","","","","","",""]
[null,null,null,null,null,null,null,null,null,0,0,null,null,null,0,null,"","","",{"$error":"#DIV/0!"},"",{"$f":"IF(P26<>\"Finished\",\"\",VLOOKUP(O26,'Data for points'!$V$26:$Z$33,2,TRUE))","v":""},"","",{"$f":"MIN(IF($C$7:$C$46=C26,$X$7:$X$46,\"\"))","v":0},"","","","","","",""]
[null,null,null,null,null,null,null,null,null,0,0,null,null,null,0,null,"","","",{"$error":"#DIV/0!"},"",{"$f":"IF(P27<>\"Finished\",\"\",VLOOKUP(O27,'Data for points'!$V$26:$Z$33,2,TRUE))","v":""},"","",{"$f":"MIN(IF($C$7:$C$46=C27,$X$7:$X$46,\"\"))","v":0},"","","","","","",""]
[null,null,null,null,null,null,null,null,null,0,0,null,null,null,0,null,"","","",{"$error":"#DIV/0!"},"",{"$f":"IF(P28<>\"Finished\",\"\",VLOOKUP(O28,'Data for points'!$V$26:$Z$33,2,TRUE))","v":""},"","",{"$f":"MIN(IF($C$7:$C$46=C28,$X$7:$X$46,\"\"))","v":0},"","","","","","",""]
[null,null,null,null,null,null,null,null,null,0,0,null,null,null,0,null,"","","",{"$error":"#DIV/0!"},"",{"$f":"IF(P29<>\"Finished\",\"\",VLOOKUP(O29,'Data for points'!$V$26:$Z$33,2,TRUE))","v":""},"","",{"$f":"MIN(IF($C$7:$C$46=C29,$X$7:$X$46,\"\"))","v":0},"","","","","","",""]
[null,null,null,null,null,null,null,null,null,0,0,null,null,null,0,null,"","","",{"$error":"#DIV/0!"},"",{"$f":"IF(P30<>\"Finished\",\"\",VLOOKUP(O30,'Data for points'!$V$26:$Z$33,2,TRUE))","v":""},"","",{"$f":"MIN(IF($C$7:$C$46=C30,$X$7:$X$46,\"\"))","v":0},"","","","","","",""]
[null,null,null,null,null,null,null,null,null,0,0,null,null,null,0,null,"","","",{"$error":"#DIV/0!"},"",{"$f":"IF(P31<>\"Finished\",\"\",VLOOKUP(O31,'Data for points'!$V$26:$Z$33,2,TRUE))","v":""},"","",{"$f":"MIN(IF($C$7:$C$46=C31,$X$7:$X$46,\"\"))","v":0},"","","","","","",""]
[null,null,null,null,null,null,null,null,null,0,0,null,null,null,0,null,"","","",{"$error":"#DIV/0!"},"",{"$f":"IF(P32<>\"Finished\",\"\",VLOOKUP(O32,'Data for points'!$V$26:$Z$33,2,TRUE))","v":""},"","",{"$f":"MIN(IF($C$7:$C$46=C32,$X$7:$X$46,\"\"))","v":0},"","","","","","",""]
[null,null,null,null,null,null,null,null,null,0,0,null,null,null,0,null,"","","",{"$error":"#DIV/0!"},"",{"$f":"IF(P33<>\"Finished\",\"\",VLOOKUP(O33,'Data for points'!$V$26:$Z$33,2,TRUE))","v":""},"","",{"$f":"MIN(IF($C$7:$C$46=C33,$X$7:$X$46,\"\"))","v":0},"","","","","","",""]
[null,null,null,null,null,null,null,null,null,0,0,null,null,null,0,null,"","","",{"$error":"#DIV/0!"},"",{"$f":"IF(P34<>\"Finished\",\"\",VLOOKUP(O34,'Data for points'!$V$26:$Z$33,2,TRUE))","v":""},"","",{"$f":"MIN(IF($C$7:$C$46=C34,$X$7:$X$46,\"\"))","v":0},"","","","","","",""]
[null,null,null,null,null,null,null,null,null,0,0,null,null,null,0,null,"","","",{"$error":"#DIV/0!"},"",{"$f":"IF(P35<>\"Finished\",\"\",VLOOKUP(O35,'Data for points'!$V$26:$Z$33,2,TRUE))","v":""},"","",{"$f":"MIN(IF($C$7:$C$46=C35,$X$7:$X$46,\"\"))","v":0},"","","","","","",""]
[null,null,null,null,null,null,null,null,null,0,0,null,null,null,0,null,"","","",{"$error":"#DIV/0!"},"",{"$f":"IF(P36<>\"Finished\",\"\",VLOOKUP(O36,'Data for points'!$V$26:$Z$33,2,TRUE))","v":""},"","",{"$f":"MIN(IF($C$7:$C$46=C36,$X$7:$X$46,\"\"))","v":0},"","","","","","",""]
[null,null,null,null,null,null,null,null,null,0,0,null,null,null,0,null,"","","",{"$error":"#DIV/0!"},"",{"$f":"IF(P37<>\"Finished\",\"\",VLOOKUP(O37,'Data for points'!$V$26:$Z$33,2,TRUE))","v":""},"","",{"$f":"MIN(IF($C$7:$C$46=C37,$X$7:$X$46,\"\"))","v":0},"","","","","","",""]
[null,null,null,null,null,null,null,null,null,0,0,null,null,null,0,null,"","","",{"$error":"#DIV/0!"},"",{"$f":"IF(P38<>\"Finished\",\"\",VLOOKUP(O38,'Data for points'!$V$26:$Z$33,2,TRUE))","v":""},"","",{"$f":"MIN(IF($C$7:$C$46=C38,$X$7:$X$46,\"\"))","v":0},"","","","","","",""]
[null,null,null,null,null,null,null,null,null,0,0,null,null,null,0,null,"","","",{"$error":"#DIV/0!"},"",{"$f":"IF(P39<>\"Finished\",\"\",VLOOKUP(O39,'Data for points'!$V$26:$Z$33,2,TRUE))","v":""},"","",{"$f":"MIN(IF($C$7:$C$46=C39,$X$7:$X$46,\"\"))","v":0},"","","","","","",""]
[null,null,null,null,null,null,null,null,null,0,0,null,null,null,0,null,"","","",{"$error":"#DIV/0!"},"",{"$f":"IF(P40<>\"Finished\",\"\",VLOOKUP(O40,'Data for points'!$V$26:$Z$33,2,TRUE))","v":""},"","",{"$f":"MIN(IF($C$7:$C$46=C40,$X$7:$X$46,\"\"))","v":0},"","","","","","",""]
[null,null,null,null,null,null,null,null,null,0,0,null,null,null,0,null,"","","",{"$error":"#DIV/0!"},"",{"$f":"IF(P41<>\"Finished\",\"\",VLOOKUP(O41,'Data for points'!$V$26:$Z$33,2,TRUE))","v":""},"","",{"$f":"MIN(IF($C$7:$C$46=C41,$X$7:$X$46,\"\"))","v":0},"","","","","","",""]
[null,null,null,null,null,null,null,null,null,0,0,null,null,null,0,null,"","","",{"$error":"#DIV/0!"},"",{"$f":"IF(P42<>\"Finished\",\"\",VLOOKUP(O42,'Data for points'!$V$26:$Z$33,2,TRUE))","v":""},"","",{"$f":"MIN(IF($C$7:$C$46=C42,$X$7:$X$46,\"\"))","v":0},"","","","","","",""]
[null,null,null,null,null,null,null,null,null,0,0,null,null,null,0,null,"","","",{"$error":"#DIV/0!"},"",{"$f":"IF(P43<>\"Finished\",\"\",VLOOKUP(O43,'Data for points'!$V$26:$Z$33,2,TRUE))","v":""},"","",{"$f":"MIN(IF($C$7:$C$46=C43,$X$7:$X$46,\"\"))","v":0},"","","","","","",""]
[null,null,null,null,null,null,null,null,null,0,0,null,null,null,0,null,"","","",{"$error":"#DIV/0!"},"",{"$f":"IF(P44<>\"Finished\",\"\",VLOOKUP(O44,'Data for points'!$V$26:$Z$33,2,TRUE))","v":""},"","",{"$f":"MIN(IF($C$7:$C$46=C44,$X$7:$X$46,\"\"))","v":0},"","","","","","",""]
[null,null,null,null,null,null,null,null,null,0,0,null,null,null,0,null,"","","",{"$error":"#DIV/0!"},"",{"$f":"IF(P45<>\"Finished\",\"\",VLOOKUP(O45,'Data for points'!$V$26:$Z$33,2,TRUE))","v":""},"","",{"$f":"MIN(IF($C$7:$C$46=C45,$X$7:$X$46,\"\"))","v":0},"","","","","","",""]
[null,null,null,null,null,null,null,null,null,0,0,null,null,null,0,null,"","","",{"$error":"#DIV/0!"},"",{"$f":"IF(P46<>\"Finished\",\"\",VLOOKUP(O46,'Data for points'!$V$26:$Z$33,2,TRUE))","v":""},"","",{"$f":"MIN(IF($C$7:$C$46=C46,$X$7:$X$46,\"\"))","v":0},"","","","","","",""]
[]
[]
[]
[]
[]
[]
[]
[]
[]
[]
[]
[]
[]
[]
[]
[]
[]
[]
[]
[]
[]
[]
[]
[]
[]
[]
[]
[]
[]
[]
[]
[]
[]
[]
[]
[]
[]
[]
[]
[]
[]
[]
[]
[]
[]
[]
[]
[]
[]
[]
[]
[]
[]
[null,null,null,null,null,null,null,null,null,null,null,null,null,null,null,"Finished"]
[null,null,null,null,null,null,null,null,null,null,null,null,null,null,null,"Disqualified"]

{"sheet":"4 x 25 Obs Relay Women","index":15,"n_rows":101,"n_cols":37,"rows_kept":101,"cut":false,"hidden":false,"merged":[[1,16,1,17],[4,11,4,12],[4,14,4,15],[4,16,4,18]]}
[null,null,null,null,null,null,null,null,null,null,null,null,null,null,null,null,null,null,null,"UR in seconds"]
[null,"Women's",null,null,null,null,null,null,null,null,null,"4 x 25 Obs",null,null,null,null,"Club to \nHighlight",null,null,{"$f":"'Data for points'!S6","v":0},{"$f":"CONCATENATE(\"University  Record=\",INT(T2/60),\" minS\",MOD(T2,60),\" secs\")","v":"University  Record=0 minS0 secs"}]
[]
[]
["A University(Boolean)","Club Name","Club Code","Leg1","Leg1CompettiorID","Leg2","Leg2CompettiorID","Leg3","Leg3CompettiorID","Leg4","Leg4CompettiorID","ID code",null,"Entry Time(Seconds)","Entry Time",null,"Time",null,null,"Time(seconds)","Finish \nStatus","TimeSand  DQs","Rank","Competition \nPlace","PointSCalculation","Lifesaving Points","Survive and Save Status","Squad List","Rank For \nSquadSMembers","Top Finisher for there Uni","Top finisher Select Competitor for ranking","Squad \nPoints","Uni Finishers","Student \nPoints","Non-Uni Finishers","Non-Student \nPoints"]
[null,null,null,null,null,null,null,null,null,null,null,null,null,null,"Mins","Seconds","Mins","Seconds","1/100"]
[0,"RLSS Uk Preformace",80,"Sam Carpenter",3022,"Rachel Carroll",3020,"Lucy Howes",3010,"Jessica Parker",3021,"S","F",64.150000000000006,{"$f":"INT(N7/60)","v":1},{"$f":"MOD(N7,60)","v":4.1500000000000057},1,5,0,{"$f":"Q7*60+R7+S7/100","v":65},"Finished",{"$f":"IF(U7<>\"Finished\",IF(U7<=0,\"\",U7),IF(U7=\"Finished\",IF(T7<=0,\"\",T7),\"\"))","v":65},{"$f":"IF(OR(LEFT(V7,1)=\"D\",V7=\"\"),\"\",RANK(V7,$V$7:$V$46,1))","v":1},{"$f":"IF(LEFT(U7,1)=\"D\",MAX($W$7:$W$46)+1,W7)","v":1},{"$f":"(1-(T7-$T$2)/$T$2)*1000","v":{"$error":"#DIV/0!"}},{"$f":"IF(U7<>\"Finished\",\"\",IF(Y7<0,0,Y7))","v":{"$error":"#DIV/0!"}},{"$f":"IF(U7<>\"Finished\",\"\",VLOOKUP(T7,'Data for points'!$S$26:$Y$33,7,TRUE))","v":"Excellent"},{"$f":"IF(L7=\"S\",X7,\"\")","v":1},{"$f":"IF(AB7=\"\",\"\",RANK(AB7,$AB$7:$AB$46,1))","v":1},{"$f":"MIN(IF($C$7:$C$46=C7,$AC$7:$AC$46,\"\"))","v":1},{"$f":"IF(AD7=AC7,AD7,\"\")","v":1},{"$f":"IF(AE7=\"\",\"\",RANK(AE7,$AE$7:$AE$46,1))","v":1},{"$f":"IF(A7=1,AF7,\"\")","v":""},{"$f":"IF(AG7=\"\",\"\",RANK(AG7,$AG$7:$AG$46,1))","v":""},{"$f":"IF(A7=0,AF7,\"\")","v":1},{"$f":"IF(AI7=\"\",\"\",RANK(AI7,$AI$7:$AI$46,1))","v":1},{"$f":"IF(OR(U7<>\"Finished\",T7>$O$2),\"\",\"UR\")","v":""}]
[0,"East Kilbride",37,"Amy Domnican",2967,"Catherine Browne",2979,"Lauren Wright",2966,"Finna Parkinson",2963,"S","F",60,1,0,1,17,68,77.680000000000007,"Finished",{"$f":"IF(U8<>\"Finished\",IF(U8<=0,\"\",U8),IF(U8=\"Finished\",IF(T8<=0,\"\",T8),\"\"))","v":77.680000000000007},{"$f":"IF(OR(LEFT(V8,1)=\"D\",V8=\"\"),\"\",RANK(V8,$V$7:$V$46,1))","v":4},{"$f":"IF(LEFT(U8,1)=\"D\",MAX($W$7:$W$46)+1,W8)","v":4},{"$f":"(1-(T8-$T$2)/$T$2)*1000","v":{"$error":"#DIV/0!"}},{"$f":"IF(U8<>\"Finished\",\"\",IF(Y8<0,0,Y8))","v":{"$error":"#DIV/0!"}},{"$f":"IF(U8<>\"Finished\",\"\",VLOOKUP(T8,'Data for points'!$S$26:$Y$33,7,TRUE))","v":"Fair"},{"$f":"IF(L8=\"S\",X8,\"\")","v":4},{"$f":"IF(AB8=\"\",\"\",RANK(AB8,$AB$7:$AB$46,1))","v":4},{"$f":"MIN(IF($C$7:$C$46=C8,$AC$7:$AC$46,\"\"))","v":2},{"$f":"IF(AD8=AC8,AD8,\"\")","v":""},{"$f":"IF(AE8=\"\",\"\",RANK(AE8,$AE$7:$AE$46,1))","v":""},"",{"$f":"IF(AG8=\"\",\"\",RANK(AG8,$AG$7:$AG$46,1))","v":""},"",{"$f":"IF(AI8=\"\",\"\",RANK(AI8,$AI$7:$AI$46,1))","v":""},{"$f":"IF(OR(U8<>\"Finished\",T8>$O$2),\"\",\"UR\")","v":""}]
[0,"East Kilbride",37,"Iona Halford",2977,"Alison Wilson",2965,"Isobel Miller",2959,"Susan McAllister",2962,"S","F",60,1,0,1,8,34,68.34,"Finished",68.34,2,2,{"$error":"#DIV/0!"},{"$error":"#DIV/0!"},{"$f":"IF(U9<>\"Finished\",\"\",VLOOKUP(T9,'Data for points'!$S$26:$Y$33,7,TRUE))","v":"Very Good"},2,2,{"$f":"MIN(IF($C$7:$C$46=C9,$AC$7:$AC$46,\"\"))","v":2},2,2,"","",2,2,""]
[0,"Beeslack",52,"Megan Rose",2957,"Emily Glanvill",2952,"Rebecca Stewart",2955,"Shaunna Anderson",2956,"S","F",72.12,1,12.120000000000005,1,10,37,70.37,"Finished",70.37,3,3,{"$error":"#DIV/0!"},{"$error":"#DIV/0!"},{"$f":"IF(U10<>\"Finished\",\"\",VLOOKUP(T10,'Data for points'!$S$26:$Y$33,7,TRUE))","v":"Very Good"},3,3,{"$f":"MIN(IF($C$7:$C$46=C10,$AC$7:$AC$46,\"\"))","v":3},3,3,"","",3,3,""]
[null,null,null,null,null,null,null,null,null,null,null,null,null,null,0,0,null,null,null,0,null,"","","",{"$error":"#DIV/0!"},"",{"$f":"IF(U11<>\"Finished\",\"\",VLOOKUP(T11,'Data for points'!$S$26:$Y$33,7,TRUE))","v":""},"","",{"$f":"MIN(IF($C$7:$C$46=C11,$AC$7:$AC$46,\"\"))","v":0},"","","","","","",""]
[null,null,null,null,null,null,null,null,null,null,null,null,null,null,0,0,null,null,null,0,null,"","","",{"$error":"#DIV/0!"},"",{"$f":"IF(U12<>\"Finished\",\"\",VLOOKUP(T12,'Data for points'!$S$26:$Y$33,7,TRUE))","v":""},"","",{"$f":"MIN(IF($C$7:$C$46=C12,$AC$7:$AC$46,\"\"))","v":0},"","","","","","",""]
[null,null,null,null,null,null,null,null,null,null,null,null,null,null,{"$f":"INT(N13/60)","v":0},{"$f":"MOD(N13,60)","v":0},null,null,null,0,null,"","","",{"$error":"#DIV/0!"},"",{"$f":"IF(U13<>\"Finished\",\"\",VLOOKUP(T13,'Data for points'!$S$26:$Y$33,7,TRUE))","v":""},"","",{"$f":"MIN(IF($C$7:$C$46=C13,$AC$7:$AC$46,\"\"))","v":0},"","","","","","",""]
[null,null,null,null,null,null,null,null,null,null,null,null,null,null,0,0,null,null,null,0,null,"","","",{"$error":"#DIV/0!"},"",{"$f":"IF(U14<>\"Finished\",\"\",VLOOKUP(T14,'Data for points'!$S$26:$Y$33,7,TRUE))","v":""},"","",{"$f":"MIN(IF($C$7:$C$46=C14,$AC$7:$AC$46,\"\"))","v":0},"","","","","","",""]
[null,null,null,null,null,null,null,null,null,null,null,null,null,null,0,0,null,null,null,0,null,"","","",{"$error":"#DIV/0!"},"",{"$f":"IF(U15<>\"Finished\",\"\",VLOOKUP(T15,'Data for points'!$S$26:$Y$33,7,TRUE))","v":""},"","",{"$f":"MIN(IF($C$7:$C$46=C15,$AC$7:$AC$46,\"\"))","v":0},"","","","","","",""]
[null,null,null,null,null,null,null,null,null,null,null,null,null,null,0,0,null,null,null,0,null,"","","",{"$error":"#DIV/0!"},"",{"$f":"IF(U16<>\"Finished\",\"\",VLOOKUP(T16,'Data for points'!$S$26:$Y$33,7,TRUE))","v":""},"","",{"$f":"MIN(IF($C$7:$C$46=C16,$AC$7:$AC$46,\"\"))","v":0},"","","","","","",""]
[null,null,null,null,null,null,null,null,null,null,null,null,null,null,0,0,null,null,null,0,null,"","","",{"$error":"#DIV/0!"},"",{"$f":"IF(U17<>\"Finished\",\"\",VLOOKUP(T17,'Data for points'!$S$26:$Y$33,7,TRUE))","v":""},"","",{"$f":"MIN(IF($C$7:$C$46=C17,$AC$7:$AC$46,\"\"))","v":0},"","","","","","",""]
[null,null,null,null,null,null,null,null,null,null,null,null,null,null,0,0,null,null,null,0,null,"","","",{"$error":"#DIV/0!"},"",{"$f":"IF(U18<>\"Finished\",\"\",VLOOKUP(T18,'Data for points'!$S$26:$Y$33,7,TRUE))","v":""},"","",{"$f":"MIN(IF($C$7:$C$46=C18,$AC$7:$AC$46,\"\"))","v":0},"","","","","","",""]
[null,null,null,null,null,null,null,null,null,null,null,null,null,null,0,0,null,null,null,0,null,"","","",{"$error":"#DIV/0!"},"",{"$f":"IF(U19<>\"Finished\",\"\",VLOOKUP(T19,'Data for points'!$S$26:$Y$33,7,TRUE))","v":""},"","",{"$f":"MIN(IF($C$7:$C$46=C19,$AC$7:$AC$46,\"\"))","v":0},"","","","","","",""]
[null,null,null,null,null,null,null,null,null,null,null,null,null,null,0,0,null,null,null,0,null,"","","",{"$error":"#DIV/0!"},"",{"$f":"IF(U20<>\"Finished\",\"\",VLOOKUP(T20,'Data for points'!$S$26:$Y$33,7,TRUE))","v":""},"","",{"$f":"MIN(IF($C$7:$C$46=C20,$AC$7:$AC$46,\"\"))","v":0},"","","","","","",""]
[null,null,null,null,null,null,null,null,null,null,null,null,null,null,0,0,null,null,null,0,null,"","","",{"$error":"#DIV/0!"},"",{"$f":"IF(U21<>\"Finished\",\"\",VLOOKUP(T21,'Data for points'!$S$26:$Y$33,7,TRUE))","v":""},"","",{"$f":"MIN(IF($C$7:$C$46=C21,$AC$7:$AC$46,\"\"))","v":0},"","","","","","",""]
[null,null,null,null,null,null,null,null,null,null,null,null,null,null,0,0,null,null,null,0,null,"","","",{"$error":"#DIV/0!"},"",{"$f":"IF(U22<>\"Finished\",\"\",VLOOKUP(T22,'Data for points'!$S$26:$Y$33,7,TRUE))","v":""},"","",{"$f":"MIN(IF($C$7:$C$46=C22,$AC$7:$AC$46,\"\"))","v":0},"","","","","","",""]
[null,null,null,null,null,null,null,null,null,null,null,null,null,null,0,0,null,null,null,0,null,"","","",{"$error":"#DIV/0!"},"",{"$f":"IF(U23<>\"Finished\",\"\",VLOOKUP(T23,'Data for points'!$S$26:$Y$33,7,TRUE))","v":""},"","",{"$f":"MIN(IF($C$7:$C$46=C23,$AC$7:$AC$46,\"\"))","v":0},"","","","","","",""]
[null,null,null,null,null,null,null,null,null,null,null,null,null,null,0,0,null,null,null,0,null,"","","",{"$error":"#DIV/0!"},"",{"$f":"IF(U24<>\"Finished\",\"\",VLOOKUP(T24,'Data for points'!$S$26:$Y$33,7,TRUE))","v":""},"","",{"$f":"MIN(IF($C$7:$C$46=C24,$AC$7:$AC$46,\"\"))","v":0},"","","","","","",""]
[null,null,null,null,null,null,null,null,null,null,null,null,null,null,0,0,null,null,null,0,null,"","","",{"$error":"#DIV/0!"},"",{"$f":"IF(U25<>\"Finished\",\"\",VLOOKUP(T25,'Data for points'!$S$26:$Y$33,7,TRUE))","v":""},"","",{"$f":"MIN(IF($C$7:$C$46=C25,$AC$7:$AC$46,\"\"))","v":0},"","","","","","",""]
[null,null,null,null,null,null,null,null,null,null,null,null,null,null,0,0,null,null,null,0,null,"","","",{"$error":"#DIV/0!"},"",{"$f":"IF(U26<>\"Finished\",\"\",VLOOKUP(T26,'Data for points'!$S$26:$Y$33,7,TRUE))","v":""},"","",{"$f":"MIN(IF($C$7:$C$46=C26,$AC$7:$AC$46,\"\"))","v":0},"","","","","","",""]
[null,null,null,null,null,null,null,null,null,null,null,null,null,null,0,0,null,null,null,0,null,"","","",{"$error":"#DIV/0!"},"",{"$f":"IF(U27<>\"Finished\",\"\",VLOOKUP(T27,'Data for points'!$S$26:$Y$33,7,TRUE))","v":""},"","",{"$f":"MIN(IF($C$7:$C$46=C27,$AC$7:$AC$46,\"\"))","v":0},"","","","","","",""]
[null,null,null,null,null,null,null,null,null,null,null,null,null,null,0,0,null,null,null,0,null,"","","",{"$error":"#DIV/0!"},"",{"$f":"IF(U28<>\"Finished\",\"\",VLOOKUP(T28,'Data for points'!$S$26:$Y$33,7,TRUE))","v":""},"","",{"$f":"MIN(IF($C$7:$C$46=C28,$AC$7:$AC$46,\"\"))","v":0},"","","","","","",""]
[null,null,null,null,null,null,null,null,null,null,null,null,null,null,0,0,null,null,null,0,null,"","","",{"$error":"#DIV/0!"},"",{"$f":"IF(U29<>\"Finished\",\"\",VLOOKUP(T29,'Data for points'!$S$26:$Y$33,7,TRUE))","v":""},"","",{"$f":"MIN(IF($C$7:$C$46=C29,$AC$7:$AC$46,\"\"))","v":0},"","","","","","",""]
[null,null,null,null,null,null,null,null,null,null,null,null,null,null,0,0,null,null,null,0,null,"","","",{"$error":"#DIV/0!"},"",{"$f":"IF(U30<>\"Finished\",\"\",VLOOKUP(T30,'Data for points'!$S$26:$Y$33,7,TRUE))","v":""},"","",{"$f":"MIN(IF($C$7:$C$46=C30,$AC$7:$AC$46,\"\"))","v":0},"","","","","","",""]
[null,null,null,null,null,null,null,null,null,null,null,null,null,null,0,0,null,null,null,0,null,"","","",{"$error":"#DIV/0!"},"",{"$f":"IF(U31<>\"Finished\",\"\",VLOOKUP(T31,'Data for points'!$S$26:$Y$33,7,TRUE))","v":""},"","",{"$f":"MIN(IF($C$7:$C$46=C31,$AC$7:$AC$46,\"\"))","v":0},"","","","","","",""]
[null,null,1,null,null,null,null,null,null,null,null,null,null,null,0,0,null,null,null,0,null,"","","",{"$error":"#DIV/0!"},"",{"$f":"IF(U32<>\"Finished\",\"\",VLOOKUP(T32,'Data for points'!$S$26:$Y$33,7,TRUE))","v":""},"","",{"$f":"MIN(IF($C$7:$C$46=C32,$AC$7:$AC$46,\"\"))","v":0},"","","","","","",""]
[null,null,null,null,null,null,null,null,null,null,null,null,null,null,0,0,null,null,null,0,null,"","","",{"$error":"#DIV/0!"},"",{"$f":"IF(U33<>\"Finished\",\"\",VLOOKUP(T33,'Data for points'!$S$26:$Y$33,7,TRUE))","v":""},"","",{"$f":"MIN(IF($C$7:$C$46=C33,$AC$7:$AC$46,\"\"))","v":0},"","","","","","",""]
[null,null,null,null,null,null,null,null,null,null,null,null,null,null,0,0,null,null,null,0,null,"","","",{"$error":"#DIV/0!"},"",{"$f":"IF(U34<>\"Finished\",\"\",VLOOKUP(T34,'Data for points'!$S$26:$Y$33,7,TRUE))","v":""},"","",{"$f":"MIN(IF($C$7:$C$46=C34,$AC$7:$AC$46,\"\"))","v":0},"","","","","","",""]
[null,null,null,null,null,null,null,null,null,null,null,null,null,null,0,0,null,null,null,0,null,"","","",{"$error":"#DIV/0!"},"",{"$f":"IF(U35<>\"Finished\",\"\",VLOOKUP(T35,'Data for points'!$S$26:$Y$33,7,TRUE))","v":""},"","",{"$f":"MIN(IF($C$7:$C$46=C35,$AC$7:$AC$46,\"\"))","v":0},"","","","","","",""]
[null,null,null,null,null,null,null,null,null,null,null,null,null,null,0,0,null,null,null,0,null,"","","",{"$error":"#DIV/0!"},"",{"$f":"IF(U36<>\"Finished\",\"\",VLOOKUP(T36,'Data for points'!$S$26:$Y$33,7,TRUE))","v":""},"","",{"$f":"MIN(IF($C$7:$C$46=C36,$AC$7:$AC$46,\"\"))","v":0},"","","","","","",""]
[null,null,null,null,null,null,null,null,null,null,null,null,null,null,0,0,null,null,null,0,null,"","","",{"$error":"#DIV/0!"},"",{"$f":"IF(U37<>\"Finished\",\"\",VLOOKUP(T37,'Data for points'!$S$26:$Y$33,7,TRUE))","v":""},"","",{"$f":"MIN(IF($C$7:$C$46=C37,$AC$7:$AC$46,\"\"))","v":0},"","","","","","",""]
[null,null,null,null,null,null,null,null,null,null,null,null,null,null,0,0,null,null,null,0,null,"","","",{"$error":"#DIV/0!"},"",{"$f":"IF(U38<>\"Finished\",\"\",VLOOKUP(T38,'Data for points'!$S$26:$Y$33,7,TRUE))","v":""},"","",{"$f":"MIN(IF($C$7:$C$46=C38,$AC$7:$AC$46,\"\"))","v":0},"","","","","","",""]
[null,null,null,null,null,null,null,null,null,null,null,null,null,null,0,0,null,null,null,0,null,"","","",{"$error":"#DIV/0!"},"",{"$f":"IF(U39<>\"Finished\",\"\",VLOOKUP(T39,'Data for points'!$S$26:$Y$33,7,TRUE))","v":""},"","",{"$f":"MIN(IF($C$7:$C$46=C39,$AC$7:$AC$46,\"\"))","v":0},"","","","","","",""]
[null,null,null,null,null,null,null,null,null,null,null,null,null,null,0,0,null,null,null,0,null,"","","",{"$error":"#DIV/0!"},"",{"$f":"IF(U40<>\"Finished\",\"\",VLOOKUP(T40,'Data for points'!$S$26:$Y$33,7,TRUE))","v":""},"","",{"$f":"MIN(IF($C$7:$C$46=C40,$AC$7:$AC$46,\"\"))","v":0},"","","","","","",""]
[null,null,null,null,null,null,null,null,null,null,null,null,null,null,0,0,null,null,null,0,null,"","","",{"$error":"#DIV/0!"},"",{"$f":"IF(U41<>\"Finished\",\"\",VLOOKUP(T41,'Data for points'!$S$26:$Y$33,7,TRUE))","v":""},"","",{"$f":"MIN(IF($C$7:$C$46=C41,$AC$7:$AC$46,\"\"))","v":0},"","","","","","",""]
[null,null,null,null,null,null,null,null,null,null,null,null,null,null,0,0,null,null,null,0,null,"","","",{"$error":"#DIV/0!"},"",{"$f":"IF(U42<>\"Finished\",\"\",VLOOKUP(T42,'Data for points'!$S$26:$Y$33,7,TRUE))","v":""},"","",{"$f":"MIN(IF($C$7:$C$46=C42,$AC$7:$AC$46,\"\"))","v":0},"","","","","","",""]
[null,null,null,null,null,null,null,null,null,null,null,null,null,null,0,0,null,null,null,0,null,"","","",{"$error":"#DIV/0!"},"",{"$f":"IF(U43<>\"Finished\",\"\",VLOOKUP(T43,'Data for points'!$S$26:$Y$33,7,TRUE))","v":""},"","",{"$f":"MIN(IF($C$7:$C$46=C43,$AC$7:$AC$46,\"\"))","v":0},"","","","","","",""]
[null,null,null,null,null,null,null,null,null,null,null,null,null,null,0,0,null,null,null,0,null,"","","",{"$error":"#DIV/0!"},"",{"$f":"IF(U44<>\"Finished\",\"\",VLOOKUP(T44,'Data for points'!$S$26:$Y$33,7,TRUE))","v":""},"","",{"$f":"MIN(IF($C$7:$C$46=C44,$AC$7:$AC$46,\"\"))","v":0},"","","","","","",""]
[null,null,null,null,null,null,null,null,null,null,null,null,null,null,0,0,null,null,null,0,null,"","","",{"$error":"#DIV/0!"},"",{"$f":"IF(U45<>\"Finished\",\"\",VLOOKUP(T45,'Data for points'!$S$26:$Y$33,7,TRUE))","v":""},"","",{"$f":"MIN(IF($C$7:$C$46=C45,$AC$7:$AC$46,\"\"))","v":0},"","","","","","",""]
[null,null,null,null,null,null,null,null,null,null,null,null,null,null,0,0,null,null,null,0,null,"","","",{"$error":"#DIV/0!"},"",{"$f":"IF(U46<>\"Finished\",\"\",VLOOKUP(T46,'Data for points'!$S$26:$Y$33,7,TRUE))","v":""},"","",{"$f":"MIN(IF($C$7:$C$46=C46,$AC$7:$AC$46,\"\"))","v":0},"","","","","","",""]
[]
[]
[]
[]
[]
[]
[]
[]
[]
[]
[]
[]
[]
[]
[]
[]
[]
[]
[]
[]
[]
[]
[]
[]
[]
[]
[]
[]
[]
[]
[]
[]
[]
[]
[]
[]
[]
[]
[]
[]
[]
[]
[]
[]
[]
[]
[]
[]
[]
[]
[]
[]
[]
[null,null,null,null,null,null,null,null,null,null,null,null,null,null,null,null,null,null,null,null,"Finished"]
[null,null,null,null,null,null,null,null,null,null,null,null,null,null,null,null,null,null,null,null,"Disqualified"]

{"sheet":"4 x 25 Obs Relay Men","index":16,"n_rows":101,"n_cols":37,"rows_kept":101,"cut":false,"hidden":false,"merged":[[1,16,1,17],[4,11,4,12],[4,14,4,15],[4,16,4,18]]}
[null,null,null,null,null,null,null,null,null,null,null,null,null,null,null,null,null,null,null,"UR in seconds"]
[null,"Men's",null,null,null,null,null,null,null,null,null,"4 x 25 Obs",null,null,null,null,"Club to \nHighlight",null,null,{"$f":"'Data for points'!S5","v":0},{"$f":"CONCATENATE(\"University  Record=\",INT(T2/60),\" minS\",MOD(T2,60),\" secs\")","v":"University  Record=0 minS0 secs"}]
[]
[]
["A University(Boolean)","Club Name","Club Code","Leg1","Leg1CompettiorID","Leg2","Leg2CompettiorID","Leg3","Leg3CompettiorID","Leg4","Leg4CompettiorID","ID code",null,"Entry Time(Seconds)","Entry Time",null,"Time",null,null,"Time(seconds)","Finish \nStatus","TimeSand  DQs","Rank","Competition \nPlace","PointSCalculation","Lifesaving Points","Survive and Save Status","Squad List","Rank For \nSquadSMembers","Top Finisher for there Uni","Top finisher Select Competitor for ranking","Squad \nPoints","Uni Finishers","Student\n Points","Non-Uni Finishers","Non-Student \nPoints"]
[null,null,null,null,null,null,null,null,null,null,null,null,null,null,"Mins","Seconds","Mins","Seconds","1/100"]
[0,"East Kilbride",37,"Andrew McAllister",2971,"Callum Young",2961,"Iain Wilson",2964,"James Miller",2960,"S","M",50,{"$f":"INT(N7/60)","v":0},{"$f":"MOD(N7,60)","v":50},null,58,62,{"$f":"Q7*60+R7+S7/100","v":58.62},"Finished",{"$f":"IF(U7<>\"Finished\",IF(U7<=0,\"\",U7),IF(U7=\"Finished\",IF(T7<=0,\"\",T7),\"\"))","v":58.62},{"$f":"IF(OR(LEFT(V7,1)=\"D\",V7=\"\"),\"\",RANK(V7,$V$7:$V$46,1))","v":1},{"$f":"IF(LEFT(U7,1)=\"D\",MAX($W$7:$W$46)+1,W7)","v":1},{"$f":"(1-(T7-$T$2)/$T$2)*1000","v":{"$error":"#DIV/0!"}},{"$f":"IF(U7<>\"Finished\",\"\",IF(Y7<0,0,Y7))","v":{"$error":"#DIV/0!"}},{"$f":"IF(U7<>\"Finished\",\"\",VLOOKUP(T7,'Data for points'!$S$16:$Y$23,7,TRUE))","v":"Very Good"},{"$f":"IF(L7=\"S\",X7,\"\")","v":1},{"$f":"IF(AB7=\"\",\"\",RANK(AB7,$AB$7:$AB$46,1))","v":1},{"$f":"MIN(IF($C$7:$C$46=C7,$AC$7:$AC$46,\"\"))","v":1},{"$f":"IF(AD7=AC7,AD7,\"\")","v":1},{"$f":"IF(AE7=\"\",\"\",RANK(AE7,$AE$7:$AE$46,1))","v":1},{"$f":"IF(A7=1,AF7,\"\")","v":""},{"$f":"IF(AG7=\"\",\"\",RANK(AG7,$AG$7:$AG$46,1))","v":""},{"$f":"IF(A7=0,AF7,\"\")","v":1},{"$f":"IF(AI7=\"\",\"\",RANK(AI7,$AI$7:$AI$46,1))","v":1},{"$f":"IF(OR(U7<>\"Finished\",T7>$O$2),\"\",\"UR\")","v":""}]
[0,"RLSS Uk Preformace",80,"Daniel Weightman",3023,"Mark Chandler",3024,"Adam Threlfall",3016,"Ruari Hurson",3015,"S","M",65,{"$f":"INT(N8/60)","v":1},{"$f":"MOD(N8,60)","v":5},1,4,0,{"$f":"Q8*60+R8+S8/100","v":64},"Finished",{"$f":"IF(U8<>\"Finished\",IF(U8<=0,\"\",U8),IF(U8=\"Finished\",IF(T8<=0,\"\",T8),\"\"))","v":64},{"$f":"IF(OR(LEFT(V8,1)=\"D\",V8=\"\"),\"\",RANK(V8,$V$7:$V$46,1))","v":2},{"$f":"IF(LEFT(U8,1)=\"D\",MAX($W$7:$W$46)+1,W8)","v":2},{"$f":"(1-(T8-$T$2)/$T$2)*1000","v":{"$error":"#DIV/0!"}},{"$f":"IF(U8<>\"Finished\",\"\",IF(Y8<0,0,Y8))","v":{"$error":"#DIV/0!"}},{"$f":"IF(U8<>\"Finished\",\"\",VLOOKUP(T8,'Data for points'!$S$16:$Y$23,7,TRUE))","v":"Good"},{"$f":"IF(L8=\"S\",X8,\"\")","v":2},{"$f":"IF(AB8=\"\",\"\",RANK(AB8,$AB$7:$AB$46,1))","v":2},{"$f":"MIN(IF($C$7:$C$46=C8,$AC$7:$AC$46,\"\"))","v":2},{"$f":"IF(AD8=AC8,AD8,\"\")","v":2},{"$f":"IF(AE8=\"\",\"\",RANK(AE8,$AE$7:$AE$46,1))","v":2},"",{"$f":"IF(AG8=\"\",\"\",RANK(AG8,$AG$7:$AG$46,1))","v":""},{"$f":"IF(A8=0,AF8,\"\")","v":2},{"$f":"IF(AI8=\"\",\"\",RANK(AI8,$AI$7:$AI$46,1))","v":2},{"$f":"IF(OR(U8<>\"Finished\",T8>$O$2),\"\",\"UR\")","v":""}]
[null,null,null,null,null,null,null,null,null,null,null,null,null,null,0,0,null,null,null,0,null,"","","",{"$error":"#DIV/0!"},"",{"$f":"IF(U9<>\"Finished\",\"\",VLOOKUP(T9,'Data for points'!$S$16:$Y$23,7,TRUE))","v":""},"","",{"$f":"MIN(IF($C$7:$C$46=C9,$AC$7:$AC$46,\"\"))","v":0},"","","","","","",""]
[null,null,null,null,null,null,null,null,null,null,null,null,null,null,0,0,null,null,null,0,null,"","","",{"$error":"#DIV/0!"},"",{"$f":"IF(U10<>\"Finished\",\"\",VLOOKUP(T10,'Data for points'!$S$16:$Y$23,7,TRUE))","v":""},"","",{"$f":"MIN(IF($C$7:$C$46=C10,$AC$7:$AC$46,\"\"))","v":0},"","","","","","",""]
[null,null,null,null,null,null,null,null,null,null,null,null,null,null,0,0,null,null,null,0,null,"","","",{"$error":"#DIV/0!"},"",{"$f":"IF(U11<>\"Finished\",\"\",VLOOKUP(T11,'Data for points'!$S$16:$Y$23,7,TRUE))","v":""},"","",{"$f":"MIN(IF($C$7:$C$46=C11,$AC$7:$AC$46,\"\"))","v":0},"","","","","","",""]
[null,null,null,null,null,null,null,null,null,null,null,null,null,null,0,0,null,null,null,0,null,"","","",{"$error":"#DIV/0!"},"",{"$f":"IF(U12<>\"Finished\",\"\",VLOOKUP(T12,'Data for points'!$S$16:$Y$23,7,TRUE))","v":""},"","",{"$f":"MIN(IF($C$7:$C$46=C12,$AC$7:$AC$46,\"\"))","v":0},"","","","","","",""]
[null,null,null,null,null,null,null,null,null,null,null,null,null,null,0,0,null,null,null,{"$f":"Q13*60+R13+S13/100","v":0},null,"","","",{"$error":"#DIV/0!"},"",{"$f":"IF(U13<>\"Finished\",\"\",VLOOKUP(T13,'Data for points'!$S$16:$Y$23,7,TRUE))","v":""},"","",{"$f":"MIN(IF($C$7:$C$46=C13,$AC$7:$AC$46,\"\"))","v":0},"","","","","","",""]
[null,null,null,null,null,null,null,null,null,null,null,null,null,null,0,0,null,null,null,0,null,"","","",{"$error":"#DIV/0!"},"",{"$f":"IF(U14<>\"Finished\",\"\",VLOOKUP(T14,'Data for points'!$S$16:$Y$23,7,TRUE))","v":""},"","",{"$f":"MIN(IF($C$7:$C$46=C14,$AC$7:$AC$46,\"\"))","v":0},"","","","","","",""]
[null,null,null,null,null,null,null,null,null,null,null,null,null,null,0,0,null,null,null,0,null,"","","",{"$error":"#DIV/0!"},"",{"$f":"IF(U15<>\"Finished\",\"\",VLOOKUP(T15,'Data for points'!$S$16:$Y$23,7,TRUE))","v":""},"","",{"$f":"MIN(IF($C$7:$C$46=C15,$AC$7:$AC$46,\"\"))","v":0},"","","","","","",""]
[null,null,null,null,null,null,null,null,null,null,null,null,null,null,0,0,null,null,null,0,null,"","","",{"$error":"#DIV/0!"},"",{"$f":"IF(U16<>\"Finished\",\"\",VLOOKUP(T16,'Data for points'!$S$16:$Y$23,7,TRUE))","v":""},"","",{"$f":"MIN(IF($C$7:$C$46=C16,$AC$7:$AC$46,\"\"))","v":0},"","","","","","",""]
[null,null,null,null,null,null,null,null,null,null,null,null,null,null,0,0,null,null,null,0,null,"","","",{"$error":"#DIV/0!"},"",{"$f":"IF(U17<>\"Finished\",\"\",VLOOKUP(T17,'Data for points'!$S$16:$Y$23,7,TRUE))","v":""},"","",{"$f":"MIN(IF($C$7:$C$46=C17,$AC$7:$AC$46,\"\"))","v":0},"","","","","","",""]
[null,null,null,null,null,null,null,null,null,null,null,null,null,null,0,0,null,null,null,0,null,"","","",{"$error":"#DIV/0!"},"",{"$f":"IF(U18<>\"Finished\",\"\",VLOOKUP(T18,'Data for points'!$S$16:$Y$23,7,TRUE))","v":""},"","",{"$f":"MIN(IF($C$7:$C$46=C18,$AC$7:$AC$46,\"\"))","v":0},"","","","","","",""]
[null,null,null,null,null,null,null,null,null,null,null,null,null,null,0,0,null,null,null,0,null,"","","",{"$error":"#DIV/0!"},"",{"$f":"IF(U19<>\"Finished\",\"\",VLOOKUP(T19,'Data for points'!$S$16:$Y$23,7,TRUE))","v":""},"","",{"$f":"MIN(IF($C$7:$C$46=C19,$AC$7:$AC$46,\"\"))","v":0},"","","","","","",""]
[null,null,null,null,null,null,null,null,null,null,null,null,null,null,0,0,null,null,null,0,null,"","","",{"$error":"#DIV/0!"},"",{"$f":"IF(U20<>\"Finished\",\"\",VLOOKUP(T20,'Data for points'!$S$16:$Y$23,7,TRUE))","v":""},"","",{"$f":"MIN(IF($C$7:$C$46=C20,$AC$7:$AC$46,\"\"))","v":0},"","","","","","",""]
[null,null,null,null,null,null,null,null,null,null,null,null,null,null,0,0,null,null,null,0,null,"","","",{"$error":"#DIV/0!"},"",{"$f":"IF(U21<>\"Finished\",\"\",VLOOKUP(T21,'Data for points'!$S$16:$Y$23,7,TRUE))","v":""},"","",{"$f":"MIN(IF($C$7:$C$46=C21,$AC$7:$AC$46,\"\"))","v":0},"","","","","","",""]
[null,null,null,null,null,null,null,null,null,null,null,null,null,null,0,0,null,null,null,0,null,"","","",{"$error":"#DIV/0!"},"",{"$f":"IF(U22<>\"Finished\",\"\",VLOOKUP(T22,'Data for points'!$S$16:$Y$23,7,TRUE))","v":""},"","",{"$f":"MIN(IF($C$7:$C$46=C22,$AC$7:$AC$46,\"\"))","v":0},"","","","","","",""]
[null,null,null,null,null,null,null,null,null,null,null,null,null,null,0,0,null,null,null,0,null,"","","",{"$error":"#DIV/0!"},"",{"$f":"IF(U23<>\"Finished\",\"\",VLOOKUP(T23,'Data for points'!$S$16:$Y$23,7,TRUE))","v":""},"","",{"$f":"MIN(IF($C$7:$C$46=C23,$AC$7:$AC$46,\"\"))","v":0},"","","","","","",""]
[null,null,null,null,null,null,null,null,null,null,null,null,null,null,0,0,null,null,null,0,null,"","","",{"$error":"#DIV/0!"},"",{"$f":"IF(U24<>\"Finished\",\"\",VLOOKUP(T24,'Data for points'!$S$16:$Y$23,7,TRUE))","v":""},"","",{"$f":"MIN(IF($C$7:$C$46=C24,$AC$7:$AC$46,\"\"))","v":0},"","","","","","",""]
[null,null,null,null,null,null,null,null,null,null,null,null,null,null,0,0,null,null,null,0,null,"","","",{"$error":"#DIV/0!"},"",{"$f":"IF(U25<>\"Finished\",\"\",VLOOKUP(T25,'Data for points'!$S$16:$Y$23,7,TRUE))","v":""},"","",{"$f":"MIN(IF($C$7:$C$46=C25,$AC$7:$AC$46,\"\"))","v":0},"","","","","","",""]
[null,null,null,null,null,null,null,null,null,null,null,null,null,null,0,0,null,null,null,0,null,"","","",{"$error":"#DIV/0!"},"",{"$f":"IF(U26<>\"Finished\",\"\",VLOOKUP(T26,'Data for points'!$S$16:$Y$23,7,TRUE))","v":""},"","",{"$f":"MIN(IF($C$7:$C$46=C26,$AC$7:$AC$46,\"\"))","v":0},"","","","","","",""]
[null,null,null,null,null,null,null,null,null,null,null,null,null,null,0,0,null,null,null,0,null,"","","",{"$error":"#DIV/0!"},"",{"$f":"IF(U27<>\"Finished\",\"\",VLOOKUP(T27,'Data for points'!$S$16:$Y$23,7,TRUE))","v":""},"","",{"$f":"MIN(IF($C$7:$C$46=C27,$AC$7:$AC$46,\"\"))","v":0},"","","","","","",""]
[null,null,null,null,null,null,null,null,null,null,null,null,null,null,0,0,null,null,null,0,null,"","","",{"$error":"#DIV/0!"},"",{"$f":"IF(U28<>\"Finished\",\"\",VLOOKUP(T28,'Data for points'!$S$16:$Y$23,7,TRUE))","v":""},"","",{"$f":"MIN(IF($C$7:$C$46=C28,$AC$7:$AC$46,\"\"))","v":0},"","","","","","",""]
[null,null,null,null,null,null,null,null,null,null,null,null,null,null,0,0,null,null,null,0,null,"","","",{"$error":"#DIV/0!"},"",{"$f":"IF(U29<>\"Finished\",\"\",VLOOKUP(T29,'Data for points'!$S$16:$Y$23,7,TRUE))","v":""},"","",{"$f":"MIN(IF($C$7:$C$46=C29,$AC$7:$AC$46,\"\"))","v":0},"","","","","","",""]
[null,null,null,null,null,null,null,null,null,null,null,null,null,null,0,0,null,null,null,0,null,"","","",{"$error":"#DIV/0!"},"",{"$f":"IF(U30<>\"Finished\",\"\",VLOOKUP(T30,'Data for points'!$S$16:$Y$23,7,TRUE))","v":""},"","",{"$f":"MIN(IF($C$7:$C$46=C30,$AC$7:$AC$46,\"\"))","v":0},"","","","","","",""]
[null,null,null,null,null,null,null,null,null,null,null,null,null,null,0,0,null,null,null,0,null,"","","",{"$error":"#DIV/0!"},"",{"$f":"IF(U31<>\"Finished\",\"\",VLOOKUP(T31,'Data for points'!$S$16:$Y$23,7,TRUE))","v":""},"","",{"$f":"MIN(IF($C$7:$C$46=C31,$AC$7:$AC$46,\"\"))","v":0},"","","","","","",""]
[null,null,null,null,null,null,null,null,null,null,null,null,null,null,0,0,null,null,null,0,null,"","","",{"$error":"#DIV/0!"},"",{"$f":"IF(U32<>\"Finished\",\"\",VLOOKUP(T32,'Data for points'!$S$16:$Y$23,7,TRUE))","v":""},"","",{"$f":"MIN(IF($C$7:$C$46=C32,$AC$7:$AC$46,\"\"))","v":0},"","","","","","",""]
[null,null,null,null,null,null,null,null,null,null,null,null,null,null,0,0,null,null,null,0,null,"","","",{"$error":"#DIV/0!"},"",{"$f":"IF(U33<>\"Finished\",\"\",VLOOKUP(T33,'Data for points'!$S$16:$Y$23,7,TRUE))","v":""},"","",{"$f":"MIN(IF($C$7:$C$46=C33,$AC$7:$AC$46,\"\"))","v":0},"","","","","","",""]
[null,null,null,null,null,null,null,null,null,null,null,null,null,null,0,0,null,null,null,0,null,"","","",{"$error":"#DIV/0!"},"",{"$f":"IF(U34<>\"Finished\",\"\",VLOOKUP(T34,'Data for points'!$S$16:$Y$23,7,TRUE))","v":""},"","",{"$f":"MIN(IF($C$7:$C$46=C34,$AC$7:$AC$46,\"\"))","v":0},"","","","","","",""]
[null,null,null,null,null,null,null,null,null,null,null,null,null,null,0,0,null,null,null,0,null,"","","",{"$error":"#DIV/0!"},"",{"$f":"IF(U35<>\"Finished\",\"\",VLOOKUP(T35,'Data for points'!$S$16:$Y$23,7,TRUE))","v":""},"","",{"$f":"MIN(IF($C$7:$C$46=C35,$AC$7:$AC$46,\"\"))","v":0},"","","","","","",""]
[null,null,null,null,null,null,null,null,null,null,null,null,null,null,0,0,null,null,null,0,null,"","","",{"$error":"#DIV/0!"},"",{"$f":"IF(U36<>\"Finished\",\"\",VLOOKUP(T36,'Data for points'!$S$16:$Y$23,7,TRUE))","v":""},"","",{"$f":"MIN(IF($C$7:$C$46=C36,$AC$7:$AC$46,\"\"))","v":0},"","","","","","",""]
[null,null,null,null,null,null,null,null,null,null,null,null,null,null,0,0,null,null,null,0,null,"","","",{"$error":"#DIV/0!"},"",{"$f":"IF(U37<>\"Finished\",\"\",VLOOKUP(T37,'Data for points'!$S$16:$Y$23,7,TRUE))","v":""},"","",{"$f":"MIN(IF($C$7:$C$46=C37,$AC$7:$AC$46,\"\"))","v":0},"","","","","","",""]
[null,null,null,null,null,null,null,null,null,null,null,null,null,null,0,0,null,null,null,0,null,"","","",{"$error":"#DIV/0!"},"",{"$f":"IF(U38<>\"Finished\",\"\",VLOOKUP(T38,'Data for points'!$S$16:$Y$23,7,TRUE))","v":""},"","",{"$f":"MIN(IF($C$7:$C$46=C38,$AC$7:$AC$46,\"\"))","v":0},"","","","","","",""]
[null,null,null,null,null,null,null,null,null,null,null,null,null,null,0,0,null,null,null,0,null,"","","",{"$error":"#DIV/0!"},"",{"$f":"IF(U39<>\"Finished\",\"\",VLOOKUP(T39,'Data for points'!$S$16:$Y$23,7,TRUE))","v":""},"","",{"$f":"MIN(IF($C$7:$C$46=C39,$AC$7:$AC$46,\"\"))","v":0},"","","","","","",""]
[null,null,null,null,null,null,null,null,null,null,null,null,null,null,0,0,null,null,null,0,null,"","","",{"$error":"#DIV/0!"},"",{"$f":"IF(U40<>\"Finished\",\"\",VLOOKUP(T40,'Data for points'!$S$16:$Y$23,7,TRUE))","v":""},"","",{"$f":"MIN(IF($C$7:$C$46=C40,$AC$7:$AC$46,\"\"))","v":0},"","","","","","",""]
[null,null,null,null,null,null,null,null,null,null,null,null,null,null,0,0,null,null,null,0,null,"","","",{"$error":"#DIV/0!"},"",{"$f":"IF(U41<>\"Finished\",\"\",VLOOKUP(T41,'Data for points'!$S$16:$Y$23,7,TRUE))","v":""},"","",{"$f":"MIN(IF($C$7:$C$46=C41,$AC$7:$AC$46,\"\"))","v":0},"","","","","","",""]
[null,null,null,null,null,null,null,null,null,null,null,null,null,null,0,0,null,null,null,0,null,"","","",{"$error":"#DIV/0!"},"",{"$f":"IF(U42<>\"Finished\",\"\",VLOOKUP(T42,'Data for points'!$S$16:$Y$23,7,TRUE))","v":""},"","",{"$f":"MIN(IF($C$7:$C$46=C42,$AC$7:$AC$46,\"\"))","v":0},"","","","","","",""]
[null,null,null,null,null,null,null,null,null,null,null,null,null,null,0,0,null,null,null,0,null,"","","",{"$error":"#DIV/0!"},"",{"$f":"IF(U43<>\"Finished\",\"\",VLOOKUP(T43,'Data for points'!$S$16:$Y$23,7,TRUE))","v":""},"","",{"$f":"MIN(IF($C$7:$C$46=C43,$AC$7:$AC$46,\"\"))","v":0},"","","","","","",""]
[null,null,null,null,null,null,null,null,null,null,null,null,null,null,0,0,null,null,null,0,null,"","","",{"$error":"#DIV/0!"},"",{"$f":"IF(U44<>\"Finished\",\"\",VLOOKUP(T44,'Data for points'!$S$16:$Y$23,7,TRUE))","v":""},"","",{"$f":"MIN(IF($C$7:$C$46=C44,$AC$7:$AC$46,\"\"))","v":0},"","","","","","",""]
[null,null,null,null,null,null,null,null,null,null,null,null,null,null,0,0,null,null,null,0,null,"","","",{"$error":"#DIV/0!"},"",{"$f":"IF(U45<>\"Finished\",\"\",VLOOKUP(T45,'Data for points'!$S$16:$Y$23,7,TRUE))","v":""},"","",{"$f":"MIN(IF($C$7:$C$46=C45,$AC$7:$AC$46,\"\"))","v":0},"","","","","","",""]
[null,null,null,null,null,null,null,null,null,null,null,null,null,null,0,0,null,null,null,0,null,"","","",{"$error":"#DIV/0!"},"",{"$f":"IF(U46<>\"Finished\",\"\",VLOOKUP(T46,'Data for points'!$S$16:$Y$23,7,TRUE))","v":""},"","",{"$f":"MIN(IF($C$7:$C$46=C46,$AC$7:$AC$46,\"\"))","v":0},"","","","","","",""]
[]
[]
[]
[]
[]
[]
[]
[]
[]
[]
[]
[]
[]
[]
[]
[]
[]
[]
[]
[]
[]
[]
[]
[]
[]
[]
[]
[]
[]
[]
[]
[]
[]
[]
[]
[]
[]
[]
[]
[]
[]
[]
[]
[]
[]
[]
[]
[]
[]
[]
[]
[]
[]
[null,null,null,null,null,null,null,null,null,null,null,null,null,null,null,null,null,null,null,null,"Finished"]
[null,null,null,null,null,null,null,null,null,null,null,null,null,null,null,null,null,null,null,null,"Disqualified"]

{"sheet":"50m Manikin Tow Women","index":17,"n_rows":101,"n_cols":32,"rows_kept":101,"cut":false,"hidden":false,"merged":[[1,10,1,11],[4,6,4,7],[4,9,4,10],[4,11,4,13]]}
[null,null,null,null,null,null,null,null,null,null,null,null,null,null,"UR in seconds"]
[null,"Women's",null,"50m Manikin Tow",null,null,null,null,null,null,"Club to \nHighlight",null,null,null,{"$f":"'Data for points'!O6","v":0},{"$f":"CONCATENATE(\"University  Record=\",INT(O2/60),\" minS\",MOD(O2,60),\" secs\")","v":"University  Record=0 minS0 secs"}]
[]
[]
["A University(Boolean)","Club Name","Club Code","Competitor","CompetitorID","AceptanceID","ID code",null,"Entry Time(Seconds)","Entry Time",null,"Time",null,null,"Time(seconds)","Finish \nStatus","TimeSand  DQs","Rank","Competition \nPlace","PointSCalculation","Lifesaving Points","Survive and Save Status","Squad List","Rank For \nSquadSMembers","Top Finisher for there Unit","Top finisher Select Competitor for ranking","Squad \nPoints","Uni Finishers","Student \nPoints","Non-Uni Finishers","Non-Student \nPoints"]
[null,null,null,null,null,null,null,null,null,"Mins","Seconds","Mins","Seconds","1/100"]
[0,"East Kilbride",37,"Iona Halford",2977,3317,"S","F",42,{"$f":"INT(I7/60)","v":0},{"$f":"MOD(I7,60)","v":42},null,null,null,{"$f":"L7*60+M7+N7/100","v":0},"DNS",{"$f":"IF(P7<>\"Finished\",IF(P7<=0,\"\",P7),IF(P7=\"Finished\",IF(O7<=0,\"\",O7),\"\"))","v":"DNS"},{"$f":"IF(OR(LEFT(Q7,1)=\"D\",Q7=\"\"),\"\",RANK(Q7,$Q$7:$Q$46,1))","v":""},{"$f":"IF(LEFT(P7,1)=\"D\",MAX($R$7:$R$46)+1,R7)","v":7},{"$f":"(1-(O7-$O$2)/$O$2)*1000","v":{"$error":"#DIV/0!"}},{"$f":"IF(P7<>\"Finished\",\"\",IF(T7<0,0,T7))","v":""},{"$f":"IF(P7<>\"Finished\",\"\",VLOOKUP(O7,'Data for points'!$O$26:$Z$33,11,TRUE))","v":""},{"$f":"IF(G7=\"S\",S7,\"\")","v":7},{"$f":"IF(W7=\"\",\"\",RANK(W7,$W$7:$W$46,1))","v":7},{"$f":"MIN(IF($C$7:$C$46=C7,$X$7:$X$46,\"\"))","v":2},{"$f":"IF(Y7=X7,Y7,\"\")","v":""},{"$f":"IF(Z7=\"\",\"\",RANK(Z7,$Z$7:$Z$46,1))","v":""},{"$f":"IF(A7=1,AA7,\"\")","v":""},{"$f":"IF(AB7=\"\",\"\",RANK(AB7,$AB$7:$AB$46,1))","v":""},{"$f":"IF(A7=0,AA7,\"\")","v":""},{"$f":"IF(AD7=\"\",\"\",RANK(AD7,$AD$7:$AD$46,1))","v":""},{"$f":"IF(OR(P7<>\"Finished\",O7>$O$2),\"\",\"UR\")","v":""}]
[0,"East Kilbride",37,"Lauren Wright",2966,3311,"S","F",41,{"$f":"INT(I8/60)","v":0},{"$f":"MOD(I8,60)","v":41},null,42,43,{"$f":"L8*60+M8+N8/100","v":42.43},"Finished",{"$f":"IF(P8<>\"Finished\",IF(P8<=0,\"\",P8),IF(P8=\"Finished\",IF(O8<=0,\"\",O8),\"\"))","v":42.43},{"$f":"IF(OR(LEFT(Q8,1)=\"D\",Q8=\"\"),\"\",RANK(Q8,$Q$7:$Q$46,1))","v":6},{"$f":"IF(LEFT(P8,1)=\"D\",MAX($R$7:$R$46)+1,R8)","v":6},{"$f":"(1-(O8-$O$2)/$O$2)*1000","v":{"$error":"#DIV/0!"}},{"$f":"IF(P8<>\"Finished\",\"\",IF(T8<0,0,T8))","v":{"$error":"#DIV/0!"}},{"$f":"IF(P8<>\"Finished\",\"\",VLOOKUP(O8,'Data for points'!$O$26:$Z$33,11,TRUE))","v":"Pass"},{"$f":"IF(G8=\"S\",S8,\"\")","v":6},{"$f":"IF(W8=\"\",\"\",RANK(W8,$W$7:$W$46,1))","v":6},{"$f":"MIN(IF($C$7:$C$46=C8,$X$7:$X$46,\"\"))","v":2},{"$f":"IF(Y8=X8,Y8,\"\")","v":""},{"$f":"IF(Z8=\"\",\"\",RANK(Z8,$Z$7:$Z$46,1))","v":""},{"$f":"IF(A8=1,AA8,\"\")","v":""},{"$f":"IF(AB8=\"\",\"\",RANK(AB8,$AB$7:$AB$46,1))","v":""},{"$f":"IF(A8=0,AA8,\"\")","v":""},"",{"$f":"IF(OR(P8<>\"Finished\",O8>$O$2),\"\",\"UR\")","v":""}]
[0,"Beeslack",52,"Shaunna Anderson",2956,3321,"S","F",41.67,0,41.67,null,41,9,41.09,"Finished",41.09,5,5,{"$error":"#DIV/0!"},{"$error":"#DIV/0!"},{"$f":"IF(P9<>\"Finished\",\"\",VLOOKUP(O9,'Data for points'!$O$26:$Z$33,11,TRUE))","v":"Pass"},5,5,{"$f":"MIN(IF($C$7:$C$46=C9,$X$7:$X$46,\"\"))","v":5},5,3,"","",3,3,""]
[0,"East Kilbride",37,"Amy Domnican",2967,3239,"S","F",47,0,47,null,null,null,0,"DNS","DNS","",7,{"$error":"#DIV/0!"},"",{"$f":"IF(P10<>\"Finished\",\"\",VLOOKUP(O10,'Data for points'!$O$26:$Z$33,11,TRUE))","v":""},7,7,{"$f":"MIN(IF($C$7:$C$46=C10,$X$7:$X$46,\"\"))","v":2},"","","","","","",""]
[0,"East Kilbride",37,"Isobel Miller",2959,3268,"S","F",39,0,39,null,36,87,36.869999999999997,"Finished",36.869999999999997,3,3,{"$error":"#DIV/0!"},{"$error":"#DIV/0!"},{"$f":"IF(P11<>\"Finished\",\"\",VLOOKUP(O11,'Data for points'!$O$26:$Z$33,11,TRUE))","v":"Very Good"},3,3,{"$f":"MIN(IF($C$7:$C$46=C11,$X$7:$X$46,\"\"))","v":2},"","","","","","",""]
[0,"Blyth",56,"Sam Carpenter",3003,3465,"S","F",33.9,0,33.9,null,35,56,35.56,"Finished",35.56,1,1,{"$error":"#DIV/0!"},{"$error":"#DIV/0!"},{"$f":"IF(P12<>\"Finished\",\"\",VLOOKUP(O12,'Data for points'!$O$26:$Z$33,11,TRUE))","v":"Very Good"},1,1,{"$f":"MIN(IF($C$7:$C$46=C12,$X$7:$X$46,\"\"))","v":1},1,1,"","",1,1,""]
[0,"East Kilbride",37,"Catherine Browne",2979,3332,"S","F",38,0,38,null,35,81,35.81,"Finished",35.81,2,2,{"$error":"#DIV/0!"},{"$error":"#DIV/0!"},{"$f":"IF(P13<>\"Finished\",\"\",VLOOKUP(O13,'Data for points'!$O$26:$Z$33,11,TRUE))","v":"Very Good"},2,2,{"$f":"MIN(IF($C$7:$C$46=C13,$X$7:$X$46,\"\"))","v":2},2,2,"","",2,2,""]
[0,"East Kilbride",37,"Susan McAllister",2962,3287,"S","F",40,0,40,null,40,62,40.619999999999997,"Finished",40.619999999999997,4,4,{"$error":"#DIV/0!"},{"$error":"#DIV/0!"},{"$f":"IF(P14<>\"Finished\",\"\",VLOOKUP(O14,'Data for points'!$O$26:$Z$33,11,TRUE))","v":"Pass"},4,4,{"$f":"MIN(IF($C$7:$C$46=C14,$X$7:$X$46,\"\"))","v":2},"","","","","","",""]
[null,null,null,null,null,null,null,null,null,0,0,null,null,null,0,null,"","","",{"$error":"#DIV/0!"},"",{"$f":"IF(P15<>\"Finished\",\"\",VLOOKUP(O15,'Data for points'!$O$26:$Z$33,11,TRUE))","v":""},"","",{"$f":"MIN(IF($C$7:$C$46=C15,$X$7:$X$46,\"\"))","v":0},"","","","","","",""]
[null,null,null,null,null,null,null,null,null,0,0,null,null,null,0,null,"","","",{"$error":"#DIV/0!"},"",{"$f":"IF(P16<>\"Finished\",\"\",VLOOKUP(O16,'Data for points'!$O$26:$Z$33,11,TRUE))","v":""},"","",{"$f":"MIN(IF($C$7:$C$46=C16,$X$7:$X$46,\"\"))","v":0},"","","","","","",""]
[null,null,null,null,null,null,null,null,null,0,0,null,null,null,0,null,"","","",{"$error":"#DIV/0!"},"",{"$f":"IF(P17<>\"Finished\",\"\",VLOOKUP(O17,'Data for points'!$O$26:$Z$33,11,TRUE))","v":""},"","",{"$f":"MIN(IF($C$7:$C$46=C17,$X$7:$X$46,\"\"))","v":0},"","","","","","",""]
[null,null,null,null,null,null,null,null,null,0,0,null,null,null,0,null,"","","",{"$error":"#DIV/0!"},"",{"$f":"IF(P18<>\"Finished\",\"\",VLOOKUP(O18,'Data for points'!$O$26:$Z$33,11,TRUE))","v":""},"","",{"$f":"MIN(IF($C$7:$C$46=C18,$X$7:$X$46,\"\"))","v":0},"","","","","","",""]
[null,null,null,null,null,null,null,null,null,0,0,null,null,null,0,null,"","","",{"$error":"#DIV/0!"},"",{"$f":"IF(P19<>\"Finished\",\"\",VLOOKUP(O19,'Data for points'!$O$26:$Z$33,11,TRUE))","v":""},"","",{"$f":"MIN(IF($C$7:$C$46=C19,$X$7:$X$46,\"\"))","v":0},"","","","","","",""]
[null,null,null,null,null,null,null,null,null,0,0,null,null,null,0,null,"","","",{"$error":"#DIV/0!"},"",{"$f":"IF(P20<>\"Finished\",\"\",VLOOKUP(O20,'Data for points'!$O$26:$Z$33,11,TRUE))","v":""},"","",{"$f":"MIN(IF($C$7:$C$46=C20,$X$7:$X$46,\"\"))","v":0},"","","","","","",""]
[null,null,null,null,null,null,null,null,null,0,0,null,null,null,0,null,"","","",{"$error":"#DIV/0!"},"",{"$f":"IF(P21<>\"Finished\",\"\",VLOOKUP(O21,'Data for points'!$O$26:$Z$33,11,TRUE))","v":""},"","",{"$f":"MIN(IF($C$7:$C$46=C21,$X$7:$X$46,\"\"))","v":0},"","","","","","",""]
[null,null,null,null,null,null,null,null,null,0,0,null,null,null,0,null,"","","",{"$error":"#DIV/0!"},"",{"$f":"IF(P22<>\"Finished\",\"\",VLOOKUP(O22,'Data for points'!$O$26:$Z$33,11,TRUE))","v":""},"","",{"$f":"MIN(IF($C$7:$C$46=C22,$X$7:$X$46,\"\"))","v":0},"","","","","","",""]
[null,null,null,null,null,null,null,null,null,0,0,null,null,null,0,null,"","","",{"$error":"#DIV/0!"},"",{"$f":"IF(P23<>\"Finished\",\"\",VLOOKUP(O23,'Data for points'!$O$26:$Z$33,11,TRUE))","v":""},"","",{"$f":"MIN(IF($C$7:$C$46=C23,$X$7:$X$46,\"\"))","v":0},"","","","","","",""]
[null,null,null,null,null,null,null,null,null,0,0,null,null,null,0,null,"","","",{"$error":"#DIV/0!"},"",{"$f":"IF(P24<>\"Finished\",\"\",VLOOKUP(O24,'Data for points'!$O$26:$Z$33,11,TRUE))","v":""},"","",{"$f":"MIN(IF($C$7:$C$46=C24,$X$7:$X$46,\"\"))","v":0},"","","","","","",""]
[null,null,null,null,null,null,null,null,null,0,0,null,null,null,0,null,"","","",{"$error":"#DIV/0!"},"",{"$f":"IF(P25<>\"Finished\",\"\",VLOOKUP(O25,'Data for points'!$O$26:$Z$33,11,TRUE))","v":""},"","",{"$f":"MIN(IF($C$7:$C$46=C25,$X$7:$X$46,\"\"))","v":0},"","","","","","",""]
[null,null,null,null,null,null,null,null,null,0,0,null,null,null,0,null,"","","",{"$error":"#DIV/0!"},"",{"$f":"IF(P26<>\"Finished\",\"\",VLOOKUP(O26,'Data for points'!$O$26:$Z$33,11,TRUE))","v":""},"","",{"$f":"MIN(IF($C$7:$C$46=C26,$X$7:$X$46,\"\"))","v":0},"","","","","","",""]
[null,null,null,null,null,null,null,null,null,0,0,null,null,null,0,null,"","","",{"$error":"#DIV/0!"},"",{"$f":"IF(P27<>\"Finished\",\"\",VLOOKUP(O27,'Data for points'!$O$26:$Z$33,11,TRUE))","v":""},"","",{"$f":"MIN(IF($C$7:$C$46=C27,$X$7:$X$46,\"\"))","v":0},"","","","","","",""]
[null,null,null,null,null,null,null,null,null,0,0,null,null,null,0,null,"","","",{"$error":"#DIV/0!"},"",{"$f":"IF(P28<>\"Finished\",\"\",VLOOKUP(O28,'Data for points'!$O$26:$Z$33,11,TRUE))","v":""},"","",{"$f":"MIN(IF($C$7:$C$46=C28,$X$7:$X$46,\"\"))","v":0},"","","","","","",""]
[null,null,null,null,null,null,null,null,null,0,0,null,null,null,0,null,"","","",{"$error":"#DIV/0!"},"",{"$f":"IF(P29<>\"Finished\",\"\",VLOOKUP(O29,'Data for points'!$O$26:$Z$33,11,TRUE))","v":""},"","",{"$f":"MIN(IF($C$7:$C$46=C29,$X$7:$X$46,\"\"))","v":0},"","","","","","",""]
[null,null,null,null,null,null,null,null,null,0,0,null,null,null,0,null,"","","",{"$error":"#DIV/0!"},"",{"$f":"IF(P30<>\"Finished\",\"\",VLOOKUP(O30,'Data for points'!$O$26:$Z$33,11,TRUE))","v":""},"","",{"$f":"MIN(IF($C$7:$C$46=C30,$X$7:$X$46,\"\"))","v":0},"","","","","","",""]
[null,null,null,null,null,null,null,null,null,0,0,null,null,null,0,null,"","","",{"$error":"#DIV/0!"},"",{"$f":"IF(P31<>\"Finished\",\"\",VLOOKUP(O31,'Data for points'!$O$26:$Z$33,11,TRUE))","v":""},"","",{"$f":"MIN(IF($C$7:$C$46=C31,$X$7:$X$46,\"\"))","v":0},"","","","","","",""]
[null,null,null,null,null,null,null,null,null,0,0,null,null,null,0,null,"","","",{"$error":"#DIV/0!"},"",{"$f":"IF(P32<>\"Finished\",\"\",VLOOKUP(O32,'Data for points'!$O$26:$Z$33,11,TRUE))","v":""},"","",{"$f":"MIN(IF($C$7:$C$46=C32,$X$7:$X$46,\"\"))","v":0},"","","","","","",""]
[null,null,null,null,null,null,null,null,null,0,0,null,null,null,0,null,"","","",{"$error":"#DIV/0!"},"",{"$f":"IF(P33<>\"Finished\",\"\",VLOOKUP(O33,'Data for points'!$O$26:$Z$33,11,TRUE))","v":""},"","",{"$f":"MIN(IF($C$7:$C$46=C33,$X$7:$X$46,\"\"))","v":0},"","","","","","",""]
[null,null,null,null,null,null,null,null,null,0,0,null,null,null,0,null,"","","",{"$error":"#DIV/0!"},"",{"$f":"IF(P34<>\"Finished\",\"\",VLOOKUP(O34,'Data for points'!$O$26:$Z$33,11,TRUE))","v":""},"","",{"$f":"MIN(IF($C$7:$C$46=C34,$X$7:$X$46,\"\"))","v":0},"","","","","","",""]
[null,null,null,null,null,null,null,null,null,0,0,null,null,null,0,null,"","","",{"$error":"#DIV/0!"},"",{"$f":"IF(P35<>\"Finished\",\"\",VLOOKUP(O35,'Data for points'!$O$26:$Z$33,11,TRUE))","v":""},"","",{"$f":"MIN(IF($C$7:$C$46=C35,$X$7:$X$46,\"\"))","v":0},"","","","","","",""]
[null,null,null,null,null,null,null,null,null,0,0,null,null,null,0,null,"","","",{"$error":"#DIV/0!"},"",{"$f":"IF(P36<>\"Finished\",\"\",VLOOKUP(O36,'Data for points'!$O$26:$Z$33,11,TRUE))","v":""},"","",{"$f":"MIN(IF($C$7:$C$46=C36,$X$7:$X$46,\"\"))","v":0},"","","","","","",""]
[null,null,null,null,null,null,null,null,null,0,0,null,null,null,0,null,"","","",{"$error":"#DIV/0!"},"",{"$f":"IF(P37<>\"Finished\",\"\",VLOOKUP(O37,'Data for points'!$O$26:$Z$33,11,TRUE))","v":""},"","",{"$f":"MIN(IF($C$7:$C$46=C37,$X$7:$X$46,\"\"))","v":0},"","","","","","",""]
[null,null,null,null,null,null,null,null,null,0,0,null,null,null,0,null,"","","",{"$error":"#DIV/0!"},"",{"$f":"IF(P38<>\"Finished\",\"\",VLOOKUP(O38,'Data for points'!$O$26:$Z$33,11,TRUE))","v":""},"","",{"$f":"MIN(IF($C$7:$C$46=C38,$X$7:$X$46,\"\"))","v":0},"","","","","","",""]
[null,null,null,null,null,null,null,null,null,0,0,null,null,null,0,null,"","","",{"$error":"#DIV/0!"},"",{"$f":"IF(P39<>\"Finished\",\"\",VLOOKUP(O39,'Data for points'!$O$26:$Z$33,11,TRUE))","v":""},"","",{"$f":"MIN(IF($C$7:$C$46=C39,$X$7:$X$46,\"\"))","v":0},"","","","","","",""]
[null,null,null,null,null,null,null,null,null,0,0,null,null,null,0,null,"","","",{"$error":"#DIV/0!"},"",{"$f":"IF(P40<>\"Finished\",\"\",VLOOKUP(O40,'Data for points'!$O$26:$Z$33,11,TRUE))","v":""},"","",{"$f":"MIN(IF($C$7:$C$46=C40,$X$7:$X$46,\"\"))","v":0},"","","","","","",""]
[null,null,null,null,null,null,null,null,null,0,0,null,null,null,0,null,"","","",{"$error":"#DIV/0!"},"",{"$f":"IF(P41<>\"Finished\",\"\",VLOOKUP(O41,'Data for points'!$O$26:$Z$33,11,TRUE))","v":""},"","",{"$f":"MIN(IF($C$7:$C$46=C41,$X$7:$X$46,\"\"))","v":0},"","","","","","",""]
[null,null,null,null,null,null,null,null,null,0,0,null,null,null,0,null,"","","",{"$error":"#DIV/0!"},"",{"$f":"IF(P42<>\"Finished\",\"\",VLOOKUP(O42,'Data for points'!$O$26:$Z$33,11,TRUE))","v":""},"","",{"$f":"MIN(IF($C$7:$C$46=C42,$X$7:$X$46,\"\"))","v":0},"","","","","","",""]
[null,null,null,null,null,null,null,null,null,0,0,null,null,null,0,null,"","","",{"$error":"#DIV/0!"},"",{"$f":"IF(P43<>\"Finished\",\"\",VLOOKUP(O43,'Data for points'!$O$26:$Z$33,11,TRUE))","v":""},"","",{"$f":"MIN(IF($C$7:$C$46=C43,$X$7:$X$46,\"\"))","v":0},"","","","","","",""]
[null,null,null,null,null,null,null,null,null,0,0,null,null,null,0,null,"","","",{"$error":"#DIV/0!"},"",{"$f":"IF(P44<>\"Finished\",\"\",VLOOKUP(O44,'Data for points'!$O$26:$Z$33,11,TRUE))","v":""},"","",{"$f":"MIN(IF($C$7:$C$46=C44,$X$7:$X$46,\"\"))","v":0},"","","","","","",""]
[null,null,null,null,null,null,null,null,null,0,0,null,null,null,0,null,"","","",{"$error":"#DIV/0!"},"",{"$f":"IF(P45<>\"Finished\",\"\",VLOOKUP(O45,'Data for points'!$O$26:$Z$33,11,TRUE))","v":""},"","",{"$f":"MIN(IF($C$7:$C$46=C45,$X$7:$X$46,\"\"))","v":0},"","","","","","",""]
[null,null,null,null,null,null,null,null,null,0,0,null,null,null,0,null,"","","",{"$error":"#DIV/0!"},"",{"$f":"IF(P46<>\"Finished\",\"\",VLOOKUP(O46,'Data for points'!$O$26:$Z$33,11,TRUE))","v":""},"","",{"$f":"MIN(IF($C$7:$C$46=C46,$X$7:$X$46,\"\"))","v":0},"","","","","","",""]
[]
[]
[]
[]
[]
[]
[]
[]
[]
[]
[]
[]
[]
[]
[]
[]
[]
[]
[]
[]
[]
[]
[]
[]
[]
[]
[]
[]
[]
[]
[]
[]
[]
[]
[]
[]
[]
[]
[]
[]
[]
[]
[]
[]
[]
[]
[]
[]
[]
[]
[]
[]
[]
[null,null,null,null,null,null,null,null,null,null,null,null,null,null,null,"Finished"]
[null,null,null,null,null,null,null,null,null,null,null,null,null,null,null,"Disqualified"]

{"sheet":"50m Manikin Tow Men","index":18,"n_rows":101,"n_cols":32,"rows_kept":101,"cut":false,"hidden":false,"merged":[[1,10,1,11],[4,6,4,7],[4,9,4,10],[4,11,4,13]]}
[null,null,null,null,null,null,null,null,null,null,null,null,null,null,"UR in seconds"]
[null,"Men's",null,"50m Manikin Tow",null,null,null,null,null,null,"Club to \nHighlight",null,null,null,{"$f":"'Data for points'!O5","v":0},{"$f":"CONCATENATE(\"University  Record=\",INT(O2/60),\" minS\",MOD(O2,60),\" secs\")","v":"University  Record=0 minS0 secs"}]
[]
[]
["A University(Boolean)","Club Name","Club Code","Competitor","CompetitorID","AceptanceID","ID code",null,"Entry Time(Seconds)","Entry Time",null,"Time",null,null,"Time(seconds)","Finish \nStatus","TimeSand  DQs","Rank","Competition \nPlace","PointSCalculation","Lifesaving Points","Survive and Save Status","Squad List","Rank For \nSquadSMembers","Top Finisher for there Unit","Top finisher Select Competitor for ranking","Squad \nPoints","Uni Finishers","Student \nPoints","Non-Uni Finishers","Non-Student \nPoints"]
[null,null,null,null,null,null,null,null,null,"Mins","Seconds","Mins","Seconds","1/100"]
[0,"East Kilbride",37,"Callum Young",2961,3292,"S","M",39,{"$f":"INT(I7/60)","v":0},{"$f":"MOD(I7,60)","v":39},null,38,21,{"$f":"L7*60+M7+N7/100","v":38.21},"Finished",{"$f":"IF(P7<>\"Finished\",IF(P7<=0,\"\",P7),IF(P7=\"Finished\",IF(O7<=0,\"\",O7),\"\"))","v":38.21},{"$f":"IF(OR(LEFT(Q7,1)=\"D\",Q7=\"\"),\"\",RANK(Q7,$Q$7:$Q$46,1))","v":7},{"$f":"IF(LEFT(P7,1)=\"D\",MAX($R$7:$R$46)+1,R7)","v":7},{"$f":"(1-(O7-$O$2)/$O$2)*1000","v":{"$error":"#DIV/0!"}},{"$f":"IF(P7<>\"Finished\",\"\",IF(T7<0,0,T7))","v":{"$error":"#DIV/0!"}},{"$f":"IF(P7<>\"Finished\",\"\",VLOOKUP(O7,'Data for points'!$O$16:$Z$23,11,TRUE))","v":"Pass"},{"$f":"IF(G7=\"S\",S7,\"\")","v":7},{"$f":"IF(W7=\"\",\"\",RANK(W7,$W$7:$W$46,1))","v":7},{"$f":"MIN(IF($C$7:$C$46=C7,$X$7:$X$46,\"\"))","v":3},{"$f":"IF(Y7=X7,Y7,\"\")","v":""},{"$f":"IF(Z7=\"\",\"\",RANK(Z7,$Z$7:$Z$46,1))","v":""},{"$f":"IF(A7=1,AA7,\"\")","v":""},{"$f":"IF(AB7=\"\",\"\",RANK(AB7,$AB$7:$AB$46,1))","v":""},{"$f":"IF(A7=0,AA7,\"\")","v":""},{"$f":"IF(AD7=\"\",\"\",RANK(AD7,$AD$7:$AD$46,1))","v":""},{"$f":"IF(OR(P7<>\"Finished\",O7>$O$2),\"\",\"UR\")","v":""}]
[0,"East Kilbride",37,"Iain Wilson",2964,3307,"S","M",34,{"$f":"INT(I8/60)","v":0},{"$f":"MOD(I8,60)","v":34},null,32,75,{"$f":"L8*60+M8+N8/100","v":32.75},"Finished",{"$f":"IF(P8<>\"Finished\",IF(P8<=0,\"\",P8),IF(P8=\"Finished\",IF(O8<=0,\"\",O8),\"\"))","v":32.75},{"$f":"IF(OR(LEFT(Q8,1)=\"D\",Q8=\"\"),\"\",RANK(Q8,$Q$7:$Q$46,1))","v":3},{"$f":"IF(LEFT(P8,1)=\"D\",MAX($R$7:$R$46)+1,R8)","v":3},{"$f":"(1-(O8-$O$2)/$O$2)*1000","v":{"$error":"#DIV/0!"}},{"$f":"IF(P8<>\"Finished\",\"\",IF(T8<0,0,T8))","v":{"$error":"#DIV/0!"}},{"$f":"IF(P8<>\"Finished\",\"\",VLOOKUP(O8,'Data for points'!$O$16:$Z$23,11,TRUE))","v":"Fair"},{"$f":"IF(G8=\"S\",S8,\"\")","v":3},{"$f":"IF(W8=\"\",\"\",RANK(W8,$W$7:$W$46,1))","v":3},{"$f":"MIN(IF($C$7:$C$46=C8,$X$7:$X$46,\"\"))","v":3},{"$f":"IF(Y8=X8,Y8,\"\")","v":3},{"$f":"IF(Z8=\"\",\"\",RANK(Z8,$Z$7:$Z$46,1))","v":3},{"$f":"IF(A8=1,AA8,\"\")","v":""},{"$f":"IF(AB8=\"\",\"\",RANK(AB8,$AB$7:$AB$46,1))","v":""},{"$f":"IF(A8=0,AA8,\"\")","v":3},3,{"$f":"IF(OR(P8<>\"Finished\",O8>$O$2),\"\",\"UR\")","v":""}]
[0,"East Kilbride",37,"James Miller",2960,3299,"S","M",38,0,38,null,33,84,33.840000000000003,"Finished",33.840000000000003,6,6,{"$error":"#DIV/0!"},{"$error":"#DIV/0!"},{"$f":"IF(P9<>\"Finished\",\"\",VLOOKUP(O9,'Data for points'!$O$16:$Z$23,11,TRUE))","v":"Pass"},6,6,{"$f":"MIN(IF($C$7:$C$46=C9,$X$7:$X$46,\"\"))","v":3},"","","","","","",""]
[0,"Blyth",56,"Mark Chandler",3005,3482,"S","M",45.02,0,45.02,null,40,90,40.9,"Finished",40.9,8,8,{"$error":"#DIV/0!"},{"$error":"#DIV/0!"},{"$f":"IF(P10<>\"Finished\",\"\",VLOOKUP(O10,'Data for points'!$O$16:$Z$23,11,TRUE))","v":"Pass"},8,8,{"$f":"MIN(IF($C$7:$C$46=C10,$X$7:$X$46,\"\"))","v":8},8,4,"","",4,4,""]
[0,"Beeslack",52,"Ben Witz",2958,3234,"S","M",31.92,0,31.92,null,28,75,28.75,"Finished",28.75,2,2,{"$error":"#DIV/0!"},{"$error":"#DIV/0!"},{"$f":"IF(P11<>\"Finished\",\"\",VLOOKUP(O11,'Data for points'!$O$16:$Z$23,11,TRUE))","v":"Excellent"},2,2,{"$f":"MIN(IF($C$7:$C$46=C11,$X$7:$X$46,\"\"))","v":2},2,2,"","",2,2,""]
[0,"RLSS Uk Preformace",80,"Adam Threlfall",3016,3529,"S","M",30.92,0,30.92,null,28,24,28.24,"Finished",28.24,1,1,{"$error":"#DIV/0!"},{"$error":"#DIV/0!"},{"$f":"IF(P12<>\"Finished\",\"\",VLOOKUP(O12,'Data for points'!$O$16:$Z$23,11,TRUE))","v":"Excellent"},1,1,{"$f":"MIN(IF($C$7:$C$46=C12,$X$7:$X$46,\"\"))","v":1},1,1,"","",1,1,""]
[0,"Crawley Town",23,"Andrew Kane",2975,3261,"S","M",29,0,29,null,29,14,29.14,"DQ1","DQ1","",9,{"$error":"#DIV/0!"},"",{"$f":"IF(P13<>\"Finished\",\"\",VLOOKUP(O13,'Data for points'!$O$16:$Z$23,11,TRUE))","v":""},9,9,{"$f":"MIN(IF($C$7:$C$46=C13,$X$7:$X$46,\"\"))","v":9},9,5,"","",5,5,""]
[0,"Blyth",56,"Daniel Weightman",3004,3478,"S","M",29.28,0,29.28,null,34,87,34.869999999999997,"DQ1","DQ1","",9,{"$error":"#DIV/0!"},"",{"$f":"IF(P14<>\"Finished\",\"\",VLOOKUP(O14,'Data for points'!$O$16:$Z$23,11,TRUE))","v":""},9,9,{"$f":"MIN(IF($C$7:$C$46=C14,$X$7:$X$46,\"\"))","v":8},"","","","","","",""]
[0,"RLSS Uk Preformace",80,"Ruari Hurson",3015,3524,"S","M",31,0,31,null,32,90,32.9,"Finished",32.9,4,4,{"$error":"#DIV/0!"},{"$error":"#DIV/0!"},{"$f":"IF(P15<>\"Finished\",\"\",VLOOKUP(O15,'Data for points'!$O$16:$Z$23,11,TRUE))","v":"Fair"},4,4,{"$f":"MIN(IF($C$7:$C$46=C15,$X$7:$X$46,\"\"))","v":1},"","","","","","",""]
[0,"East Kilbride",37,"Andrew McAllister",2971,3538,"S","M",34,0,34,null,33,3,33.03,"Finished",33.03,5,5,{"$error":"#DIV/0!"},{"$error":"#DIV/0!"},{"$f":"IF(P16<>\"Finished\",\"\",VLOOKUP(O16,'Data for points'!$O$16:$Z$23,11,TRUE))","v":"Fair"},5,5,{"$f":"MIN(IF($C$7:$C$46=C16,$X$7:$X$46,\"\"))","v":3},"","","","","","",""]
[null,null,null,null,null,null,null,null,null,0,0,null,null,null,0,null,"","","",{"$error":"#DIV/0!"},"",{"$f":"IF(P17<>\"Finished\",\"\",VLOOKUP(O17,'Data for points'!$O$16:$Z$23,11,TRUE))","v":""},"","",{"$f":"MIN(IF($C$7:$C$46=C17,$X$7:$X$46,\"\"))","v":0},"","","","","","",""]
[null,null,null,null,null,null,null,null,null,0,0,null,null,null,0,null,"","","",{"$error":"#DIV/0!"},"",{"$f":"IF(P18<>\"Finished\",\"\",VLOOKUP(O18,'Data for points'!$O$16:$Z$23,11,TRUE))","v":""},"","",{"$f":"MIN(IF($C$7:$C$46=C18,$X$7:$X$46,\"\"))","v":0},"","","","","","",""]
[null,null,null,null,null,null,null,null,null,0,0,null,null,null,0,null,"","","",{"$error":"#DIV/0!"},"",{"$f":"IF(P19<>\"Finished\",\"\",VLOOKUP(O19,'Data for points'!$O$16:$Z$23,11,TRUE))","v":""},"","",{"$f":"MIN(IF($C$7:$C$46=C19,$X$7:$X$46,\"\"))","v":0},"","","","","","",""]
[null,null,null,null,null,null,null,null,null,0,0,null,null,null,0,null,"","","",{"$error":"#DIV/0!"},"",{"$f":"IF(P20<>\"Finished\",\"\",VLOOKUP(O20,'Data for points'!$O$16:$Z$23,11,TRUE))","v":""},"","",{"$f":"MIN(IF($C$7:$C$46=C20,$X$7:$X$46,\"\"))","v":0},"","","","","","",""]
[null,null,null,null,null,null,null,null,null,0,0,null,null,null,0,null,"","","",{"$error":"#DIV/0!"},"",{"$f":"IF(P21<>\"Finished\",\"\",VLOOKUP(O21,'Data for points'!$O$16:$Z$23,11,TRUE))","v":""},"","",{"$f":"MIN(IF($C$7:$C$46=C21,$X$7:$X$46,\"\"))","v":0},"","","","","","",""]
[null,null,null,null,null,null,null,null,null,0,0,null,null,null,0,null,"","","",{"$error":"#DIV/0!"},"",{"$f":"IF(P22<>\"Finished\",\"\",VLOOKUP(O22,'Data for points'!$O$16:$Z$23,11,TRUE))","v":""},"","",{"$f":"MIN(IF($C$7:$C$46=C22,$X$7:$X$46,\"\"))","v":0},"","","","","","",""]
[null,null,null,null,null,null,null,null,null,0,0,null,null,null,0,null,"","","",{"$error":"#DIV/0!"},"",{"$f":"IF(P23<>\"Finished\",\"\",VLOOKUP(O23,'Data for points'!$O$16:$Z$23,11,TRUE))","v":""},"","",{"$f":"MIN(IF($C$7:$C$46=C23,$X$7:$X$46,\"\"))","v":0},"","","","","","",""]
[null,null,null,null,null,null,null,null,null,0,0,null,null,null,0,null,"","","",{"$error":"#DIV/0!"},"",{"$f":"IF(P24<>\"Finished\",\"\",VLOOKUP(O24,'Data for points'!$O$16:$Z$23,11,TRUE))","v":""},"","",{"$f":"MIN(IF($C$7:$C$46=C24,$X$7:$X$46,\"\"))","v":0},"","","","","","",""]
[null,null,null,null,null,null,null,null,null,0,0,null,null,null,0,null,"","","",{"$error":"#DIV/0!"},"",{"$f":"IF(P25<>\"Finished\",\"\",VLOOKUP(O25,'Data for points'!$O$16:$Z$23,11,TRUE))","v":""},"","",{"$f":"MIN(IF($C$7:$C$46=C25,$X$7:$X$46,\"\"))","v":0},"","","","","","",""]
[null,null,null,null,null,null,null,null,null,0,0,null,null,null,0,null,"","","",{"$error":"#DIV/0!"},"",{"$f":"IF(P26<>\"Finished\",\"\",VLOOKUP(O26,'Data for points'!$O$16:$Z$23,11,TRUE))","v":""},"","",{"$f":"MIN(IF($C$7:$C$46=C26,$X$7:$X$46,\"\"))","v":0},"","","","","","",""]
[null,null,null,null,null,null,null,null,null,0,0,null,null,null,0,null,"","","",{"$error":"#DIV/0!"},"",{"$f":"IF(P27<>\"Finished\",\"\",VLOOKUP(O27,'Data for points'!$O$16:$Z$23,11,TRUE))","v":""},"","",{"$f":"MIN(IF($C$7:$C$46=C27,$X$7:$X$46,\"\"))","v":0},"","","","","","",""]
[null,null,null,null,null,null,null,null,null,0,0,null,null,null,0,null,"","","",{"$error":"#DIV/0!"},"",{"$f":"IF(P28<>\"Finished\",\"\",VLOOKUP(O28,'Data for points'!$O$16:$Z$23,11,TRUE))","v":""},"","",{"$f":"MIN(IF($C$7:$C$46=C28,$X$7:$X$46,\"\"))","v":0},"","","","","","",""]
[null,null,null,null,null,null,null,null,null,0,0,null,null,null,0,null,"","","",{"$error":"#DIV/0!"},"",{"$f":"IF(P29<>\"Finished\",\"\",VLOOKUP(O29,'Data for points'!$O$16:$Z$23,11,TRUE))","v":""},"","",{"$f":"MIN(IF($C$7:$C$46=C29,$X$7:$X$46,\"\"))","v":0},"","","","","","",""]
[null,null,null,null,null,null,null,null,null,0,0,null,null,null,0,null,"","","",{"$error":"#DIV/0!"},"",{"$f":"IF(P30<>\"Finished\",\"\",VLOOKUP(O30,'Data for points'!$O$16:$Z$23,11,TRUE))","v":""},"","",{"$f":"MIN(IF($C$7:$C$46=C30,$X$7:$X$46,\"\"))","v":0},"","","","","","",""]
[null,null,null,null,null,null,null,null,null,0,0,null,null,null,0,null,"","","",{"$error":"#DIV/0!"},"",{"$f":"IF(P31<>\"Finished\",\"\",VLOOKUP(O31,'Data for points'!$O$16:$Z$23,11,TRUE))","v":""},"","",{"$f":"MIN(IF($C$7:$C$46=C31,$X$7:$X$46,\"\"))","v":0},"","","","","","",""]
[null,null,null,null,null,null,null,null,null,0,0,null,null,null,0,null,"","","",{"$error":"#DIV/0!"},"",{"$f":"IF(P32<>\"Finished\",\"\",VLOOKUP(O32,'Data for points'!$O$16:$Z$23,11,TRUE))","v":""},"","",{"$f":"MIN(IF($C$7:$C$46=C32,$X$7:$X$46,\"\"))","v":0},"","","","","","",""]
[null,null,null,null,null,null,null,null,null,0,0,null,null,null,0,null,"","","",{"$error":"#DIV/0!"},"",{"$f":"IF(P33<>\"Finished\",\"\",VLOOKUP(O33,'Data for points'!$O$16:$Z$23,11,TRUE))","v":""},"","",{"$f":"MIN(IF($C$7:$C$46=C33,$X$7:$X$46,\"\"))","v":0},"","","","","","",""]
[null,null,null,null,null,null,null,null,null,0,0,null,null,null,0,null,"","","",{"$error":"#DIV/0!"},"",{"$f":"IF(P34<>\"Finished\",\"\",VLOOKUP(O34,'Data for points'!$O$16:$Z$23,11,TRUE))","v":""},"","",{"$f":"MIN(IF($C$7:$C$46=C34,$X$7:$X$46,\"\"))","v":0},"","","","","","",""]
[null,null,null,null,null,null,null,null,null,0,0,null,null,null,0,null,"","","",{"$error":"#DIV/0!"},"",{"$f":"IF(P35<>\"Finished\",\"\",VLOOKUP(O35,'Data for points'!$O$16:$Z$23,11,TRUE))","v":""},"","",{"$f":"MIN(IF($C$7:$C$46=C35,$X$7:$X$46,\"\"))","v":0},"","","","","","",""]
[null,null,null,null,null,null,null,null,null,0,0,null,null,null,0,null,"","","",{"$error":"#DIV/0!"},"",{"$f":"IF(P36<>\"Finished\",\"\",VLOOKUP(O36,'Data for points'!$O$16:$Z$23,11,TRUE))","v":""},"","",{"$f":"MIN(IF($C$7:$C$46=C36,$X$7:$X$46,\"\"))","v":0},"","","","","","",""]
[null,null,null,null,null,null,null,null,null,0,0,null,null,null,0,null,"","","",{"$error":"#DIV/0!"},"",{"$f":"IF(P37<>\"Finished\",\"\",VLOOKUP(O37,'Data for points'!$O$16:$Z$23,11,TRUE))","v":""},"","",{"$f":"MIN(IF($C$7:$C$46=C37,$X$7:$X$46,\"\"))","v":0},"","","","","","",""]
[null,null,null,null,null,null,null,null,null,0,0,null,null,null,0,null,"","","",{"$error":"#DIV/0!"},"",{"$f":"IF(P38<>\"Finished\",\"\",VLOOKUP(O38,'Data for points'!$O$16:$Z$23,11,TRUE))","v":""},"","",{"$f":"MIN(IF($C$7:$C$46=C38,$X$7:$X$46,\"\"))","v":0},"","","","","","",""]
[null,null,null,null,null,null,null,null,null,0,0,null,null,null,0,null,"","","",{"$error":"#DIV/0!"},"",{"$f":"IF(P39<>\"Finished\",\"\",VLOOKUP(O39,'Data for points'!$O$16:$Z$23,11,TRUE))","v":""},"","",{"$f":"MIN(IF($C$7:$C$46=C39,$X$7:$X$46,\"\"))","v":0},"","","","","","",""]
[null,null,null,null,null,null,null,null,null,0,0,null,null,null,0,null,"","","",{"$error":"#DIV/0!"},"",{"$f":"IF(P40<>\"Finished\",\"\",VLOOKUP(O40,'Data for points'!$O$16:$Z$23,11,TRUE))","v":""},"","",{"$f":"MIN(IF($C$7:$C$46=C40,$X$7:$X$46,\"\"))","v":0},"","","","","","",""]
[null,null,null,null,null,null,null,null,null,0,0,null,null,null,0,null,"","","",{"$error":"#DIV/0!"},"",{"$f":"IF(P41<>\"Finished\",\"\",VLOOKUP(O41,'Data for points'!$O$16:$Z$23,11,TRUE))","v":""},"","",{"$f":"MIN(IF($C$7:$C$46=C41,$X$7:$X$46,\"\"))","v":0},"","","","","","",""]
[null,null,null,null,null,null,null,null,null,0,0,null,null,null,0,null,"","","",{"$error":"#DIV/0!"},"",{"$f":"IF(P42<>\"Finished\",\"\",VLOOKUP(O42,'Data for points'!$O$16:$Z$23,11,TRUE))","v":""},"","",{"$f":"MIN(IF($C$7:$C$46=C42,$X$7:$X$46,\"\"))","v":0},"","","","","","",""]
[null,null,null,null,null,null,null,null,null,0,0,null,null,null,0,null,"","","",{"$error":"#DIV/0!"},"",{"$f":"IF(P43<>\"Finished\",\"\",VLOOKUP(O43,'Data for points'!$O$16:$Z$23,11,TRUE))","v":""},"","",{"$f":"MIN(IF($C$7:$C$46=C43,$X$7:$X$46,\"\"))","v":0},"","","","","","",""]
[null,null,null,null,null,null,null,null,null,0,0,null,null,null,0,null,"","","",{"$error":"#DIV/0!"},"",{"$f":"IF(P44<>\"Finished\",\"\",VLOOKUP(O44,'Data for points'!$O$16:$Z$23,11,TRUE))","v":""},"","",{"$f":"MIN(IF($C$7:$C$46=C44,$X$7:$X$46,\"\"))","v":0},"","","","","","",""]
[null,null,null,null,null,null,null,null,null,0,0,null,null,null,0,null,"","","",{"$error":"#DIV/0!"},"",{"$f":"IF(P45<>\"Finished\",\"\",VLOOKUP(O45,'Data for points'!$O$16:$Z$23,11,TRUE))","v":""},"","",{"$f":"MIN(IF($C$7:$C$46=C45,$X$7:$X$46,\"\"))","v":0},"","","","","","",""]
[null,null,null,null,null,null,null,null,null,0,0,null,null,null,0,null,"","","",{"$error":"#DIV/0!"},"",{"$f":"IF(P46<>\"Finished\",\"\",VLOOKUP(O46,'Data for points'!$O$16:$Z$23,11,TRUE))","v":""},"","",{"$f":"MIN(IF($C$7:$C$46=C46,$X$7:$X$46,\"\"))","v":0},"","","","","","",""]
[]
[]
[]
[]
[]
[]
[]
[]
[]
[]
[]
[]
[]
[]
[]
[]
[]
[]
[]
[]
[]
[]
[]
[]
[]
[]
[]
[]
[]
[]
[]
[]
[]
[]
[]
[]
[]
[]
[]
[]
[]
[]
[]
[]
[]
[]
[]
[]
[]
[]
[]
[]
[]
[null,null,null,null,null,null,null,null,null,null,null,null,null,null,null,"Finished"]
[null,null,null,null,null,null,null,null,null,null,null,null,null,null,null,"Disqualified"]

{"sheet":"100m Super Men","index":19,"n_rows":101,"n_cols":32,"rows_kept":101,"cut":false,"hidden":false,"merged":[[1,10,1,11],[4,6,4,7],[4,9,4,10],[4,11,4,13]]}
[null,null,null,null,null,null,null,null,null,null,null,null,null,null,"UR in seconds"]
[null,"Men's",null,"100m Super",null,null,null,null,null,null,"Club to \nHighlight",null,null,null,{"$f":"'Data for points'!Q5","v":0},{"$f":"CONCATENATE(\"University  Record=\",INT(O2/60),\" minS\",MOD(O2,60),\" secs\")","v":"University  Record=0 minS0 secs"}]
[]
[]
["A University(Boolean)","Club Name","Club Code","Competitor","CompetitorID","AceptanceID","ID code",null,"Entry Time(Seconds)","Entry Time",null,"Time",null,null,"Time(seconds)","Finish \nStatus","TimeSand  DQs","Rank","Competition \nPlace","PointSCalculation","Lifesaving Points","Survive and Save Status","Squad List","Rank For \nSquadSMembers","Top Finisher for there Unit","Top finisher Select Competitor for ranking","Squad \nPoints","Uni Finishers","Student \nPoints","Non-Uni Finishers","Non-Student \nPoints"]
[null,null,null,null,null,null,null,null,null,"Mins","Seconds","Mins","Seconds","1/100"]
[0,"Blyth",56,"Callum Gilroy",3001,3484,"S","M",105,{"$f":"INT(I7/60)","v":1},{"$f":"MOD(I7,60)","v":45},1,35,78,{"$f":"L7*60+M7+N7/100","v":95.78},"Finished",{"$f":"IF(P7<>\"Finished\",IF(P7<=0,\"\",P7),IF(P7=\"Finished\",IF(O7<=0,\"\",O7),\"\"))","v":95.78},{"$f":"IF(OR(LEFT(Q7,1)=\"D\",Q7=\"\"),\"\",RANK(Q7,$Q$7:$Q$46,1))","v":9},{"$f":"IF(LEFT(P7,1)=\"D\",MAX($R$7:$R$46)+1,R7)","v":9},{"$f":"(1-(O7-$O$2)/$O$2)*1000","v":{"$error":"#DIV/0!"}},{"$f":"IF(P7<>\"Finished\",\"\",IF(T7<0,0,T7))","v":{"$error":"#DIV/0!"}},{"$f":"IF(P7<>\"Finished\",\"\",VLOOKUP(O7,'Data for points'!$Q$16:$Z$23,9,TRUE))","v":"Fair"},{"$f":"IF(G7=\"S\",S7,\"\")","v":9},{"$f":"IF(W7=\"\",\"\",RANK(W7,$W$7:$W$46,1))","v":9},{"$f":"MIN(IF($C$7:$C$46=C7,$X$7:$X$46,\"\"))","v":4},{"$f":"IF(Y7=X7,Y7,\"\")","v":""},{"$f":"IF(Z7=\"\",\"\",RANK(Z7,$Z$7:$Z$46,1))","v":""},{"$f":"IF(A7=1,AA7,\"\")","v":""},{"$f":"IF(AB7=\"\",\"\",RANK(AB7,$AB$7:$AB$46,1))","v":""},{"$f":"IF(A7=0,AA7,\"\")","v":""},{"$f":"IF(AD7=\"\",\"\",RANK(AD7,$AD$7:$AD$46,1))","v":""},{"$f":"IF(OR(P7<>\"Finished\",O7>$O$2),\"\",\"UR\")","v":""}]
[0,"RLSS Uk Preformace",80,"Jacob Reeves",3014,3533,"S","M",100,{"$f":"INT(I8/60)","v":1},{"$f":"MOD(I8,60)","v":40},1,24,1,{"$f":"L8*60+M8+N8/100","v":84.01},"Finished",{"$f":"IF(P8<>\"Finished\",IF(P8<=0,\"\",P8),IF(P8=\"Finished\",IF(O8<=0,\"\",O8),\"\"))","v":84.01},{"$f":"IF(OR(LEFT(Q8,1)=\"D\",Q8=\"\"),\"\",RANK(Q8,$Q$7:$Q$46,1))","v":6},{"$f":"IF(LEFT(P8,1)=\"D\",MAX($R$7:$R$46)+1,R8)","v":6},{"$f":"(1-(O8-$O$2)/$O$2)*1000","v":{"$error":"#DIV/0!"}},{"$f":"IF(P8<>\"Finished\",\"\",IF(T8<0,0,T8))","v":{"$error":"#DIV/0!"}},{"$f":"IF(P8<>\"Finished\",\"\",VLOOKUP(O8,'Data for points'!$Q$16:$Z$23,9,TRUE))","v":"Very Good"},{"$f":"IF(G8=\"S\",S8,\"\")","v":6},{"$f":"IF(W8=\"\",\"\",RANK(W8,$W$7:$W$46,1))","v":6},{"$f":"MIN(IF($C$7:$C$46=C8,$X$7:$X$46,\"\"))","v":2},{"$f":"IF(Y8=X8,Y8,\"\")","v":""},{"$f":"IF(Z8=\"\",\"\",RANK(Z8,$Z$7:$Z$46,1))","v":""},{"$f":"IF(A8=1,AA8,\"\")","v":""},{"$f":"IF(AB8=\"\",\"\",RANK(AB8,$AB$7:$AB$46,1))","v":""},{"$f":"IF(A8=0,AA8,\"\")","v":""},"",{"$f":"IF(OR(P8<>\"Finished\",O8>$O$2),\"\",\"UR\")","v":""}]
[0,"RLSS Uk Preformace",80,"Jack Betteridge",3013,3532,"S","M",120,2,0,null,null,null,0,"DNS","DNS","",10,{"$error":"#DIV/0!"},"",{"$f":"IF(P9<>\"Finished\",\"\",VLOOKUP(O9,'Data for points'!$Q$16:$Z$23,9,TRUE))","v":""},10,10,{"$f":"MIN(IF($C$7:$C$46=C9,$X$7:$X$46,\"\"))","v":2},"","","","","","",""]
[0,"RLSS Uk Preformace",80,"Finn Purdy",3012,3531,"S","M",95,1,35,1,24,11,84.11,"Finished",84.11,7,7,{"$error":"#DIV/0!"},{"$error":"#DIV/0!"},{"$f":"IF(P10<>\"Finished\",\"\",VLOOKUP(O10,'Data for points'!$Q$16:$Z$23,9,TRUE))","v":"Very Good"},7,7,{"$f":"MIN(IF($C$7:$C$46=C10,$X$7:$X$46,\"\"))","v":2},"","","","","","",""]
[0,"Blyth",56,"Daniel Weightman",3004,3479,"S","M",79.89,1,19.89,1,17,40,77.400000000000006,"Finished",77.400000000000006,4,4,{"$error":"#DIV/0!"},{"$error":"#DIV/0!"},{"$f":"IF(P11<>\"Finished\",\"\",VLOOKUP(O11,'Data for points'!$Q$16:$Z$23,9,TRUE))","v":"Excellent"},4,4,{"$f":"MIN(IF($C$7:$C$46=C11,$X$7:$X$46,\"\"))","v":4},4,4,"","",4,4,""]
[1,"London Universities",51,"Andrew Benson",2954,3224,"S","M",80,1,20,null,null,null,0,"DNS","DNS","",10,{"$error":"#DIV/0!"},"",{"$f":"IF(P12<>\"Finished\",\"\",VLOOKUP(O12,'Data for points'!$Q$16:$Z$23,9,TRUE))","v":""},10,10,{"$f":"MIN(IF($C$7:$C$46=C12,$X$7:$X$46,\"\"))","v":10},10,5,5,1,"","",""]
[0,"Blyth",56,"Matthew Douglas",3002,3483,"S","M",95,1,35,1,34,89,94.89,"Finished",94.89,8,8,{"$error":"#DIV/0!"},{"$error":"#DIV/0!"},{"$f":"IF(P13<>\"Finished\",\"\",VLOOKUP(O13,'Data for points'!$Q$16:$Z$23,9,TRUE))","v":"Fair"},8,8,{"$f":"MIN(IF($C$7:$C$46=C13,$X$7:$X$46,\"\"))","v":4},"","","","","","",""]
[0,"Beeslack",52,"Ben Witz",2958,3227,"S","M",77.150000000000006,1,17.150000000000006,1,16,6,76.06,"Finished",76.06,3,3,{"$error":"#DIV/0!"},{"$error":"#DIV/0!"},{"$f":"IF(P14<>\"Finished\",\"\",VLOOKUP(O14,'Data for points'!$Q$16:$Z$23,9,TRUE))","v":"Excellent"},3,3,{"$f":"MIN(IF($C$7:$C$46=C14,$X$7:$X$46,\"\"))","v":3},3,3,"","",3,3,""]
[0,"Crawley Town",23,"Andrew Kane",2975,3263,"S","M",72,1,12,1,13,78,73.78,"Finished",73.78,1,1,{"$error":"#DIV/0!"},{"$error":"#DIV/0!"},{"$f":"IF(P15<>\"Finished\",\"\",VLOOKUP(O15,'Data for points'!$Q$16:$Z$23,9,TRUE))","v":"Excellent"},1,1,{"$f":"MIN(IF($C$7:$C$46=C15,$X$7:$X$46,\"\"))","v":1},1,1,"","",1,1,""]
[0,"RLSS Uk Preformace",80,"Adam Threlfall",3016,3530,"S","M",75,1,15,1,14,50,74.5,"Finished",74.5,2,2,{"$error":"#DIV/0!"},{"$error":"#DIV/0!"},{"$f":"IF(P16<>\"Finished\",\"\",VLOOKUP(O16,'Data for points'!$Q$16:$Z$23,9,TRUE))","v":"Excellent"},2,2,{"$f":"MIN(IF($C$7:$C$46=C16,$X$7:$X$46,\"\"))","v":2},2,2,"","",2,2,""]
[0,"RLSS Uk Preformace",80,"Ruari Hurson",3015,3525,"S","M",78,1,18,1,18,84,78.84,"Finished",78.84,5,5,{"$error":"#DIV/0!"},{"$error":"#DIV/0!"},{"$f":"IF(P17<>\"Finished\",\"\",VLOOKUP(O17,'Data for points'!$Q$16:$Z$23,9,TRUE))","v":"Excellent"},5,5,{"$f":"MIN(IF($C$7:$C$46=C17,$X$7:$X$46,\"\"))","v":2},"","","","","","",""]
[null,null,null,null,null,null,null,null,null,0,0,null,null,null,0,null,"","","",{"$error":"#DIV/0!"},"",{"$f":"IF(P18<>\"Finished\",\"\",VLOOKUP(O18,'Data for points'!$Q$16:$Z$23,9,TRUE))","v":""},"","",{"$f":"MIN(IF($C$7:$C$46=C18,$X$7:$X$46,\"\"))","v":0},"","","","","","",""]
[null,null,null,null,null,null,null,null,null,0,0,null,null,null,0,null,"","","",{"$error":"#DIV/0!"},"",{"$f":"IF(P19<>\"Finished\",\"\",VLOOKUP(O19,'Data for points'!$Q$16:$Z$23,9,TRUE))","v":""},"","",{"$f":"MIN(IF($C$7:$C$46=C19,$X$7:$X$46,\"\"))","v":0},"","","","","","",""]
[null,null,null,null,null,null,null,null,null,0,0,null,null,null,0,null,"","","",{"$error":"#DIV/0!"},"",{"$f":"IF(P20<>\"Finished\",\"\",VLOOKUP(O20,'Data for points'!$Q$16:$Z$23,9,TRUE))","v":""},"","",{"$f":"MIN(IF($C$7:$C$46=C20,$X$7:$X$46,\"\"))","v":0},"","","","","","",""]
[null,null,null,null,null,null,null,null,null,0,0,null,null,null,0,null,"","","",{"$error":"#DIV/0!"},"",{"$f":"IF(P21<>\"Finished\",\"\",VLOOKUP(O21,'Data for points'!$Q$16:$Z$23,9,TRUE))","v":""},"","",{"$f":"MIN(IF($C$7:$C$46=C21,$X$7:$X$46,\"\"))","v":0},"","","","","","",""]
[null,null,null,null,null,null,null,null,null,0,0,null,null,null,0,null,"","","",{"$error":"#DIV/0!"},"",{"$f":"IF(P22<>\"Finished\",\"\",VLOOKUP(O22,'Data for points'!$Q$16:$Z$23,9,TRUE))","v":""},"","",{"$f":"MIN(IF($C$7:$C$46=C22,$X$7:$X$46,\"\"))","v":0},"","","","","","",""]
[null,null,null,null,null,null,null,null,null,0,0,null,null,null,0,null,"","","",{"$error":"#DIV/0!"},"",{"$f":"IF(P23<>\"Finished\",\"\",VLOOKUP(O23,'Data for points'!$Q$16:$Z$23,9,TRUE))","v":""},"","",{"$f":"MIN(IF($C$7:$C$46=C23,$X$7:$X$46,\"\"))","v":0},"","","","","","",""]
[null,null,null,null,null,null,null,null,null,0,0,null,null,null,0,null,"","","",{"$error":"#DIV/0!"},"",{"$f":"IF(P24<>\"Finished\",\"\",VLOOKUP(O24,'Data for points'!$Q$16:$Z$23,9,TRUE))","v":""},"","",{"$f":"MIN(IF($C$7:$C$46=C24,$X$7:$X$46,\"\"))","v":0},"","","","","","",""]
[null,null,null,null,null,null,null,null,null,0,0,null,null,null,0,null,"","","",{"$error":"#DIV/0!"},"",{"$f":"IF(P25<>\"Finished\",\"\",VLOOKUP(O25,'Data for points'!$Q$16:$Z$23,9,TRUE))","v":""},"","",{"$f":"MIN(IF($C$7:$C$46=C25,$X$7:$X$46,\"\"))","v":0},"","","","","","",""]
[null,null,null,null,null,null,null,null,null,0,0,null,null,null,0,null,"","","",{"$error":"#DIV/0!"},"",{"$f":"IF(P26<>\"Finished\",\"\",VLOOKUP(O26,'Data for points'!$Q$16:$Z$23,9,TRUE))","v":""},"","",{"$f":"MIN(IF($C$7:$C$46=C26,$X$7:$X$46,\"\"))","v":0},"","","","","","",""]
[null,null,null,null,null,null,null,null,null,0,0,null,null,null,0,null,"","","",{"$error":"#DIV/0!"},"",{"$f":"IF(P27<>\"Finished\",\"\",VLOOKUP(O27,'Data for points'!$Q$16:$Z$23,9,TRUE))","v":""},"","",{"$f":"MIN(IF($C$7:$C$46=C27,$X$7:$X$46,\"\"))","v":0},"","","","","","",""]
[null,null,null,null,null,null,null,null,null,0,0,null,null,null,0,null,"","","",{"$error":"#DIV/0!"},"",{"$f":"IF(P28<>\"Finished\",\"\",VLOOKUP(O28,'Data for points'!$Q$16:$Z$23,9,TRUE))","v":""},"","",{"$f":"MIN(IF($C$7:$C$46=C28,$X$7:$X$46,\"\"))","v":0},"","","","","","",""]
[null,null,null,null,null,null,null,null,null,0,0,null,null,null,0,null,"","","",{"$error":"#DIV/0!"},"",{"$f":"IF(P29<>\"Finished\",\"\",VLOOKUP(O29,'Data for points'!$Q$16:$Z$23,9,TRUE))","v":""},"","",{"$f":"MIN(IF($C$7:$C$46=C29,$X$7:$X$46,\"\"))","v":0},"","","","","","",""]
[null,null,null,null,null,null,null,null,null,0,0,null,null,null,0,null,"","","",{"$error":"#DIV/0!"},"",{"$f":"IF(P30<>\"Finished\",\"\",VLOOKUP(O30,'Data for points'!$Q$16:$Z$23,9,TRUE))","v":""},"","",{"$f":"MIN(IF($C$7:$C$46=C30,$X$7:$X$46,\"\"))","v":0},"","","","","","",""]
[null,null,null,null,null,null,null,null,null,0,0,null,null,null,0,null,"","","",{"$error":"#DIV/0!"},"",{"$f":"IF(P31<>\"Finished\",\"\",VLOOKUP(O31,'Data for points'!$Q$16:$Z$23,9,TRUE))","v":""},"","",{"$f":"MIN(IF($C$7:$C$46=C31,$X$7:$X$46,\"\"))","v":0},"","","","","","",""]
[null,null,null,null,null,null,null,null,null,0,0,null,null,null,0,null,"","","",{"$error":"#DIV/0!"},"",{"$f":"IF(P32<>\"Finished\",\"\",VLOOKUP(O32,'Data for points'!$Q$16:$Z$23,9,TRUE))","v":""},"","",{"$f":"MIN(IF($C$7:$C$46=C32,$X$7:$X$46,\"\"))","v":0},"","","","","","",""]
[null,null,null,null,null,null,null,null,null,0,0,null,null,null,0,null,"","","",{"$error":"#DIV/0!"},"",{"$f":"IF(P33<>\"Finished\",\"\",VLOOKUP(O33,'Data for points'!$Q$16:$Z$23,9,TRUE))","v":""},"","",{"$f":"MIN(IF($C$7:$C$46=C33,$X$7:$X$46,\"\"))","v":0},"","","","","","",""]
[null,null,null,null,null,null,null,null,null,0,0,null,null,null,0,null,"","","",{"$error":"#DIV/0!"},"",{"$f":"IF(P34<>\"Finished\",\"\",VLOOKUP(O34,'Data for points'!$Q$16:$Z$23,9,TRUE))","v":""},"","",{"$f":"MIN(IF($C$7:$C$46=C34,$X$7:$X$46,\"\"))","v":0},"","","","","","",""]
[null,null,null,null,null,null,null,null,null,0,0,null,null,null,0,null,"","","",{"$error":"#DIV/0!"},"",{"$f":"IF(P35<>\"Finished\",\"\",VLOOKUP(O35,'Data for points'!$Q$16:$Z$23,9,TRUE))","v":""},"","",{"$f":"MIN(IF($C$7:$C$46=C35,$X$7:$X$46,\"\"))","v":0},"","","","","","",""]
[null,null,null,null,null,null,null,null,null,0,0,null,null,null,0,null,"","","",{"$error":"#DIV/0!"},"",{"$f":"IF(P36<>\"Finished\",\"\",VLOOKUP(O36,'Data for points'!$Q$16:$Z$23,9,TRUE))","v":""},"","",{"$f":"MIN(IF($C$7:$C$46=C36,$X$7:$X$46,\"\"))","v":0},"","","","","","",""]
[null,null,null,null,null,null,null,null,null,0,0,null,null,null,0,null,"","","",{"$error":"#DIV/0!"},"",{"$f":"IF(P37<>\"Finished\",\"\",VLOOKUP(O37,'Data for points'!$Q$16:$Z$23,9,TRUE))","v":""},"","",{"$f":"MIN(IF($C$7:$C$46=C37,$X$7:$X$46,\"\"))","v":0},"","","","","","",""]
[null,null,null,null,null,null,null,null,null,0,0,null,null,null,0,null,"","","",{"$error":"#DIV/0!"},"",{"$f":"IF(P38<>\"Finished\",\"\",VLOOKUP(O38,'Data for points'!$Q$16:$Z$23,9,TRUE))","v":""},"","",{"$f":"MIN(IF($C$7:$C$46=C38,$X$7:$X$46,\"\"))","v":0},"","","","","","",""]
[null,null,null,null,null,null,null,null,null,0,0,null,null,null,0,null,"","","",{"$error":"#DIV/0!"},"",{"$f":"IF(P39<>\"Finished\",\"\",VLOOKUP(O39,'Data for points'!$Q$16:$Z$23,9,TRUE))","v":""},"","",{"$f":"MIN(IF($C$7:$C$46=C39,$X$7:$X$46,\"\"))","v":0},"","","","","","",""]
[null,null,null,null,null,null,null,null,null,0,0,null,null,null,0,null,"","","",{"$error":"#DIV/0!"},"",{"$f":"IF(P40<>\"Finished\",\"\",VLOOKUP(O40,'Data for points'!$Q$16:$Z$23,9,TRUE))","v":""},"","",{"$f":"MIN(IF($C$7:$C$46=C40,$X$7:$X$46,\"\"))","v":0},"","","","","","",""]
[null,null,null,null,null,null,null,null,null,0,0,null,null,null,0,null,"","","",{"$error":"#DIV/0!"},"",{"$f":"IF(P41<>\"Finished\",\"\",VLOOKUP(O41,'Data for points'!$Q$16:$Z$23,9,TRUE))","v":""},"","",{"$f":"MIN(IF($C$7:$C$46=C41,$X$7:$X$46,\"\"))","v":0},"","","","","","",""]
[null,null,null,null,null,null,null,null,null,0,0,null,null,null,0,null,"","","",{"$error":"#DIV/0!"},"",{"$f":"IF(P42<>\"Finished\",\"\",VLOOKUP(O42,'Data for points'!$Q$16:$Z$23,9,TRUE))","v":""},"","",{"$f":"MIN(IF($C$7:$C$46=C42,$X$7:$X$46,\"\"))","v":0},"","","","","","",""]
[null,null,null,null,null,null,null,null,null,0,0,null,null,null,0,null,"","","",{"$error":"#DIV/0!"},"",{"$f":"IF(P43<>\"Finished\",\"\",VLOOKUP(O43,'Data for points'!$Q$16:$Z$23,9,TRUE))","v":""},"","",{"$f":"MIN(IF($C$7:$C$46=C43,$X$7:$X$46,\"\"))","v":0},"","","","","","",""]
[null,null,null,null,null,null,null,null,null,0,0,null,null,null,0,null,"","","",{"$error":"#DIV/0!"},"",{"$f":"IF(P44<>\"Finished\",\"\",VLOOKUP(O44,'Data for points'!$Q$16:$Z$23,9,TRUE))","v":""},"","",{"$f":"MIN(IF($C$7:$C$46=C44,$X$7:$X$46,\"\"))","v":0},"","","","","","",""]
[null,null,null,null,null,null,null,null,null,0,0,null,null,null,0,null,"","","",{"$error":"#DIV/0!"},"",{"$f":"IF(P45<>\"Finished\",\"\",VLOOKUP(O45,'Data for points'!$Q$16:$Z$23,9,TRUE))","v":""},"","",{"$f":"MIN(IF($C$7:$C$46=C45,$X$7:$X$46,\"\"))","v":0},"","","","","","",""]
[null,null,null,null,null,null,null,null,null,0,0,null,null,null,0,null,"","","",{"$error":"#DIV/0!"},"",{"$f":"IF(P46<>\"Finished\",\"\",VLOOKUP(O46,'Data for points'!$Q$16:$Z$23,9,TRUE))","v":""},"","",{"$f":"MIN(IF($C$7:$C$46=C46,$X$7:$X$46,\"\"))","v":0},"","","","","","",""]
[]
[]
[]
[]
[]
[]
[]
[]
[]
[]
[]
[]
[]
[]
[]
[]
[]
[]
[]
[]
[]
[]
[]
[]
[]
[]
[]
[]
[]
[]
[]
[]
[]
[]
[]
[]
[]
[]
[]
[]
[]
[]
[]
[]
[]
[]
[]
[]
[]
[]
[]
[]
[]
[null,null,null,null,null,null,null,null,null,null,null,null,null,null,null,"Finished"]
[null,null,null,null,null,null,null,null,null,null,null,null,null,null,null,"Disqualified"]

{"sheet":"100m Super Women","index":20,"n_rows":101,"n_cols":32,"rows_kept":101,"cut":false,"hidden":false,"merged":[[1,10,1,11],[4,6,4,7],[4,9,4,10],[4,11,4,13]]}
[null,null,null,null,null,null,null,null,null,null,null,null,null,null,"UR in seconds"]
[null,"Women's",null,"100m Super",null,null,null,null,null,null,"Club to \nHighlight",null,null,null,{"$f":"'Data for points'!Q6","v":0},{"$f":"CONCATENATE(\"University  Record=\",INT(O2/60),\" minS\",MOD(O2,60),\" secs\")","v":"University  Record=0 minS0 secs"}]
[]
[]
["A University(Boolean)","Club Name","Club Code","Competitor","CompetitorID","AceptanceID","ID code",null,"Entry Time(Seconds)","Entry Time",null,"Time",null,null,"Time(seconds)","Finish \nStatus","TimeSand  DQs","Rank","Competition \nPlace","PointSCalculation","Lifesaving Points","Survive and Save Status","Squad List","Rank For \nSquadSMembers","Top Finisher for there Unit","Top finisher Select Competitor for ranking","Squad \nPoints","Uni Finishers","Student \nPoints","Non-Uni Finishers","Non-Student \nPoints"]
[null,null,null,null,null,null,null,null,null,"Mins","Seconds","Mins","Seconds","1/100"]
[0,"Beeslack",52,"Emily Glanvill",2952,3354,"S","F",150,{"$f":"INT(I7/60)","v":2},{"$f":"MOD(I7,60)","v":30},1,56,94,{"$f":"L7*60+M7+N7/100","v":116.94},"Finished",{"$f":"IF(P7<>\"Finished\",IF(P7<=0,\"\",P7),IF(P7=\"Finished\",IF(O7<=0,\"\",O7),\"\"))","v":116.94},{"$f":"IF(OR(LEFT(Q7,1)=\"D\",Q7=\"\"),\"\",RANK(Q7,$Q$7:$Q$46,1))","v":10},{"$f":"IF(LEFT(P7,1)=\"D\",MAX($R$7:$R$46)+1,R7)","v":10},{"$f":"(1-(O7-$O$2)/$O$2)*1000","v":{"$error":"#DIV/0!"}},{"$f":"IF(P7<>\"Finished\",\"\",IF(T7<0,0,T7))","v":{"$error":"#DIV/0!"}},{"$f":"IF(P7<>\"Finished\",\"\",VLOOKUP(O7,'Data for points'!$Q$26:$Z$33,9,TRUE))","v":"Pass"},{"$f":"IF(G7=\"S\",S7,\"\")","v":10},{"$f":"IF(W7=\"\",\"\",RANK(W7,$W$7:$W$46,1))","v":10},{"$f":"MIN(IF($C$7:$C$46=C7,$X$7:$X$46,\"\"))","v":10},{"$f":"IF(Y7=X7,Y7,\"\")","v":10},{"$f":"IF(Z7=\"\",\"\",RANK(Z7,$Z$7:$Z$46,1))","v":3},{"$f":"IF(A7=1,AA7,\"\")","v":""},{"$f":"IF(AB7=\"\",\"\",RANK(AB7,$AB$7:$AB$46,1))","v":""},{"$f":"IF(A7=0,AA7,\"\")","v":3},{"$f":"IF(AD7=\"\",\"\",RANK(AD7,$AD$7:$AD$46,1))","v":3},{"$f":"IF(OR(P7<>\"Finished\",O7>$O$2),\"\",\"UR\")","v":""}]
[0,"Beeslack",52,"Megan Rose",2957,3348,"S","F",152.36000000000001,{"$f":"INT(I8/60)","v":2},{"$f":"MOD(I8,60)","v":32.360000000000014},2,8,53,128.53,"DQ1",{"$f":"IF(P8<>\"Finished\",IF(P8<=0,\"\",P8),IF(P8=\"Finished\",IF(O8<=0,\"\",O8),\"\"))","v":"DQ1"},{"$f":"IF(OR(LEFT(Q8,1)=\"D\",Q8=\"\"),\"\",RANK(Q8,$Q$7:$Q$46,1))","v":""},{"$f":"IF(LEFT(P8,1)=\"D\",MAX($R$7:$R$46)+1,R8)","v":11},{"$f":"(1-(O8-$O$2)/$O$2)*1000","v":{"$error":"#DIV/0!"}},{"$f":"IF(P8<>\"Finished\",\"\",IF(T8<0,0,T8))","v":""},{"$f":"IF(P8<>\"Finished\",\"\",VLOOKUP(O8,'Data for points'!$Q$26:$Z$33,9,TRUE))","v":""},{"$f":"IF(G8=\"S\",S8,\"\")","v":11},{"$f":"IF(W8=\"\",\"\",RANK(W8,$W$7:$W$46,1))","v":11},{"$f":"MIN(IF($C$7:$C$46=C8,$X$7:$X$46,\"\"))","v":10},{"$f":"IF(Y8=X8,Y8,\"\")","v":""},{"$f":"IF(Z8=\"\",\"\",RANK(Z8,$Z$7:$Z$46,1))","v":""},{"$f":"IF(A8=1,AA8,\"\")","v":""},{"$f":"IF(AB8=\"\",\"\",RANK(AB8,$AB$7:$AB$46,1))","v":""},{"$f":"IF(A8=0,AA8,\"\")","v":""},"",{"$f":"IF(OR(P8<>\"Finished\",O8>$O$2),\"\",\"UR\")","v":""}]
[0,"Blyth",56,"Cadie Chandler",2999,3473,"S","F",113.19,1,53.19,1,41,7,101.07,"Finished",101.07,8,8,{"$error":"#DIV/0!"},{"$error":"#DIV/0!"},{"$f":"IF(P9<>\"Finished\",\"\",VLOOKUP(O9,'Data for points'!$Q$26:$Z$33,9,TRUE))","v":"Good"},8,8,{"$f":"MIN(IF($C$7:$C$46=C9,$X$7:$X$46,\"\"))","v":1},"","","","","","",""]
[0,"Blyth",56,"Beth Little",2994,3467,"S","F",112.86,1,52.86,1,35,8,95.08,"Finished",95.08,6,6,{"$error":"#DIV/0!"},{"$error":"#DIV/0!"},{"$f":"IF(P10<>\"Finished\",\"\",VLOOKUP(O10,'Data for points'!$Q$26:$Z$33,9,TRUE))","v":"Good"},6,6,{"$f":"MIN(IF($C$7:$C$46=C10,$X$7:$X$46,\"\"))","v":1},"","","","","","",""]
[0,"Blyth",56,"Elli Munday",2997,3471,"S","F",120,2,0,1,53,69,113.69,"Finished",113.69,9,9,{"$error":"#DIV/0!"},{"$error":"#DIV/0!"},{"$f":"IF(P11<>\"Finished\",\"\",VLOOKUP(O11,'Data for points'!$Q$26:$Z$33,9,TRUE))","v":"Fair"},9,9,{"$f":"MIN(IF($C$7:$C$46=C11,$X$7:$X$46,\"\"))","v":1},"","","","","","",""]
[0,"Blyth",56,"Beth Chandler",2998,3472,"S","F",103.18,1,43.180000000000007,1,35,28,95.28,"Finished",95.28,7,7,{"$error":"#DIV/0!"},{"$error":"#DIV/0!"},{"$f":"IF(P12<>\"Finished\",\"\",VLOOKUP(O12,'Data for points'!$Q$26:$Z$33,9,TRUE))","v":"Good"},7,7,{"$f":"MIN(IF($C$7:$C$46=C12,$X$7:$X$46,\"\"))","v":1},"","","","","","",""]
[0,"Blyth",56,"Emily Price",2993,3470,"S","F",98.43,1,38.430000000000007,1,26,32,86.32,"Finished",86.32,4,4,{"$error":"#DIV/0!"},{"$error":"#DIV/0!"},{"$f":"IF(P13<>\"Finished\",\"\",VLOOKUP(O13,'Data for points'!$Q$26:$Z$33,9,TRUE))","v":"Excellent"},4,4,{"$f":"MIN(IF($C$7:$C$46=C13,$X$7:$X$46,\"\"))","v":1},"","","","","","",""]
[0,"RLSS Uk Preformace",80,"Sinead Gourley",3011,3535,"S","F",100,1,40,1,46,55,106.55,"DQ1","DQ1","",11,{"$error":"#DIV/0!"},"",{"$f":"IF(P14<>\"Finished\",\"\",VLOOKUP(O14,'Data for points'!$Q$26:$Z$33,9,TRUE))","v":""},11,11,{"$f":"MIN(IF($C$7:$C$46=C14,$X$7:$X$46,\"\"))","v":3},"","","","","","",""]
[0,"Blyth",56,"Rebecca Douglas",2995,3468,"S","F",104.75,1,44.75,1,40,2,100.02,"DQ1","DQ1","",11,{"$error":"#DIV/0!"},"",{"$f":"IF(P15<>\"Finished\",\"\",VLOOKUP(O15,'Data for points'!$Q$26:$Z$33,9,TRUE))","v":""},11,11,{"$f":"MIN(IF($C$7:$C$46=C15,$X$7:$X$46,\"\"))","v":1},"","","","","","",""]
[0,"Blyth",56,"Jessica Parker",2996,3469,"S","F",88,1,28,1,24,42,84.42,"Finished",84.42,2,2,{"$error":"#DIV/0!"},{"$error":"#DIV/0!"},{"$f":"IF(P16<>\"Finished\",\"\",VLOOKUP(O16,'Data for points'!$Q$26:$Z$33,9,TRUE))","v":"Excellent"},2,2,{"$f":"MIN(IF($C$7:$C$46=C16,$X$7:$X$46,\"\"))","v":1},"","","","","","",""]
[0,"Blyth",56,"Rachel Carrol",3000,3474,"S","F",84.5,1,24.5,1,19,72,79.72,"Finished",79.72,1,1,{"$error":"#DIV/0!"},{"$error":"#DIV/0!"},{"$f":"IF(P17<>\"Finished\",\"\",VLOOKUP(O17,'Data for points'!$Q$26:$Z$33,9,TRUE))","v":"Champion"},1,1,{"$f":"MIN(IF($C$7:$C$46=C17,$X$7:$X$46,\"\"))","v":1},1,1,"","",1,1,""]
[0,"RLSS Uk Preformace",80,"Lucy Howes",3010,3536,"S","F",88,1,28,1,26,6,86.06,"Finished",86.06,3,3,{"$error":"#DIV/0!"},{"$error":"#DIV/0!"},{"$f":"IF(P18<>\"Finished\",\"\",VLOOKUP(O18,'Data for points'!$Q$26:$Z$33,9,TRUE))","v":"Excellent"},3,3,{"$f":"MIN(IF($C$7:$C$46=C18,$X$7:$X$46,\"\"))","v":3},3,2,"","",2,2,""]
[0,"Blyth",56,"Sam Carpenter",3003,3466,"S","F",90,1,30,1,30,46,90.46,"Finished",90.46,5,5,{"$error":"#DIV/0!"},{"$error":"#DIV/0!"},{"$f":"IF(P19<>\"Finished\",\"\",VLOOKUP(O19,'Data for points'!$Q$26:$Z$33,9,TRUE))","v":"Excellent"},5,5,{"$f":"MIN(IF($C$7:$C$46=C19,$X$7:$X$46,\"\"))","v":1},"","","","","","",""]
[null,null,null,null,null,null,null,null,null,0,0,null,null,null,0,null,"","","",{"$error":"#DIV/0!"},"",{"$f":"IF(P20<>\"Finished\",\"\",VLOOKUP(O20,'Data for points'!$Q$26:$Z$33,9,TRUE))","v":""},"","",{"$f":"MIN(IF($C$7:$C$46=C20,$X$7:$X$46,\"\"))","v":0},"","","","","","",""]
[null,null,null,null,null,null,null,null,null,0,0,null,null,null,0,null,"","","",{"$error":"#DIV/0!"},"",{"$f":"IF(P21<>\"Finished\",\"\",VLOOKUP(O21,'Data for points'!$Q$26:$Z$33,9,TRUE))","v":""},"","",{"$f":"MIN(IF($C$7:$C$46=C21,$X$7:$X$46,\"\"))","v":0},"","","","","","",""]
[null,null,null,null,null,null,null,null,null,0,0,null,null,null,0,null,"","","",{"$error":"#DIV/0!"},"",{"$f":"IF(P22<>\"Finished\",\"\",VLOOKUP(O22,'Data for points'!$Q$26:$Z$33,9,TRUE))","v":""},"","",{"$f":"MIN(IF($C$7:$C$46=C22,$X$7:$X$46,\"\"))","v":0},"","","","","","",""]
[null,null,null,null,null,null,null,null,null,0,0,null,null,null,0,null,"","","",{"$error":"#DIV/0!"},"",{"$f":"IF(P23<>\"Finished\",\"\",VLOOKUP(O23,'Data for points'!$Q$26:$Z$33,9,TRUE))","v":""},"","",{"$f":"MIN(IF($C$7:$C$46=C23,$X$7:$X$46,\"\"))","v":0},"","","","","","",""]
[null,null,null,null,null,null,null,null,null,0,0,null,null,null,0,null,"","","",{"$error":"#DIV/0!"},"",{"$f":"IF(P24<>\"Finished\",\"\",VLOOKUP(O24,'Data for points'!$Q$26:$Z$33,9,TRUE))","v":""},"","",{"$f":"MIN(IF($C$7:$C$46=C24,$X$7:$X$46,\"\"))","v":0},"","","","","","",""]
[null,null,null,null,null,null,null,null,null,0,0,null,null,null,0,null,"","","",{"$error":"#DIV/0!"},"",{"$f":"IF(P25<>\"Finished\",\"\",VLOOKUP(O25,'Data for points'!$Q$26:$Z$33,9,TRUE))","v":""},"","",{"$f":"MIN(IF($C$7:$C$46=C25,$X$7:$X$46,\"\"))","v":0},"","","","","","",""]
[null,null,null,null,null,null,null,null,null,0,0,null,null,null,0,null,"","","",{"$error":"#DIV/0!"},"",{"$f":"IF(P26<>\"Finished\",\"\",VLOOKUP(O26,'Data for points'!$Q$26:$Z$33,9,TRUE))","v":""},"","",{"$f":"MIN(IF($C$7:$C$46=C26,$X$7:$X$46,\"\"))","v":0},"","","","","","",""]
[null,null,null,null,null,null,null,null,null,0,0,null,null,null,0,null,"","","",{"$error":"#DIV/0!"},"",{"$f":"IF(P27<>\"Finished\",\"\",VLOOKUP(O27,'Data for points'!$Q$26:$Z$33,9,TRUE))","v":""},"","",{"$f":"MIN(IF($C$7:$C$46=C27,$X$7:$X$46,\"\"))","v":0},"","","","","","",""]
[null,null,null,null,null,null,null,null,null,0,0,null,null,null,0,null,"","","",{"$error":"#DIV/0!"},"",{"$f":"IF(P28<>\"Finished\",\"\",VLOOKUP(O28,'Data for points'!$Q$26:$Z$33,9,TRUE))","v":""},"","",{"$f":"MIN(IF($C$7:$C$46=C28,$X$7:$X$46,\"\"))","v":0},"","","","","","",""]
[null,null,null,null,null,null,null,null,null,0,0,null,null,null,0,null,"","","",{"$error":"#DIV/0!"},"",{"$f":"IF(P29<>\"Finished\",\"\",VLOOKUP(O29,'Data for points'!$Q$26:$Z$33,9,TRUE))","v":""},"","",{"$f":"MIN(IF($C$7:$C$46=C29,$X$7:$X$46,\"\"))","v":0},"","","","","","",""]
[null,null,null,null,null,null,null,null,null,0,0,null,null,null,0,null,"","","",{"$error":"#DIV/0!"},"",{"$f":"IF(P30<>\"Finished\",\"\",VLOOKUP(O30,'Data for points'!$Q$26:$Z$33,9,TRUE))","v":""},"","",{"$f":"MIN(IF($C$7:$C$46=C30,$X$7:$X$46,\"\"))","v":0},"","","","","","",""]
[null,null,null,null,null,null,null,null,null,0,0,null,null,null,0,null,"","","",{"$error":"#DIV/0!"},"",{"$f":"IF(P31<>\"Finished\",\"\",VLOOKUP(O31,'Data for points'!$Q$26:$Z$33,9,TRUE))","v":""},"","",{"$f":"MIN(IF($C$7:$C$46=C31,$X$7:$X$46,\"\"))","v":0},"","","","","","",""]
[null,null,null,null,null,null,null,null,null,0,0,null,null,null,0,null,"","","",{"$error":"#DIV/0!"},"",{"$f":"IF(P32<>\"Finished\",\"\",VLOOKUP(O32,'Data for points'!$Q$26:$Z$33,9,TRUE))","v":""},"","",{"$f":"MIN(IF($C$7:$C$46=C32,$X$7:$X$46,\"\"))","v":0},"","","","","","",""]
[null,null,null,null,null,null,null,null,null,0,0,null,null,null,0,null,"","","",{"$error":"#DIV/0!"},"",{"$f":"IF(P33<>\"Finished\",\"\",VLOOKUP(O33,'Data for points'!$Q$26:$Z$33,9,TRUE))","v":""},"","",{"$f":"MIN(IF($C$7:$C$46=C33,$X$7:$X$46,\"\"))","v":0},"","","","","","",""]
[null,null,null,null,null,null,null,null,null,0,0,null,null,null,0,null,"","","",{"$error":"#DIV/0!"},"",{"$f":"IF(P34<>\"Finished\",\"\",VLOOKUP(O34,'Data for points'!$Q$26:$Z$33,9,TRUE))","v":""},"","",{"$f":"MIN(IF($C$7:$C$46=C34,$X$7:$X$46,\"\"))","v":0},"","","","","","",""]
[null,null,null,null,null,null,null,null,null,0,0,null,null,null,0,null,"","","",{"$error":"#DIV/0!"},"",{"$f":"IF(P35<>\"Finished\",\"\",VLOOKUP(O35,'Data for points'!$Q$26:$Z$33,9,TRUE))","v":""},"","",{"$f":"MIN(IF($C$7:$C$46=C35,$X$7:$X$46,\"\"))","v":0},"","","","","","",""]
[null,null,null,null,null,null,null,null,null,0,0,null,null,null,0,null,"","","",{"$error":"#DIV/0!"},"",{"$f":"IF(P36<>\"Finished\",\"\",VLOOKUP(O36,'Data for points'!$Q$26:$Z$33,9,TRUE))","v":""},"","",{"$f":"MIN(IF($C$7:$C$46=C36,$X$7:$X$46,\"\"))","v":0},"","","","","","",""]
[null,null,null,null,null,null,null,null,null,0,0,null,null,null,0,null,"","","",{"$error":"#DIV/0!"},"",{"$f":"IF(P37<>\"Finished\",\"\",VLOOKUP(O37,'Data for points'!$Q$26:$Z$33,9,TRUE))","v":""},"","",{"$f":"MIN(IF($C$7:$C$46=C37,$X$7:$X$46,\"\"))","v":0},"","","","","","",""]
[null,null,null,null,null,null,null,null,null,0,0,null,null,null,0,null,"","","",{"$error":"#DIV/0!"},"",{"$f":"IF(P38<>\"Finished\",\"\",VLOOKUP(O38,'Data for points'!$Q$26:$Z$33,9,TRUE))","v":""},"","",{"$f":"MIN(IF($C$7:$C$46=C38,$X$7:$X$46,\"\"))","v":0},"","","","","","",""]
[null,null,null,null,null,null,null,null,null,0,0,null,null,null,0,null,"","","",{"$error":"#DIV/0!"},"",{"$f":"IF(P39<>\"Finished\",\"\",VLOOKUP(O39,'Data for points'!$Q$26:$Z$33,9,TRUE))","v":""},"","",{"$f":"MIN(IF($C$7:$C$46=C39,$X$7:$X$46,\"\"))","v":0},"","","","","","",""]
[null,null,null,null,null,null,null,null,null,0,0,null,null,null,0,null,"","","",{"$error":"#DIV/0!"},"",{"$f":"IF(P40<>\"Finished\",\"\",VLOOKUP(O40,'Data for points'!$Q$26:$Z$33,9,TRUE))","v":""},"","",{"$f":"MIN(IF($C$7:$C$46=C40,$X$7:$X$46,\"\"))","v":0},"","","","","","",""]
[null,null,null,null,null,null,null,null,null,0,0,null,null,null,0,null,"","","",{"$error":"#DIV/0!"},"",{"$f":"IF(P41<>\"Finished\",\"\",VLOOKUP(O41,'Data for points'!$Q$26:$Z$33,9,TRUE))","v":""},"","",{"$f":"MIN(IF($C$7:$C$46=C41,$X$7:$X$46,\"\"))","v":0},"","","","","","",""]
[null,null,null,null,null,null,null,null,null,0,0,null,null,null,0,null,"","","",{"$error":"#DIV/0!"},"",{"$f":"IF(P42<>\"Finished\",\"\",VLOOKUP(O42,'Data for points'!$Q$26:$Z$33,9,TRUE))","v":""},"","",{"$f":"MIN(IF($C$7:$C$46=C42,$X$7:$X$46,\"\"))","v":0},"","","","","","",""]
[null,null,null,null,null,null,null,null,null,0,0,null,null,null,0,null,"","","",{"$error":"#DIV/0!"},"",{"$f":"IF(P43<>\"Finished\",\"\",VLOOKUP(O43,'Data for points'!$Q$26:$Z$33,9,TRUE))","v":""},"","",{"$f":"MIN(IF($C$7:$C$46=C43,$X$7:$X$46,\"\"))","v":0},"","","","","","",""]
[null,null,null,null,null,null,null,null,null,0,0,null,null,null,0,null,"","","",{"$error":"#DIV/0!"},"",{"$f":"IF(P44<>\"Finished\",\"\",VLOOKUP(O44,'Data for points'!$Q$26:$Z$33,9,TRUE))","v":""},"","",{"$f":"MIN(IF($C$7:$C$46=C44,$X$7:$X$46,\"\"))","v":0},"","","","","","",""]
[null,null,null,null,null,null,null,null,null,0,0,null,null,null,0,null,"","","",{"$error":"#DIV/0!"},"",{"$f":"IF(P45<>\"Finished\",\"\",VLOOKUP(O45,'Data for points'!$Q$26:$Z$33,9,TRUE))","v":""},"","",{"$f":"MIN(IF($C$7:$C$46=C45,$X$7:$X$46,\"\"))","v":0},"","","","","","",""]
[null,null,null,null,null,null,null,null,null,0,0,null,null,null,0,null,"","","",{"$error":"#DIV/0!"},"",{"$f":"IF(P46<>\"Finished\",\"\",VLOOKUP(O46,'Data for points'!$Q$26:$Z$33,9,TRUE))","v":""},"","",{"$f":"MIN(IF($C$7:$C$46=C46,$X$7:$X$46,\"\"))","v":0},"","","","","","",""]
[]
[]
[]
[]
[]
[]
[]
[]
[]
[]
[]
[]
[]
[]
[]
[]
[]
[]
[]
[]
[]
[]
[]
[]
[]
[]
[]
[]
[]
[]
[]
[]
[]
[]
[]
[]
[]
[]
[]
[]
[]
[]
[]
[]
[]
[]
[]
[]
[]
[]
[]
[]
[]
[null,null,null,null,null,null,null,null,null,null,null,null,null,null,null,"Finished"]
[null,null,null,null,null,null,null,null,null,null,null,null,null,null,null,"Disqualified"]

{"sheet":"50m Rescue Women","index":21,"n_rows":101,"n_cols":32,"rows_kept":101,"cut":false,"hidden":true,"merged":[[1,10,1,11],[4,6,4,7],[4,9,4,10],[4,11,4,13]]}
[null,null,null,null,null,null,null,null,null,null,null,null,null,null,"UR in seconds"]
[null,"Women's",null,"50m Resue Medley",null,null,null,null,null,null,"Club to \nHighlight",null,null,null,{"$f":"'Data for points'!R6","v":0},{"$f":"CONCATENATE(\"University  Record=\",INT(O2/60),\" minS\",MOD(O2,60),\" secs\")","v":"University  Record=0 minS0 secs"}]
[]
[]
["A University(Boolean)","Club Name","Club Code","Competitor","CompetitorID","AceptanceID","ID code",null,"Entry Time(Seconds)","Entry Time",null,"Time",null,null,"Time(seconds)","Finish \nStatus","TimeSand  DQs","Rank","Competition \nPlace","PointSCalculation","Lifesaving Points","Survive and Save Status","Squad List","Rank For \nSquadSMembers","Top Finisher for there Unit","Top finisher Select Competitor for ranking","Squad \nPoints","Uni Finishers","Student \nPoints","Non-Uni Finishers","Non-Student \nPoints"]
[null,null,null,null,null,null,null,null,null,"Mins","Seconds","Mins","Seconds","1/100"]
[0,null,null,null,null,null,null,null,55,{"$f":"INT(I7/60)","v":0},{"$f":"MOD(I7,60)","v":55},null,null,null,{"$f":"L7*60+M7+N7/100","v":0},null,{"$f":"IF(P7<>\"Finished\",IF(P7<=0,\"\",P7),IF(P7=\"Finished\",IF(O7<=0,\"\",O7),\"\"))","v":""},{"$f":"IF(OR(LEFT(Q7,1)=\"D\",Q7=\"\"),\"\",RANK(Q7,$Q$7:$Q$46,1))","v":""},{"$f":"IF(LEFT(P7,1)=\"D\",MAX($R$7:$R$46)+1,R7)","v":""},{"$f":"(1-(O7-$O$2)/$O$2)*1000","v":{"$error":"#DIV/0!"}},{"$f":"IF(P7<>\"Finished\",\"\",IF(T7<0,0,T7))","v":""},{"$f":"IF(P7<>\"Finished\",\"\",VLOOKUP(O7,'Data for points'!$R$26:$Z$33,6,TRUE))","v":""},{"$f":"IF(G7=\"S\",S7,\"\")","v":""},{"$f":"IF(W7=\"\",\"\",RANK(W7,$W$7:$W$46,1))","v":""},{"$f":"MIN(IF($C$7:$C$46=C7,$X$7:$X$46,\"\"))","v":0},{"$f":"IF(Y7=X7,Y7,\"\")","v":""},{"$f":"IF(Z7=\"\",\"\",RANK(Z7,$Z$7:$Z$46,1))","v":""},{"$f":"IF(A7=1,AA7,\"\")","v":""},{"$f":"IF(AB7=\"\",\"\",RANK(AB7,$AB$7:$AB$46,1))","v":""},{"$f":"IF(A7=0,AA7,\"\")","v":""},{"$f":"IF(AD7=\"\",\"\",RANK(AD7,$AD$7:$AD$46,1))","v":""},{"$f":"IF(OR(P7<>\"Finished\",O7>$O$2),\"\",\"UR\")","v":""}]
[0,null,null,null,null,null,null,null,55,{"$f":"INT(I8/60)","v":0},{"$f":"MOD(I8,60)","v":55},null,null,null,{"$f":"L8*60+M8+N8/100","v":0},null,{"$f":"IF(P8<>\"Finished\",IF(P8<=0,\"\",P8),IF(P8=\"Finished\",IF(O8<=0,\"\",O8),\"\"))","v":""},{"$f":"IF(OR(LEFT(Q8,1)=\"D\",Q8=\"\"),\"\",RANK(Q8,$Q$7:$Q$46,1))","v":""},{"$f":"IF(LEFT(P8,1)=\"D\",MAX($R$7:$R$46)+1,R8)","v":""},{"$f":"(1-(O8-$O$2)/$O$2)*1000","v":{"$error":"#DIV/0!"}},{"$f":"IF(P8<>\"Finished\",\"\",IF(T8<0,0,T8))","v":""},{"$f":"IF(P8<>\"Finished\",\"\",VLOOKUP(O8,'Data for points'!$R$26:$Z$33,6,TRUE))","v":""},{"$f":"IF(G8=\"S\",S8,\"\")","v":""},{"$f":"IF(W8=\"\",\"\",RANK(W8,$W$7:$W$46,1))","v":""},{"$f":"MIN(IF($C$7:$C$46=C8,$X$7:$X$46,\"\"))","v":0},{"$f":"IF(Y8=X8,Y8,\"\")","v":""},{"$f":"IF(Z8=\"\",\"\",RANK(Z8,$Z$7:$Z$46,1))","v":""},{"$f":"IF(A8=1,AA8,\"\")","v":""},{"$f":"IF(AB8=\"\",\"\",RANK(AB8,$AB$7:$AB$46,1))","v":""},{"$f":"IF(A8=0,AA8,\"\")","v":""},"",{"$f":"IF(OR(P8<>\"Finished\",O8>$O$2),\"\",\"UR\")","v":""}]
[0,null,null,null,null,null,null,null,60,1,0,null,null,null,0,null,"","","",{"$error":"#DIV/0!"},"",{"$f":"IF(P9<>\"Finished\",\"\",VLOOKUP(O9,'Data for points'!$R$26:$Z$33,6,TRUE))","v":""},"","",{"$f":"MIN(IF($C$7:$C$46=C9,$X$7:$X$46,\"\"))","v":0},"","","","","","",""]
[0,null,null,null,null,null,null,null,50,0,50,null,null,null,0,null,"","","",{"$error":"#DIV/0!"},"",{"$f":"IF(P10<>\"Finished\",\"\",VLOOKUP(O10,'Data for points'!$R$26:$Z$33,6,TRUE))","v":""},"","",{"$f":"MIN(IF($C$7:$C$46=C10,$X$7:$X$46,\"\"))","v":0},"","","","","","",""]
[0,null,null,null,null,null,null,null,42,0,42,null,null,null,0,null,"","","",{"$error":"#DIV/0!"},"",{"$f":"IF(P11<>\"Finished\",\"\",VLOOKUP(O11,'Data for points'!$R$26:$Z$33,6,TRUE))","v":""},"","",{"$f":"MIN(IF($C$7:$C$46=C11,$X$7:$X$46,\"\"))","v":0},"","","","","","",""]
[0,null,null,null,null,null,null,null,45,0,45,null,null,null,0,null,"","","",{"$error":"#DIV/0!"},"",{"$f":"IF(P12<>\"Finished\",\"\",VLOOKUP(O12,'Data for points'!$R$26:$Z$33,6,TRUE))","v":""},"","",{"$f":"MIN(IF($C$7:$C$46=C12,$X$7:$X$46,\"\"))","v":0},"","","","","","",""]
[0,null,null,null,null,null,null,null,55,0,55,null,null,null,0,null,"","","",{"$error":"#DIV/0!"},"",{"$f":"IF(P13<>\"Finished\",\"\",VLOOKUP(O13,'Data for points'!$R$26:$Z$33,6,TRUE))","v":""},"","",{"$f":"MIN(IF($C$7:$C$46=C13,$X$7:$X$46,\"\"))","v":0},"","","","","","",""]
[null,null,null,null,null,null,null,null,null,0,0,null,null,null,0,null,"","","",{"$error":"#DIV/0!"},"",{"$f":"IF(P14<>\"Finished\",\"\",VLOOKUP(O14,'Data for points'!$R$26:$Z$33,6,TRUE))","v":""},"","",{"$f":"MIN(IF($C$7:$C$46=C14,$X$7:$X$46,\"\"))","v":0},"","","","","","",""]
[null,null,null,null,null,null,null,null,null,0,0,null,null,null,0,null,"","","",{"$error":"#DIV/0!"},"",{"$f":"IF(P15<>\"Finished\",\"\",VLOOKUP(O15,'Data for points'!$R$26:$Z$33,6,TRUE))","v":""},"","",{"$f":"MIN(IF($C$7:$C$46=C15,$X$7:$X$46,\"\"))","v":0},"","","","","","",""]
[null,null,null,null,null,null,null,null,null,0,0,null,null,null,0,null,"","","",{"$error":"#DIV/0!"},"",{"$f":"IF(P16<>\"Finished\",\"\",VLOOKUP(O16,'Data for points'!$R$26:$Z$33,6,TRUE))","v":""},"","",{"$f":"MIN(IF($C$7:$C$46=C16,$X$7:$X$46,\"\"))","v":0},"","","","","","",""]
[null,null,null,null,null,null,null,null,null,0,0,null,null,null,0,null,"","","",{"$error":"#DIV/0!"},"",{"$f":"IF(P17<>\"Finished\",\"\",VLOOKUP(O17,'Data for points'!$R$26:$Z$33,6,TRUE))","v":""},"","",{"$f":"MIN(IF($C$7:$C$46=C17,$X$7:$X$46,\"\"))","v":0},"","","","","","",""]
[null,null,null,null,null,null,null,null,null,0,0,null,null,null,0,null,"","","",{"$error":"#DIV/0!"},"",{"$f":"IF(P18<>\"Finished\",\"\",VLOOKUP(O18,'Data for points'!$R$26:$Z$33,6,TRUE))","v":""},"","",{"$f":"MIN(IF($C$7:$C$46=C18,$X$7:$X$46,\"\"))","v":0},"","","","","","",""]
[null,null,null,null,null,null,null,null,null,0,0,null,null,null,0,null,"","","",{"$error":"#DIV/0!"},"",{"$f":"IF(P19<>\"Finished\",\"\",VLOOKUP(O19,'Data for points'!$R$26:$Z$33,6,TRUE))","v":""},"","",{"$f":"MIN(IF($C$7:$C$46=C19,$X$7:$X$46,\"\"))","v":0},"","","","","","",""]
[null,null,null,null,null,null,null,null,null,0,0,null,null,null,0,null,"","","",{"$error":"#DIV/0!"},"",{"$f":"IF(P20<>\"Finished\",\"\",VLOOKUP(O20,'Data for points'!$R$26:$Z$33,6,TRUE))","v":""},"","",{"$f":"MIN(IF($C$7:$C$46=C20,$X$7:$X$46,\"\"))","v":0},"","","","","","",""]
[null,null,null,null,null,null,null,null,null,0,0,null,null,null,0,null,"","","",{"$error":"#DIV/0!"},"",{"$f":"IF(P21<>\"Finished\",\"\",VLOOKUP(O21,'Data for points'!$R$26:$Z$33,6,TRUE))","v":""},"","",{"$f":"MIN(IF($C$7:$C$46=C21,$X$7:$X$46,\"\"))","v":0},"","","","","","",""]
[null,null,null,null,null,null,null,null,null,0,0,null,null,null,0,null,"","","",{"$error":"#DIV/0!"},"",{"$f":"IF(P22<>\"Finished\",\"\",VLOOKUP(O22,'Data for points'!$R$26:$Z$33,6,TRUE))","v":""},"","",{"$f":"MIN(IF($C$7:$C$46=C22,$X$7:$X$46,\"\"))","v":0},"","","","","","",""]
[null,null,null,null,null,null,null,null,null,0,0,null,null,null,0,null,"","","",{"$error":"#DIV/0!"},"",{"$f":"IF(P23<>\"Finished\",\"\",VLOOKUP(O23,'Data for points'!$R$26:$Z$33,6,TRUE))","v":""},"","",{"$f":"MIN(IF($C$7:$C$46=C23,$X$7:$X$46,\"\"))","v":0},"","","","","","",""]
[null,null,null,null,null,null,null,null,null,0,0,null,null,null,0,null,"","","",{"$error":"#DIV/0!"},"",{"$f":"IF(P24<>\"Finished\",\"\",VLOOKUP(O24,'Data for points'!$R$26:$Z$33,6,TRUE))","v":""},"","",{"$f":"MIN(IF($C$7:$C$46=C24,$X$7:$X$46,\"\"))","v":0},"","","","","","",""]
[null,null,null,null,null,null,null,null,null,0,0,null,null,null,0,null,"","","",{"$error":"#DIV/0!"},"",{"$f":"IF(P25<>\"Finished\",\"\",VLOOKUP(O25,'Data for points'!$R$26:$Z$33,6,TRUE))","v":""},"","",{"$f":"MIN(IF($C$7:$C$46=C25,$X$7:$X$46,\"\"))","v":0},"","","","","","",""]
[null,null,null,null,null,null,null,null,null,0,0,null,null,null,0,null,"","","",{"$error":"#DIV/0!"},"",{"$f":"IF(P26<>\"Finished\",\"\",VLOOKUP(O26,'Data for points'!$R$26:$Z$33,6,TRUE))","v":""},"","",{"$f":"MIN(IF($C$7:$C$46=C26,$X$7:$X$46,\"\"))","v":0},"","","","","","",""]
[null,null,null,null,null,null,null,null,null,0,0,null,null,null,0,null,"","","",{"$error":"#DIV/0!"},"",{"$f":"IF(P27<>\"Finished\",\"\",VLOOKUP(O27,'Data for points'!$R$26:$Z$33,6,TRUE))","v":""},"","",{"$f":"MIN(IF($C$7:$C$46=C27,$X$7:$X$46,\"\"))","v":0},"","","","","","",""]
[null,null,null,null,null,null,null,null,null,0,0,null,null,null,0,null,"","","",{"$error":"#DIV/0!"},"",{"$f":"IF(P28<>\"Finished\",\"\",VLOOKUP(O28,'Data for points'!$R$26:$Z$33,6,TRUE))","v":""},"","",{"$f":"MIN(IF($C$7:$C$46=C28,$X$7:$X$46,\"\"))","v":0},"","","","","","",""]
[null,null,null,null,null,null,null,null,null,0,0,null,null,null,0,null,"","","",{"$error":"#DIV/0!"},"",{"$f":"IF(P29<>\"Finished\",\"\",VLOOKUP(O29,'Data for points'!$R$26:$Z$33,6,TRUE))","v":""},"","",{"$f":"MIN(IF($C$7:$C$46=C29,$X$7:$X$46,\"\"))","v":0},"","","","","","",""]
[null,null,null,null,null,null,null,null,null,0,0,null,null,null,0,null,"","","",{"$error":"#DIV/0!"},"",{"$f":"IF(P30<>\"Finished\",\"\",VLOOKUP(O30,'Data for points'!$R$26:$Z$33,6,TRUE))","v":""},"","",{"$f":"MIN(IF($C$7:$C$46=C30,$X$7:$X$46,\"\"))","v":0},"","","","","","",""]
[null,null,null,null,null,null,null,null,null,0,0,null,null,null,0,null,"","","",{"$error":"#DIV/0!"},"",{"$f":"IF(P31<>\"Finished\",\"\",VLOOKUP(O31,'Data for points'!$R$26:$Z$33,6,TRUE))","v":""},"","",{"$f":"MIN(IF($C$7:$C$46=C31,$X$7:$X$46,\"\"))","v":0},"","","","","","",""]
[null,null,null,null,null,null,null,null,null,0,0,null,null,null,0,null,"","","",{"$error":"#DIV/0!"},"",{"$f":"IF(P32<>\"Finished\",\"\",VLOOKUP(O32,'Data for points'!$R$26:$Z$33,6,TRUE))","v":""},"","",{"$f":"MIN(IF($C$7:$C$46=C32,$X$7:$X$46,\"\"))","v":0},"","","","","","",""]
[null,null,null,null,null,null,null,null,null,0,0,null,null,null,0,null,"","","",{"$error":"#DIV/0!"},"",{"$f":"IF(P33<>\"Finished\",\"\",VLOOKUP(O33,'Data for points'!$R$26:$Z$33,6,TRUE))","v":""},"","",{"$f":"MIN(IF($C$7:$C$46=C33,$X$7:$X$46,\"\"))","v":0},"","","","","","",""]
[null,null,null,null,null,null,null,null,null,0,0,null,null,null,0,null,"","","",{"$error":"#DIV/0!"},"",{"$f":"IF(P34<>\"Finished\",\"\",VLOOKUP(O34,'Data for points'!$R$26:$Z$33,6,TRUE))","v":""},"","",{"$f":"MIN(IF($C$7:$C$46=C34,$X$7:$X$46,\"\"))","v":0},"","","","","","",""]
[null,null,null,null,null,null,null,null,null,0,0,null,null,null,0,null,"","","",{"$error":"#DIV/0!"},"",{"$f":"IF(P35<>\"Finished\",\"\",VLOOKUP(O35,'Data for points'!$R$26:$Z$33,6,TRUE))","v":""},"","",{"$f":"MIN(IF($C$7:$C$46=C35,$X$7:$X$46,\"\"))","v":0},"","","","","","",""]
[null,null,null,null,null,null,null,null,null,0,0,null,null,null,0,null,"","","",{"$error":"#DIV/0!"},"",{"$f":"IF(P36<>\"Finished\",\"\",VLOOKUP(O36,'Data for points'!$R$26:$Z$33,6,TRUE))","v":""},"","",{"$f":"MIN(IF($C$7:$C$46=C36,$X$7:$X$46,\"\"))","v":0},"","","","","","",""]
[null,null,null,null,null,null,null,null,null,0,0,null,null,null,0,null,"","","",{"$error":"#DIV/0!"},"",{"$f":"IF(P37<>\"Finished\",\"\",VLOOKUP(O37,'Data for points'!$R$26:$Z$33,6,TRUE))","v":""},"","",{"$f":"MIN(IF($C$7:$C$46=C37,$X$7:$X$46,\"\"))","v":0},"","","","","","",""]
[null,null,null,null,null,null,null,null,null,0,0,null,null,null,0,null,"","","",{"$error":"#DIV/0!"},"",{"$f":"IF(P38<>\"Finished\",\"\",VLOOKUP(O38,'Data for points'!$R$26:$Z$33,6,TRUE))","v":""},"","",{"$f":"MIN(IF($C$7:$C$46=C38,$X$7:$X$46,\"\"))","v":0},"","","","","","",""]
[null,null,null,null,null,null,null,null,null,0,0,null,null,null,0,null,"","","",{"$error":"#DIV/0!"},"",{"$f":"IF(P39<>\"Finished\",\"\",VLOOKUP(O39,'Data for points'!$R$26:$Z$33,6,TRUE))","v":""},"","",{"$f":"MIN(IF($C$7:$C$46=C39,$X$7:$X$46,\"\"))","v":0},"","","","","","",""]
[null,null,null,null,null,null,null,null,null,0,0,null,null,null,0,null,"","","",{"$error":"#DIV/0!"},"",{"$f":"IF(P40<>\"Finished\",\"\",VLOOKUP(O40,'Data for points'!$R$26:$Z$33,6,TRUE))","v":""},"","",{"$f":"MIN(IF($C$7:$C$46=C40,$X$7:$X$46,\"\"))","v":0},"","","","","","",""]
[null,null,null,null,null,null,null,null,null,0,0,null,null,null,0,null,"","","",{"$error":"#DIV/0!"},"",{"$f":"IF(P41<>\"Finished\",\"\",VLOOKUP(O41,'Data for points'!$R$26:$Z$33,6,TRUE))","v":""},"","",{"$f":"MIN(IF($C$7:$C$46=C41,$X$7:$X$46,\"\"))","v":0},"","","","","","",""]
[null,null,null,null,null,null,null,null,null,0,0,null,null,null,0,null,"","","",{"$error":"#DIV/0!"},"",{"$f":"IF(P42<>\"Finished\",\"\",VLOOKUP(O42,'Data for points'!$R$26:$Z$33,6,TRUE))","v":""},"","",{"$f":"MIN(IF($C$7:$C$46=C42,$X$7:$X$46,\"\"))","v":0},"","","","","","",""]
[null,null,null,null,null,null,null,null,null,0,0,null,null,null,0,null,"","","",{"$error":"#DIV/0!"},"",{"$f":"IF(P43<>\"Finished\",\"\",VLOOKUP(O43,'Data for points'!$R$26:$Z$33,6,TRUE))","v":""},"","",{"$f":"MIN(IF($C$7:$C$46=C43,$X$7:$X$46,\"\"))","v":0},"","","","","","",""]
[null,null,null,null,null,null,null,null,null,0,0,null,null,null,0,null,"","","",{"$error":"#DIV/0!"},"",{"$f":"IF(P44<>\"Finished\",\"\",VLOOKUP(O44,'Data for points'!$R$26:$Z$33,6,TRUE))","v":""},"","",{"$f":"MIN(IF($C$7:$C$46=C44,$X$7:$X$46,\"\"))","v":0},"","","","","","",""]
[null,null,null,null,null,null,null,null,null,0,0,null,null,null,0,null,"","","",{"$error":"#DIV/0!"},"",{"$f":"IF(P45<>\"Finished\",\"\",VLOOKUP(O45,'Data for points'!$R$26:$Z$33,6,TRUE))","v":""},"","",{"$f":"MIN(IF($C$7:$C$46=C45,$X$7:$X$46,\"\"))","v":0},"","","","","","",""]
[null,null,null,null,null,null,null,null,null,0,0,null,null,null,0,null,"","","",{"$error":"#DIV/0!"},"",{"$f":"IF(P46<>\"Finished\",\"\",VLOOKUP(O46,'Data for points'!$R$26:$Z$33,6,TRUE))","v":""},"","",{"$f":"MIN(IF($C$7:$C$46=C46,$X$7:$X$46,\"\"))","v":0},"","","","","","",""]
[]
[]
[]
[]
[]
[]
[]
[]
[]
[]
[]
[]
[]
[]
[]
[]
[]
[]
[]
[]
[]
[]
[]
[]
[]
[]
[]
[]
[]
[]
[]
[]
[]
[]
[]
[]
[]
[]
[]
[]
[]
[]
[]
[]
[]
[]
[]
[]
[]
[]
[]
[]
[]
[null,null,null,null,null,null,null,null,null,null,null,null,null,null,null,"Finished"]
[null,null,null,null,null,null,null,null,null,null,null,null,null,null,null,"Disqualified"]

{"sheet":"50m Rescue Men","index":22,"n_rows":101,"n_cols":32,"rows_kept":101,"cut":false,"hidden":true,"merged":[[1,10,1,11],[4,6,4,7],[4,9,4,10],[4,11,4,13]]}
[null,null,null,null,null,null,null,null,null,null,null,null,null,null,"UR in seconds"]
[null,"Men's",null,"50m Rescue Medley",null,null,null,null,null,null,"Club to \nHighlight",null,null,null,{"$f":"'Data for points'!R5","v":0},{"$f":"CONCATENATE(\"University  Record=\",INT(O2/60),\" minS\",MOD(O2,60),\" secs\")","v":"University  Record=0 minS0 secs"}]
[]
[]
["A University(Boolean)","Club Name","Club Code","Competitor","CompetitorID","AceptanceID","ID code",null,"Entry Time(Seconds)","Entry Time",null,"Time",null,null,"Time(seconds)","Finish \nStatus","TimeSand  DQs","Rank","Competition \nPlace","PointSCalculation","Lifesaving Points","Survive and Save Status","Squad List","Rank For \nSquadSMembers","Top Finisher for there Unit","Top finisher Select Competitor for ranking","Squad \nPoints","Uni Finishers","Student \nPoints","Non-Uni Finishers","Non-Student \nPoints"]
[null,null,null,null,null,null,null,null,null,"Mins","Seconds","Mins","Seconds","1/100"]
[0,null,null,null,null,null,null,null,55,{"$f":"INT(I7/60)","v":0},{"$f":"MOD(I7,60)","v":55},null,null,null,{"$f":"L7*60+M7+N7/100","v":0},null,{"$f":"IF(P7<>\"Finished\",IF(P7<=0,\"\",P7),IF(P7=\"Finished\",IF(O7<=0,\"\",O7),\"\"))","v":""},{"$f":"IF(OR(LEFT(Q7,1)=\"D\",Q7=\"\"),\"\",RANK(Q7,$Q$7:$Q$46,1))","v":""},{"$f":"IF(LEFT(P7,1)=\"D\",MAX($R$7:$R$46)+1,R7)","v":""},{"$f":"(1-(O7-$O$2)/$O$2)*1000","v":{"$error":"#DIV/0!"}},{"$f":"IF(P7<>\"Finished\",\"\",IF(T7<0,0,T7))","v":""},{"$f":"IF(P7<>\"Finished\",\"\",VLOOKUP(O7,'Data for points'!$R$16:$Z$22,6,TRUE))","v":""},{"$f":"IF(G7=\"S\",S7,\"\")","v":""},{"$f":"IF(W7=\"\",\"\",RANK(W7,$W$7:$W$46,1))","v":""},{"$f":"MIN(IF($C$7:$C$46=C7,$X$7:$X$46,\"\"))","v":0},{"$f":"IF(Y7=X7,Y7,\"\")","v":""},{"$f":"IF(Z7=\"\",\"\",RANK(Z7,$Z$7:$Z$46,1))","v":""},{"$f":"IF(A7=1,AA7,\"\")","v":""},{"$f":"IF(AB7=\"\",\"\",RANK(AB7,$AB$7:$AB$46,1))","v":""},{"$f":"IF(A7=0,AA7,\"\")","v":""},{"$f":"IF(AD7=\"\",\"\",RANK(AD7,$AD$7:$AD$46,1))","v":""},{"$f":"IF(OR(P7<>\"Finished\",O7>$O$2),\"\",\"UR\")","v":""}]
[0,null,null,null,null,null,null,null,55,{"$f":"INT(I8/60)","v":0},{"$f":"MOD(I8,60)","v":55},null,null,null,{"$f":"L8*60+M8+N8/100","v":0},null,{"$f":"IF(P8<>\"Finished\",IF(P8<=0,\"\",P8),IF(P8=\"Finished\",IF(O8<=0,\"\",O8),\"\"))","v":""},{"$f":"IF(OR(LEFT(Q8,1)=\"D\",Q8=\"\"),\"\",RANK(Q8,$Q$7:$Q$46,1))","v":""},{"$f":"IF(LEFT(P8,1)=\"D\",MAX($R$7:$R$46)+1,R8)","v":""},{"$f":"(1-(O8-$O$2)/$O$2)*1000","v":{"$error":"#DIV/0!"}},{"$f":"IF(P8<>\"Finished\",\"\",IF(T8<0,0,T8))","v":""},{"$f":"IF(P8<>\"Finished\",\"\",VLOOKUP(O8,'Data for points'!$R$16:$Z$22,6,TRUE))","v":""},{"$f":"IF(G8=\"S\",S8,\"\")","v":""},{"$f":"IF(W8=\"\",\"\",RANK(W8,$W$7:$W$46,1))","v":""},{"$f":"MIN(IF($C$7:$C$46=C8,$X$7:$X$46,\"\"))","v":0},{"$f":"IF(Y8=X8,Y8,\"\")","v":""},{"$f":"IF(Z8=\"\",\"\",RANK(Z8,$Z$7:$Z$46,1))","v":""},{"$f":"IF(A8=1,AA8,\"\")","v":""},{"$f":"IF(AB8=\"\",\"\",RANK(AB8,$AB$7:$AB$46,1))","v":""},{"$f":"IF(A8=0,AA8,\"\")","v":""},"",{"$f":"IF(OR(P8<>\"Finished\",O8>$O$2),\"\",\"UR\")","v":""}]
[0,null,null,null,null,null,null,null,65,1,5,null,null,null,0,null,"","","",{"$error":"#DIV/0!"},"",{"$f":"IF(P9<>\"Finished\",\"\",VLOOKUP(O9,'Data for points'!$R$16:$Z$22,6,TRUE))","v":""},"","",{"$f":"MIN(IF($C$7:$C$46=C9,$X$7:$X$46,\"\"))","v":0},"","","","","","",""]
[0,null,null,null,null,null,null,null,55,0,55,null,null,null,0,null,"","","",{"$error":"#DIV/0!"},"",{"$f":"IF(P10<>\"Finished\",\"\",VLOOKUP(O10,'Data for points'!$R$16:$Z$22,6,TRUE))","v":""},"","",{"$f":"MIN(IF($C$7:$C$46=C10,$X$7:$X$46,\"\"))","v":0},"","","","","","",""]
[0,null,null,null,null,null,null,null,40,0,40,null,null,null,0,null,"","","",{"$error":"#DIV/0!"},"",{"$f":"IF(P11<>\"Finished\",\"\",VLOOKUP(O11,'Data for points'!$R$16:$Z$22,6,TRUE))","v":""},"","",{"$f":"MIN(IF($C$7:$C$46=C11,$X$7:$X$46,\"\"))","v":0},"","","","","","",""]
[0,null,null,null,null,null,null,null,50,0,50,null,null,null,0,null,"","","",{"$error":"#DIV/0!"},"",{"$f":"IF(P12<>\"Finished\",\"\",VLOOKUP(O12,'Data for points'!$R$16:$Z$22,6,TRUE))","v":""},"","",{"$f":"MIN(IF($C$7:$C$46=C12,$X$7:$X$46,\"\"))","v":0},"","","","","","",""]
[0,null,null,null,null,null,null,null,55,0,55,null,null,null,0,null,"","","",{"$error":"#DIV/0!"},"",{"$f":"IF(P13<>\"Finished\",\"\",VLOOKUP(O13,'Data for points'!$R$16:$Z$22,6,TRUE))","v":""},"","",{"$f":"MIN(IF($C$7:$C$46=C13,$X$7:$X$46,\"\"))","v":0},"","","","","","",""]
[null,null,null,null,null,null,null,null,null,0,0,null,null,null,0,null,"","","",{"$error":"#DIV/0!"},"",{"$f":"IF(P14<>\"Finished\",\"\",VLOOKUP(O14,'Data for points'!$R$16:$Z$22,6,TRUE))","v":""},"","",{"$f":"MIN(IF($C$7:$C$46=C14,$X$7:$X$46,\"\"))","v":0},"","","","","","",""]
[null,null,null,null,null,null,null,null,null,0,0,null,null,null,0,null,"","","",{"$error":"#DIV/0!"},"",{"$f":"IF(P15<>\"Finished\",\"\",VLOOKUP(O15,'Data for points'!$R$16:$Z$22,6,TRUE))","v":""},"","",{"$f":"MIN(IF($C$7:$C$46=C15,$X$7:$X$46,\"\"))","v":0},"","","","","","",""]
[null,null,null,null,null,null,null,null,null,0,0,null,null,null,0,null,"","","",{"$error":"#DIV/0!"},"",{"$f":"IF(P16<>\"Finished\",\"\",VLOOKUP(O16,'Data for points'!$R$16:$Z$22,6,TRUE))","v":""},"","",{"$f":"MIN(IF($C$7:$C$46=C16,$X$7:$X$46,\"\"))","v":0},"","","","","","",""]
[null,null,null,null,null,null,null,null,null,0,0,null,null,null,0,null,"","","",{"$error":"#DIV/0!"},"",{"$f":"IF(P17<>\"Finished\",\"\",VLOOKUP(O17,'Data for points'!$R$16:$Z$22,6,TRUE))","v":""},"","",{"$f":"MIN(IF($C$7:$C$46=C17,$X$7:$X$46,\"\"))","v":0},"","","","","","",""]
[null,null,null,null,null,null,null,null,null,0,0,null,null,null,0,null,"","","",{"$error":"#DIV/0!"},"",{"$f":"IF(P18<>\"Finished\",\"\",VLOOKUP(O18,'Data for points'!$R$16:$Z$22,6,TRUE))","v":""},"","",{"$f":"MIN(IF($C$7:$C$46=C18,$X$7:$X$46,\"\"))","v":0},"","","","","","",""]
[null,null,null,null,null,null,null,null,null,0,0,null,null,null,0,null,"","","",{"$error":"#DIV/0!"},"",{"$f":"IF(P19<>\"Finished\",\"\",VLOOKUP(O19,'Data for points'!$R$16:$Z$22,6,TRUE))","v":""},"","",{"$f":"MIN(IF($C$7:$C$46=C19,$X$7:$X$46,\"\"))","v":0},"","","","","","",""]
[null,null,null,null,null,null,null,null,null,0,0,null,null,null,0,null,"","","",{"$error":"#DIV/0!"},"",{"$f":"IF(P20<>\"Finished\",\"\",VLOOKUP(O20,'Data for points'!$R$16:$Z$22,6,TRUE))","v":""},"","",{"$f":"MIN(IF($C$7:$C$46=C20,$X$7:$X$46,\"\"))","v":0},"","","","","","",""]
[null,null,null,null,null,null,null,null,null,0,0,null,null,null,0,null,"","","",{"$error":"#DIV/0!"},"",{"$f":"IF(P21<>\"Finished\",\"\",VLOOKUP(O21,'Data for points'!$R$16:$Z$22,6,TRUE))","v":""},"","",{"$f":"MIN(IF($C$7:$C$46=C21,$X$7:$X$46,\"\"))","v":0},"","","","","","",""]
[null,null,null,null,null,null,null,null,null,0,0,null,null,null,0,null,"","","",{"$error":"#DIV/0!"},"",{"$f":"IF(P22<>\"Finished\",\"\",VLOOKUP(O22,'Data for points'!$R$16:$Z$22,6,TRUE))","v":""},"","",{"$f":"MIN(IF($C$7:$C$46=C22,$X$7:$X$46,\"\"))","v":0},"","","","","","",""]
[null,null,null,null,null,null,null,null,null,0,0,null,null,null,0,null,"","","",{"$error":"#DIV/0!"},"",{"$f":"IF(P23<>\"Finished\",\"\",VLOOKUP(O23,'Data for points'!$R$16:$Z$22,6,TRUE))","v":""},"","",{"$f":"MIN(IF($C$7:$C$46=C23,$X$7:$X$46,\"\"))","v":0},"","","","","","",""]
[null,null,null,null,null,null,null,null,null,0,0,null,null,null,0,null,"","","",{"$error":"#DIV/0!"},"",{"$f":"IF(P24<>\"Finished\",\"\",VLOOKUP(O24,'Data for points'!$R$16:$Z$22,6,TRUE))","v":""},"","",{"$f":"MIN(IF($C$7:$C$46=C24,$X$7:$X$46,\"\"))","v":0},"","","","","","",""]
[null,null,null,null,null,null,null,null,null,0,0,null,null,null,0,null,"","","",{"$error":"#DIV/0!"},"",{"$f":"IF(P25<>\"Finished\",\"\",VLOOKUP(O25,'Data for points'!$R$16:$Z$22,6,TRUE))","v":""},"","",{"$f":"MIN(IF($C$7:$C$46=C25,$X$7:$X$46,\"\"))","v":0},"","","","","","",""]
[null,null,null,null,null,null,null,null,null,0,0,null,null,null,0,null,"","","",{"$error":"#DIV/0!"},"",{"$f":"IF(P26<>\"Finished\",\"\",VLOOKUP(O26,'Data for points'!$R$16:$Z$22,6,TRUE))","v":""},"","",{"$f":"MIN(IF($C$7:$C$46=C26,$X$7:$X$46,\"\"))","v":0},"","","","","","",""]
[null,null,null,null,null,null,null,null,null,0,0,null,null,null,0,null,"","","",{"$error":"#DIV/0!"},"",{"$f":"IF(P27<>\"Finished\",\"\",VLOOKUP(O27,'Data for points'!$R$16:$Z$22,6,TRUE))","v":""},"","",{"$f":"MIN(IF($C$7:$C$46=C27,$X$7:$X$46,\"\"))","v":0},"","","","","","",""]
[null,null,null,null,null,null,null,null,null,0,0,null,null,null,0,null,"","","",{"$error":"#DIV/0!"},"",{"$f":"IF(P28<>\"Finished\",\"\",VLOOKUP(O28,'Data for points'!$R$16:$Z$22,6,TRUE))","v":""},"","",{"$f":"MIN(IF($C$7:$C$46=C28,$X$7:$X$46,\"\"))","v":0},"","","","","","",""]
[null,null,null,null,null,null,null,null,null,0,0,null,null,null,0,null,"","","",{"$error":"#DIV/0!"},"",{"$f":"IF(P29<>\"Finished\",\"\",VLOOKUP(O29,'Data for points'!$R$16:$Z$22,6,TRUE))","v":""},"","",{"$f":"MIN(IF($C$7:$C$46=C29,$X$7:$X$46,\"\"))","v":0},"","","","","","",""]
[null,null,null,null,null,null,null,null,null,0,0,null,null,null,0,null,"","","",{"$error":"#DIV/0!"},"",{"$f":"IF(P30<>\"Finished\",\"\",VLOOKUP(O30,'Data for points'!$R$16:$Z$22,6,TRUE))","v":""},"","",{"$f":"MIN(IF($C$7:$C$46=C30,$X$7:$X$46,\"\"))","v":0},"","","","","","",""]
[null,null,null,null,null,null,null,null,null,0,0,null,null,null,0,null,"","","",{"$error":"#DIV/0!"},"",{"$f":"IF(P31<>\"Finished\",\"\",VLOOKUP(O31,'Data for points'!$R$16:$Z$22,6,TRUE))","v":""},"","",{"$f":"MIN(IF($C$7:$C$46=C31,$X$7:$X$46,\"\"))","v":0},"","","","","","",""]
[null,null,null,null,null,null,null,null,null,0,0,null,null,null,0,null,"","","",{"$error":"#DIV/0!"},"",{"$f":"IF(P32<>\"Finished\",\"\",VLOOKUP(O32,'Data for points'!$R$16:$Z$22,6,TRUE))","v":""},"","",{"$f":"MIN(IF($C$7:$C$46=C32,$X$7:$X$46,\"\"))","v":0},"","","","","","",""]
[null,null,null,null,null,null,null,null,null,0,0,null,null,null,0,null,"","","",{"$error":"#DIV/0!"},"",{"$f":"IF(P33<>\"Finished\",\"\",VLOOKUP(O33,'Data for points'!$R$16:$Z$22,6,TRUE))","v":""},"","",{"$f":"MIN(IF($C$7:$C$46=C33,$X$7:$X$46,\"\"))","v":0},"","","","","","",""]
[null,null,null,null,null,null,null,null,null,0,0,null,null,null,0,null,"","","",{"$error":"#DIV/0!"},"",{"$f":"IF(P34<>\"Finished\",\"\",VLOOKUP(O34,'Data for points'!$R$16:$Z$22,6,TRUE))","v":""},"","",{"$f":"MIN(IF($C$7:$C$46=C34,$X$7:$X$46,\"\"))","v":0},"","","","","","",""]
[null,null,null,null,null,null,null,null,null,0,0,null,null,null,0,null,"","","",{"$error":"#DIV/0!"},"",{"$f":"IF(P35<>\"Finished\",\"\",VLOOKUP(O35,'Data for points'!$R$16:$Z$22,6,TRUE))","v":""},"","",{"$f":"MIN(IF($C$7:$C$46=C35,$X$7:$X$46,\"\"))","v":0},"","","","","","",""]
[null,null,null,null,null,null,null,null,null,0,0,null,null,null,0,null,"","","",{"$error":"#DIV/0!"},"",{"$f":"IF(P36<>\"Finished\",\"\",VLOOKUP(O36,'Data for points'!$R$16:$Z$22,6,TRUE))","v":""},"","",{"$f":"MIN(IF($C$7:$C$46=C36,$X$7:$X$46,\"\"))","v":0},"","","","","","",""]
[null,null,null,null,null,null,null,null,null,0,0,null,null,null,0,null,"","","",{"$error":"#DIV/0!"},"",{"$f":"IF(P37<>\"Finished\",\"\",VLOOKUP(O37,'Data for points'!$R$16:$Z$22,6,TRUE))","v":""},"","",{"$f":"MIN(IF($C$7:$C$46=C37,$X$7:$X$46,\"\"))","v":0},"","","","","","",""]
[null,null,null,null,null,null,null,null,null,0,0,null,null,null,0,null,"","","",{"$error":"#DIV/0!"},"",{"$f":"IF(P38<>\"Finished\",\"\",VLOOKUP(O38,'Data for points'!$R$16:$Z$22,6,TRUE))","v":""},"","",{"$f":"MIN(IF($C$7:$C$46=C38,$X$7:$X$46,\"\"))","v":0},"","","","","","",""]
[null,null,null,null,null,null,null,null,null,0,0,null,null,null,0,null,"","","",{"$error":"#DIV/0!"},"",{"$f":"IF(P39<>\"Finished\",\"\",VLOOKUP(O39,'Data for points'!$R$16:$Z$22,6,TRUE))","v":""},"","",{"$f":"MIN(IF($C$7:$C$46=C39,$X$7:$X$46,\"\"))","v":0},"","","","","","",""]
[null,null,null,null,null,null,null,null,null,0,0,null,null,null,0,null,"","","",{"$error":"#DIV/0!"},"",{"$f":"IF(P40<>\"Finished\",\"\",VLOOKUP(O40,'Data for points'!$R$16:$Z$22,6,TRUE))","v":""},"","",{"$f":"MIN(IF($C$7:$C$46=C40,$X$7:$X$46,\"\"))","v":0},"","","","","","",""]
[null,null,null,null,null,null,null,null,null,0,0,null,null,null,0,null,"","","",{"$error":"#DIV/0!"},"",{"$f":"IF(P41<>\"Finished\",\"\",VLOOKUP(O41,'Data for points'!$R$16:$Z$22,6,TRUE))","v":""},"","",{"$f":"MIN(IF($C$7:$C$46=C41,$X$7:$X$46,\"\"))","v":0},"","","","","","",""]
[null,null,null,null,null,null,null,null,null,0,0,null,null,null,0,null,"","","",{"$error":"#DIV/0!"},"",{"$f":"IF(P42<>\"Finished\",\"\",VLOOKUP(O42,'Data for points'!$R$16:$Z$22,6,TRUE))","v":""},"","",{"$f":"MIN(IF($C$7:$C$46=C42,$X$7:$X$46,\"\"))","v":0},"","","","","","",""]
[null,null,null,null,null,null,null,null,null,0,0,null,null,null,0,null,"","","",{"$error":"#DIV/0!"},"",{"$f":"IF(P43<>\"Finished\",\"\",VLOOKUP(O43,'Data for points'!$R$16:$Z$22,6,TRUE))","v":""},"","",{"$f":"MIN(IF($C$7:$C$46=C43,$X$7:$X$46,\"\"))","v":0},"","","","","","",""]
[null,null,null,null,null,null,null,null,null,0,0,null,null,null,0,null,"","","",{"$error":"#DIV/0!"},"",{"$f":"IF(P44<>\"Finished\",\"\",VLOOKUP(O44,'Data for points'!$R$16:$Z$22,6,TRUE))","v":""},"","",{"$f":"MIN(IF($C$7:$C$46=C44,$X$7:$X$46,\"\"))","v":0},"","","","","","",""]
[null,null,null,null,null,null,null,null,null,0,0,null,null,null,0,null,"","","",{"$error":"#DIV/0!"},"",{"$f":"IF(P45<>\"Finished\",\"\",VLOOKUP(O45,'Data for points'!$R$16:$Z$22,6,TRUE))","v":""},"","",{"$f":"MIN(IF($C$7:$C$46=C45,$X$7:$X$46,\"\"))","v":0},"","","","","","",""]
[null,null,null,null,null,null,null,null,null,0,0,null,null,null,0,null,"","","",{"$error":"#DIV/0!"},"",{"$f":"IF(P46<>\"Finished\",\"\",VLOOKUP(O46,'Data for points'!$R$16:$Z$22,6,TRUE))","v":""},"","",{"$f":"MIN(IF($C$7:$C$46=C46,$X$7:$X$46,\"\"))","v":0},"","","","","","",""]
[]
[]
[]
[]
[]
[]
[]
[]
[]
[]
[]
[]
[]
[]
[]
[]
[]
[]
[]
[]
[]
[]
[]
[]
[]
[]
[]
[]
[]
[]
[]
[]
[]
[]
[]
[]
[]
[]
[]
[]
[]
[]
[]
[]
[]
[]
[]
[]
[]
[]
[]
[]
[]
[null,null,null,null,null,null,null,null,null,null,null,null,null,null,null,"Finished"]
[null,null,null,null,null,null,null,null,null,null,null,null,null,null,null,"Disqualified"]

{"sheet":"50m Manikin Carry Women Fin","index":23,"n_rows":101,"n_cols":32,"rows_kept":101,"cut":false,"hidden":false,"merged":[[1,10,1,11],[4,6,4,7],[4,9,4,10],[4,11,4,13]]}
[null,null,null,null,null,null,null,null,null,null,null,null,null,null,"UR in seconds"]
[null,"Women's",null,"50m Manikin Carry with Fins",null,null,null,null,null,null,"Club to \nHighlight",null,null,null,{"$f":"'Data for points'!N6","v":0},{"$f":"CONCATENATE(\"University  Record=\",INT(O2/60),\" minS\",MOD(O2,60),\" secs\")","v":"University  Record=0 minS0 secs"}]
[]
[]
["A University(Boolean)","Club Name","Club Code","Competitor","CompetitorID","AceptanceID","ID code",null,"Entry Time(Seconds)","Entry Time",null,"Time",null,null,"Time(seconds)","Finish \nStatus","TimeSand  DQs","Rank","Competition \nPlace","PointSCalculation","Lifesaving Points","Survive and Save Status","Squad List","Rank For \nSquadSMembers","Top Finisher for there Unit","Top finisher Select Competitor for ranking","Squad \nPoints","Uni Finishers","Student \nPoints","Non-Uni Finishers","Non-Student \nPoints"]
[null,null,null,null,null,null,null,null,null,"Mins","Seconds","Mins","Seconds","1/100"]
[0,"East Kilbride",37,"Lauren Wright",2966,3309,"S","F",45,{"$f":"INT(I7/60)","v":0},{"$f":"MOD(I7,60)","v":45},null,41,0,{"$f":"L7*60+M7+N7/100","v":41},"Finished",{"$f":"IF(P7<>\"Finished\",IF(P7<=0,\"\",P7),IF(P7=\"Finished\",IF(O7<=0,\"\",O7),\"\"))","v":41},{"$f":"IF(OR(LEFT(Q7,1)=\"D\",Q7=\"\"),\"\",RANK(Q7,$Q$7:$Q$46,1))","v":5},{"$f":"IF(LEFT(P7,1)=\"D\",MAX($R$7:$R$46)+1,R7)","v":5},{"$f":"(1-(O7-$O$2)/$O$2)*1000","v":{"$error":"#DIV/0!"}},{"$f":"IF(P7<>\"Finished\",\"\",IF(T7<0,0,T7))","v":{"$error":"#DIV/0!"}},{"$f":"IF(P7<>\"Finished\",\"\",VLOOKUP(O7,'Data for points'!$N$26:$Z$33,12,TRUE))","v":"Pass"},{"$f":"IF(G7=\"S\",S7,\"\")","v":5},{"$f":"IF(W7=\"\",\"\",RANK(W7,$W$7:$W$46,1))","v":5},{"$f":"MIN(IF($C$7:$C$46=C7,$X$7:$X$46,\"\"))","v":2},{"$f":"IF(Y7=X7,Y7,\"\")","v":""},{"$f":"IF(Z7=\"\",\"\",RANK(Z7,$Z$7:$Z$46,1))","v":""},{"$f":"IF(A7=1,AA7,\"\")","v":""},{"$f":"IF(AB7=\"\",\"\",RANK(AB7,$AB$7:$AB$46,1))","v":""},{"$f":"IF(A7=0,AA7,\"\")","v":""},{"$f":"IF(AD7=\"\",\"\",RANK(AD7,$AD$7:$AD$46,1))","v":""},{"$f":"IF(OR(P7<>\"Finished\",O7>$O$2),\"\",\"UR\")","v":""}]
[0,"East Kilbride",37,"Isobel Miller",2959,3267,"S","F",43,{"$f":"INT(I8/60)","v":0},{"$f":"MOD(I8,60)","v":43},null,36,20,{"$f":"L8*60+M8+N8/100","v":36.200000000000003},"Finished",{"$f":"IF(P8<>\"Finished\",IF(P8<=0,\"\",P8),IF(P8=\"Finished\",IF(O8<=0,\"\",O8),\"\"))","v":36.200000000000003},{"$f":"IF(OR(LEFT(Q8,1)=\"D\",Q8=\"\"),\"\",RANK(Q8,$Q$7:$Q$46,1))","v":3},{"$f":"IF(LEFT(P8,1)=\"D\",MAX($R$7:$R$46)+1,R8)","v":3},{"$f":"(1-(O8-$O$2)/$O$2)*1000","v":{"$error":"#DIV/0!"}},{"$f":"IF(P8<>\"Finished\",\"\",IF(T8<0,0,T8))","v":{"$error":"#DIV/0!"}},{"$f":"IF(P8<>\"Finished\",\"\",VLOOKUP(O8,'Data for points'!$N$26:$Z$33,12,TRUE))","v":"Very Good"},{"$f":"IF(G8=\"S\",S8,\"\")","v":3},{"$f":"IF(W8=\"\",\"\",RANK(W8,$W$7:$W$46,1))","v":3},{"$f":"MIN(IF($C$7:$C$46=C8,$X$7:$X$46,\"\"))","v":2},{"$f":"IF(Y8=X8,Y8,\"\")","v":""},{"$f":"IF(Z8=\"\",\"\",RANK(Z8,$Z$7:$Z$46,1))","v":""},{"$f":"IF(A8=1,AA8,\"\")","v":""},{"$f":"IF(AB8=\"\",\"\",RANK(AB8,$AB$7:$AB$46,1))","v":""},{"$f":"IF(A8=0,AA8,\"\")","v":""},"",{"$f":"IF(OR(P8<>\"Finished\",O8>$O$2),\"\",\"UR\")","v":""}]
[0,"Blyth",56,"Sam Carpenter",3003,3464,"S","F",32.590000000000003,0,32.590000000000003,null,32,43,32.43,"Finished",32.43,1,1,{"$error":"#DIV/0!"},{"$error":"#DIV/0!"},{"$f":"IF(P9<>\"Finished\",\"\",VLOOKUP(O9,'Data for points'!$N$26:$Z$33,12,TRUE))","v":"Champion"},1,1,{"$f":"MIN(IF($C$7:$C$46=C9,$X$7:$X$46,\"\"))","v":1},1,1,"","",1,1,""]
[0,"East Kilbride",37,"Iona Halford",2977,3316,"S","F",42,0,42,null,35,81,35.81,"Finished",35.81,2,2,{"$error":"#DIV/0!"},{"$error":"#DIV/0!"},{"$f":"IF(P10<>\"Finished\",\"\",VLOOKUP(O10,'Data for points'!$N$26:$Z$33,12,TRUE))","v":"Champion"},2,2,{"$f":"MIN(IF($C$7:$C$46=C10,$X$7:$X$46,\"\"))","v":2},2,2,"","",2,2,""]
[0,"Beeslack",52,"Shaunna Anderson",2956,3320,"S","F",44,0,44,null,36,96,36.96,"Finished",36.96,4,4,{"$error":"#DIV/0!"},{"$error":"#DIV/0!"},{"$f":"IF(P11<>\"Finished\",\"\",VLOOKUP(O11,'Data for points'!$N$26:$Z$33,12,TRUE))","v":"Very Good"},4,4,{"$f":"MIN(IF($C$7:$C$46=C11,$X$7:$X$46,\"\"))","v":4},4,3,"","",3,3,""]
[0,"East Kilbride",37,"Amy Domnican",2967,3238,"S","F",47,0,47,null,null,null,0,"DNS","DNS","",6,{"$error":"#DIV/0!"},"",{"$f":"IF(P12<>\"Finished\",\"\",VLOOKUP(O12,'Data for points'!$N$26:$Z$33,12,TRUE))","v":""},6,6,{"$f":"MIN(IF($C$7:$C$46=C12,$X$7:$X$46,\"\"))","v":2},"","","","","","",""]
[0,null,null,null,null,null,null,null,41,0,41,null,null,null,0,null,"","","",{"$error":"#DIV/0!"},"",{"$f":"IF(P13<>\"Finished\",\"\",VLOOKUP(O13,'Data for points'!$N$26:$Z$33,12,TRUE))","v":""},"","",{"$f":"MIN(IF($C$7:$C$46=C13,$X$7:$X$46,\"\"))","v":0},"","","","","","",""]
[0,null,null,null,null,null,null,null,50,0,50,null,null,null,0,null,"","","",{"$error":"#DIV/0!"},"",{"$f":"IF(P14<>\"Finished\",\"\",VLOOKUP(O14,'Data for points'!$N$26:$Z$33,12,TRUE))","v":""},"","",{"$f":"MIN(IF($C$7:$C$46=C14,$X$7:$X$46,\"\"))","v":0},"","","","","","",""]
[0,null,null,null,null,null,null,null,50,0,50,null,null,null,0,null,"","","",{"$error":"#DIV/0!"},"",{"$f":"IF(P15<>\"Finished\",\"\",VLOOKUP(O15,'Data for points'!$N$26:$Z$33,12,TRUE))","v":""},"","",{"$f":"MIN(IF($C$7:$C$46=C15,$X$7:$X$46,\"\"))","v":0},"","","","","","",""]
[null,null,null,null,null,null,null,null,null,0,0,null,null,null,0,null,"","","",{"$error":"#DIV/0!"},"",{"$f":"IF(P16<>\"Finished\",\"\",VLOOKUP(O16,'Data for points'!$N$26:$Z$33,12,TRUE))","v":""},"","",{"$f":"MIN(IF($C$7:$C$46=C16,$X$7:$X$46,\"\"))","v":0},"","","","","","",""]
[null,null,null,null,null,null,null,null,null,0,0,null,null,null,0,null,"","","",{"$error":"#DIV/0!"},"",{"$f":"IF(P17<>\"Finished\",\"\",VLOOKUP(O17,'Data for points'!$N$26:$Z$33,12,TRUE))","v":""},"","",{"$f":"MIN(IF($C$7:$C$46=C17,$X$7:$X$46,\"\"))","v":0},"","","","","","",""]
[null,null,null,null,null,null,null,null,null,0,0,null,null,null,0,null,"","","",{"$error":"#DIV/0!"},"",{"$f":"IF(P18<>\"Finished\",\"\",VLOOKUP(O18,'Data for points'!$N$26:$Z$33,12,TRUE))","v":""},"","",{"$f":"MIN(IF($C$7:$C$46=C18,$X$7:$X$46,\"\"))","v":0},"","","","","","",""]
[null,null,null,null,null,null,null,null,null,0,0,null,null,null,0,null,"","","",{"$error":"#DIV/0!"},"",{"$f":"IF(P19<>\"Finished\",\"\",VLOOKUP(O19,'Data for points'!$N$26:$Z$33,12,TRUE))","v":""},"","",{"$f":"MIN(IF($C$7:$C$46=C19,$X$7:$X$46,\"\"))","v":0},"","","","","","",""]
[null,null,null,null,null,null,null,null,null,0,0,null,null,null,0,null,"","","",{"$error":"#DIV/0!"},"",{"$f":"IF(P20<>\"Finished\",\"\",VLOOKUP(O20,'Data for points'!$N$26:$Z$33,12,TRUE))","v":""},"","",{"$f":"MIN(IF($C$7:$C$46=C20,$X$7:$X$46,\"\"))","v":0},"","","","","","",""]
[null,null,null,null,null,null,null,null,null,0,0,null,null,null,0,null,"","","",{"$error":"#DIV/0!"},"",{"$f":"IF(P21<>\"Finished\",\"\",VLOOKUP(O21,'Data for points'!$N$26:$Z$33,12,TRUE))","v":""},"","",{"$f":"MIN(IF($C$7:$C$46=C21,$X$7:$X$46,\"\"))","v":0},"","","","","","",""]
[null,null,null,null,null,null,null,null,null,0,0,null,null,null,0,null,"","","",{"$error":"#DIV/0!"},"",{"$f":"IF(P22<>\"Finished\",\"\",VLOOKUP(O22,'Data for points'!$N$26:$Z$33,12,TRUE))","v":""},"","",{"$f":"MIN(IF($C$7:$C$46=C22,$X$7:$X$46,\"\"))","v":0},"","","","","","",""]
[null,null,null,null,null,null,null,null,null,0,0,null,null,null,0,null,"","","",{"$error":"#DIV/0!"},"",{"$f":"IF(P23<>\"Finished\",\"\",VLOOKUP(O23,'Data for points'!$N$26:$Z$33,12,TRUE))","v":""},"","",{"$f":"MIN(IF($C$7:$C$46=C23,$X$7:$X$46,\"\"))","v":0},"","","","","","",""]
[null,null,null,null,null,null,null,null,null,0,0,null,null,null,0,null,"","","",{"$error":"#DIV/0!"},"",{"$f":"IF(P24<>\"Finished\",\"\",VLOOKUP(O24,'Data for points'!$N$26:$Z$33,12,TRUE))","v":""},"","",{"$f":"MIN(IF($C$7:$C$46=C24,$X$7:$X$46,\"\"))","v":0},"","","","","","",""]
[null,null,null,null,null,null,null,null,null,0,0,null,null,null,0,null,"","","",{"$error":"#DIV/0!"},"",{"$f":"IF(P25<>\"Finished\",\"\",VLOOKUP(O25,'Data for points'!$N$26:$Z$33,12,TRUE))","v":""},"","",{"$f":"MIN(IF($C$7:$C$46=C25,$X$7:$X$46,\"\"))","v":0},"","","","","","",""]
[null,null,null,null,null,null,null,null,null,0,0,null,null,null,0,null,"","","",{"$error":"#DIV/0!"},"",{"$f":"IF(P26<>\"Finished\",\"\",VLOOKUP(O26,'Data for points'!$N$26:$Z$33,12,TRUE))","v":""},"","",{"$f":"MIN(IF($C$7:$C$46=C26,$X$7:$X$46,\"\"))","v":0},"","","","","","",""]
[null,null,null,null,null,null,null,null,null,0,0,null,null,null,0,null,"","","",{"$error":"#DIV/0!"},"",{"$f":"IF(P27<>\"Finished\",\"\",VLOOKUP(O27,'Data for points'!$N$26:$Z$33,12,TRUE))","v":""},"","",{"$f":"MIN(IF($C$7:$C$46=C27,$X$7:$X$46,\"\"))","v":0},"","","","","","",""]
[null,null,null,null,null,null,null,null,null,0,0,null,null,null,0,null,"","","",{"$error":"#DIV/0!"},"",{"$f":"IF(P28<>\"Finished\",\"\",VLOOKUP(O28,'Data for points'!$N$26:$Z$33,12,TRUE))","v":""},"","",{"$f":"MIN(IF($C$7:$C$46=C28,$X$7:$X$46,\"\"))","v":0},"","","","","","",""]
[null,null,null,null,null,null,null,null,null,0,0,null,null,null,0,null,"","","",{"$error":"#DIV/0!"},"",{"$f":"IF(P29<>\"Finished\",\"\",VLOOKUP(O29,'Data for points'!$N$26:$Z$33,12,TRUE))","v":""},"","",{"$f":"MIN(IF($C$7:$C$46=C29,$X$7:$X$46,\"\"))","v":0},"","","","","","",""]
[null,null,null,null,null,null,null,null,null,0,0,null,null,null,0,null,"","","",{"$error":"#DIV/0!"},"",{"$f":"IF(P30<>\"Finished\",\"\",VLOOKUP(O30,'Data for points'!$N$26:$Z$33,12,TRUE))","v":""},"","",{"$f":"MIN(IF($C$7:$C$46=C30,$X$7:$X$46,\"\"))","v":0},"","","","","","",""]
[null,null,null,null,null,null,null,null,null,0,0,null,null,null,0,null,"","","",{"$error":"#DIV/0!"},"",{"$f":"IF(P31<>\"Finished\",\"\",VLOOKUP(O31,'Data for points'!$N$26:$Z$33,12,TRUE))","v":""},"","",{"$f":"MIN(IF($C$7:$C$46=C31,$X$7:$X$46,\"\"))","v":0},"","","","","","",""]
[null,null,null,null,null,null,null,null,null,0,0,null,null,null,0,null,"","","",{"$error":"#DIV/0!"},"",{"$f":"IF(P32<>\"Finished\",\"\",VLOOKUP(O32,'Data for points'!$N$26:$Z$33,12,TRUE))","v":""},"","",{"$f":"MIN(IF($C$7:$C$46=C32,$X$7:$X$46,\"\"))","v":0},"","","","","","",""]
[null,null,null,null,null,null,null,null,null,0,0,null,null,null,0,null,"","","",{"$error":"#DIV/0!"},"",{"$f":"IF(P33<>\"Finished\",\"\",VLOOKUP(O33,'Data for points'!$N$26:$Z$33,12,TRUE))","v":""},"","",{"$f":"MIN(IF($C$7:$C$46=C33,$X$7:$X$46,\"\"))","v":0},"","","","","","",""]
[null,null,null,null,null,null,null,null,null,0,0,null,null,null,0,null,"","","",{"$error":"#DIV/0!"},"",{"$f":"IF(P34<>\"Finished\",\"\",VLOOKUP(O34,'Data for points'!$N$26:$Z$33,12,TRUE))","v":""},"","",{"$f":"MIN(IF($C$7:$C$46=C34,$X$7:$X$46,\"\"))","v":0},"","","","","","",""]
[null,null,null,null,null,null,null,null,null,0,0,null,null,null,0,null,"","","",{"$error":"#DIV/0!"},"",{"$f":"IF(P35<>\"Finished\",\"\",VLOOKUP(O35,'Data for points'!$N$26:$Z$33,12,TRUE))","v":""},"","",{"$f":"MIN(IF($C$7:$C$46=C35,$X$7:$X$46,\"\"))","v":0},"","","","","","",""]
[null,null,null,null,null,null,null,null,null,0,0,null,null,null,0,null,"","","",{"$error":"#DIV/0!"},"",{"$f":"IF(P36<>\"Finished\",\"\",VLOOKUP(O36,'Data for points'!$N$26:$Z$33,12,TRUE))","v":""},"","",{"$f":"MIN(IF($C$7:$C$46=C36,$X$7:$X$46,\"\"))","v":0},"","","","","","",""]
[null,null,null,null,null,null,null,null,null,0,0,null,null,null,0,null,"","","",{"$error":"#DIV/0!"},"",{"$f":"IF(P37<>\"Finished\",\"\",VLOOKUP(O37,'Data for points'!$N$26:$Z$33,12,TRUE))","v":""},"","",{"$f":"MIN(IF($C$7:$C$46=C37,$X$7:$X$46,\"\"))","v":0},"","","","","","",""]
[null,null,null,null,null,null,null,null,null,0,0,null,null,null,0,null,"","","",{"$error":"#DIV/0!"},"",{"$f":"IF(P38<>\"Finished\",\"\",VLOOKUP(O38,'Data for points'!$N$26:$Z$33,12,TRUE))","v":""},"","",{"$f":"MIN(IF($C$7:$C$46=C38,$X$7:$X$46,\"\"))","v":0},"","","","","","",""]
[null,null,null,null,null,null,null,null,null,0,0,null,null,null,0,null,"","","",{"$error":"#DIV/0!"},"",{"$f":"IF(P39<>\"Finished\",\"\",VLOOKUP(O39,'Data for points'!$N$26:$Z$33,12,TRUE))","v":""},"","",{"$f":"MIN(IF($C$7:$C$46=C39,$X$7:$X$46,\"\"))","v":0},"","","","","","",""]
[null,null,null,null,null,null,null,null,null,0,0,null,null,null,0,null,"","","",{"$error":"#DIV/0!"},"",{"$f":"IF(P40<>\"Finished\",\"\",VLOOKUP(O40,'Data for points'!$N$26:$Z$33,12,TRUE))","v":""},"","",{"$f":"MIN(IF($C$7:$C$46=C40,$X$7:$X$46,\"\"))","v":0},"","","","","","",""]
[null,null,null,null,null,null,null,null,null,0,0,null,null,null,0,null,"","","",{"$error":"#DIV/0!"},"",{"$f":"IF(P41<>\"Finished\",\"\",VLOOKUP(O41,'Data for points'!$N$26:$Z$33,12,TRUE))","v":""},"","",{"$f":"MIN(IF($C$7:$C$46=C41,$X$7:$X$46,\"\"))","v":0},"","","","","","",""]
[null,null,null,null,null,null,null,null,null,0,0,null,null,null,0,null,"","","",{"$error":"#DIV/0!"},"",{"$f":"IF(P42<>\"Finished\",\"\",VLOOKUP(O42,'Data for points'!$N$26:$Z$33,12,TRUE))","v":""},"","",{"$f":"MIN(IF($C$7:$C$46=C42,$X$7:$X$46,\"\"))","v":0},"","","","","","",""]
[null,null,null,null,null,null,null,null,null,0,0,null,null,null,0,null,"","","",{"$error":"#DIV/0!"},"",{"$f":"IF(P43<>\"Finished\",\"\",VLOOKUP(O43,'Data for points'!$N$26:$Z$33,12,TRUE))","v":""},"","",{"$f":"MIN(IF($C$7:$C$46=C43,$X$7:$X$46,\"\"))","v":0},"","","","","","",""]
[null,null,null,null,null,null,null,null,null,0,0,null,null,null,0,null,"","","",{"$error":"#DIV/0!"},"",{"$f":"IF(P44<>\"Finished\",\"\",VLOOKUP(O44,'Data for points'!$N$26:$Z$33,12,TRUE))","v":""},"","",{"$f":"MIN(IF($C$7:$C$46=C44,$X$7:$X$46,\"\"))","v":0},"","","","","","",""]
[null,null,null,null,null,null,null,null,null,0,0,null,null,null,0,null,"","","",{"$error":"#DIV/0!"},"",{"$f":"IF(P45<>\"Finished\",\"\",VLOOKUP(O45,'Data for points'!$N$26:$Z$33,12,TRUE))","v":""},"","",{"$f":"MIN(IF($C$7:$C$46=C45,$X$7:$X$46,\"\"))","v":0},"","","","","","",""]
[null,null,null,null,null,null,null,null,null,0,0,null,null,null,0,null,"","","",{"$error":"#DIV/0!"},"",{"$f":"IF(P46<>\"Finished\",\"\",VLOOKUP(O46,'Data for points'!$N$26:$Z$33,12,TRUE))","v":""},"","",{"$f":"MIN(IF($C$7:$C$46=C46,$X$7:$X$46,\"\"))","v":0},"","","","","","",""]
[]
[]
[]
[]
[]
[]
[]
[]
[]
[]
[]
[]
[]
[]
[]
[]
[]
[]
[]
[]
[]
[]
[]
[]
[]
[]
[]
[]
[]
[]
[]
[]
[]
[]
[]
[]
[]
[]
[]
[]
[]
[]
[]
[]
[]
[]
[]
[]
[]
[]
[]
[]
[]
[null,null,null,null,null,null,null,null,null,null,null,null,null,null,null,"Finished"]
[null,null,null,null,null,null,null,null,null,null,null,null,null,null,null,"Disqualified"]

{"sheet":"50m Manikin Carry Men Fin","index":24,"n_rows":101,"n_cols":32,"rows_kept":101,"cut":false,"hidden":false,"merged":[[1,10,1,11],[4,6,4,7],[4,9,4,10],[4,11,4,13]]}
[null,null,null,null,null,null,null,null,null,null,null,null,null,null,"UR in seconds"]
[null,"Men's",null,"50m Manikin Carry with Fins",null,null,null,null,null,null,"Club to \nHighlight",null,null,null,{"$f":"'Data for points'!N5","v":0},{"$f":"CONCATENATE(\"University  Record=\",INT(O2/60),\" minS\",MOD(O2,60),\" secs\")","v":"University  Record=0 minS0 secs"}]
[]
[]
["A University(Boolean)","Club Name","Club Code","Competitor","CompetitorID","AceptanceID","ID code",null,"Entry Time(Seconds)","Entry Time",null,"Time",null,null,"Time(seconds)","Finish \nStatus","TimeSand  DQs","Rank","Competition \nPlace","PointSCalculation","Lifesaving Points","Survive and Save Status","Squad List","Rank For \nSquadSMembers","Top Finisher for there Unit","Top finisher Select Competitor for ranking","Squad \nPoints","Uni Finishers","Student \nPoints","Non-Uni Finishers","Non-Student \nPoints"]
[null,null,null,null,null,null,null,null,null,"Mins","Seconds","Mins","Seconds","1/100"]
[1,"London Universities",51,"Andrew Benson",2954,3226,"S","M",40,{"$f":"INT(I7/60)","v":0},{"$f":"MOD(I7,60)","v":40},null,null,null,{"$f":"L7*60+M7+N7/100","v":0},"DNS",{"$f":"IF(P7<>\"Finished\",IF(P7<=0,\"\",P7),IF(P7=\"Finished\",IF(O7<=0,\"\",O7),\"\"))","v":"DNS"},{"$f":"IF(OR(LEFT(Q7,1)=\"D\",Q7=\"\"),\"\",RANK(Q7,$Q$7:$Q$46,1))","v":""},{"$f":"IF(LEFT(P7,1)=\"D\",MAX($R$7:$R$46)+1,R7)","v":11},{"$f":"(1-(O7-$O$2)/$O$2)*1000","v":{"$error":"#DIV/0!"}},{"$f":"IF(P7<>\"Finished\",\"\",IF(T7<0,0,T7))","v":""},{"$f":"IF(P7<>\"Finished\",\"\",VLOOKUP(O7,'Data for points'!$N$16:$Z$23,12,TRUE))","v":""},{"$f":"IF(G7=\"S\",S7,\"\")","v":11},{"$f":"IF(W7=\"\",\"\",RANK(W7,$W$7:$W$46,1))","v":11},{"$f":"MIN(IF($C$7:$C$46=C7,$X$7:$X$46,\"\"))","v":11},{"$f":"IF(Y7=X7,Y7,\"\")","v":11},{"$f":"IF(Z7=\"\",\"\",RANK(Z7,$Z$7:$Z$46,1))","v":6},{"$f":"IF(A7=1,AA7,\"\")","v":6},{"$f":"IF(AB7=\"\",\"\",RANK(AB7,$AB$7:$AB$46,1))","v":1},{"$f":"IF(A7=0,AA7,\"\")","v":""},{"$f":"IF(AD7=\"\",\"\",RANK(AD7,$AD$7:$AD$46,1))","v":""},{"$f":"IF(OR(P7<>\"Finished\",O7>$O$2),\"\",\"UR\")","v":""}]
[0,"East Kilbride",37,"James Miller",2960,3298,"S","M",38,{"$f":"INT(I8/60)","v":0},{"$f":"MOD(I8,60)","v":38},null,31,99,{"$f":"L8*60+M8+N8/100","v":31.99},"Finished",{"$f":"IF(P8<>\"Finished\",IF(P8<=0,\"\",P8),IF(P8=\"Finished\",IF(O8<=0,\"\",O8),\"\"))","v":31.99},{"$f":"IF(OR(LEFT(Q8,1)=\"D\",Q8=\"\"),\"\",RANK(Q8,$Q$7:$Q$46,1))","v":8},{"$f":"IF(LEFT(P8,1)=\"D\",MAX($R$7:$R$46)+1,R8)","v":8},{"$f":"(1-(O8-$O$2)/$O$2)*1000","v":{"$error":"#DIV/0!"}},{"$f":"IF(P8<>\"Finished\",\"\",IF(T8<0,0,T8))","v":{"$error":"#DIV/0!"}},{"$f":"IF(P8<>\"Finished\",\"\",VLOOKUP(O8,'Data for points'!$N$16:$Z$23,12,TRUE))","v":"Good"},{"$f":"IF(G8=\"S\",S8,\"\")","v":8},{"$f":"IF(W8=\"\",\"\",RANK(W8,$W$7:$W$46,1))","v":8},{"$f":"MIN(IF($C$7:$C$46=C8,$X$7:$X$46,\"\"))","v":6},{"$f":"IF(Y8=X8,Y8,\"\")","v":""},{"$f":"IF(Z8=\"\",\"\",RANK(Z8,$Z$7:$Z$46,1))","v":""},{"$f":"IF(A8=1,AA8,\"\")","v":""},{"$f":"IF(AB8=\"\",\"\",RANK(AB8,$AB$7:$AB$46,1))","v":""},{"$f":"IF(A8=0,AA8,\"\")","v":""},"",{"$f":"IF(OR(P8<>\"Finished\",O8>$O$2),\"\",\"UR\")","v":""}]
[0,"East Kilbride",37,"Andrew McAllister",2971,3289,"S","M",34,0,34,null,28,56,28.56,"Finished",28.56,7,7,{"$error":"#DIV/0!"},{"$error":"#DIV/0!"},{"$f":"IF(P9<>\"Finished\",\"\",VLOOKUP(O9,'Data for points'!$N$16:$Z$23,12,TRUE))","v":"Excellent"},7,7,{"$f":"MIN(IF($C$7:$C$46=C9,$X$7:$X$46,\"\"))","v":6},"","","","","","",""]
[0,"East Kilbride",37,"Callum Young",2961,3291,"S","M",39,0,39,null,36,0,36,"Finished",36,9,9,{"$error":"#DIV/0!"},{"$error":"#DIV/0!"},{"$f":"IF(P10<>\"Finished\",\"\",VLOOKUP(O10,'Data for points'!$N$16:$Z$23,12,TRUE))","v":"Pass"},9,9,{"$f":"MIN(IF($C$7:$C$46=C10,$X$7:$X$46,\"\"))","v":6},"","","","","","",""]
[0,"Blyth",56,"Mark Chandler",3005,3481,"S","M",43,0,43,null,42,12,42.12,"Finished",42.12,10,10,{"$error":"#DIV/0!"},{"$error":"#DIV/0!"},{"$f":"IF(P11<>\"Finished\",\"\",VLOOKUP(O11,'Data for points'!$N$16:$Z$23,12,TRUE))","v":"Pass"},10,10,{"$f":"MIN(IF($C$7:$C$46=C11,$X$7:$X$46,\"\"))","v":4},"","","","","","",""]
[0,"Blyth",56,"Daniel Weightman",3004,3477,"S","M",27.46,0,27.46,null,27,3,27.03,"Finished",27.03,4,4,{"$error":"#DIV/0!"},{"$error":"#DIV/0!"},{"$f":"IF(P12<>\"Finished\",\"\",VLOOKUP(O12,'Data for points'!$N$16:$Z$23,12,TRUE))","v":"Champion"},4,4,{"$f":"MIN(IF($C$7:$C$46=C12,$X$7:$X$46,\"\"))","v":4},4,4,"","",4,4,""]
[0,"RLSS Uk Preformace",80,"Adam Threlfall",3016,3528,"S","M",26.57,0,26.57,null,25,22,25.22,"Finished",25.22,2,2,{"$error":"#DIV/0!"},{"$error":"#DIV/0!"},{"$f":"IF(P13<>\"Finished\",\"\",VLOOKUP(O13,'Data for points'!$N$16:$Z$23,12,TRUE))","v":"Champion"},2,2,{"$f":"MIN(IF($C$7:$C$46=C13,$X$7:$X$46,\"\"))","v":2},2,2,"","",2,2,""]
[0,"Beeslack",52,"Ben Witz",2958,3231,"S","M",25.62,0,25.62,null,25,31,25.31,"Finished",25.31,3,3,{"$error":"#DIV/0!"},{"$error":"#DIV/0!"},{"$f":"IF(P14<>\"Finished\",\"\",VLOOKUP(O14,'Data for points'!$N$16:$Z$23,12,TRUE))","v":"Champion"},3,3,{"$f":"MIN(IF($C$7:$C$46=C14,$X$7:$X$46,\"\"))","v":3},3,3,"","",3,3,""]
[0,"Crawley Town",23,"Andrew Kane",2975,3260,"S","M",26,0,26,null,24,43,24.43,"Finished",24.43,1,1,{"$error":"#DIV/0!"},{"$error":"#DIV/0!"},{"$f":"IF(P15<>\"Finished\",\"\",VLOOKUP(O15,'Data for points'!$N$16:$Z$23,12,TRUE))","v":"Champion"},1,1,{"$f":"MIN(IF($C$7:$C$46=C15,$X$7:$X$46,\"\"))","v":1},1,1,"","",1,1,""]
[0,"RLSS Uk Preformace",80,"Ruari Hurson",3015,3523,"S","M",27,0,27,null,27,37,27.37,"Finished",27.37,5,5,{"$error":"#DIV/0!"},{"$error":"#DIV/0!"},{"$f":"IF(P16<>\"Finished\",\"\",VLOOKUP(O16,'Data for points'!$N$16:$Z$23,12,TRUE))","v":"Excellent"},5,5,{"$f":"MIN(IF($C$7:$C$46=C16,$X$7:$X$46,\"\"))","v":2},"","","","","","",""]
[0,"East Kilbride",37,"Iain Wilson",2964,3306,"S","M",34,0,34,null,27,39,27.39,"Finished",27.39,6,6,{"$error":"#DIV/0!"},{"$error":"#DIV/0!"},{"$f":"IF(P17<>\"Finished\",\"\",VLOOKUP(O17,'Data for points'!$N$16:$Z$23,12,TRUE))","v":"Excellent"},6,6,{"$f":"MIN(IF($C$7:$C$46=C17,$X$7:$X$46,\"\"))","v":6},6,5,"","",5,5,""]
[null,null,null,null,null,null,null,null,null,0,0,null,null,null,0,null,"","","",{"$error":"#DIV/0!"},"",{"$f":"IF(P18<>\"Finished\",\"\",VLOOKUP(O18,'Data for points'!$N$16:$Z$23,12,TRUE))","v":""},"","",{"$f":"MIN(IF($C$7:$C$46=C18,$X$7:$X$46,\"\"))","v":0},"","","","","","",""]
[null,null,null,null,null,null,null,null,null,0,0,null,null,null,0,null,"","","",{"$error":"#DIV/0!"},"",{"$f":"IF(P19<>\"Finished\",\"\",VLOOKUP(O19,'Data for points'!$N$16:$Z$23,12,TRUE))","v":""},"","",{"$f":"MIN(IF($C$7:$C$46=C19,$X$7:$X$46,\"\"))","v":0},"","","","","","",""]
[null,null,null,null,null,null,null,null,null,0,0,null,null,null,0,null,"","","",{"$error":"#DIV/0!"},"",{"$f":"IF(P20<>\"Finished\",\"\",VLOOKUP(O20,'Data for points'!$N$16:$Z$23,12,TRUE))","v":""},"","",{"$f":"MIN(IF($C$7:$C$46=C20,$X$7:$X$46,\"\"))","v":0},"","","","","","",""]
[null,null,null,null,null,null,null,null,null,0,0,null,null,null,0,null,"","","",{"$error":"#DIV/0!"},"",{"$f":"IF(P21<>\"Finished\",\"\",VLOOKUP(O21,'Data for points'!$N$16:$Z$23,12,TRUE))","v":""},"","",{"$f":"MIN(IF($C$7:$C$46=C21,$X$7:$X$46,\"\"))","v":0},"","","","","","",""]
[null,null,null,null,null,null,null,null,null,0,0,null,null,null,0,null,"","","",{"$error":"#DIV/0!"},"",{"$f":"IF(P22<>\"Finished\",\"\",VLOOKUP(O22,'Data for points'!$N$16:$Z$23,12,TRUE))","v":""},"","",{"$f":"MIN(IF($C$7:$C$46=C22,$X$7:$X$46,\"\"))","v":0},"","","","","","",""]
[null,null,null,null,null,null,null,null,null,0,0,null,null,null,0,null,"","","",{"$error":"#DIV/0!"},"",{"$f":"IF(P23<>\"Finished\",\"\",VLOOKUP(O23,'Data for points'!$N$16:$Z$23,12,TRUE))","v":""},"","",{"$f":"MIN(IF($C$7:$C$46=C23,$X$7:$X$46,\"\"))","v":0},"","","","","","",""]
[null,null,null,null,null,null,null,null,null,0,0,null,null,null,0,null,"","","",{"$error":"#DIV/0!"},"",{"$f":"IF(P24<>\"Finished\",\"\",VLOOKUP(O24,'Data for points'!$N$16:$Z$23,12,TRUE))","v":""},"","",{"$f":"MIN(IF($C$7:$C$46=C24,$X$7:$X$46,\"\"))","v":0},"","","","","","",""]
[null,null,null,null,null,null,null,null,null,0,0,null,null,null,0,null,"","","",{"$error":"#DIV/0!"},"",{"$f":"IF(P25<>\"Finished\",\"\",VLOOKUP(O25,'Data for points'!$N$16:$Z$23,12,TRUE))","v":""},"","",{"$f":"MIN(IF($C$7:$C$46=C25,$X$7:$X$46,\"\"))","v":0},"","","","","","",""]
[null,null,null,null,null,null,null,null,null,0,0,null,null,null,0,null,"","","",{"$error":"#DIV/0!"},"",{"$f":"IF(P26<>\"Finished\",\"\",VLOOKUP(O26,'Data for points'!$N$16:$Z$23,12,TRUE))","v":""},"","",{"$f":"MIN(IF($C$7:$C$46=C26,$X$7:$X$46,\"\"))","v":0},"","","","","","",""]
[null,null,null,null,null,null,null,null,null,0,0,null,null,null,0,null,"","","",{"$error":"#DIV/0!"},"",{"$f":"IF(P27<>\"Finished\",\"\",VLOOKUP(O27,'Data for points'!$N$16:$Z$23,12,TRUE))","v":""},"","",{"$f":"MIN(IF($C$7:$C$46=C27,$X$7:$X$46,\"\"))","v":0},"","","","","","",""]
[null,null,null,null,null,null,null,null,null,0,0,null,null,null,0,null,"","","",{"$error":"#DIV/0!"},"",{"$f":"IF(P28<>\"Finished\",\"\",VLOOKUP(O28,'Data for points'!$N$16:$Z$23,12,TRUE))","v":""},"","",{"$f":"MIN(IF($C$7:$C$46=C28,$X$7:$X$46,\"\"))","v":0},"","","","","","",""]
[null,null,null,null,null,null,null,null,null,0,0,null,null,null,0,null,"","","",{"$error":"#DIV/0!"},"",{"$f":"IF(P29<>\"Finished\",\"\",VLOOKUP(O29,'Data for points'!$N$16:$Z$23,12,TRUE))","v":""},"","",{"$f":"MIN(IF($C$7:$C$46=C29,$X$7:$X$46,\"\"))","v":0},"","","","","","",""]
[null,null,null,null,null,null,null,null,null,0,0,null,null,null,0,null,"","","",{"$error":"#DIV/0!"},"",{"$f":"IF(P30<>\"Finished\",\"\",VLOOKUP(O30,'Data for points'!$N$16:$Z$23,12,TRUE))","v":""},"","",{"$f":"MIN(IF($C$7:$C$46=C30,$X$7:$X$46,\"\"))","v":0},"","","","","","",""]
[null,null,null,null,null,null,null,null,null,0,0,null,null,null,0,null,"","","",{"$error":"#DIV/0!"},"",{"$f":"IF(P31<>\"Finished\",\"\",VLOOKUP(O31,'Data for points'!$N$16:$Z$23,12,TRUE))","v":""},"","",{"$f":"MIN(IF($C$7:$C$46=C31,$X$7:$X$46,\"\"))","v":0},"","","","","","",""]
[null,null,null,null,null,null,null,null,null,0,0,null,null,null,0,null,"","","",{"$error":"#DIV/0!"},"",{"$f":"IF(P32<>\"Finished\",\"\",VLOOKUP(O32,'Data for points'!$N$16:$Z$23,12,TRUE))","v":""},"","",{"$f":"MIN(IF($C$7:$C$46=C32,$X$7:$X$46,\"\"))","v":0},"","","","","","",""]
[null,null,null,null,null,null,null,null,null,0,0,null,null,null,0,null,"","","",{"$error":"#DIV/0!"},"",{"$f":"IF(P33<>\"Finished\",\"\",VLOOKUP(O33,'Data for points'!$N$16:$Z$23,12,TRUE))","v":""},"","",{"$f":"MIN(IF($C$7:$C$46=C33,$X$7:$X$46,\"\"))","v":0},"","","","","","",""]
[null,null,null,null,null,null,null,null,null,0,0,null,null,null,0,null,"","","",{"$error":"#DIV/0!"},"",{"$f":"IF(P34<>\"Finished\",\"\",VLOOKUP(O34,'Data for points'!$N$16:$Z$23,12,TRUE))","v":""},"","",{"$f":"MIN(IF($C$7:$C$46=C34,$X$7:$X$46,\"\"))","v":0},"","","","","","",""]
[null,null,null,null,null,null,null,null,null,0,0,null,null,null,0,null,"","","",{"$error":"#DIV/0!"},"",{"$f":"IF(P35<>\"Finished\",\"\",VLOOKUP(O35,'Data for points'!$N$16:$Z$23,12,TRUE))","v":""},"","",{"$f":"MIN(IF($C$7:$C$46=C35,$X$7:$X$46,\"\"))","v":0},"","","","","","",""]
[null,null,null,null,null,null,null,null,null,0,0,null,null,null,0,null,"","","",{"$error":"#DIV/0!"},"",{"$f":"IF(P36<>\"Finished\",\"\",VLOOKUP(O36,'Data for points'!$N$16:$Z$23,12,TRUE))","v":""},"","",{"$f":"MIN(IF($C$7:$C$46=C36,$X$7:$X$46,\"\"))","v":0},"","","","","","",""]
[null,null,null,null,null,null,null,null,null,0,0,null,null,null,0,null,"","","",{"$error":"#DIV/0!"},"",{"$f":"IF(P37<>\"Finished\",\"\",VLOOKUP(O37,'Data for points'!$N$16:$Z$23,12,TRUE))","v":""},"","",{"$f":"MIN(IF($C$7:$C$46=C37,$X$7:$X$46,\"\"))","v":0},"","","","","","",""]
[null,null,null,null,null,null,null,null,null,0,0,null,null,null,0,null,"","","",{"$error":"#DIV/0!"},"",{"$f":"IF(P38<>\"Finished\",\"\",VLOOKUP(O38,'Data for points'!$N$16:$Z$23,12,TRUE))","v":""},"","",{"$f":"MIN(IF($C$7:$C$46=C38,$X$7:$X$46,\"\"))","v":0},"","","","","","",""]
[null,null,null,null,null,null,null,null,null,0,0,null,null,null,0,null,"","","",{"$error":"#DIV/0!"},"",{"$f":"IF(P39<>\"Finished\",\"\",VLOOKUP(O39,'Data for points'!$N$16:$Z$23,12,TRUE))","v":""},"","",{"$f":"MIN(IF($C$7:$C$46=C39,$X$7:$X$46,\"\"))","v":0},"","","","","","",""]
[null,null,null,null,null,null,null,null,null,0,0,null,null,null,0,null,"","","",{"$error":"#DIV/0!"},"",{"$f":"IF(P40<>\"Finished\",\"\",VLOOKUP(O40,'Data for points'!$N$16:$Z$23,12,TRUE))","v":""},"","",{"$f":"MIN(IF($C$7:$C$46=C40,$X$7:$X$46,\"\"))","v":0},"","","","","","",""]
[null,null,null,null,null,null,null,null,null,0,0,null,null,null,0,null,"","","",{"$error":"#DIV/0!"},"",{"$f":"IF(P41<>\"Finished\",\"\",VLOOKUP(O41,'Data for points'!$N$16:$Z$23,12,TRUE))","v":""},"","",{"$f":"MIN(IF($C$7:$C$46=C41,$X$7:$X$46,\"\"))","v":0},"","","","","","",""]
[null,null,null,null,null,null,null,null,null,0,0,null,null,null,0,null,"","","",{"$error":"#DIV/0!"},"",{"$f":"IF(P42<>\"Finished\",\"\",VLOOKUP(O42,'Data for points'!$N$16:$Z$23,12,TRUE))","v":""},"","",{"$f":"MIN(IF($C$7:$C$46=C42,$X$7:$X$46,\"\"))","v":0},"","","","","","",""]
[null,null,null,null,null,null,null,null,null,0,0,null,null,null,0,null,"","","",{"$error":"#DIV/0!"},"",{"$f":"IF(P43<>\"Finished\",\"\",VLOOKUP(O43,'Data for points'!$N$16:$Z$23,12,TRUE))","v":""},"","",{"$f":"MIN(IF($C$7:$C$46=C43,$X$7:$X$46,\"\"))","v":0},"","","","","","",""]
[null,null,null,null,null,null,null,null,null,0,0,null,null,null,0,null,"","","",{"$error":"#DIV/0!"},"",{"$f":"IF(P44<>\"Finished\",\"\",VLOOKUP(O44,'Data for points'!$N$16:$Z$23,12,TRUE))","v":""},"","",{"$f":"MIN(IF($C$7:$C$46=C44,$X$7:$X$46,\"\"))","v":0},"","","","","","",""]
[null,null,null,null,null,null,null,null,null,0,0,null,null,null,0,null,"","","",{"$error":"#DIV/0!"},"",{"$f":"IF(P45<>\"Finished\",\"\",VLOOKUP(O45,'Data for points'!$N$16:$Z$23,12,TRUE))","v":""},"","",{"$f":"MIN(IF($C$7:$C$46=C45,$X$7:$X$46,\"\"))","v":0},"","","","","","",""]
[null,null,null,null,null,null,null,null,null,0,0,null,null,null,0,null,"","","",{"$error":"#DIV/0!"},"",{"$f":"IF(P46<>\"Finished\",\"\",VLOOKUP(O46,'Data for points'!$N$16:$Z$23,12,TRUE))","v":""},"","",{"$f":"MIN(IF($C$7:$C$46=C46,$X$7:$X$46,\"\"))","v":0},"","","","","","",""]
[]
[]
[]
[]
[]
[]
[]
[]
[]
[]
[]
[]
[]
[]
[]
[]
[]
[]
[]
[]
[]
[]
[]
[]
[]
[]
[]
[]
[]
[]
[]
[]
[]
[]
[]
[]
[]
[]
[]
[]
[]
[]
[]
[]
[]
[]
[]
[]
[]
[]
[]
[]
[]
[null,null,null,null,null,null,null,null,null,null,null,null,null,null,null,"Finished"]
[null,null,null,null,null,null,null,null,null,null,null,null,null,null,null,"Disqualified"]

{"sheet":"25m Manikin Carry Men","index":25,"n_rows":101,"n_cols":32,"rows_kept":101,"cut":false,"hidden":false,"merged":[[1,10,1,11],[4,6,4,7],[4,9,4,10],[4,11,4,13]]}
[null,null,null,null,null,null,null,null,null,null,null,null,null,null,"UR in seconds"]
[null,"Men's",null,"25m Manikin Carry",null,null,null,null,null,null,"Club to \nHighlight",null,null,null,{"$f":"'Data for points'!M5","v":0},{"$f":"CONCATENATE(\"University  Record=\",INT(O2/60),\" minS\",MOD(O2,60),\" secs\")","v":"University  Record=0 minS0 secs"}]
[]
[]
["A University(Boolean)","Club Name","Club Code","Competitor","CompetitorID","AceptanceID","ID code",null,"Entry Time(Seconds)","Entry Time",null,"Time",null,null,"Time(seconds)","Finish \nStatus","TimeSand  DQs","Rank","Competition \nPlace","PointSCalculation","Lifesaving Points","Survive and Save Status","Squad List","Rank For \nSquadSMembers","Top Finisher for there Unit","Top finisher Select Competitor for ranking","Squad \nPoints","Uni Finishers","Student \nPoints","Non-Uni Finishers","Non-Student \nPoints"]
[null,null,null,null,null,null,null,null,null,"Mins","Seconds","Mins","Seconds","1/100"]
[1,"London Universities",51,"Andrew Benson",2954,3225,"S","M",25,{"$f":"INT(I7/60)","v":0},{"$f":"MOD(I7,60)","v":25},null,null,null,{"$f":"L7*60+M7+N7/100","v":0},"DNS",{"$f":"IF(P7<>\"Finished\",IF(P7<=0,\"\",P7),IF(P7=\"Finished\",IF(O7<=0,\"\",O7),\"\"))","v":"DNS"},{"$f":"IF(OR(LEFT(Q7,1)=\"D\",Q7=\"\"),\"\",RANK(Q7,$Q$7:$Q$46,1))","v":""},{"$f":"IF(LEFT(P7,1)=\"D\",MAX($R$7:$R$46)+1,R7)","v":11},{"$f":"(1-(O7-$O$2)/$O$2)*1000","v":{"$error":"#DIV/0!"}},{"$f":"IF(P7<>\"Finished\",\"\",IF(T7<0,0,T7))","v":""},{"$f":"IF(P7<>\"Finished\",\"\",VLOOKUP(O7,'Data for points'!$M$16:$Z$23,13,TRUE))","v":""},{"$f":"IF(G7=\"S\",S7,\"\")","v":11},{"$f":"IF(W7=\"\",\"\",RANK(W7,$W$7:$W$46,1))","v":11},{"$f":"MIN(IF($C$7:$C$46=C7,$X$7:$X$46,\"\"))","v":11},{"$f":"IF(Y7=X7,Y7,\"\")","v":11},{"$f":"IF(Z7=\"\",\"\",RANK(Z7,$Z$7:$Z$46,1))","v":6},{"$f":"IF(A7=1,AA7,\"\")","v":6},{"$f":"IF(AB7=\"\",\"\",RANK(AB7,$AB$7:$AB$46,1))","v":1},{"$f":"IF(A7=0,AA7,\"\")","v":""},{"$f":"IF(AD7=\"\",\"\",RANK(AD7,$AD$7:$AD$46,1))","v":""},{"$f":"IF(OR(P7<>\"Finished\",O7>$O$2),\"\",\"UR\")","v":""}]
[0,"East Kilbride",37,"James Miller",2960,3297,"S","M",21,{"$f":"INT(I8/60)","v":0},{"$f":"MOD(I8,60)","v":21},null,19,80,{"$f":"L8*60+M8+N8/100","v":19.8},"Finished",{"$f":"IF(P8<>\"Finished\",IF(P8<=0,\"\",P8),IF(P8=\"Finished\",IF(O8<=0,\"\",O8),\"\"))","v":19.8},{"$f":"IF(OR(LEFT(Q8,1)=\"D\",Q8=\"\"),\"\",RANK(Q8,$Q$7:$Q$46,1))","v":8},{"$f":"IF(LEFT(P8,1)=\"D\",MAX($R$7:$R$46)+1,R8)","v":8},{"$f":"(1-(O8-$O$2)/$O$2)*1000","v":{"$error":"#DIV/0!"}},{"$f":"IF(P8<>\"Finished\",\"\",IF(T8<0,0,T8))","v":{"$error":"#DIV/0!"}},{"$f":"IF(P8<>\"Finished\",\"\",VLOOKUP(O8,'Data for points'!$M$16:$Z$23,13,TRUE))","v":"Fair"},{"$f":"IF(G8=\"S\",S8,\"\")","v":8},{"$f":"IF(W8=\"\",\"\",RANK(W8,$W$7:$W$46,1))","v":8},{"$f":"MIN(IF($C$7:$C$46=C8,$X$7:$X$46,\"\"))","v":6},{"$f":"IF(Y8=X8,Y8,\"\")","v":""},{"$f":"IF(Z8=\"\",\"\",RANK(Z8,$Z$7:$Z$46,1))","v":""},{"$f":"IF(A8=1,AA8,\"\")","v":""},{"$f":"IF(AB8=\"\",\"\",RANK(AB8,$AB$7:$AB$46,1))","v":""},{"$f":"IF(A8=0,AA8,\"\")","v":""},"",{"$f":"IF(OR(P8<>\"Finished\",O8>$O$2),\"\",\"UR\")","v":""}]
[0,"East Kilbride",37,"Andrew McAllister",2971,3288,"S","M",20,0,20,null,18,75,18.75,"Finished",18.75,7,7,{"$error":"#DIV/0!"},{"$error":"#DIV/0!"},{"$f":"IF(P9<>\"Finished\",\"\",VLOOKUP(O9,'Data for points'!$M$16:$Z$23,13,TRUE))","v":"Good"},7,7,{"$f":"MIN(IF($C$7:$C$46=C9,$X$7:$X$46,\"\"))","v":6},"","","","","","",""]
[0,"East Kilbride",37,"Callum Young",2961,3290,"S","M",24,0,24,null,20,75,20.75,"Finished",20.75,9,9,{"$error":"#DIV/0!"},{"$error":"#DIV/0!"},{"$f":"IF(P10<>\"Finished\",\"\",VLOOKUP(O10,'Data for points'!$M$16:$Z$23,13,TRUE))","v":"Pass"},9,9,{"$f":"MIN(IF($C$7:$C$46=C10,$X$7:$X$46,\"\"))","v":6},"","","","","","",""]
[0,"Blyth",56,"Mark Chandler",3005,3480,"S","M",40.72,0,40.72,null,44,84,44.84,"Finished",44.84,10,10,{"$error":"#DIV/0!"},{"$error":"#DIV/0!"},{"$f":"IF(P11<>\"Finished\",\"\",VLOOKUP(O11,'Data for points'!$M$16:$Z$23,13,TRUE))","v":"N/A"},10,10,{"$f":"MIN(IF($C$7:$C$46=C11,$X$7:$X$46,\"\"))","v":2},"","","","","","",""]
[0,"RLSS Uk Preformace",80,"Ruari Hurson",3015,3522,"S","M",19,0,19,null,16,0,16,"Finished",16,4,4,{"$error":"#DIV/0!"},{"$error":"#DIV/0!"},{"$f":"IF(P12<>\"Finished\",\"\",VLOOKUP(O12,'Data for points'!$M$16:$Z$23,13,TRUE))","v":"Champion"},4,4,{"$f":"MIN(IF($C$7:$C$46=C12,$X$7:$X$46,\"\"))","v":3},"","","","","","",""]
[0,"RLSS Uk Preformace",80,"Adam Threlfall",3016,3527,"S","M",18.05,0,18.05,null,15,79,15.79,"Finished",15.79,3,3,{"$error":"#DIV/0!"},{"$error":"#DIV/0!"},{"$f":"IF(P13<>\"Finished\",\"\",VLOOKUP(O13,'Data for points'!$M$16:$Z$23,13,TRUE))","v":"Champion"},3,3,{"$f":"MIN(IF($C$7:$C$46=C13,$X$7:$X$46,\"\"))","v":3},3,3,"","",3,3,""]
[0,"Crawley Town",23,"Andrew Kane",2975,3259,"S","M",15,0,15,null,15,25,15.25,"Finished",15.25,1,1,{"$error":"#DIV/0!"},{"$error":"#DIV/0!"},{"$f":"IF(P14<>\"Finished\",\"\",VLOOKUP(O14,'Data for points'!$M$16:$Z$23,13,TRUE))","v":"Champion"},1,1,{"$f":"MIN(IF($C$7:$C$46=C14,$X$7:$X$46,\"\"))","v":1},1,1,"","",1,1,""]
[0,"Beeslack",52,"Ben Witz",2958,3228,"S","M",17.16,0,17.16,null,16,12,16.12,"Finished",16.12,5,5,{"$error":"#DIV/0!"},{"$error":"#DIV/0!"},{"$f":"IF(P15<>\"Finished\",\"\",VLOOKUP(O15,'Data for points'!$M$16:$Z$23,13,TRUE))","v":"Champion"},5,5,{"$f":"MIN(IF($C$7:$C$46=C15,$X$7:$X$46,\"\"))","v":5},5,4,"","",4,4,""]
[0,"Blyth",56,"Daniel Weightman",3004,3476,"S","M",18.989999999999998,0,18.989999999999998,null,15,59,15.59,"Finished",15.59,2,2,{"$error":"#DIV/0!"},{"$error":"#DIV/0!"},{"$f":"IF(P16<>\"Finished\",\"\",VLOOKUP(O16,'Data for points'!$M$16:$Z$23,13,TRUE))","v":"Champion"},2,2,{"$f":"MIN(IF($C$7:$C$46=C16,$X$7:$X$46,\"\"))","v":2},2,2,"","",2,2,""]
[0,"East Kilbride",37,"Iain Wilson",2964,3305,"S","M",19,0,19,null,16,71,16.71,"Finished",16.71,6,6,{"$error":"#DIV/0!"},{"$error":"#DIV/0!"},{"$f":"IF(P17<>\"Finished\",\"\",VLOOKUP(O17,'Data for points'!$M$16:$Z$23,13,TRUE))","v":"Champion"},6,6,{"$f":"MIN(IF($C$7:$C$46=C17,$X$7:$X$46,\"\"))","v":6},6,5,"","",5,5,""]
[null,null,null,null,null,null,null,null,null,0,0,null,null,null,0,null,"","","",{"$error":"#DIV/0!"},"",{"$f":"IF(P18<>\"Finished\",\"\",VLOOKUP(O18,'Data for points'!$M$16:$Z$23,13,TRUE))","v":""},"","",{"$f":"MIN(IF($C$7:$C$46=C18,$X$7:$X$46,\"\"))","v":0},"","","","","","",""]
[null,null,null,null,null,null,null,null,null,0,0,null,null,null,0,null,"","","",{"$error":"#DIV/0!"},"",{"$f":"IF(P19<>\"Finished\",\"\",VLOOKUP(O19,'Data for points'!$M$16:$Z$23,13,TRUE))","v":""},"","",{"$f":"MIN(IF($C$7:$C$46=C19,$X$7:$X$46,\"\"))","v":0},"","","","","","",""]
[null,null,null,null,null,null,null,null,null,0,0,null,null,null,0,null,"","","",{"$error":"#DIV/0!"},"",{"$f":"IF(P20<>\"Finished\",\"\",VLOOKUP(O20,'Data for points'!$M$16:$Z$23,13,TRUE))","v":""},"","",{"$f":"MIN(IF($C$7:$C$46=C20,$X$7:$X$46,\"\"))","v":0},"","","","","","",""]
[null,null,null,null,null,null,null,null,null,0,0,null,null,null,0,null,"","","",{"$error":"#DIV/0!"},"",{"$f":"IF(P21<>\"Finished\",\"\",VLOOKUP(O21,'Data for points'!$M$16:$Z$23,13,TRUE))","v":""},"","",{"$f":"MIN(IF($C$7:$C$46=C21,$X$7:$X$46,\"\"))","v":0},"","","","","","",""]
[null,null,null,null,null,null,null,null,null,0,0,null,null,null,0,null,"","","",{"$error":"#DIV/0!"},"",{"$f":"IF(P22<>\"Finished\",\"\",VLOOKUP(O22,'Data for points'!$M$16:$Z$23,13,TRUE))","v":""},"","",{"$f":"MIN(IF($C$7:$C$46=C22,$X$7:$X$46,\"\"))","v":0},"","","","","","",""]
[null,null,null,null,null,null,null,null,null,0,0,null,null,null,0,null,"","","",{"$error":"#DIV/0!"},"",{"$f":"IF(P23<>\"Finished\",\"\",VLOOKUP(O23,'Data for points'!$M$16:$Z$23,13,TRUE))","v":""},"","",{"$f":"MIN(IF($C$7:$C$46=C23,$X$7:$X$46,\"\"))","v":0},"","","","","","",""]
[null,null,null,null,null,null,null,null,null,0,0,null,null,null,0,null,"","","",{"$error":"#DIV/0!"},"",{"$f":"IF(P24<>\"Finished\",\"\",VLOOKUP(O24,'Data for points'!$M$16:$Z$23,13,TRUE))","v":""},"","",{"$f":"MIN(IF($C$7:$C$46=C24,$X$7:$X$46,\"\"))","v":0},"","","","","","",""]
[null,null,null,null,null,null,null,null,null,0,0,null,null,null,0,null,"","","",{"$error":"#DIV/0!"},"",{"$f":"IF(P25<>\"Finished\",\"\",VLOOKUP(O25,'Data for points'!$M$16:$Z$23,13,TRUE))","v":""},"","",{"$f":"MIN(IF($C$7:$C$46=C25,$X$7:$X$46,\"\"))","v":0},"","","","","","",""]
[null,null,null,null,null,null,null,null,null,0,0,null,null,null,0,null,"","","",{"$error":"#DIV/0!"},"",{"$f":"IF(P26<>\"Finished\",\"\",VLOOKUP(O26,'Data for points'!$M$16:$Z$23,13,TRUE))","v":""},"","",{"$f":"MIN(IF($C$7:$C$46=C26,$X$7:$X$46,\"\"))","v":0},"","","","","","",""]
[null,null,null,null,null,null,null,null,null,0,0,null,null,null,0,null,"","","",{"$error":"#DIV/0!"},"",{"$f":"IF(P27<>\"Finished\",\"\",VLOOKUP(O27,'Data for points'!$M$16:$Z$23,13,TRUE))","v":""},"","",{"$f":"MIN(IF($C$7:$C$46=C27,$X$7:$X$46,\"\"))","v":0},"","","","","","",""]
[null,null,null,null,null,null,null,null,null,0,0,null,null,null,0,null,"","","",{"$error":"#DIV/0!"},"",{"$f":"IF(P28<>\"Finished\",\"\",VLOOKUP(O28,'Data for points'!$M$16:$Z$23,13,TRUE))","v":""},"","",{"$f":"MIN(IF($C$7:$C$46=C28,$X$7:$X$46,\"\"))","v":0},"","","","","","",""]
[null,null,null,null,null,null,null,null,null,0,0,null,null,null,0,null,"","","",{"$error":"#DIV/0!"},"",{"$f":"IF(P29<>\"Finished\",\"\",VLOOKUP(O29,'Data for points'!$M$16:$Z$23,13,TRUE))","v":""},"","",{"$f":"MIN(IF($C$7:$C$46=C29,$X$7:$X$46,\"\"))","v":0},"","","","","","",""]
[null,null,null,null,null,null,null,null,null,0,0,null,null,null,0,null,"","","",{"$error":"#DIV/0!"},"",{"$f":"IF(P30<>\"Finished\",\"\",VLOOKUP(O30,'Data for points'!$M$16:$Z$23,13,TRUE))","v":""},"","",{"$f":"MIN(IF($C$7:$C$46=C30,$X$7:$X$46,\"\"))","v":0},"","","","","","",""]
[null,null,null,null,null,null,null,null,null,0,0,null,null,null,0,null,"","","",{"$error":"#DIV/0!"},"",{"$f":"IF(P31<>\"Finished\",\"\",VLOOKUP(O31,'Data for points'!$M$16:$Z$23,13,TRUE))","v":""},"","",{"$f":"MIN(IF($C$7:$C$46=C31,$X$7:$X$46,\"\"))","v":0},"","","","","","",""]
[null,null,null,null,null,null,null,null,null,0,0,null,null,null,0,null,"","","",{"$error":"#DIV/0!"},"",{"$f":"IF(P32<>\"Finished\",\"\",VLOOKUP(O32,'Data for points'!$M$16:$Z$23,13,TRUE))","v":""},"","",{"$f":"MIN(IF($C$7:$C$46=C32,$X$7:$X$46,\"\"))","v":0},"","","","","","",""]
[null,null,null,null,null,null,null,null,null,0,0,null,null,null,0,null,"","","",{"$error":"#DIV/0!"},"",{"$f":"IF(P33<>\"Finished\",\"\",VLOOKUP(O33,'Data for points'!$M$16:$Z$23,13,TRUE))","v":""},"","",{"$f":"MIN(IF($C$7:$C$46=C33,$X$7:$X$46,\"\"))","v":0},"","","","","","",""]
[null,null,null,null,null,null,null,null,null,0,0,null,null,null,0,null,"","","",{"$error":"#DIV/0!"},"",{"$f":"IF(P34<>\"Finished\",\"\",VLOOKUP(O34,'Data for points'!$M$16:$Z$23,13,TRUE))","v":""},"","",{"$f":"MIN(IF($C$7:$C$46=C34,$X$7:$X$46,\"\"))","v":0},"","","","","","",""]
[null,null,null,null,null,null,null,null,null,0,0,null,null,null,0,null,"","","",{"$error":"#DIV/0!"},"",{"$f":"IF(P35<>\"Finished\",\"\",VLOOKUP(O35,'Data for points'!$M$16:$Z$23,13,TRUE))","v":""},"","",{"$f":"MIN(IF($C$7:$C$46=C35,$X$7:$X$46,\"\"))","v":0},"","","","","","",""]
[null,null,null,null,null,null,null,null,null,0,0,null,null,null,0,null,"","","",{"$error":"#DIV/0!"},"",{"$f":"IF(P36<>\"Finished\",\"\",VLOOKUP(O36,'Data for points'!$M$16:$Z$23,13,TRUE))","v":""},"","",{"$f":"MIN(IF($C$7:$C$46=C36,$X$7:$X$46,\"\"))","v":0},"","","","","","",""]
[null,null,null,null,null,null,null,null,null,0,0,null,null,null,0,null,"","","",{"$error":"#DIV/0!"},"",{"$f":"IF(P37<>\"Finished\",\"\",VLOOKUP(O37,'Data for points'!$M$16:$Z$23,13,TRUE))","v":""},"","",{"$f":"MIN(IF($C$7:$C$46=C37,$X$7:$X$46,\"\"))","v":0},"","","","","","",""]
[null,null,null,null,null,null,null,null,null,0,0,null,null,null,0,null,"","","",{"$error":"#DIV/0!"},"",{"$f":"IF(P38<>\"Finished\",\"\",VLOOKUP(O38,'Data for points'!$M$16:$Z$23,13,TRUE))","v":""},"","",{"$f":"MIN(IF($C$7:$C$46=C38,$X$7:$X$46,\"\"))","v":0},"","","","","","",""]
[null,null,null,null,null,null,null,null,null,0,0,null,null,null,0,null,"","","",{"$error":"#DIV/0!"},"",{"$f":"IF(P39<>\"Finished\",\"\",VLOOKUP(O39,'Data for points'!$M$16:$Z$23,13,TRUE))","v":""},"","",{"$f":"MIN(IF($C$7:$C$46=C39,$X$7:$X$46,\"\"))","v":0},"","","","","","",""]
[null,null,null,null,null,null,null,null,null,0,0,null,null,null,0,null,"","","",{"$error":"#DIV/0!"},"",{"$f":"IF(P40<>\"Finished\",\"\",VLOOKUP(O40,'Data for points'!$M$16:$Z$23,13,TRUE))","v":""},"","",{"$f":"MIN(IF($C$7:$C$46=C40,$X$7:$X$46,\"\"))","v":0},"","","","","","",""]
[null,null,null,null,null,null,null,null,null,0,0,null,null,null,0,null,"","","",{"$error":"#DIV/0!"},"",{"$f":"IF(P41<>\"Finished\",\"\",VLOOKUP(O41,'Data for points'!$M$16:$Z$23,13,TRUE))","v":""},"","",{"$f":"MIN(IF($C$7:$C$46=C41,$X$7:$X$46,\"\"))","v":0},"","","","","","",""]
[null,null,null,null,null,null,null,null,null,0,0,null,null,null,0,null,"","","",{"$error":"#DIV/0!"},"",{"$f":"IF(P42<>\"Finished\",\"\",VLOOKUP(O42,'Data for points'!$M$16:$Z$23,13,TRUE))","v":""},"","",{"$f":"MIN(IF($C$7:$C$46=C42,$X$7:$X$46,\"\"))","v":0},"","","","","","",""]
[null,null,null,null,null,null,null,null,null,0,0,null,null,null,0,null,"","","",{"$error":"#DIV/0!"},"",{"$f":"IF(P43<>\"Finished\",\"\",VLOOKUP(O43,'Data for points'!$M$16:$Z$23,13,TRUE))","v":""},"","",{"$f":"MIN(IF($C$7:$C$46=C43,$X$7:$X$46,\"\"))","v":0},"","","","","","",""]
[null,null,null,null,null,null,null,null,null,0,0,null,null,null,0,null,"","","",{"$error":"#DIV/0!"},"",{"$f":"IF(P44<>\"Finished\",\"\",VLOOKUP(O44,'Data for points'!$M$16:$Z$23,13,TRUE))","v":""},"","",{"$f":"MIN(IF($C$7:$C$46=C44,$X$7:$X$46,\"\"))","v":0},"","","","","","",""]
[null,null,null,null,null,null,null,null,null,0,0,null,null,null,0,null,"","","",{"$error":"#DIV/0!"},"",{"$f":"IF(P45<>\"Finished\",\"\",VLOOKUP(O45,'Data for points'!$M$16:$Z$23,13,TRUE))","v":""},"","",{"$f":"MIN(IF($C$7:$C$46=C45,$X$7:$X$46,\"\"))","v":0},"","","","","","",""]
[null,null,null,null,null,null,null,null,null,0,0,null,null,null,0,null,"","","",{"$error":"#DIV/0!"},"",{"$f":"IF(P46<>\"Finished\",\"\",VLOOKUP(O46,'Data for points'!$M$16:$Z$23,13,TRUE))","v":""},"","",{"$f":"MIN(IF($C$7:$C$46=C46,$X$7:$X$46,\"\"))","v":0},"","","","","","",""]
[]
[]
[]
[]
[]
[]
[]
[]
[]
[]
[]
[]
[]
[]
[]
[]
[]
[]
[]
[]
[]
[]
[]
[]
[]
[]
[]
[]
[]
[]
[]
[]
[]
[]
[]
[]
[]
[]
[]
[]
[]
[]
[]
[]
[]
[]
[]
[]
[]
[]
[]
[]
[]
[null,null,null,null,null,null,null,null,null,null,null,null,null,null,null,"Finished"]
[null,null,null,null,null,null,null,null,null,null,null,null,null,null,null,"Disqualified"]

{"sheet":"25m Manikin Carry Women","index":26,"n_rows":101,"n_cols":32,"rows_kept":101,"cut":false,"hidden":false,"merged":[[1,10,1,11],[4,6,4,7],[4,9,4,10],[4,11,4,13]]}
[null,null,null,null,null,null,null,null,null,null,null,null,null,null,"UR in seconds"]
[null,"Women's",null,"25m Manikin Carry ",null,null,null,null,null,null,"Club to \nHighlight",null,null,null,{"$f":"'Data for points'!M6","v":0},{"$f":"CONCATENATE(\"University  Record=\",INT(O2/60),\" minS\",MOD(O2,60),\" secs\")","v":"University  Record=0 minS0 secs"}]
[]
[]
["A University(Boolean)","Club Name","Club Code","Competitor","CompetitorID","AceptanceID","ID code",null,"Entry Time(Seconds)","Entry Time",null,"Time",null,null,"Time(seconds)","Finish \nStatus","TimeSand  DQs","Rank","Competition \nPlace","PointSCalculation","Lifesaving Points","Survive and Save Status","Squad List","Rank For \nSquadSMembers","Top Finisher for there Unit","Top finisher Select Competitor for ranking","Squad \nPoints","Uni Finishers","Student \nPoints","Non-Uni Finishers","Non-Student \nPoints"]
[null,null,null,null,null,null,null,null,null,"Mins","Seconds","Mins","Seconds","1/100"]
[0,"East Kilbride",37,"Amy Domnican",2967,3237,"S","F",28,{"$f":"INT(I7/60)","v":0},{"$f":"MOD(I7,60)","v":28},null,null,null,{"$f":"L7*60+M7+N7/100","v":0},"DNS",{"$f":"IF(P7<>\"Finished\",IF(P7<=0,\"\",P7),IF(P7=\"Finished\",IF(O7<=0,\"\",O7),\"\"))","v":"DNS"},{"$f":"IF(OR(LEFT(Q7,1)=\"D\",Q7=\"\"),\"\",RANK(Q7,$Q$7:$Q$46,1))","v":""},{"$f":"IF(LEFT(P7,1)=\"D\",MAX($R$7:$R$46)+1,R7)","v":9},{"$f":"(1-(O7-$O$2)/$O$2)*1000","v":{"$error":"#DIV/0!"}},{"$f":"IF(P7<>\"Finished\",\"\",IF(T7<0,0,T7))","v":""},{"$f":"IF(P7<>\"Finished\",\"\",VLOOKUP(O7,'Data for points'!$M$26:$Z$33,13,TRUE))","v":""},{"$f":"IF(G7=\"S\",S7,\"\")","v":9},{"$f":"IF(W7=\"\",\"\",RANK(W7,$W$7:$W$46,1))","v":9},{"$f":"MIN(IF($C$7:$C$46=C7,$X$7:$X$46,\"\"))","v":1},{"$f":"IF(Y7=X7,Y7,\"\")","v":""},{"$f":"IF(Z7=\"\",\"\",RANK(Z7,$Z$7:$Z$46,1))","v":""},{"$f":"IF(A7=1,AA7,\"\")","v":""},{"$f":"IF(AB7=\"\",\"\",RANK(AB7,$AB$7:$AB$46,1))","v":""},{"$f":"IF(A7=0,AA7,\"\")","v":""},{"$f":"IF(AD7=\"\",\"\",RANK(AD7,$AD$7:$AD$46,1))","v":""},{"$f":"IF(OR(P7<>\"Finished\",O7>$O$2),\"\",\"UR\")","v":""}]
[0,"East Kilbride",37,"Lauren Wright",2966,3308,"S","F",28,{"$f":"INT(I8/60)","v":0},{"$f":"MOD(I8,60)","v":28},null,24,47,{"$f":"L8*60+M8+N8/100","v":24.47},"Finished",{"$f":"IF(P8<>\"Finished\",IF(P8<=0,\"\",P8),IF(P8=\"Finished\",IF(O8<=0,\"\",O8),\"\"))","v":24.47},{"$f":"IF(OR(LEFT(Q8,1)=\"D\",Q8=\"\"),\"\",RANK(Q8,$Q$7:$Q$46,1))","v":5},{"$f":"IF(LEFT(P8,1)=\"D\",MAX($R$7:$R$46)+1,R8)","v":5},{"$f":"(1-(O8-$O$2)/$O$2)*1000","v":{"$error":"#DIV/0!"}},{"$f":"IF(P8<>\"Finished\",\"\",IF(T8<0,0,T8))","v":{"$error":"#DIV/0!"}},{"$f":"IF(P8<>\"Finished\",\"\",VLOOKUP(O8,'Data for points'!$M$26:$Z$33,13,TRUE))","v":"Fair"},{"$f":"IF(G8=\"S\",S8,\"\")","v":5},{"$f":"IF(W8=\"\",\"\",RANK(W8,$W$7:$W$46,1))","v":5},{"$f":"MIN(IF($C$7:$C$46=C8,$X$7:$X$46,\"\"))","v":1},{"$f":"IF(Y8=X8,Y8,\"\")","v":""},{"$f":"IF(Z8=\"\",\"\",RANK(Z8,$Z$7:$Z$46,1))","v":""},{"$f":"IF(A8=1,AA8,\"\")","v":""},{"$f":"IF(AB8=\"\",\"\",RANK(AB8,$AB$7:$AB$46,1))","v":""},{"$f":"IF(A8=0,AA8,\"\")","v":""},"",{"$f":"IF(OR(P8<>\"Finished\",O8>$O$2),\"\",\"UR\")","v":""}]
[0,"Beeslack",52,"Shaunna Anderson",2956,3319,"S","F",32,0,32,null,25,71,25.71,"Finished",25.71,8,8,{"$error":"#DIV/0!"},{"$error":"#DIV/0!"},{"$f":"IF(P9<>\"Finished\",\"\",VLOOKUP(O9,'Data for points'!$M$26:$Z$33,13,TRUE))","v":"Pass"},8,8,{"$f":"MIN(IF($C$7:$C$46=C9,$X$7:$X$46,\"\"))","v":8},8,3,"","",3,3,""]
[0,"East Kilbride",37,"Alison Wilson",2965,3236,"S","F",26,0,26,null,23,16,23.16,"Finished",23.16,3,3,{"$error":"#DIV/0!"},{"$error":"#DIV/0!"},{"$f":"IF(P10<>\"Finished\",\"\",VLOOKUP(O10,'Data for points'!$M$26:$Z$33,13,TRUE))","v":"Very Good"},3,3,{"$f":"MIN(IF($C$7:$C$46=C10,$X$7:$X$46,\"\"))","v":1},"","","","","","",""]
[0,"East Kilbride",37,"Susan McAllister",2962,3286,"S","F",26,0,26,null,24,79,24.79,"Finished",24.79,7,7,{"$error":"#DIV/0!"},{"$error":"#DIV/0!"},{"$f":"IF(P11<>\"Finished\",\"\",VLOOKUP(O11,'Data for points'!$M$26:$Z$33,13,TRUE))","v":"Pass"},7,7,{"$f":"MIN(IF($C$7:$C$46=C11,$X$7:$X$46,\"\"))","v":1},"","","","","","",""]
[0,"Blyth",56,"Sam Carpenter",3003,3463,"S","F",22.68,0,22.68,null,21,47,21.47,"Finished",21.47,2,2,{"$error":"#DIV/0!"},{"$error":"#DIV/0!"},{"$f":"IF(P12<>\"Finished\",\"\",VLOOKUP(O12,'Data for points'!$M$26:$Z$33,13,TRUE))","v":"Excellent"},2,2,{"$f":"MIN(IF($C$7:$C$46=C12,$X$7:$X$46,\"\"))","v":2},2,2,"","",2,2,""]
[0,"East Kilbride",37,"Catherine Browne",2979,3330,"S","F",26,0,26,null,19,65,19.649999999999999,"Finished",19.649999999999999,1,1,{"$error":"#DIV/0!"},{"$error":"#DIV/0!"},{"$f":"IF(P13<>\"Finished\",\"\",VLOOKUP(O13,'Data for points'!$M$26:$Z$33,13,TRUE))","v":"Champion"},1,1,{"$f":"MIN(IF($C$7:$C$46=C13,$X$7:$X$46,\"\"))","v":1},1,1,"","",1,1,""]
[0,"East Kilbride",37,"Isobel Miller",2959,3266,"S","F",26,0,26,null,24,3,24.03,"Finished",24.03,4,4,{"$error":"#DIV/0!"},{"$error":"#DIV/0!"},{"$f":"IF(P14<>\"Finished\",\"\",VLOOKUP(O14,'Data for points'!$M$26:$Z$33,13,TRUE))","v":"Good"},4,4,{"$f":"MIN(IF($C$7:$C$46=C14,$X$7:$X$46,\"\"))","v":1},"","","","","","",""]
[0,"East Kilbride",37,"Iona Halford",2977,3314,"S","F",28,0,28,null,24,50,24.5,"Finished",24.5,6,6,{"$error":"#DIV/0!"},{"$error":"#DIV/0!"},{"$f":"IF(P15<>\"Finished\",\"\",VLOOKUP(O15,'Data for points'!$M$26:$Z$33,13,TRUE))","v":"Fair"},6,6,{"$f":"MIN(IF($C$7:$C$46=C15,$X$7:$X$46,\"\"))","v":1},"","","","","","",""]
[null,null,null,null,null,null,null,null,null,0,0,null,null,null,0,null,"","","",{"$error":"#DIV/0!"},"",{"$f":"IF(P16<>\"Finished\",\"\",VLOOKUP(O16,'Data for points'!$M$26:$Z$33,13,TRUE))","v":""},"","",{"$f":"MIN(IF($C$7:$C$46=C16,$X$7:$X$46,\"\"))","v":0},"","","","","","",""]
[null,null,null,null,null,null,null,null,null,0,0,null,null,null,0,null,"","","",{"$error":"#DIV/0!"},"",{"$f":"IF(P17<>\"Finished\",\"\",VLOOKUP(O17,'Data for points'!$M$26:$Z$33,13,TRUE))","v":""},"","",{"$f":"MIN(IF($C$7:$C$46=C17,$X$7:$X$46,\"\"))","v":0},"","","","","","",""]
[null,null,null,null,null,null,null,null,null,0,0,null,null,null,0,null,"","","",{"$error":"#DIV/0!"},"",{"$f":"IF(P18<>\"Finished\",\"\",VLOOKUP(O18,'Data for points'!$M$26:$Z$33,13,TRUE))","v":""},"","",{"$f":"MIN(IF($C$7:$C$46=C18,$X$7:$X$46,\"\"))","v":0},"","","","","","",""]
[null,null,null,null,null,null,null,null,null,0,0,null,null,null,0,null,"","","",{"$error":"#DIV/0!"},"",{"$f":"IF(P19<>\"Finished\",\"\",VLOOKUP(O19,'Data for points'!$M$26:$Z$33,13,TRUE))","v":""},"","",{"$f":"MIN(IF($C$7:$C$46=C19,$X$7:$X$46,\"\"))","v":0},"","","","","","",""]
[null,null,null,null,null,null,null,null,null,0,0,null,null,null,0,null,"","","",{"$error":"#DIV/0!"},"",{"$f":"IF(P20<>\"Finished\",\"\",VLOOKUP(O20,'Data for points'!$M$26:$Z$33,13,TRUE))","v":""},"","",{"$f":"MIN(IF($C$7:$C$46=C20,$X$7:$X$46,\"\"))","v":0},"","","","","","",""]
[null,null,null,null,null,null,null,null,null,0,0,null,null,null,0,null,"","","",{"$error":"#DIV/0!"},"",{"$f":"IF(P21<>\"Finished\",\"\",VLOOKUP(O21,'Data for points'!$M$26:$Z$33,13,TRUE))","v":""},"","",{"$f":"MIN(IF($C$7:$C$46=C21,$X$7:$X$46,\"\"))","v":0},"","","","","","",""]
[null,null,null,null,null,null,null,null,null,0,0,null,null,null,0,null,"","","",{"$error":"#DIV/0!"},"",{"$f":"IF(P22<>\"Finished\",\"\",VLOOKUP(O22,'Data for points'!$M$26:$Z$33,13,TRUE))","v":""},"","",{"$f":"MIN(IF($C$7:$C$46=C22,$X$7:$X$46,\"\"))","v":0},"","","","","","",""]
[null,null,null,null,null,null,null,null,null,0,0,null,null,null,0,null,"","","",{"$error":"#DIV/0!"},"",{"$f":"IF(P23<>\"Finished\",\"\",VLOOKUP(O23,'Data for points'!$M$26:$Z$33,13,TRUE))","v":""},"","",{"$f":"MIN(IF($C$7:$C$46=C23,$X$7:$X$46,\"\"))","v":0},"","","","","","",""]
[null,null,null,null,null,null,null,null,null,0,0,null,null,null,0,null,"","","",{"$error":"#DIV/0!"},"",{"$f":"IF(P24<>\"Finished\",\"\",VLOOKUP(O24,'Data for points'!$M$26:$Z$33,13,TRUE))","v":""},"","",{"$f":"MIN(IF($C$7:$C$46=C24,$X$7:$X$46,\"\"))","v":0},"","","","","","",""]
[null,null,null,null,null,null,null,null,null,0,0,null,null,null,0,null,"","","",{"$error":"#DIV/0!"},"",{"$f":"IF(P25<>\"Finished\",\"\",VLOOKUP(O25,'Data for points'!$M$26:$Z$33,13,TRUE))","v":""},"","",{"$f":"MIN(IF($C$7:$C$46=C25,$X$7:$X$46,\"\"))","v":0},"","","","","","",""]
[null,null,null,null,null,null,null,null,null,0,0,null,null,null,0,null,"","","",{"$error":"#DIV/0!"},"",{"$f":"IF(P26<>\"Finished\",\"\",VLOOKUP(O26,'Data for points'!$M$26:$Z$33,13,TRUE))","v":""},"","",{"$f":"MIN(IF($C$7:$C$46=C26,$X$7:$X$46,\"\"))","v":0},"","","","","","",""]
[null,null,null,null,null,null,null,null,null,0,0,null,null,null,0,null,"","","",{"$error":"#DIV/0!"},"",{"$f":"IF(P27<>\"Finished\",\"\",VLOOKUP(O27,'Data for points'!$M$26:$Z$33,13,TRUE))","v":""},"","",{"$f":"MIN(IF($C$7:$C$46=C27,$X$7:$X$46,\"\"))","v":0},"","","","","","",""]
[null,null,null,null,null,null,null,null,null,0,0,null,null,null,0,null,"","","",{"$error":"#DIV/0!"},"",{"$f":"IF(P28<>\"Finished\",\"\",VLOOKUP(O28,'Data for points'!$M$26:$Z$33,13,TRUE))","v":""},"","",{"$f":"MIN(IF($C$7:$C$46=C28,$X$7:$X$46,\"\"))","v":0},"","","","","","",""]
[null,null,null,null,null,null,null,null,null,0,0,null,null,null,0,null,"","","",{"$error":"#DIV/0!"},"",{"$f":"IF(P29<>\"Finished\",\"\",VLOOKUP(O29,'Data for points'!$M$26:$Z$33,13,TRUE))","v":""},"","",{"$f":"MIN(IF($C$7:$C$46=C29,$X$7:$X$46,\"\"))","v":0},"","","","","","",""]
[null,null,null,null,null,null,null,null,null,0,0,null,null,null,0,null,"","","",{"$error":"#DIV/0!"},"",{"$f":"IF(P30<>\"Finished\",\"\",VLOOKUP(O30,'Data for points'!$M$26:$Z$33,13,TRUE))","v":""},"","",{"$f":"MIN(IF($C$7:$C$46=C30,$X$7:$X$46,\"\"))","v":0},"","","","","","",""]
[null,null,null,null,null,null,null,null,null,0,0,null,null,null,0,null,"","","",{"$error":"#DIV/0!"},"",{"$f":"IF(P31<>\"Finished\",\"\",VLOOKUP(O31,'Data for points'!$M$26:$Z$33,13,TRUE))","v":""},"","",{"$f":"MIN(IF($C$7:$C$46=C31,$X$7:$X$46,\"\"))","v":0},"","","","","","",""]
[null,null,null,null,null,null,null,null,null,0,0,null,null,null,0,null,"","","",{"$error":"#DIV/0!"},"",{"$f":"IF(P32<>\"Finished\",\"\",VLOOKUP(O32,'Data for points'!$M$26:$Z$33,13,TRUE))","v":""},"","",{"$f":"MIN(IF($C$7:$C$46=C32,$X$7:$X$46,\"\"))","v":0},"","","","","","",""]
[null,null,null,null,null,null,null,null,null,0,0,null,null,null,0,null,"","","",{"$error":"#DIV/0!"},"",{"$f":"IF(P33<>\"Finished\",\"\",VLOOKUP(O33,'Data for points'!$M$26:$Z$33,13,TRUE))","v":""},"","",{"$f":"MIN(IF($C$7:$C$46=C33,$X$7:$X$46,\"\"))","v":0},"","","","","","",""]
[null,null,null,null,null,null,null,null,null,0,0,null,null,null,0,null,"","","",{"$error":"#DIV/0!"},"",{"$f":"IF(P34<>\"Finished\",\"\",VLOOKUP(O34,'Data for points'!$M$26:$Z$33,13,TRUE))","v":""},"","",{"$f":"MIN(IF($C$7:$C$46=C34,$X$7:$X$46,\"\"))","v":0},"","","","","","",""]
[null,null,null,null,null,null,null,null,null,0,0,null,null,null,0,null,"","","",{"$error":"#DIV/0!"},"",{"$f":"IF(P35<>\"Finished\",\"\",VLOOKUP(O35,'Data for points'!$M$26:$Z$33,13,TRUE))","v":""},"","",{"$f":"MIN(IF($C$7:$C$46=C35,$X$7:$X$46,\"\"))","v":0},"","","","","","",""]
[null,null,null,null,null,null,null,null,null,0,0,null,null,null,0,null,"","","",{"$error":"#DIV/0!"},"",{"$f":"IF(P36<>\"Finished\",\"\",VLOOKUP(O36,'Data for points'!$M$26:$Z$33,13,TRUE))","v":""},"","",{"$f":"MIN(IF($C$7:$C$46=C36,$X$7:$X$46,\"\"))","v":0},"","","","","","",""]
[null,null,null,null,null,null,null,null,null,0,0,null,null,null,0,null,"","","",{"$error":"#DIV/0!"},"",{"$f":"IF(P37<>\"Finished\",\"\",VLOOKUP(O37,'Data for points'!$M$26:$Z$33,13,TRUE))","v":""},"","",{"$f":"MIN(IF($C$7:$C$46=C37,$X$7:$X$46,\"\"))","v":0},"","","","","","",""]
[null,null,null,null,null,null,null,null,null,0,0,null,null,null,0,null,"","","",{"$error":"#DIV/0!"},"",{"$f":"IF(P38<>\"Finished\",\"\",VLOOKUP(O38,'Data for points'!$M$26:$Z$33,13,TRUE))","v":""},"","",{"$f":"MIN(IF($C$7:$C$46=C38,$X$7:$X$46,\"\"))","v":0},"","","","","","",""]
[null,null,null,null,null,null,null,null,null,0,0,null,null,null,0,null,"","","",{"$error":"#DIV/0!"},"",{"$f":"IF(P39<>\"Finished\",\"\",VLOOKUP(O39,'Data for points'!$M$26:$Z$33,13,TRUE))","v":""},"","",{"$f":"MIN(IF($C$7:$C$46=C39,$X$7:$X$46,\"\"))","v":0},"","","","","","",""]
[null,null,null,null,null,null,null,null,null,0,0,null,null,null,0,null,"","","",{"$error":"#DIV/0!"},"",{"$f":"IF(P40<>\"Finished\",\"\",VLOOKUP(O40,'Data for points'!$M$26:$Z$33,13,TRUE))","v":""},"","",{"$f":"MIN(IF($C$7:$C$46=C40,$X$7:$X$46,\"\"))","v":0},"","","","","","",""]
[null,null,null,null,null,null,null,null,null,0,0,null,null,null,0,null,"","","",{"$error":"#DIV/0!"},"",{"$f":"IF(P41<>\"Finished\",\"\",VLOOKUP(O41,'Data for points'!$M$26:$Z$33,13,TRUE))","v":""},"","",{"$f":"MIN(IF($C$7:$C$46=C41,$X$7:$X$46,\"\"))","v":0},"","","","","","",""]
[null,null,null,null,null,null,null,null,null,0,0,null,null,null,0,null,"","","",{"$error":"#DIV/0!"},"",{"$f":"IF(P42<>\"Finished\",\"\",VLOOKUP(O42,'Data for points'!$M$26:$Z$33,13,TRUE))","v":""},"","",{"$f":"MIN(IF($C$7:$C$46=C42,$X$7:$X$46,\"\"))","v":0},"","","","","","",""]
[null,null,null,null,null,null,null,null,null,0,0,null,null,null,0,null,"","","",{"$error":"#DIV/0!"},"",{"$f":"IF(P43<>\"Finished\",\"\",VLOOKUP(O43,'Data for points'!$M$26:$Z$33,13,TRUE))","v":""},"","",{"$f":"MIN(IF($C$7:$C$46=C43,$X$7:$X$46,\"\"))","v":0},"","","","","","",""]
[null,null,null,null,null,null,null,null,null,0,0,null,null,null,0,null,"","","",{"$error":"#DIV/0!"},"",{"$f":"IF(P44<>\"Finished\",\"\",VLOOKUP(O44,'Data for points'!$M$26:$Z$33,13,TRUE))","v":""},"","",{"$f":"MIN(IF($C$7:$C$46=C44,$X$7:$X$46,\"\"))","v":0},"","","","","","",""]
[null,null,null,null,null,null,null,null,null,0,0,null,null,null,0,null,"","","",{"$error":"#DIV/0!"},"",{"$f":"IF(P45<>\"Finished\",\"\",VLOOKUP(O45,'Data for points'!$M$26:$Z$33,13,TRUE))","v":""},"","",{"$f":"MIN(IF($C$7:$C$46=C45,$X$7:$X$46,\"\"))","v":0},"","","","","","",""]
[null,null,null,null,null,null,null,null,null,0,0,null,null,null,0,null,"","","",{"$error":"#DIV/0!"},"",{"$f":"IF(P46<>\"Finished\",\"\",VLOOKUP(O46,'Data for points'!$M$26:$Z$33,13,TRUE))","v":""},"","",{"$f":"MIN(IF($C$7:$C$46=C46,$X$7:$X$46,\"\"))","v":0},"","","","","","",""]
[]
[]
[]
[]
[]
[]
[]
[]
[]
[]
[]
[]
[]
[]
[]
[]
[]
[]
[]
[]
[]
[]
[]
[]
[]
[]
[]
[]
[]
[]
[]
[]
[]
[]
[]
[]
[]
[]
[]
[]
[]
[]
[]
[]
[]
[]
[]
[]
[]
[]
[]
[]
[]
[null,null,null,null,null,null,null,null,null,null,null,null,null,null,null,"Finished"]
[null,null,null,null,null,null,null,null,null,null,null,null,null,null,null,"Disqualified"]

{"sheet":"50m Manikin Carry Women","index":27,"n_rows":101,"n_cols":32,"rows_kept":101,"cut":false,"hidden":true,"merged":[[4,6,4,7],[4,9,4,10],[4,11,4,13],[1,10,1,11]]}
[null,null,null,null,null,null,null,null,null,null,null,null,null,null,"UR in seconds"]
[null,"Women's",null,"50m Manikin Carry",null,null,null,null,null,null,"Club to \nHighlight",null,null,null,{"$f":"'Data for points'!B6","v":0},{"$f":"CONCATENATE(\"University  Record=\",INT(O2/60),\" minS\",MOD(O2,60),\" secs\")","v":"University  Record=0 minS0 secs"}]
[]
[]
["A University(Boolean)","Club Name","Club Code","Competitor","CompetitorID","AceptanceID","ID code",null,"Entry Time(Seconds)","Entry Time",null,"Time",null,null,"Time(seconds)","Finish \nStatus","TimeSand  DQs","Rank","Competition \nPlace","PointSCalculation","Lifesaving Points","Survive and Save Status","Squad List","Rank For \nSquadSMembers","Top Finisher for there Unit","Top finisher Select Competitor for ranking","Squad\n Points","Uni Finishers","Student \nPoints","Non-Uni Finishers","Non-Student \nPoints"]
[null,null,null,null,null,null,null,null,null,"Mins","Seconds","Mins","Seconds","1/100"]
[null,null,null,null,null,null,null,null,null,{"$f":"INT(I7/60)","v":0},{"$f":"MOD(I7,60)","v":0},null,null,null,{"$f":"L7*60+M7+N7/100","v":0},null,{"$f":"IF(P7<>\"Finished\",IF(P7<=0,\"\",P7),IF(P7=\"Finished\",IF(O7<=0,\"\",O7),\"\"))","v":""},{"$f":"IF(OR(LEFT(Q7,1)=\"D\",Q7=\"\"),\"\",RANK(Q7,$Q$7:$Q$46,1))","v":""},{"$f":"IF(LEFT(P7,1)=\"D\",MAX($R$7:$R$46)+1,R7)","v":""},{"$f":"(1-(O7-$O$2)/$O$2)*1000","v":{"$error":"#DIV/0!"}},{"$f":"IF(P7<>\"Finished\",\"\",IF(T7<0,0,T7))","v":""},{"$f":"IF(P7<>\"Finished\",\"\",VLOOKUP(O7,'Data for points'!$B$26:$Z$33,22,TRUE))","v":""},{"$f":"IF(G7=\"S\",S7,\"\")","v":""},{"$f":"IF(W7=\"\",\"\",RANK(W7,$W$7:$W$46,1))","v":""},{"$f":"MIN(IF($C$7:$C$46=C7,$X$7:$X$46,\"\"))","v":0},{"$f":"IF(Y7=X7,Y7,\"\")","v":""},{"$f":"IF(Z7=\"\",\"\",RANK(Z7,$Z$7:$Z$46,1))","v":""},{"$f":"IF(A7=1,AA7,\"\")","v":""},{"$f":"IF(AB7=\"\",\"\",RANK(AB7,$AB$7:$AB$46,1))","v":""},{"$f":"IF(A7=0,AA7,\"\")","v":""},{"$f":"IF(AD7=\"\",\"\",RANK(AD7,$AD$7:$AD$46,1))","v":""},{"$f":"IF(OR(P7<>\"Finished\",O7>$O$2),\"\",\"UR\")","v":""}]
[null,null,null,null,null,null,null,null,null,{"$f":"INT(I8/60)","v":0},{"$f":"MOD(I8,60)","v":0},null,null,null,0,null,{"$f":"IF(P8<>\"Finished\",IF(P8<=0,\"\",P8),IF(P8=\"Finished\",IF(O8<=0,\"\",O8),\"\"))","v":""},{"$f":"IF(OR(LEFT(Q8,1)=\"D\",Q8=\"\"),\"\",RANK(Q8,$Q$7:$Q$46,1))","v":""},{"$f":"IF(LEFT(P8,1)=\"D\",MAX($R$7:$R$46)+1,R8)","v":""},{"$f":"(1-(O8-$O$2)/$O$2)*1000","v":{"$error":"#DIV/0!"}},{"$f":"IF(P8<>\"Finished\",\"\",IF(T8<0,0,T8))","v":""},{"$f":"IF(P8<>\"Finished\",\"\",VLOOKUP(O8,'Data for points'!$B$26:$Z$33,22,TRUE))","v":""},"",{"$f":"IF(W8=\"\",\"\",RANK(W8,$W$7:$W$46,1))","v":""},{"$f":"MIN(IF($C$7:$C$46=C8,$X$7:$X$46,\"\"))","v":0},{"$f":"IF(Y8=X8,Y8,\"\")","v":""},{"$f":"IF(Z8=\"\",\"\",RANK(Z8,$Z$7:$Z$46,1))","v":""},"",{"$f":"IF(AB8=\"\",\"\",RANK(AB8,$AB$7:$AB$46,1))","v":""},"",{"$f":"IF(AD8=\"\",\"\",RANK(AD8,$AD$7:$AD$46,1))","v":""},{"$f":"IF(OR(P8<>\"Finished\",O8>$O$2),\"\",\"UR\")","v":""}]
[null,null,null,null,null,null,null,null,null,0,0,null,null,null,0,null,"","","",{"$error":"#DIV/0!"},"",{"$f":"IF(P9<>\"Finished\",\"\",VLOOKUP(O9,'Data for points'!$B$26:$Z$33,22,TRUE))","v":""},"","",{"$f":"MIN(IF($C$7:$C$46=C9,$X$7:$X$46,\"\"))","v":0},"","","","","","",""]
[null,null,null,null,null,null,null,null,null,0,0,null,null,null,0,null,"","","",{"$error":"#DIV/0!"},"",{"$f":"IF(P10<>\"Finished\",\"\",VLOOKUP(O10,'Data for points'!$B$26:$Z$33,22,TRUE))","v":""},"","",{"$f":"MIN(IF($C$7:$C$46=C10,$X$7:$X$46,\"\"))","v":0},"","","","","","",""]
[null,null,null,null,null,null,null,null,null,0,0,null,null,null,0,null,"","","",{"$error":"#DIV/0!"},"",{"$f":"IF(P11<>\"Finished\",\"\",VLOOKUP(O11,'Data for points'!$B$26:$Z$33,22,TRUE))","v":""},"","",{"$f":"MIN(IF($C$7:$C$46=C11,$X$7:$X$46,\"\"))","v":0},"","","","","","",""]
[null,null,null,null,null,null,null,null,null,0,0,null,null,null,0,null,"","","",{"$error":"#DIV/0!"},"",{"$f":"IF(P12<>\"Finished\",\"\",VLOOKUP(O12,'Data for points'!$B$26:$Z$33,22,TRUE))","v":""},"","",{"$f":"MIN(IF($C$7:$C$46=C12,$X$7:$X$46,\"\"))","v":0},"","","","","","",""]
[null,null,null,null,null,null,null,null,null,0,0,null,null,null,0,null,"","","",{"$error":"#DIV/0!"},"",{"$f":"IF(P13<>\"Finished\",\"\",VLOOKUP(O13,'Data for points'!$B$26:$Z$33,22,TRUE))","v":""},"","",{"$f":"MIN(IF($C$7:$C$46=C13,$X$7:$X$46,\"\"))","v":0},"","","","","","",""]
[null,null,null,null,null,null,null,null,null,0,0,null,null,null,0,null,"","","",{"$error":"#DIV/0!"},"",{"$f":"IF(P14<>\"Finished\",\"\",VLOOKUP(O14,'Data for points'!$B$26:$Z$33,22,TRUE))","v":""},"","",{"$f":"MIN(IF($C$7:$C$46=C14,$X$7:$X$46,\"\"))","v":0},"","","","","","",""]
[null,null,null,null,null,null,null,null,null,0,0,null,null,null,0,null,"","","",{"$error":"#DIV/0!"},"",{"$f":"IF(P15<>\"Finished\",\"\",VLOOKUP(O15,'Data for points'!$B$26:$Z$33,22,TRUE))","v":""},"","",{"$f":"MIN(IF($C$7:$C$46=C15,$X$7:$X$46,\"\"))","v":0},"","","","","","",""]
[null,null,null,null,null,null,null,null,null,0,0,null,null,null,0,null,"","","",{"$error":"#DIV/0!"},"",{"$f":"IF(P16<>\"Finished\",\"\",VLOOKUP(O16,'Data for points'!$B$26:$Z$33,22,TRUE))","v":""},"","",{"$f":"MIN(IF($C$7:$C$46=C16,$X$7:$X$46,\"\"))","v":0},"","","","","","",""]
[null,null,null,null,null,null,null,null,null,0,0,null,null,null,0,null,"","","",{"$error":"#DIV/0!"},"",{"$f":"IF(P17<>\"Finished\",\"\",VLOOKUP(O17,'Data for points'!$B$26:$Z$33,22,TRUE))","v":""},"","",{"$f":"MIN(IF($C$7:$C$46=C17,$X$7:$X$46,\"\"))","v":0},"","","","","","",""]
[null,null,null,null,null,null,null,null,null,0,0,null,null,null,0,null,"","","",{"$error":"#DIV/0!"},"",{"$f":"IF(P18<>\"Finished\",\"\",VLOOKUP(O18,'Data for points'!$B$26:$Z$33,22,TRUE))","v":""},"","",{"$f":"MIN(IF($C$7:$C$46=C18,$X$7:$X$46,\"\"))","v":0},"","","","","","",""]
[null,null,null,null,null,null,null,null,null,0,0,null,null,null,0,null,"","","",{"$error":"#DIV/0!"},"",{"$f":"IF(P19<>\"Finished\",\"\",VLOOKUP(O19,'Data for points'!$B$26:$Z$33,22,TRUE))","v":""},"","",{"$f":"MIN(IF($C$7:$C$46=C19,$X$7:$X$46,\"\"))","v":0},"","","","","","",""]
[null,null,null,null,null,null,null,null,null,0,0,null,null,null,0,null,"","","",{"$error":"#DIV/0!"},"",{"$f":"IF(P20<>\"Finished\",\"\",VLOOKUP(O20,'Data for points'!$B$26:$Z$33,22,TRUE))","v":""},"","",{"$f":"MIN(IF($C$7:$C$46=C20,$X$7:$X$46,\"\"))","v":0},"","","","","","",""]
[null,null,null,null,null,null,null,null,null,0,0,null,null,null,0,null,"","","",{"$error":"#DIV/0!"},"",{"$f":"IF(P21<>\"Finished\",\"\",VLOOKUP(O21,'Data for points'!$B$26:$Z$33,22,TRUE))","v":""},"","",{"$f":"MIN(IF($C$7:$C$46=C21,$X$7:$X$46,\"\"))","v":0},"","","","","","",""]
[null,null,null,null,null,null,null,null,null,0,0,null,null,null,0,null,"","","",{"$error":"#DIV/0!"},"",{"$f":"IF(P22<>\"Finished\",\"\",VLOOKUP(O22,'Data for points'!$B$26:$Z$33,22,TRUE))","v":""},"","",{"$f":"MIN(IF($C$7:$C$46=C22,$X$7:$X$46,\"\"))","v":0},"","","","","","",""]
[null,null,null,null,null,null,null,null,null,0,0,null,null,null,0,null,"","","",{"$error":"#DIV/0!"},"",{"$f":"IF(P23<>\"Finished\",\"\",VLOOKUP(O23,'Data for points'!$B$26:$Z$33,22,TRUE))","v":""},"","",{"$f":"MIN(IF($C$7:$C$46=C23,$X$7:$X$46,\"\"))","v":0},"","","","","","",""]
[null,null,null,null,null,null,null,null,null,0,0,null,null,null,0,null,"","","",{"$error":"#DIV/0!"},"",{"$f":"IF(P24<>\"Finished\",\"\",VLOOKUP(O24,'Data for points'!$B$26:$Z$33,22,TRUE))","v":""},"","",{"$f":"MIN(IF($C$7:$C$46=C24,$X$7:$X$46,\"\"))","v":0},"","","","","","",""]
[null,null,null,null,null,null,null,null,null,0,0,null,null,null,0,null,"","","",{"$error":"#DIV/0!"},"",{"$f":"IF(P25<>\"Finished\",\"\",VLOOKUP(O25,'Data for points'!$B$26:$Z$33,22,TRUE))","v":""},"","",{"$f":"MIN(IF($C$7:$C$46=C25,$X$7:$X$46,\"\"))","v":0},"","","","","","",""]
[null,null,null,null,null,null,null,null,null,0,0,null,null,null,0,null,"","","",{"$error":"#DIV/0!"},"",{"$f":"IF(P26<>\"Finished\",\"\",VLOOKUP(O26,'Data for points'!$B$26:$Z$33,22,TRUE))","v":""},"","",{"$f":"MIN(IF($C$7:$C$46=C26,$X$7:$X$46,\"\"))","v":0},"","","","","","",""]
[null,null,null,null,null,null,null,null,null,0,0,null,null,null,0,null,"","","",{"$error":"#DIV/0!"},"",{"$f":"IF(P27<>\"Finished\",\"\",VLOOKUP(O27,'Data for points'!$B$26:$Z$33,22,TRUE))","v":""},"","",{"$f":"MIN(IF($C$7:$C$46=C27,$X$7:$X$46,\"\"))","v":0},"","","","","","",""]
[null,null,null,null,null,null,null,null,null,0,0,null,null,null,0,null,"","","",{"$error":"#DIV/0!"},"",{"$f":"IF(P28<>\"Finished\",\"\",VLOOKUP(O28,'Data for points'!$B$26:$Z$33,22,TRUE))","v":""},"","",{"$f":"MIN(IF($C$7:$C$46=C28,$X$7:$X$46,\"\"))","v":0},"","","","","","",""]
[null,null,null,null,null,null,null,null,null,0,0,null,null,null,0,null,"","","",{"$error":"#DIV/0!"},"",{"$f":"IF(P29<>\"Finished\",\"\",VLOOKUP(O29,'Data for points'!$B$26:$Z$33,22,TRUE))","v":""},"","",{"$f":"MIN(IF($C$7:$C$46=C29,$X$7:$X$46,\"\"))","v":0},"","","","","","",""]
[null,null,null,null,null,null,null,null,null,0,0,null,null,null,0,null,"","","",{"$error":"#DIV/0!"},"",{"$f":"IF(P30<>\"Finished\",\"\",VLOOKUP(O30,'Data for points'!$B$26:$Z$33,22,TRUE))","v":""},"","",{"$f":"MIN(IF($C$7:$C$46=C30,$X$7:$X$46,\"\"))","v":0},"","","","","","",""]
[null,null,null,null,null,null,null,null,null,0,0,null,null,null,0,null,"","","",{"$error":"#DIV/0!"},"",{"$f":"IF(P31<>\"Finished\",\"\",VLOOKUP(O31,'Data for points'!$B$26:$Z$33,22,TRUE))","v":""},"","",{"$f":"MIN(IF($C$7:$C$46=C31,$X$7:$X$46,\"\"))","v":0},"","","","","","",""]
[null,null,null,null,null,null,null,null,null,0,0,null,null,null,0,null,"","","",{"$error":"#DIV/0!"},"",{"$f":"IF(P32<>\"Finished\",\"\",VLOOKUP(O32,'Data for points'!$B$26:$Z$33,22,TRUE))","v":""},"","",{"$f":"MIN(IF($C$7:$C$46=C32,$X$7:$X$46,\"\"))","v":0},"","","","","","",""]
[null,null,null,null,null,null,null,null,null,0,0,null,null,null,0,null,"","","",{"$error":"#DIV/0!"},"",{"$f":"IF(P33<>\"Finished\",\"\",VLOOKUP(O33,'Data for points'!$B$26:$Z$33,22,TRUE))","v":""},"","",{"$f":"MIN(IF($C$7:$C$46=C33,$X$7:$X$46,\"\"))","v":0},"","","","","","",""]
[null,null,null,null,null,null,null,null,null,0,0,null,null,null,0,null,"","","",{"$error":"#DIV/0!"},"",{"$f":"IF(P34<>\"Finished\",\"\",VLOOKUP(O34,'Data for points'!$B$26:$Z$33,22,TRUE))","v":""},"","",{"$f":"MIN(IF($C$7:$C$46=C34,$X$7:$X$46,\"\"))","v":0},"","","","","","",""]
[null,null,null,null,null,null,null,null,null,0,0,null,null,null,0,null,"","","",{"$error":"#DIV/0!"},"",{"$f":"IF(P35<>\"Finished\",\"\",VLOOKUP(O35,'Data for points'!$B$26:$Z$33,22,TRUE))","v":""},"","",{"$f":"MIN(IF($C$7:$C$46=C35,$X$7:$X$46,\"\"))","v":0},"","","","","","",""]
[null,null,null,null,null,null,null,null,null,0,0,null,null,null,0,null,"","","",{"$error":"#DIV/0!"},"",{"$f":"IF(P36<>\"Finished\",\"\",VLOOKUP(O36,'Data for points'!$B$26:$Z$33,22,TRUE))","v":""},"","",{"$f":"MIN(IF($C$7:$C$46=C36,$X$7:$X$46,\"\"))","v":0},"","","","","","",""]
[null,null,null,null,null,null,null,null,null,0,0,null,null,null,0,null,"","","",{"$error":"#DIV/0!"},"",{"$f":"IF(P37<>\"Finished\",\"\",VLOOKUP(O37,'Data for points'!$B$26:$Z$33,22,TRUE))","v":""},"","",{"$f":"MIN(IF($C$7:$C$46=C37,$X$7:$X$46,\"\"))","v":0},"","","","","","",""]
[null,null,null,null,null,null,null,null,null,0,0,null,null,null,0,null,"","","",{"$error":"#DIV/0!"},"",{"$f":"IF(P38<>\"Finished\",\"\",VLOOKUP(O38,'Data for points'!$B$26:$Z$33,22,TRUE))","v":""},"","",{"$f":"MIN(IF($C$7:$C$46=C38,$X$7:$X$46,\"\"))","v":0},"","","","","","",""]
[null,null,null,null,null,null,null,null,null,0,0,null,null,null,0,null,"","","",{"$error":"#DIV/0!"},"",{"$f":"IF(P39<>\"Finished\",\"\",VLOOKUP(O39,'Data for points'!$B$26:$Z$33,22,TRUE))","v":""},"","",{"$f":"MIN(IF($C$7:$C$46=C39,$X$7:$X$46,\"\"))","v":0},"","","","","","",""]
[null,null,null,null,null,null,null,null,null,0,0,null,null,null,0,null,"","","",{"$error":"#DIV/0!"},"",{"$f":"IF(P40<>\"Finished\",\"\",VLOOKUP(O40,'Data for points'!$B$26:$Z$33,22,TRUE))","v":""},"","",{"$f":"MIN(IF($C$7:$C$46=C40,$X$7:$X$46,\"\"))","v":0},"","","","","","",""]
[null,null,null,null,null,null,null,null,null,0,0,null,null,null,0,null,"","","",{"$error":"#DIV/0!"},"",{"$f":"IF(P41<>\"Finished\",\"\",VLOOKUP(O41,'Data for points'!$B$26:$Z$33,22,TRUE))","v":""},"","",{"$f":"MIN(IF($C$7:$C$46=C41,$X$7:$X$46,\"\"))","v":0},"","","","","","",""]
[null,null,null,null,null,null,null,null,null,0,0,null,null,null,0,null,"","","",{"$error":"#DIV/0!"},"",{"$f":"IF(P42<>\"Finished\",\"\",VLOOKUP(O42,'Data for points'!$B$26:$Z$33,22,TRUE))","v":""},"","",{"$f":"MIN(IF($C$7:$C$46=C42,$X$7:$X$46,\"\"))","v":0},"","","","","","",""]
[null,null,null,null,null,null,null,null,null,0,0,null,null,null,0,null,"","","",{"$error":"#DIV/0!"},"",{"$f":"IF(P43<>\"Finished\",\"\",VLOOKUP(O43,'Data for points'!$B$26:$Z$33,22,TRUE))","v":""},"","",{"$f":"MIN(IF($C$7:$C$46=C43,$X$7:$X$46,\"\"))","v":0},"","","","","","",""]
[null,null,null,null,null,null,null,null,null,0,0,null,null,null,0,null,"","","",{"$error":"#DIV/0!"},"",{"$f":"IF(P44<>\"Finished\",\"\",VLOOKUP(O44,'Data for points'!$B$26:$Z$33,22,TRUE))","v":""},"","",{"$f":"MIN(IF($C$7:$C$46=C44,$X$7:$X$46,\"\"))","v":0},"","","","","","",""]
[null,null,null,null,null,null,null,null,null,0,0,null,null,null,0,null,"","","",{"$error":"#DIV/0!"},"",{"$f":"IF(P45<>\"Finished\",\"\",VLOOKUP(O45,'Data for points'!$B$26:$Z$33,22,TRUE))","v":""},"","",{"$f":"MIN(IF($C$7:$C$46=C45,$X$7:$X$46,\"\"))","v":0},"","","","","","",""]
[null,null,null,null,null,null,null,null,null,0,0,null,null,null,0,null,"","","",{"$error":"#DIV/0!"},"",{"$f":"IF(P46<>\"Finished\",\"\",VLOOKUP(O46,'Data for points'!$B$26:$Z$33,22,TRUE))","v":""},"","",{"$f":"MIN(IF($C$7:$C$46=C46,$X$7:$X$46,\"\"))","v":0},"","","","","","",""]
[]
[]
[]
[]
[]
[]
[]
[]
[]
[]
[]
[]
[]
[]
[]
[]
[]
[]
[]
[]
[]
[]
[]
[]
[]
[]
[]
[]
[]
[]
[]
[]
[]
[]
[]
[]
[]
[]
[]
[]
[]
[]
[]
[]
[]
[]
[]
[]
[]
[]
[]
[]
[]
[null,null,null,null,null,null,null,null,null,null,null,null,null,null,null,"Finished"]
[null,null,null,null,null,null,null,null,null,null,null,null,null,null,null,"Disqualified"]

{"sheet":"100m Manikin Carry Men","index":28,"n_rows":101,"n_cols":32,"rows_kept":101,"cut":false,"hidden":true,"merged":[[4,6,4,7],[4,9,4,10],[4,11,4,13],[1,10,1,11]]}
[null,null,null,null,null,null,null,null,null,null,null,null,null,null,"UR in seconds"]
[null,"Men's",null,"100m Manikin Carry",null,null,null,null,null,null,"Club to \nHighlight",null,null,null,{"$f":"'Data for points'!C5","v":0},{"$f":"CONCATENATE(\"University  Record=\",INT(O2/60),\" minS\",MOD(O2,60),\" secs\")","v":"University  Record=0 minS0 secs"}]
[]
[]
["A University(Boolean)","Club Name","Club Code","Competitor","CompetitorID","AcceptanceID","ID code",null,"Entry Time(Seconds)","Entry Time",null,"Time",null,null,"Time(seconds)","Finish \nStatus","TimeSand  DQs","Rank","Competition \nPlace","PointSCalculation","Lifesaving Points","Survive and Save Status","Squad List","Rank For \nSquadSMembers","Top Finisher for there Uni","Top finisher Select Competitor for ranking","Squad \nPoints","Uni Finishers","Student \nPoints","Non-Uni Finishers","Non-Student \nPoints"]
[null,null,null,null,null,null,null,null,null,"Mins","Seconds","Mins","Seconds","1/100"]
[null,null,null,null,null,null,null,null,0,{"$f":"INT(I7/60)","v":0},{"$f":"MOD(I7,60)","v":0},null,null,null,{"$f":"L7*60+M7+N7/100","v":0},null,{"$f":"IF(P7<>\"Finished\",IF(P7<=0,\"\",P7),IF(P7=\"Finished\",IF(O7<=0,\"\",O7),\"\"))","v":""},{"$f":"IF(OR(LEFT(Q7,1)=\"D\",Q7=\"\"),\"\",RANK(Q7,$Q$7:$Q$46,1))","v":""},{"$f":"IF(LEFT(P7,1)=\"D\",MAX($R$7:$R$46)+1,R7)","v":""},{"$f":"(1-(O7-$O$2)/$O$2)*1000","v":{"$error":"#DIV/0!"}},{"$f":"IF(P7<>\"Finished\",\"\",IF(T7<0,0,T7))","v":""},{"$f":"IF(P7<>\"Finished\",\"\",VLOOKUP(O7,'Data for points'!$C$16:$Y$23,23,TRUE))","v":""},{"$f":"IF(G7=\"S\",S7,\"\")","v":""},{"$f":"IF(W7=\"\",\"\",RANK(W7,$W$7:$W$46,1))","v":""},{"$f":"MIN(IF($C$7:$C$46=C7,$X$7:$X$46,\"\"))","v":0},{"$f":"IF(Y7=X7,Y7,\"\")","v":""},{"$f":"IF(Z7=\"\",\"\",RANK(Z7,$Z$7:$Z$46,1))","v":""},{"$f":"IF(A7=1,AA7,\"\")","v":""},{"$f":"IF(AB7=\"\",\"\",RANK(AB7,$AB$7:$AB$46,1))","v":""},{"$f":"IF(A7=0,AA7,\"\")","v":""},{"$f":"IF(AD7=\"\",\"\",RANK(AD7,$AD$7:$AD$46,1))","v":""},{"$f":"IF(OR(P7<>\"Finished\",O7>$O$2),\"\",\"UR\")","v":""}]
[null,null,null,null,null,null,null,null,0,{"$f":"INT(I8/60)","v":0},{"$f":"MOD(I8,60)","v":0},null,null,null,{"$f":"L8*60+M8+N8/100","v":0},null,{"$f":"IF(P8<>\"Finished\",IF(P8<=0,\"\",P8),IF(P8=\"Finished\",IF(O8<=0,\"\",O8),\"\"))","v":""},{"$f":"IF(OR(LEFT(Q8,1)=\"D\",Q8=\"\"),\"\",RANK(Q8,$Q$7:$Q$46,1))","v":""},{"$f":"IF(LEFT(P8,1)=\"D\",MAX($R$7:$R$46)+1,R8)","v":""},{"$f":"(1-(O8-$O$2)/$O$2)*1000","v":{"$error":"#DIV/0!"}},{"$f":"IF(P8<>\"Finished\",\"\",IF(T8<0,0,T8))","v":""},{"$f":"IF(P8<>\"Finished\",\"\",VLOOKUP(O8,'Data for points'!$C$16:$Y$23,23,TRUE))","v":""},{"$f":"IF(G8=\"S\",S8,\"\")","v":""},{"$f":"IF(W8=\"\",\"\",RANK(W8,$W$7:$W$46,1))","v":""},{"$f":"MIN(IF($C$7:$C$46=C8,$X$7:$X$46,\"\"))","v":0},{"$f":"IF(Y8=X8,Y8,\"\")","v":""},{"$f":"IF(Z8=\"\",\"\",RANK(Z8,$Z$7:$Z$46,1))","v":""},{"$f":"IF(A8=1,AA8,\"\")","v":""},{"$f":"IF(AB8=\"\",\"\",RANK(AB8,$AB$7:$AB$46,1))","v":""},"",{"$f":"IF(AD8=\"\",\"\",RANK(AD8,$AD$7:$AD$46,1))","v":""},{"$f":"IF(OR(P8<>\"Finished\",O8>$O$2),\"\",\"UR\")","v":""}]
[null,null,null,null,null,null,null,null,0,0,0,null,null,null,0,null,"","","",{"$error":"#DIV/0!"},"",{"$f":"IF(P9<>\"Finished\",\"\",VLOOKUP(O9,'Data for points'!$C$16:$Y$23,23,TRUE))","v":""},"","",{"$f":"MIN(IF($C$7:$C$46=C9,$X$7:$X$46,\"\"))","v":0},"","","","","","",""]
[null,null,null,null,null,null,null,null,0,0,0,null,null,null,0,null,"","","",{"$error":"#DIV/0!"},"",{"$f":"IF(P10<>\"Finished\",\"\",VLOOKUP(O10,'Data for points'!$C$16:$Y$23,23,TRUE))","v":""},"","",{"$f":"MIN(IF($C$7:$C$46=C10,$X$7:$X$46,\"\"))","v":0},"","","","","","",""]
[null,null,null,null,null,null,null,null,0,0,0,null,null,null,0,null,"","","",{"$error":"#DIV/0!"},"",{"$f":"IF(P11<>\"Finished\",\"\",VLOOKUP(O11,'Data for points'!$C$16:$Y$23,23,TRUE))","v":""},"","",{"$f":"MIN(IF($C$7:$C$46=C11,$X$7:$X$46,\"\"))","v":0},"","","","","","",""]
[null,null,null,null,null,null,null,null,0,0,0,null,null,null,0,null,"","","",{"$error":"#DIV/0!"},"",{"$f":"IF(P12<>\"Finished\",\"\",VLOOKUP(O12,'Data for points'!$C$16:$Y$23,23,TRUE))","v":""},"","",{"$f":"MIN(IF($C$7:$C$46=C12,$X$7:$X$46,\"\"))","v":0},"","","","","","",""]
[null,null,null,null,null,null,null,null,0,0,0,null,null,null,0,null,"","","",{"$error":"#DIV/0!"},"",{"$f":"IF(P13<>\"Finished\",\"\",VLOOKUP(O13,'Data for points'!$C$16:$Y$23,23,TRUE))","v":""},"","",{"$f":"MIN(IF($C$7:$C$46=C13,$X$7:$X$46,\"\"))","v":0},"","","","","","",""]
[null,null,null,null,null,null,null,null,null,0,0,null,null,null,0,null,"","","",{"$error":"#DIV/0!"},"",{"$f":"IF(P14<>\"Finished\",\"\",VLOOKUP(O14,'Data for points'!$C$16:$Y$23,23,TRUE))","v":""},"","",{"$f":"MIN(IF($C$7:$C$46=C14,$X$7:$X$46,\"\"))","v":0},"","","","","","",""]
[null,null,null,null,null,null,null,null,null,0,0,null,null,null,0,null,"","","",{"$error":"#DIV/0!"},"",{"$f":"IF(P15<>\"Finished\",\"\",VLOOKUP(O15,'Data for points'!$C$16:$Y$23,23,TRUE))","v":""},"","",{"$f":"MIN(IF($C$7:$C$46=C15,$X$7:$X$46,\"\"))","v":0},"","","","","","",""]
[null,null,null,null,null,null,null,null,null,0,0,null,null,null,0,null,"","","",{"$error":"#DIV/0!"},"",{"$f":"IF(P16<>\"Finished\",\"\",VLOOKUP(O16,'Data for points'!$C$16:$Y$23,23,TRUE))","v":""},"","",{"$f":"MIN(IF($C$7:$C$46=C16,$X$7:$X$46,\"\"))","v":0},"","","","","","",""]
[null,null,null,null,null,null,null,null,null,0,0,null,null,null,0,null,"","","",{"$error":"#DIV/0!"},"",{"$f":"IF(P17<>\"Finished\",\"\",VLOOKUP(O17,'Data for points'!$C$16:$Y$23,23,TRUE))","v":""},"","",{"$f":"MIN(IF($C$7:$C$46=C17,$X$7:$X$46,\"\"))","v":0},"","","","","","",""]
[null,null,null,null,null,null,null,null,null,0,0,null,null,null,0,null,"","","",{"$error":"#DIV/0!"},"",{"$f":"IF(P18<>\"Finished\",\"\",VLOOKUP(O18,'Data for points'!$C$16:$Y$23,23,TRUE))","v":""},"","",{"$f":"MIN(IF($C$7:$C$46=C18,$X$7:$X$46,\"\"))","v":0},"","","","","","",""]
[null,null,null,null,null,null,null,null,null,0,0,null,null,null,0,null,"","","",{"$error":"#DIV/0!"},"",{"$f":"IF(P19<>\"Finished\",\"\",VLOOKUP(O19,'Data for points'!$C$16:$Y$23,23,TRUE))","v":""},"","",{"$f":"MIN(IF($C$7:$C$46=C19,$X$7:$X$46,\"\"))","v":0},"","","","","","",""]
[null,null,null,null,null,null,null,null,null,0,0,null,null,null,0,null,"","","",{"$error":"#DIV/0!"},"",{"$f":"IF(P20<>\"Finished\",\"\",VLOOKUP(O20,'Data for points'!$C$16:$Y$23,23,TRUE))","v":""},"","",{"$f":"MIN(IF($C$7:$C$46=C20,$X$7:$X$46,\"\"))","v":0},"","","","","","",""]
[null,null,null,null,null,null,null,null,null,0,0,null,null,null,0,null,"","","",{"$error":"#DIV/0!"},"",{"$f":"IF(P21<>\"Finished\",\"\",VLOOKUP(O21,'Data for points'!$C$16:$Y$23,23,TRUE))","v":""},"","",{"$f":"MIN(IF($C$7:$C$46=C21,$X$7:$X$46,\"\"))","v":0},"","","","","","",""]
[null,null,null,null,null,null,null,null,null,0,0,null,null,null,0,null,"","","",{"$error":"#DIV/0!"},"",{"$f":"IF(P22<>\"Finished\",\"\",VLOOKUP(O22,'Data for points'!$C$16:$Y$23,23,TRUE))","v":""},"","",{"$f":"MIN(IF($C$7:$C$46=C22,$X$7:$X$46,\"\"))","v":0},"","","","","","",""]
[null,null,null,null,null,null,null,null,null,0,0,null,null,null,0,null,"","","",{"$error":"#DIV/0!"},"",{"$f":"IF(P23<>\"Finished\",\"\",VLOOKUP(O23,'Data for points'!$C$16:$Y$23,23,TRUE))","v":""},"","",{"$f":"MIN(IF($C$7:$C$46=C23,$X$7:$X$46,\"\"))","v":0},"","","","","","",""]
[null,null,null,null,null,null,null,null,null,0,0,null,null,null,0,null,"","","",{"$error":"#DIV/0!"},"",{"$f":"IF(P24<>\"Finished\",\"\",VLOOKUP(O24,'Data for points'!$C$16:$Y$23,23,TRUE))","v":""},"","",{"$f":"MIN(IF($C$7:$C$46=C24,$X$7:$X$46,\"\"))","v":0},"","","","","","",""]
[null,null,null,null,null,null,null,null,null,0,0,null,null,null,0,null,"","","",{"$error":"#DIV/0!"},"",{"$f":"IF(P25<>\"Finished\",\"\",VLOOKUP(O25,'Data for points'!$C$16:$Y$23,23,TRUE))","v":""},"","",{"$f":"MIN(IF($C$7:$C$46=C25,$X$7:$X$46,\"\"))","v":0},"","","","","","",""]
[null,null,null,null,null,null,null,null,null,0,0,null,null,null,0,null,"","","",{"$error":"#DIV/0!"},"",{"$f":"IF(P26<>\"Finished\",\"\",VLOOKUP(O26,'Data for points'!$C$16:$Y$23,23,TRUE))","v":""},"","",{"$f":"MIN(IF($C$7:$C$46=C26,$X$7:$X$46,\"\"))","v":0},"","","","","","",""]
[null,null,null,null,null,null,null,null,null,0,0,null,null,null,0,null,"","","",{"$error":"#DIV/0!"},"",{"$f":"IF(P27<>\"Finished\",\"\",VLOOKUP(O27,'Data for points'!$C$16:$Y$23,23,TRUE))","v":""},"","",{"$f":"MIN(IF($C$7:$C$46=C27,$X$7:$X$46,\"\"))","v":0},"","","","","","",""]
[null,null,null,null,null,null,null,null,null,0,0,null,null,null,0,null,"","","",{"$error":"#DIV/0!"},"",{"$f":"IF(P28<>\"Finished\",\"\",VLOOKUP(O28,'Data for points'!$C$16:$Y$23,23,TRUE))","v":""},"","",{"$f":"MIN(IF($C$7:$C$46=C28,$X$7:$X$46,\"\"))","v":0},"","","","","","",""]
[null,null,null,null,null,null,null,null,null,0,0,null,null,null,0,null,"","","",{"$error":"#DIV/0!"},"",{"$f":"IF(P29<>\"Finished\",\"\",VLOOKUP(O29,'Data for points'!$C$16:$Y$23,23,TRUE))","v":""},"","",{"$f":"MIN(IF($C$7:$C$46=C29,$X$7:$X$46,\"\"))","v":0},"","","","","","",""]
[null,null,null,null,null,null,null,null,null,0,0,null,null,null,0,null,"","","",{"$error":"#DIV/0!"},"",{"$f":"IF(P30<>\"Finished\",\"\",VLOOKUP(O30,'Data for points'!$C$16:$Y$23,23,TRUE))","v":""},"","",{"$f":"MIN(IF($C$7:$C$46=C30,$X$7:$X$46,\"\"))","v":0},"","","","","","",""]
[null,null,null,null,null,null,null,null,null,0,0,null,null,null,0,null,"","","",{"$error":"#DIV/0!"},"",{"$f":"IF(P31<>\"Finished\",\"\",VLOOKUP(O31,'Data for points'!$C$16:$Y$23,23,TRUE))","v":""},"","",{"$f":"MIN(IF($C$7:$C$46=C31,$X$7:$X$46,\"\"))","v":0},"","","","","","",""]
[null,null,null,null,null,null,null,null,null,0,0,null,null,null,0,null,"","","",{"$error":"#DIV/0!"},"",{"$f":"IF(P32<>\"Finished\",\"\",VLOOKUP(O32,'Data for points'!$C$16:$Y$23,23,TRUE))","v":""},"","",{"$f":"MIN(IF($C$7:$C$46=C32,$X$7:$X$46,\"\"))","v":0},"","","","","","",""]
[null,null,null,null,null,null,null,null,null,0,0,null,null,null,0,null,"","","",{"$error":"#DIV/0!"},"",{"$f":"IF(P33<>\"Finished\",\"\",VLOOKUP(O33,'Data for points'!$C$16:$Y$23,23,TRUE))","v":""},"","",{"$f":"MIN(IF($C$7:$C$46=C33,$X$7:$X$46,\"\"))","v":0},"","","","","","",""]
[null,null,null,null,null,null,null,null,null,0,0,null,null,null,0,null,"","","",{"$error":"#DIV/0!"},"",{"$f":"IF(P34<>\"Finished\",\"\",VLOOKUP(O34,'Data for points'!$C$16:$Y$23,23,TRUE))","v":""},"","",{"$f":"MIN(IF($C$7:$C$46=C34,$X$7:$X$46,\"\"))","v":0},"","","","","","",""]
[null,null,null,null,null,null,null,null,null,0,0,null,null,null,0,null,"","","",{"$error":"#DIV/0!"},"",{"$f":"IF(P35<>\"Finished\",\"\",VLOOKUP(O35,'Data for points'!$C$16:$Y$23,23,TRUE))","v":""},"","",{"$f":"MIN(IF($C$7:$C$46=C35,$X$7:$X$46,\"\"))","v":0},"","","","","","",""]
[null,null,null,null,null,null,null,null,null,0,0,null,null,null,0,null,"","","",{"$error":"#DIV/0!"},"",{"$f":"IF(P36<>\"Finished\",\"\",VLOOKUP(O36,'Data for points'!$C$16:$Y$23,23,TRUE))","v":""},"","",{"$f":"MIN(IF($C$7:$C$46=C36,$X$7:$X$46,\"\"))","v":0},"","","","","","",""]
[null,null,null,null,null,null,null,null,null,0,0,null,null,null,0,null,"","","",{"$error":"#DIV/0!"},"",{"$f":"IF(P37<>\"Finished\",\"\",VLOOKUP(O37,'Data for points'!$C$16:$Y$23,23,TRUE))","v":""},"","",{"$f":"MIN(IF($C$7:$C$46=C37,$X$7:$X$46,\"\"))","v":0},"","","","","","",""]
[null,null,null,null,null,null,null,null,null,0,0,null,null,null,0,null,"","","",{"$error":"#DIV/0!"},"",{"$f":"IF(P38<>\"Finished\",\"\",VLOOKUP(O38,'Data for points'!$C$16:$Y$23,23,TRUE))","v":""},"","",{"$f":"MIN(IF($C$7:$C$46=C38,$X$7:$X$46,\"\"))","v":0},"","","","","","",""]
[null,null,null,null,null,null,null,null,null,0,0,null,null,null,0,null,"","","",{"$error":"#DIV/0!"},"",{"$f":"IF(P39<>\"Finished\",\"\",VLOOKUP(O39,'Data for points'!$C$16:$Y$23,23,TRUE))","v":""},"","",{"$f":"MIN(IF($C$7:$C$46=C39,$X$7:$X$46,\"\"))","v":0},"","","","","","",""]
[null,null,null,null,null,null,null,null,null,0,0,null,null,null,0,null,"","","",{"$error":"#DIV/0!"},"",{"$f":"IF(P40<>\"Finished\",\"\",VLOOKUP(O40,'Data for points'!$C$16:$Y$23,23,TRUE))","v":""},"","",{"$f":"MIN(IF($C$7:$C$46=C40,$X$7:$X$46,\"\"))","v":0},"","","","","","",""]
[null,null,null,null,null,null,null,null,null,0,0,null,null,null,0,null,"","","",{"$error":"#DIV/0!"},"",{"$f":"IF(P41<>\"Finished\",\"\",VLOOKUP(O41,'Data for points'!$C$16:$Y$23,23,TRUE))","v":""},"","",{"$f":"MIN(IF($C$7:$C$46=C41,$X$7:$X$46,\"\"))","v":0},"","","","","","",""]
[null,null,null,null,null,null,null,null,null,0,0,null,null,null,0,null,"","","",{"$error":"#DIV/0!"},"",{"$f":"IF(P42<>\"Finished\",\"\",VLOOKUP(O42,'Data for points'!$C$16:$Y$23,23,TRUE))","v":""},"","",{"$f":"MIN(IF($C$7:$C$46=C42,$X$7:$X$46,\"\"))","v":0},"","","","","","",""]
[null,null,null,null,null,null,null,null,null,0,0,null,null,null,0,null,"","","",{"$error":"#DIV/0!"},"",{"$f":"IF(P43<>\"Finished\",\"\",VLOOKUP(O43,'Data for points'!$C$16:$Y$23,23,TRUE))","v":""},"","",{"$f":"MIN(IF($C$7:$C$46=C43,$X$7:$X$46,\"\"))","v":0},"","","","","","",""]
[null,null,null,null,null,null,null,null,null,0,0,null,null,null,0,null,"","","",{"$error":"#DIV/0!"},"",{"$f":"IF(P44<>\"Finished\",\"\",VLOOKUP(O44,'Data for points'!$C$16:$Y$23,23,TRUE))","v":""},"","",{"$f":"MIN(IF($C$7:$C$46=C44,$X$7:$X$46,\"\"))","v":0},"","","","","","",""]
[null,null,null,null,null,null,null,null,null,0,0,null,null,null,0,null,"","","",{"$error":"#DIV/0!"},"",{"$f":"IF(P45<>\"Finished\",\"\",VLOOKUP(O45,'Data for points'!$C$16:$Y$23,23,TRUE))","v":""},"","",{"$f":"MIN(IF($C$7:$C$46=C45,$X$7:$X$46,\"\"))","v":0},"","","","","","",""]
[null,null,null,null,null,null,null,null,null,0,0,null,null,null,0,null,"","","",{"$error":"#DIV/0!"},"",{"$f":"IF(P46<>\"Finished\",\"\",VLOOKUP(O46,'Data for points'!$C$16:$Y$23,23,TRUE))","v":""},"","",{"$f":"MIN(IF($C$7:$C$46=C46,$X$7:$X$46,\"\"))","v":0},"","","","","","",""]
[]
[]
[]
[]
[]
[]
[]
[]
[]
[]
[]
[]
[]
[]
[]
[]
[]
[]
[]
[]
[]
[]
[]
[]
[]
[]
[]
[]
[]
[]
[]
[]
[]
[]
[]
[]
[]
[]
[]
[]
[]
[]
[]
[]
[]
[]
[]
[]
[]
[]
[]
[]
[]
[null,null,null,null,null,null,null,null,null,null,null,null,null,null,null,"Finished"]
[null,null,null,null,null,null,null,null,null,null,null,null,null,null,null,"Disqualified"]

{"sheet":"100m Manikin Carry Women","index":29,"n_rows":101,"n_cols":32,"rows_kept":101,"cut":false,"hidden":true,"merged":[[4,6,4,7],[4,9,4,10],[4,11,4,13],[1,10,1,11]]}
[null,null,null,null,null,null,null,null,null,null,null,null,null,null,"UR in seconds"]
[null,"Women's",null,"100m Manikin Carry",null,null,null,null,null,null,"Club to \nHighlight",null,null,null,{"$f":"'Data for points'!C6","v":0},{"$f":"CONCATENATE(\"University  Record=\",INT(O2/60),\" minS\",MOD(O2,60),\" secs\")","v":"University  Record=0 minS0 secs"}]
[]
[]
["A University(Boolean)","Club Name","Club Code","Competitor","CompetitorID","AcceptanceID","ID code",null,"Entry Time(Seconds)","Entry Time",null,"Time",null,null,"Time(seconds)","Finish \nStatus","TimeSand  DQs","Rank","Competition \nPlace","PointSCalculation","Lifesaving Points","Survive and Save Status","Squad List","Rank For \nSquadSMembers","Top Finisher for there Uni","Top finisher Select Competitor for ranking","Squad \nPoints","Uni Finishers","Student \nPoints","Non-Uni Finishers","Non-Student \nPoints"]
[null,null,null,null,null,null,null,null,null,"Mins","Seconds","Mins","Seconds","1/100"]
[null,null,null,null,null,null,null,null,null,{"$f":"INT(I7/60)","v":0},{"$f":"MOD(I7,60)","v":0},null,null,null,{"$f":"L7*60+M7+N7/100","v":0},null,{"$f":"IF(P7<>\"Finished\",IF(P7<=0,\"\",P7),IF(P7=\"Finished\",IF(O7<=0,\"\",O7),\"\"))","v":""},{"$f":"IF(OR(LEFT(Q7,1)=\"D\",Q7=\"\"),\"\",RANK(Q7,$Q$7:$Q$46,1))","v":""},{"$f":"IF(LEFT(P7,1)=\"D\",MAX($R$7:$R$46)+1,R7)","v":""},{"$f":"(1-(O7-$O$2)/$O$2)*1000","v":{"$error":"#DIV/0!"}},{"$f":"IF(P7<>\"Finished\",\"\",IF(T7<0,0,T7))","v":""},{"$f":"IF(P7<>\"Finished\",\"\",VLOOKUP(O7,'Data for points'!$C$26:$Y$33,21,TRUE))","v":""},{"$f":"IF(G7=\"S\",S7,\"\")","v":""},{"$f":"IF(W7=\"\",\"\",RANK(W7,$W$7:$W$46,1))","v":""},{"$f":"MIN(IF($C$7:$C$46=C7,$X$7:$X$46,\"\"))","v":0},{"$f":"IF(Y7=X7,Y7,\"\")","v":""},{"$f":"IF(Z7=\"\",\"\",RANK(Z7,$Z$7:$Z$46,1))","v":""},{"$f":"IF(A7=1,AA7,\"\")","v":""},{"$f":"IF(AB7=\"\",\"\",RANK(AB7,$AB$7:$AB$46,1))","v":""},{"$f":"IF(A7=0,AA7,\"\")","v":""},{"$f":"IF(AD7=\"\",\"\",RANK(AD7,$AD$7:$AD$46,1))","v":""},{"$f":"IF(OR(P7<>\"Finished\",O7>$O$2),\"\",\"UR\")","v":""}]
[null,null,null,null,null,null,null,null,null,{"$f":"INT(I8/60)","v":0},{"$f":"MOD(I8,60)","v":0},null,null,null,{"$f":"L8*60+M8+N8/100","v":0},null,{"$f":"IF(P8<>\"Finished\",IF(P8<=0,\"\",P8),IF(P8=\"Finished\",IF(O8<=0,\"\",O8),\"\"))","v":""},{"$f":"IF(OR(LEFT(Q8,1)=\"D\",Q8=\"\"),\"\",RANK(Q8,$Q$7:$Q$46,1))","v":""},{"$f":"IF(LEFT(P8,1)=\"D\",MAX($R$7:$R$46)+1,R8)","v":""},{"$f":"(1-(O8-$O$2)/$O$2)*1000","v":{"$error":"#DIV/0!"}},{"$f":"IF(P8<>\"Finished\",\"\",IF(T8<0,0,T8))","v":""},{"$f":"IF(P8<>\"Finished\",\"\",VLOOKUP(O8,'Data for points'!$C$26:$Y$33,21,TRUE))","v":""},{"$f":"IF(G8=\"S\",S8,\"\")","v":""},{"$f":"IF(W8=\"\",\"\",RANK(W8,$W$7:$W$46,1))","v":""},{"$f":"MIN(IF($C$7:$C$46=C8,$X$7:$X$46,\"\"))","v":0},{"$f":"IF(Y8=X8,Y8,\"\")","v":""},{"$f":"IF(Z8=\"\",\"\",RANK(Z8,$Z$7:$Z$46,1))","v":""},{"$f":"IF(A8=1,AA8,\"\")","v":""},{"$f":"IF(AB8=\"\",\"\",RANK(AB8,$AB$7:$AB$46,1))","v":""},"",{"$f":"IF(AD8=\"\",\"\",RANK(AD8,$AD$7:$AD$46,1))","v":""},{"$f":"IF(OR(P8<>\"Finished\",O8>$O$2),\"\",\"UR\")","v":""}]
[null,null,null,null,null,null,null,null,null,0,0,null,null,null,0,null,"","","",{"$error":"#DIV/0!"},"",{"$f":"IF(P9<>\"Finished\",\"\",VLOOKUP(O9,'Data for points'!$C$26:$Y$33,21,TRUE))","v":""},"","",{"$f":"MIN(IF($C$7:$C$46=C9,$X$7:$X$46,\"\"))","v":0},"","","","","","",""]
[null,null,null,null,null,null,null,null,null,0,0,null,null,null,0,null,"","","",{"$error":"#DIV/0!"},"",{"$f":"IF(P10<>\"Finished\",\"\",VLOOKUP(O10,'Data for points'!$C$26:$Y$33,21,TRUE))","v":""},"","",{"$f":"MIN(IF($C$7:$C$46=C10,$X$7:$X$46,\"\"))","v":0},"","","","","","",""]
[null,null,null,null,null,null,null,null,null,0,0,null,null,null,0,null,"","","",{"$error":"#DIV/0!"},"",{"$f":"IF(P11<>\"Finished\",\"\",VLOOKUP(O11,'Data for points'!$C$26:$Y$33,21,TRUE))","v":""},"","",{"$f":"MIN(IF($C$7:$C$46=C11,$X$7:$X$46,\"\"))","v":0},"","","","","","",""]
[null,null,null,null,null,null,null,null,null,0,0,null,null,null,0,null,"","","",{"$error":"#DIV/0!"},"",{"$f":"IF(P12<>\"Finished\",\"\",VLOOKUP(O12,'Data for points'!$C$26:$Y$33,21,TRUE))","v":""},"","",{"$f":"MIN(IF($C$7:$C$46=C12,$X$7:$X$46,\"\"))","v":0},"","","","","","",""]
[null,null,null,null,null,null,null,null,null,0,0,null,null,null,0,null,"","","",{"$error":"#DIV/0!"},"",{"$f":"IF(P13<>\"Finished\",\"\",VLOOKUP(O13,'Data for points'!$C$26:$Y$33,21,TRUE))","v":""},"","",{"$f":"MIN(IF($C$7:$C$46=C13,$X$7:$X$46,\"\"))","v":0},"","","","","","",""]
[null,null,null,null,null,null,null,null,null,0,0,null,null,null,0,null,"","","",{"$error":"#DIV/0!"},"",{"$f":"IF(P14<>\"Finished\",\"\",VLOOKUP(O14,'Data for points'!$C$26:$Y$33,21,TRUE))","v":""},"","",{"$f":"MIN(IF($C$7:$C$46=C14,$X$7:$X$46,\"\"))","v":0},"","","","","","",""]
[null,null,null,null,null,null,null,null,null,0,0,null,null,null,0,null,"","","",{"$error":"#DIV/0!"},"",{"$f":"IF(P15<>\"Finished\",\"\",VLOOKUP(O15,'Data for points'!$C$26:$Y$33,21,TRUE))","v":""},"","",{"$f":"MIN(IF($C$7:$C$46=C15,$X$7:$X$46,\"\"))","v":0},"","","","","","",""]
[null,null,null,null,null,null,null,null,null,0,0,null,null,null,0,null,"","","",{"$error":"#DIV/0!"},"",{"$f":"IF(P16<>\"Finished\",\"\",VLOOKUP(O16,'Data for points'!$C$26:$Y$33,21,TRUE))","v":""},"","",{"$f":"MIN(IF($C$7:$C$46=C16,$X$7:$X$46,\"\"))","v":0},"","","","","","",""]
[null,null,null,null,null,null,null,null,null,0,0,null,null,null,0,null,"","","",{"$error":"#DIV/0!"},"",{"$f":"IF(P17<>\"Finished\",\"\",VLOOKUP(O17,'Data for points'!$C$26:$Y$33,21,TRUE))","v":""},"","",{"$f":"MIN(IF($C$7:$C$46=C17,$X$7:$X$46,\"\"))","v":0},"","","","","","",""]
[null,null,null,null,null,null,null,null,null,0,0,null,null,null,0,null,"","","",{"$error":"#DIV/0!"},"",{"$f":"IF(P18<>\"Finished\",\"\",VLOOKUP(O18,'Data for points'!$C$26:$Y$33,21,TRUE))","v":""},"","",{"$f":"MIN(IF($C$7:$C$46=C18,$X$7:$X$46,\"\"))","v":0},"","","","","","",""]
[null,null,null,null,null,null,null,null,null,0,0,null,null,null,0,null,"","","",{"$error":"#DIV/0!"},"",{"$f":"IF(P19<>\"Finished\",\"\",VLOOKUP(O19,'Data for points'!$C$26:$Y$33,21,TRUE))","v":""},"","",{"$f":"MIN(IF($C$7:$C$46=C19,$X$7:$X$46,\"\"))","v":0},"","","","","","",""]
[null,null,null,null,null,null,null,null,null,0,0,null,null,null,0,null,"","","",{"$error":"#DIV/0!"},"",{"$f":"IF(P20<>\"Finished\",\"\",VLOOKUP(O20,'Data for points'!$C$26:$Y$33,21,TRUE))","v":""},"","",{"$f":"MIN(IF($C$7:$C$46=C20,$X$7:$X$46,\"\"))","v":0},"","","","","","",""]
[null,null,null,null,null,null,null,null,null,0,0,null,null,null,0,null,"","","",{"$error":"#DIV/0!"},"",{"$f":"IF(P21<>\"Finished\",\"\",VLOOKUP(O21,'Data for points'!$C$26:$Y$33,21,TRUE))","v":""},"","",{"$f":"MIN(IF($C$7:$C$46=C21,$X$7:$X$46,\"\"))","v":0},"","","","","","",""]
[null,null,null,null,null,null,null,null,null,0,0,null,null,null,0,null,"","","",{"$error":"#DIV/0!"},"",{"$f":"IF(P22<>\"Finished\",\"\",VLOOKUP(O22,'Data for points'!$C$26:$Y$33,21,TRUE))","v":""},"","",{"$f":"MIN(IF($C$7:$C$46=C22,$X$7:$X$46,\"\"))","v":0},"","","","","","",""]
[null,null,null,null,null,null,null,null,null,0,0,null,null,null,0,null,"","","",{"$error":"#DIV/0!"},"",{"$f":"IF(P23<>\"Finished\",\"\",VLOOKUP(O23,'Data for points'!$C$26:$Y$33,21,TRUE))","v":""},"","",{"$f":"MIN(IF($C$7:$C$46=C23,$X$7:$X$46,\"\"))","v":0},"","","","","","",""]
[null,null,null,null,null,null,null,null,null,0,0,null,null,null,0,null,"","","",{"$error":"#DIV/0!"},"",{"$f":"IF(P24<>\"Finished\",\"\",VLOOKUP(O24,'Data for points'!$C$26:$Y$33,21,TRUE))","v":""},"","",{"$f":"MIN(IF($C$7:$C$46=C24,$X$7:$X$46,\"\"))","v":0},"","","","","","",""]
[null,null,null,null,null,null,null,null,null,0,0,null,null,null,0,null,"","","",{"$error":"#DIV/0!"},"",{"$f":"IF(P25<>\"Finished\",\"\",VLOOKUP(O25,'Data for points'!$C$26:$Y$33,21,TRUE))","v":""},"","",{"$f":"MIN(IF($C$7:$C$46=C25,$X$7:$X$46,\"\"))","v":0},"","","","","","",""]
[null,null,null,null,null,null,null,null,null,0,0,null,null,null,0,null,"","","",{"$error":"#DIV/0!"},"",{"$f":"IF(P26<>\"Finished\",\"\",VLOOKUP(O26,'Data for points'!$C$26:$Y$33,21,TRUE))","v":""},"","",{"$f":"MIN(IF($C$7:$C$46=C26,$X$7:$X$46,\"\"))","v":0},"","","","","","",""]
[null,null,null,null,null,null,null,null,null,0,0,null,null,null,0,null,"","","",{"$error":"#DIV/0!"},"",{"$f":"IF(P27<>\"Finished\",\"\",VLOOKUP(O27,'Data for points'!$C$26:$Y$33,21,TRUE))","v":""},"","",{"$f":"MIN(IF($C$7:$C$46=C27,$X$7:$X$46,\"\"))","v":0},"","","","","","",""]
[null,null,null,null,null,null,null,null,null,0,0,null,null,null,0,null,"","","",{"$error":"#DIV/0!"},"",{"$f":"IF(P28<>\"Finished\",\"\",VLOOKUP(O28,'Data for points'!$C$26:$Y$33,21,TRUE))","v":""},"","",{"$f":"MIN(IF($C$7:$C$46=C28,$X$7:$X$46,\"\"))","v":0},"","","","","","",""]
[null,null,null,null,null,null,null,null,null,0,0,null,null,null,0,null,"","","",{"$error":"#DIV/0!"},"",{"$f":"IF(P29<>\"Finished\",\"\",VLOOKUP(O29,'Data for points'!$C$26:$Y$33,21,TRUE))","v":""},"","",{"$f":"MIN(IF($C$7:$C$46=C29,$X$7:$X$46,\"\"))","v":0},"","","","","","",""]
[null,null,null,null,null,null,null,null,null,0,0,null,null,null,0,null,"","","",{"$error":"#DIV/0!"},"",{"$f":"IF(P30<>\"Finished\",\"\",VLOOKUP(O30,'Data for points'!$C$26:$Y$33,21,TRUE))","v":""},"","",{"$f":"MIN(IF($C$7:$C$46=C30,$X$7:$X$46,\"\"))","v":0},"","","","","","",""]
[null,null,null,null,null,null,null,null,null,0,0,null,null,null,0,null,"","","",{"$error":"#DIV/0!"},"",{"$f":"IF(P31<>\"Finished\",\"\",VLOOKUP(O31,'Data for points'!$C$26:$Y$33,21,TRUE))","v":""},"","",{"$f":"MIN(IF($C$7:$C$46=C31,$X$7:$X$46,\"\"))","v":0},"","","","","","",""]
[null,null,null,null,null,null,null,null,null,0,0,null,null,null,0,null,"","","",{"$error":"#DIV/0!"},"",{"$f":"IF(P32<>\"Finished\",\"\",VLOOKUP(O32,'Data for points'!$C$26:$Y$33,21,TRUE))","v":""},"","",{"$f":"MIN(IF($C$7:$C$46=C32,$X$7:$X$46,\"\"))","v":0},"","","","","","",""]
[null,null,null,null,null,null,null,null,null,0,0,null,null,null,0,null,"","","",{"$error":"#DIV/0!"},"",{"$f":"IF(P33<>\"Finished\",\"\",VLOOKUP(O33,'Data for points'!$C$26:$Y$33,11,TRUE))","v":""},"","",{"$f":"MIN(IF($C$7:$C$46=C33,$X$7:$X$46,\"\"))","v":0},"","","","","","",""]
[null,null,null,null,null,null,null,null,null,0,0,null,null,null,0,null,"","","",{"$error":"#DIV/0!"},"",{"$f":"IF(P34<>\"Finished\",\"\",VLOOKUP(O34,'Data for points'!$C$26:$Y$33,11,TRUE))","v":""},"","",{"$f":"MIN(IF($C$7:$C$46=C34,$X$7:$X$46,\"\"))","v":0},"","","","","","",""]
[null,null,null,null,null,null,null,null,null,0,0,null,null,null,0,null,"","","",{"$error":"#DIV/0!"},"",{"$f":"IF(P35<>\"Finished\",\"\",VLOOKUP(O35,'Data for points'!$C$26:$Y$33,11,TRUE))","v":""},"","",{"$f":"MIN(IF($C$7:$C$46=C35,$X$7:$X$46,\"\"))","v":0},"","","","","","",""]
[null,null,null,null,null,null,null,null,null,0,0,null,null,null,0,null,"","","",{"$error":"#DIV/0!"},"",{"$f":"IF(P36<>\"Finished\",\"\",VLOOKUP(O36,'Data for points'!$C$26:$Y$33,11,TRUE))","v":""},"","",{"$f":"MIN(IF($C$7:$C$46=C36,$X$7:$X$46,\"\"))","v":0},"","","","","","",""]
[null,null,null,null,null,null,null,null,null,0,0,null,null,null,0,null,"","","",{"$error":"#DIV/0!"},"",{"$f":"IF(P37<>\"Finished\",\"\",VLOOKUP(O37,'Data for points'!$C$26:$Y$33,11,TRUE))","v":""},"","",{"$f":"MIN(IF($C$7:$C$46=C37,$X$7:$X$46,\"\"))","v":0},"","","","","","",""]
[null,null,null,null,null,null,null,null,null,0,0,null,null,null,0,null,"","","",{"$error":"#DIV/0!"},"",{"$f":"IF(P38<>\"Finished\",\"\",VLOOKUP(O38,'Data for points'!$C$26:$Y$33,11,TRUE))","v":""},"","",{"$f":"MIN(IF($C$7:$C$46=C38,$X$7:$X$46,\"\"))","v":0},"","","","","","",""]
[null,null,null,null,null,null,null,null,null,0,0,null,null,null,0,null,"","","",{"$error":"#DIV/0!"},"",{"$f":"IF(P39<>\"Finished\",\"\",VLOOKUP(O39,'Data for points'!$C$26:$Y$33,11,TRUE))","v":""},"","",{"$f":"MIN(IF($C$7:$C$46=C39,$X$7:$X$46,\"\"))","v":0},"","","","","","",""]
[null,null,null,null,null,null,null,null,null,0,0,null,null,null,0,null,"","","",{"$error":"#DIV/0!"},"",{"$f":"IF(P40<>\"Finished\",\"\",VLOOKUP(O40,'Data for points'!$C$26:$Y$33,11,TRUE))","v":""},"","",{"$f":"MIN(IF($C$7:$C$46=C40,$X$7:$X$46,\"\"))","v":0},"","","","","","",""]
[null,null,null,null,null,null,null,null,null,0,0,null,null,null,0,null,"","","",{"$error":"#DIV/0!"},"",{"$f":"IF(P41<>\"Finished\",\"\",VLOOKUP(O41,'Data for points'!$C$26:$Y$33,11,TRUE))","v":""},"","",{"$f":"MIN(IF($C$7:$C$46=C41,$X$7:$X$46,\"\"))","v":0},"","","","","","",""]
[null,null,null,null,null,null,null,null,null,0,0,null,null,null,0,null,"","","",{"$error":"#DIV/0!"},"",{"$f":"IF(P42<>\"Finished\",\"\",VLOOKUP(O42,'Data for points'!$C$26:$Y$33,11,TRUE))","v":""},"","",{"$f":"MIN(IF($C$7:$C$46=C42,$X$7:$X$46,\"\"))","v":0},"","","","","","",""]
[null,null,null,null,null,null,null,null,null,0,0,null,null,null,0,null,"","","",{"$error":"#DIV/0!"},"",{"$f":"IF(P43<>\"Finished\",\"\",VLOOKUP(O43,'Data for points'!$C$26:$Y$33,11,TRUE))","v":""},"","",{"$f":"MIN(IF($C$7:$C$46=C43,$X$7:$X$46,\"\"))","v":0},"","","","","","",""]
[null,null,null,null,null,null,null,null,null,0,0,null,null,null,0,null,"","","",{"$error":"#DIV/0!"},"",{"$f":"IF(P44<>\"Finished\",\"\",VLOOKUP(O44,'Data for points'!$C$26:$Y$33,11,TRUE))","v":""},"","",{"$f":"MIN(IF($C$7:$C$46=C44,$X$7:$X$46,\"\"))","v":0},"","","","","","",""]
[null,null,null,null,null,null,null,null,null,0,0,null,null,null,0,null,"","","",{"$error":"#DIV/0!"},"",{"$f":"IF(P45<>\"Finished\",\"\",VLOOKUP(O45,'Data for points'!$C$26:$Y$33,11,TRUE))","v":""},"","",{"$f":"MIN(IF($C$7:$C$46=C45,$X$7:$X$46,\"\"))","v":0},"","","","","","",""]
[null,null,null,null,null,null,null,null,null,0,0,null,null,null,0,null,"","","",{"$error":"#DIV/0!"},"",{"$f":"IF(P46<>\"Finished\",\"\",VLOOKUP(O46,'Data for points'!$C$26:$Y$33,11,TRUE))","v":""},"","",{"$f":"MIN(IF($C$7:$C$46=C46,$X$7:$X$46,\"\"))","v":0},"","","","","","",""]
[]
[]
[]
[]
[]
[]
[]
[]
[]
[]
[]
[]
[]
[]
[]
[]
[]
[]
[]
[]
[]
[]
[]
[]
[]
[]
[]
[]
[]
[]
[]
[]
[]
[]
[]
[]
[]
[]
[]
[]
[]
[]
[]
[]
[]
[]
[]
[]
[]
[]
[]
[]
[]
[null,null,null,null,null,null,null,null,null,null,null,null,null,null,null,"Finished"]
[null,null,null,null,null,null,null,null,null,null,null,null,null,null,null,"Disqualified"]

{"sheet":"100m Manikin Tow Men","index":30,"n_rows":101,"n_cols":32,"rows_kept":101,"cut":false,"hidden":true,"merged":[[4,6,4,7],[4,9,4,10],[4,11,4,13],[1,10,1,11]]}
[null,null,null,null,null,null,null,null,null,null,null,null,null,null,"UR in seconds"]
[null,"Men's",null,"100m Manikin Tow",null,null,null,null,null,null,"Club to \nHighlight",null,null,null,{"$f":"'Data for points'!D5","v":0},{"$f":"CONCATENATE(\"University  Record=\",INT(O2/60),\" minS\",MOD(O2,60),\" secs\")","v":"University  Record=0 minS0 secs"}]
[]
[]
["A University(Boolean)","Club Name","Club Code","Competitor","CompetitorID","AcceptanceID","ID code",null,"Entry Time(Seconds)","Entry Time",null,"Time",null,null,"Time(seconds)","Finish \nStatus","TimeSand  DQs","Rank","Competition \nPlace","PointSCalculation","Lifesaving Points","Survive and Save Status","Squad List","Rank For SquadSMembers","Top Finisher for there Uni","Top finisher Select Competitor for ranking","Squad Points","Uni Finishers","Student Points","Non-Uni Finishers","Non-Student \nPoints"]
[null,null,null,null,null,null,null,null,null,"Mins","Seconds","Mins","Seconds","1/100"]
[null,null,null,null,null,null,null,null,null,{"$f":"INT(I7/60)","v":0},{"$f":"MOD(I7,60)","v":0},null,null,null,{"$f":"L7*60+M7+N7/100","v":0},null,{"$f":"IF(P7<>\"Finished\",IF(P7<=0,\"\",P7),IF(P7=\"Finished\",IF(O7<=0,\"\",O7),\"\"))","v":""},{"$f":"IF(OR(LEFT(Q7,1)=\"D\",Q7=\"\"),\"\",RANK(Q7,$Q$7:$Q$46,1))","v":""},{"$f":"IF(LEFT(P7,1)=\"D\",MAX($R$7:$R$46)+1,R7)","v":""},{"$f":"(1-(O7-$O$2)/$O$2)*1000","v":{"$error":"#DIV/0!"}},{"$f":"IF(P7<>\"Finished\",\"\",IF(T7<0,0,T7))","v":""},{"$f":"IF(P7<>\"Finished\",\"\",VLOOKUP(O7,'Data for points'!$D$16:$Y$23,20,TRUE))","v":""},{"$f":"IF(G7=\"S\",S7,\"\")","v":""},{"$f":"IF(W7=\"\",\"\",RANK(W7,$W$7:$W$46,1))","v":""},{"$f":"MIN(IF($C$7:$C$46=C7,$X$7:$X$46,\"\"))","v":0},{"$f":"IF(Y7=X7,Y7,\"\")","v":""},{"$f":"IF(Z7=\"\",\"\",RANK(Z7,$Z$7:$Z$46,1))","v":""},{"$f":"IF(A7=1,AA7,\"\")","v":""},{"$f":"IF(AB7=\"\",\"\",RANK(AB7,$AB$7:$AB$46,1))","v":""},{"$f":"IF(A7=0,AA7,\"\")","v":""},{"$f":"IF(AD7=\"\",\"\",RANK(AD7,$AD$7:$AD$46,1))","v":""},{"$f":"IF(OR(P7<>\"Finished\",O7>$O$2),\"\",\"UR\")","v":""}]
[null,null,null,null,null,null,null,null,null,{"$f":"INT(I8/60)","v":0},{"$f":"MOD(I8,60)","v":0},null,null,null,{"$f":"L8*60+M8+N8/100","v":0},null,{"$f":"IF(P8<>\"Finished\",IF(P8<=0,\"\",P8),IF(P8=\"Finished\",IF(O8<=0,\"\",O8),\"\"))","v":""},{"$f":"IF(OR(LEFT(Q8,1)=\"D\",Q8=\"\"),\"\",RANK(Q8,$Q$7:$Q$46,1))","v":""},{"$f":"IF(LEFT(P8,1)=\"D\",MAX($R$7:$R$46)+1,R8)","v":""},{"$f":"(1-(O8-$O$2)/$O$2)*1000","v":{"$error":"#DIV/0!"}},{"$f":"IF(P8<>\"Finished\",\"\",IF(T8<0,0,T8))","v":""},{"$f":"IF(P8<>\"Finished\",\"\",VLOOKUP(O8,'Data for points'!$D$16:$Y$23,20,TRUE))","v":""},{"$f":"IF(G8=\"S\",S8,\"\")","v":""},{"$f":"IF(W8=\"\",\"\",RANK(W8,$W$7:$W$46,1))","v":""},{"$f":"MIN(IF($C$7:$C$46=C8,$X$7:$X$46,\"\"))","v":0},{"$f":"IF(Y8=X8,Y8,\"\")","v":""},{"$f":"IF(Z8=\"\",\"\",RANK(Z8,$Z$7:$Z$46,1))","v":""},{"$f":"IF(A8=1,AA8,\"\")","v":""},{"$f":"IF(AB8=\"\",\"\",RANK(AB8,$AB$7:$AB$46,1))","v":""},"",{"$f":"IF(AD8=\"\",\"\",RANK(AD8,$AD$7:$AD$46,1))","v":""},{"$f":"IF(OR(P8<>\"Finished\",O8>$O$2),\"\",\"UR\")","v":""}]
[null,null,null,null,null,null,null,null,null,0,0,null,null,null,0,null,"","","",{"$error":"#DIV/0!"},"",{"$f":"IF(P9<>\"Finished\",\"\",VLOOKUP(O9,'Data for points'!$D$16:$Y$23,20,TRUE))","v":""},"","",{"$f":"MIN(IF($C$7:$C$46=C9,$X$7:$X$46,\"\"))","v":0},"","","","","","",""]
[null,null,null,null,null,null,null,null,null,0,0,null,null,null,0,null,"","","",{"$error":"#DIV/0!"},"",{"$f":"IF(P10<>\"Finished\",\"\",VLOOKUP(O10,'Data for points'!$D$16:$Y$23,20,TRUE))","v":""},"","",{"$f":"MIN(IF($C$7:$C$46=C10,$X$7:$X$46,\"\"))","v":0},"","","","","","",""]
[null,null,null,null,null,null,null,null,null,0,0,null,null,null,0,null,"","","",{"$error":"#DIV/0!"},"",{"$f":"IF(P11<>\"Finished\",\"\",VLOOKUP(O11,'Data for points'!$D$16:$Y$23,20,TRUE))","v":""},"","",{"$f":"MIN(IF($C$7:$C$46=C11,$X$7:$X$46,\"\"))","v":0},"","","","","","",""]
[null,null,null,null,null,null,null,null,null,0,0,null,null,null,0,null,"","","",{"$error":"#DIV/0!"},"",{"$f":"IF(P12<>\"Finished\",\"\",VLOOKUP(O12,'Data for points'!$D$16:$Y$23,20,TRUE))","v":""},"","",{"$f":"MIN(IF($C$7:$C$46=C12,$X$7:$X$46,\"\"))","v":0},"","","","","","",""]
[null,null,null,null,null,null,null,null,null,0,0,null,null,null,0,null,"","","",{"$error":"#DIV/0!"},"",{"$f":"IF(P13<>\"Finished\",\"\",VLOOKUP(O13,'Data for points'!$D$16:$Y$23,20,TRUE))","v":""},"","",{"$f":"MIN(IF($C$7:$C$46=C13,$X$7:$X$46,\"\"))","v":0},"","","","","","",""]
[null,null,null,null,null,null,null,null,null,0,0,null,null,null,0,null,"","","",{"$error":"#DIV/0!"},"",{"$f":"IF(P14<>\"Finished\",\"\",VLOOKUP(O14,'Data for points'!$D$16:$Y$23,20,TRUE))","v":""},"","",{"$f":"MIN(IF($C$7:$C$46=C14,$X$7:$X$46,\"\"))","v":0},"","","","","","",""]
[null,null,null,null,null,null,null,null,null,0,0,null,null,null,0,null,"","","",{"$error":"#DIV/0!"},"",{"$f":"IF(P15<>\"Finished\",\"\",VLOOKUP(O15,'Data for points'!$D$16:$Y$23,20,TRUE))","v":""},"","",{"$f":"MIN(IF($C$7:$C$46=C15,$X$7:$X$46,\"\"))","v":0},"","","","","","",""]
[null,null,null,null,null,null,null,null,null,0,0,null,null,null,0,null,"","","",{"$error":"#DIV/0!"},"",{"$f":"IF(P16<>\"Finished\",\"\",VLOOKUP(O16,'Data for points'!$D$16:$Y$23,20,TRUE))","v":""},"","",{"$f":"MIN(IF($C$7:$C$46=C16,$X$7:$X$46,\"\"))","v":0},"","","","","","",""]
[null,null,null,null,null,null,null,null,null,0,0,null,null,null,0,null,"","","",{"$error":"#DIV/0!"},"",{"$f":"IF(P17<>\"Finished\",\"\",VLOOKUP(O17,'Data for points'!$D$16:$Y$23,20,TRUE))","v":""},"","",{"$f":"MIN(IF($C$7:$C$46=C17,$X$7:$X$46,\"\"))","v":0},"","","","","","",""]
[null,null,null,null,null,null,null,null,null,0,0,null,null,null,0,null,"","","",{"$error":"#DIV/0!"},"",{"$f":"IF(P18<>\"Finished\",\"\",VLOOKUP(O18,'Data for points'!$D$16:$Y$23,20,TRUE))","v":""},"","",{"$f":"MIN(IF($C$7:$C$46=C18,$X$7:$X$46,\"\"))","v":0},"","","","","","",""]
[null,null,null,null,null,null,null,null,null,0,0,null,null,null,0,null,"","","",{"$error":"#DIV/0!"},"",{"$f":"IF(P19<>\"Finished\",\"\",VLOOKUP(O19,'Data for points'!$D$16:$Y$23,20,TRUE))","v":""},"","",{"$f":"MIN(IF($C$7:$C$46=C19,$X$7:$X$46,\"\"))","v":0},"","","","","","",""]
[null,null,null,null,null,null,null,null,null,0,0,null,null,null,0,null,"","","",{"$error":"#DIV/0!"},"",{"$f":"IF(P20<>\"Finished\",\"\",VLOOKUP(O20,'Data for points'!$D$16:$Y$23,20,TRUE))","v":""},"","",{"$f":"MIN(IF($C$7:$C$46=C20,$X$7:$X$46,\"\"))","v":0},"","","","","","",""]
[null,null,null,null,null,null,null,null,null,0,0,null,null,null,0,null,"","","",{"$error":"#DIV/0!"},"",{"$f":"IF(P21<>\"Finished\",\"\",VLOOKUP(O21,'Data for points'!$D$16:$Y$23,20,TRUE))","v":""},"","",{"$f":"MIN(IF($C$7:$C$46=C21,$X$7:$X$46,\"\"))","v":0},"","","","","","",""]
[null,null,null,null,null,null,null,null,null,0,0,null,null,null,0,null,"","","",{"$error":"#DIV/0!"},"",{"$f":"IF(P22<>\"Finished\",\"\",VLOOKUP(O22,'Data for points'!$D$16:$Y$23,20,TRUE))","v":""},"","",{"$f":"MIN(IF($C$7:$C$46=C22,$X$7:$X$46,\"\"))","v":0},"","","","","","",""]
[null,null,null,null,null,null,null,null,null,0,0,null,null,null,0,null,"","","",{"$error":"#DIV/0!"},"",{"$f":"IF(P23<>\"Finished\",\"\",VLOOKUP(O23,'Data for points'!$D$16:$Y$23,20,TRUE))","v":""},"","",{"$f":"MIN(IF($C$7:$C$46=C23,$X$7:$X$46,\"\"))","v":0},"","","","","","",""]
[null,null,null,null,null,null,null,null,null,0,0,null,null,null,0,null,"","","",{"$error":"#DIV/0!"},"",{"$f":"IF(P24<>\"Finished\",\"\",VLOOKUP(O24,'Data for points'!$D$16:$Y$23,20,TRUE))","v":""},"","",{"$f":"MIN(IF($C$7:$C$46=C24,$X$7:$X$46,\"\"))","v":0},"","","","","","",""]
[null,null,null,null,null,null,null,null,null,0,0,null,null,null,0,null,"","","",{"$error":"#DIV/0!"},"",{"$f":"IF(P25<>\"Finished\",\"\",VLOOKUP(O25,'Data for points'!$D$16:$Y$23,20,TRUE))","v":""},"","",{"$f":"MIN(IF($C$7:$C$46=C25,$X$7:$X$46,\"\"))","v":0},"","","","","","",""]
[null,null,null,null,null,null,null,null,null,0,0,null,null,null,0,null,"","","",{"$error":"#DIV/0!"},"",{"$f":"IF(P26<>\"Finished\",\"\",VLOOKUP(O26,'Data for points'!$D$16:$Y$23,20,TRUE))","v":""},"","",{"$f":"MIN(IF($C$7:$C$46=C26,$X$7:$X$46,\"\"))","v":0},"","","","","","",""]
[null,null,null,null,null,null,null,null,null,0,0,null,null,null,0,null,"","","",{"$error":"#DIV/0!"},"",{"$f":"IF(P27<>\"Finished\",\"\",VLOOKUP(O27,'Data for points'!$D$16:$Y$23,20,TRUE))","v":""},"","",{"$f":"MIN(IF($C$7:$C$46=C27,$X$7:$X$46,\"\"))","v":0},"","","","","","",""]
[null,null,null,null,null,null,null,null,null,0,0,null,null,null,0,null,"","","",{"$error":"#DIV/0!"},"",{"$f":"IF(P28<>\"Finished\",\"\",VLOOKUP(O28,'Data for points'!$D$16:$Y$23,20,TRUE))","v":""},"","",{"$f":"MIN(IF($C$7:$C$46=C28,$X$7:$X$46,\"\"))","v":0},"","","","","","",""]
[null,null,null,null,null,null,null,null,null,0,0,null,null,null,0,null,"","","",{"$error":"#DIV/0!"},"",{"$f":"IF(P29<>\"Finished\",\"\",VLOOKUP(O29,'Data for points'!$D$16:$Y$23,20,TRUE))","v":""},"","",{"$f":"MIN(IF($C$7:$C$46=C29,$X$7:$X$46,\"\"))","v":0},"","","","","","",""]
[null,null,null,null,null,null,null,null,null,0,0,null,null,null,0,null,"","","",{"$error":"#DIV/0!"},"",{"$f":"IF(P30<>\"Finished\",\"\",VLOOKUP(O30,'Data for points'!$D$16:$Y$23,20,TRUE))","v":""},"","",{"$f":"MIN(IF($C$7:$C$46=C30,$X$7:$X$46,\"\"))","v":0},"","","","","","",""]
[null,null,null,null,null,null,null,null,null,0,0,null,null,null,0,null,"","","",{"$error":"#DIV/0!"},"",{"$f":"IF(P31<>\"Finished\",\"\",VLOOKUP(O31,'Data for points'!$D$16:$Y$23,20,TRUE))","v":""},"","",{"$f":"MIN(IF($C$7:$C$46=C31,$X$7:$X$46,\"\"))","v":0},"","","","","","",""]
[null,null,null,null,null,null,null,null,null,0,0,null,null,null,0,null,"","","",{"$error":"#DIV/0!"},"",{"$f":"IF(P32<>\"Finished\",\"\",VLOOKUP(O32,'Data for points'!$D$16:$Y$23,20,TRUE))","v":""},"","",{"$f":"MIN(IF($C$7:$C$46=C32,$X$7:$X$46,\"\"))","v":0},"","","","","","",""]
[null,null,null,null,null,null,null,null,null,0,0,null,null,null,0,null,"","","",{"$error":"#DIV/0!"},"",{"$f":"IF(P33<>\"Finished\",\"\",VLOOKUP(O33,'Data for points'!$D$16:$Y$23,20,TRUE))","v":""},"","",{"$f":"MIN(IF($C$7:$C$46=C33,$X$7:$X$46,\"\"))","v":0},"","","","","","",""]
[null,null,null,null,null,null,null,null,null,0,0,null,null,null,0,null,"","","",{"$error":"#DIV/0!"},"",{"$f":"IF(P34<>\"Finished\",\"\",VLOOKUP(O34,'Data for points'!$D$16:$Y$23,20,TRUE))","v":""},"","",{"$f":"MIN(IF($C$7:$C$46=C34,$X$7:$X$46,\"\"))","v":0},"","","","","","",""]
[null,null,null,null,null,null,null,null,null,0,0,null,null,null,0,null,"","","",{"$error":"#DIV/0!"},"",{"$f":"IF(P35<>\"Finished\",\"\",VLOOKUP(O35,'Data for points'!$D$16:$Y$23,20,TRUE))","v":""},"","",{"$f":"MIN(IF($C$7:$C$46=C35,$X$7:$X$46,\"\"))","v":0},"","","","","","",""]
[null,null,null,null,null,null,null,null,null,0,0,null,null,null,0,null,"","","",{"$error":"#DIV/0!"},"",{"$f":"IF(P36<>\"Finished\",\"\",VLOOKUP(O36,'Data for points'!$D$16:$Y$23,20,TRUE))","v":""},"","",{"$f":"MIN(IF($C$7:$C$46=C36,$X$7:$X$46,\"\"))","v":0},"","","","","","",""]
[null,null,null,null,null,null,null,null,null,0,0,null,null,null,0,null,"","","",{"$error":"#DIV/0!"},"",{"$f":"IF(P37<>\"Finished\",\"\",VLOOKUP(O37,'Data for points'!$D$16:$Y$23,20,TRUE))","v":""},"","",{"$f":"MIN(IF($C$7:$C$46=C37,$X$7:$X$46,\"\"))","v":0},"","","","","","",""]
[null,null,null,null,null,null,null,null,null,0,0,null,null,null,0,null,"","","",{"$error":"#DIV/0!"},"",{"$f":"IF(P38<>\"Finished\",\"\",VLOOKUP(O38,'Data for points'!$D$16:$Y$23,20,TRUE))","v":""},"","",{"$f":"MIN(IF($C$7:$C$46=C38,$X$7:$X$46,\"\"))","v":0},"","","","","","",""]
[null,null,null,null,null,null,null,null,null,0,0,null,null,null,0,null,"","","",{"$error":"#DIV/0!"},"",{"$f":"IF(P39<>\"Finished\",\"\",VLOOKUP(O39,'Data for points'!$D$16:$Y$23,20,TRUE))","v":""},"","",{"$f":"MIN(IF($C$7:$C$46=C39,$X$7:$X$46,\"\"))","v":0},"","","","","","",""]
[null,null,null,null,null,null,null,null,null,0,0,null,null,null,0,null,"","","",{"$error":"#DIV/0!"},"",{"$f":"IF(P40<>\"Finished\",\"\",VLOOKUP(O40,'Data for points'!$D$16:$Y$23,20,TRUE))","v":""},"","",{"$f":"MIN(IF($C$7:$C$46=C40,$X$7:$X$46,\"\"))","v":0},"","","","","","",""]
[null,null,null,null,null,null,null,null,null,0,0,null,null,null,0,null,"","","",{"$error":"#DIV/0!"},"",{"$f":"IF(P41<>\"Finished\",\"\",VLOOKUP(O41,'Data for points'!$D$16:$Y$23,20,TRUE))","v":""},"","",{"$f":"MIN(IF($C$7:$C$46=C41,$X$7:$X$46,\"\"))","v":0},"","","","","","",""]
[null,null,null,null,null,null,null,null,null,0,0,null,null,null,0,null,"","","",{"$error":"#DIV/0!"},"",{"$f":"IF(P42<>\"Finished\",\"\",VLOOKUP(O42,'Data for points'!$D$16:$Y$23,20,TRUE))","v":""},"","",{"$f":"MIN(IF($C$7:$C$46=C42,$X$7:$X$46,\"\"))","v":0},"","","","","","",""]
[null,null,null,null,null,null,null,null,null,0,0,null,null,null,0,null,"","","",{"$error":"#DIV/0!"},"",{"$f":"IF(P43<>\"Finished\",\"\",VLOOKUP(O43,'Data for points'!$D$16:$Y$23,20,TRUE))","v":""},"","",{"$f":"MIN(IF($C$7:$C$46=C43,$X$7:$X$46,\"\"))","v":0},"","","","","","",""]
[null,null,null,null,null,null,null,null,null,0,0,null,null,null,0,null,"","","",{"$error":"#DIV/0!"},"",{"$f":"IF(P44<>\"Finished\",\"\",VLOOKUP(O44,'Data for points'!$D$16:$Y$23,20,TRUE))","v":""},"","",{"$f":"MIN(IF($C$7:$C$46=C44,$X$7:$X$46,\"\"))","v":0},"","","","","","",""]
[null,null,null,null,null,null,null,null,null,0,0,null,null,null,0,null,"","","",{"$error":"#DIV/0!"},"",{"$f":"IF(P45<>\"Finished\",\"\",VLOOKUP(O45,'Data for points'!$D$16:$Y$23,20,TRUE))","v":""},"","",{"$f":"MIN(IF($C$7:$C$46=C45,$X$7:$X$46,\"\"))","v":0},"","","","","","",""]
[null,null,null,null,null,null,null,null,null,0,0,null,null,null,0,null,"","","",{"$error":"#DIV/0!"},"",{"$f":"IF(P46<>\"Finished\",\"\",VLOOKUP(O46,'Data for points'!$D$16:$Y$23,20,TRUE))","v":""},"","",{"$f":"MIN(IF($C$7:$C$46=C46,$X$7:$X$46,\"\"))","v":0},"","","","","","",""]
[]
[]
[]
[]
[]
[]
[]
[]
[]
[]
[]
[]
[]
[]
[]
[]
[]
[]
[]
[]
[]
[]
[]
[]
[]
[]
[]
[]
[]
[]
[]
[]
[]
[]
[]
[]
[]
[]
[]
[]
[]
[]
[]
[]
[]
[]
[]
[]
[]
[]
[]
[]
[]
[null,null,null,null,null,null,null,null,null,null,null,null,null,null,null,"Finished"]
[null,null,null,null,null,null,null,null,null,null,null,null,null,null,null,"Disqualified"]

{"sheet":"100m Manikin Tow Women","index":31,"n_rows":101,"n_cols":32,"rows_kept":101,"cut":false,"hidden":true,"merged":[[4,6,4,7],[4,9,4,10],[4,11,4,13],[1,10,1,11]]}
[null,null,null,null,null,null,null,null,null,null,null,null,null,null,"UR in seconds"]
[null,"Women's",null,"100m Manikin Tow",null,null,null,null,null,null,"Club to \nHighlight",null,null,null,{"$f":"'Data for points'!D6","v":0},{"$f":"CONCATENATE(\"University  Record=\",INT(O2/60),\" minS\",MOD(O2,60),\" secs\")","v":"University  Record=0 minS0 secs"}]
[]
[]
["A University(Boolean)","Club Name","Club Code","Competitor","CompetitorID","AcceptanceID","ID code",null,"Entry Time(Seconds)","Entry Time",null,"Time",null,null,"Time(seconds)","Finish \nStatus","TimeSand  DQs","Rank","Competition \nPlace","PointSCalculation","Lifesaving Points","Survive and Save Status","Squad List","Rank For \nSquadSMembers","Top Finisher for there Uni","Top finisher Select Competitor for ranking","Squad \nPoints","Uni Finishers","Student \nPoints","Non-Uni Finishers","Non-Student \nPoints"]
[null,null,null,null,null,null,null,null,null,"Mins","Seconds","Mins","Seconds","1/100"]
[null,null,null,null,null,null,null,null,null,{"$f":"INT(I7/60)","v":0},{"$f":"MOD(I7,60)","v":0},null,null,null,{"$f":"L7*60+M7+N7/100","v":0},null,{"$f":"IF(P7<>\"Finished\",IF(P7<=0,\"\",P7),IF(P7=\"Finished\",IF(O7<=0,\"\",O7),\"\"))","v":""},{"$f":"IF(OR(LEFT(Q7,1)=\"D\",Q7=\"\"),\"\",RANK(Q7,$Q$7:$Q$46,1))","v":""},{"$f":"IF(LEFT(P7,1)=\"D\",MAX($R$7:$R$46)+1,R7)","v":""},{"$f":"(1-(O7-$O$2)/$O$2)*1000","v":{"$error":"#DIV/0!"}},{"$f":"IF(P7<>\"Finished\",\"\",IF(T7<0,0,T7))","v":""},{"$f":"IF(P7<>\"Finished\",\"\",VLOOKUP(O7,'Data for points'!$D$26:$Y$33,20,TRUE))","v":""},{"$f":"IF(G7=\"S\",S7,\"\")","v":""},{"$f":"IF(W7=\"\",\"\",RANK(W7,$W$7:$W$46,1))","v":""},{"$f":"MIN(IF($C$7:$C$46=C7,$X$7:$X$46,\"\"))","v":0},{"$f":"IF(Y7=X7,Y7,\"\")","v":""},{"$f":"IF(Z7=\"\",\"\",RANK(Z7,$Z$7:$Z$46,1))","v":""},{"$f":"IF(A7=1,AA7,\"\")","v":""},{"$f":"IF(AB7=\"\",\"\",RANK(AB7,$AB$7:$AB$46,1))","v":""},{"$f":"IF(A7=0,AA7,\"\")","v":""},{"$f":"IF(AD7=\"\",\"\",RANK(AD7,$AD$7:$AD$46,1))","v":""},{"$f":"IF(OR(P7<>\"Finished\",O7>$O$2),\"\",\"UR\")","v":""}]
[null,null,null,null,null,null,null,null,null,{"$f":"INT(I8/60)","v":0},{"$f":"MOD(I8,60)","v":0},null,null,null,{"$f":"L8*60+M8+N8/100","v":0},null,{"$f":"IF(P8<>\"Finished\",IF(P8<=0,\"\",P8),IF(P8=\"Finished\",IF(O8<=0,\"\",O8),\"\"))","v":""},{"$f":"IF(OR(LEFT(Q8,1)=\"D\",Q8=\"\"),\"\",RANK(Q8,$Q$7:$Q$46,1))","v":""},{"$f":"IF(LEFT(P8,1)=\"D\",MAX($R$7:$R$46)+1,R8)","v":""},{"$f":"(1-(O8-$O$2)/$O$2)*1000","v":{"$error":"#DIV/0!"}},{"$f":"IF(P8<>\"Finished\",\"\",IF(T8<0,0,T8))","v":""},{"$f":"IF(P8<>\"Finished\",\"\",VLOOKUP(O8,'Data for points'!$D$26:$Y$33,20,TRUE))","v":""},{"$f":"IF(G8=\"S\",S8,\"\")","v":""},{"$f":"IF(W8=\"\",\"\",RANK(W8,$W$7:$W$46,1))","v":""},{"$f":"MIN(IF($C$7:$C$46=C8,$X$7:$X$46,\"\"))","v":0},{"$f":"IF(Y8=X8,Y8,\"\")","v":""},{"$f":"IF(Z8=\"\",\"\",RANK(Z8,$Z$7:$Z$46,1))","v":""},{"$f":"IF(A8=1,AA8,\"\")","v":""},{"$f":"IF(AB8=\"\",\"\",RANK(AB8,$AB$7:$AB$46,1))","v":""},"",{"$f":"IF(AD8=\"\",\"\",RANK(AD8,$AD$7:$AD$46,1))","v":""},{"$f":"IF(OR(P8<>\"Finished\",O8>$O$2),\"\",\"UR\")","v":""}]
[null,null,null,null,null,null,null,null,null,0,0,null,null,null,0,null,"","","",{"$error":"#DIV/0!"},"",{"$f":"IF(P9<>\"Finished\",\"\",VLOOKUP(O9,'Data for points'!$D$26:$Y$33,20,TRUE))","v":""},"","",{"$f":"MIN(IF($C$7:$C$46=C9,$X$7:$X$46,\"\"))","v":0},"","","","","","",""]
[null,null,null,null,null,null,null,null,null,0,0,null,null,null,0,null,"","","",{"$error":"#DIV/0!"},"",{"$f":"IF(P10<>\"Finished\",\"\",VLOOKUP(O10,'Data for points'!$D$26:$Y$33,20,TRUE))","v":""},"","",{"$f":"MIN(IF($C$7:$C$46=C10,$X$7:$X$46,\"\"))","v":0},"","","","","","",""]
[null,null,null,null,null,null,null,null,null,0,0,null,null,null,0,null,"","","",{"$error":"#DIV/0!"},"",{"$f":"IF(P11<>\"Finished\",\"\",VLOOKUP(O11,'Data for points'!$D$26:$Y$33,20,TRUE))","v":""},"","",{"$f":"MIN(IF($C$7:$C$46=C11,$X$7:$X$46,\"\"))","v":0},"","","","","","",""]
[null,null,null,null,null,null,null,null,null,0,0,null,null,null,0,null,"","","",{"$error":"#DIV/0!"},"",{"$f":"IF(P12<>\"Finished\",\"\",VLOOKUP(O12,'Data for points'!$D$26:$Y$33,20,TRUE))","v":""},"","",{"$f":"MIN(IF($C$7:$C$46=C12,$X$7:$X$46,\"\"))","v":0},"","","","","","",""]
[null,null,null,null,null,null,null,null,null,0,0,null,null,null,0,null,"","","",{"$error":"#DIV/0!"},"",{"$f":"IF(P13<>\"Finished\",\"\",VLOOKUP(O13,'Data for points'!$D$26:$Y$33,20,TRUE))","v":""},"","",{"$f":"MIN(IF($C$7:$C$46=C13,$X$7:$X$46,\"\"))","v":0},"","","","","","",""]
[null,null,null,null,null,null,null,null,null,0,0,null,null,null,0,null,"","","",{"$error":"#DIV/0!"},"",{"$f":"IF(P14<>\"Finished\",\"\",VLOOKUP(O14,'Data for points'!$D$26:$Y$33,20,TRUE))","v":""},"","",{"$f":"MIN(IF($C$7:$C$46=C14,$X$7:$X$46,\"\"))","v":0},"","","","","","",""]
[null,null,null,null,null,null,null,null,null,0,0,null,null,null,0,null,"","","",{"$error":"#DIV/0!"},"",{"$f":"IF(P15<>\"Finished\",\"\",VLOOKUP(O15,'Data for points'!$D$26:$Y$33,20,TRUE))","v":""},"","",{"$f":"MIN(IF($C$7:$C$46=C15,$X$7:$X$46,\"\"))","v":0},"","","","","","",""]
[null,null,null,null,null,null,null,null,null,0,0,null,null,null,0,null,"","","",{"$error":"#DIV/0!"},"",{"$f":"IF(P16<>\"Finished\",\"\",VLOOKUP(O16,'Data for points'!$D$26:$Y$33,20,TRUE))","v":""},"","",{"$f":"MIN(IF($C$7:$C$46=C16,$X$7:$X$46,\"\"))","v":0},"","","","","","",""]
[null,null,null,null,null,null,null,null,null,0,0,null,null,null,0,null,"","","",{"$error":"#DIV/0!"},"",{"$f":"IF(P17<>\"Finished\",\"\",VLOOKUP(O17,'Data for points'!$D$26:$Y$33,20,TRUE))","v":""},"","",{"$f":"MIN(IF($C$7:$C$46=C17,$X$7:$X$46,\"\"))","v":0},"","","","","","",""]
[null,null,null,null,null,null,null,null,null,0,0,null,null,null,0,null,"","","",{"$error":"#DIV/0!"},"",{"$f":"IF(P18<>\"Finished\",\"\",VLOOKUP(O18,'Data for points'!$D$26:$Y$33,20,TRUE))","v":""},"","",{"$f":"MIN(IF($C$7:$C$46=C18,$X$7:$X$46,\"\"))","v":0},"","","","","","",""]
[null,null,null,null,null,null,null,null,null,0,0,null,null,null,0,null,"","","",{"$error":"#DIV/0!"},"",{"$f":"IF(P19<>\"Finished\",\"\",VLOOKUP(O19,'Data for points'!$D$26:$Y$33,20,TRUE))","v":""},"","",{"$f":"MIN(IF($C$7:$C$46=C19,$X$7:$X$46,\"\"))","v":0},"","","","","","",""]
[null,null,null,null,null,null,null,null,null,0,0,null,null,null,0,null,"","","",{"$error":"#DIV/0!"},"",{"$f":"IF(P20<>\"Finished\",\"\",VLOOKUP(O20,'Data for points'!$D$26:$Y$33,20,TRUE))","v":""},"","",{"$f":"MIN(IF($C$7:$C$46=C20,$X$7:$X$46,\"\"))","v":0},"","","","","","",""]
[null,null,null,null,null,null,null,null,null,0,0,null,null,null,0,null,"","","",{"$error":"#DIV/0!"},"",{"$f":"IF(P21<>\"Finished\",\"\",VLOOKUP(O21,'Data for points'!$D$26:$Y$33,20,TRUE))","v":""},"","",{"$f":"MIN(IF($C$7:$C$46=C21,$X$7:$X$46,\"\"))","v":0},"","","","","","",""]
[null,null,null,null,null,null,null,null,null,0,0,null,null,null,0,null,"","","",{"$error":"#DIV/0!"},"",{"$f":"IF(P22<>\"Finished\",\"\",VLOOKUP(O22,'Data for points'!$D$26:$Y$33,20,TRUE))","v":""},"","",{"$f":"MIN(IF($C$7:$C$46=C22,$X$7:$X$46,\"\"))","v":0},"","","","","","",""]
[null,null,null,null,null,null,null,null,null,0,0,null,null,null,0,null,"","","",{"$error":"#DIV/0!"},"",{"$f":"IF(P23<>\"Finished\",\"\",VLOOKUP(O23,'Data for points'!$D$26:$Y$33,20,TRUE))","v":""},"","",{"$f":"MIN(IF($C$7:$C$46=C23,$X$7:$X$46,\"\"))","v":0},"","","","","","",""]
[null,null,null,null,null,null,null,null,null,0,0,null,null,null,0,null,"","","",{"$error":"#DIV/0!"},"",{"$f":"IF(P24<>\"Finished\",\"\",VLOOKUP(O24,'Data for points'!$D$26:$Y$33,20,TRUE))","v":""},"","",{"$f":"MIN(IF($C$7:$C$46=C24,$X$7:$X$46,\"\"))","v":0},"","","","","","",""]
[null,null,null,null,null,null,null,null,null,0,0,null,null,null,0,null,"","","",{"$error":"#DIV/0!"},"",{"$f":"IF(P25<>\"Finished\",\"\",VLOOKUP(O25,'Data for points'!$D$26:$Y$33,20,TRUE))","v":""},"","",{"$f":"MIN(IF($C$7:$C$46=C25,$X$7:$X$46,\"\"))","v":0},"","","","","","",""]
[null,null,null,null,null,null,null,null,null,0,0,null,null,null,0,null,"","","",{"$error":"#DIV/0!"},"",{"$f":"IF(P26<>\"Finished\",\"\",VLOOKUP(O26,'Data for points'!$D$26:$Y$33,20,TRUE))","v":""},"","",{"$f":"MIN(IF($C$7:$C$46=C26,$X$7:$X$46,\"\"))","v":0},"","","","","","",""]
[null,null,null,null,null,null,null,null,null,0,0,null,null,null,0,null,"","","",{"$error":"#DIV/0!"},"",{"$f":"IF(P27<>\"Finished\",\"\",VLOOKUP(O27,'Data for points'!$D$26:$Y$33,20,TRUE))","v":""},"","",{"$f":"MIN(IF($C$7:$C$46=C27,$X$7:$X$46,\"\"))","v":0},"","","","","","",""]
[null,null,null,null,null,null,null,null,null,0,0,null,null,null,0,null,"","","",{"$error":"#DIV/0!"},"",{"$f":"IF(P28<>\"Finished\",\"\",VLOOKUP(O28,'Data for points'!$D$26:$Y$33,20,TRUE))","v":""},"","",{"$f":"MIN(IF($C$7:$C$46=C28,$X$7:$X$46,\"\"))","v":0},"","","","","","",""]
[null,null,null,null,null,null,null,null,null,0,0,null,null,null,0,null,"","","",{"$error":"#DIV/0!"},"",{"$f":"IF(P29<>\"Finished\",\"\",VLOOKUP(O29,'Data for points'!$D$26:$Y$33,20,TRUE))","v":""},"","",{"$f":"MIN(IF($C$7:$C$46=C29,$X$7:$X$46,\"\"))","v":0},"","","","","","",""]
[null,null,null,null,null,null,null,null,null,0,0,null,null,null,0,null,"","","",{"$error":"#DIV/0!"},"",{"$f":"IF(P30<>\"Finished\",\"\",VLOOKUP(O30,'Data for points'!$D$26:$Y$33,20,TRUE))","v":""},"","",{"$f":"MIN(IF($C$7:$C$46=C30,$X$7:$X$46,\"\"))","v":0},"","","","","","",""]
[null,null,null,null,null,null,null,null,null,0,0,null,null,null,0,null,"","","",{"$error":"#DIV/0!"},"",{"$f":"IF(P31<>\"Finished\",\"\",VLOOKUP(O31,'Data for points'!$D$26:$Y$33,20,TRUE))","v":""},"","",{"$f":"MIN(IF($C$7:$C$46=C31,$X$7:$X$46,\"\"))","v":0},"","","","","","",""]
[null,null,null,null,null,null,null,null,null,0,0,null,null,null,0,null,"","","",{"$error":"#DIV/0!"},"",{"$f":"IF(P32<>\"Finished\",\"\",VLOOKUP(O32,'Data for points'!$D$26:$Y$33,20,TRUE))","v":""},"","",{"$f":"MIN(IF($C$7:$C$46=C32,$X$7:$X$46,\"\"))","v":0},"","","","","","",""]
[null,null,null,null,null,null,null,null,null,0,0,null,null,null,0,null,"","","",{"$error":"#DIV/0!"},"",{"$f":"IF(P33<>\"Finished\",\"\",VLOOKUP(O33,'Data for points'!$D$26:$Y$33,20,TRUE))","v":""},"","",{"$f":"MIN(IF($C$7:$C$46=C33,$X$7:$X$46,\"\"))","v":0},"","","","","","",""]
[null,null,null,null,null,null,null,null,null,0,0,null,null,null,0,null,"","","",{"$error":"#DIV/0!"},"",{"$f":"IF(P34<>\"Finished\",\"\",VLOOKUP(O34,'Data for points'!$D$26:$Y$33,20,TRUE))","v":""},"","",{"$f":"MIN(IF($C$7:$C$46=C34,$X$7:$X$46,\"\"))","v":0},"","","","","","",""]
[null,null,null,null,null,null,null,null,null,0,0,null,null,null,0,null,"","","",{"$error":"#DIV/0!"},"",{"$f":"IF(P35<>\"Finished\",\"\",VLOOKUP(O35,'Data for points'!$D$26:$Y$33,20,TRUE))","v":""},"","",{"$f":"MIN(IF($C$7:$C$46=C35,$X$7:$X$46,\"\"))","v":0},"","","","","","",""]
[null,null,null,null,null,null,null,null,null,0,0,null,null,null,0,null,"","","",{"$error":"#DIV/0!"},"",{"$f":"IF(P36<>\"Finished\",\"\",VLOOKUP(O36,'Data for points'!$D$26:$Y$33,20,TRUE))","v":""},"","",{"$f":"MIN(IF($C$7:$C$46=C36,$X$7:$X$46,\"\"))","v":0},"","","","","","",""]
[null,null,null,null,null,null,null,null,null,0,0,null,null,null,0,null,"","","",{"$error":"#DIV/0!"},"",{"$f":"IF(P37<>\"Finished\",\"\",VLOOKUP(O37,'Data for points'!$D$26:$Y$33,20,TRUE))","v":""},"","",{"$f":"MIN(IF($C$7:$C$46=C37,$X$7:$X$46,\"\"))","v":0},"","","","","","",""]
[null,null,null,null,null,null,null,null,null,0,0,null,null,null,0,null,"","","",{"$error":"#DIV/0!"},"",{"$f":"IF(P38<>\"Finished\",\"\",VLOOKUP(O38,'Data for points'!$D$26:$Y$33,20,TRUE))","v":""},"","",{"$f":"MIN(IF($C$7:$C$46=C38,$X$7:$X$46,\"\"))","v":0},"","","","","","",""]
[null,null,null,null,null,null,null,null,null,0,0,null,null,null,0,null,"","","",{"$error":"#DIV/0!"},"",{"$f":"IF(P39<>\"Finished\",\"\",VLOOKUP(O39,'Data for points'!$D$26:$Y$33,20,TRUE))","v":""},"","",{"$f":"MIN(IF($C$7:$C$46=C39,$X$7:$X$46,\"\"))","v":0},"","","","","","",""]
[null,null,null,null,null,null,null,null,null,0,0,null,null,null,0,null,"","","",{"$error":"#DIV/0!"},"",{"$f":"IF(P40<>\"Finished\",\"\",VLOOKUP(O40,'Data for points'!$D$26:$Y$33,20,TRUE))","v":""},"","",{"$f":"MIN(IF($C$7:$C$46=C40,$X$7:$X$46,\"\"))","v":0},"","","","","","",""]
[null,null,null,null,null,null,null,null,null,0,0,null,null,null,0,null,"","","",{"$error":"#DIV/0!"},"",{"$f":"IF(P41<>\"Finished\",\"\",VLOOKUP(O41,'Data for points'!$D$26:$Y$33,20,TRUE))","v":""},"","",{"$f":"MIN(IF($C$7:$C$46=C41,$X$7:$X$46,\"\"))","v":0},"","","","","","",""]
[null,null,null,null,null,null,null,null,null,0,0,null,null,null,0,null,"","","",{"$error":"#DIV/0!"},"",{"$f":"IF(P42<>\"Finished\",\"\",VLOOKUP(O42,'Data for points'!$D$26:$Y$33,20,TRUE))","v":""},"","",{"$f":"MIN(IF($C$7:$C$46=C42,$X$7:$X$46,\"\"))","v":0},"","","","","","",""]
[null,null,null,null,null,null,null,null,null,0,0,null,null,null,0,null,"","","",{"$error":"#DIV/0!"},"",{"$f":"IF(P43<>\"Finished\",\"\",VLOOKUP(O43,'Data for points'!$D$26:$Y$33,20,TRUE))","v":""},"","",{"$f":"MIN(IF($C$7:$C$46=C43,$X$7:$X$46,\"\"))","v":0},"","","","","","",""]
[null,null,null,null,null,null,null,null,null,0,0,null,null,null,0,null,"","","",{"$error":"#DIV/0!"},"",{"$f":"IF(P44<>\"Finished\",\"\",VLOOKUP(O44,'Data for points'!$D$26:$Y$33,20,TRUE))","v":""},"","",{"$f":"MIN(IF($C$7:$C$46=C44,$X$7:$X$46,\"\"))","v":0},"","","","","","",""]
[null,null,null,null,null,null,null,null,null,0,0,null,null,null,0,null,"","","",{"$error":"#DIV/0!"},"",{"$f":"IF(P45<>\"Finished\",\"\",VLOOKUP(O45,'Data for points'!$D$26:$Y$33,20,TRUE))","v":""},"","",{"$f":"MIN(IF($C$7:$C$46=C45,$X$7:$X$46,\"\"))","v":0},"","","","","","",""]
[null,null,null,null,null,null,null,null,null,0,0,null,null,null,0,null,"","","",{"$error":"#DIV/0!"},"",{"$f":"IF(P46<>\"Finished\",\"\",VLOOKUP(O46,'Data for points'!$D$26:$Y$33,20,TRUE))","v":""},"","",{"$f":"MIN(IF($C$7:$C$46=C46,$X$7:$X$46,\"\"))","v":0},"","","","","","",""]
[]
[]
[]
[]
[]
[]
[]
[]
[]
[]
[]
[]
[]
[]
[]
[]
[]
[]
[]
[]
[]
[]
[]
[]
[]
[]
[]
[]
[]
[]
[]
[]
[]
[]
[]
[]
[]
[]
[]
[]
[]
[]
[]
[]
[]
[]
[]
[]
[]
[]
[]
[]
[]
[null,null,null,null,null,null,null,null,null,null,null,null,null,null,null,"Finished"]
[null,null,null,null,null,null,null,null,null,null,null,null,null,null,null,"Disqualified"]

{"sheet":"100m Obs Men","index":32,"n_rows":101,"n_cols":32,"rows_kept":101,"cut":false,"hidden":false,"merged":[[1,10,1,11],[4,6,4,7],[4,9,4,10],[4,11,4,13]]}
[null,null,null,null,null,null,null,null,null,null,null,null,null,null,"UR in seconds"]
[null,"Men's",null,"100m Obs",null,null,null,null,null,null,"Club to \nHighlight",null,null,null,{"$f":"'Data for points'!P5","v":0},{"$f":"CONCATENATE(\"University  Record=\",INT(O2/60),\" minS\",MOD(O2,60),\" secs\")","v":"University  Record=0 minS0 secs"}]
[]
[]
["A University(Boolean)","Club Name","Club Code","Competitor","CompetitorID","AceptanceID","ID code",null,"Entry Time(Seconds)","Entry Time",null,"Time",null,null,"Time(seconds)","Finish \nStatus","TimeSand  DQs","Rank","Competition \nPlace","PointSCalculation","Lifesaving Points","Survive and Save Status","Squad List","Rank For \nSquadSMembers","Top Finisher for there Unit","Top finisher Select Competitor for ranking","Squad \nPoints","Uni Finishers","Student \nPoints","Non-Uni Finishers","Non-Student \nPoints"]
[null,null,null,null,null,null,null,null,null,"Mins","Seconds","Mins","Seconds","1/100"]
[0,"RLSS Uk Preformace",80,"Adam Threlfall",3016,3526,"S","M",65.34,{"$f":"INT(I7/60)","v":1},{"$f":"MOD(I7,60)","v":5.3400000000000034},1,1,15,{"$f":"L7*60+M7+N7/100","v":61.15},"Finished",{"$f":"IF(P7<>\"Finished\",IF(P7<=0,\"\",P7),IF(P7=\"Finished\",IF(O7<=0,\"\",O7),\"\"))","v":61.15},{"$f":"IF(OR(LEFT(Q7,1)=\"D\",Q7=\"\"),\"\",RANK(Q7,$Q$7:$Q$46,1))","v":3},{"$f":"IF(LEFT(P7,1)=\"D\",MAX($R$7:$R$46)+1,R7)","v":3},{"$f":"(1-(O7-$O$2)/$O$2)*1000","v":{"$error":"#DIV/0!"}},{"$f":"IF(P7<>\"Finished\",\"\",IF(T7<0,0,T7))","v":{"$error":"#DIV/0!"}},{"$f":"IF(P7<>\"Finished\",\"\",VLOOKUP(O7,'Data for points'!$P$16:$Z$23,10,TRUE))","v":"Champion"},{"$f":"IF(G7=\"S\",S7,\"\")","v":3},{"$f":"IF(W7=\"\",\"\",RANK(W7,$W$7:$W$46,1))","v":3},{"$f":"MIN(IF($C$7:$C$46=C7,$X$7:$X$46,\"\"))","v":1},{"$f":"IF(Y7=X7,Y7,\"\")","v":""},{"$f":"IF(Z7=\"\",\"\",RANK(Z7,$Z$7:$Z$46,1))","v":""},{"$f":"IF(A7=1,AA7,\"\")","v":""},{"$f":"IF(AB7=\"\",\"\",RANK(AB7,$AB$7:$AB$46,1))","v":""},{"$f":"IF(A7=0,AA7,\"\")","v":""},{"$f":"IF(AD7=\"\",\"\",RANK(AD7,$AD$7:$AD$46,1))","v":""},{"$f":"IF(OR(P7<>\"Finished\",O7>$O$2),\"\",\"UR\")","v":""}]
[0,"Blyth",56,"Daniel Weightman",3004,3475,"S","M",64.62,{"$f":"INT(I8/60)","v":1},{"$f":"MOD(I8,60)","v":4.6200000000000045},1,2,90,{"$f":"L8*60+M8+N8/100","v":62.9},"Finished",{"$f":"IF(P8<>\"Finished\",IF(P8<=0,\"\",P8),IF(P8=\"Finished\",IF(O8<=0,\"\",O8),\"\"))","v":62.9},{"$f":"IF(OR(LEFT(Q8,1)=\"D\",Q8=\"\"),\"\",RANK(Q8,$Q$7:$Q$46,1))","v":6},{"$f":"IF(LEFT(P8,1)=\"D\",MAX($R$7:$R$46)+1,R8)","v":6},{"$f":"(1-(O8-$O$2)/$O$2)*1000","v":{"$error":"#DIV/0!"}},{"$f":"IF(P8<>\"Finished\",\"\",IF(T8<0,0,T8))","v":{"$error":"#DIV/0!"}},{"$f":"IF(P8<>\"Finished\",\"\",VLOOKUP(O8,'Data for points'!$P$16:$Z$23,10,TRUE))","v":"Excellent"},{"$f":"IF(G8=\"S\",S8,\"\")","v":6},{"$f":"IF(W8=\"\",\"\",RANK(W8,$W$7:$W$46,1))","v":6},{"$f":"MIN(IF($C$7:$C$46=C8,$X$7:$X$46,\"\"))","v":6},{"$f":"IF(Y8=X8,Y8,\"\")","v":6},{"$f":"IF(Z8=\"\",\"\",RANK(Z8,$Z$7:$Z$46,1))","v":5},{"$f":"IF(A8=1,AA8,\"\")","v":""},{"$f":"IF(AB8=\"\",\"\",RANK(AB8,$AB$7:$AB$46,1))","v":""},{"$f":"IF(A8=0,AA8,\"\")","v":5},5,{"$f":"IF(OR(P8<>\"Finished\",O8>$O$2),\"\",\"UR\")","v":""}]
[1,"London Universities",51,"Andrew Benson",2954,3223,"S","M",66,1,6,null,null,null,0,"DNS","DNS","",7,{"$error":"#DIV/0!"},"",{"$f":"IF(P9<>\"Finished\",\"\",VLOOKUP(O9,'Data for points'!$P$16:$Z$23,10,TRUE))","v":""},7,7,{"$f":"MIN(IF($C$7:$C$46=C9,$X$7:$X$46,\"\"))","v":7},7,6,6,1,"","",""]
[0,"Crawley Town",23,"Andrew Kane",2975,3258,"S","M",62,1,2,1,0,9,60.09,"Finished",60.09,2,2,{"$error":"#DIV/0!"},{"$error":"#DIV/0!"},{"$f":"IF(P10<>\"Finished\",\"\",VLOOKUP(O10,'Data for points'!$P$16:$Z$23,10,TRUE))","v":"Champion"},2,2,{"$f":"MIN(IF($C$7:$C$46=C10,$X$7:$X$46,\"\"))","v":2},2,2,"","",2,2,""]
[0,"RLSS Uk Preformace",80,"Ruari Hurson",3015,3521,"S","M",60,1,0,null,58,85,58.85,"Finished",58.85,1,1,{"$error":"#DIV/0!"},{"$error":"#DIV/0!"},{"$f":"IF(P11<>\"Finished\",\"\",VLOOKUP(O11,'Data for points'!$P$16:$Z$23,10,TRUE))","v":"Champion"},1,1,{"$f":"MIN(IF($C$7:$C$46=C11,$X$7:$X$46,\"\"))","v":1},1,1,"","",1,1,""]
[0,"East Kilbride",37,"Iain Wilson",2964,3304,"S","M",60,1,0,1,2,0,62,"Finished",62,5,5,{"$error":"#DIV/0!"},{"$error":"#DIV/0!"},{"$f":"IF(P12<>\"Finished\",\"\",VLOOKUP(O12,'Data for points'!$P$16:$Z$23,10,TRUE))","v":"Excellent"},5,5,{"$f":"MIN(IF($C$7:$C$46=C12,$X$7:$X$46,\"\"))","v":5},5,4,"","",4,4,""]
[0,"Beeslack",52,"Ben Witz",2958,3229,"S","M",62,1,2,1,1,56,61.56,"Finished",61.56,4,4,{"$error":"#DIV/0!"},{"$error":"#DIV/0!"},{"$f":"IF(P13<>\"Finished\",\"\",VLOOKUP(O13,'Data for points'!$P$16:$Z$23,10,TRUE))","v":"Champion"},4,4,{"$f":"MIN(IF($C$7:$C$46=C13,$X$7:$X$46,\"\"))","v":4},4,3,"","",3,3,""]
[null,null,null,null,null,null,null,null,null,0,0,null,null,null,0,null,"","","",{"$error":"#DIV/0!"},"",{"$f":"IF(P14<>\"Finished\",\"\",VLOOKUP(O14,'Data for points'!$P$16:$Z$23,10,TRUE))","v":""},"","",{"$f":"MIN(IF($C$7:$C$46=C14,$X$7:$X$46,\"\"))","v":0},"","","","","","",""]
[null,null,null,null,null,null,null,null,null,0,0,null,null,null,0,null,"","","",{"$error":"#DIV/0!"},"",{"$f":"IF(P15<>\"Finished\",\"\",VLOOKUP(O15,'Data for points'!$P$16:$Z$23,10,TRUE))","v":""},"","",{"$f":"MIN(IF($C$7:$C$46=C15,$X$7:$X$46,\"\"))","v":0},"","","","","","",""]
[null,null,null,null,null,null,null,null,null,0,0,null,null,null,0,null,"","","",{"$error":"#DIV/0!"},"",{"$f":"IF(P16<>\"Finished\",\"\",VLOOKUP(O16,'Data for points'!$P$16:$Z$23,10,TRUE))","v":""},"","",{"$f":"MIN(IF($C$7:$C$46=C16,$X$7:$X$46,\"\"))","v":0},"","","","","","",""]
[null,null,null,null,null,null,null,null,null,0,0,null,null,null,0,null,"","","",{"$error":"#DIV/0!"},"",{"$f":"IF(P17<>\"Finished\",\"\",VLOOKUP(O17,'Data for points'!$P$16:$Z$23,10,TRUE))","v":""},"","",{"$f":"MIN(IF($C$7:$C$46=C17,$X$7:$X$46,\"\"))","v":0},"","","","","","",""]
[null,null,null,null,null,null,null,null,null,0,0,null,null,null,0,null,"","","",{"$error":"#DIV/0!"},"",{"$f":"IF(P18<>\"Finished\",\"\",VLOOKUP(O18,'Data for points'!$P$16:$Z$23,10,TRUE))","v":""},"","",{"$f":"MIN(IF($C$7:$C$46=C18,$X$7:$X$46,\"\"))","v":0},"","","","","","",""]
[null,null,null,null,null,null,null,null,null,0,0,null,null,null,0,null,"","","",{"$error":"#DIV/0!"},"",{"$f":"IF(P19<>\"Finished\",\"\",VLOOKUP(O19,'Data for points'!$P$16:$Z$23,10,TRUE))","v":""},"","",{"$f":"MIN(IF($C$7:$C$46=C19,$X$7:$X$46,\"\"))","v":0},"","","","","","",""]
[null,null,null,null,null,null,null,null,null,0,0,null,null,null,0,null,"","","",{"$error":"#DIV/0!"},"",{"$f":"IF(P20<>\"Finished\",\"\",VLOOKUP(O20,'Data for points'!$P$16:$Z$23,10,TRUE))","v":""},"","",{"$f":"MIN(IF($C$7:$C$46=C20,$X$7:$X$46,\"\"))","v":0},"","","","","","",""]
[null,null,null,null,null,null,null,null,null,0,0,null,null,null,0,null,"","","",{"$error":"#DIV/0!"},"",{"$f":"IF(P21<>\"Finished\",\"\",VLOOKUP(O21,'Data for points'!$P$16:$Z$23,10,TRUE))","v":""},"","",{"$f":"MIN(IF($C$7:$C$46=C21,$X$7:$X$46,\"\"))","v":0},"","","","","","",""]
[null,null,null,null,null,null,null,null,null,0,0,null,null,null,0,null,"","","",{"$error":"#DIV/0!"},"",{"$f":"IF(P22<>\"Finished\",\"\",VLOOKUP(O22,'Data for points'!$P$16:$Z$23,10,TRUE))","v":""},"","",{"$f":"MIN(IF($C$7:$C$46=C22,$X$7:$X$46,\"\"))","v":0},"","","","","","",""]
[null,null,null,null,null,null,null,null,null,0,0,null,null,null,0,null,"","","",{"$error":"#DIV/0!"},"",{"$f":"IF(P23<>\"Finished\",\"\",VLOOKUP(O23,'Data for points'!$P$16:$Z$23,10,TRUE))","v":""},"","",{"$f":"MIN(IF($C$7:$C$46=C23,$X$7:$X$46,\"\"))","v":0},"","","","","","",""]
[null,null,null,null,null,null,null,null,null,0,0,null,null,null,0,null,"","","",{"$error":"#DIV/0!"},"",{"$f":"IF(P24<>\"Finished\",\"\",VLOOKUP(O24,'Data for points'!$P$16:$Z$23,10,TRUE))","v":""},"","",{"$f":"MIN(IF($C$7:$C$46=C24,$X$7:$X$46,\"\"))","v":0},"","","","","","",""]
[null,null,null,null,null,null,null,null,null,0,0,null,null,null,0,null,"","","",{"$error":"#DIV/0!"},"",{"$f":"IF(P25<>\"Finished\",\"\",VLOOKUP(O25,'Data for points'!$P$16:$Z$23,10,TRUE))","v":""},"","",{"$f":"MIN(IF($C$7:$C$46=C25,$X$7:$X$46,\"\"))","v":0},"","","","","","",""]
[null,null,null,null,null,null,null,null,null,0,0,null,null,null,0,null,"","","",{"$error":"#DIV/0!"},"",{"$f":"IF(P26<>\"Finished\",\"\",VLOOKUP(O26,'Data for points'!$P$16:$Z$23,10,TRUE))","v":""},"","",{"$f":"MIN(IF($C$7:$C$46=C26,$X$7:$X$46,\"\"))","v":0},"","","","","","",""]
[null,null,null,null,null,null,null,null,null,0,0,null,null,null,0,null,"","","",{"$error":"#DIV/0!"},"",{"$f":"IF(P27<>\"Finished\",\"\",VLOOKUP(O27,'Data for points'!$P$16:$Z$23,10,TRUE))","v":""},"","",{"$f":"MIN(IF($C$7:$C$46=C27,$X$7:$X$46,\"\"))","v":0},"","","","","","",""]
[null,null,null,null,null,null,null,null,null,0,0,null,null,null,0,null,"","","",{"$error":"#DIV/0!"},"",{"$f":"IF(P28<>\"Finished\",\"\",VLOOKUP(O28,'Data for points'!$P$16:$Z$23,10,TRUE))","v":""},"","",{"$f":"MIN(IF($C$7:$C$46=C28,$X$7:$X$46,\"\"))","v":0},"","","","","","",""]
[null,null,null,null,null,null,null,null,null,0,0,null,null,null,0,null,"","","",{"$error":"#DIV/0!"},"",{"$f":"IF(P29<>\"Finished\",\"\",VLOOKUP(O29,'Data for points'!$P$16:$Z$23,10,TRUE))","v":""},"","",{"$f":"MIN(IF($C$7:$C$46=C29,$X$7:$X$46,\"\"))","v":0},"","","","","","",""]
[null,null,null,null,null,null,null,null,null,0,0,null,null,null,0,null,"","","",{"$error":"#DIV/0!"},"",{"$f":"IF(P30<>\"Finished\",\"\",VLOOKUP(O30,'Data for points'!$P$16:$Z$23,10,TRUE))","v":""},"","",{"$f":"MIN(IF($C$7:$C$46=C30,$X$7:$X$46,\"\"))","v":0},"","","","","","",""]
[null,null,null,null,null,null,null,null,null,0,0,null,null,null,0,null,"","","",{"$error":"#DIV/0!"},"",{"$f":"IF(P31<>\"Finished\",\"\",VLOOKUP(O31,'Data for points'!$P$16:$Z$23,10,TRUE))","v":""},"","",{"$f":"MIN(IF($C$7:$C$46=C31,$X$7:$X$46,\"\"))","v":0},"","","","","","",""]
[null,null,null,null,null,null,null,null,null,0,0,null,null,null,0,null,"","","",{"$error":"#DIV/0!"},"",{"$f":"IF(P32<>\"Finished\",\"\",VLOOKUP(O32,'Data for points'!$P$16:$Z$23,10,TRUE))","v":""},"","",{"$f":"MIN(IF($C$7:$C$46=C32,$X$7:$X$46,\"\"))","v":0},"","","","","","",""]
[null,null,null,null,null,null,null,null,null,0,0,null,null,null,0,null,"","","",{"$error":"#DIV/0!"},"",{"$f":"IF(P33<>\"Finished\",\"\",VLOOKUP(O33,'Data for points'!$P$16:$Z$23,10,TRUE))","v":""},"","",{"$f":"MIN(IF($C$7:$C$46=C33,$X$7:$X$46,\"\"))","v":0},"","","","","","",""]
[null,null,null,null,null,null,null,null,null,0,0,null,null,null,0,null,"","","",{"$error":"#DIV/0!"},"",{"$f":"IF(P34<>\"Finished\",\"\",VLOOKUP(O34,'Data for points'!$P$16:$Z$23,10,TRUE))","v":""},"","",{"$f":"MIN(IF($C$7:$C$46=C34,$X$7:$X$46,\"\"))","v":0},"","","","","","",""]
[null,null,null,null,null,null,null,null,null,0,0,null,null,null,0,null,"","","",{"$error":"#DIV/0!"},"",{"$f":"IF(P35<>\"Finished\",\"\",VLOOKUP(O35,'Data for points'!$P$16:$Z$23,10,TRUE))","v":""},"","",{"$f":"MIN(IF($C$7:$C$46=C35,$X$7:$X$46,\"\"))","v":0},"","","","","","",""]
[null,null,null,null,null,null,null,null,null,0,0,null,null,null,0,null,"","","",{"$error":"#DIV/0!"},"",{"$f":"IF(P36<>\"Finished\",\"\",VLOOKUP(O36,'Data for points'!$P$16:$Z$23,10,TRUE))","v":""},"","",{"$f":"MIN(IF($C$7:$C$46=C36,$X$7:$X$46,\"\"))","v":0},"","","","","","",""]
[null,null,null,null,null,null,null,null,null,0,0,null,null,null,0,null,"","","",{"$error":"#DIV/0!"},"",{"$f":"IF(P37<>\"Finished\",\"\",VLOOKUP(O37,'Data for points'!$P$16:$Z$23,10,TRUE))","v":""},"","",{"$f":"MIN(IF($C$7:$C$46=C37,$X$7:$X$46,\"\"))","v":0},"","","","","","",""]
[null,null,null,null,null,null,null,null,null,0,0,null,null,null,0,null,"","","",{"$error":"#DIV/0!"},"",{"$f":"IF(P38<>\"Finished\",\"\",VLOOKUP(O38,'Data for points'!$P$16:$Z$23,10,TRUE))","v":""},"","",{"$f":"MIN(IF($C$7:$C$46=C38,$X$7:$X$46,\"\"))","v":0},"","","","","","",""]
[null,null,null,null,null,null,null,null,null,0,0,null,null,null,0,null,"","","",{"$error":"#DIV/0!"},"",{"$f":"IF(P39<>\"Finished\",\"\",VLOOKUP(O39,'Data for points'!$P$16:$Z$23,10,TRUE))","v":""},"","",{"$f":"MIN(IF($C$7:$C$46=C39,$X$7:$X$46,\"\"))","v":0},"","","","","","",""]
[null,null,null,null,null,null,null,null,null,0,0,null,null,null,0,null,"","","",{"$error":"#DIV/0!"},"",{"$f":"IF(P40<>\"Finished\",\"\",VLOOKUP(O40,'Data for points'!$P$16:$Z$23,10,TRUE))","v":""},"","",{"$f":"MIN(IF($C$7:$C$46=C40,$X$7:$X$46,\"\"))","v":0},"","","","","","",""]
[null,null,null,null,null,null,null,null,null,0,0,null,null,null,0,null,"","","",{"$error":"#DIV/0!"},"",{"$f":"IF(P41<>\"Finished\",\"\",VLOOKUP(O41,'Data for points'!$P$16:$Z$23,10,TRUE))","v":""},"","",{"$f":"MIN(IF($C$7:$C$46=C41,$X$7:$X$46,\"\"))","v":0},"","","","","","",""]
[null,null,null,null,null,null,null,null,null,0,0,null,null,null,0,null,"","","",{"$error":"#DIV/0!"},"",{"$f":"IF(P42<>\"Finished\",\"\",VLOOKUP(O42,'Data for points'!$P$16:$Z$23,10,TRUE))","v":""},"","",{"$f":"MIN(IF($C$7:$C$46=C42,$X$7:$X$46,\"\"))","v":0},"","","","","","",""]
[null,null,null,null,null,null,null,null,null,0,0,null,null,null,0,null,"","","",{"$error":"#DIV/0!"},"",{"$f":"IF(P43<>\"Finished\",\"\",VLOOKUP(O43,'Data for points'!$P$16:$Z$23,10,TRUE))","v":""},"","",{"$f":"MIN(IF($C$7:$C$46=C43,$X$7:$X$46,\"\"))","v":0},"","","","","","",""]
[null,null,null,null,null,null,null,null,null,0,0,null,null,null,0,null,"","","",{"$error":"#DIV/0!"},"",{"$f":"IF(P44<>\"Finished\",\"\",VLOOKUP(O44,'Data for points'!$P$16:$Z$23,10,TRUE))","v":""},"","",{"$f":"MIN(IF($C$7:$C$46=C44,$X$7:$X$46,\"\"))","v":0},"","","","","","",""]
[null,null,null,null,null,null,null,null,null,0,0,null,null,null,0,null,"","","",{"$error":"#DIV/0!"},"",{"$f":"IF(P45<>\"Finished\",\"\",VLOOKUP(O45,'Data for points'!$P$16:$Z$23,10,TRUE))","v":""},"","",{"$f":"MIN(IF($C$7:$C$46=C45,$X$7:$X$46,\"\"))","v":0},"","","","","","",""]
[null,null,null,null,null,null,null,null,null,0,0,null,null,null,0,null,"","","",{"$error":"#DIV/0!"},"",{"$f":"IF(P46<>\"Finished\",\"\",VLOOKUP(O46,'Data for points'!$P$16:$Z$23,10,TRUE))","v":""},"","",{"$f":"MIN(IF($C$7:$C$46=C46,$X$7:$X$46,\"\"))","v":0},"","","","","","",""]
[]
[]
[]
[]
[]
[]
[]
[]
[]
[]
[]
[]
[]
[]
[]
[]
[]
[]
[]
[]
[]
[]
[]
[]
[]
[]
[]
[]
[]
[]
[]
[]
[]
[]
[]
[]
[]
[]
[]
[]
[]
[]
[]
[]
[]
[]
[]
[]
[]
[]
[]
[]
[]
[null,null,null,null,null,null,null,null,null,null,null,null,null,null,null,"Finished"]
[null,null,null,null,null,null,null,null,null,null,null,null,null,null,null,"Disqualified"]

{"sheet":"200m Obs Men","index":33,"n_rows":101,"n_cols":32,"rows_kept":101,"cut":false,"hidden":true,"merged":[[4,6,4,7],[4,9,4,10],[4,11,4,13],[1,10,1,11]]}
[null,null,null,null,null,null,null,null,null,null,null,null,null,null,"UR in seconds"]
[null,"Men's",null,"200m Obs",null,null,null,null,null,null,"Club to \nHighlight",null,null,null,{"$f":"'Data for points'!E5","v":0},{"$f":"CONCATENATE(\"RLSS  Record=\",INT(O2/60),\" minS\",MOD(O2,60),\" secs\")","v":"RLSS  Record=0 minS0 secs"}]
[]
[]
["A University(Boolean)","Club Name","Club Code","Competitor","CompetitorID","AcceptanceID","ID code",null,"Entry Time(Seconds)","Entry Time",null,"Time",null,null,"Time(seconds)","Finish \nStatus","TimeSand  DQs","Rank","Competition \nPlace","PointSCalculation","Lifesaving Points","Survive and Save Status","Squad List","Rank For \nSquadSMembers","Top Finisher for there Uni","Top finisher Select Competitor for ranking","Squad \nPoints","Uni Finishers","Student \nPoints","Non-Uni Finishers","Non-Student \nPoints"]
[null,null,null,null,null,null,null,null,null,"Mins","Seconds","Mins","Seconds","1/100"]
[null,null,null,null,null,null,null,null,0,{"$f":"INT(I7/60)","v":0},{"$f":"MOD(I7,60)","v":0},null,null,null,{"$f":"L7*60+M7+N7/100","v":0},null,{"$f":"IF(P7<>\"Finished\",IF(P7<=0,\"\",P7),IF(P7=\"Finished\",IF(O7<=0,\"\",O7),\"\"))","v":""},{"$f":"IF(OR(LEFT(Q7,1)=\"D\",Q7=\"\"),\"\",RANK(Q7,$Q$7:$Q$46,1))","v":""},{"$f":"IF(LEFT(P7,1)=\"D\",MAX($R$7:$R$46)+1,R7)","v":""},{"$f":"(1-(O7-$O$2)/$O$2)*1000","v":{"$error":"#DIV/0!"}},{"$f":"IF(P7<>\"Finished\",\"\",IF(T7<0,0,T7))","v":""},{"$f":"IF(P7<>\"Finished\",\"\",VLOOKUP(O7,'Data for points'!$E$16:$Y$23,21,TRUE))","v":""},{"$f":"IF(G7=\"S\",S7,\"\")","v":""},{"$f":"IF(W7=\"\",\"\",RANK(W7,$W$7:$W$46,1))","v":""},{"$f":"MIN(IF($C$7:$C$46=C7,$X$7:$X$46,\"\"))","v":0},{"$f":"IF(Y7=X7,Y7,\"\")","v":""},{"$f":"IF(Z7=\"\",\"\",RANK(Z7,$Z$7:$Z$46,1))","v":""},{"$f":"IF(A7=1,AA7,\"\")","v":""},{"$f":"IF(AB7=\"\",\"\",RANK(AB7,$AB$7:$AB$46,1))","v":""},{"$f":"IF(A7=0,AA7,\"\")","v":""},{"$f":"IF(AD7=\"\",\"\",RANK(AD7,$AD$7:$AD$46,1))","v":""},{"$f":"IF(OR(P7<>\"Finished\",O7>$O$2),\"\",\"UR\")","v":""}]
[null,null,null,null,null,null,null,null,0,0,{"$f":"MOD(I8,60)","v":0},null,null,null,{"$f":"L8*60+M8+N8/100","v":0},null,{"$f":"IF(P8<>\"Finished\",IF(P8<=0,\"\",P8),IF(P8=\"Finished\",IF(O8<=0,\"\",O8),\"\"))","v":""},{"$f":"IF(OR(LEFT(Q8,1)=\"D\",Q8=\"\"),\"\",RANK(Q8,$Q$7:$Q$46,1))","v":""},{"$f":"IF(LEFT(P8,1)=\"D\",MAX($R$7:$R$46)+1,R8)","v":""},{"$f":"(1-(O8-$O$2)/$O$2)*1000","v":{"$error":"#DIV/0!"}},{"$f":"IF(P8<>\"Finished\",\"\",IF(T8<0,0,T8))","v":""},{"$f":"IF(P8<>\"Finished\",\"\",VLOOKUP(O8,'Data for points'!$E$16:$Y$23,21,TRUE))","v":""},{"$f":"IF(G8=\"S\",S8,\"\")","v":""},{"$f":"IF(W8=\"\",\"\",RANK(W8,$W$7:$W$46,1))","v":""},{"$f":"MIN(IF($C$7:$C$46=C8,$X$7:$X$46,\"\"))","v":0},{"$f":"IF(Y8=X8,Y8,\"\")","v":""},{"$f":"IF(Z8=\"\",\"\",RANK(Z8,$Z$7:$Z$46,1))","v":""},{"$f":"IF(A8=1,AA8,\"\")","v":""},{"$f":"IF(AB8=\"\",\"\",RANK(AB8,$AB$7:$AB$46,1))","v":""},"",{"$f":"IF(AD8=\"\",\"\",RANK(AD8,$AD$7:$AD$46,1))","v":""},{"$f":"IF(OR(P8<>\"Finished\",O8>$O$2),\"\",\"UR\")","v":""}]
[null,null,null,null,null,null,null,null,0,0,0,null,null,null,0,null,"","","",{"$error":"#DIV/0!"},"",{"$f":"IF(P9<>\"Finished\",\"\",VLOOKUP(O9,'Data for points'!$E$16:$Y$23,21,TRUE))","v":""},"","",{"$f":"MIN(IF($C$7:$C$46=C9,$X$7:$X$46,\"\"))","v":0},"","","","","","",""]
[null,null,null,null,null,null,null,null,0,0,0,null,null,null,0,null,"","","",{"$error":"#DIV/0!"},"",{"$f":"IF(P10<>\"Finished\",\"\",VLOOKUP(O10,'Data for points'!$E$16:$Y$23,21,TRUE))","v":""},"","",{"$f":"MIN(IF($C$7:$C$46=C10,$X$7:$X$46,\"\"))","v":0},"","","","","","",""]
[null,null,null,null,null,null,null,null,0,{"$f":"INT(I11/60)","v":0},0,null,null,null,0,null,"","","",{"$error":"#DIV/0!"},"",{"$f":"IF(P11<>\"Finished\",\"\",VLOOKUP(O11,'Data for points'!$E$16:$Y$23,21,TRUE))","v":""},"","",{"$f":"MIN(IF($C$7:$C$46=C11,$X$7:$X$46,\"\"))","v":0},"","","","","","",""]
[null,null,null,null,null,null,null,null,0,0,0,null,null,null,0,null,"","","",{"$error":"#DIV/0!"},"",{"$f":"IF(P12<>\"Finished\",\"\",VLOOKUP(O12,'Data for points'!$E$16:$Y$23,21,TRUE))","v":""},"","",{"$f":"MIN(IF($C$7:$C$46=C12,$X$7:$X$46,\"\"))","v":0},"","","","","","",""]
[null,null,null,null,null,null,null,null,0,0,0,null,null,null,0,null,"","","",{"$error":"#DIV/0!"},"",{"$f":"IF(P13<>\"Finished\",\"\",VLOOKUP(O13,'Data for points'!$E$16:$Y$23,21,TRUE))","v":""},"","",{"$f":"MIN(IF($C$7:$C$46=C13,$X$7:$X$46,\"\"))","v":0},"","","","","","",""]
[null,null,null,null,null,null,null,null,null,0,0,null,null,null,0,null,"","","",{"$error":"#DIV/0!"},"",{"$f":"IF(P14<>\"Finished\",\"\",VLOOKUP(O14,'Data for points'!$E$16:$Y$23,21,TRUE))","v":""},"","",{"$f":"MIN(IF($C$7:$C$46=C14,$X$7:$X$46,\"\"))","v":0},"","","","","","",""]
[null,null,null,null,null,null,null,null,null,0,0,null,null,null,0,null,"","","",{"$error":"#DIV/0!"},"",{"$f":"IF(P15<>\"Finished\",\"\",VLOOKUP(O15,'Data for points'!$E$16:$Y$23,21,TRUE))","v":""},"","",{"$f":"MIN(IF($C$7:$C$46=C15,$X$7:$X$46,\"\"))","v":0},"","","","","","",""]
[null,null,null,null,null,null,null,null,null,0,0,null,null,null,0,null,"","","",{"$error":"#DIV/0!"},"",{"$f":"IF(P16<>\"Finished\",\"\",VLOOKUP(O16,'Data for points'!$E$16:$Y$23,21,TRUE))","v":""},"","",{"$f":"MIN(IF($C$7:$C$46=C16,$X$7:$X$46,\"\"))","v":0},"","","","","","",""]
[null,null,null,null,null,null,null,null,null,0,0,null,null,null,0,null,"","","",{"$error":"#DIV/0!"},"",{"$f":"IF(P17<>\"Finished\",\"\",VLOOKUP(O17,'Data for points'!$E$16:$Y$23,21,TRUE))","v":""},"","",{"$f":"MIN(IF($C$7:$C$46=C17,$X$7:$X$46,\"\"))","v":0},"","","","","","",""]
[null,null,null,null,null,null,null,null,null,0,0,null,null,null,0,null,"","","",{"$error":"#DIV/0!"},"",{"$f":"IF(P18<>\"Finished\",\"\",VLOOKUP(O18,'Data for points'!$E$16:$Y$23,21,TRUE))","v":""},"","",{"$f":"MIN(IF($C$7:$C$46=C18,$X$7:$X$46,\"\"))","v":0},"","","","","","",""]
[null,null,null,null,null,null,null,null,null,0,0,null,null,null,0,null,"","","",{"$error":"#DIV/0!"},"",{"$f":"IF(P19<>\"Finished\",\"\",VLOOKUP(O19,'Data for points'!$E$16:$Y$23,21,TRUE))","v":""},"","",{"$f":"MIN(IF($C$7:$C$46=C19,$X$7:$X$46,\"\"))","v":0},"","","","","","",""]
[null,null,null,null,null,null,null,null,null,0,0,null,null,null,0,null,"","","",{"$error":"#DIV/0!"},"",{"$f":"IF(P20<>\"Finished\",\"\",VLOOKUP(O20,'Data for points'!$E$16:$Y$23,21,TRUE))","v":""},"","",{"$f":"MIN(IF($C$7:$C$46=C20,$X$7:$X$46,\"\"))","v":0},"","","","","","",""]
[null,null,null,null,null,null,null,null,null,0,0,null,null,null,0,null,"","","",{"$error":"#DIV/0!"},"",{"$f":"IF(P21<>\"Finished\",\"\",VLOOKUP(O21,'Data for points'!$E$16:$Y$23,21,TRUE))","v":""},"","",{"$f":"MIN(IF($C$7:$C$46=C21,$X$7:$X$46,\"\"))","v":0},"","","","","","",""]
[null,null,null,null,null,null,null,null,null,0,0,null,null,null,0,null,"","","",{"$error":"#DIV/0!"},"",{"$f":"IF(P22<>\"Finished\",\"\",VLOOKUP(O22,'Data for points'!$E$16:$Y$23,21,TRUE))","v":""},"","",{"$f":"MIN(IF($C$7:$C$46=C22,$X$7:$X$46,\"\"))","v":0},"","","","","","",""]
[null,null,null,null,null,null,null,null,null,0,0,null,null,null,0,null,"","","",{"$error":"#DIV/0!"},"",{"$f":"IF(P23<>\"Finished\",\"\",VLOOKUP(O23,'Data for points'!$E$16:$Y$23,21,TRUE))","v":""},"","",{"$f":"MIN(IF($C$7:$C$46=C23,$X$7:$X$46,\"\"))","v":0},"","","","","","",""]
[null,null,null,null,null,null,null,null,null,0,0,null,null,null,0,null,"","","",{"$error":"#DIV/0!"},"",{"$f":"IF(P24<>\"Finished\",\"\",VLOOKUP(O24,'Data for points'!$E$16:$Y$23,21,TRUE))","v":""},"","",{"$f":"MIN(IF($C$7:$C$46=C24,$X$7:$X$46,\"\"))","v":0},"","","","","","",""]
[null,null,null,null,null,null,null,null,null,0,0,null,null,null,0,null,"","","",{"$error":"#DIV/0!"},"",{"$f":"IF(P25<>\"Finished\",\"\",VLOOKUP(O25,'Data for points'!$E$16:$Y$23,21,TRUE))","v":""},"","",{"$f":"MIN(IF($C$7:$C$46=C25,$X$7:$X$46,\"\"))","v":0},"","","","","","",""]
[null,null,null,null,null,null,null,null,null,0,0,null,null,null,0,null,"","","",{"$error":"#DIV/0!"},"",{"$f":"IF(P26<>\"Finished\",\"\",VLOOKUP(O26,'Data for points'!$E$16:$Y$23,21,TRUE))","v":""},"","",{"$f":"MIN(IF($C$7:$C$46=C26,$X$7:$X$46,\"\"))","v":0},"","","","","","",""]
[null,null,null,null,null,null,null,null,null,0,0,null,null,null,0,null,"","","",{"$error":"#DIV/0!"},"",{"$f":"IF(P27<>\"Finished\",\"\",VLOOKUP(O27,'Data for points'!$E$16:$Y$23,21,TRUE))","v":""},"","",{"$f":"MIN(IF($C$7:$C$46=C27,$X$7:$X$46,\"\"))","v":0},"","","","","","",""]
[null,null,null,null,null,null,null,null,null,0,0,null,null,null,0,null,"","","",{"$error":"#DIV/0!"},"",{"$f":"IF(P28<>\"Finished\",\"\",VLOOKUP(O28,'Data for points'!$E$16:$Y$23,21,TRUE))","v":""},"","",{"$f":"MIN(IF($C$7:$C$46=C28,$X$7:$X$46,\"\"))","v":0},"","","","","","",""]
[null,null,null,null,null,null,null,null,null,0,0,null,null,null,0,null,"","","",{"$error":"#DIV/0!"},"",{"$f":"IF(P29<>\"Finished\",\"\",VLOOKUP(O29,'Data for points'!$E$16:$Y$23,21,TRUE))","v":""},"","",{"$f":"MIN(IF($C$7:$C$46=C29,$X$7:$X$46,\"\"))","v":0},"","","","","","",""]
[null,null,null,null,null,null,null,null,null,0,0,null,null,null,0,null,"","","",{"$error":"#DIV/0!"},"",{"$f":"IF(P30<>\"Finished\",\"\",VLOOKUP(O30,'Data for points'!$E$16:$Y$23,21,TRUE))","v":""},"","",{"$f":"MIN(IF($C$7:$C$46=C30,$X$7:$X$46,\"\"))","v":0},"","","","","","",""]
[null,null,null,null,null,null,null,null,null,0,0,null,null,null,0,null,"","","",{"$error":"#DIV/0!"},"",{"$f":"IF(P31<>\"Finished\",\"\",VLOOKUP(O31,'Data for points'!$E$16:$Y$23,21,TRUE))","v":""},"","",{"$f":"MIN(IF($C$7:$C$46=C31,$X$7:$X$46,\"\"))","v":0},"","","","","","",""]
[null,null,null,null,null,null,null,null,null,0,0,null,null,null,0,null,"","","",{"$error":"#DIV/0!"},"",{"$f":"IF(P32<>\"Finished\",\"\",VLOOKUP(O32,'Data for points'!$E$16:$Y$23,21,TRUE))","v":""},"","",{"$f":"MIN(IF($C$7:$C$46=C32,$X$7:$X$46,\"\"))","v":0},"","","","","","",""]
[null,null,null,null,null,null,null,null,null,0,0,null,null,null,0,null,"","","",{"$error":"#DIV/0!"},"",{"$f":"IF(P33<>\"Finished\",\"\",VLOOKUP(O33,'Data for points'!$E$16:$Y$23,21,TRUE))","v":""},"","",{"$f":"MIN(IF($C$7:$C$46=C33,$X$7:$X$46,\"\"))","v":0},"","","","","","",""]
[null,null,null,null,null,null,null,null,null,0,0,null,null,null,0,null,"","","",{"$error":"#DIV/0!"},"",{"$f":"IF(P34<>\"Finished\",\"\",VLOOKUP(O34,'Data for points'!$E$16:$Y$23,21,TRUE))","v":""},"","",{"$f":"MIN(IF($C$7:$C$46=C34,$X$7:$X$46,\"\"))","v":0},"","","","","","",""]
[null,null,null,null,null,null,null,null,null,0,0,null,null,null,0,null,"","","",{"$error":"#DIV/0!"},"",{"$f":"IF(P35<>\"Finished\",\"\",VLOOKUP(O35,'Data for points'!$E$16:$Y$23,21,TRUE))","v":""},"","",{"$f":"MIN(IF($C$7:$C$46=C35,$X$7:$X$46,\"\"))","v":0},"","","","","","",""]
[null,null,null,null,null,null,null,null,null,0,0,null,null,null,0,null,"","","",{"$error":"#DIV/0!"},"",{"$f":"IF(P36<>\"Finished\",\"\",VLOOKUP(O36,'Data for points'!$E$16:$Y$23,21,TRUE))","v":""},"","",{"$f":"MIN(IF($C$7:$C$46=C36,$X$7:$X$46,\"\"))","v":0},"","","","","","",""]
[null,null,null,null,null,null,null,null,null,0,0,null,null,null,0,null,"","","",{"$error":"#DIV/0!"},"",{"$f":"IF(P37<>\"Finished\",\"\",VLOOKUP(O37,'Data for points'!$E$16:$Y$23,21,TRUE))","v":""},"","",{"$f":"MIN(IF($C$7:$C$46=C37,$X$7:$X$46,\"\"))","v":0},"","","","","","",""]
[null,null,null,null,null,null,null,null,null,0,0,null,null,null,0,null,"","","",{"$error":"#DIV/0!"},"",{"$f":"IF(P38<>\"Finished\",\"\",VLOOKUP(O38,'Data for points'!$E$16:$Y$23,21,TRUE))","v":""},"","",{"$f":"MIN(IF($C$7:$C$46=C38,$X$7:$X$46,\"\"))","v":0},"","","","","","",""]
[null,null,null,null,null,null,null,null,null,0,0,null,null,null,0,null,"","","",{"$error":"#DIV/0!"},"",{"$f":"IF(P39<>\"Finished\",\"\",VLOOKUP(O39,'Data for points'!$E$16:$Y$23,21,TRUE))","v":""},"","",{"$f":"MIN(IF($C$7:$C$46=C39,$X$7:$X$46,\"\"))","v":0},"","","","","","",""]
[null,null,null,null,null,null,null,null,null,0,0,null,null,null,0,null,"","","",{"$error":"#DIV/0!"},"",{"$f":"IF(P40<>\"Finished\",\"\",VLOOKUP(O40,'Data for points'!$E$16:$Y$23,21,TRUE))","v":""},"","",{"$f":"MIN(IF($C$7:$C$46=C40,$X$7:$X$46,\"\"))","v":0},"","","","","","",""]
[null,null,null,null,null,null,null,null,null,0,0,null,null,null,0,null,"","","",{"$error":"#DIV/0!"},"",{"$f":"IF(P41<>\"Finished\",\"\",VLOOKUP(O41,'Data for points'!$E$16:$Y$23,21,TRUE))","v":""},"","",{"$f":"MIN(IF($C$7:$C$46=C41,$X$7:$X$46,\"\"))","v":0},"","","","","","",""]
[null,null,null,null,null,null,null,null,null,0,0,null,null,null,0,null,"","","",{"$error":"#DIV/0!"},"",{"$f":"IF(P42<>\"Finished\",\"\",VLOOKUP(O42,'Data for points'!$E$16:$Y$23,21,TRUE))","v":""},"","",{"$f":"MIN(IF($C$7:$C$46=C42,$X$7:$X$46,\"\"))","v":0},"","","","","","",""]
[null,null,null,null,null,null,null,null,null,0,0,null,null,null,0,null,"","","",{"$error":"#DIV/0!"},"",{"$f":"IF(P43<>\"Finished\",\"\",VLOOKUP(O43,'Data for points'!$E$16:$Y$23,21,TRUE))","v":""},"","",{"$f":"MIN(IF($C$7:$C$46=C43,$X$7:$X$46,\"\"))","v":0},"","","","","","",""]
[null,null,null,null,null,null,null,null,null,0,0,null,null,null,0,null,"","","",{"$error":"#DIV/0!"},"",{"$f":"IF(P44<>\"Finished\",\"\",VLOOKUP(O44,'Data for points'!$E$16:$Y$23,21,TRUE))","v":""},"","",{"$f":"MIN(IF($C$7:$C$46=C44,$X$7:$X$46,\"\"))","v":0},"","","","","","",""]
[null,null,null,null,null,null,null,null,null,0,0,null,null,null,0,null,"","","",{"$error":"#DIV/0!"},"",{"$f":"IF(P45<>\"Finished\",\"\",VLOOKUP(O45,'Data for points'!$E$16:$Y$23,21,TRUE))","v":""},"","",{"$f":"MIN(IF($C$7:$C$46=C45,$X$7:$X$46,\"\"))","v":0},"","","","","","",""]
[null,null,null,null,null,null,null,null,null,0,0,null,null,null,0,null,"","","",{"$error":"#DIV/0!"},null,{"$f":"IF(P46<>\"Finished\",\"\",VLOOKUP(O46,'Data for points'!$E$16:$Y$23,21,TRUE))","v":""},"","",{"$f":"MIN(IF($C$7:$C$46=C46,$X$7:$X$46,\"\"))","v":0},"","","","","","",""]
[]
[]
[]
[]
[]
[]
[]
[]
[]
[]
[]
[]
[]
[]
[]
[]
[]
[]
[]
[]
[]
[]
[]
[]
[]
[]
[]
[]
[]
[]
[]
[]
[]
[]
[]
[]
[]
[]
[]
[]
[]
[]
[]
[]
[]
[]
[]
[]
[]
[]
[]
[]
[]
[null,null,null,null,null,null,null,null,null,null,null,null,null,null,null,"Finished"]
[null,null,null,null,null,null,null,null,null,null,null,null,null,null,null,"Disqualified"]

{"sheet":"100m Obs Women","index":34,"n_rows":101,"n_cols":32,"rows_kept":101,"cut":false,"hidden":false,"merged":[[1,10,1,11],[4,6,4,7],[4,9,4,10],[4,11,4,13]]}
[null,null,null,null,null,null,null,null,null,null,null,null,null,null,"UR in seconds"]
[null,"Women's",null,"100m Obs ",null,null,null,null,null,null,"Club to \nHighlight",null,null,null,{"$f":"'Data for points'!P6","v":0},{"$f":"CONCATENATE(\"University  Record=\",INT(O2/60),\" minS\",MOD(O2,60),\" secs\")","v":"University  Record=0 minS0 secs"}]
[]
[]
["A University(Boolean)","Club Name","Club Code","Competitor","CompetitorID","AceptanceID","ID code",null,"Entry Time(Seconds)","Entry Time",null,"Time",null,null,"Time(seconds)","Finish \nStatus","TimeSand  DQs","Rank","Competition \nPlace","PointSCalculation","Lifesaving Points","Survive and Save Status","Squad List","Rank For \nSquadSMembers","Top Finisher for there Unit","Top finisher Select Competitor for ranking","Squad \nPoints","Uni Finishers","Student \nPoints","Non-Uni Finishers","Non-Student \nPoints"]
[null,null,null,null,null,null,null,null,null,"Mins","Seconds","Mins","Seconds","1/100"]
[0,"Beeslack",52,"Shaunna Anderson",2956,3318,"S","F",77.599999999999994,{"$f":"INT(I7/60)","v":1},{"$f":"MOD(I7,60)","v":17.599999999999994},1,17,12,{"$f":"L7*60+M7+N7/100","v":77.12},"Finished",{"$f":"IF(P7<>\"Finished\",IF(P7<=0,\"\",P7),IF(P7=\"Finished\",IF(O7<=0,\"\",O7),\"\"))","v":77.12},{"$f":"IF(OR(LEFT(Q7,1)=\"D\",Q7=\"\"),\"\",RANK(Q7,$Q$7:$Q$46,1))","v":3},{"$f":"IF(LEFT(P7,1)=\"D\",MAX($R$7:$R$46)+1,R7)","v":3},{"$f":"(1-(O7-$O$2)/$O$2)*1000","v":{"$error":"#DIV/0!"}},{"$f":"IF(P7<>\"Finished\",\"\",IF(T7<0,0,T7))","v":{"$error":"#DIV/0!"}},{"$f":"IF(P7<>\"Finished\",\"\",VLOOKUP(O7,'Data for points'!$P$26:$Z$33,10,TRUE))","v":"Excellent"},{"$f":"IF(G7=\"S\",S7,\"\")","v":3},{"$f":"IF(W7=\"\",\"\",RANK(W7,$W$7:$W$46,1))","v":3},{"$f":"MIN(IF($C$7:$C$46=C7,$X$7:$X$46,\"\"))","v":3},{"$f":"IF(Y7=X7,Y7,\"\")","v":3},{"$f":"IF(Z7=\"\",\"\",RANK(Z7,$Z$7:$Z$46,1))","v":3},{"$f":"IF(A7=1,AA7,\"\")","v":""},{"$f":"IF(AB7=\"\",\"\",RANK(AB7,$AB$7:$AB$46,1))","v":""},{"$f":"IF(A7=0,AA7,\"\")","v":3},{"$f":"IF(AD7=\"\",\"\",RANK(AD7,$AD$7:$AD$46,1))","v":3},{"$f":"IF(OR(P7<>\"Finished\",O7>$O$2),\"\",\"UR\")","v":""}]
[0,"Blyth",56,"Sam Carpenter",3003,3462,"S","F",73.66,{"$f":"INT(I8/60)","v":1},{"$f":"MOD(I8,60)","v":13.659999999999997},1,14,72,{"$f":"L8*60+M8+N8/100","v":74.72},"Finished",{"$f":"IF(P8<>\"Finished\",IF(P8<=0,\"\",P8),IF(P8=\"Finished\",IF(O8<=0,\"\",O8),\"\"))","v":74.72},{"$f":"IF(OR(LEFT(Q8,1)=\"D\",Q8=\"\"),\"\",RANK(Q8,$Q$7:$Q$46,1))","v":2},{"$f":"IF(LEFT(P8,1)=\"D\",MAX($R$7:$R$46)+1,R8)","v":2},{"$f":"(1-(O8-$O$2)/$O$2)*1000","v":{"$error":"#DIV/0!"}},{"$f":"IF(P8<>\"Finished\",\"\",IF(T8<0,0,T8))","v":{"$error":"#DIV/0!"}},{"$f":"IF(P8<>\"Finished\",\"\",VLOOKUP(O8,'Data for points'!$P$26:$Z$33,10,TRUE))","v":"Excellent"},{"$f":"IF(G8=\"S\",S8,\"\")","v":2},{"$f":"IF(W8=\"\",\"\",RANK(W8,$W$7:$W$46,1))","v":2},{"$f":"MIN(IF($C$7:$C$46=C8,$X$7:$X$46,\"\"))","v":2},{"$f":"IF(Y8=X8,Y8,\"\")","v":2},{"$f":"IF(Z8=\"\",\"\",RANK(Z8,$Z$7:$Z$46,1))","v":2},{"$f":"IF(A8=1,AA8,\"\")","v":""},{"$f":"IF(AB8=\"\",\"\",RANK(AB8,$AB$7:$AB$46,1))","v":""},{"$f":"IF(A8=0,AA8,\"\")","v":2},2,{"$f":"IF(OR(P8<>\"Finished\",O8>$O$2),\"\",\"UR\")","v":""}]
[0,"East Kilbride",37,"Catherine Browne",2979,3331,"S","F",75,1,15,1,14,0,74,"Finished",74,1,1,{"$error":"#DIV/0!"},{"$error":"#DIV/0!"},{"$f":"IF(P9<>\"Finished\",\"\",VLOOKUP(O9,'Data for points'!$P$26:$Z$33,10,TRUE))","v":"Excellent"},1,1,{"$f":"MIN(IF($C$7:$C$46=C9,$X$7:$X$46,\"\"))","v":1},1,1,"","",1,1,""]
[0,"East Kilbride",37,"Susan McAllister",2962,3285,"S","F",78,1,18,1,21,40,81.400000000000006,"Finished",81.400000000000006,4,4,{"$error":"#DIV/0!"},{"$error":"#DIV/0!"},{"$f":"IF(P10<>\"Finished\",\"\",VLOOKUP(O10,'Data for points'!$P$26:$Z$33,10,TRUE))","v":"Good"},4,4,{"$f":"MIN(IF($C$7:$C$46=C10,$X$7:$X$46,\"\"))","v":1},"","","","","","",""]
[null,null,null,null,null,null,null,null,null,0,0,null,null,null,0,null,"","","",{"$error":"#DIV/0!"},"",{"$f":"IF(P11<>\"Finished\",\"\",VLOOKUP(O11,'Data for points'!$P$26:$Z$33,10,TRUE))","v":""},"","",{"$f":"MIN(IF($C$7:$C$46=C11,$X$7:$X$46,\"\"))","v":0},"","","","","","",""]
[null,null,null,null,null,null,null,null,null,0,0,null,null,null,0,null,"","","",{"$error":"#DIV/0!"},"",{"$f":"IF(P12<>\"Finished\",\"\",VLOOKUP(O12,'Data for points'!$P$26:$Z$33,10,TRUE))","v":""},"","",{"$f":"MIN(IF($C$7:$C$46=C12,$X$7:$X$46,\"\"))","v":0},"","","","","","",""]
[null,null,null,null,null,null,null,null,null,0,0,null,null,null,0,null,"","","",{"$error":"#DIV/0!"},"",{"$f":"IF(P13<>\"Finished\",\"\",VLOOKUP(O13,'Data for points'!$P$26:$Z$33,10,TRUE))","v":""},"","",{"$f":"MIN(IF($C$7:$C$46=C13,$X$7:$X$46,\"\"))","v":0},"","","","","","",""]
[null,null,null,null,null,null,null,null,null,0,0,null,null,null,0,null,"","","",{"$error":"#DIV/0!"},"",{"$f":"IF(P14<>\"Finished\",\"\",VLOOKUP(O14,'Data for points'!$P$26:$Z$33,10,TRUE))","v":""},"","",{"$f":"MIN(IF($C$7:$C$46=C14,$X$7:$X$46,\"\"))","v":0},"","","","","","",""]
[null,null,null,null,null,null,null,null,null,0,0,null,null,null,0,null,"","","",{"$error":"#DIV/0!"},"",{"$f":"IF(P15<>\"Finished\",\"\",VLOOKUP(O15,'Data for points'!$P$26:$Z$33,10,TRUE))","v":""},"","",{"$f":"MIN(IF($C$7:$C$46=C15,$X$7:$X$46,\"\"))","v":0},"","","","","","",""]
[null,null,null,null,null,null,null,null,null,0,0,null,null,null,0,null,"","","",{"$error":"#DIV/0!"},"",{"$f":"IF(P16<>\"Finished\",\"\",VLOOKUP(O16,'Data for points'!$P$26:$Z$33,10,TRUE))","v":""},"","",{"$f":"MIN(IF($C$7:$C$46=C16,$X$7:$X$46,\"\"))","v":0},"","","","","","",""]
[null,null,null,null,null,null,null,null,null,0,0,null,null,null,0,null,"","","",{"$error":"#DIV/0!"},"",{"$f":"IF(P17<>\"Finished\",\"\",VLOOKUP(O17,'Data for points'!$P$26:$Z$33,10,TRUE))","v":""},"","",{"$f":"MIN(IF($C$7:$C$46=C17,$X$7:$X$46,\"\"))","v":0},"","","","","","",""]
[null,null,null,null,null,null,null,null,null,0,0,null,null,null,0,null,"","","",{"$error":"#DIV/0!"},"",{"$f":"IF(P18<>\"Finished\",\"\",VLOOKUP(O18,'Data for points'!$P$26:$Z$33,10,TRUE))","v":""},"","",{"$f":"MIN(IF($C$7:$C$46=C18,$X$7:$X$46,\"\"))","v":0},"","","","","","",""]
[null,null,null,null,null,null,null,null,null,0,0,null,null,null,0,null,"","","",{"$error":"#DIV/0!"},"",{"$f":"IF(P19<>\"Finished\",\"\",VLOOKUP(O19,'Data for points'!$P$26:$Z$33,10,TRUE))","v":""},"","",{"$f":"MIN(IF($C$7:$C$46=C19,$X$7:$X$46,\"\"))","v":0},"","","","","","",""]
[null,null,null,null,null,null,null,null,null,0,0,null,null,null,0,null,"","","",{"$error":"#DIV/0!"},"",{"$f":"IF(P20<>\"Finished\",\"\",VLOOKUP(O20,'Data for points'!$P$26:$Z$33,10,TRUE))","v":""},"","",{"$f":"MIN(IF($C$7:$C$46=C20,$X$7:$X$46,\"\"))","v":0},"","","","","","",""]
[null,null,null,null,null,null,null,null,null,0,0,null,null,null,0,null,"","","",{"$error":"#DIV/0!"},"",{"$f":"IF(P21<>\"Finished\",\"\",VLOOKUP(O21,'Data for points'!$P$26:$Z$33,10,TRUE))","v":""},"","",{"$f":"MIN(IF($C$7:$C$46=C21,$X$7:$X$46,\"\"))","v":0},"","","","","","",""]
[null,null,null,null,null,null,null,null,null,0,0,null,null,null,0,null,"","","",{"$error":"#DIV/0!"},"",{"$f":"IF(P22<>\"Finished\",\"\",VLOOKUP(O22,'Data for points'!$P$26:$Z$33,10,TRUE))","v":""},"","",{"$f":"MIN(IF($C$7:$C$46=C22,$X$7:$X$46,\"\"))","v":0},"","","","","","",""]
[null,null,null,null,null,null,null,null,null,0,0,null,null,null,0,null,"","","",{"$error":"#DIV/0!"},"",{"$f":"IF(P23<>\"Finished\",\"\",VLOOKUP(O23,'Data for points'!$P$26:$Z$33,10,TRUE))","v":""},"","",{"$f":"MIN(IF($C$7:$C$46=C23,$X$7:$X$46,\"\"))","v":0},"","","","","","",""]
[null,null,null,null,null,null,null,null,null,0,0,null,null,null,0,null,"","","",{"$error":"#DIV/0!"},"",{"$f":"IF(P24<>\"Finished\",\"\",VLOOKUP(O24,'Data for points'!$P$26:$Z$33,10,TRUE))","v":""},"","",{"$f":"MIN(IF($C$7:$C$46=C24,$X$7:$X$46,\"\"))","v":0},"","","","","","",""]
[null,null,null,null,null,null,null,null,null,0,0,null,null,null,0,null,"","","",{"$error":"#DIV/0!"},"",{"$f":"IF(P25<>\"Finished\",\"\",VLOOKUP(O25,'Data for points'!$P$26:$Z$33,10,TRUE))","v":""},"","",{"$f":"MIN(IF($C$7:$C$46=C25,$X$7:$X$46,\"\"))","v":0},"","","","","","",""]
[null,null,null,null,null,null,null,null,null,0,0,null,null,null,0,null,"","","",{"$error":"#DIV/0!"},"",{"$f":"IF(P26<>\"Finished\",\"\",VLOOKUP(O26,'Data for points'!$P$26:$Z$33,10,TRUE))","v":""},"","",{"$f":"MIN(IF($C$7:$C$46=C26,$X$7:$X$46,\"\"))","v":0},"","","","","","",""]
[null,null,null,null,null,null,null,null,null,0,0,null,null,null,0,null,"","","",{"$error":"#DIV/0!"},"",{"$f":"IF(P27<>\"Finished\",\"\",VLOOKUP(O27,'Data for points'!$P$26:$Z$33,10,TRUE))","v":""},"","",{"$f":"MIN(IF($C$7:$C$46=C27,$X$7:$X$46,\"\"))","v":0},"","","","","","",""]
[null,null,null,null,null,null,null,null,null,0,0,null,null,null,0,null,"","","",{"$error":"#DIV/0!"},"",{"$f":"IF(P28<>\"Finished\",\"\",VLOOKUP(O28,'Data for points'!$P$26:$Z$33,10,TRUE))","v":""},"","",{"$f":"MIN(IF($C$7:$C$46=C28,$X$7:$X$46,\"\"))","v":0},"","","","","","",""]
[null,null,null,null,null,null,null,null,null,0,0,null,null,null,0,null,"","","",{"$error":"#DIV/0!"},"",{"$f":"IF(P29<>\"Finished\",\"\",VLOOKUP(O29,'Data for points'!$P$26:$Z$33,10,TRUE))","v":""},"","",{"$f":"MIN(IF($C$7:$C$46=C29,$X$7:$X$46,\"\"))","v":0},"","","","","","",""]
[null,null,null,null,null,null,null,null,null,0,0,null,null,null,0,null,"","","",{"$error":"#DIV/0!"},"",{"$f":"IF(P30<>\"Finished\",\"\",VLOOKUP(O30,'Data for points'!$P$26:$Z$33,10,TRUE))","v":""},"","",{"$f":"MIN(IF($C$7:$C$46=C30,$X$7:$X$46,\"\"))","v":0},"","","","","","",""]
[null,null,null,null,null,null,null,null,null,0,0,null,null,null,0,null,"","","",{"$error":"#DIV/0!"},"",{"$f":"IF(P31<>\"Finished\",\"\",VLOOKUP(O31,'Data for points'!$P$26:$Z$33,10,TRUE))","v":""},"","",{"$f":"MIN(IF($C$7:$C$46=C31,$X$7:$X$46,\"\"))","v":0},"","","","","","",""]
[null,null,null,null,null,null,null,null,null,0,0,null,null,null,0,null,"","","",{"$error":"#DIV/0!"},"",{"$f":"IF(P32<>\"Finished\",\"\",VLOOKUP(O32,'Data for points'!$P$26:$Z$33,10,TRUE))","v":""},"","",{"$f":"MIN(IF($C$7:$C$46=C32,$X$7:$X$46,\"\"))","v":0},"","","","","","",""]
[null,null,null,null,null,null,null,null,null,0,0,null,null,null,0,null,"","","",{"$error":"#DIV/0!"},"",{"$f":"IF(P33<>\"Finished\",\"\",VLOOKUP(O33,'Data for points'!$P$26:$Z$33,10,TRUE))","v":""},"","",{"$f":"MIN(IF($C$7:$C$46=C33,$X$7:$X$46,\"\"))","v":0},"","","","","","",""]
[null,null,null,null,null,null,null,null,null,0,0,null,null,null,0,null,"","","",{"$error":"#DIV/0!"},"",{"$f":"IF(P34<>\"Finished\",\"\",VLOOKUP(O34,'Data for points'!$P$26:$Z$33,10,TRUE))","v":""},"","",{"$f":"MIN(IF($C$7:$C$46=C34,$X$7:$X$46,\"\"))","v":0},"","","","","","",""]
[null,null,null,null,null,null,null,null,null,0,0,null,null,null,0,null,"","","",{"$error":"#DIV/0!"},"",{"$f":"IF(P35<>\"Finished\",\"\",VLOOKUP(O35,'Data for points'!$P$26:$Z$33,10,TRUE))","v":""},"","",{"$f":"MIN(IF($C$7:$C$46=C35,$X$7:$X$46,\"\"))","v":0},"","","","","","",""]
[null,null,null,null,null,null,null,null,null,0,0,null,null,null,0,null,"","","",{"$error":"#DIV/0!"},"",{"$f":"IF(P36<>\"Finished\",\"\",VLOOKUP(O36,'Data for points'!$P$26:$Z$33,10,TRUE))","v":""},"","",{"$f":"MIN(IF($C$7:$C$46=C36,$X$7:$X$46,\"\"))","v":0},"","","","","","",""]
[null,null,null,null,null,null,null,null,null,0,0,null,null,null,0,null,"","","",{"$error":"#DIV/0!"},"",{"$f":"IF(P37<>\"Finished\",\"\",VLOOKUP(O37,'Data for points'!$P$26:$Z$33,10,TRUE))","v":""},"","",{"$f":"MIN(IF($C$7:$C$46=C37,$X$7:$X$46,\"\"))","v":0},"","","","","","",""]
[null,null,null,null,null,null,null,null,null,0,0,null,null,null,0,null,"","","",{"$error":"#DIV/0!"},"",{"$f":"IF(P38<>\"Finished\",\"\",VLOOKUP(O38,'Data for points'!$P$26:$Z$33,10,TRUE))","v":""},"","",{"$f":"MIN(IF($C$7:$C$46=C38,$X$7:$X$46,\"\"))","v":0},"","","","","","",""]
[null,null,null,null,null,null,null,null,null,0,0,null,null,null,0,null,"","","",{"$error":"#DIV/0!"},"",{"$f":"IF(P39<>\"Finished\",\"\",VLOOKUP(O39,'Data for points'!$P$26:$Z$33,10,TRUE))","v":""},"","",{"$f":"MIN(IF($C$7:$C$46=C39,$X$7:$X$46,\"\"))","v":0},"","","","","","",""]
[null,null,null,null,null,null,null,null,null,0,0,null,null,null,0,null,"","","",{"$error":"#DIV/0!"},"",{"$f":"IF(P40<>\"Finished\",\"\",VLOOKUP(O40,'Data for points'!$P$26:$Z$33,10,TRUE))","v":""},"","",{"$f":"MIN(IF($C$7:$C$46=C40,$X$7:$X$46,\"\"))","v":0},"","","","","","",""]
[null,null,null,null,null,null,null,null,null,0,0,null,null,null,0,null,"","","",{"$error":"#DIV/0!"},"",{"$f":"IF(P41<>\"Finished\",\"\",VLOOKUP(O41,'Data for points'!$P$26:$Z$33,10,TRUE))","v":""},"","",{"$f":"MIN(IF($C$7:$C$46=C41,$X$7:$X$46,\"\"))","v":0},"","","","","","",""]
[null,null,null,null,null,null,null,null,null,0,0,null,null,null,0,null,"","","",{"$error":"#DIV/0!"},"",{"$f":"IF(P42<>\"Finished\",\"\",VLOOKUP(O42,'Data for points'!$P$26:$Z$33,10,TRUE))","v":""},"","",{"$f":"MIN(IF($C$7:$C$46=C42,$X$7:$X$46,\"\"))","v":0},"","","","","","",""]
[null,null,null,null,null,null,null,null,null,0,0,null,null,null,0,null,"","","",{"$error":"#DIV/0!"},"",{"$f":"IF(P43<>\"Finished\",\"\",VLOOKUP(O43,'Data for points'!$P$26:$Z$33,10,TRUE))","v":""},"","",{"$f":"MIN(IF($C$7:$C$46=C43,$X$7:$X$46,\"\"))","v":0},"","","","","","",""]
[null,null,null,null,null,null,null,null,null,0,0,null,null,null,0,null,"","","",{"$error":"#DIV/0!"},"",{"$f":"IF(P44<>\"Finished\",\"\",VLOOKUP(O44,'Data for points'!$P$26:$Z$33,10,TRUE))","v":""},"","",{"$f":"MIN(IF($C$7:$C$46=C44,$X$7:$X$46,\"\"))","v":0},"","","","","","",""]
[null,null,null,null,null,null,null,null,null,0,0,null,null,null,0,null,"","","",{"$error":"#DIV/0!"},"",{"$f":"IF(P45<>\"Finished\",\"\",VLOOKUP(O45,'Data for points'!$P$26:$Z$33,10,TRUE))","v":""},"","",{"$f":"MIN(IF($C$7:$C$46=C45,$X$7:$X$46,\"\"))","v":0},"","","","","","",""]
[null,null,null,null,null,null,null,null,null,0,0,null,null,null,0,null,"","","",{"$error":"#DIV/0!"},"",{"$f":"IF(P46<>\"Finished\",\"\",VLOOKUP(O46,'Data for points'!$P$26:$Z$33,10,TRUE))","v":""},"","",{"$f":"MIN(IF($C$7:$C$46=C46,$X$7:$X$46,\"\"))","v":0},"","","","","","",""]
[]
[]
[]
[]
[]
[]
[]
[]
[]
[]
[]
[]
[]
[]
[]
[]
[]
[]
[]
[]
[]
[]
[]
[]
[]
[]
[]
[]
[]
[]
[]
[]
[]
[]
[]
[]
[]
[]
[]
[]
[]
[]
[]
[]
[]
[]
[]
[]
[]
[]
[]
[]
[]
[null,null,null,null,null,null,null,null,null,null,null,null,null,null,null,"Finished"]
[null,null,null,null,null,null,null,null,null,null,null,null,null,null,null,"Disqualified"]

{"sheet":"200m Obs Women","index":35,"n_rows":101,"n_cols":32,"rows_kept":101,"cut":false,"hidden":true,"merged":[[4,6,4,7],[4,9,4,10],[4,11,4,13],[1,10,1,11]]}
[null,null,null,null,null,null,null,null,null,null,null,null,null,null,"UR in seconds"]
[null,"Women's",null,"200m Obs",null,null,null,null,null,null,"Club to \nHighlight",null,null,null,{"$f":"'Data for points'!E6","v":0},{"$f":"CONCATENATE(\"University  Record=\",INT(O2/60),\" minS\",MOD(O2,60),\" secs\")","v":"University  Record=0 minS0 secs"}]
[]
[]
["A University(Boolean)","Club Name","Club Code","Competitor","CompetitorID","AcceptanceID","ID code",null,"Entry Time(Seconds)","Entry Time",null,"Time",null,null,"Time(seconds)","Finish \nStatus","TimeSand  DQs","Rank","Competition \nPlace","PointSCalculation","Lifesaving Points","Survive and Save Status","Squad List","Rank For \nSquadSMembers","Top Finisher for there Uni","Top finisher Select Competitor for ranking","Squad \nPoints","Uni Finishers","Student \nPoints","Non-Uni Finishers","Non-Student \nPoints"]
[null,null,null,null,null,null,null,null,null,"Mins","Seconds","Mins","Seconds","1/100"]
[null,null,null,null,null,null,null,null,null,{"$f":"INT(I7/60)","v":0},{"$f":"MOD(I7,60)","v":0},null,null,null,{"$f":"L7*60+M7+N7/100","v":0},null,{"$f":"IF(P7<>\"Finished\",IF(P7<=0,\"\",P7),IF(P7=\"Finished\",IF(O7<=0,\"\",O7),\"\"))","v":""},{"$f":"IF(OR(LEFT(Q7,1)=\"D\",Q7=\"\"),\"\",RANK(Q7,$Q$7:$Q$46,1))","v":""},{"$f":"IF(LEFT(P7,1)=\"D\",MAX($R$7:$R$46)+1,R7)","v":""},{"$f":"(1-(O7-$O$2)/$O$2)*1000","v":{"$error":"#DIV/0!"}},{"$f":"IF(P7<>\"Finished\",\"\",IF(T7<0,0,T7))","v":""},{"$f":"IF(P7<>\"Finished\",\"\",VLOOKUP(O7,'Data for points'!$E$26:$Y$33,19,TRUE))","v":""},{"$f":"IF(G7=\"S\",S7,\"\")","v":""},{"$f":"IF(W7=\"\",\"\",RANK(W7,$W$7:$W$46,1))","v":""},{"$f":"MIN(IF($C$7:$C$46=C7,$X$7:$X$46,\"\"))","v":0},{"$f":"IF(Y7=X7,Y7,\"\")","v":""},{"$f":"IF(Z7=\"\",\"\",RANK(Z7,$Z$7:$Z$46,1))","v":""},{"$f":"IF(A7=1,AA7,\"\")","v":""},{"$f":"IF(AB7=\"\",\"\",RANK(AB7,$AB$7:$AB$46,1))","v":""},{"$f":"IF(A7=0,AA7,\"\")","v":""},{"$f":"IF(AD7=\"\",\"\",RANK(AD7,$AD$7:$AD$46,1))","v":""},{"$f":"IF(OR(P7<>\"Finished\",O7>$O$2),\"\",\"UR\")","v":""}]
[null,null,null,null,null,null,null,null,null,{"$f":"INT(I8/60)","v":0},{"$f":"MOD(I8,60)","v":0},null,null,null,{"$f":"L8*60+M8+N8/100","v":0},null,{"$f":"IF(P8<>\"Finished\",IF(P8<=0,\"\",P8),IF(P8=\"Finished\",IF(O8<=0,\"\",O8),\"\"))","v":""},{"$f":"IF(OR(LEFT(Q8,1)=\"D\",Q8=\"\"),\"\",RANK(Q8,$Q$7:$Q$46,1))","v":""},{"$f":"IF(LEFT(P8,1)=\"D\",MAX($R$7:$R$46)+1,R8)","v":""},{"$f":"(1-(O8-$O$2)/$O$2)*1000","v":{"$error":"#DIV/0!"}},{"$f":"IF(P8<>\"Finished\",\"\",IF(T8<0,0,T8))","v":""},{"$f":"IF(P8<>\"Finished\",\"\",VLOOKUP(O8,'Data for points'!$E$26:$Y$33,19,TRUE))","v":""},{"$f":"IF(G8=\"S\",S8,\"\")","v":""},{"$f":"IF(W8=\"\",\"\",RANK(W8,$W$7:$W$46,1))","v":""},{"$f":"MIN(IF($C$7:$C$46=C8,$X$7:$X$46,\"\"))","v":0},{"$f":"IF(Y8=X8,Y8,\"\")","v":""},{"$f":"IF(Z8=\"\",\"\",RANK(Z8,$Z$7:$Z$46,1))","v":""},{"$f":"IF(A8=1,AA8,\"\")","v":""},{"$f":"IF(AB8=\"\",\"\",RANK(AB8,$AB$7:$AB$46,1))","v":""},"",{"$f":"IF(AD8=\"\",\"\",RANK(AD8,$AD$7:$AD$46,1))","v":""},{"$f":"IF(OR(P8<>\"Finished\",O8>$O$2),\"\",\"UR\")","v":""}]
[null,null,null,null,null,null,null,null,null,0,0,null,null,null,0,null,"","","",{"$error":"#DIV/0!"},"",{"$f":"IF(P9<>\"Finished\",\"\",VLOOKUP(O9,'Data for points'!$E$26:$Y$33,19,TRUE))","v":""},"","",{"$f":"MIN(IF($C$7:$C$46=C9,$X$7:$X$46,\"\"))","v":0},"","","","","","",""]
[null,null,null,null,null,null,null,null,null,0,0,null,null,null,0,null,"","","",{"$error":"#DIV/0!"},"",{"$f":"IF(P10<>\"Finished\",\"\",VLOOKUP(O10,'Data for points'!$E$26:$Y$33,19,TRUE))","v":""},"","",{"$f":"MIN(IF($C$7:$C$46=C10,$X$7:$X$46,\"\"))","v":0},"","","","","","",""]
[null,null,null,null,null,null,null,null,null,0,0,null,null,null,0,null,"","","",{"$error":"#DIV/0!"},"",{"$f":"IF(P11<>\"Finished\",\"\",VLOOKUP(O11,'Data for points'!$E$26:$Y$33,19,TRUE))","v":""},"","",{"$f":"MIN(IF($C$7:$C$46=C11,$X$7:$X$46,\"\"))","v":0},"","","","","","",""]
[null,null,null,null,null,null,null,null,null,0,0,null,null,null,0,null,"","","",{"$error":"#DIV/0!"},"",{"$f":"IF(P12<>\"Finished\",\"\",VLOOKUP(O12,'Data for points'!$E$26:$Y$33,19,TRUE))","v":""},"","",{"$f":"MIN(IF($C$7:$C$46=C12,$X$7:$X$46,\"\"))","v":0},"","","","","","",""]
[null,null,null,null,null,null,null,null,null,0,0,null,null,null,0,null,"","","",{"$error":"#DIV/0!"},"",{"$f":"IF(P13<>\"Finished\",\"\",VLOOKUP(O13,'Data for points'!$E$26:$Y$33,19,TRUE))","v":""},"","",{"$f":"MIN(IF($C$7:$C$46=C13,$X$7:$X$46,\"\"))","v":0},"","","","","","",""]
[null,null,null,null,null,null,null,null,null,0,0,null,null,null,0,null,"","","",{"$error":"#DIV/0!"},"",{"$f":"IF(P14<>\"Finished\",\"\",VLOOKUP(O14,'Data for points'!$E$26:$Y$33,19,TRUE))","v":""},"","",{"$f":"MIN(IF($C$7:$C$46=C14,$X$7:$X$46,\"\"))","v":0},"","","","","","",""]
[null,null,null,null,null,null,null,null,null,0,0,null,null,null,0,null,"","","",{"$error":"#DIV/0!"},"",{"$f":"IF(P15<>\"Finished\",\"\",VLOOKUP(O15,'Data for points'!$E$26:$Y$33,19,TRUE))","v":""},"","",{"$f":"MIN(IF($C$7:$C$46=C15,$X$7:$X$46,\"\"))","v":0},"","","","","","",""]
[null,null,null,null,null,null,null,null,null,0,0,null,null,null,0,null,"","","",{"$error":"#DIV/0!"},"",{"$f":"IF(P16<>\"Finished\",\"\",VLOOKUP(O16,'Data for points'!$E$26:$Y$33,19,TRUE))","v":""},"","",{"$f":"MIN(IF($C$7:$C$46=C16,$X$7:$X$46,\"\"))","v":0},"","","","","","",""]
[null,null,null,null,null,null,null,null,null,0,0,null,null,null,0,null,"","","",{"$error":"#DIV/0!"},"",{"$f":"IF(P17<>\"Finished\",\"\",VLOOKUP(O17,'Data for points'!$E$26:$Y$33,19,TRUE))","v":""},"","",{"$f":"MIN(IF($C$7:$C$46=C17,$X$7:$X$46,\"\"))","v":0},"","","","","","",""]
[null,null,null,null,null,null,null,null,null,0,0,null,null,null,0,null,"","","",{"$error":"#DIV/0!"},"",{"$f":"IF(P18<>\"Finished\",\"\",VLOOKUP(O18,'Data for points'!$E$26:$Y$33,19,TRUE))","v":""},"","",{"$f":"MIN(IF($C$7:$C$46=C18,$X$7:$X$46,\"\"))","v":0},"","","","","","",""]
[null,null,null,null,null,null,null,null,null,0,0,null,null,null,0,null,"","","",{"$error":"#DIV/0!"},"",{"$f":"IF(P19<>\"Finished\",\"\",VLOOKUP(O19,'Data for points'!$E$26:$Y$33,19,TRUE))","v":""},"","",{"$f":"MIN(IF($C$7:$C$46=C19,$X$7:$X$46,\"\"))","v":0},"","","","","","",""]
[null,null,null,null,null,null,null,null,null,0,0,null,null,null,0,null,"","","",{"$error":"#DIV/0!"},"",{"$f":"IF(P20<>\"Finished\",\"\",VLOOKUP(O20,'Data for points'!$E$26:$Y$33,19,TRUE))","v":""},"","",{"$f":"MIN(IF($C$7:$C$46=C20,$X$7:$X$46,\"\"))","v":0},"","","","","","",""]
[null,null,null,null,null,null,null,null,null,0,0,null,null,null,0,null,"","","",{"$error":"#DIV/0!"},"",{"$f":"IF(P21<>\"Finished\",\"\",VLOOKUP(O21,'Data for points'!$E$26:$Y$33,19,TRUE))","v":""},"","",{"$f":"MIN(IF($C$7:$C$46=C21,$X$7:$X$46,\"\"))","v":0},"","","","","","",""]
[null,null,null,null,null,null,null,null,null,0,0,null,null,null,0,null,"","","",{"$error":"#DIV/0!"},"",{"$f":"IF(P22<>\"Finished\",\"\",VLOOKUP(O22,'Data for points'!$E$26:$Y$33,19,TRUE))","v":""},"","",{"$f":"MIN(IF($C$7:$C$46=C22,$X$7:$X$46,\"\"))","v":0},"","","","","","",""]
[null,null,null,null,null,null,null,null,null,0,0,null,null,null,0,null,"","","",{"$error":"#DIV/0!"},"",{"$f":"IF(P23<>\"Finished\",\"\",VLOOKUP(O23,'Data for points'!$E$26:$Y$33,19,TRUE))","v":""},"","",{"$f":"MIN(IF($C$7:$C$46=C23,$X$7:$X$46,\"\"))","v":0},"","","","","","",""]
[null,null,null,null,null,null,null,null,null,0,0,null,null,null,0,null,"","","",{"$error":"#DIV/0!"},"",{"$f":"IF(P24<>\"Finished\",\"\",VLOOKUP(O24,'Data for points'!$E$26:$Y$33,19,TRUE))","v":""},"","",{"$f":"MIN(IF($C$7:$C$46=C24,$X$7:$X$46,\"\"))","v":0},"","","","","","",""]
[null,null,null,null,null,null,null,null,null,0,0,null,null,null,0,null,"","","",{"$error":"#DIV/0!"},"",{"$f":"IF(P25<>\"Finished\",\"\",VLOOKUP(O25,'Data for points'!$E$26:$Y$33,19,TRUE))","v":""},"","",{"$f":"MIN(IF($C$7:$C$46=C25,$X$7:$X$46,\"\"))","v":0},"","","","","","",""]
[null,null,null,null,null,null,null,null,null,0,0,null,null,null,0,null,"","","",{"$error":"#DIV/0!"},"",{"$f":"IF(P26<>\"Finished\",\"\",VLOOKUP(O26,'Data for points'!$E$26:$Y$33,19,TRUE))","v":""},"","",{"$f":"MIN(IF($C$7:$C$46=C26,$X$7:$X$46,\"\"))","v":0},"","","","","","",""]
[null,null,null,null,null,null,null,null,null,0,0,null,null,null,0,null,"","","",{"$error":"#DIV/0!"},"",{"$f":"IF(P27<>\"Finished\",\"\",VLOOKUP(O27,'Data for points'!$E$26:$Y$33,19,TRUE))","v":""},"","",{"$f":"MIN(IF($C$7:$C$46=C27,$X$7:$X$46,\"\"))","v":0},"","","","","","",""]
[null,null,null,null,null,null,null,null,null,0,0,null,null,null,0,null,"","","",{"$error":"#DIV/0!"},"",{"$f":"IF(P28<>\"Finished\",\"\",VLOOKUP(O28,'Data for points'!$E$26:$Y$33,19,TRUE))","v":""},"","",{"$f":"MIN(IF($C$7:$C$46=C28,$X$7:$X$46,\"\"))","v":0},"","","","","","",""]
[null,null,null,null,null,null,null,null,null,0,0,null,null,null,0,null,"","","",{"$error":"#DIV/0!"},"",{"$f":"IF(P29<>\"Finished\",\"\",VLOOKUP(O29,'Data for points'!$E$26:$Y$33,19,TRUE))","v":""},"","",{"$f":"MIN(IF($C$7:$C$46=C29,$X$7:$X$46,\"\"))","v":0},"","","","","","",""]
[null,null,null,null,null,null,null,null,null,0,0,null,null,null,0,null,"","","",{"$error":"#DIV/0!"},"",{"$f":"IF(P30<>\"Finished\",\"\",VLOOKUP(O30,'Data for points'!$E$26:$Y$33,19,TRUE))","v":""},"","",{"$f":"MIN(IF($C$7:$C$46=C30,$X$7:$X$46,\"\"))","v":0},"","","","","","",""]
[null,null,null,null,null,null,null,null,null,0,0,null,null,null,0,null,"","","",{"$error":"#DIV/0!"},"",{"$f":"IF(P31<>\"Finished\",\"\",VLOOKUP(O31,'Data for points'!$E$26:$Y$33,19,TRUE))","v":""},"","",{"$f":"MIN(IF($C$7:$C$46=C31,$X$7:$X$46,\"\"))","v":0},"","","","","","",""]
[null,null,null,null,null,null,null,null,null,0,0,null,null,null,0,null,"","","",{"$error":"#DIV/0!"},"",{"$f":"IF(P32<>\"Finished\",\"\",VLOOKUP(O32,'Data for points'!$E$26:$Y$33,19,TRUE))","v":""},"","",{"$f":"MIN(IF($C$7:$C$46=C32,$X$7:$X$46,\"\"))","v":0},"","","","","","",""]
[null,null,null,null,null,null,null,null,null,0,0,null,null,null,0,null,"","","",{"$error":"#DIV/0!"},"",{"$f":"IF(P33<>\"Finished\",\"\",VLOOKUP(O33,'Data for points'!$E$26:$Y$33,19,TRUE))","v":""},"","",{"$f":"MIN(IF($C$7:$C$46=C33,$X$7:$X$46,\"\"))","v":0},"","","","","","",""]
[null,null,null,null,null,null,null,null,null,0,0,null,null,null,0,null,"","","",{"$error":"#DIV/0!"},"",{"$f":"IF(P34<>\"Finished\",\"\",VLOOKUP(O34,'Data for points'!$E$26:$Y$33,19,TRUE))","v":""},"","",{"$f":"MIN(IF($C$7:$C$46=C34,$X$7:$X$46,\"\"))","v":0},"","","","","","",""]
[null,null,null,null,null,null,null,null,null,0,0,null,null,null,0,null,"","","",{"$error":"#DIV/0!"},"",{"$f":"IF(P35<>\"Finished\",\"\",VLOOKUP(O35,'Data for points'!$E$26:$Y$33,19,TRUE))","v":""},"","",{"$f":"MIN(IF($C$7:$C$46=C35,$X$7:$X$46,\"\"))","v":0},"","","","","","",""]
[null,null,null,null,null,null,null,null,null,0,0,null,null,null,0,null,"","","",{"$error":"#DIV/0!"},"",{"$f":"IF(P36<>\"Finished\",\"\",VLOOKUP(O36,'Data for points'!$E$26:$Y$33,19,TRUE))","v":""},"","",{"$f":"MIN(IF($C$7:$C$46=C36,$X$7:$X$46,\"\"))","v":0},"","","","","","",""]
[null,null,null,null,null,null,null,null,null,0,0,null,null,null,0,null,"","","",{"$error":"#DIV/0!"},"",{"$f":"IF(P37<>\"Finished\",\"\",VLOOKUP(O37,'Data for points'!$E$26:$Y$33,19,TRUE))","v":""},"","",{"$f":"MIN(IF($C$7:$C$46=C37,$X$7:$X$46,\"\"))","v":0},"","","","","","",""]
[null,null,null,null,null,null,null,null,null,0,0,null,null,null,0,null,"","","",{"$error":"#DIV/0!"},"",{"$f":"IF(P38<>\"Finished\",\"\",VLOOKUP(O38,'Data for points'!$E$26:$Y$33,19,TRUE))","v":""},"","",{"$f":"MIN(IF($C$7:$C$46=C38,$X$7:$X$46,\"\"))","v":0},"","","","","","",""]
[null,null,null,null,null,null,null,null,null,0,0,null,null,null,0,null,"","","",{"$error":"#DIV/0!"},"",{"$f":"IF(P39<>\"Finished\",\"\",VLOOKUP(O39,'Data for points'!$E$26:$Y$33,19,TRUE))","v":""},"","",{"$f":"MIN(IF($C$7:$C$46=C39,$X$7:$X$46,\"\"))","v":0},"","","","","","",""]
[null,null,null,null,null,null,null,null,null,0,0,null,null,null,0,null,"","","",{"$error":"#DIV/0!"},"",{"$f":"IF(P40<>\"Finished\",\"\",VLOOKUP(O40,'Data for points'!$E$26:$Y$33,19,TRUE))","v":""},"","",{"$f":"MIN(IF($C$7:$C$46=C40,$X$7:$X$46,\"\"))","v":0},"","","","","","",""]
[null,null,null,null,null,null,null,null,null,0,0,null,null,null,0,null,"","","",{"$error":"#DIV/0!"},"",{"$f":"IF(P41<>\"Finished\",\"\",VLOOKUP(O41,'Data for points'!$E$26:$Y$33,19,TRUE))","v":""},"","",{"$f":"MIN(IF($C$7:$C$46=C41,$X$7:$X$46,\"\"))","v":0},"","","","","","",""]
[null,null,null,null,null,null,null,null,null,0,0,null,null,null,0,null,"","","",{"$error":"#DIV/0!"},"",{"$f":"IF(P42<>\"Finished\",\"\",VLOOKUP(O42,'Data for points'!$E$26:$Y$33,19,TRUE))","v":""},"","",{"$f":"MIN(IF($C$7:$C$46=C42,$X$7:$X$46,\"\"))","v":0},"","","","","","",""]
[null,null,null,null,null,null,null,null,null,0,0,null,null,null,0,null,"","","",{"$error":"#DIV/0!"},"",{"$f":"IF(P43<>\"Finished\",\"\",VLOOKUP(O43,'Data for points'!$E$26:$Y$33,19,TRUE))","v":""},"","",{"$f":"MIN(IF($C$7:$C$46=C43,$X$7:$X$46,\"\"))","v":0},"","","","","","",""]
[null,null,null,null,null,null,null,null,null,0,0,null,null,null,0,null,"","","",{"$error":"#DIV/0!"},"",{"$f":"IF(P44<>\"Finished\",\"\",VLOOKUP(O44,'Data for points'!$E$26:$Y$33,19,TRUE))","v":""},"","",{"$f":"MIN(IF($C$7:$C$46=C44,$X$7:$X$46,\"\"))","v":0},"","","","","","",""]
[null,null,null,null,null,null,null,null,null,0,0,null,null,null,0,null,"","","",{"$error":"#DIV/0!"},"",{"$f":"IF(P45<>\"Finished\",\"\",VLOOKUP(O45,'Data for points'!$E$26:$Y$33,19,TRUE))","v":""},"","",{"$f":"MIN(IF($C$7:$C$46=C45,$X$7:$X$46,\"\"))","v":0},"","","","","","",""]
[null,null,null,null,null,null,null,null,null,0,0,null,null,null,0,null,"","","",{"$error":"#DIV/0!"},"",{"$f":"IF(P46<>\"Finished\",\"\",VLOOKUP(O46,'Data for points'!$E$26:$Y$33,19,TRUE))","v":""},"","",{"$f":"MIN(IF($C$7:$C$46=C46,$X$7:$X$46,\"\"))","v":0},"","","","","","",""]
[]
[]
[]
[]
[]
[]
[]
[]
[]
[]
[]
[]
[]
[]
[]
[]
[]
[]
[]
[]
[]
[]
[]
[]
[]
[]
[]
[]
[]
[]
[]
[]
[]
[]
[]
[]
[]
[]
[]
[]
[]
[]
[]
[]
[]
[]
[]
[]
[]
[]
[]
[]
[]
[null,null,null,null,null,null,null,null,null,null,null,null,null,null,null,"Finished"]
[null,null,null,null,null,null,null,null,null,null,null,null,null,null,null,"Disqualified"]

{"sheet":"200m Super Men","index":36,"n_rows":101,"n_cols":32,"rows_kept":101,"cut":false,"hidden":true,"merged":[[4,6,4,7],[4,9,4,10],[4,11,4,13],[1,10,1,11]]}
[null,null,null,null,null,null,null,null,null,null,null,null,null,null,"UR in seconds"]
[null,"Men's",null,"200m Superlifesaver",null,null,null,null,null,null,"Club to \nHighlight",null,null,null,{"$f":"'Data for points'!F5","v":0},{"$f":"CONCATENATE(\"University  Record=\",INT(O2/60),\" minS\",MOD(O2,60),\" secs\")","v":"University  Record=0 minS0 secs"}]
[]
[]
["A University(Boolean)","Club Name","Club Code","Competitor","CompetitorID","AceptanceID","ID code",null,"Entry Time(Seconds)","Entry Time",null,"Time",null,null,"Time(seconds)","Finish \nStatus","TimeSand  DQs","Rank","Competition \nPlace","PointSCalculation","Lifesaving Points","Survive and Save Status","Squad List","Rank For \nSquadSMembers","Top Finisher for there Uni","Top finisher Select Competitor for ranking","Squad \nPoints","Uni Finishers","Student \nPoints","Non-Uni Finishers","Non-Student \nPoints"]
[null,null,null,null,null,null,null,null,null,"Mins","Seconds","Mins","Seconds","1/100"]
[null,null,null,null,null,null,null,null,null,{"$f":"INT(I7/60)","v":0},{"$f":"MOD(I7,60)","v":0},null,null,null,{"$f":"L7*60+M7+N7/100","v":0},null,{"$f":"IF(P7<>\"Finished\",IF(P7<=0,\"\",P7),IF(P7=\"Finished\",IF(O7<=0,\"\",O7),\"\"))","v":""},{"$f":"IF(OR(LEFT(Q7,1)=\"D\",Q7=\"\"),\"\",RANK(Q7,$Q$7:$Q$46,1))","v":""},{"$f":"IF(LEFT(P7,1)=\"D\",MAX($R$7:$R$46)+1,R7)","v":""},{"$f":"(1-(O7-$O$2)/$O$2)*1000","v":{"$error":"#DIV/0!"}},{"$f":"IF(P7<>\"Finished\",\"\",IF(T7<0,0,T7))","v":""},{"$f":"IF(P7<>\"Finished\",\"\",VLOOKUP(O7,'Data for points'!$F$16:$Y$23,18,TRUE))","v":""},{"$f":"IF(G7=\"S\",S7,\"\")","v":""},{"$f":"IF(W7=\"\",\"\",RANK(W7,$W$7:$W$46,1))","v":""},{"$f":"MIN(IF($C$7:$C$46=C7,$X$7:$X$46,\"\"))","v":0},{"$f":"IF(Y7=X7,Y7,\"\")","v":""},{"$f":"IF(Z7=\"\",\"\",RANK(Z7,$Z$7:$Z$46,1))","v":""},{"$f":"IF(A7=1,AA7,\"\")","v":""},{"$f":"IF(AB7=\"\",\"\",RANK(AB7,$AB$7:$AB$46,1))","v":""},{"$f":"IF(A7=0,AA7,\"\")","v":""},{"$f":"IF(AD7=\"\",\"\",RANK(AD7,$AD$7:$AD$46,1))","v":""},{"$f":"IF(OR(P7<>\"Finished\",O7>$O$2),\"\",\"UR\")","v":""}]
[null,null,null,null,null,null,null,null,null,0,0,null,null,null,{"$f":"L8*60+M8+N8/100","v":0},null,{"$f":"IF(P8<>\"Finished\",IF(P8<=0,\"\",P8),IF(P8=\"Finished\",IF(O8<=0,\"\",O8),\"\"))","v":""},{"$f":"IF(OR(LEFT(Q8,1)=\"D\",Q8=\"\"),\"\",RANK(Q8,$Q$7:$Q$46,1))","v":""},{"$f":"IF(LEFT(P8,1)=\"D\",MAX($R$7:$R$46)+1,R8)","v":""},{"$f":"(1-(O8-$O$2)/$O$2)*1000","v":{"$error":"#DIV/0!"}},{"$f":"IF(P8<>\"Finished\",\"\",IF(T8<0,0,T8))","v":""},{"$f":"IF(P8<>\"Finished\",\"\",VLOOKUP(O8,'Data for points'!$F$16:$Y$23,18,TRUE))","v":""},{"$f":"IF(G8=\"S\",S8,\"\")","v":""},{"$f":"IF(W8=\"\",\"\",RANK(W8,$W$7:$W$46,1))","v":""},{"$f":"MIN(IF($C$7:$C$46=C8,$X$7:$X$46,\"\"))","v":0},{"$f":"IF(Y8=X8,Y8,\"\")","v":""},{"$f":"IF(Z8=\"\",\"\",RANK(Z8,$Z$7:$Z$46,1))","v":""},{"$f":"IF(A8=1,AA8,\"\")","v":""},{"$f":"IF(AB8=\"\",\"\",RANK(AB8,$AB$7:$AB$46,1))","v":""},"",{"$f":"IF(AD8=\"\",\"\",RANK(AD8,$AD$7:$AD$46,1))","v":""},{"$f":"IF(OR(P8<>\"Finished\",O8>$O$2),\"\",\"UR\")","v":""}]
[null,null,null,null,null,null,null,null,null,0,0,null,null,null,0,null,"","","",{"$error":"#DIV/0!"},"",{"$f":"IF(P9<>\"Finished\",\"\",VLOOKUP(O9,'Data for points'!$F$16:$Y$23,18,TRUE))","v":""},"","",{"$f":"MIN(IF($C$7:$C$46=C9,$X$7:$X$46,\"\"))","v":0},"","","","","","",""]
[null,null,null,null,null,null,null,null,null,0,0,null,null,null,0,null,"","","",{"$error":"#DIV/0!"},"",{"$f":"IF(P10<>\"Finished\",\"\",VLOOKUP(O10,'Data for points'!$F$16:$Y$23,18,TRUE))","v":""},"","",{"$f":"MIN(IF($C$7:$C$46=C10,$X$7:$X$46,\"\"))","v":0},"","","","","","",""]
[null,null,null,null,null,null,null,null,null,0,0,null,null,null,0,null,"","","",{"$error":"#DIV/0!"},"",{"$f":"IF(P11<>\"Finished\",\"\",VLOOKUP(O11,'Data for points'!$F$16:$Y$23,18,TRUE))","v":""},"","",{"$f":"MIN(IF($C$7:$C$46=C11,$X$7:$X$46,\"\"))","v":0},"","","","","","",""]
[null,null,null,null,null,null,null,null,null,0,0,null,null,null,0,null,"","","",{"$error":"#DIV/0!"},"",{"$f":"IF(P12<>\"Finished\",\"\",VLOOKUP(O12,'Data for points'!$F$16:$Y$23,18,TRUE))","v":""},"","",{"$f":"MIN(IF($C$7:$C$46=C12,$X$7:$X$46,\"\"))","v":0},"","","","","","",""]
[null,null,null,null,null,null,null,null,null,0,0,null,null,null,0,null,"","","",{"$error":"#DIV/0!"},"",{"$f":"IF(P13<>\"Finished\",\"\",VLOOKUP(O13,'Data for points'!$F$16:$Y$23,18,TRUE))","v":""},"","",{"$f":"MIN(IF($C$7:$C$46=C13,$X$7:$X$46,\"\"))","v":0},"","","","","","",""]
[null,null,null,null,null,null,null,null,null,0,0,null,null,null,0,null,"","","",{"$error":"#DIV/0!"},"",{"$f":"IF(P14<>\"Finished\",\"\",VLOOKUP(O14,'Data for points'!$F$16:$Y$23,18,TRUE))","v":""},"","",{"$f":"MIN(IF($C$7:$C$46=C14,$X$7:$X$46,\"\"))","v":0},"","","","","","",""]
[null,null,null,null,null,null,null,null,null,0,0,null,null,null,0,null,"","","",{"$error":"#DIV/0!"},"",{"$f":"IF(P15<>\"Finished\",\"\",VLOOKUP(O15,'Data for points'!$F$16:$Y$23,18,TRUE))","v":""},"","",{"$f":"MIN(IF($C$7:$C$46=C15,$X$7:$X$46,\"\"))","v":0},"","","","","","",""]
[null,null,null,null,null,null,null,null,null,0,0,null,null,null,0,null,"","","",{"$error":"#DIV/0!"},"",{"$f":"IF(P16<>\"Finished\",\"\",VLOOKUP(O16,'Data for points'!$F$16:$Y$23,18,TRUE))","v":""},"","",{"$f":"MIN(IF($C$7:$C$46=C16,$X$7:$X$46,\"\"))","v":0},"","","","","","",""]
[null,null,null,null,null,null,null,null,null,0,0,null,null,null,0,null,"","","",{"$error":"#DIV/0!"},"",{"$f":"IF(P17<>\"Finished\",\"\",VLOOKUP(O17,'Data for points'!$F$16:$Y$23,18,TRUE))","v":""},"","",{"$f":"MIN(IF($C$7:$C$46=C17,$X$7:$X$46,\"\"))","v":0},"","","","","","",""]
[null,null,null,null,null,null,null,null,null,0,0,null,null,null,0,null,"","","",{"$error":"#DIV/0!"},"",{"$f":"IF(P18<>\"Finished\",\"\",VLOOKUP(O18,'Data for points'!$F$16:$Y$23,18,TRUE))","v":""},"","",{"$f":"MIN(IF($C$7:$C$46=C18,$X$7:$X$46,\"\"))","v":0},"","","","","","",""]
[null,null,null,null,null,null,null,null,null,0,0,null,null,null,0,null,"","","",{"$error":"#DIV/0!"},"",{"$f":"IF(P19<>\"Finished\",\"\",VLOOKUP(O19,'Data for points'!$F$16:$Y$23,18,TRUE))","v":""},"","",{"$f":"MIN(IF($C$7:$C$46=C19,$X$7:$X$46,\"\"))","v":0},"","","","","","",""]
[null,null,null,null,null,null,null,null,null,0,0,null,null,null,0,null,"","","",{"$error":"#DIV/0!"},"",{"$f":"IF(P20<>\"Finished\",\"\",VLOOKUP(O20,'Data for points'!$F$16:$Y$23,18,TRUE))","v":""},"","",{"$f":"MIN(IF($C$7:$C$46=C20,$X$7:$X$46,\"\"))","v":0},"","","","","","",""]
[null,null,null,null,null,null,null,null,null,0,0,null,null,null,0,null,"","","",{"$error":"#DIV/0!"},"",{"$f":"IF(P21<>\"Finished\",\"\",VLOOKUP(O21,'Data for points'!$F$16:$Y$23,18,TRUE))","v":""},"","",{"$f":"MIN(IF($C$7:$C$46=C21,$X$7:$X$46,\"\"))","v":0},"","","","","","",""]
[null,null,null,null,null,null,null,null,null,0,0,null,null,null,0,null,"","","",{"$error":"#DIV/0!"},"",{"$f":"IF(P22<>\"Finished\",\"\",VLOOKUP(O22,'Data for points'!$F$16:$Y$23,18,TRUE))","v":""},"","",{"$f":"MIN(IF($C$7:$C$46=C22,$X$7:$X$46,\"\"))","v":0},"","","","","","",""]
[null,null,null,null,null,null,null,null,null,0,0,null,null,null,0,null,"","","",{"$error":"#DIV/0!"},"",{"$f":"IF(P23<>\"Finished\",\"\",VLOOKUP(O23,'Data for points'!$F$16:$Y$23,18,TRUE))","v":""},"","",{"$f":"MIN(IF($C$7:$C$46=C23,$X$7:$X$46,\"\"))","v":0},"","","","","","",""]
[null,null,null,null,null,null,null,null,null,0,0,null,null,null,0,null,"","","",{"$error":"#DIV/0!"},"",{"$f":"IF(P24<>\"Finished\",\"\",VLOOKUP(O24,'Data for points'!$F$16:$Y$23,18,TRUE))","v":""},"","",{"$f":"MIN(IF($C$7:$C$46=C24,$X$7:$X$46,\"\"))","v":0},"","","","","","",""]
[null,null,null,null,null,null,null,null,null,{"$f":"INT(I25/60)","v":0},{"$f":"MOD(I25,60)","v":0},null,null,null,0,null,"","","",{"$error":"#DIV/0!"},"",{"$f":"IF(P25<>\"Finished\",\"\",VLOOKUP(O25,'Data for points'!$F$16:$Y$23,18,TRUE))","v":""},"","",{"$f":"MIN(IF($C$7:$C$46=C25,$X$7:$X$46,\"\"))","v":0},"","","","","","",""]
[null,null,null,null,null,null,null,null,null,0,0,null,null,null,0,null,"","","",{"$error":"#DIV/0!"},"",{"$f":"IF(P26<>\"Finished\",\"\",VLOOKUP(O26,'Data for points'!$F$16:$Y$23,18,TRUE))","v":""},"","",{"$f":"MIN(IF($C$7:$C$46=C26,$X$7:$X$46,\"\"))","v":0},"","","","","","",""]
[null,null,null,null,null,null,null,null,null,0,0,null,null,null,0,null,"","","",{"$error":"#DIV/0!"},"",{"$f":"IF(P27<>\"Finished\",\"\",VLOOKUP(O27,'Data for points'!$F$16:$Y$23,18,TRUE))","v":""},"","",{"$f":"MIN(IF($C$7:$C$46=C27,$X$7:$X$46,\"\"))","v":0},"","","","","","",""]
[null,null,null,null,null,null,null,null,null,0,0,null,null,null,0,null,"","","",{"$error":"#DIV/0!"},"",{"$f":"IF(P28<>\"Finished\",\"\",VLOOKUP(O28,'Data for points'!$F$16:$Y$23,18,TRUE))","v":""},"","",{"$f":"MIN(IF($C$7:$C$46=C28,$X$7:$X$46,\"\"))","v":0},"","","","","","",""]
[null,null,null,null,null,null,null,null,null,0,0,null,null,null,0,null,"","","",{"$error":"#DIV/0!"},"",{"$f":"IF(P29<>\"Finished\",\"\",VLOOKUP(O29,'Data for points'!$F$16:$Y$23,18,TRUE))","v":""},"","",{"$f":"MIN(IF($C$7:$C$46=C29,$X$7:$X$46,\"\"))","v":0},"","","","","","",""]
[null,null,null,null,null,null,null,null,null,0,0,null,null,null,0,null,"","","",{"$error":"#DIV/0!"},"",{"$f":"IF(P30<>\"Finished\",\"\",VLOOKUP(O30,'Data for points'!$F$16:$Y$23,18,TRUE))","v":""},"","",{"$f":"MIN(IF($C$7:$C$46=C30,$X$7:$X$46,\"\"))","v":0},"","","","","","",""]
[null,null,null,null,null,null,null,null,null,0,0,null,null,null,0,null,"","","",{"$error":"#DIV/0!"},"",{"$f":"IF(P31<>\"Finished\",\"\",VLOOKUP(O31,'Data for points'!$F$16:$Y$23,18,TRUE))","v":""},"","",{"$f":"MIN(IF($C$7:$C$46=C31,$X$7:$X$46,\"\"))","v":0},"","","","","","",""]
[null,null,null,null,null,null,null,null,null,0,0,null,null,null,0,null,"","","",{"$error":"#DIV/0!"},"",{"$f":"IF(P32<>\"Finished\",\"\",VLOOKUP(O32,'Data for points'!$F$16:$Y$23,18,TRUE))","v":""},"","",{"$f":"MIN(IF($C$7:$C$46=C32,$X$7:$X$46,\"\"))","v":0},"","","","","","",""]
[null,null,null,null,null,null,null,null,null,0,0,null,null,null,0,null,"","","",{"$error":"#DIV/0!"},"",{"$f":"IF(P33<>\"Finished\",\"\",VLOOKUP(O33,'Data for points'!$F$16:$Y$23,18,TRUE))","v":""},"","",{"$f":"MIN(IF($C$7:$C$46=C33,$X$7:$X$46,\"\"))","v":0},"","","","","","",""]
[null,null,null,null,null,null,null,null,null,0,0,null,null,null,0,null,"","","",{"$error":"#DIV/0!"},"",{"$f":"IF(P34<>\"Finished\",\"\",VLOOKUP(O34,'Data for points'!$F$16:$Y$23,18,TRUE))","v":""},"","",{"$f":"MIN(IF($C$7:$C$46=C34,$X$7:$X$46,\"\"))","v":0},"","","","","","",""]
[null,null,null,null,null,null,null,null,null,0,0,null,null,null,0,null,"","","",{"$error":"#DIV/0!"},"",{"$f":"IF(P35<>\"Finished\",\"\",VLOOKUP(O35,'Data for points'!$F$16:$Y$23,18,TRUE))","v":""},"","",{"$f":"MIN(IF($C$7:$C$46=C35,$X$7:$X$46,\"\"))","v":0},"","","","","","",""]
[null,null,null,null,null,null,null,null,null,0,0,null,null,null,0,null,"","","",{"$error":"#DIV/0!"},"",{"$f":"IF(P36<>\"Finished\",\"\",VLOOKUP(O36,'Data for points'!$F$16:$Y$23,18,TRUE))","v":""},"","",{"$f":"MIN(IF($C$7:$C$46=C36,$X$7:$X$46,\"\"))","v":0},"","","","","","",""]
[null,null,null,null,null,null,null,null,null,0,0,null,null,null,0,null,"","","",{"$error":"#DIV/0!"},"",{"$f":"IF(P37<>\"Finished\",\"\",VLOOKUP(O37,'Data for points'!$F$16:$Y$23,18,TRUE))","v":""},"","",{"$f":"MIN(IF($C$7:$C$46=C37,$X$7:$X$46,\"\"))","v":0},"","","","","","",""]
[null,null,null,null,null,null,null,null,null,0,0,null,null,null,0,null,"","","",{"$error":"#DIV/0!"},"",{"$f":"IF(P38<>\"Finished\",\"\",VLOOKUP(O38,'Data for points'!$F$16:$Y$23,18,TRUE))","v":""},"","",{"$f":"MIN(IF($C$7:$C$46=C38,$X$7:$X$46,\"\"))","v":0},"","","","","","",""]
[null,null,null,null,null,null,null,null,null,0,0,null,null,null,0,null,"","","",{"$error":"#DIV/0!"},"",{"$f":"IF(P39<>\"Finished\",\"\",VLOOKUP(O39,'Data for points'!$F$16:$Y$23,18,TRUE))","v":""},"","",{"$f":"MIN(IF($C$7:$C$46=C39,$X$7:$X$46,\"\"))","v":0},"","","","","","",""]
[null,null,null,null,null,null,null,null,null,0,0,null,null,null,0,null,"","","",{"$error":"#DIV/0!"},"",{"$f":"IF(P40<>\"Finished\",\"\",VLOOKUP(O40,'Data for points'!$F$16:$Y$23,18,TRUE))","v":""},"","",{"$f":"MIN(IF($C$7:$C$46=C40,$X$7:$X$46,\"\"))","v":0},"","","","","","",""]
[null,null,null,null,null,null,null,null,null,0,0,null,null,null,0,null,"","","",{"$error":"#DIV/0!"},"",{"$f":"IF(P41<>\"Finished\",\"\",VLOOKUP(O41,'Data for points'!$F$16:$Y$23,18,TRUE))","v":""},"","",{"$f":"MIN(IF($C$7:$C$46=C41,$X$7:$X$46,\"\"))","v":0},"","","","","","",""]
[null,null,null,null,null,null,null,null,null,0,0,null,null,null,0,null,"","","",{"$error":"#DIV/0!"},"",{"$f":"IF(P42<>\"Finished\",\"\",VLOOKUP(O42,'Data for points'!$F$16:$Y$23,18,TRUE))","v":""},"","",{"$f":"MIN(IF($C$7:$C$46=C42,$X$7:$X$46,\"\"))","v":0},"","","","","","",""]
[null,null,null,null,null,null,null,null,null,0,0,null,null,null,0,null,"","","",{"$error":"#DIV/0!"},"",{"$f":"IF(P43<>\"Finished\",\"\",VLOOKUP(O43,'Data for points'!$F$16:$Y$23,18,TRUE))","v":""},"","",{"$f":"MIN(IF($C$7:$C$46=C43,$X$7:$X$46,\"\"))","v":0},"","","","","","",""]
[null,null,null,null,null,null,null,null,null,0,0,null,null,null,0,null,"","","",{"$error":"#DIV/0!"},"",{"$f":"IF(P44<>\"Finished\",\"\",VLOOKUP(O44,'Data for points'!$F$16:$Y$23,18,TRUE))","v":""},"","",{"$f":"MIN(IF($C$7:$C$46=C44,$X$7:$X$46,\"\"))","v":0},"","","","","","",""]
[null,null,null,null,null,null,null,null,null,0,0,null,null,null,0,null,"","","",{"$error":"#DIV/0!"},"",{"$f":"IF(P45<>\"Finished\",\"\",VLOOKUP(O45,'Data for points'!$F$16:$Y$23,18,TRUE))","v":""},"","",{"$f":"MIN(IF($C$7:$C$46=C45,$X$7:$X$46,\"\"))","v":0},"","","","","","",""]
[null,null,null,null,null,null,null,null,null,0,0,null,null,null,0,null,"","","",{"$error":"#DIV/0!"},"",{"$f":"IF(P46<>\"Finished\",\"\",VLOOKUP(O46,'Data for points'!$F$16:$Y$23,18,TRUE))","v":""},"","",{"$f":"MIN(IF($C$7:$C$46=C46,$X$7:$X$46,\"\"))","v":0},"","","","","","",""]
[]
[]
[]
[]
[]
[]
[]
[]
[]
[]
[]
[]
[]
[]
[]
[]
[]
[]
[]
[]
[]
[]
[]
[]
[]
[]
[]
[]
[]
[]
[]
[]
[]
[]
[]
[]
[]
[]
[]
[]
[]
[]
[]
[]
[]
[]
[]
[]
[]
[]
[]
[]
[]
[null,null,null,null,null,null,null,null,null,null,null,null,null,null,null,"Finished"]
[null,null,null,null,null,null,null,null,null,null,null,null,null,null,null,"Disqualified"]

{"sheet":"200m Super Women","index":37,"n_rows":101,"n_cols":32,"rows_kept":101,"cut":false,"hidden":true,"merged":[[4,6,4,7],[4,9,4,10],[4,11,4,13],[1,10,1,11]]}
[null,null,null,null,null,null,null,null,null,null,null,null,null,null,"UR in seconds"]
[null,"Women's",null,"200m Superlifesaver",null,null,null,null,null,null,null,null,null,null,{"$f":"'Data for points'!F6","v":0},{"$f":"CONCATENATE(\"University  Record=\",INT(O2/60),\" minS\",MOD(O2,60),\" secs\")","v":"University  Record=0 minS0 secs"}]
[]
[]
["A University(Boolean)","Club Name","Club Code","Competitor","CompetitorID","AceptanceID","ID code",null,"Entry Time(Seconds)","Entry Time",null,"Time",null,null,"Time(seconds)","Finish \nStatus","TimeSand  DQs","Rank","Competition \nPlace","PointSCalculation","Lifesaving Points","Survive and Save Status","Squad List","Rank For \nSquadSMembers","Top Finisher for there Uni","Top finisher Select Competitor for ranking","Squad \nPoints","Uni Finishers","Student \nPoints","Non-Uni Finishers","Non-Student \nPoints"]
[null,null,null,null,null,null,null,null,null,"Mins","Seconds","Mins","Seconds","1/100"]
[null,null,null,null,null,null,null,null,null,{"$f":"INT(I7/60)","v":0},{"$f":"MOD(I7,60)","v":0},null,null,null,{"$f":"L7*60+M7+N7/100","v":0},null,{"$f":"IF(P7<>\"Finished\",IF(P7<=0,\"\",P7),IF(P7=\"Finished\",IF(O7<=0,\"\",O7),\"\"))","v":""},{"$f":"IF(OR(LEFT(Q7,1)=\"D\",Q7=\"\"),\"\",RANK(Q7,$Q$7:$Q$46,1))","v":""},{"$f":"IF(LEFT(P7,1)=\"D\",MAX($R$7:$R$46)+1,R7)","v":""},{"$f":"(1-(O7-$O$2)/$O$2)*1000","v":{"$error":"#DIV/0!"}},{"$f":"IF(P7<>\"Finished\",\"\",IF(T7<0,0,T7))","v":""},{"$f":"IF(P7<>\"Finished\",\"\",VLOOKUP(O7,'Data for points'!$F$26:$Y$33,18,TRUE))","v":""},{"$f":"IF(G7=\"S\",S7,\"\")","v":""},{"$f":"IF(W7=\"\",\"\",RANK(W7,$W$7:$W$46,1))","v":""},{"$f":"MIN(IF($C$7:$C$46=C7,$X$7:$X$46,\"\"))","v":0},{"$f":"IF(Y7=X7,Y7,\"\")","v":""},{"$f":"IF(Z7=\"\",\"\",RANK(Z7,$Z$7:$Z$46,1))","v":""},{"$f":"IF(A7=1,AA7,\"\")","v":""},{"$f":"IF(AB7=\"\",\"\",RANK(AB7,$AB$7:$AB$46,1))","v":""},{"$f":"IF(A7=0,AA7,\"\")","v":""},{"$f":"IF(AD7=\"\",\"\",RANK(AD7,$AD$7:$AD$46,1))","v":""},{"$f":"IF(OR(P7<>\"Finished\",O7>$O$2),\"\",\"UR\")","v":""}]
[null,null,null,null,null,null,null,null,null,{"$f":"INT(I8/60)","v":0},{"$f":"MOD(I8,60)","v":0},null,null,null,{"$f":"L8*60+M8+N8/100","v":0},null,{"$f":"IF(P8<>\"Finished\",IF(P8<=0,\"\",P8),IF(P8=\"Finished\",IF(O8<=0,\"\",O8),\"\"))","v":""},{"$f":"IF(OR(LEFT(Q8,1)=\"D\",Q8=\"\"),\"\",RANK(Q8,$Q$7:$Q$46,1))","v":""},{"$f":"IF(LEFT(P8,1)=\"D\",MAX($R$7:$R$46)+1,R8)","v":""},{"$f":"(1-(O8-$O$2)/$O$2)*1000","v":{"$error":"#DIV/0!"}},{"$f":"IF(P8<>\"Finished\",\"\",IF(T8<0,0,T8))","v":""},{"$f":"IF(P8<>\"Finished\",\"\",VLOOKUP(O8,'Data for points'!$F$26:$Y$33,18,TRUE))","v":""},{"$f":"IF(G8=\"S\",S8,\"\")","v":""},{"$f":"IF(W8=\"\",\"\",RANK(W8,$W$7:$W$46,1))","v":""},{"$f":"MIN(IF($C$7:$C$46=C8,$X$7:$X$46,\"\"))","v":0},{"$f":"IF(Y8=X8,Y8,\"\")","v":""},{"$f":"IF(Z8=\"\",\"\",RANK(Z8,$Z$7:$Z$46,1))","v":""},{"$f":"IF(A8=1,AA8,\"\")","v":""},{"$f":"IF(AB8=\"\",\"\",RANK(AB8,$AB$7:$AB$46,1))","v":""},"",{"$f":"IF(AD8=\"\",\"\",RANK(AD8,$AD$7:$AD$46,1))","v":""},{"$f":"IF(OR(P8<>\"Finished\",O8>$O$2),\"\",\"UR\")","v":""}]
[null,null,null,null,null,null,null,null,null,0,0,null,null,null,0,null,"","","",{"$error":"#DIV/0!"},"",{"$f":"IF(P9<>\"Finished\",\"\",VLOOKUP(O9,'Data for points'!$F$26:$Y$33,18,TRUE))","v":""},"","",{"$f":"MIN(IF($C$7:$C$46=C9,$X$7:$X$46,\"\"))","v":0},"","","","","","",""]
[null,null,null,null,null,null,null,null,null,0,0,null,null,null,0,null,"","","",{"$error":"#DIV/0!"},"",{"$f":"IF(P10<>\"Finished\",\"\",VLOOKUP(O10,'Data for points'!$F$26:$Y$33,18,TRUE))","v":""},"","",{"$f":"MIN(IF($C$7:$C$46=C10,$X$7:$X$46,\"\"))","v":0},"","","","","","",""]
[null,null,null,null,null,null,null,null,null,0,0,null,null,null,0,null,"","","",{"$error":"#DIV/0!"},"",{"$f":"IF(P11<>\"Finished\",\"\",VLOOKUP(O11,'Data for points'!$F$26:$Y$33,18,TRUE))","v":""},"","",{"$f":"MIN(IF($C$7:$C$46=C11,$X$7:$X$46,\"\"))","v":0},"","","","","","",""]
[null,null,null,null,null,null,null,null,null,0,0,null,null,null,0,null,"","","",{"$error":"#DIV/0!"},"",{"$f":"IF(P12<>\"Finished\",\"\",VLOOKUP(O12,'Data for points'!$F$26:$Y$33,18,TRUE))","v":""},"","",{"$f":"MIN(IF($C$7:$C$46=C12,$X$7:$X$46,\"\"))","v":0},"","","","","","",""]
[null,null,null,null,null,null,null,null,null,0,0,null,null,null,0,null,"","","",{"$error":"#DIV/0!"},"",{"$f":"IF(P13<>\"Finished\",\"\",VLOOKUP(O13,'Data for points'!$F$26:$Y$33,18,TRUE))","v":""},"","",{"$f":"MIN(IF($C$7:$C$46=C13,$X$7:$X$46,\"\"))","v":0},"","","","","","",""]
[null,null,null,null,null,null,null,null,null,0,0,null,null,null,0,null,"","","",{"$error":"#DIV/0!"},"",{"$f":"IF(P14<>\"Finished\",\"\",VLOOKUP(O14,'Data for points'!$F$26:$Y$33,18,TRUE))","v":""},"","",{"$f":"MIN(IF($C$7:$C$46=C14,$X$7:$X$46,\"\"))","v":0},"","","","","","",""]
[null,null,null,null,null,null,null,null,null,0,0,null,null,null,0,null,"","","",{"$error":"#DIV/0!"},"",{"$f":"IF(P15<>\"Finished\",\"\",VLOOKUP(O15,'Data for points'!$F$26:$Y$33,18,TRUE))","v":""},"","",{"$f":"MIN(IF($C$7:$C$46=C15,$X$7:$X$46,\"\"))","v":0},"","","","","","",""]
[null,null,null,null,null,null,null,null,null,0,0,null,null,null,0,null,"","","",{"$error":"#DIV/0!"},"",{"$f":"IF(P16<>\"Finished\",\"\",VLOOKUP(O16,'Data for points'!$F$26:$Y$33,18,TRUE))","v":""},"","",{"$f":"MIN(IF($C$7:$C$46=C16,$X$7:$X$46,\"\"))","v":0},"","","","","","",""]
[null,null,null,null,null,null,null,null,null,0,0,null,null,null,0,null,"","","",{"$error":"#DIV/0!"},"",{"$f":"IF(P17<>\"Finished\",\"\",VLOOKUP(O17,'Data for points'!$F$26:$Y$33,18,TRUE))","v":""},"","",{"$f":"MIN(IF($C$7:$C$46=C17,$X$7:$X$46,\"\"))","v":0},"","","","","","",""]
[null,null,null,null,null,null,null,null,null,0,0,null,null,null,0,null,"","","",{"$error":"#DIV/0!"},"",{"$f":"IF(P18<>\"Finished\",\"\",VLOOKUP(O18,'Data for points'!$F$26:$Y$33,18,TRUE))","v":""},"","",{"$f":"MIN(IF($C$7:$C$46=C18,$X$7:$X$46,\"\"))","v":0},"","","","","","",""]
[null,null,null,null,null,null,null,null,null,0,0,null,null,null,0,null,"","","",{"$error":"#DIV/0!"},"",{"$f":"IF(P19<>\"Finished\",\"\",VLOOKUP(O19,'Data for points'!$F$26:$Y$33,18,TRUE))","v":""},"","",{"$f":"MIN(IF($C$7:$C$46=C19,$X$7:$X$46,\"\"))","v":0},"","","","","","",""]
[null,null,null,null,null,null,null,null,null,0,0,null,null,null,0,null,"","","",{"$error":"#DIV/0!"},"",{"$f":"IF(P20<>\"Finished\",\"\",VLOOKUP(O20,'Data for points'!$F$26:$Y$33,18,TRUE))","v":""},"","",{"$f":"MIN(IF($C$7:$C$46=C20,$X$7:$X$46,\"\"))","v":0},"","","","","","",""]
[null,null,null,null,null,null,null,null,null,0,0,null,null,null,0,null,"","","",{"$error":"#DIV/0!"},"",{"$f":"IF(P21<>\"Finished\",\"\",VLOOKUP(O21,'Data for points'!$F$26:$Y$33,18,TRUE))","v":""},"","",{"$f":"MIN(IF($C$7:$C$46=C21,$X$7:$X$46,\"\"))","v":0},"","","","","","",""]
[null,null,null,null,null,null,null,null,null,0,0,null,null,null,0,null,"","","",{"$error":"#DIV/0!"},"",{"$f":"IF(P22<>\"Finished\",\"\",VLOOKUP(O22,'Data for points'!$F$26:$Y$33,18,TRUE))","v":""},"","",{"$f":"MIN(IF($C$7:$C$46=C22,$X$7:$X$46,\"\"))","v":0},"","","","","","",""]
[null,null,null,null,null,null,null,null,null,0,0,null,null,null,0,null,"","","",{"$error":"#DIV/0!"},"",{"$f":"IF(P23<>\"Finished\",\"\",VLOOKUP(O23,'Data for points'!$F$26:$Y$33,18,TRUE))","v":""},"","",{"$f":"MIN(IF($C$7:$C$46=C23,$X$7:$X$46,\"\"))","v":0},"","","","","","",""]
[null,null,null,null,null,null,null,null,null,0,0,null,null,null,0,null,"","","",{"$error":"#DIV/0!"},"",{"$f":"IF(P24<>\"Finished\",\"\",VLOOKUP(O24,'Data for points'!$F$26:$Y$33,18,TRUE))","v":""},"","",{"$f":"MIN(IF($C$7:$C$46=C24,$X$7:$X$46,\"\"))","v":0},"","","","","","",""]
[null,null,null,null,null,null,null,null,null,0,0,null,null,null,0,null,"","","",{"$error":"#DIV/0!"},"",{"$f":"IF(P25<>\"Finished\",\"\",VLOOKUP(O25,'Data for points'!$F$26:$Y$33,18,TRUE))","v":""},"","",{"$f":"MIN(IF($C$7:$C$46=C25,$X$7:$X$46,\"\"))","v":0},"","","","","","",""]
[null,null,null,null,null,null,null,null,null,0,0,null,null,null,0,null,"","","",{"$error":"#DIV/0!"},"",{"$f":"IF(P26<>\"Finished\",\"\",VLOOKUP(O26,'Data for points'!$F$26:$Y$33,18,TRUE))","v":""},"","",{"$f":"MIN(IF($C$7:$C$46=C26,$X$7:$X$46,\"\"))","v":0},"","","","","","",""]
[null,null,null,null,null,null,null,null,null,0,0,null,null,null,0,null,"","","",{"$error":"#DIV/0!"},"",{"$f":"IF(P27<>\"Finished\",\"\",VLOOKUP(O27,'Data for points'!$F$26:$Y$33,18,TRUE))","v":""},"","",{"$f":"MIN(IF($C$7:$C$46=C27,$X$7:$X$46,\"\"))","v":0},"","","","","","",""]
[null,null,null,null,null,null,null,null,null,0,0,null,null,null,0,null,"","","",{"$error":"#DIV/0!"},"",{"$f":"IF(P28<>\"Finished\",\"\",VLOOKUP(O28,'Data for points'!$F$26:$Y$33,18,TRUE))","v":""},"","",{"$f":"MIN(IF($C$7:$C$46=C28,$X$7:$X$46,\"\"))","v":0},"","","","","","",""]
[null,null,null,null,null,null,null,null,null,0,0,null,null,null,0,null,"","","",{"$error":"#DIV/0!"},"",{"$f":"IF(P29<>\"Finished\",\"\",VLOOKUP(O29,'Data for points'!$F$26:$Y$33,18,TRUE))","v":""},"","",{"$f":"MIN(IF($C$7:$C$46=C29,$X$7:$X$46,\"\"))","v":0},"","","","","","",""]
[null,null,null,null,null,null,null,null,null,0,0,null,null,null,0,null,"","","",{"$error":"#DIV/0!"},"",{"$f":"IF(P30<>\"Finished\",\"\",VLOOKUP(O30,'Data for points'!$F$26:$Y$33,18,TRUE))","v":""},"","",{"$f":"MIN(IF($C$7:$C$46=C30,$X$7:$X$46,\"\"))","v":0},"","","","","","",""]
[null,null,null,null,null,null,null,null,null,0,0,null,null,null,0,null,"","","",{"$error":"#DIV/0!"},"",{"$f":"IF(P31<>\"Finished\",\"\",VLOOKUP(O31,'Data for points'!$F$26:$Y$33,18,TRUE))","v":""},"","",{"$f":"MIN(IF($C$7:$C$46=C31,$X$7:$X$46,\"\"))","v":0},"","","","","","",""]
[null,null,null,null,null,null,null,null,null,0,0,null,null,null,0,null,"","","",{"$error":"#DIV/0!"},"",{"$f":"IF(P32<>\"Finished\",\"\",VLOOKUP(O32,'Data for points'!$F$26:$Y$33,18,TRUE))","v":""},"","",{"$f":"MIN(IF($C$7:$C$46=C32,$X$7:$X$46,\"\"))","v":0},"","","","","","",""]
[null,null,null,null,null,null,null,null,null,0,0,null,null,null,0,null,"","","",{"$error":"#DIV/0!"},"",{"$f":"IF(P33<>\"Finished\",\"\",VLOOKUP(O33,'Data for points'!$F$26:$Y$33,18,TRUE))","v":""},"","",{"$f":"MIN(IF($C$7:$C$46=C33,$X$7:$X$46,\"\"))","v":0},"","","","","","",""]
[null,null,null,null,null,null,null,null,null,0,0,null,null,null,0,null,"","","",{"$error":"#DIV/0!"},"",{"$f":"IF(P34<>\"Finished\",\"\",VLOOKUP(O34,'Data for points'!$F$26:$Y$33,18,TRUE))","v":""},"","",{"$f":"MIN(IF($C$7:$C$46=C34,$X$7:$X$46,\"\"))","v":0},"","","","","","",""]
[null,null,null,null,null,null,null,null,null,0,0,null,null,null,0,null,"","","",{"$error":"#DIV/0!"},"",{"$f":"IF(P35<>\"Finished\",\"\",VLOOKUP(O35,'Data for points'!$F$26:$Y$33,18,TRUE))","v":""},"","",{"$f":"MIN(IF($C$7:$C$46=C35,$X$7:$X$46,\"\"))","v":0},"","","","","","",""]
[null,null,null,null,null,null,null,null,null,0,0,null,null,null,0,null,"","","",{"$error":"#DIV/0!"},"",{"$f":"IF(P36<>\"Finished\",\"\",VLOOKUP(O36,'Data for points'!$F$26:$Y$33,18,TRUE))","v":""},"","",{"$f":"MIN(IF($C$7:$C$46=C36,$X$7:$X$46,\"\"))","v":0},"","","","","","",""]
[null,null,null,null,null,null,null,null,null,0,0,null,null,null,0,null,"","","",{"$error":"#DIV/0!"},"",{"$f":"IF(P37<>\"Finished\",\"\",VLOOKUP(O37,'Data for points'!$F$26:$Y$33,18,TRUE))","v":""},"","",{"$f":"MIN(IF($C$7:$C$46=C37,$X$7:$X$46,\"\"))","v":0},"","","","","","",""]
[null,null,null,null,null,null,null,null,null,0,0,null,null,null,0,null,"","","",{"$error":"#DIV/0!"},"",{"$f":"IF(P38<>\"Finished\",\"\",VLOOKUP(O38,'Data for points'!$F$26:$Y$33,18,TRUE))","v":""},"","",{"$f":"MIN(IF($C$7:$C$46=C38,$X$7:$X$46,\"\"))","v":0},"","","","","","",""]
[null,null,null,null,null,null,null,null,null,0,0,null,null,null,0,null,"","","",{"$error":"#DIV/0!"},"",{"$f":"IF(P39<>\"Finished\",\"\",VLOOKUP(O39,'Data for points'!$F$26:$Y$33,18,TRUE))","v":""},"","",{"$f":"MIN(IF($C$7:$C$46=C39,$X$7:$X$46,\"\"))","v":0},"","","","","","",""]
[null,null,null,null,null,null,null,null,null,0,0,null,null,null,0,null,"","","",{"$error":"#DIV/0!"},"",{"$f":"IF(P40<>\"Finished\",\"\",VLOOKUP(O40,'Data for points'!$F$26:$Y$33,18,TRUE))","v":""},"","",{"$f":"MIN(IF($C$7:$C$46=C40,$X$7:$X$46,\"\"))","v":0},"","","","","","",""]
[null,null,null,null,null,null,null,null,null,0,0,null,null,null,0,null,"","","",{"$error":"#DIV/0!"},"",{"$f":"IF(P41<>\"Finished\",\"\",VLOOKUP(O41,'Data for points'!$F$26:$Y$33,18,TRUE))","v":""},"","",{"$f":"MIN(IF($C$7:$C$46=C41,$X$7:$X$46,\"\"))","v":0},"","","","","","",""]
[null,null,null,null,null,null,null,null,null,0,0,null,null,null,0,null,"","","",{"$error":"#DIV/0!"},"",{"$f":"IF(P42<>\"Finished\",\"\",VLOOKUP(O42,'Data for points'!$F$26:$Y$33,18,TRUE))","v":""},"","",{"$f":"MIN(IF($C$7:$C$46=C42,$X$7:$X$46,\"\"))","v":0},"","","","","","",""]
[null,null,null,null,null,null,null,null,null,0,0,null,null,null,0,null,"","","",{"$error":"#DIV/0!"},"",{"$f":"IF(P43<>\"Finished\",\"\",VLOOKUP(O43,'Data for points'!$F$26:$Y$33,18,TRUE))","v":""},"","",{"$f":"MIN(IF($C$7:$C$46=C43,$X$7:$X$46,\"\"))","v":0},"","","","","","",""]
[null,null,null,null,null,null,null,null,null,0,0,null,null,null,0,null,"","","",{"$error":"#DIV/0!"},"",{"$f":"IF(P44<>\"Finished\",\"\",VLOOKUP(O44,'Data for points'!$F$26:$Y$33,18,TRUE))","v":""},"","",{"$f":"MIN(IF($C$7:$C$46=C44,$X$7:$X$46,\"\"))","v":0},"","","","","","",""]
[null,null,null,null,null,null,null,null,null,0,0,null,null,null,0,null,"","","",{"$error":"#DIV/0!"},"",{"$f":"IF(P45<>\"Finished\",\"\",VLOOKUP(O45,'Data for points'!$F$26:$Y$33,18,TRUE))","v":""},"","",{"$f":"MIN(IF($C$7:$C$46=C45,$X$7:$X$46,\"\"))","v":0},"","","","","","",""]
[null,null,null,null,null,null,null,null,null,0,0,null,null,null,0,null,"","","",{"$error":"#DIV/0!"},"",{"$f":"IF(P46<>\"Finished\",\"\",VLOOKUP(O46,'Data for points'!$F$26:$Y$33,18,TRUE))","v":""},"","",{"$f":"MIN(IF($C$7:$C$46=C46,$X$7:$X$46,\"\"))","v":0},"","","","","","",""]
[]
[]
[]
[]
[]
[]
[]
[]
[]
[]
[]
[]
[]
[]
[]
[]
[]
[]
[]
[]
[]
[]
[]
[]
[]
[]
[]
[]
[]
[]
[]
[]
[]
[]
[]
[]
[]
[]
[]
[]
[]
[]
[]
[]
[]
[]
[]
[]
[]
[]
[]
[]
[]
[null,null,null,null,null,null,null,null,null,null,null,null,null,null,null,"Finished"]
[null,null,null,null,null,null,null,null,null,null,null,null,null,null,null,"Disqualified"]

{"sheet":"100 Resue Men","index":38,"n_rows":101,"n_cols":32,"rows_kept":101,"cut":false,"hidden":true,"merged":[[4,6,4,7],[4,9,4,10],[4,11,4,13],[1,10,1,11]]}
[null,null,null,null,null,null,null,null,null,null,null,null,null,null,"UR in seconds"]
[null,"Men's",null,"100m Rescue ",null,null,null,null,null,null,"Club to \nHighlight",null,null,null,{"$f":"'Data for points'!G5","v":0},{"$f":"CONCATENATE(\"University  Record=\",INT(O2/60),\" minS\",MOD(O2,60),\" secs\")","v":"University  Record=0 minS0 secs"}]
[]
[]
["A University(Boolean)","Club Name","Club Code","Competitor","CompetitorID","AceptanceID","ID code",null,"Entry Time(Seconds)","Entry Time",null,"Time",null,null,"Time(seconds)","Finish \nStatus","TimeSand  DQs","Rank","Competition \nPlace","PointSCalculation","Lifesaving Points","Survive and Save Status","Squad List","Rank For \nSquadSMembers","Top Finisher for there Uni","Top finisher Select Competitor for ranking","Squad \nPoints","Uni Finishers","Student \nPoints","Non-Uni Finishers","Non-Student \nPoints"]
[null,null,null,null,null,null,null,null,null,"Mins","Seconds","Mins","Seconds","1/100"]
[null,null,null,null,null,null,null,null,null,{"$f":"INT(I7/60)","v":0},{"$f":"MOD(I7,60)","v":0},null,null,null,{"$f":"L7*60+M7+N7/100","v":0},null,{"$f":"IF(P7<>\"Finished\",IF(P7<=0,\"\",P7),IF(P7=\"Finished\",IF(O7<=0,\"\",O7),\"\"))","v":""},{"$f":"IF(OR(LEFT(Q7,1)=\"D\",Q7=\"\"),\"\",RANK(Q7,$Q$7:$Q$46,1))","v":""},{"$f":"IF(LEFT(P7,1)=\"D\",MAX($R$7:$R$46)+1,R7)","v":""},{"$f":"(1-(O7-$O$2)/$O$2)*1000","v":{"$error":"#DIV/0!"}},{"$f":"IF(P7<>\"Finished\",\"\",IF(T7<0,0,T7))","v":""},{"$f":"IF(P7<>\"Finished\",\"\",VLOOKUP(O7,'Data for points'!$G$16:$Y$23,17,TRUE))","v":""},{"$f":"IF(G7=\"S\",S7,\"\")","v":""},{"$f":"IF(W7=\"\",\"\",RANK(W7,$W$7:$W$46,1))","v":""},{"$f":"MIN(IF($C$7:$C$46=C7,$X$7:$X$46,\"\"))","v":0},{"$f":"IF(Y7=X7,Y7,\"\")","v":""},{"$f":"IF(Z7=\"\",\"\",RANK(Z7,$Z$7:$Z$46,1))","v":""},{"$f":"IF(A7=1,AA7,\"\")","v":""},{"$f":"IF(AB7=\"\",\"\",RANK(AB7,$AB$7:$AB$46,1))","v":""},{"$f":"IF(A7=0,AA7,\"\")","v":""},{"$f":"IF(AD7=\"\",\"\",RANK(AD7,$AD$7:$AD$46,1))","v":""},{"$f":"IF(OR(P7<>\"Finished\",O7>$O$2),\"\",\"UR\")","v":""}]
[null,null,null,null,null,null,null,null,null,{"$f":"INT(I8/60)","v":0},{"$f":"MOD(I8,60)","v":0},null,null,null,{"$f":"L8*60+M8+N8/100","v":0},null,{"$f":"IF(P8<>\"Finished\",IF(P8<=0,\"\",P8),IF(P8=\"Finished\",IF(O8<=0,\"\",O8),\"\"))","v":""},{"$f":"IF(OR(LEFT(Q8,1)=\"D\",Q8=\"\"),\"\",RANK(Q8,$Q$7:$Q$46,1))","v":""},{"$f":"IF(LEFT(P8,1)=\"D\",MAX($R$7:$R$46)+1,R8)","v":""},{"$f":"(1-(O8-$O$2)/$O$2)*1000","v":{"$error":"#DIV/0!"}},{"$f":"IF(P8<>\"Finished\",\"\",IF(T8<0,0,T8))","v":""},{"$f":"IF(P8<>\"Finished\",\"\",VLOOKUP(O8,'Data for points'!$G$16:$Y$23,17,TRUE))","v":""},{"$f":"IF(G8=\"S\",S8,\"\")","v":""},{"$f":"IF(W8=\"\",\"\",RANK(W8,$W$7:$W$46,1))","v":""},{"$f":"MIN(IF($C$7:$C$46=C8,$X$7:$X$46,\"\"))","v":0},{"$f":"IF(Y8=X8,Y8,\"\")","v":""},{"$f":"IF(Z8=\"\",\"\",RANK(Z8,$Z$7:$Z$46,1))","v":""},{"$f":"IF(A8=1,AA8,\"\")","v":""},{"$f":"IF(AB8=\"\",\"\",RANK(AB8,$AB$7:$AB$46,1))","v":""},"",{"$f":"IF(AD8=\"\",\"\",RANK(AD8,$AD$7:$AD$46,1))","v":""},{"$f":"IF(OR(P8<>\"Finished\",O8>$O$2),\"\",\"UR\")","v":""}]
[null,null,null,null,null,null,null,null,null,0,0,null,null,null,0,null,"","","",{"$error":"#DIV/0!"},"",{"$f":"IF(P9<>\"Finished\",\"\",VLOOKUP(O9,'Data for points'!$G$16:$Y$23,17,TRUE))","v":""},"","",{"$f":"MIN(IF($C$7:$C$46=C9,$X$7:$X$46,\"\"))","v":0},"","","","","","",""]
[null,null,null,null,null,null,null,null,null,0,0,null,null,null,0,null,"","","",{"$error":"#DIV/0!"},"",{"$f":"IF(P10<>\"Finished\",\"\",VLOOKUP(O10,'Data for points'!$G$16:$Y$23,17,TRUE))","v":""},"","",{"$f":"MIN(IF($C$7:$C$46=C10,$X$7:$X$46,\"\"))","v":0},"","","","","","",""]
[null,null,null,null,null,null,null,null,null,0,0,null,null,null,0,null,"","","",{"$error":"#DIV/0!"},"",{"$f":"IF(P11<>\"Finished\",\"\",VLOOKUP(O11,'Data for points'!$G$16:$Y$23,17,TRUE))","v":""},"","",{"$f":"MIN(IF($C$7:$C$46=C11,$X$7:$X$46,\"\"))","v":0},"","","","","","",""]
[null,null,null,null,null,null,null,null,null,0,0,null,null,null,0,null,"","","",{"$error":"#DIV/0!"},"",{"$f":"IF(P12<>\"Finished\",\"\",VLOOKUP(O12,'Data for points'!$G$16:$Y$23,17,TRUE))","v":""},"","",{"$f":"MIN(IF($C$7:$C$46=C12,$X$7:$X$46,\"\"))","v":0},"","","","","","",""]
[null,null,null,null,null,null,null,null,null,0,0,null,null,null,0,null,"","","",{"$error":"#DIV/0!"},"",{"$f":"IF(P13<>\"Finished\",\"\",VLOOKUP(O13,'Data for points'!$G$16:$Y$23,17,TRUE))","v":""},"","",{"$f":"MIN(IF($C$7:$C$46=C13,$X$7:$X$46,\"\"))","v":0},"","","","","","",""]
[null,null,null,null,null,null,null,null,null,0,0,null,null,null,0,null,"","","",{"$error":"#DIV/0!"},"",{"$f":"IF(P14<>\"Finished\",\"\",VLOOKUP(O14,'Data for points'!$G$16:$Y$23,17,TRUE))","v":""},"","",{"$f":"MIN(IF($C$7:$C$46=C14,$X$7:$X$46,\"\"))","v":0},"","","","","","",""]
[null,null,null,null,null,null,null,null,null,0,0,null,null,null,0,null,"","","",{"$error":"#DIV/0!"},"",{"$f":"IF(P15<>\"Finished\",\"\",VLOOKUP(O15,'Data for points'!$G$16:$Y$23,17,TRUE))","v":""},"","",{"$f":"MIN(IF($C$7:$C$46=C15,$X$7:$X$46,\"\"))","v":0},"","","","","","",""]
[null,null,null,null,null,null,null,null,null,0,0,null,null,null,0,null,"","","",{"$error":"#DIV/0!"},"",{"$f":"IF(P16<>\"Finished\",\"\",VLOOKUP(O16,'Data for points'!$G$16:$Y$23,17,TRUE))","v":""},"","",{"$f":"MIN(IF($C$7:$C$46=C16,$X$7:$X$46,\"\"))","v":0},"","","","","","",""]
[null,null,null,null,null,null,null,null,null,0,0,null,null,null,0,null,"","","",{"$error":"#DIV/0!"},"",{"$f":"IF(P17<>\"Finished\",\"\",VLOOKUP(O17,'Data for points'!$G$16:$Y$23,17,TRUE))","v":""},"","",{"$f":"MIN(IF($C$7:$C$46=C17,$X$7:$X$46,\"\"))","v":0},"","","","","","",""]
[null,null,null,null,null,null,null,null,null,0,0,null,null,null,0,null,"","","",{"$error":"#DIV/0!"},"",{"$f":"IF(P18<>\"Finished\",\"\",VLOOKUP(O18,'Data for points'!$G$16:$Y$23,17,TRUE))","v":""},"","",{"$f":"MIN(IF($C$7:$C$46=C18,$X$7:$X$46,\"\"))","v":0},"","","","","","",""]
[null,null,null,null,null,null,null,null,null,0,0,null,null,null,0,null,"","","",{"$error":"#DIV/0!"},"",{"$f":"IF(P19<>\"Finished\",\"\",VLOOKUP(O19,'Data for points'!$G$16:$Y$23,17,TRUE))","v":""},"","",{"$f":"MIN(IF($C$7:$C$46=C19,$X$7:$X$46,\"\"))","v":0},"","","","","","",""]
[null,null,null,null,null,null,null,null,null,0,0,null,null,null,0,null,"","","",{"$error":"#DIV/0!"},"",{"$f":"IF(P20<>\"Finished\",\"\",VLOOKUP(O20,'Data for points'!$G$16:$Y$23,17,TRUE))","v":""},"","",{"$f":"MIN(IF($C$7:$C$46=C20,$X$7:$X$46,\"\"))","v":0},"","","","","","",""]
[null,null,null,null,null,null,null,null,null,0,0,null,null,null,0,null,"","","",{"$error":"#DIV/0!"},"",{"$f":"IF(P21<>\"Finished\",\"\",VLOOKUP(O21,'Data for points'!$G$16:$Y$23,17,TRUE))","v":""},"","",{"$f":"MIN(IF($C$7:$C$46=C21,$X$7:$X$46,\"\"))","v":0},"","","","","","",""]
[null,null,null,null,null,null,null,null,null,0,0,null,null,null,0,null,"","","",{"$error":"#DIV/0!"},"",{"$f":"IF(P22<>\"Finished\",\"\",VLOOKUP(O22,'Data for points'!$G$16:$Y$23,17,TRUE))","v":""},"","",{"$f":"MIN(IF($C$7:$C$46=C22,$X$7:$X$46,\"\"))","v":0},"","","","","","",""]
[null,null,null,null,null,null,null,null,null,0,0,null,null,null,0,null,"","","",{"$error":"#DIV/0!"},"",{"$f":"IF(P23<>\"Finished\",\"\",VLOOKUP(O23,'Data for points'!$G$16:$Y$23,17,TRUE))","v":""},"","",{"$f":"MIN(IF($C$7:$C$46=C23,$X$7:$X$46,\"\"))","v":0},"","","","","","",""]
[null,null,null,null,null,null,null,null,null,0,0,null,null,null,0,null,"","","",{"$error":"#DIV/0!"},"",{"$f":"IF(P24<>\"Finished\",\"\",VLOOKUP(O24,'Data for points'!$G$16:$Y$23,17,TRUE))","v":""},"","",{"$f":"MIN(IF($C$7:$C$46=C24,$X$7:$X$46,\"\"))","v":0},"","","","","","",""]
[null,null,null,null,null,null,null,null,null,0,0,null,null,null,0,null,"","","",{"$error":"#DIV/0!"},"",{"$f":"IF(P25<>\"Finished\",\"\",VLOOKUP(O25,'Data for points'!$G$16:$Y$23,17,TRUE))","v":""},"","",{"$f":"MIN(IF($C$7:$C$46=C25,$X$7:$X$46,\"\"))","v":0},"","","","","","",""]
[null,null,null,null,null,null,null,null,null,0,0,null,null,null,0,null,"","","",{"$error":"#DIV/0!"},"",{"$f":"IF(P26<>\"Finished\",\"\",VLOOKUP(O26,'Data for points'!$G$16:$Y$23,17,TRUE))","v":""},"","",{"$f":"MIN(IF($C$7:$C$46=C26,$X$7:$X$46,\"\"))","v":0},"","","","","","",""]
[null,null,null,null,null,null,null,null,null,0,0,null,null,null,0,null,"","","",{"$error":"#DIV/0!"},"",{"$f":"IF(P27<>\"Finished\",\"\",VLOOKUP(O27,'Data for points'!$G$16:$Y$23,17,TRUE))","v":""},"","",{"$f":"MIN(IF($C$7:$C$46=C27,$X$7:$X$46,\"\"))","v":0},"","","","","","",""]
[null,null,null,null,null,null,null,null,null,0,0,null,null,null,0,null,"","","",{"$error":"#DIV/0!"},"",{"$f":"IF(P28<>\"Finished\",\"\",VLOOKUP(O28,'Data for points'!$G$16:$Y$23,17,TRUE))","v":""},"","",{"$f":"MIN(IF($C$7:$C$46=C28,$X$7:$X$46,\"\"))","v":0},"","","","","","",""]
[null,null,null,null,null,null,null,null,null,0,0,null,null,null,0,null,"","","",{"$error":"#DIV/0!"},"",{"$f":"IF(P29<>\"Finished\",\"\",VLOOKUP(O29,'Data for points'!$G$16:$Y$23,17,TRUE))","v":""},"","",{"$f":"MIN(IF($C$7:$C$46=C29,$X$7:$X$46,\"\"))","v":0},"","","","","","",""]
[null,null,null,null,null,null,null,null,null,0,0,null,null,null,0,null,"","","",{"$error":"#DIV/0!"},"",{"$f":"IF(P30<>\"Finished\",\"\",VLOOKUP(O30,'Data for points'!$G$16:$Y$23,17,TRUE))","v":""},"","",{"$f":"MIN(IF($C$7:$C$46=C30,$X$7:$X$46,\"\"))","v":0},"","","","","","",""]
[null,null,null,null,null,null,null,null,null,0,0,null,null,null,0,null,"","","",{"$error":"#DIV/0!"},"",{"$f":"IF(P31<>\"Finished\",\"\",VLOOKUP(O31,'Data for points'!$G$16:$Y$23,17,TRUE))","v":""},"","",{"$f":"MIN(IF($C$7:$C$46=C31,$X$7:$X$46,\"\"))","v":0},"","","","","","",""]
[null,null,null,null,null,null,null,null,null,0,0,null,null,null,0,null,"","","",{"$error":"#DIV/0!"},"",{"$f":"IF(P32<>\"Finished\",\"\",VLOOKUP(O32,'Data for points'!$G$16:$Y$23,17,TRUE))","v":""},"","",{"$f":"MIN(IF($C$7:$C$46=C32,$X$7:$X$46,\"\"))","v":0},"","","","","","",""]
[null,null,null,null,null,null,null,null,null,0,0,null,null,null,0,null,"","","",{"$error":"#DIV/0!"},"",{"$f":"IF(P33<>\"Finished\",\"\",VLOOKUP(O33,'Data for points'!$G$16:$Y$23,17,TRUE))","v":""},"","",{"$f":"MIN(IF($C$7:$C$46=C33,$X$7:$X$46,\"\"))","v":0},"","","","","","",""]
[null,null,null,null,null,null,null,null,null,0,0,null,null,null,0,null,"","","",{"$error":"#DIV/0!"},"",{"$f":"IF(P34<>\"Finished\",\"\",VLOOKUP(O34,'Data for points'!$G$16:$Y$23,17,TRUE))","v":""},"","",{"$f":"MIN(IF($C$7:$C$46=C34,$X$7:$X$46,\"\"))","v":0},"","","","","","",""]
[null,null,null,null,null,null,null,null,null,0,0,null,null,null,0,null,"","","",{"$error":"#DIV/0!"},"",{"$f":"IF(P35<>\"Finished\",\"\",VLOOKUP(O35,'Data for points'!$G$16:$Y$23,17,TRUE))","v":""},"","",{"$f":"MIN(IF($C$7:$C$46=C35,$X$7:$X$46,\"\"))","v":0},"","","","","","",""]
[null,null,null,null,null,null,null,null,null,0,0,null,null,null,0,null,"","","",{"$error":"#DIV/0!"},"",{"$f":"IF(P36<>\"Finished\",\"\",VLOOKUP(O36,'Data for points'!$G$16:$Y$23,17,TRUE))","v":""},"","",{"$f":"MIN(IF($C$7:$C$46=C36,$X$7:$X$46,\"\"))","v":0},"","","","","","",""]
[null,null,null,null,null,null,null,null,null,0,0,null,null,null,0,null,"","","",{"$error":"#DIV/0!"},"",{"$f":"IF(P37<>\"Finished\",\"\",VLOOKUP(O37,'Data for points'!$G$16:$Y$23,17,TRUE))","v":""},"","",{"$f":"MIN(IF($C$7:$C$46=C37,$X$7:$X$46,\"\"))","v":0},"","","","","","",""]
[null,null,null,null,null,null,null,null,null,0,0,null,null,null,0,null,"","","",{"$error":"#DIV/0!"},"",{"$f":"IF(P38<>\"Finished\",\"\",VLOOKUP(O38,'Data for points'!$G$16:$Y$23,17,TRUE))","v":""},"","",{"$f":"MIN(IF($C$7:$C$46=C38,$X$7:$X$46,\"\"))","v":0},"","","","","","",""]
[null,null,null,null,null,null,null,null,null,0,0,null,null,null,0,null,"","","",{"$error":"#DIV/0!"},"",{"$f":"IF(P39<>\"Finished\",\"\",VLOOKUP(O39,'Data for points'!$G$16:$Y$23,17,TRUE))","v":""},"","",{"$f":"MIN(IF($C$7:$C$46=C39,$X$7:$X$46,\"\"))","v":0},"","","","","","",""]
[null,null,null,null,null,null,null,null,null,0,0,null,null,null,0,null,"","","",{"$error":"#DIV/0!"},"",{"$f":"IF(P40<>\"Finished\",\"\",VLOOKUP(O40,'Data for points'!$G$16:$Y$23,17,TRUE))","v":""},"","",{"$f":"MIN(IF($C$7:$C$46=C40,$X$7:$X$46,\"\"))","v":0},"","","","","","",""]
[null,null,null,null,null,null,null,null,null,0,0,null,null,null,0,null,"","","",{"$error":"#DIV/0!"},"",{"$f":"IF(P41<>\"Finished\",\"\",VLOOKUP(O41,'Data for points'!$G$16:$Y$23,17,TRUE))","v":""},"","",{"$f":"MIN(IF($C$7:$C$46=C41,$X$7:$X$46,\"\"))","v":0},"","","","","","",""]
[null,null,null,null,null,null,null,null,null,0,0,null,null,null,0,null,"","","",{"$error":"#DIV/0!"},"",{"$f":"IF(P42<>\"Finished\",\"\",VLOOKUP(O42,'Data for points'!$G$16:$Y$23,17,TRUE))","v":""},"","",{"$f":"MIN(IF($C$7:$C$46=C42,$X$7:$X$46,\"\"))","v":0},"","","","","","",""]
[null,null,null,null,null,null,null,null,null,0,0,null,null,null,0,null,"","","",{"$error":"#DIV/0!"},"",{"$f":"IF(P43<>\"Finished\",\"\",VLOOKUP(O43,'Data for points'!$G$16:$Y$23,17,TRUE))","v":""},"","",{"$f":"MIN(IF($C$7:$C$46=C43,$X$7:$X$46,\"\"))","v":0},"","","","","","",""]
[null,null,null,null,null,null,null,null,null,0,0,null,null,null,0,null,"","","",{"$error":"#DIV/0!"},"",{"$f":"IF(P44<>\"Finished\",\"\",VLOOKUP(O44,'Data for points'!$G$16:$Y$23,17,TRUE))","v":""},"","",{"$f":"MIN(IF($C$7:$C$46=C44,$X$7:$X$46,\"\"))","v":0},"","","","","","",""]
[null,null,null,null,null,null,null,null,null,0,0,null,null,null,0,null,"","","",{"$error":"#DIV/0!"},"",{"$f":"IF(P45<>\"Finished\",\"\",VLOOKUP(O45,'Data for points'!$G$16:$Y$23,17,TRUE))","v":""},"","",{"$f":"MIN(IF($C$7:$C$46=C45,$X$7:$X$46,\"\"))","v":0},"","","","","","",""]
[null,null,null,null,null,null,null,null,null,0,0,null,null,null,0,null,"","","",{"$error":"#DIV/0!"},"",{"$f":"IF(P46<>\"Finished\",\"\",VLOOKUP(O46,'Data for points'!$G$16:$Y$23,17,TRUE))","v":""},"","",{"$f":"MIN(IF($C$7:$C$46=C46,$X$7:$X$46,\"\"))","v":0},"","","","","","",""]
[]
[]
[]
[]
[]
[]
[]
[]
[]
[]
[]
[]
[]
[]
[]
[]
[]
[]
[]
[]
[]
[]
[]
[]
[]
[]
[]
[]
[]
[]
[]
[]
[]
[]
[]
[]
[]
[]
[]
[]
[]
[]
[]
[]
[]
[]
[]
[]
[]
[]
[]
[]
[]
[null,null,null,null,null,null,null,null,null,null,null,null,null,null,null,"Finished"]
[null,null,null,null,null,null,null,null,null,null,null,null,null,null,null,"Disqualified"]

{"sheet":"100 Resue Women","index":39,"n_rows":101,"n_cols":32,"rows_kept":101,"cut":false,"hidden":true,"merged":[[4,6,4,7],[4,9,4,10],[4,11,4,13],[1,10,1,11]]}
[null,null,null,null,null,null,null,null,null,null,null,null,null,null,"UR in seconds"]
[null,"Women's",null,"100m Rescue ",null,null,null,null,null,null,"Club to \nHighlight",null,null,null,{"$f":"'Data for points'!G6","v":0},{"$f":"CONCATENATE(\"University  Record=\",INT(O2/60),\" minS\",MOD(O2,60),\" secs\")","v":"University  Record=0 minS0 secs"}]
[]
[]
["A University(Boolean)","Club Name","Club Code","Competitor","CompetitorID","AceptanceID","ID code",null,"Entry Time(Seconds)","Entry Time",null,"Time",null,null,"Time(seconds)","Finish \nStatus","TimeSand  DQs","Rank","Competition \nPlace","PointSCalculation","Lifesaving Points","Survive and Save Status","Squad List","Rank For \nSquadSMembers","Top Finisher for there Uni","Top finisher Select Competitor for ranking","Squad \nPoints","Uni Finishers","Student \nPoints","Non-Uni Finishers","Non-Student \nPoints"]
[null,null,null,null,null,null,null,null,null,"Mins","Seconds","Mins","Seconds","1/100"]
[null,null,null,null,null,null,null,null,null,{"$f":"INT(I7/60)","v":0},{"$f":"MOD(I7,60)","v":0},null,null,null,{"$f":"L7*60+M7+N7/100","v":0},null,{"$f":"IF(P7<>\"Finished\",IF(P7<=0,\"\",P7),IF(P7=\"Finished\",IF(O7<=0,\"\",O7),\"\"))","v":""},{"$f":"IF(OR(LEFT(Q7,1)=\"D\",Q7=\"\"),\"\",RANK(Q7,$Q$7:$Q$46,1))","v":""},{"$f":"IF(LEFT(P7,1)=\"D\",MAX($R$7:$R$46)+1,R7)","v":""},{"$f":"(1-(O7-$O$2)/$O$2)*1000","v":{"$error":"#DIV/0!"}},{"$f":"IF(P7<>\"Finished\",\"\",IF(T7<0,0,T7))","v":""},{"$f":"IF(P7<>\"Finished\",\"\",VLOOKUP(O7,'Data for points'!$G$26:$Y$33,17,TRUE))","v":""},{"$f":"IF(G7=\"S\",S7,\"\")","v":""},{"$f":"IF(W7=\"\",\"\",RANK(W7,$W$7:$W$46,1))","v":""},{"$f":"MIN(IF($C$7:$C$46=C7,$X$7:$X$46,\"\"))","v":0},{"$f":"IF(Y7=X7,Y7,\"\")","v":""},{"$f":"IF(Z7=\"\",\"\",RANK(Z7,$Z$7:$Z$46,1))","v":""},{"$f":"IF(A7=1,AA7,\"\")","v":""},{"$f":"IF(AB7=\"\",\"\",RANK(AB7,$AB$7:$AB$46,1))","v":""},{"$f":"IF(A7=0,AA7,\"\")","v":""},{"$f":"IF(AD7=\"\",\"\",RANK(AD7,$AD$7:$AD$46,1))","v":""},{"$f":"IF(OR(P7<>\"Finished\",O7>$O$2),\"\",\"UR\")","v":""}]
[null,null,null,null,null,null,null,null,null,{"$f":"INT(I8/60)","v":0},{"$f":"MOD(I8,60)","v":0},null,null,null,{"$f":"L8*60+M8+N8/100","v":0},null,{"$f":"IF(P8<>\"Finished\",IF(P8<=0,\"\",P8),IF(P8=\"Finished\",IF(O8<=0,\"\",O8),\"\"))","v":""},{"$f":"IF(OR(LEFT(Q8,1)=\"D\",Q8=\"\"),\"\",RANK(Q8,$Q$7:$Q$46,1))","v":""},{"$f":"IF(LEFT(P8,1)=\"D\",MAX($R$7:$R$46)+1,R8)","v":""},{"$f":"(1-(O8-$O$2)/$O$2)*1000","v":{"$error":"#DIV/0!"}},{"$f":"IF(P8<>\"Finished\",\"\",IF(T8<0,0,T8))","v":""},{"$f":"IF(P8<>\"Finished\",\"\",VLOOKUP(O8,'Data for points'!$G$26:$Y$33,17,TRUE))","v":""},{"$f":"IF(G8=\"S\",S8,\"\")","v":""},{"$f":"IF(W8=\"\",\"\",RANK(W8,$W$7:$W$46,1))","v":""},{"$f":"MIN(IF($C$7:$C$46=C8,$X$7:$X$46,\"\"))","v":0},{"$f":"IF(Y8=X8,Y8,\"\")","v":""},{"$f":"IF(Z8=\"\",\"\",RANK(Z8,$Z$7:$Z$46,1))","v":""},{"$f":"IF(A8=1,AA8,\"\")","v":""},{"$f":"IF(AB8=\"\",\"\",RANK(AB8,$AB$7:$AB$46,1))","v":""},"",{"$f":"IF(AD8=\"\",\"\",RANK(AD8,$AD$7:$AD$46,1))","v":""},{"$f":"IF(OR(P8<>\"Finished\",O8>$O$2),\"\",\"UR\")","v":""}]
[null,null,null,null,null,null,null,null,null,0,0,null,null,null,0,null,"","","",{"$error":"#DIV/0!"},"",{"$f":"IF(P9<>\"Finished\",\"\",VLOOKUP(O9,'Data for points'!$G$26:$Y$33,17,TRUE))","v":""},"","",{"$f":"MIN(IF($C$7:$C$46=C9,$X$7:$X$46,\"\"))","v":0},"","","","","","",""]
[null,null,null,null,null,null,null,null,null,0,0,null,null,null,0,null,"","","",{"$error":"#DIV/0!"},"",{"$f":"IF(P10<>\"Finished\",\"\",VLOOKUP(O10,'Data for points'!$G$26:$Y$33,17,TRUE))","v":""},"","",{"$f":"MIN(IF($C$7:$C$46=C10,$X$7:$X$46,\"\"))","v":0},"","","","","","",""]
[null,null,null,null,null,null,null,null,null,0,0,null,null,null,0,null,"","","",{"$error":"#DIV/0!"},"",{"$f":"IF(P11<>\"Finished\",\"\",VLOOKUP(O11,'Data for points'!$G$26:$Y$33,17,TRUE))","v":""},"","",{"$f":"MIN(IF($C$7:$C$46=C11,$X$7:$X$46,\"\"))","v":0},"","","","","","",""]
[null,null,null,null,null,null,null,null,null,0,0,null,null,null,0,null,"","","",{"$error":"#DIV/0!"},"",{"$f":"IF(P12<>\"Finished\",\"\",VLOOKUP(O12,'Data for points'!$G$26:$Y$33,17,TRUE))","v":""},"","",{"$f":"MIN(IF($C$7:$C$46=C12,$X$7:$X$46,\"\"))","v":0},"","","","","","",""]
[null,null,null,null,null,null,null,null,null,0,0,null,null,null,0,null,"","","",{"$error":"#DIV/0!"},"",{"$f":"IF(P13<>\"Finished\",\"\",VLOOKUP(O13,'Data for points'!$G$26:$Y$33,17,TRUE))","v":""},"","",{"$f":"MIN(IF($C$7:$C$46=C13,$X$7:$X$46,\"\"))","v":0},"","","","","","",""]
[null,null,null,null,null,null,null,null,null,0,0,null,null,null,0,null,"","","",{"$error":"#DIV/0!"},"",{"$f":"IF(P14<>\"Finished\",\"\",VLOOKUP(O14,'Data for points'!$G$26:$Y$33,17,TRUE))","v":""},"","",{"$f":"MIN(IF($C$7:$C$46=C14,$X$7:$X$46,\"\"))","v":0},"","","","","","",""]
[null,null,null,null,null,null,null,null,null,0,0,null,null,null,0,null,"","","",{"$error":"#DIV/0!"},"",{"$f":"IF(P15<>\"Finished\",\"\",VLOOKUP(O15,'Data for points'!$G$26:$Y$33,17,TRUE))","v":""},"","",{"$f":"MIN(IF($C$7:$C$46=C15,$X$7:$X$46,\"\"))","v":0},"","","","","","",""]
[null,null,null,null,null,null,null,null,null,0,0,null,null,null,0,null,"","","",{"$error":"#DIV/0!"},"",{"$f":"IF(P16<>\"Finished\",\"\",VLOOKUP(O16,'Data for points'!$G$26:$Y$33,17,TRUE))","v":""},"","",{"$f":"MIN(IF($C$7:$C$46=C16,$X$7:$X$46,\"\"))","v":0},"","","","","","",""]
[null,null,null,null,null,null,null,null,null,0,0,null,null,null,0,null,"","","",{"$error":"#DIV/0!"},"",{"$f":"IF(P17<>\"Finished\",\"\",VLOOKUP(O17,'Data for points'!$G$26:$Y$33,17,TRUE))","v":""},"","",{"$f":"MIN(IF($C$7:$C$46=C17,$X$7:$X$46,\"\"))","v":0},"","","","","","",""]
[null,null,null,null,null,null,null,null,null,0,0,null,null,null,0,null,"","","",{"$error":"#DIV/0!"},"",{"$f":"IF(P18<>\"Finished\",\"\",VLOOKUP(O18,'Data for points'!$G$26:$Y$33,17,TRUE))","v":""},"","",{"$f":"MIN(IF($C$7:$C$46=C18,$X$7:$X$46,\"\"))","v":0},"","","","","","",""]
[null,null,null,null,null,null,null,null,null,0,0,null,null,null,0,null,"","","",{"$error":"#DIV/0!"},"",{"$f":"IF(P19<>\"Finished\",\"\",VLOOKUP(O19,'Data for points'!$G$26:$Y$33,17,TRUE))","v":""},"","",{"$f":"MIN(IF($C$7:$C$46=C19,$X$7:$X$46,\"\"))","v":0},"","","","","","",""]
[null,null,null,null,null,null,null,null,null,0,0,null,null,null,0,null,"","","",{"$error":"#DIV/0!"},"",{"$f":"IF(P20<>\"Finished\",\"\",VLOOKUP(O20,'Data for points'!$G$26:$Y$33,17,TRUE))","v":""},"","",{"$f":"MIN(IF($C$7:$C$46=C20,$X$7:$X$46,\"\"))","v":0},"","","","","","",""]
[null,null,null,null,null,null,null,null,null,0,0,null,null,null,0,null,"","","",{"$error":"#DIV/0!"},"",{"$f":"IF(P21<>\"Finished\",\"\",VLOOKUP(O21,'Data for points'!$G$26:$Y$33,17,TRUE))","v":""},"","",{"$f":"MIN(IF($C$7:$C$46=C21,$X$7:$X$46,\"\"))","v":0},"","","","","","",""]
[null,null,null,null,null,null,null,null,null,0,0,null,null,null,0,null,"","","",{"$error":"#DIV/0!"},"",{"$f":"IF(P22<>\"Finished\",\"\",VLOOKUP(O22,'Data for points'!$G$26:$Y$33,17,TRUE))","v":""},"","",{"$f":"MIN(IF($C$7:$C$46=C22,$X$7:$X$46,\"\"))","v":0},"","","","","","",""]
[null,null,null,null,null,null,null,null,null,0,0,null,null,null,0,null,"","","",{"$error":"#DIV/0!"},"",{"$f":"IF(P23<>\"Finished\",\"\",VLOOKUP(O23,'Data for points'!$G$26:$Y$33,17,TRUE))","v":""},"","",{"$f":"MIN(IF($C$7:$C$46=C23,$X$7:$X$46,\"\"))","v":0},"","","","","","",""]
[null,null,null,null,null,null,null,null,null,0,0,null,null,null,0,null,"","","",{"$error":"#DIV/0!"},"",{"$f":"IF(P24<>\"Finished\",\"\",VLOOKUP(O24,'Data for points'!$G$26:$Y$33,17,TRUE))","v":""},"","",{"$f":"MIN(IF($C$7:$C$46=C24,$X$7:$X$46,\"\"))","v":0},"","","","","","",""]
[null,null,null,null,null,null,null,null,null,0,0,null,null,null,0,null,"","","",{"$error":"#DIV/0!"},"",{"$f":"IF(P25<>\"Finished\",\"\",VLOOKUP(O25,'Data for points'!$G$26:$Y$33,17,TRUE))","v":""},"","",{"$f":"MIN(IF($C$7:$C$46=C25,$X$7:$X$46,\"\"))","v":0},"","","","","","",""]
[null,null,null,null,null,null,null,null,null,0,0,null,null,null,0,null,"","","",{"$error":"#DIV/0!"},"",{"$f":"IF(P26<>\"Finished\",\"\",VLOOKUP(O26,'Data for points'!$G$26:$Y$33,17,TRUE))","v":""},"","",{"$f":"MIN(IF($C$7:$C$46=C26,$X$7:$X$46,\"\"))","v":0},"","","","","","",""]
[null,null,null,null,null,null,null,null,null,0,0,null,null,null,0,null,"","","",{"$error":"#DIV/0!"},"",{"$f":"IF(P27<>\"Finished\",\"\",VLOOKUP(O27,'Data for points'!$G$26:$Y$33,17,TRUE))","v":""},"","",{"$f":"MIN(IF($C$7:$C$46=C27,$X$7:$X$46,\"\"))","v":0},"","","","","","",""]
[null,null,null,null,null,null,null,null,null,0,0,null,null,null,0,null,"","","",{"$error":"#DIV/0!"},"",{"$f":"IF(P28<>\"Finished\",\"\",VLOOKUP(O28,'Data for points'!$G$26:$Y$33,17,TRUE))","v":""},"","",{"$f":"MIN(IF($C$7:$C$46=C28,$X$7:$X$46,\"\"))","v":0},"","","","","","",""]
[null,null,null,null,null,null,null,null,null,0,0,null,null,null,0,null,"","","",{"$error":"#DIV/0!"},"",{"$f":"IF(P29<>\"Finished\",\"\",VLOOKUP(O29,'Data for points'!$G$26:$Y$33,17,TRUE))","v":""},"","",{"$f":"MIN(IF($C$7:$C$46=C29,$X$7:$X$46,\"\"))","v":0},"","","","","","",""]
[null,null,null,null,null,null,null,null,null,0,0,null,null,null,0,null,"","","",{"$error":"#DIV/0!"},"",{"$f":"IF(P30<>\"Finished\",\"\",VLOOKUP(O30,'Data for points'!$G$26:$Y$33,17,TRUE))","v":""},"","",{"$f":"MIN(IF($C$7:$C$46=C30,$X$7:$X$46,\"\"))","v":0},"","","","","","",""]
[null,null,null,null,null,null,null,null,null,0,0,null,null,null,0,null,"","","",{"$error":"#DIV/0!"},"",{"$f":"IF(P31<>\"Finished\",\"\",VLOOKUP(O31,'Data for points'!$G$26:$Y$33,17,TRUE))","v":""},"","",{"$f":"MIN(IF($C$7:$C$46=C31,$X$7:$X$46,\"\"))","v":0},"","","","","","",""]
[null,null,null,null,null,null,null,null,null,0,0,null,null,null,0,null,"","","",{"$error":"#DIV/0!"},"",{"$f":"IF(P32<>\"Finished\",\"\",VLOOKUP(O32,'Data for points'!$G$26:$Y$33,17,TRUE))","v":""},"","",{"$f":"MIN(IF($C$7:$C$46=C32,$X$7:$X$46,\"\"))","v":0},"","","","","","",""]
[null,null,null,null,null,null,null,null,null,0,0,null,null,null,0,null,"","","",{"$error":"#DIV/0!"},"",{"$f":"IF(P33<>\"Finished\",\"\",VLOOKUP(O33,'Data for points'!$G$26:$Y$33,17,TRUE))","v":""},"","",{"$f":"MIN(IF($C$7:$C$46=C33,$X$7:$X$46,\"\"))","v":0},"","","","","","",""]
[null,null,null,null,null,null,null,null,null,0,0,null,null,null,0,null,"","","",{"$error":"#DIV/0!"},"",{"$f":"IF(P34<>\"Finished\",\"\",VLOOKUP(O34,'Data for points'!$G$26:$Y$33,17,TRUE))","v":""},"","",{"$f":"MIN(IF($C$7:$C$46=C34,$X$7:$X$46,\"\"))","v":0},"","","","","","",""]
[null,null,null,null,null,null,null,null,null,0,0,null,null,null,0,null,"","","",{"$error":"#DIV/0!"},"",{"$f":"IF(P35<>\"Finished\",\"\",VLOOKUP(O35,'Data for points'!$G$26:$Y$33,17,TRUE))","v":""},"","",{"$f":"MIN(IF($C$7:$C$46=C35,$X$7:$X$46,\"\"))","v":0},"","","","","","",""]
[null,null,null,null,null,null,null,null,null,0,0,null,null,null,0,null,"","","",{"$error":"#DIV/0!"},"",{"$f":"IF(P36<>\"Finished\",\"\",VLOOKUP(O36,'Data for points'!$G$26:$Y$33,17,TRUE))","v":""},"","",{"$f":"MIN(IF($C$7:$C$46=C36,$X$7:$X$46,\"\"))","v":0},"","","","","","",""]
[null,null,null,null,null,null,null,null,null,0,0,null,null,null,0,null,"","","",{"$error":"#DIV/0!"},"",{"$f":"IF(P37<>\"Finished\",\"\",VLOOKUP(O37,'Data for points'!$G$26:$Y$33,17,TRUE))","v":""},"","",{"$f":"MIN(IF($C$7:$C$46=C37,$X$7:$X$46,\"\"))","v":0},"","","","","","",""]
[null,null,null,null,null,null,null,null,null,0,0,null,null,null,0,null,"","","",{"$error":"#DIV/0!"},"",{"$f":"IF(P38<>\"Finished\",\"\",VLOOKUP(O38,'Data for points'!$G$26:$Y$33,17,TRUE))","v":""},"","",{"$f":"MIN(IF($C$7:$C$46=C38,$X$7:$X$46,\"\"))","v":0},"","","","","","",""]
[null,null,null,null,null,null,null,null,null,0,0,null,null,null,0,null,"","","",{"$error":"#DIV/0!"},"",{"$f":"IF(P39<>\"Finished\",\"\",VLOOKUP(O39,'Data for points'!$G$26:$Y$33,17,TRUE))","v":""},"","",{"$f":"MIN(IF($C$7:$C$46=C39,$X$7:$X$46,\"\"))","v":0},"","","","","","",""]
[null,null,null,null,null,null,null,null,null,0,0,null,null,null,0,null,"","","",{"$error":"#DIV/0!"},"",{"$f":"IF(P40<>\"Finished\",\"\",VLOOKUP(O40,'Data for points'!$G$26:$Y$33,17,TRUE))","v":""},"","",{"$f":"MIN(IF($C$7:$C$46=C40,$X$7:$X$46,\"\"))","v":0},"","","","","","",""]
[null,null,null,null,null,null,null,null,null,0,0,null,null,null,0,null,"","","",{"$error":"#DIV/0!"},"",{"$f":"IF(P41<>\"Finished\",\"\",VLOOKUP(O41,'Data for points'!$G$26:$Y$33,17,TRUE))","v":""},"","",{"$f":"MIN(IF($C$7:$C$46=C41,$X$7:$X$46,\"\"))","v":0},"","","","","","",""]
[null,null,null,null,null,null,null,null,null,0,0,null,null,null,0,null,"","","",{"$error":"#DIV/0!"},"",{"$f":"IF(P42<>\"Finished\",\"\",VLOOKUP(O42,'Data for points'!$G$26:$Y$33,17,TRUE))","v":""},"","",{"$f":"MIN(IF($C$7:$C$46=C42,$X$7:$X$46,\"\"))","v":0},"","","","","","",""]
[null,null,null,null,null,null,null,null,null,0,0,null,null,null,0,null,"","","",{"$error":"#DIV/0!"},"",{"$f":"IF(P43<>\"Finished\",\"\",VLOOKUP(O43,'Data for points'!$G$26:$Y$33,17,TRUE))","v":""},"","",{"$f":"MIN(IF($C$7:$C$46=C43,$X$7:$X$46,\"\"))","v":0},"","","","","","",""]
[null,null,null,null,null,null,null,null,null,0,0,null,null,null,0,null,"","","",{"$error":"#DIV/0!"},"",{"$f":"IF(P44<>\"Finished\",\"\",VLOOKUP(O44,'Data for points'!$G$26:$Y$33,17,TRUE))","v":""},"","",{"$f":"MIN(IF($C$7:$C$46=C44,$X$7:$X$46,\"\"))","v":0},"","","","","","",""]
[null,null,null,null,null,null,null,null,null,0,0,null,null,null,0,null,"","","",{"$error":"#DIV/0!"},"",{"$f":"IF(P45<>\"Finished\",\"\",VLOOKUP(O45,'Data for points'!$G$26:$Y$33,17,TRUE))","v":""},"","",{"$f":"MIN(IF($C$7:$C$46=C45,$X$7:$X$46,\"\"))","v":0},"","","","","","",""]
[null,null,null,null,null,null,null,null,null,0,0,null,null,null,0,null,"","","",{"$error":"#DIV/0!"},"",{"$f":"IF(P46<>\"Finished\",\"\",VLOOKUP(O46,'Data for points'!$G$26:$Y$33,17,TRUE))","v":""},"","",{"$f":"MIN(IF($C$7:$C$46=C46,$X$7:$X$46,\"\"))","v":0},"","","","","","",""]
[]
[]
[]
[]
[]
[]
[]
[]
[]
[]
[]
[]
[]
[]
[]
[]
[]
[]
[]
[]
[]
[]
[]
[]
[]
[]
[]
[]
[]
[]
[]
[]
[]
[]
[]
[]
[]
[]
[]
[]
[]
[]
[]
[]
[]
[]
[]
[]
[]
[]
[]
[]
[]
[null,null,null,null,null,null,null,null,null,null,null,null,null,null,null,"Finished"]
[null,null,null,null,null,null,null,null,null,null,null,null,null,null,null,"Disqualified"]

{"sheet":"Line Throw Men","index":40,"n_rows":101,"n_cols":34,"rows_kept":101,"cut":false,"hidden":true,"merged":[[4,8,4,9],[4,11,4,12],[4,13,4,15],[1,8,1,9]]}
[null,null,null,null,null,null,null,null,null,null,null,null,null,null,null,null,"UR in seconds"]
[null,"Men's",null,"Line Throw ",null,null,null,null,"Club to \nHighlight",null,null,null,null,null,null,null,{"$f":"'Data for points'!H5","v":0},{"$f":"CONCATENATE(\"University  Record=\",INT(Q2/60),\" minS\",MOD(Q2,60),\" secs\")","v":"University  Record=0 minS0 secs"}]
[]
[]
["A University(Boolean)","Club Name","Club Code","Competitor","CompetitorID","Catcher","Catcher ID","AceptanceID","ID code",null,"Entry Time(Seconds)","Entry Time",null,"Time",null,null,"Time(seconds)","Finish \nStatus","TimeSand  DQs","Rank","Competition \nPlace","PointSCalculation","Lifesaving Points","Survive and Save Status","Squad List","Rank For \nSquadSMembers","Top Finisher for there Uni","Top finisher Select Competitor for ranking","Squad\n Points","Uni Finishers","Student\n Points","Non-Uni Finishers","Non-Student \nPoints"]
[null,null,null,null,null,null,null,null,null,null,null,"Mins","Seconds","Mins","Seconds","1/100"]
[null,null,null,null,null,null,null,null,null,null,0,{"$f":"INT(K7/60)","v":0},{"$f":"MOD(K7,60)","v":0},null,null,null,{"$f":"N7*60+O7+P7/100","v":0},null,{"$f":"IF(R7<>\"Finished\",IF(R7<=0,\"\",R7),IF(R7=\"Finished\",IF(Q7<=0,\"\",Q7),\"\"))","v":""},{"$f":"IF(OR(LEFT(S7,1)=\"D\",S7=\"\"),\"\",RANK(S7,$S$7:$S$46,1))","v":""},{"$f":"IF(LEFT(R7,1)=\"D\",MAX($T$7:$T$46)+1,T7)","v":""},{"$f":"(1-(Q7-$Q$2)/$Q$2)*1000","v":{"$error":"#DIV/0!"}},{"$f":"IF(R7<>\"Finished\",\"\",IF(V7<0,0,V7))","v":""},{"$f":"IF(R7<>\"Finished\",\"\",VLOOKUP(Q7,'Data for points'!$H$16:$Y$23,18,TRUE))","v":""},{"$f":"IF(I7=\"S\",U7,\"\")","v":""},{"$f":"IF(Y7=\"\",\"\",RANK(Y7,$Y$7:$Y$46,1))","v":""},{"$f":"MIN(IF($C$7:$C$46=C7,$Z$7:$Z$46,\"\"))","v":0},{"$f":"IF(AA7=Z7,AA7,\"\")","v":""},{"$f":"IF(AB7=\"\",\"\",RANK(AB7,$AB$7:$AB$46,1))","v":""},{"$f":"IF(A7=1,AC7,\"\")","v":""},{"$f":"IF(AD7=\"\",\"\",RANK(AD7,$AD$7:$AD$46,1))","v":""},{"$f":"IF(A7=0,AC7,\"\")","v":""},{"$f":"IF(AF7=\"\",\"\",RANK(AF7,$AF$7:$AF$46,1))","v":""},{"$f":"IF(OR(R7<>\"Finished\",Q7>$O$2),\"\",\"UR\")","v":""}]
[null,null,null,null,null,null,null,null,null,null,0,{"$f":"INT(K8/60)","v":0},{"$f":"MOD(K8,60)","v":0},null,null,null,{"$f":"N8*60+O8+P8/100","v":0},null,{"$f":"IF(R8<>\"Finished\",IF(R8<=0,\"\",R8),IF(R8=\"Finished\",IF(Q8<=0,\"\",Q8),\"\"))","v":""},{"$f":"IF(OR(LEFT(S8,1)=\"D\",S8=\"\"),\"\",RANK(S8,$S$7:$S$46,1))","v":""},{"$f":"IF(LEFT(R8,1)=\"D\",MAX($T$7:$T$46)+1,T8)","v":""},{"$f":"(1-(Q8-$Q$2)/$Q$2)*1000","v":{"$error":"#DIV/0!"}},{"$f":"IF(R8<>\"Finished\",\"\",IF(V8<0,0,V8))","v":""},{"$f":"IF(R8<>\"Finished\",\"\",VLOOKUP(Q8,'Data for points'!$H$16:$Y$23,18,TRUE))","v":""},{"$f":"IF(I8=\"S\",U8,\"\")","v":""},{"$f":"IF(Y8=\"\",\"\",RANK(Y8,$Y$7:$Y$46,1))","v":""},{"$f":"MIN(IF($C$7:$C$46=C8,$Z$7:$Z$46,\"\"))","v":0},{"$f":"IF(AA8=Z8,AA8,\"\")","v":""},{"$f":"IF(AB8=\"\",\"\",RANK(AB8,$AB$7:$AB$46,1))","v":""},{"$f":"IF(A8=1,AC8,\"\")","v":""},{"$f":"IF(AD8=\"\",\"\",RANK(AD8,$AD$7:$AD$46,1))","v":""},{"$f":"IF(A8=0,AC8,\"\")","v":""},{"$f":"IF(AF8=\"\",\"\",RANK(AF8,$AF$7:$AF$46,1))","v":""},{"$f":"IF(OR(R8<>\"Finished\",Q8>$O$2),\"\",\"UR\")","v":""}]
[null,null,null,null,null,null,null,null,null,null,0,0,0,null,null,null,{"$f":"N9*60+O9+P9/100","v":0},null,"","","",{"$error":"#DIV/0!"},"",{"$f":"IF(R9<>\"Finished\",\"\",VLOOKUP(Q9,'Data for points'!$H$16:$Y$23,18,TRUE))","v":""},"","",{"$f":"MIN(IF($C$7:$C$46=C9,$Z$7:$Z$46,\"\"))","v":0},"","","","","","",""]
[null,null,null,null,null,null,null,null,null,null,0,0,0,null,null,null,{"$f":"N10*60+O10+P10/100","v":0},null,"","","",{"$error":"#DIV/0!"},"",{"$f":"IF(R10<>\"Finished\",\"\",VLOOKUP(Q10,'Data for points'!$H$16:$Y$23,18,TRUE))","v":""},"","",{"$f":"MIN(IF($C$7:$C$46=C10,$Z$7:$Z$46,\"\"))","v":0},"","","","","","",""]
[null,null,null,null,null,null,null,null,null,null,0,0,0,null,null,null,{"$f":"N11*60+O11+P11/100","v":0},null,"","","",{"$error":"#DIV/0!"},"",{"$f":"IF(R11<>\"Finished\",\"\",VLOOKUP(Q11,'Data for points'!$H$16:$Y$23,18,TRUE))","v":""},"","",{"$f":"MIN(IF($C$7:$C$46=C11,$Z$7:$Z$46,\"\"))","v":0},"","","","","","",""]
[null,null,null,null,null,null,null,null,null,null,0,0,0,null,null,null,{"$f":"N12*60+O12+P12/100","v":0},null,"","","",{"$error":"#DIV/0!"},"",{"$f":"IF(R12<>\"Finished\",\"\",VLOOKUP(Q12,'Data for points'!$H$16:$Y$23,18,TRUE))","v":""},"","",{"$f":"MIN(IF($C$7:$C$46=C12,$Z$7:$Z$46,\"\"))","v":0},"","","","","","",""]
[null,null,null,null,null,null,null,null,null,null,0,0,0,null,null,null,0,null,"","","",{"$error":"#DIV/0!"},"",{"$f":"IF(R13<>\"Finished\",\"\",VLOOKUP(Q13,'Data for points'!$H$16:$Y$23,18,TRUE))","v":""},"","",{"$f":"MIN(IF($C$7:$C$46=C13,$Z$7:$Z$46,\"\"))","v":0},"","","","","","",""]
[null,null,null,null,null,null,null,null,null,null,null,0,0,null,null,null,0,null,"","","",{"$error":"#DIV/0!"},"",{"$f":"IF(R14<>\"Finished\",\"\",VLOOKUP(Q14,'Data for points'!$H$16:$Y$23,18,TRUE))","v":""},"","",{"$f":"MIN(IF($C$7:$C$46=C14,$Z$7:$Z$46,\"\"))","v":0},"","","","","","",""]
[null,null,null,null,null,null,null,null,null,null,null,0,0,null,null,null,0,null,"","","",{"$error":"#DIV/0!"},"",{"$f":"IF(R15<>\"Finished\",\"\",VLOOKUP(Q15,'Data for points'!$H$16:$Y$23,18,TRUE))","v":""},"","",{"$f":"MIN(IF($C$7:$C$46=C15,$Z$7:$Z$46,\"\"))","v":0},"","","","","","",""]
[null,null,null,null,null,null,null,null,null,null,null,0,0,null,null,null,0,null,"","","",{"$error":"#DIV/0!"},"",{"$f":"IF(R16<>\"Finished\",\"\",VLOOKUP(Q16,'Data for points'!$H$16:$Y$23,18,TRUE))","v":""},"","",{"$f":"MIN(IF($C$7:$C$46=C16,$Z$7:$Z$46,\"\"))","v":0},"","","","","","",""]
[null,null,null,null,null,null,null,null,null,null,null,0,0,null,null,null,0,null,"","","",{"$error":"#DIV/0!"},"",{"$f":"IF(R17<>\"Finished\",\"\",VLOOKUP(Q17,'Data for points'!$H$16:$Y$23,18,TRUE))","v":""},"","",{"$f":"MIN(IF($C$7:$C$46=C17,$Z$7:$Z$46,\"\"))","v":0},"","","","","","",""]
[null,null,null,null,null,null,null,null,null,null,null,0,0,null,null,null,0,null,"","","",{"$error":"#DIV/0!"},"",{"$f":"IF(R18<>\"Finished\",\"\",VLOOKUP(Q18,'Data for points'!$H$16:$Y$23,18,TRUE))","v":""},"","",{"$f":"MIN(IF($C$7:$C$46=C18,$Z$7:$Z$46,\"\"))","v":0},"","","","","","",""]
[null,null,null,null,null,null,null,null,null,null,null,0,0,null,null,null,0,null,"","","",{"$error":"#DIV/0!"},"",{"$f":"IF(R19<>\"Finished\",\"\",VLOOKUP(Q19,'Data for points'!$H$16:$Y$23,18,TRUE))","v":""},"","",{"$f":"MIN(IF($C$7:$C$46=C19,$Z$7:$Z$46,\"\"))","v":0},"","","","","","",""]
[null,null,null,null,null,null,null,null,null,null,null,0,0,null,null,null,0,null,"","","",{"$error":"#DIV/0!"},"",{"$f":"IF(R20<>\"Finished\",\"\",VLOOKUP(Q20,'Data for points'!$H$16:$Y$23,18,TRUE))","v":""},"","",{"$f":"MIN(IF($C$7:$C$46=C20,$Z$7:$Z$46,\"\"))","v":0},"","","","","","",""]
[null,null,null,null,null,null,null,null,null,null,null,0,0,null,null,null,0,null,"","","",{"$error":"#DIV/0!"},"",{"$f":"IF(R21<>\"Finished\",\"\",VLOOKUP(Q21,'Data for points'!$H$16:$Y$23,18,TRUE))","v":""},"","",{"$f":"MIN(IF($C$7:$C$46=C21,$Z$7:$Z$46,\"\"))","v":0},"","","","","","",""]
[null,null,null,null,null,null,null,null,null,null,null,0,0,null,null,null,0,null,"","","",{"$error":"#DIV/0!"},"",{"$f":"IF(R22<>\"Finished\",\"\",VLOOKUP(Q22,'Data for points'!$H$16:$Y$23,18,TRUE))","v":""},"","",{"$f":"MIN(IF($C$7:$C$46=C22,$Z$7:$Z$46,\"\"))","v":0},"","","","","","",""]
[null,null,null,null,null,null,null,null,null,null,null,0,0,null,null,null,0,null,"","","",{"$error":"#DIV/0!"},"",{"$f":"IF(R23<>\"Finished\",\"\",VLOOKUP(Q23,'Data for points'!$H$16:$Y$23,18,TRUE))","v":""},"","",{"$f":"MIN(IF($C$7:$C$46=C23,$Z$7:$Z$46,\"\"))","v":0},"","","","","","",""]
[null,null,null,null,null,null,null,null,null,null,null,0,0,null,null,null,0,null,"","","",{"$error":"#DIV/0!"},"",{"$f":"IF(R24<>\"Finished\",\"\",VLOOKUP(Q24,'Data for points'!$H$16:$Y$23,18,TRUE))","v":""},"","",{"$f":"MIN(IF($C$7:$C$46=C24,$Z$7:$Z$46,\"\"))","v":0},"","","","","","",""]
[null,null,null,null,null,null,null,null,null,null,null,0,0,null,null,null,0,null,"","","",{"$error":"#DIV/0!"},"",{"$f":"IF(R25<>\"Finished\",\"\",VLOOKUP(Q25,'Data for points'!$H$16:$Y$23,18,TRUE))","v":""},"","",{"$f":"MIN(IF($C$7:$C$46=C25,$Z$7:$Z$46,\"\"))","v":0},"","","","","","",""]
[null,null,null,null,null,null,null,null,null,null,null,0,0,null,null,null,0,null,"","","",{"$error":"#DIV/0!"},"",{"$f":"IF(R26<>\"Finished\",\"\",VLOOKUP(Q26,'Data for points'!$H$16:$Y$23,18,TRUE))","v":""},"","",{"$f":"MIN(IF($C$7:$C$46=C26,$Z$7:$Z$46,\"\"))","v":0},"","","","","","",""]
[null,null,null,null,null,null,null,null,null,null,null,0,0,null,null,null,0,null,"","","",{"$error":"#DIV/0!"},"",{"$f":"IF(R27<>\"Finished\",\"\",VLOOKUP(Q27,'Data for points'!$H$16:$Y$23,18,TRUE))","v":""},"","",{"$f":"MIN(IF($C$7:$C$46=C27,$Z$7:$Z$46,\"\"))","v":0},"","","","","","",""]
[null,null,null,null,null,null,null,null,null,null,null,0,0,null,null,null,0,null,"","","",{"$error":"#DIV/0!"},"",{"$f":"IF(R28<>\"Finished\",\"\",VLOOKUP(Q28,'Data for points'!$H$16:$Y$23,18,TRUE))","v":""},"","",{"$f":"MIN(IF($C$7:$C$46=C28,$Z$7:$Z$46,\"\"))","v":0},"","","","","","",""]
[null,null,null,null,null,null,null,null,null,null,null,0,0,null,null,null,0,null,"","","",{"$error":"#DIV/0!"},"",{"$f":"IF(R29<>\"Finished\",\"\",VLOOKUP(Q29,'Data for points'!$H$16:$Y$23,18,TRUE))","v":""},"","",{"$f":"MIN(IF($C$7:$C$46=C29,$Z$7:$Z$46,\"\"))","v":0},"","","","","","",""]
[null,null,null,null,null,null,null,null,null,null,null,0,0,null,null,null,0,null,"","","",{"$error":"#DIV/0!"},"",{"$f":"IF(R30<>\"Finished\",\"\",VLOOKUP(Q30,'Data for points'!$H$16:$Y$23,18,TRUE))","v":""},"","",{"$f":"MIN(IF($C$7:$C$46=C30,$Z$7:$Z$46,\"\"))","v":0},"","","","","","",""]
[null,null,null,null,null,null,null,null,null,null,null,0,0,null,null,null,0,null,"","","",{"$error":"#DIV/0!"},"",{"$f":"IF(R31<>\"Finished\",\"\",VLOOKUP(Q31,'Data for points'!$H$16:$Y$23,18,TRUE))","v":""},"","",{"$f":"MIN(IF($C$7:$C$46=C31,$Z$7:$Z$46,\"\"))","v":0},"","","","","","",""]
[null,null,null,null,null,null,null,null,null,null,null,0,0,null,null,null,0,null,"","","",{"$error":"#DIV/0!"},"",{"$f":"IF(R32<>\"Finished\",\"\",VLOOKUP(Q32,'Data for points'!$H$16:$Y$23,18,TRUE))","v":""},"","",{"$f":"MIN(IF($C$7:$C$46=C32,$Z$7:$Z$46,\"\"))","v":0},"","","","","","",""]
[null,null,null,null,null,null,null,null,null,null,null,0,0,null,null,null,0,null,"","","",{"$error":"#DIV/0!"},"",{"$f":"IF(R33<>\"Finished\",\"\",VLOOKUP(Q33,'Data for points'!$H$16:$Y$23,18,TRUE))","v":""},"","",{"$f":"MIN(IF($C$7:$C$46=C33,$Z$7:$Z$46,\"\"))","v":0},"","","","","","",""]
[null,null,null,null,null,null,null,null,null,null,null,0,0,null,null,null,0,null,"","","",{"$error":"#DIV/0!"},"",{"$f":"IF(R34<>\"Finished\",\"\",VLOOKUP(Q34,'Data for points'!$H$16:$Y$23,18,TRUE))","v":""},"","",{"$f":"MIN(IF($C$7:$C$46=C34,$Z$7:$Z$46,\"\"))","v":0},"","","","","","",""]
[null,null,null,null,null,null,null,null,null,null,null,0,0,null,null,null,0,null,"","","",{"$error":"#DIV/0!"},"",{"$f":"IF(R35<>\"Finished\",\"\",VLOOKUP(Q35,'Data for points'!$H$16:$Y$23,18,TRUE))","v":""},"","",{"$f":"MIN(IF($C$7:$C$46=C35,$Z$7:$Z$46,\"\"))","v":0},"","","","","","",""]
[null,null,null,null,null,null,null,null,null,null,null,0,0,null,null,null,0,null,"","","",{"$error":"#DIV/0!"},"",{"$f":"IF(R36<>\"Finished\",\"\",VLOOKUP(Q36,'Data for points'!$H$16:$Y$23,18,TRUE))","v":""},"","",{"$f":"MIN(IF($C$7:$C$46=C36,$Z$7:$Z$46,\"\"))","v":0},"","","","","","",""]
[null,null,null,null,null,null,null,null,null,null,null,0,0,null,null,null,0,null,"","","",{"$error":"#DIV/0!"},"",{"$f":"IF(R37<>\"Finished\",\"\",VLOOKUP(Q37,'Data for points'!$H$16:$Y$23,18,TRUE))","v":""},"","",{"$f":"MIN(IF($C$7:$C$46=C37,$Z$7:$Z$46,\"\"))","v":0},"","","","","","",""]
[null,null,null,null,null,null,null,null,null,null,null,0,0,null,null,null,0,null,"","","",{"$error":"#DIV/0!"},"",{"$f":"IF(R38<>\"Finished\",\"\",VLOOKUP(Q38,'Data for points'!$H$16:$Y$23,18,TRUE))","v":""},"","",{"$f":"MIN(IF($C$7:$C$46=C38,$Z$7:$Z$46,\"\"))","v":0},"","","","","","",""]
[null,null,null,null,null,null,null,null,null,null,null,0,0,null,null,null,0,null,"","","",{"$error":"#DIV/0!"},"",{"$f":"IF(R39<>\"Finished\",\"\",VLOOKUP(Q39,'Data for points'!$H$16:$Y$23,18,TRUE))","v":""},"","",{"$f":"MIN(IF($C$7:$C$46=C39,$Z$7:$Z$46,\"\"))","v":0},"","","","","","",""]
[null,null,null,null,null,null,null,null,null,null,null,0,0,null,null,null,0,null,"","","",{"$error":"#DIV/0!"},"",{"$f":"IF(R40<>\"Finished\",\"\",VLOOKUP(Q40,'Data for points'!$H$16:$Y$23,18,TRUE))","v":""},"","",{"$f":"MIN(IF($C$7:$C$46=C40,$Z$7:$Z$46,\"\"))","v":0},"","","","","","",""]
[null,null,null,null,null,null,null,null,null,null,null,0,0,null,null,null,0,null,"","","",{"$error":"#DIV/0!"},"",{"$f":"IF(R41<>\"Finished\",\"\",VLOOKUP(Q41,'Data for points'!$H$16:$Y$23,18,TRUE))","v":""},"","",{"$f":"MIN(IF($C$7:$C$46=C41,$Z$7:$Z$46,\"\"))","v":0},"","","","","","",""]
[null,null,null,null,null,null,null,null,null,null,null,0,0,null,null,null,0,null,"","","",{"$error":"#DIV/0!"},"",{"$f":"IF(R42<>\"Finished\",\"\",VLOOKUP(Q42,'Data for points'!$H$16:$Y$23,18,TRUE))","v":""},"","",{"$f":"MIN(IF($C$7:$C$46=C42,$Z$7:$Z$46,\"\"))","v":0},"","","","","","",""]
[null,null,null,null,null,null,null,null,null,null,null,0,0,null,null,null,0,null,"","","",{"$error":"#DIV/0!"},"",{"$f":"IF(R43<>\"Finished\",\"\",VLOOKUP(Q43,'Data for points'!$H$16:$Y$23,18,TRUE))","v":""},"","",{"$f":"MIN(IF($C$7:$C$46=C43,$Z$7:$Z$46,\"\"))","v":0},"","","","","","",""]
[null,null,null,null,null,null,null,null,null,null,null,0,0,null,null,null,0,null,"","","",{"$error":"#DIV/0!"},"",{"$f":"IF(R44<>\"Finished\",\"\",VLOOKUP(Q44,'Data for points'!$H$16:$Y$23,18,TRUE))","v":""},"","",{"$f":"MIN(IF($C$7:$C$46=C44,$Z$7:$Z$46,\"\"))","v":0},"","","","","","",""]
[null,null,null,null,null,null,null,null,null,null,null,0,0,null,null,null,0,null,"","","",{"$error":"#DIV/0!"},"",{"$f":"IF(R45<>\"Finished\",\"\",VLOOKUP(Q45,'Data for points'!$H$16:$Y$23,18,TRUE))","v":""},"","",{"$f":"MIN(IF($C$7:$C$46=C45,$Z$7:$Z$46,\"\"))","v":0},"","","","","","",""]
[null,null,null,null,null,null,null,null,null,null,null,0,0,null,null,null,0,null,"","","",{"$error":"#DIV/0!"},"",{"$f":"IF(R46<>\"Finished\",\"\",VLOOKUP(Q46,'Data for points'!$H$16:$Y$23,18,TRUE))","v":""},"","",{"$f":"MIN(IF($C$7:$C$46=C46,$Z$7:$Z$46,\"\"))","v":0},"","","","","","",""]
[]
[]
[]
[]
[]
[]
[]
[]
[]
[]
[]
[]
[]
[]
[]
[]
[]
[]
[]
[]
[]
[]
[]
[]
[]
[]
[]
[]
[]
[]
[]
[]
[]
[]
[]
[]
[]
[]
[]
[]
[]
[]
[]
[]
[]
[]
[]
[]
[]
[]
[]
[]
[]
[null,null,null,null,null,null,null,null,null,null,null,null,null,null,null,null,null,"Finished"]
[null,null,null,null,null,null,null,null,null,null,null,null,null,null,null,null,null,"Disqualified"]

{"sheet":"Line Throw Women","index":41,"n_rows":101,"n_cols":34,"rows_kept":101,"cut":false,"hidden":true,"merged":[[4,8,4,9],[4,11,4,12],[4,13,4,15],[1,8,1,9]]}
[null,null,null,null,null,null,null,null,null,null,null,null,null,null,null,null,"UR in seconds"]
[null,"Women's",null,"Line Throw ",null,null,null,null,"Club to \nHighlight",null,null,null,null,null,null,null,{"$f":"'Data for points'!H6","v":0},{"$f":"CONCATENATE(\"University  Record=\",INT(Q2/60),\" minS\",MOD(Q2,60),\" secs\")","v":"University  Record=0 minS0 secs"}]
[]
[]
["A University(Boolean)","Club Name","Club Code","Competitor","CompetitorID","Catcher","Catcher ID","AceptanceID","ID code",null,"Entry Time(Seconds)","Entry Time",null,"Time",null,null,"Time(seconds)","Finish \nStatus","TimeSand  DQs","Rank","Competition \nPlace","PointSCalculation","Lifesaving Points","Survive and Save Status","Squad List","Rank For \nSquadSMembers","Top Finisher for there Uni","Top finisher Select Competitor for ranking","Squad\n Points","Uni Finishers","Student \nPoints","Non-Uni Finishers","Non-Student \nPoints"]
[null,null,null,null,null,null,null,null,null,null,null,"Mins","Seconds","Mins","Seconds","1/100"]
[null,null,null,null,null,null,null,null,null,null,null,{"$f":"INT(K7/60)","v":0},{"$f":"MOD(K7,60)","v":0},null,null,null,{"$f":"N7*60+O7+P7/100","v":0},null,{"$f":"IF(R7<>\"Finished\",IF(R7<=0,\"\",R7),IF(R7=\"Finished\",IF(Q7<=0,\"\",Q7),\"\"))","v":""},{"$f":"IF(OR(LEFT(S7,1)=\"D\",S7=\"\"),\"\",RANK(S7,$S$7:$S$46,1))","v":""},{"$f":"IF(LEFT(R7,1)=\"D\",MAX($T$7:$T$46)+1,T7)","v":""},{"$f":"(1-(Q7-$Q$2)/$Q$2)*1000","v":{"$error":"#DIV/0!"}},{"$f":"IF(R7<>\"Finished\",\"\",IF(V7<0,0,V7))","v":""},{"$f":"IF(R7<>\"Finished\",\"\",VLOOKUP(Q7,'Data for points'!$H$26:$Y$33,16,TRUE))","v":""},{"$f":"IF(I7=\"S\",U7,\"\")","v":""},{"$f":"IF(Y7=\"\",\"\",RANK(Y7,$Y$7:$Y$46,1))","v":""},{"$f":"MIN(IF($C$7:$C$46=C7,$Z$7:$Z$46,\"\"))","v":0},{"$f":"IF(AA7=Z7,AA7,\"\")","v":""},{"$f":"IF(AB7=\"\",\"\",RANK(AB7,$AB$7:$AB$46,1))","v":""},{"$f":"IF(A7=1,AC7,\"\")","v":""},{"$f":"IF(AD7=\"\",\"\",RANK(AD7,$AD$7:$AD$46,1))","v":""},{"$f":"IF(A7=0,AC7,\"\")","v":""},{"$f":"IF(AF7=\"\",\"\",RANK(AF7,$AF$7:$AF$46,1))","v":""},{"$f":"IF(OR(R7<>\"Finished\",Q7>$O$2),\"\",\"UR\")","v":""}]
[null,null,null,null,null,null,null,null,null,null,null,{"$f":"INT(K8/60)","v":0},{"$f":"MOD(K8,60)","v":0},null,null,null,{"$f":"N8*60+O8+P8/100","v":0},null,{"$f":"IF(R8<>\"Finished\",IF(R8<=0,\"\",R8),IF(R8=\"Finished\",IF(Q8<=0,\"\",Q8),\"\"))","v":""},{"$f":"IF(OR(LEFT(S8,1)=\"D\",S8=\"\"),\"\",RANK(S8,$S$7:$S$46,1))","v":""},{"$f":"IF(LEFT(R8,1)=\"D\",MAX($T$7:$T$46)+1,T8)","v":""},{"$f":"(1-(Q8-$Q$2)/$Q$2)*1000","v":{"$error":"#DIV/0!"}},{"$f":"IF(R8<>\"Finished\",\"\",IF(V8<0,0,V8))","v":""},{"$f":"IF(R8<>\"Finished\",\"\",VLOOKUP(Q8,'Data for points'!$H$26:$Y$33,16,TRUE))","v":""},{"$f":"IF(I8=\"S\",U8,\"\")","v":""},{"$f":"IF(Y8=\"\",\"\",RANK(Y8,$Y$7:$Y$46,1))","v":""},{"$f":"MIN(IF($C$7:$C$46=C8,$Z$7:$Z$46,\"\"))","v":0},{"$f":"IF(AA8=Z8,AA8,\"\")","v":""},{"$f":"IF(AB8=\"\",\"\",RANK(AB8,$AB$7:$AB$46,1))","v":""},{"$f":"IF(A8=1,AC8,\"\")","v":""},{"$f":"IF(AD8=\"\",\"\",RANK(AD8,$AD$7:$AD$46,1))","v":""},{"$f":"IF(A8=0,AC8,\"\")","v":""},{"$f":"IF(AF8=\"\",\"\",RANK(AF8,$AF$7:$AF$46,1))","v":""},{"$f":"IF(OR(R8<>\"Finished\",Q8>$O$2),\"\",\"UR\")","v":""}]
[null,null,null,null,null,null,null,null,null,null,null,0,0,null,null,null,0,null,"","","",{"$error":"#DIV/0!"},"",{"$f":"IF(R9<>\"Finished\",\"\",VLOOKUP(Q9,'Data for points'!$H$26:$Y$33,16,TRUE))","v":""},"","",{"$f":"MIN(IF($C$7:$C$46=C9,$Z$7:$Z$46,\"\"))","v":0},"","","","","","",""]
[null,null,null,null,null,null,null,null,null,null,null,0,0,null,null,null,0,null,"","","",{"$error":"#DIV/0!"},"",{"$f":"IF(R10<>\"Finished\",\"\",VLOOKUP(Q10,'Data for points'!$H$26:$Y$33,16,TRUE))","v":""},"","",{"$f":"MIN(IF($C$7:$C$46=C10,$Z$7:$Z$46,\"\"))","v":0},"","","","","","",""]
[null,null,null,null,null,null,null,null,null,null,null,0,0,null,null,null,0,null,"","","",{"$error":"#DIV/0!"},"",{"$f":"IF(R11<>\"Finished\",\"\",VLOOKUP(Q11,'Data for points'!$H$26:$Y$33,16,TRUE))","v":""},"","",{"$f":"MIN(IF($C$7:$C$46=C11,$Z$7:$Z$46,\"\"))","v":0},"","","","","","",""]
[null,null,null,null,null,null,null,null,null,null,null,0,0,null,null,null,0,null,"","","",{"$error":"#DIV/0!"},"",{"$f":"IF(R12<>\"Finished\",\"\",VLOOKUP(Q12,'Data for points'!$H$26:$Y$33,16,TRUE))","v":""},"","",{"$f":"MIN(IF($C$7:$C$46=C12,$Z$7:$Z$46,\"\"))","v":0},"","","","","","",""]
[null,null,null,null,null,null,null,null,null,null,null,0,0,null,null,null,0,null,"","","",{"$error":"#DIV/0!"},"",{"$f":"IF(R13<>\"Finished\",\"\",VLOOKUP(Q13,'Data for points'!$H$26:$Y$33,16,TRUE))","v":""},"","",{"$f":"MIN(IF($C$7:$C$46=C13,$Z$7:$Z$46,\"\"))","v":0},"","","","","","",""]
[null,null,null,null,null,null,null,null,null,null,null,0,0,null,null,null,0,null,"","","",{"$error":"#DIV/0!"},"",{"$f":"IF(R14<>\"Finished\",\"\",VLOOKUP(Q14,'Data for points'!$H$26:$Y$33,16,TRUE))","v":""},"","",{"$f":"MIN(IF($C$7:$C$46=C14,$Z$7:$Z$46,\"\"))","v":0},"","","","","","",""]
[null,null,null,null,null,null,null,null,null,null,null,0,0,null,null,null,0,null,"","","",{"$error":"#DIV/0!"},"",{"$f":"IF(R15<>\"Finished\",\"\",VLOOKUP(Q15,'Data for points'!$H$26:$Y$33,16,TRUE))","v":""},"","",{"$f":"MIN(IF($C$7:$C$46=C15,$Z$7:$Z$46,\"\"))","v":0},"","","","","","",""]
[null,null,null,null,null,null,null,null,null,null,null,0,0,null,null,null,0,null,"","","",{"$error":"#DIV/0!"},"",{"$f":"IF(R16<>\"Finished\",\"\",VLOOKUP(Q16,'Data for points'!$H$26:$Y$33,16,TRUE))","v":""},"","",{"$f":"MIN(IF($C$7:$C$46=C16,$Z$7:$Z$46,\"\"))","v":0},"","","","","","",""]
[null,null,null,null,null,null,null,null,null,null,null,0,0,null,null,null,0,null,"","","",{"$error":"#DIV/0!"},"",{"$f":"IF(R17<>\"Finished\",\"\",VLOOKUP(Q17,'Data for points'!$H$26:$Y$33,16,TRUE))","v":""},"","",{"$f":"MIN(IF($C$7:$C$46=C17,$Z$7:$Z$46,\"\"))","v":0},"","","","","","",""]
[null,null,null,null,null,null,null,null,null,null,null,0,0,null,null,null,0,null,"","","",{"$error":"#DIV/0!"},"",{"$f":"IF(R18<>\"Finished\",\"\",VLOOKUP(Q18,'Data for points'!$H$26:$Y$33,16,TRUE))","v":""},"","",{"$f":"MIN(IF($C$7:$C$46=C18,$Z$7:$Z$46,\"\"))","v":0},"","","","","","",""]
[null,null,null,null,null,null,null,null,null,null,null,0,0,null,null,null,0,null,"","","",{"$error":"#DIV/0!"},"",{"$f":"IF(R19<>\"Finished\",\"\",VLOOKUP(Q19,'Data for points'!$H$26:$Y$33,16,TRUE))","v":""},"","",{"$f":"MIN(IF($C$7:$C$46=C19,$Z$7:$Z$46,\"\"))","v":0},"","","","","","",""]
[null,null,null,null,null,null,null,null,null,null,null,0,0,null,null,null,0,null,"","","",{"$error":"#DIV/0!"},"",{"$f":"IF(R20<>\"Finished\",\"\",VLOOKUP(Q20,'Data for points'!$H$26:$Y$33,16,TRUE))","v":""},"","",{"$f":"MIN(IF($C$7:$C$46=C20,$Z$7:$Z$46,\"\"))","v":0},"","","","","","",""]
[null,null,null,null,null,null,null,null,null,null,null,0,0,null,null,null,0,null,"","","",{"$error":"#DIV/0!"},"",{"$f":"IF(R21<>\"Finished\",\"\",VLOOKUP(Q21,'Data for points'!$H$26:$Y$33,16,TRUE))","v":""},"","",{"$f":"MIN(IF($C$7:$C$46=C21,$Z$7:$Z$46,\"\"))","v":0},"","","","","","",""]
[null,null,null,null,null,null,null,null,null,null,null,0,0,null,null,null,0,null,"","","",{"$error":"#DIV/0!"},"",{"$f":"IF(R22<>\"Finished\",\"\",VLOOKUP(Q22,'Data for points'!$H$26:$Y$33,16,TRUE))","v":""},"","",{"$f":"MIN(IF($C$7:$C$46=C22,$Z$7:$Z$46,\"\"))","v":0},"","","","","","",""]
[null,null,null,null,null,null,null,null,null,null,null,0,0,null,null,null,0,null,"","","",{"$error":"#DIV/0!"},"",{"$f":"IF(R23<>\"Finished\",\"\",VLOOKUP(Q23,'Data for points'!$H$26:$Y$33,16,TRUE))","v":""},"","",{"$f":"MIN(IF($C$7:$C$46=C23,$Z$7:$Z$46,\"\"))","v":0},"","","","","","",""]
[null,null,null,null,null,null,null,null,null,null,null,0,0,null,null,null,0,null,"","","",{"$error":"#DIV/0!"},"",{"$f":"IF(R24<>\"Finished\",\"\",VLOOKUP(Q24,'Data for points'!$H$26:$Y$33,16,TRUE))","v":""},"","",{"$f":"MIN(IF($C$7:$C$46=C24,$Z$7:$Z$46,\"\"))","v":0},"","","","","","",""]
[null,null,null,null,null,null,null,null,null,null,null,0,0,null,null,null,0,null,"","","",{"$error":"#DIV/0!"},"",{"$f":"IF(R25<>\"Finished\",\"\",VLOOKUP(Q25,'Data for points'!$H$26:$Y$33,16,TRUE))","v":""},"","",{"$f":"MIN(IF($C$7:$C$46=C25,$Z$7:$Z$46,\"\"))","v":0},"","","","","","",""]
[null,null,null,null,null,null,null,null,null,null,null,0,0,null,null,null,0,null,"","","",{"$error":"#DIV/0!"},"",{"$f":"IF(R26<>\"Finished\",\"\",VLOOKUP(Q26,'Data for points'!$H$26:$Y$33,16,TRUE))","v":""},"","",{"$f":"MIN(IF($C$7:$C$46=C26,$Z$7:$Z$46,\"\"))","v":0},"","","","","","",""]
[null,null,null,null,null,null,null,null,null,null,null,0,0,null,null,null,0,null,"","","",{"$error":"#DIV/0!"},"",{"$f":"IF(R27<>\"Finished\",\"\",VLOOKUP(Q27,'Data for points'!$H$26:$Y$33,16,TRUE))","v":""},"","",{"$f":"MIN(IF($C$7:$C$46=C27,$Z$7:$Z$46,\"\"))","v":0},"","","","","","",""]
[null,null,null,null,null,null,null,null,null,null,null,0,0,null,null,null,0,null,"","","",{"$error":"#DIV/0!"},"",{"$f":"IF(R28<>\"Finished\",\"\",VLOOKUP(Q28,'Data for points'!$H$26:$Y$33,16,TRUE))","v":""},"","",{"$f":"MIN(IF($C$7:$C$46=C28,$Z$7:$Z$46,\"\"))","v":0},"","","","","","",""]
[null,null,null,null,null,null,null,null,null,null,null,0,0,null,null,null,0,null,"","","",{"$error":"#DIV/0!"},"",{"$f":"IF(R29<>\"Finished\",\"\",VLOOKUP(Q29,'Data for points'!$H$26:$Y$33,16,TRUE))","v":""},"","",{"$f":"MIN(IF($C$7:$C$46=C29,$Z$7:$Z$46,\"\"))","v":0},"","","","","","",""]
[null,null,null,null,null,null,null,null,null,null,null,0,0,null,null,null,0,null,"","","",{"$error":"#DIV/0!"},"",{"$f":"IF(R30<>\"Finished\",\"\",VLOOKUP(Q30,'Data for points'!$H$26:$Y$33,16,TRUE))","v":""},"","",{"$f":"MIN(IF($C$7:$C$46=C30,$Z$7:$Z$46,\"\"))","v":0},"","","","","","",""]
[null,null,null,null,null,null,null,null,null,null,null,0,0,null,null,null,0,null,"","","",{"$error":"#DIV/0!"},"",{"$f":"IF(R31<>\"Finished\",\"\",VLOOKUP(Q31,'Data for points'!$H$26:$Y$33,16,TRUE))","v":""},"","",{"$f":"MIN(IF($C$7:$C$46=C31,$Z$7:$Z$46,\"\"))","v":0},"","","","","","",""]
[null,null,null,null,null,null,null,null,null,null,null,0,0,null,null,null,0,null,"","","",{"$error":"#DIV/0!"},"",{"$f":"IF(R32<>\"Finished\",\"\",VLOOKUP(Q32,'Data for points'!$H$26:$Y$33,16,TRUE))","v":""},"","",{"$f":"MIN(IF($C$7:$C$46=C32,$Z$7:$Z$46,\"\"))","v":0},"","","","","","",""]
[null,null,null,null,null,null,null,null,null,null,null,0,0,null,null,null,0,null,"","","",{"$error":"#DIV/0!"},"",{"$f":"IF(R33<>\"Finished\",\"\",VLOOKUP(Q33,'Data for points'!$H$26:$Y$33,16,TRUE))","v":""},"","",{"$f":"MIN(IF($C$7:$C$46=C33,$Z$7:$Z$46,\"\"))","v":0},"","","","","","",""]
[null,null,null,null,null,null,null,null,null,null,null,0,0,null,null,null,0,null,"","","",{"$error":"#DIV/0!"},"",{"$f":"IF(R34<>\"Finished\",\"\",VLOOKUP(Q34,'Data for points'!$H$26:$Y$33,16,TRUE))","v":""},"","",{"$f":"MIN(IF($C$7:$C$46=C34,$Z$7:$Z$46,\"\"))","v":0},"","","","","","",""]
[null,null,null,null,null,null,null,null,null,null,null,0,0,null,null,null,0,null,"","","",{"$error":"#DIV/0!"},"",{"$f":"IF(R35<>\"Finished\",\"\",VLOOKUP(Q35,'Data for points'!$H$26:$Y$33,16,TRUE))","v":""},"","",{"$f":"MIN(IF($C$7:$C$46=C35,$Z$7:$Z$46,\"\"))","v":0},"","","","","","",""]
[null,null,null,null,null,null,null,null,null,null,null,0,0,null,null,null,0,null,"","","",{"$error":"#DIV/0!"},"",{"$f":"IF(R36<>\"Finished\",\"\",VLOOKUP(Q36,'Data for points'!$H$26:$Y$33,16,TRUE))","v":""},"","",{"$f":"MIN(IF($C$7:$C$46=C36,$Z$7:$Z$46,\"\"))","v":0},"","","","","","",""]
[null,null,null,null,null,null,null,null,null,null,null,0,0,null,null,null,0,null,"","","",{"$error":"#DIV/0!"},"",{"$f":"IF(R37<>\"Finished\",\"\",VLOOKUP(Q37,'Data for points'!$H$26:$Y$33,16,TRUE))","v":""},"","",{"$f":"MIN(IF($C$7:$C$46=C37,$Z$7:$Z$46,\"\"))","v":0},"","","","","","",""]
[null,null,null,null,null,null,null,null,null,null,null,0,0,null,null,null,0,null,"","","",{"$error":"#DIV/0!"},"",{"$f":"IF(R38<>\"Finished\",\"\",VLOOKUP(Q38,'Data for points'!$H$26:$Y$33,16,TRUE))","v":""},"","",{"$f":"MIN(IF($C$7:$C$46=C38,$Z$7:$Z$46,\"\"))","v":0},"","","","","","",""]
[null,null,null,null,null,null,null,null,null,null,null,0,0,null,null,null,0,null,"","","",{"$error":"#DIV/0!"},"",{"$f":"IF(R39<>\"Finished\",\"\",VLOOKUP(Q39,'Data for points'!$H$26:$Y$33,16,TRUE))","v":""},"","",{"$f":"MIN(IF($C$7:$C$46=C39,$Z$7:$Z$46,\"\"))","v":0},"","","","","","",""]
[null,null,null,null,null,null,null,null,null,null,null,0,0,null,null,null,0,null,"","","",{"$error":"#DIV/0!"},"",{"$f":"IF(R40<>\"Finished\",\"\",VLOOKUP(Q40,'Data for points'!$H$26:$Y$33,16,TRUE))","v":""},"","",{"$f":"MIN(IF($C$7:$C$46=C40,$Z$7:$Z$46,\"\"))","v":0},"","","","","","",""]
[null,null,null,null,null,null,null,null,null,null,null,0,0,null,null,null,0,null,"","","",{"$error":"#DIV/0!"},"",{"$f":"IF(R41<>\"Finished\",\"\",VLOOKUP(Q41,'Data for points'!$H$26:$Y$33,16,TRUE))","v":""},"","",{"$f":"MIN(IF($C$7:$C$46=C41,$Z$7:$Z$46,\"\"))","v":0},"","","","","","",""]
[null,null,null,null,null,null,null,null,null,null,null,0,0,null,null,null,0,null,"","","",{"$error":"#DIV/0!"},"",{"$f":"IF(R42<>\"Finished\",\"\",VLOOKUP(Q42,'Data for points'!$H$26:$Y$33,16,TRUE))","v":""},"","",{"$f":"MIN(IF($C$7:$C$46=C42,$Z$7:$Z$46,\"\"))","v":0},"","","","","","",""]
[null,null,null,null,null,null,null,null,null,null,null,0,0,null,null,null,0,null,"","","",{"$error":"#DIV/0!"},"",{"$f":"IF(R43<>\"Finished\",\"\",VLOOKUP(Q43,'Data for points'!$H$26:$Y$33,16,TRUE))","v":""},"","",{"$f":"MIN(IF($C$7:$C$46=C43,$Z$7:$Z$46,\"\"))","v":0},"","","","","","",""]
[null,null,null,null,null,null,null,null,null,null,null,0,0,null,null,null,0,null,"","","",{"$error":"#DIV/0!"},"",{"$f":"IF(R44<>\"Finished\",\"\",VLOOKUP(Q44,'Data for points'!$H$26:$Y$33,16,TRUE))","v":""},"","",{"$f":"MIN(IF($C$7:$C$46=C44,$Z$7:$Z$46,\"\"))","v":0},"","","","","","",""]
[null,null,null,null,null,null,null,null,null,null,null,0,0,null,null,null,0,null,"","","",{"$error":"#DIV/0!"},"",{"$f":"IF(R45<>\"Finished\",\"\",VLOOKUP(Q45,'Data for points'!$H$26:$Y$33,16,TRUE))","v":""},"","",{"$f":"MIN(IF($C$7:$C$46=C45,$Z$7:$Z$46,\"\"))","v":0},"","","","","","",""]
[null,null,null,null,null,null,null,null,null,null,null,0,0,null,null,null,0,null,"","","",{"$error":"#DIV/0!"},"",{"$f":"IF(R46<>\"Finished\",\"\",VLOOKUP(Q46,'Data for points'!$H$26:$Y$33,16,TRUE))","v":""},"","",{"$f":"MIN(IF($C$7:$C$46=C46,$Z$7:$Z$46,\"\"))","v":0},"","","","","","",""]
[]
[]
[]
[]
[]
[]
[]
[]
[]
[]
[]
[]
[]
[]
[]
[]
[]
[]
[]
[]
[]
[]
[]
[]
[]
[]
[]
[]
[]
[]
[]
[]
[]
[]
[]
[]
[]
[]
[]
[]
[]
[]
[]
[]
[]
[]
[]
[]
[]
[]
[]
[]
[]
[null,null,null,null,null,null,null,null,null,null,null,null,null,null,null,null,null,"Finished"]
[null,null,null,null,null,null,null,null,null,null,null,null,null,null,null,null,null,"Disqualified"]

{"sheet":"4 x 12.5m Manikin Relay Men","index":42,"n_rows":101,"n_cols":37,"rows_kept":101,"cut":false,"hidden":false,"merged":[[1,16,1,17],[4,11,4,12],[4,14,4,15],[4,16,4,18]]}
[null,null,null,null,null,null,null,null,null,null,null,null,null,null,null,null,null,null,null,"UR in seconds"]
[null,"Men's",null,null,null,null,null,null,null,null,null,"4 x 12.5 Manikin",null,null,null,null,"Club to \nHighlight",null,null,{"$f":"'Data for points'!U5","v":0},{"$f":"CONCATENATE(\"University  Record=\",INT(T2/60),\" minS\",MOD(T2,60),\" secs\")","v":"University  Record=0 minS0 secs"}]
[]
[]
["A University(Boolean)","Club Name","Club Code","Leg1","Leg1CompettiorID","Leg2","Leg2CompettiorID","Leg3","Leg3CompettiorID","Leg4","Leg4CompettiorID","ID code",null,"Entry Time(Seconds)","Entry Time",null,"Time",null,null,"Time(seconds)","Finish \nStatus","TimeSand  DQs","Rank","Competition \nPlace","PointSCalculation","Lifesaving Points","Survive and Save Status","Squad List","Rank For \nSquadSMembers","Top Finisher for there Uni","Top finisher Select Competitor for ranking","Squad \nPoints","Uni Finishers","Student\n Points","Non-Uni Finishers","Non-Student \nPoints"]
[null,null,null,null,null,null,null,null,null,null,null,null,null,null,"Mins","Seconds","Mins","Seconds","1/100"]
[0,"RLSS Uk Preformace",80,"Daniel Weightman",3023,"Mark Chandler",3024,"Adam Threlfall",3016,"Ruari Hurson",3015,"S","M",57.38,{"$f":"INT(N7/60)","v":0},{"$f":"MOD(N7,60)","v":57.38},null,49,69,{"$f":"Q7*60+R7+S7/100","v":49.69},"Finished",{"$f":"IF(U7<>\"Finished\",IF(U7<=0,\"\",U7),IF(U7=\"Finished\",IF(T7<=0,\"\",T7),\"\"))","v":49.69},{"$f":"IF(OR(LEFT(V7,1)=\"D\",V7=\"\"),\"\",RANK(V7,$V$7:$V$46,1))","v":2},{"$f":"IF(LEFT(U7,1)=\"D\",MAX($W$7:$W$46)+1,W7)","v":2},{"$f":"(1-(T7-$T$2)/$T$2)*1000","v":{"$error":"#DIV/0!"}},{"$f":"IF(U7<>\"Finished\",\"\",IF(Y7<0,0,Y7))","v":{"$error":"#DIV/0!"}},{"$f":"IF(U7<>\"Finished\",\"\",VLOOKUP(T7,'Data for points'!$U$16:$Y$23,5,TRUE))","v":"Very Good"},{"$f":"IF(L7=\"S\",X7,\"\")","v":2},{"$f":"IF(AB7=\"\",\"\",RANK(AB7,$AB$7:$AB$46,1))","v":2},{"$f":"MIN(IF($C$7:$C$46=C7,$AC$7:$AC$46,\"\"))","v":2},{"$f":"IF(AD7=AC7,AD7,\"\")","v":2},{"$f":"IF(AE7=\"\",\"\",RANK(AE7,$AE$7:$AE$46,1))","v":2},{"$f":"IF(A7=1,AF7,\"\")","v":""},{"$f":"IF(AG7=\"\",\"\",RANK(AG7,$AG$7:$AG$46,1))","v":""},{"$f":"IF(A7=0,AF7,\"\")","v":2},{"$f":"IF(AI7=\"\",\"\",RANK(AI7,$AI$7:$AI$46,1))","v":2},{"$f":"IF(OR(U7<>\"Finished\",T7>$O$2),\"\",\"UR\")","v":""}]
[0,"East Kilbride",37,"Andrew McAllister",2971,"Callum Young",2961,"Iain Wilson",2964,"James Miller",2960,"S","M",60,{"$f":"INT(N8/60)","v":1},{"$f":"MOD(N8,60)","v":0},null,47,80,{"$f":"Q8*60+R8+S8/100","v":47.8},"Finished",{"$f":"IF(U8<>\"Finished\",IF(U8<=0,\"\",U8),IF(U8=\"Finished\",IF(T8<=0,\"\",T8),\"\"))","v":47.8},{"$f":"IF(OR(LEFT(V8,1)=\"D\",V8=\"\"),\"\",RANK(V8,$V$7:$V$46,1))","v":1},{"$f":"IF(LEFT(U8,1)=\"D\",MAX($W$7:$W$46)+1,W8)","v":1},{"$f":"(1-(T8-$T$2)/$T$2)*1000","v":{"$error":"#DIV/0!"}},{"$f":"IF(U8<>\"Finished\",\"\",IF(Y8<0,0,Y8))","v":{"$error":"#DIV/0!"}},{"$f":"IF(U8<>\"Finished\",\"\",VLOOKUP(T8,'Data for points'!$U$16:$Y$23,5,TRUE))","v":"Very Good"},{"$f":"IF(L8=\"S\",X8,\"\")","v":1},{"$f":"IF(AB8=\"\",\"\",RANK(AB8,$AB$7:$AB$46,1))","v":1},{"$f":"MIN(IF($C$7:$C$46=C8,$AC$7:$AC$46,\"\"))","v":1},{"$f":"IF(AD8=AC8,AD8,\"\")","v":1},{"$f":"IF(AE8=\"\",\"\",RANK(AE8,$AE$7:$AE$46,1))","v":1},"",{"$f":"IF(AG8=\"\",\"\",RANK(AG8,$AG$7:$AG$46,1))","v":""},{"$f":"IF(A8=0,AF8,\"\")","v":1},{"$f":"IF(AI8=\"\",\"\",RANK(AI8,$AI$7:$AI$46,1))","v":1},{"$f":"IF(OR(U8<>\"Finished\",T8>$O$2),\"\",\"UR\")","v":""}]
[null,null,null,null,null,null,null,null,null,null,null,null,null,null,0,0,null,null,null,0,null,"","","",{"$error":"#DIV/0!"},"",{"$f":"IF(U9<>\"Finished\",\"\",VLOOKUP(T9,'Data for points'!$U$16:$Y$23,5,TRUE))","v":""},"","",{"$f":"MIN(IF($C$7:$C$46=C9,$AC$7:$AC$46,\"\"))","v":0},"","","","","","",""]
[null,null,null,null,null,null,null,null,null,null,null,null,null,null,0,0,null,null,null,0,null,"","","",{"$error":"#DIV/0!"},"",{"$f":"IF(U10<>\"Finished\",\"\",VLOOKUP(T10,'Data for points'!$U$16:$Y$23,5,TRUE))","v":""},"","",{"$f":"MIN(IF($C$7:$C$46=C10,$AC$7:$AC$46,\"\"))","v":0},"","","","","","",""]
[null,null,null,null,null,null,null,null,null,null,null,null,null,null,0,0,null,null,null,0,null,"","","",{"$error":"#DIV/0!"},"",{"$f":"IF(U11<>\"Finished\",\"\",VLOOKUP(T11,'Data for points'!$U$16:$Y$23,5,TRUE))","v":""},"","",{"$f":"MIN(IF($C$7:$C$46=C11,$AC$7:$AC$46,\"\"))","v":0},"","","","","","",""]
[null,null,null,null,null,null,null,null,null,null,null,null,null,null,0,0,null,null,null,0,null,"","","",{"$error":"#DIV/0!"},"",{"$f":"IF(U12<>\"Finished\",\"\",VLOOKUP(T12,'Data for points'!$U$16:$Y$23,5,TRUE))","v":""},"","",{"$f":"MIN(IF($C$7:$C$46=C12,$AC$7:$AC$46,\"\"))","v":0},"","","","","","",""]
[null,null,null,null,null,null,null,null,null,null,null,null,null,null,0,0,null,null,null,0,null,"","","",{"$error":"#DIV/0!"},"",{"$f":"IF(U13<>\"Finished\",\"\",VLOOKUP(T13,'Data for points'!$U$16:$Y$23,5,TRUE))","v":""},"","",{"$f":"MIN(IF($C$7:$C$46=C13,$AC$7:$AC$46,\"\"))","v":0},"","","","","","",""]
[null,null,null,null,null,null,null,null,null,null,null,null,null,null,0,0,null,null,null,0,null,"","","",{"$error":"#DIV/0!"},"",{"$f":"IF(U14<>\"Finished\",\"\",VLOOKUP(T14,'Data for points'!$U$16:$Y$23,5,TRUE))","v":""},"","",{"$f":"MIN(IF($C$7:$C$46=C14,$AC$7:$AC$46,\"\"))","v":0},"","","","","","",""]
[null,null,null,null,null,null,null,null,null,null,null,null,null,null,0,0,null,null,null,0,null,"","","",{"$error":"#DIV/0!"},"",{"$f":"IF(U15<>\"Finished\",\"\",VLOOKUP(T15,'Data for points'!$U$16:$Y$23,5,TRUE))","v":""},"","",{"$f":"MIN(IF($C$7:$C$46=C15,$AC$7:$AC$46,\"\"))","v":0},"","","","","","",""]
[null,null,null,null,null,null,null,null,null,null,null,null,null,null,0,0,null,null,null,0,null,"","","",{"$error":"#DIV/0!"},"",{"$f":"IF(U16<>\"Finished\",\"\",VLOOKUP(T16,'Data for points'!$U$16:$Y$23,5,TRUE))","v":""},"","",{"$f":"MIN(IF($C$7:$C$46=C16,$AC$7:$AC$46,\"\"))","v":0},"","","","","","",""]
[null,null,null,null,null,null,null,null,null,null,null,null,null,null,0,0,null,null,null,0,null,"","","",{"$error":"#DIV/0!"},"",{"$f":"IF(U17<>\"Finished\",\"\",VLOOKUP(T17,'Data for points'!$U$16:$Y$23,5,TRUE))","v":""},"","",{"$f":"MIN(IF($C$7:$C$46=C17,$AC$7:$AC$46,\"\"))","v":0},"","","","","","",""]
[null,null,null,null,null,null,null,null,null,null,null,null,null,null,0,0,null,null,null,0,null,"","","",{"$error":"#DIV/0!"},"",{"$f":"IF(U18<>\"Finished\",\"\",VLOOKUP(T18,'Data for points'!$U$16:$Y$23,5,TRUE))","v":""},"","",{"$f":"MIN(IF($C$7:$C$46=C18,$AC$7:$AC$46,\"\"))","v":0},"","","","","","",""]
[null,null,null,null,null,null,null,null,null,null,null,null,null,null,0,0,null,null,null,0,null,"","","",{"$error":"#DIV/0!"},"",{"$f":"IF(U19<>\"Finished\",\"\",VLOOKUP(T19,'Data for points'!$U$16:$Y$23,5,TRUE))","v":""},"","",{"$f":"MIN(IF($C$7:$C$46=C19,$AC$7:$AC$46,\"\"))","v":0},"","","","","","",""]
[null,null,null,null,null,null,null,null,null,null,null,null,null,null,0,0,null,null,null,0,null,"","","",{"$error":"#DIV/0!"},"",{"$f":"IF(U20<>\"Finished\",\"\",VLOOKUP(T20,'Data for points'!$U$16:$Y$23,5,TRUE))","v":""},"","",{"$f":"MIN(IF($C$7:$C$46=C20,$AC$7:$AC$46,\"\"))","v":0},"","","","","","",""]
[null,null,null,null,null,null,null,null,null,null,null,null,null,null,0,0,null,null,null,0,null,"","","",{"$error":"#DIV/0!"},"",{"$f":"IF(U21<>\"Finished\",\"\",VLOOKUP(T21,'Data for points'!$U$16:$Y$23,5,TRUE))","v":""},"","",{"$f":"MIN(IF($C$7:$C$46=C21,$AC$7:$AC$46,\"\"))","v":0},"","","","","","",""]
[null,null,null,null,null,null,null,null,null,null,null,null,null,null,0,0,null,null,null,0,null,"","","",{"$error":"#DIV/0!"},"",{"$f":"IF(U22<>\"Finished\",\"\",VLOOKUP(T22,'Data for points'!$U$16:$Y$23,5,TRUE))","v":""},"","",{"$f":"MIN(IF($C$7:$C$46=C22,$AC$7:$AC$46,\"\"))","v":0},"","","","","","",""]
[null,null,null,null,null,null,null,null,null,null,null,null,null,null,0,0,null,null,null,0,null,"","","",{"$error":"#DIV/0!"},"",{"$f":"IF(U23<>\"Finished\",\"\",VLOOKUP(T23,'Data for points'!$U$16:$Y$23,5,TRUE))","v":""},"","",{"$f":"MIN(IF($C$7:$C$46=C23,$AC$7:$AC$46,\"\"))","v":0},"","","","","","",""]
[null,null,null,null,null,null,null,null,null,null,null,null,null,null,0,0,null,null,null,0,null,"","","",{"$error":"#DIV/0!"},"",{"$f":"IF(U24<>\"Finished\",\"\",VLOOKUP(T24,'Data for points'!$U$16:$Y$23,5,TRUE))","v":""},"","",{"$f":"MIN(IF($C$7:$C$46=C24,$AC$7:$AC$46,\"\"))","v":0},"","","","","","",""]
[null,null,null,null,null,null,null,null,null,null,null,null,null,null,0,0,null,null,null,0,null,"","","",{"$error":"#DIV/0!"},"",{"$f":"IF(U25<>\"Finished\",\"\",VLOOKUP(T25,'Data for points'!$U$16:$Y$23,5,TRUE))","v":""},"","",{"$f":"MIN(IF($C$7:$C$46=C25,$AC$7:$AC$46,\"\"))","v":0},"","","","","","",""]
[null,null,null,null,null,null,null,null,null,null,null,null,null,null,0,0,null,null,null,0,null,"","","",{"$error":"#DIV/0!"},"",{"$f":"IF(U26<>\"Finished\",\"\",VLOOKUP(T26,'Data for points'!$U$16:$Y$23,5,TRUE))","v":""},"","",{"$f":"MIN(IF($C$7:$C$46=C26,$AC$7:$AC$46,\"\"))","v":0},"","","","","","",""]
[null,null,null,null,null,null,null,null,null,null,null,null,null,null,0,0,null,null,null,0,null,"","","",{"$error":"#DIV/0!"},"",{"$f":"IF(U27<>\"Finished\",\"\",VLOOKUP(T27,'Data for points'!$U$16:$Y$23,5,TRUE))","v":""},"","",{"$f":"MIN(IF($C$7:$C$46=C27,$AC$7:$AC$46,\"\"))","v":0},"","","","","","",""]
[null,null,null,null,null,null,null,null,null,null,null,null,null,null,0,0,null,null,null,0,null,"","","",{"$error":"#DIV/0!"},"",{"$f":"IF(U28<>\"Finished\",\"\",VLOOKUP(T28,'Data for points'!$U$16:$Y$23,5,TRUE))","v":""},"","",{"$f":"MIN(IF($C$7:$C$46=C28,$AC$7:$AC$46,\"\"))","v":0},"","","","","","",""]
[null,null,null,null,null,null,null,null,null,null,null,null,null,null,0,0,null,null,null,0,null,"","","",{"$error":"#DIV/0!"},"",{"$f":"IF(U29<>\"Finished\",\"\",VLOOKUP(T29,'Data for points'!$U$16:$Y$23,5,TRUE))","v":""},"","",{"$f":"MIN(IF($C$7:$C$46=C29,$AC$7:$AC$46,\"\"))","v":0},"","","","","","",""]
[null,null,null,null,null,null,null,null,null,null,null,null,null,null,0,0,null,null,null,0,null,"","","",{"$error":"#DIV/0!"},"",{"$f":"IF(U30<>\"Finished\",\"\",VLOOKUP(T30,'Data for points'!$U$16:$Y$23,5,TRUE))","v":""},"","",{"$f":"MIN(IF($C$7:$C$46=C30,$AC$7:$AC$46,\"\"))","v":0},"","","","","","",""]
[null,null,null,null,null,null,null,null,null,null,null,null,null,null,0,0,null,null,null,0,null,"","","",{"$error":"#DIV/0!"},"",{"$f":"IF(U31<>\"Finished\",\"\",VLOOKUP(T31,'Data for points'!$U$16:$Y$23,5,TRUE))","v":""},"","",{"$f":"MIN(IF($C$7:$C$46=C31,$AC$7:$AC$46,\"\"))","v":0},"","","","","","",""]
[null,null,null,null,null,null,null,null,null,null,null,null,null,null,0,0,null,null,null,0,null,"","","",{"$error":"#DIV/0!"},"",{"$f":"IF(U32<>\"Finished\",\"\",VLOOKUP(T32,'Data for points'!$U$16:$Y$23,5,TRUE))","v":""},"","",{"$f":"MIN(IF($C$7:$C$46=C32,$AC$7:$AC$46,\"\"))","v":0},"","","","","","",""]
[null,null,null,null,null,null,null,null,null,null,null,null,null,null,0,0,null,null,null,0,null,"","","",{"$error":"#DIV/0!"},"",{"$f":"IF(U33<>\"Finished\",\"\",VLOOKUP(T33,'Data for points'!$U$16:$Y$23,5,TRUE))","v":""},"","",{"$f":"MIN(IF($C$7:$C$46=C33,$AC$7:$AC$46,\"\"))","v":0},"","","","","","",""]
[null,null,null,null,null,null,null,null,null,null,null,null,null,null,0,0,null,null,null,0,null,"","","",{"$error":"#DIV/0!"},"",{"$f":"IF(U34<>\"Finished\",\"\",VLOOKUP(T34,'Data for points'!$U$16:$Y$23,5,TRUE))","v":""},"","",{"$f":"MIN(IF($C$7:$C$46=C34,$AC$7:$AC$46,\"\"))","v":0},"","","","","","",""]
[null,null,null,null,null,null,null,null,null,null,null,null,null,null,0,0,null,null,null,0,null,"","","",{"$error":"#DIV/0!"},"",{"$f":"IF(U35<>\"Finished\",\"\",VLOOKUP(T35,'Data for points'!$U$16:$Y$23,5,TRUE))","v":""},"","",{"$f":"MIN(IF($C$7:$C$46=C35,$AC$7:$AC$46,\"\"))","v":0},"","","","","","",""]
[null,null,null,null,null,null,null,null,null,null,null,null,null,null,0,0,null,null,null,0,null,"","","",{"$error":"#DIV/0!"},"",{"$f":"IF(U36<>\"Finished\",\"\",VLOOKUP(T36,'Data for points'!$U$16:$Y$23,5,TRUE))","v":""},"","",{"$f":"MIN(IF($C$7:$C$46=C36,$AC$7:$AC$46,\"\"))","v":0},"","","","","","",""]
[null,null,null,null,null,null,null,null,null,null,null,null,null,null,0,0,null,null,null,0,null,"","","",{"$error":"#DIV/0!"},"",{"$f":"IF(U37<>\"Finished\",\"\",VLOOKUP(T37,'Data for points'!$U$16:$Y$23,5,TRUE))","v":""},"","",{"$f":"MIN(IF($C$7:$C$46=C37,$AC$7:$AC$46,\"\"))","v":0},"","","","","","",""]
[null,null,null,null,null,null,null,null,null,null,null,null,null,null,0,0,null,null,null,0,null,"","","",{"$error":"#DIV/0!"},"",{"$f":"IF(U38<>\"Finished\",\"\",VLOOKUP(T38,'Data for points'!$U$16:$Y$23,5,TRUE))","v":""},"","",{"$f":"MIN(IF($C$7:$C$46=C38,$AC$7:$AC$46,\"\"))","v":0},"","","","","","",""]
[null,null,null,null,null,null,null,null,null,null,null,null,null,null,0,0,null,null,null,0,null,"","","",{"$error":"#DIV/0!"},"",{"$f":"IF(U39<>\"Finished\",\"\",VLOOKUP(T39,'Data for points'!$U$16:$Y$23,5,TRUE))","v":""},"","",{"$f":"MIN(IF($C$7:$C$46=C39,$AC$7:$AC$46,\"\"))","v":0},"","","","","","",""]
[null,null,null,null,null,null,null,null,null,null,null,null,null,null,0,0,null,null,null,0,null,"","","",{"$error":"#DIV/0!"},"",{"$f":"IF(U40<>\"Finished\",\"\",VLOOKUP(T40,'Data for points'!$U$16:$Y$23,5,TRUE))","v":""},"","",{"$f":"MIN(IF($C$7:$C$46=C40,$AC$7:$AC$46,\"\"))","v":0},"","","","","","",""]
[null,null,null,null,null,null,null,null,null,null,null,null,null,null,0,0,null,null,null,0,null,"","","",{"$error":"#DIV/0!"},"",{"$f":"IF(U41<>\"Finished\",\"\",VLOOKUP(T41,'Data for points'!$U$16:$Y$23,5,TRUE))","v":""},"","",{"$f":"MIN(IF($C$7:$C$46=C41,$AC$7:$AC$46,\"\"))","v":0},"","","","","","",""]
[null,null,null,null,null,null,null,null,null,null,null,null,null,null,0,0,null,null,null,0,null,"","","",{"$error":"#DIV/0!"},"",{"$f":"IF(U42<>\"Finished\",\"\",VLOOKUP(T42,'Data for points'!$U$16:$Y$23,5,TRUE))","v":""},"","",{"$f":"MIN(IF($C$7:$C$46=C42,$AC$7:$AC$46,\"\"))","v":0},"","","","","","",""]
[null,null,null,null,null,null,null,null,null,null,null,null,null,null,0,0,null,null,null,0,null,"","","",{"$error":"#DIV/0!"},"",{"$f":"IF(U43<>\"Finished\",\"\",VLOOKUP(T43,'Data for points'!$U$16:$Y$23,5,TRUE))","v":""},"","",{"$f":"MIN(IF($C$7:$C$46=C43,$AC$7:$AC$46,\"\"))","v":0},"","","","","","",""]
[null,null,null,null,null,null,null,null,null,null,null,null,null,null,0,0,null,null,null,0,null,"","","",{"$error":"#DIV/0!"},"",{"$f":"IF(U44<>\"Finished\",\"\",VLOOKUP(T44,'Data for points'!$U$16:$Y$23,5,TRUE))","v":""},"","",{"$f":"MIN(IF($C$7:$C$46=C44,$AC$7:$AC$46,\"\"))","v":0},"","","","","","",""]
[null,null,null,null,null,null,null,null,null,null,null,null,null,null,0,0,null,null,null,0,null,"","","",{"$error":"#DIV/0!"},"",{"$f":"IF(U45<>\"Finished\",\"\",VLOOKUP(T45,'Data for points'!$U$16:$Y$23,5,TRUE))","v":""},"","",{"$f":"MIN(IF($C$7:$C$46=C45,$AC$7:$AC$46,\"\"))","v":0},"","","","","","",""]
[null,null,null,null,null,null,null,null,null,null,null,null,null,null,0,0,null,null,null,0,null,"","","",{"$error":"#DIV/0!"},"",{"$f":"IF(U46<>\"Finished\",\"\",VLOOKUP(T46,'Data for points'!$U$16:$Y$23,5,TRUE))","v":""},"","",{"$f":"MIN(IF($C$7:$C$46=C46,$AC$7:$AC$46,\"\"))","v":0},"","","","","","",""]
[]
[]
[]
[]
[]
[]
[]
[]
[]
[]
[]
[]
[]
[]
[]
[]
[]
[]
[]
[]
[]
[]
[]
[]
[]
[]
[]
[]
[]
[]
[]
[]
[]
[]
[]
[]
[]
[]
[]
[]
[]
[]
[]
[]
[]
[]
[]
[]
[]
[]
[]
[]
[]
[null,null,null,null,null,null,null,null,null,null,null,null,null,null,null,null,null,null,null,null,"Finished"]
[null,null,null,null,null,null,null,null,null,null,null,null,null,null,null,null,null,null,null,null,"Disqualified"]

{"sheet":"4 x 50 Obs Relay Men","index":43,"n_rows":101,"n_cols":37,"rows_kept":101,"cut":false,"hidden":true,"merged":[[4,11,4,12],[4,14,4,15],[4,16,4,18],[1,16,1,17]]}
[null,null,null,null,null,null,null,null,null,null,null,null,null,null,null,null,null,null,null,"UR in seconds"]
[null,"Men's",null,null,null,null,null,null,null,null,null,"4 x 50 Obs",null,null,null,null,"Club to \nHighlight",null,null,{"$f":"'Data for points'!I5","v":0},{"$f":"CONCATENATE(\"University  Record=\",INT(T2/60),\" minS\",MOD(T2,60),\" secs\")","v":"University  Record=0 minS0 secs"}]
[]
[]
["A University(Boolean)","Club Name","Club Code","Leg1","Leg1CompettiorID","Leg2","Leg2CompettiorID","Leg3","Leg3CompettiorID","Leg4","Leg4CompettiorID","ID code",null,"Entry Time(Seconds)","Entry Time",null,"Time",null,null,"Time(seconds)","Finish \nStatus","TimeSand  DQs","Rank","Competition \nPlace","PointSCalculation","Lifesaving Points","Survive and Save Status","Squad List","Rank For \nSquadSMembers","Top Finisher for there Uni","Top finisher Select Competitor for ranking","Squad \nPoints","Uni Finishers","Student\n Points","Non-Uni Finishers","Non-Student \nPoints"]
[null,null,null,null,null,null,null,null,null,null,null,null,null,null,"Mins","Seconds","Mins","Seconds","1/100"]
[null,null,null,null,null,null,null,null,null,null,null,null,null,null,{"$f":"INT(N7/60)","v":0},{"$f":"MOD(N7,60)","v":0},null,null,null,{"$f":"Q7*60+R7+S7/100","v":0},null,{"$f":"IF(U7<>\"Finished\",IF(U7<=0,\"\",U7),IF(U7=\"Finished\",IF(T7<=0,\"\",T7),\"\"))","v":""},{"$f":"IF(OR(LEFT(V7,1)=\"D\",V7=\"\"),\"\",RANK(V7,$V$7:$V$46,1))","v":""},{"$f":"IF(LEFT(U7,1)=\"D\",MAX($W$7:$W$46)+1,W7)","v":""},{"$f":"(1-(T7-$T$2)/$T$2)*1000","v":{"$error":"#DIV/0!"}},{"$f":"IF(U7<>\"Finished\",\"\",IF(Y7<0,0,Y7))","v":""},{"$f":"IF(U7<>\"Finished\",\"\",VLOOKUP(T7,'Data for points'!$I$16:$Y$23,15,TRUE))","v":""},{"$f":"IF(L7=\"S\",X7,\"\")","v":""},{"$f":"IF(AB7=\"\",\"\",RANK(AB7,$AB$7:$AB$46,1))","v":""},{"$f":"MIN(IF($C$7:$C$46=C7,$AC$7:$AC$46,\"\"))","v":0},{"$f":"IF(AD7=AC7,AD7,\"\")","v":""},{"$f":"IF(AE7=\"\",\"\",RANK(AE7,$AE$7:$AE$46,1))","v":""},{"$f":"IF(A7=1,AF7,\"\")","v":""},{"$f":"IF(AG7=\"\",\"\",RANK(AG7,$AG$7:$AG$46,1))","v":""},{"$f":"IF(A7=0,AF7,\"\")","v":""},{"$f":"IF(AI7=\"\",\"\",RANK(AI7,$AI$7:$AI$46,1))","v":""},{"$f":"IF(OR(U7<>\"Finished\",T7>$O$2),\"\",\"UR\")","v":""}]
[null,null,null,null,null,null,null,null,null,null,null,null,null,null,{"$f":"INT(N8/60)","v":0},{"$f":"MOD(N8,60)","v":0},null,null,null,{"$f":"Q8*60+R8+S8/100","v":0},null,{"$f":"IF(U8<>\"Finished\",IF(U8<=0,\"\",U8),IF(U8=\"Finished\",IF(T8<=0,\"\",T8),\"\"))","v":""},{"$f":"IF(OR(LEFT(V8,1)=\"D\",V8=\"\"),\"\",RANK(V8,$V$7:$V$46,1))","v":""},{"$f":"IF(LEFT(U8,1)=\"D\",MAX($W$7:$W$46)+1,W8)","v":""},{"$f":"(1-(T8-$T$2)/$T$2)*1000","v":{"$error":"#DIV/0!"}},{"$f":"IF(U8<>\"Finished\",\"\",IF(Y8<0,0,Y8))","v":""},{"$f":"IF(U8<>\"Finished\",\"\",VLOOKUP(T8,'Data for points'!$I$16:$Y$23,15,TRUE))","v":""},{"$f":"IF(L8=\"S\",X8,\"\")","v":""},{"$f":"IF(AB8=\"\",\"\",RANK(AB8,$AB$7:$AB$46,1))","v":""},{"$f":"MIN(IF($C$7:$C$46=C8,$AC$7:$AC$46,\"\"))","v":0},{"$f":"IF(AD8=AC8,AD8,\"\")","v":""},{"$f":"IF(AE8=\"\",\"\",RANK(AE8,$AE$7:$AE$46,1))","v":""},"",{"$f":"IF(AG8=\"\",\"\",RANK(AG8,$AG$7:$AG$46,1))","v":""},{"$f":"IF(A8=0,AF8,\"\")","v":""},{"$f":"IF(AI8=\"\",\"\",RANK(AI8,$AI$7:$AI$46,1))","v":""},{"$f":"IF(OR(U8<>\"Finished\",T8>$O$2),\"\",\"UR\")","v":""}]
[null,null,null,null,null,null,null,null,null,null,null,null,null,null,0,0,null,null,null,0,null,"","","",{"$error":"#DIV/0!"},"",{"$f":"IF(U9<>\"Finished\",\"\",VLOOKUP(T9,'Data for points'!$I$16:$Y$23,15,TRUE))","v":""},"","",{"$f":"MIN(IF($C$7:$C$46=C9,$AC$7:$AC$46,\"\"))","v":0},"","","","","","",""]
[null,null,null,null,null,null,null,null,null,null,null,null,null,null,0,0,null,null,null,0,null,"","","",{"$error":"#DIV/0!"},"",{"$f":"IF(U10<>\"Finished\",\"\",VLOOKUP(T10,'Data for points'!$I$16:$Y$23,15,TRUE))","v":""},"","",{"$f":"MIN(IF($C$7:$C$46=C10,$AC$7:$AC$46,\"\"))","v":0},"","","","","","",""]
[null,null,null,null,null,null,null,null,null,null,null,null,null,null,0,0,null,null,null,0,null,"","","",{"$error":"#DIV/0!"},"",{"$f":"IF(U11<>\"Finished\",\"\",VLOOKUP(T11,'Data for points'!$I$16:$Y$23,15,TRUE))","v":""},"","",{"$f":"MIN(IF($C$7:$C$46=C11,$AC$7:$AC$46,\"\"))","v":0},"","","","","","",""]
[null,null,null,null,null,null,null,null,null,null,null,null,null,null,0,0,null,null,null,0,null,"","","",{"$error":"#DIV/0!"},"",{"$f":"IF(U12<>\"Finished\",\"\",VLOOKUP(T12,'Data for points'!$I$16:$Y$23,15,TRUE))","v":""},"","",{"$f":"MIN(IF($C$7:$C$46=C12,$AC$7:$AC$46,\"\"))","v":0},"","","","","","",""]
[null,null,null,null,null,null,null,null,null,null,null,null,null,null,0,0,null,null,null,0,null,"","","",{"$error":"#DIV/0!"},"",{"$f":"IF(U13<>\"Finished\",\"\",VLOOKUP(T13,'Data for points'!$I$16:$Y$23,15,TRUE))","v":""},"","",{"$f":"MIN(IF($C$7:$C$46=C13,$AC$7:$AC$46,\"\"))","v":0},"","","","","","",""]
[null,null,null,null,null,null,null,null,null,null,null,null,null,null,0,0,null,null,null,0,null,"","","",{"$error":"#DIV/0!"},"",{"$f":"IF(U14<>\"Finished\",\"\",VLOOKUP(T14,'Data for points'!$I$16:$Y$23,15,TRUE))","v":""},"","",{"$f":"MIN(IF($C$7:$C$46=C14,$AC$7:$AC$46,\"\"))","v":0},"","","","","","",""]
[null,null,null,null,null,null,null,null,null,null,null,null,null,null,0,0,null,null,null,0,null,"","","",{"$error":"#DIV/0!"},"",{"$f":"IF(U15<>\"Finished\",\"\",VLOOKUP(T15,'Data for points'!$I$16:$Y$23,15,TRUE))","v":""},"","",{"$f":"MIN(IF($C$7:$C$46=C15,$AC$7:$AC$46,\"\"))","v":0},"","","","","","",""]
[null,null,null,null,null,null,null,null,null,null,null,null,null,null,0,0,null,null,null,0,null,"","","",{"$error":"#DIV/0!"},"",{"$f":"IF(U16<>\"Finished\",\"\",VLOOKUP(T16,'Data for points'!$I$16:$Y$23,15,TRUE))","v":""},"","",{"$f":"MIN(IF($C$7:$C$46=C16,$AC$7:$AC$46,\"\"))","v":0},"","","","","","",""]
[null,null,null,null,null,null,null,null,null,null,null,null,null,null,0,0,null,null,null,0,null,"","","",{"$error":"#DIV/0!"},"",{"$f":"IF(U17<>\"Finished\",\"\",VLOOKUP(T17,'Data for points'!$I$16:$Y$23,15,TRUE))","v":""},"","",{"$f":"MIN(IF($C$7:$C$46=C17,$AC$7:$AC$46,\"\"))","v":0},"","","","","","",""]
[null,null,null,null,null,null,null,null,null,null,null,null,null,null,0,0,null,null,null,0,null,"","","",{"$error":"#DIV/0!"},"",{"$f":"IF(U18<>\"Finished\",\"\",VLOOKUP(T18,'Data for points'!$I$16:$Y$23,15,TRUE))","v":""},"","",{"$f":"MIN(IF($C$7:$C$46=C18,$AC$7:$AC$46,\"\"))","v":0},"","","","","","",""]
[null,null,null,null,null,null,null,null,null,null,null,null,null,null,0,0,null,null,null,0,null,"","","",{"$error":"#DIV/0!"},"",{"$f":"IF(U19<>\"Finished\",\"\",VLOOKUP(T19,'Data for points'!$I$16:$Y$23,15,TRUE))","v":""},"","",{"$f":"MIN(IF($C$7:$C$46=C19,$AC$7:$AC$46,\"\"))","v":0},"","","","","","",""]
[null,null,null,null,null,null,null,null,null,null,null,null,null,null,0,0,null,null,null,0,null,"","","",{"$error":"#DIV/0!"},"",{"$f":"IF(U20<>\"Finished\",\"\",VLOOKUP(T20,'Data for points'!$I$16:$Y$23,15,TRUE))","v":""},"","",{"$f":"MIN(IF($C$7:$C$46=C20,$AC$7:$AC$46,\"\"))","v":0},"","","","","","",""]
[null,null,null,null,null,null,null,null,null,null,null,null,null,null,0,0,null,null,null,0,null,"","","",{"$error":"#DIV/0!"},"",{"$f":"IF(U21<>\"Finished\",\"\",VLOOKUP(T21,'Data for points'!$I$16:$Y$23,15,TRUE))","v":""},"","",{"$f":"MIN(IF($C$7:$C$46=C21,$AC$7:$AC$46,\"\"))","v":0},"","","","","","",""]
[null,null,null,null,null,null,null,null,null,null,null,null,null,null,0,0,null,null,null,0,null,"","","",{"$error":"#DIV/0!"},"",{"$f":"IF(U22<>\"Finished\",\"\",VLOOKUP(T22,'Data for points'!$I$16:$Y$23,15,TRUE))","v":""},"","",{"$f":"MIN(IF($C$7:$C$46=C22,$AC$7:$AC$46,\"\"))","v":0},"","","","","","",""]
[null,null,null,null,null,null,null,null,null,null,null,null,null,null,0,0,null,null,null,0,null,"","","",{"$error":"#DIV/0!"},"",{"$f":"IF(U23<>\"Finished\",\"\",VLOOKUP(T23,'Data for points'!$I$16:$Y$23,15,TRUE))","v":""},"","",{"$f":"MIN(IF($C$7:$C$46=C23,$AC$7:$AC$46,\"\"))","v":0},"","","","","","",""]
[null,null,null,null,null,null,null,null,null,null,null,null,null,null,0,0,null,null,null,0,null,"","","",{"$error":"#DIV/0!"},"",{"$f":"IF(U24<>\"Finished\",\"\",VLOOKUP(T24,'Data for points'!$I$16:$Y$23,15,TRUE))","v":""},"","",{"$f":"MIN(IF($C$7:$C$46=C24,$AC$7:$AC$46,\"\"))","v":0},"","","","","","",""]
[null,null,null,null,null,null,null,null,null,null,null,null,null,null,0,0,null,null,null,0,null,"","","",{"$error":"#DIV/0!"},"",{"$f":"IF(U25<>\"Finished\",\"\",VLOOKUP(T25,'Data for points'!$I$16:$Y$23,15,TRUE))","v":""},"","",{"$f":"MIN(IF($C$7:$C$46=C25,$AC$7:$AC$46,\"\"))","v":0},"","","","","","",""]
[null,null,null,null,null,null,null,null,null,null,null,null,null,null,0,0,null,null,null,0,null,"","","",{"$error":"#DIV/0!"},"",{"$f":"IF(U26<>\"Finished\",\"\",VLOOKUP(T26,'Data for points'!$I$16:$Y$23,15,TRUE))","v":""},"","",{"$f":"MIN(IF($C$7:$C$46=C26,$AC$7:$AC$46,\"\"))","v":0},"","","","","","",""]
[null,null,null,null,null,null,null,null,null,null,null,null,null,null,0,0,null,null,null,0,null,"","","",{"$error":"#DIV/0!"},"",{"$f":"IF(U27<>\"Finished\",\"\",VLOOKUP(T27,'Data for points'!$I$16:$Y$23,15,TRUE))","v":""},"","",{"$f":"MIN(IF($C$7:$C$46=C27,$AC$7:$AC$46,\"\"))","v":0},"","","","","","",""]
[null,null,null,null,null,null,null,null,null,null,null,null,null,null,0,0,null,null,null,0,null,"","","",{"$error":"#DIV/0!"},"",{"$f":"IF(U28<>\"Finished\",\"\",VLOOKUP(T28,'Data for points'!$I$16:$Y$23,15,TRUE))","v":""},"","",{"$f":"MIN(IF($C$7:$C$46=C28,$AC$7:$AC$46,\"\"))","v":0},"","","","","","",""]
[null,null,null,null,null,null,null,null,null,null,null,null,null,null,0,0,null,null,null,0,null,"","","",{"$error":"#DIV/0!"},"",{"$f":"IF(U29<>\"Finished\",\"\",VLOOKUP(T29,'Data for points'!$I$16:$Y$23,15,TRUE))","v":""},"","",{"$f":"MIN(IF($C$7:$C$46=C29,$AC$7:$AC$46,\"\"))","v":0},"","","","","","",""]
[null,null,null,null,null,null,null,null,null,null,null,null,null,null,0,0,null,null,null,0,null,"","","",{"$error":"#DIV/0!"},"",{"$f":"IF(U30<>\"Finished\",\"\",VLOOKUP(T30,'Data for points'!$I$16:$Y$23,15,TRUE))","v":""},"","",{"$f":"MIN(IF($C$7:$C$46=C30,$AC$7:$AC$46,\"\"))","v":0},"","","","","","",""]
[null,null,null,null,null,null,null,null,null,null,null,null,null,null,0,0,null,null,null,0,null,"","","",{"$error":"#DIV/0!"},"",{"$f":"IF(U31<>\"Finished\",\"\",VLOOKUP(T31,'Data for points'!$I$16:$Y$23,15,TRUE))","v":""},"","",{"$f":"MIN(IF($C$7:$C$46=C31,$AC$7:$AC$46,\"\"))","v":0},"","","","","","",""]
[null,null,null,null,null,null,null,null,null,null,null,null,null,null,0,0,null,null,null,0,null,"","","",{"$error":"#DIV/0!"},"",{"$f":"IF(U32<>\"Finished\",\"\",VLOOKUP(T32,'Data for points'!$I$16:$Y$23,15,TRUE))","v":""},"","",{"$f":"MIN(IF($C$7:$C$46=C32,$AC$7:$AC$46,\"\"))","v":0},"","","","","","",""]
[null,null,null,null,null,null,null,null,null,null,null,null,null,null,0,0,null,null,null,0,null,"","","",{"$error":"#DIV/0!"},"",{"$f":"IF(U33<>\"Finished\",\"\",VLOOKUP(T33,'Data for points'!$I$16:$Y$23,15,TRUE))","v":""},"","",{"$f":"MIN(IF($C$7:$C$46=C33,$AC$7:$AC$46,\"\"))","v":0},"","","","","","",""]
[null,null,null,null,null,null,null,null,null,null,null,null,null,null,0,0,null,null,null,0,null,"","","",{"$error":"#DIV/0!"},"",{"$f":"IF(U34<>\"Finished\",\"\",VLOOKUP(T34,'Data for points'!$I$16:$Y$23,15,TRUE))","v":""},"","",{"$f":"MIN(IF($C$7:$C$46=C34,$AC$7:$AC$46,\"\"))","v":0},"","","","","","",""]
[null,null,null,null,null,null,null,null,null,null,null,null,null,null,0,0,null,null,null,0,null,"","","",{"$error":"#DIV/0!"},"",{"$f":"IF(U35<>\"Finished\",\"\",VLOOKUP(T35,'Data for points'!$I$16:$Y$23,15,TRUE))","v":""},"","",{"$f":"MIN(IF($C$7:$C$46=C35,$AC$7:$AC$46,\"\"))","v":0},"","","","","","",""]
[null,null,null,null,null,null,null,null,null,null,null,null,null,null,0,0,null,null,null,0,null,"","","",{"$error":"#DIV/0!"},"",{"$f":"IF(U36<>\"Finished\",\"\",VLOOKUP(T36,'Data for points'!$I$16:$Y$23,15,TRUE))","v":""},"","",{"$f":"MIN(IF($C$7:$C$46=C36,$AC$7:$AC$46,\"\"))","v":0},"","","","","","",""]
[null,null,null,null,null,null,null,null,null,null,null,null,null,null,0,0,null,null,null,0,null,"","","",{"$error":"#DIV/0!"},"",{"$f":"IF(U37<>\"Finished\",\"\",VLOOKUP(T37,'Data for points'!$I$16:$Y$23,15,TRUE))","v":""},"","",{"$f":"MIN(IF($C$7:$C$46=C37,$AC$7:$AC$46,\"\"))","v":0},"","","","","","",""]
[null,null,null,null,null,null,null,null,null,null,null,null,null,null,0,0,null,null,null,0,null,"","","",{"$error":"#DIV/0!"},"",{"$f":"IF(U38<>\"Finished\",\"\",VLOOKUP(T38,'Data for points'!$I$16:$Y$23,15,TRUE))","v":""},"","",{"$f":"MIN(IF($C$7:$C$46=C38,$AC$7:$AC$46,\"\"))","v":0},"","","","","","",""]
[null,null,null,null,null,null,null,null,null,null,null,null,null,null,0,0,null,null,null,0,null,"","","",{"$error":"#DIV/0!"},"",{"$f":"IF(U39<>\"Finished\",\"\",VLOOKUP(T39,'Data for points'!$I$16:$Y$23,15,TRUE))","v":""},"","",{"$f":"MIN(IF($C$7:$C$46=C39,$AC$7:$AC$46,\"\"))","v":0},"","","","","","",""]
[null,null,null,null,null,null,null,null,null,null,null,null,null,null,0,0,null,null,null,0,null,"","","",{"$error":"#DIV/0!"},"",{"$f":"IF(U40<>\"Finished\",\"\",VLOOKUP(T40,'Data for points'!$I$16:$Y$23,15,TRUE))","v":""},"","",{"$f":"MIN(IF($C$7:$C$46=C40,$AC$7:$AC$46,\"\"))","v":0},"","","","","","",""]
[null,null,null,null,null,null,null,null,null,null,null,null,null,null,0,0,null,null,null,0,null,"","","",{"$error":"#DIV/0!"},"",{"$f":"IF(U41<>\"Finished\",\"\",VLOOKUP(T41,'Data for points'!$I$16:$Y$23,15,TRUE))","v":""},"","",{"$f":"MIN(IF($C$7:$C$46=C41,$AC$7:$AC$46,\"\"))","v":0},"","","","","","",""]
[null,null,null,null,null,null,null,null,null,null,null,null,null,null,0,0,null,null,null,0,null,"","","",{"$error":"#DIV/0!"},"",{"$f":"IF(U42<>\"Finished\",\"\",VLOOKUP(T42,'Data for points'!$I$16:$Y$23,15,TRUE))","v":""},"","",{"$f":"MIN(IF($C$7:$C$46=C42,$AC$7:$AC$46,\"\"))","v":0},"","","","","","",""]
[null,null,null,null,null,null,null,null,null,null,null,null,null,null,0,0,null,null,null,0,null,"","","",{"$error":"#DIV/0!"},"",{"$f":"IF(U43<>\"Finished\",\"\",VLOOKUP(T43,'Data for points'!$I$16:$Y$23,15,TRUE))","v":""},"","",{"$f":"MIN(IF($C$7:$C$46=C43,$AC$7:$AC$46,\"\"))","v":0},"","","","","","",""]
[null,null,null,null,null,null,null,null,null,null,null,null,null,null,0,0,null,null,null,0,null,"","","",{"$error":"#DIV/0!"},"",{"$f":"IF(U44<>\"Finished\",\"\",VLOOKUP(T44,'Data for points'!$I$16:$Y$23,15,TRUE))","v":""},"","",{"$f":"MIN(IF($C$7:$C$46=C44,$AC$7:$AC$46,\"\"))","v":0},"","","","","","",""]
[null,null,null,null,null,null,null,null,null,null,null,null,null,null,0,0,null,null,null,0,null,"","","",{"$error":"#DIV/0!"},"",{"$f":"IF(U45<>\"Finished\",\"\",VLOOKUP(T45,'Data for points'!$I$16:$Y$23,15,TRUE))","v":""},"","",{"$f":"MIN(IF($C$7:$C$46=C45,$AC$7:$AC$46,\"\"))","v":0},"","","","","","",""]
[null,null,null,null,null,null,null,null,null,null,null,null,null,null,0,0,null,null,null,0,null,"","","",{"$error":"#DIV/0!"},"",{"$f":"IF(U46<>\"Finished\",\"\",VLOOKUP(T46,'Data for points'!$I$16:$Y$23,15,TRUE))","v":""},"","",{"$f":"MIN(IF($C$7:$C$46=C46,$AC$7:$AC$46,\"\"))","v":0},"","","","","","",""]
[]
[]
[]
[]
[]
[]
[]
[]
[]
[]
[]
[]
[]
[]
[]
[]
[]
[]
[]
[]
[]
[]
[]
[]
[]
[]
[]
[]
[]
[]
[]
[]
[]
[]
[]
[]
[]
[]
[]
[]
[]
[]
[]
[]
[]
[]
[]
[]
[]
[]
[]
[]
[]
[null,null,null,null,null,null,null,null,null,null,null,null,null,null,null,null,null,null,null,null,"Finished"]
[null,null,null,null,null,null,null,null,null,null,null,null,null,null,null,null,null,null,null,null,"Disqualified"]

{"sheet":"4 x 50 Obs Relay Women","index":44,"n_rows":101,"n_cols":37,"rows_kept":101,"cut":false,"hidden":true,"merged":[[4,11,4,12],[4,14,4,15],[4,16,4,18],[1,16,1,17]]}
[null,null,null,null,null,null,null,null,null,null,null,null,null,null,null,null,null,null,null,"UR in seconds"]
[null,"Women's",null,null,null,null,null,null,null,null,null,"4 x 50 Obs",null,null,null,null,"Club to \nHighlight",null,null,{"$f":"'Data for points'!I6","v":0},{"$f":"CONCATENATE(\"University  Record=\",INT(T2/60),\" minS\",MOD(T2,60),\" secs\")","v":"University  Record=0 minS0 secs"}]
[]
[]
["A University(Boolean)","Club Name","Club Code","Leg1","Leg1CompettiorID","Leg2","Leg2CompettiorID","Leg3","Leg3CompettiorID","Leg4","Leg4CompettiorID","ID code",null,"Entry Time(Seconds)","Entry Time",null,"Time",null,null,"Time(seconds)","Finish \nStatus","TimeSand  DQs","Rank","Competition \nPlace","PointSCalculation","Lifesaving Points","Survive and Save Status","Squad List","Rank For \nSquadSMembers","Top Finisher for there Uni","Top finisher Select Competitor for ranking","Squad \nPoints","Uni Finishers","Student \nPoints","Non-Uni Finishers","Non-Student \nPoints"]
[null,null,null,null,null,null,null,null,null,null,null,null,null,null,"Mins","Seconds","Mins","Seconds","1/100"]
[null,null,null,null,null,null,null,null,null,null,null,null,null,null,{"$f":"INT(N7/60)","v":0},{"$f":"MOD(N7,60)","v":0},null,null,null,{"$f":"Q7*60+R7+S7/100","v":0},null,{"$f":"IF(U7<>\"Finished\",IF(U7<=0,\"\",U7),IF(U7=\"Finished\",IF(T7<=0,\"\",T7),\"\"))","v":""},{"$f":"IF(OR(LEFT(V7,1)=\"D\",V7=\"\"),\"\",RANK(V7,$V$7:$V$46,1))","v":""},{"$f":"IF(LEFT(U7,1)=\"D\",MAX($W$7:$W$46)+1,W7)","v":""},{"$f":"(1-(T7-$T$2)/$T$2)*1000","v":{"$error":"#DIV/0!"}},{"$f":"IF(U7<>\"Finished\",\"\",IF(Y7<0,0,Y7))","v":""},{"$f":"IF(U7<>\"Finished\",\"\",VLOOKUP(T7,'Data for points'!$I$26:$Y$33,15,TRUE))","v":""},{"$f":"IF(L7=\"S\",X7,\"\")","v":""},{"$f":"IF(AB7=\"\",\"\",RANK(AB7,$AB$7:$AB$46,1))","v":""},{"$f":"MIN(IF($C$7:$C$46=C7,$AC$7:$AC$46,\"\"))","v":0},{"$f":"IF(AD7=AC7,AD7,\"\")","v":""},{"$f":"IF(AE7=\"\",\"\",RANK(AE7,$AE$7:$AE$46,1))","v":""},{"$f":"IF(A7=1,AF7,\"\")","v":""},{"$f":"IF(AG7=\"\",\"\",RANK(AG7,$AG$7:$AG$46,1))","v":""},{"$f":"IF(A7=0,AF7,\"\")","v":""},{"$f":"IF(AI7=\"\",\"\",RANK(AI7,$AI$7:$AI$46,1))","v":""},{"$f":"IF(OR(U7<>\"Finished\",T7>$O$2),\"\",\"UR\")","v":""}]
[null,null,null,null,null,null,null,null,null,null,null,null,null,null,{"$f":"INT(N8/60)","v":0},{"$f":"MOD(N8,60)","v":0},null,null,null,{"$f":"Q8*60+R8+S8/100","v":0},null,{"$f":"IF(U8<>\"Finished\",IF(U8<=0,\"\",U8),IF(U8=\"Finished\",IF(T8<=0,\"\",T8),\"\"))","v":""},{"$f":"IF(OR(LEFT(V8,1)=\"D\",V8=\"\"),\"\",RANK(V8,$V$7:$V$46,1))","v":""},{"$f":"IF(LEFT(U8,1)=\"D\",MAX($W$7:$W$46)+1,W8)","v":""},{"$f":"(1-(T8-$T$2)/$T$2)*1000","v":{"$error":"#DIV/0!"}},{"$f":"IF(U8<>\"Finished\",\"\",IF(Y8<0,0,Y8))","v":""},{"$f":"IF(U8<>\"Finished\",\"\",VLOOKUP(T8,'Data for points'!$I$26:$Y$33,15,TRUE))","v":""},{"$f":"IF(L8=\"S\",X8,\"\")","v":""},{"$f":"IF(AB8=\"\",\"\",RANK(AB8,$AB$7:$AB$46,1))","v":""},{"$f":"MIN(IF($C$7:$C$46=C8,$AC$7:$AC$46,\"\"))","v":0},{"$f":"IF(AD8=AC8,AD8,\"\")","v":""},{"$f":"IF(AE8=\"\",\"\",RANK(AE8,$AE$7:$AE$46,1))","v":""},"",{"$f":"IF(AG8=\"\",\"\",RANK(AG8,$AG$7:$AG$46,1))","v":""},"",{"$f":"IF(AI8=\"\",\"\",RANK(AI8,$AI$7:$AI$46,1))","v":""},{"$f":"IF(OR(U8<>\"Finished\",T8>$O$2),\"\",\"UR\")","v":""}]
[null,null,null,null,null,null,null,null,null,null,null,null,null,null,0,0,null,null,null,0,null,"","","",{"$error":"#DIV/0!"},"",{"$f":"IF(U9<>\"Finished\",\"\",VLOOKUP(T9,'Data for points'!$I$26:$Y$33,15,TRUE))","v":""},"","",{"$f":"MIN(IF($C$7:$C$46=C9,$AC$7:$AC$46,\"\"))","v":0},"","","","","","",""]
[null,null,null,null,null,null,null,null,null,null,null,null,null,null,0,0,null,null,null,0,null,"","","",{"$error":"#DIV/0!"},"",{"$f":"IF(U10<>\"Finished\",\"\",VLOOKUP(T10,'Data for points'!$I$26:$Y$33,15,TRUE))","v":""},"","",{"$f":"MIN(IF($C$7:$C$46=C10,$AC$7:$AC$46,\"\"))","v":0},"","","","","","",""]
[null,null,null,null,null,null,null,null,null,null,null,null,null,null,0,0,null,null,null,0,null,"","","",{"$error":"#DIV/0!"},"",{"$f":"IF(U11<>\"Finished\",\"\",VLOOKUP(T11,'Data for points'!$I$26:$Y$33,15,TRUE))","v":""},"","",{"$f":"MIN(IF($C$7:$C$46=C11,$AC$7:$AC$46,\"\"))","v":0},"","","","","","",""]
[null,null,null,null,null,null,null,null,null,null,null,null,null,null,0,0,null,null,null,0,null,"","","",{"$error":"#DIV/0!"},"",{"$f":"IF(U12<>\"Finished\",\"\",VLOOKUP(T12,'Data for points'!$I$26:$Y$33,15,TRUE))","v":""},"","",{"$f":"MIN(IF($C$7:$C$46=C12,$AC$7:$AC$46,\"\"))","v":0},"","","","","","",""]
[null,null,null,null,null,null,null,null,null,null,null,null,null,null,0,0,null,null,null,0,null,"","","",{"$error":"#DIV/0!"},"",{"$f":"IF(U13<>\"Finished\",\"\",VLOOKUP(T13,'Data for points'!$I$26:$Y$33,15,TRUE))","v":""},"","",{"$f":"MIN(IF($C$7:$C$46=C13,$AC$7:$AC$46,\"\"))","v":0},"","","","","","",""]
[null,null,null,null,null,null,null,null,null,null,null,null,null,null,0,0,null,null,null,0,null,"","","",{"$error":"#DIV/0!"},"",{"$f":"IF(U14<>\"Finished\",\"\",VLOOKUP(T14,'Data for points'!$I$26:$Y$33,15,TRUE))","v":""},"","",{"$f":"MIN(IF($C$7:$C$46=C14,$AC$7:$AC$46,\"\"))","v":0},"","","","","","",""]
[null,null,null,null,null,null,null,null,null,null,null,null,null,null,0,0,null,null,null,0,null,"","","",{"$error":"#DIV/0!"},"",{"$f":"IF(U15<>\"Finished\",\"\",VLOOKUP(T15,'Data for points'!$I$26:$Y$33,15,TRUE))","v":""},"","",{"$f":"MIN(IF($C$7:$C$46=C15,$AC$7:$AC$46,\"\"))","v":0},"","","","","","",""]
[null,null,null,null,null,null,null,null,null,null,null,null,null,null,0,0,null,null,null,0,null,"","","",{"$error":"#DIV/0!"},"",{"$f":"IF(U16<>\"Finished\",\"\",VLOOKUP(T16,'Data for points'!$I$26:$Y$33,15,TRUE))","v":""},"","",{"$f":"MIN(IF($C$7:$C$46=C16,$AC$7:$AC$46,\"\"))","v":0},"","","","","","",""]
[null,null,null,null,null,null,null,null,null,null,null,null,null,null,0,0,null,null,null,0,null,"","","",{"$error":"#DIV/0!"},"",{"$f":"IF(U17<>\"Finished\",\"\",VLOOKUP(T17,'Data for points'!$I$26:$Y$33,15,TRUE))","v":""},"","",{"$f":"MIN(IF($C$7:$C$46=C17,$AC$7:$AC$46,\"\"))","v":0},"","","","","","",""]
[null,null,null,null,null,null,null,null,null,null,null,null,null,null,0,0,null,null,null,0,null,"","","",{"$error":"#DIV/0!"},"",{"$f":"IF(U18<>\"Finished\",\"\",VLOOKUP(T18,'Data for points'!$I$26:$Y$33,15,TRUE))","v":""},"","",{"$f":"MIN(IF($C$7:$C$46=C18,$AC$7:$AC$46,\"\"))","v":0},"","","","","","",""]
[null,null,null,null,null,null,null,null,null,null,null,null,null,null,0,0,null,null,null,0,null,"","","",{"$error":"#DIV/0!"},"",{"$f":"IF(U19<>\"Finished\",\"\",VLOOKUP(T19,'Data for points'!$I$26:$Y$33,15,TRUE))","v":""},"","",{"$f":"MIN(IF($C$7:$C$46=C19,$AC$7:$AC$46,\"\"))","v":0},"","","","","","",""]
[null,null,null,null,null,null,null,null,null,null,null,null,null,null,0,0,null,null,null,0,null,"","","",{"$error":"#DIV/0!"},"",{"$f":"IF(U20<>\"Finished\",\"\",VLOOKUP(T20,'Data for points'!$I$26:$Y$33,15,TRUE))","v":""},"","",{"$f":"MIN(IF($C$7:$C$46=C20,$AC$7:$AC$46,\"\"))","v":0},"","","","","","",""]
[null,null,null,null,null,null,null,null,null,null,null,null,null,null,0,0,null,null,null,0,null,"","","",{"$error":"#DIV/0!"},"",{"$f":"IF(U21<>\"Finished\",\"\",VLOOKUP(T21,'Data for points'!$I$26:$Y$33,15,TRUE))","v":""},"","",{"$f":"MIN(IF($C$7:$C$46=C21,$AC$7:$AC$46,\"\"))","v":0},"","","","","","",""]
[null,null,null,null,null,null,null,null,null,null,null,null,null,null,0,0,null,null,null,0,null,"","","",{"$error":"#DIV/0!"},"",{"$f":"IF(U22<>\"Finished\",\"\",VLOOKUP(T22,'Data for points'!$I$26:$Y$33,15,TRUE))","v":""},"","",{"$f":"MIN(IF($C$7:$C$46=C22,$AC$7:$AC$46,\"\"))","v":0},"","","","","","",""]
[null,null,null,null,null,null,null,null,null,null,null,null,null,null,0,0,null,null,null,0,null,"","","",{"$error":"#DIV/0!"},"",{"$f":"IF(U23<>\"Finished\",\"\",VLOOKUP(T23,'Data for points'!$I$26:$Y$33,15,TRUE))","v":""},"","",{"$f":"MIN(IF($C$7:$C$46=C23,$AC$7:$AC$46,\"\"))","v":0},"","","","","","",""]
[null,null,null,null,null,null,null,null,null,null,null,null,null,null,0,0,null,null,null,0,null,"","","",{"$error":"#DIV/0!"},"",{"$f":"IF(U24<>\"Finished\",\"\",VLOOKUP(T24,'Data for points'!$I$26:$Y$33,15,TRUE))","v":""},"","",{"$f":"MIN(IF($C$7:$C$46=C24,$AC$7:$AC$46,\"\"))","v":0},"","","","","","",""]
[null,null,null,null,null,null,null,null,null,null,null,null,null,null,0,0,null,null,null,0,null,"","","",{"$error":"#DIV/0!"},"",{"$f":"IF(U25<>\"Finished\",\"\",VLOOKUP(T25,'Data for points'!$I$26:$Y$33,15,TRUE))","v":""},"","",{"$f":"MIN(IF($C$7:$C$46=C25,$AC$7:$AC$46,\"\"))","v":0},"","","","","","",""]
[null,null,null,null,null,null,null,null,null,null,null,null,null,null,0,0,null,null,null,0,null,"","","",{"$error":"#DIV/0!"},"",{"$f":"IF(U26<>\"Finished\",\"\",VLOOKUP(T26,'Data for points'!$I$26:$Y$33,15,TRUE))","v":""},"","",{"$f":"MIN(IF($C$7:$C$46=C26,$AC$7:$AC$46,\"\"))","v":0},"","","","","","",""]
[null,null,null,null,null,null,null,null,null,null,null,null,null,null,0,0,null,null,null,0,null,"","","",{"$error":"#DIV/0!"},"",{"$f":"IF(U27<>\"Finished\",\"\",VLOOKUP(T27,'Data for points'!$I$26:$Y$33,15,TRUE))","v":""},"","",{"$f":"MIN(IF($C$7:$C$46=C27,$AC$7:$AC$46,\"\"))","v":0},"","","","","","",""]
[null,null,null,null,null,null,null,null,null,null,null,null,null,null,0,0,null,null,null,0,null,"","","",{"$error":"#DIV/0!"},"",{"$f":"IF(U28<>\"Finished\",\"\",VLOOKUP(T28,'Data for points'!$I$26:$Y$33,15,TRUE))","v":""},"","",{"$f":"MIN(IF($C$7:$C$46=C28,$AC$7:$AC$46,\"\"))","v":0},"","","","","","",""]
[null,null,null,null,null,null,null,null,null,null,null,null,null,null,0,0,null,null,null,0,null,"","","",{"$error":"#DIV/0!"},"",{"$f":"IF(U29<>\"Finished\",\"\",VLOOKUP(T29,'Data for points'!$I$26:$Y$33,15,TRUE))","v":""},"","",{"$f":"MIN(IF($C$7:$C$46=C29,$AC$7:$AC$46,\"\"))","v":0},"","","","","","",""]
[null,null,null,null,null,null,null,null,null,null,null,null,null,null,0,0,null,null,null,0,null,"","","",{"$error":"#DIV/0!"},"",{"$f":"IF(U30<>\"Finished\",\"\",VLOOKUP(T30,'Data for points'!$I$26:$Y$33,15,TRUE))","v":""},"","",{"$f":"MIN(IF($C$7:$C$46=C30,$AC$7:$AC$46,\"\"))","v":0},"","","","","","",""]
[null,null,null,null,null,null,null,null,null,null,null,null,null,null,0,0,null,null,null,0,null,"","","",{"$error":"#DIV/0!"},"",{"$f":"IF(U31<>\"Finished\",\"\",VLOOKUP(T31,'Data for points'!$I$26:$Y$33,15,TRUE))","v":""},"","",{"$f":"MIN(IF($C$7:$C$46=C31,$AC$7:$AC$46,\"\"))","v":0},"","","","","","",""]
[null,null,1,null,null,null,null,null,null,null,null,null,null,null,0,0,null,null,null,0,null,"","","",{"$error":"#DIV/0!"},"",{"$f":"IF(U32<>\"Finished\",\"\",VLOOKUP(T32,'Data for points'!$I$26:$Y$33,15,TRUE))","v":""},"","",{"$f":"MIN(IF($C$7:$C$46=C32,$AC$7:$AC$46,\"\"))","v":0},"","","","","","",""]
[null,null,null,null,null,null,null,null,null,null,null,null,null,null,0,0,null,null,null,0,null,"","","",{"$error":"#DIV/0!"},"",{"$f":"IF(U33<>\"Finished\",\"\",VLOOKUP(T33,'Data for points'!$I$26:$Y$33,15,TRUE))","v":""},"","",{"$f":"MIN(IF($C$7:$C$46=C33,$AC$7:$AC$46,\"\"))","v":0},"","","","","","",""]
[null,null,null,null,null,null,null,null,null,null,null,null,null,null,0,0,null,null,null,0,null,"","","",{"$error":"#DIV/0!"},"",{"$f":"IF(U34<>\"Finished\",\"\",VLOOKUP(T34,'Data for points'!$I$26:$Y$33,15,TRUE))","v":""},"","",{"$f":"MIN(IF($C$7:$C$46=C34,$AC$7:$AC$46,\"\"))","v":0},"","","","","","",""]
[null,null,null,null,null,null,null,null,null,null,null,null,null,null,0,0,null,null,null,0,null,"","","",{"$error":"#DIV/0!"},"",{"$f":"IF(U35<>\"Finished\",\"\",VLOOKUP(T35,'Data for points'!$I$26:$Y$33,15,TRUE))","v":""},"","",{"$f":"MIN(IF($C$7:$C$46=C35,$AC$7:$AC$46,\"\"))","v":0},"","","","","","",""]
[null,null,null,null,null,null,null,null,null,null,null,null,null,null,0,0,null,null,null,0,null,"","","",{"$error":"#DIV/0!"},"",{"$f":"IF(U36<>\"Finished\",\"\",VLOOKUP(T36,'Data for points'!$I$26:$Y$33,15,TRUE))","v":""},"","",{"$f":"MIN(IF($C$7:$C$46=C36,$AC$7:$AC$46,\"\"))","v":0},"","","","","","",""]
[null,null,null,null,null,null,null,null,null,null,null,null,null,null,0,0,null,null,null,0,null,"","","",{"$error":"#DIV/0!"},"",{"$f":"IF(U37<>\"Finished\",\"\",VLOOKUP(T37,'Data for points'!$I$26:$Y$33,15,TRUE))","v":""},"","",{"$f":"MIN(IF($C$7:$C$46=C37,$AC$7:$AC$46,\"\"))","v":0},"","","","","","",""]
[null,null,null,null,null,null,null,null,null,null,null,null,null,null,0,0,null,null,null,0,null,"","","",{"$error":"#DIV/0!"},"",{"$f":"IF(U38<>\"Finished\",\"\",VLOOKUP(T38,'Data for points'!$I$26:$Y$33,15,TRUE))","v":""},"","",{"$f":"MIN(IF($C$7:$C$46=C38,$AC$7:$AC$46,\"\"))","v":0},"","","","","","",""]
[null,null,null,null,null,null,null,null,null,null,null,null,null,null,0,0,null,null,null,0,null,"","","",{"$error":"#DIV/0!"},"",{"$f":"IF(U39<>\"Finished\",\"\",VLOOKUP(T39,'Data for points'!$I$26:$Y$33,15,TRUE))","v":""},"","",{"$f":"MIN(IF($C$7:$C$46=C39,$AC$7:$AC$46,\"\"))","v":0},"","","","","","",""]
[null,null,null,null,null,null,null,null,null,null,null,null,null,null,0,0,null,null,null,0,null,"","","",{"$error":"#DIV/0!"},"",{"$f":"IF(U40<>\"Finished\",\"\",VLOOKUP(T40,'Data for points'!$I$26:$Y$33,15,TRUE))","v":""},"","",{"$f":"MIN(IF($C$7:$C$46=C40,$AC$7:$AC$46,\"\"))","v":0},"","","","","","",""]
[null,null,null,null,null,null,null,null,null,null,null,null,null,null,0,0,null,null,null,0,null,"","","",{"$error":"#DIV/0!"},"",{"$f":"IF(U41<>\"Finished\",\"\",VLOOKUP(T41,'Data for points'!$I$26:$Y$33,15,TRUE))","v":""},"","",{"$f":"MIN(IF($C$7:$C$46=C41,$AC$7:$AC$46,\"\"))","v":0},"","","","","","",""]
[null,null,null,null,null,null,null,null,null,null,null,null,null,null,0,0,null,null,null,0,null,"","","",{"$error":"#DIV/0!"},"",{"$f":"IF(U42<>\"Finished\",\"\",VLOOKUP(T42,'Data for points'!$I$26:$Y$33,15,TRUE))","v":""},"","",{"$f":"MIN(IF($C$7:$C$46=C42,$AC$7:$AC$46,\"\"))","v":0},"","","","","","",""]
[null,null,null,null,null,null,null,null,null,null,null,null,null,null,0,0,null,null,null,0,null,"","","",{"$error":"#DIV/0!"},"",{"$f":"IF(U43<>\"Finished\",\"\",VLOOKUP(T43,'Data for points'!$I$26:$Y$33,15,TRUE))","v":""},"","",{"$f":"MIN(IF($C$7:$C$46=C43,$AC$7:$AC$46,\"\"))","v":0},"","","","","","",""]
[null,null,null,null,null,null,null,null,null,null,null,null,null,null,0,0,null,null,null,0,null,"","","",{"$error":"#DIV/0!"},"",{"$f":"IF(U44<>\"Finished\",\"\",VLOOKUP(T44,'Data for points'!$I$26:$Y$33,15,TRUE))","v":""},"","",{"$f":"MIN(IF($C$7:$C$46=C44,$AC$7:$AC$46,\"\"))","v":0},"","","","","","",""]
[null,null,null,null,null,null,null,null,null,null,null,null,null,null,0,0,null,null,null,0,null,"","","",{"$error":"#DIV/0!"},"",{"$f":"IF(U45<>\"Finished\",\"\",VLOOKUP(T45,'Data for points'!$I$26:$Y$33,15,TRUE))","v":""},"","",{"$f":"MIN(IF($C$7:$C$46=C45,$AC$7:$AC$46,\"\"))","v":0},"","","","","","",""]
[null,null,null,null,null,null,null,null,null,null,null,null,null,null,0,0,null,null,null,0,null,"","","",{"$error":"#DIV/0!"},"",{"$f":"IF(U46<>\"Finished\",\"\",VLOOKUP(T46,'Data for points'!$I$26:$Y$33,15,TRUE))","v":""},"","",{"$f":"MIN(IF($C$7:$C$46=C46,$AC$7:$AC$46,\"\"))","v":0},"","","","","","",""]
[]
[]
[]
[]
[]
[]
[]
[]
[]
[]
[]
[]
[]
[]
[]
[]
[]
[]
[]
[]
[]
[]
[]
[]
[]
[]
[]
[]
[]
[]
[]
[]
[]
[]
[]
[]
[]
[]
[]
[]
[]
[]
[]
[]
[]
[]
[]
[]
[]
[]
[]
[]
[]
[null,null,null,null,null,null,null,null,null,null,null,null,null,null,null,null,null,null,null,null,"Finished"]
[null,null,null,null,null,null,null,null,null,null,null,null,null,null,null,null,null,null,null,null,"Disqualified"]

{"sheet":"4 x 12.5 Manikin Relay Women","index":45,"n_rows":101,"n_cols":37,"rows_kept":101,"cut":false,"hidden":false,"merged":[[1,16,1,17],[4,11,4,12],[4,14,4,15],[4,16,4,18]]}
[null,null,null,null,null,null,null,null,null,null,null,null,null,null,null,null,null,null,null,"UR in seconds"]
[null,"Women's",null,null,null,null,null,null,null,null,null,"4 x 12.5 Manikin",null,null,null,null,"Club to \nHighlight",null,null,{"$f":"'Data for points'!U6","v":0},{"$f":"CONCATENATE(\"University  Record=\",INT(T2/60),\" minS\",MOD(T2,60),\" secs\")","v":"University  Record=0 minS0 secs"}]
[]
[]
["A University(Boolean)","Club Name","Club Code","Leg1","Leg1CompettiorID","Leg2","Leg2CompettiorID","Leg3","Leg3CompettiorID","Leg4","Leg4CompettiorID","ID code",null,"Entry Time(Seconds)","Entry Time",null,"Time",null,null,"Time(seconds)","Finish \nStatus","TimeSand  DQs","Rank","Competition \nPlace","PointSCalculation","Lifesaving Points","Survive and Save Status","Squad List","Rank For \nSquadSMembers","Top Finisher for there Uni","Top finisher Select Competitor for ranking","Squad \nPoints","Uni Finishers","Student \nPoints","Non-Uni Finishers","Non-Student \nPoints"]
[null,null,null,null,null,null,null,null,null,null,null,null,null,null,"Mins","Seconds","Mins","Seconds","1/100"]
[0,"East Kilbride",37,"Amy Domnican",2967,"Catherine Browne",2979,"Lauren Wright",2966,"Finna Parkinson",2963,"S","F",80,{"$f":"INT(N7/60)","v":1},{"$f":"MOD(N7,60)","v":20},1,1,75,{"$f":"Q7*60+R7+S7/100","v":61.75},"Finished",{"$f":"IF(U7<>\"Finished\",IF(U7<=0,\"\",U7),IF(U7=\"Finished\",IF(T7<=0,\"\",T7),\"\"))","v":61.75},{"$f":"IF(OR(LEFT(V7,1)=\"D\",V7=\"\"),\"\",RANK(V7,$V$7:$V$46,1))","v":3},{"$f":"IF(LEFT(U7,1)=\"D\",MAX($W$7:$W$46)+1,W7)","v":3},{"$f":"(1-(T7-$T$2)/$T$2)*1000","v":{"$error":"#DIV/0!"}},{"$f":"IF(U7<>\"Finished\",\"\",IF(Y7<0,0,Y7))","v":{"$error":"#DIV/0!"}},{"$f":"IF(U7<>\"Finished\",\"\",VLOOKUP(T7,'Data for points'!$U$26:$Y$33,5,TRUE))","v":"Very Good"},{"$f":"IF(L7=\"S\",X7,\"\")","v":3},{"$f":"IF(AB7=\"\",\"\",RANK(AB7,$AB$7:$AB$46,1))","v":3},{"$f":"MIN(IF($C$7:$C$46=C7,$AC$7:$AC$46,\"\"))","v":2},{"$f":"IF(AD7=AC7,AD7,\"\")","v":""},{"$f":"IF(AE7=\"\",\"\",RANK(AE7,$AE$7:$AE$46,1))","v":""},{"$f":"IF(A7=1,AF7,\"\")","v":""},{"$f":"IF(AG7=\"\",\"\",RANK(AG7,$AG$7:$AG$46,1))","v":""},{"$f":"IF(A7=0,AF7,\"\")","v":""},{"$f":"IF(AI7=\"\",\"\",RANK(AI7,$AI$7:$AI$46,1))","v":""},{"$f":"IF(OR(U7<>\"Finished\",T7>$O$2),\"\",\"UR\")","v":""}]
[0,"RLSS Uk Preformace",80,"Sam Carpenter",3022,"Rachel Carroll",3020,"Lucy Howes",3010,"Jessica Parker",3021,"S","F",49.39,{"$f":"INT(N8/60)","v":0},{"$f":"MOD(N8,60)","v":49.39},null,51,75,{"$f":"Q8*60+R8+S8/100","v":51.75},"Finished",{"$f":"IF(U8<>\"Finished\",IF(U8<=0,\"\",U8),IF(U8=\"Finished\",IF(T8<=0,\"\",T8),\"\"))","v":51.75},{"$f":"IF(OR(LEFT(V8,1)=\"D\",V8=\"\"),\"\",RANK(V8,$V$7:$V$46,1))","v":1},{"$f":"IF(LEFT(U8,1)=\"D\",MAX($W$7:$W$46)+1,W8)","v":1},{"$f":"(1-(T8-$T$2)/$T$2)*1000","v":{"$error":"#DIV/0!"}},{"$f":"IF(U8<>\"Finished\",\"\",IF(Y8<0,0,Y8))","v":{"$error":"#DIV/0!"}},{"$f":"IF(U8<>\"Finished\",\"\",VLOOKUP(T8,'Data for points'!$U$26:$Y$33,5,TRUE))","v":"Champion"},{"$f":"IF(L8=\"S\",X8,\"\")","v":1},{"$f":"IF(AB8=\"\",\"\",RANK(AB8,$AB$7:$AB$46,1))","v":1},{"$f":"MIN(IF($C$7:$C$46=C8,$AC$7:$AC$46,\"\"))","v":1},{"$f":"IF(AD8=AC8,AD8,\"\")","v":1},{"$f":"IF(AE8=\"\",\"\",RANK(AE8,$AE$7:$AE$46,1))","v":1},"",{"$f":"IF(AG8=\"\",\"\",RANK(AG8,$AG$7:$AG$46,1))","v":""},1,{"$f":"IF(AI8=\"\",\"\",RANK(AI8,$AI$7:$AI$46,1))","v":1},{"$f":"IF(OR(U8<>\"Finished\",T8>$O$2),\"\",\"UR\")","v":""}]
[0,"Beeslack",52,"Megan Rose",2957,"Emily Glanvill",2952,"Rebecca Stewart",2955,"Shaunna Anderson",2956,"S","F",70,1,10,1,3,59,63.59,"Finished",63.59,4,4,{"$error":"#DIV/0!"},{"$error":"#DIV/0!"},{"$f":"IF(U9<>\"Finished\",\"\",VLOOKUP(T9,'Data for points'!$U$26:$Y$33,5,TRUE))","v":"Very Good"},4,4,{"$f":"MIN(IF($C$7:$C$46=C9,$AC$7:$AC$46,\"\"))","v":4},4,3,"","",3,3,""]
[0,"East Kilbride",37,"Iona Halford",2977,"Alison Wilson",2965,"Isobel Miller",2959,"Susan McAllister",2962,"S","F",80,1,20,null,58,6,58.06,"Finished",58.06,2,2,{"$error":"#DIV/0!"},{"$error":"#DIV/0!"},{"$f":"IF(U10<>\"Finished\",\"\",VLOOKUP(T10,'Data for points'!$U$26:$Y$33,5,TRUE))","v":"Excellent"},2,2,{"$f":"MIN(IF($C$7:$C$46=C10,$AC$7:$AC$46,\"\"))","v":2},2,2,"","",2,2,""]
[null,null,null,null,null,null,null,null,null,null,null,null,null,null,0,0,null,null,null,0,null,"","","",{"$error":"#DIV/0!"},"",{"$f":"IF(U11<>\"Finished\",\"\",VLOOKUP(T11,'Data for points'!$U$26:$Y$33,5,TRUE))","v":""},"","",{"$f":"MIN(IF($C$7:$C$46=C11,$AC$7:$AC$46,\"\"))","v":0},"","","","","","",""]
[null,null,null,null,null,null,null,null,null,null,null,null,null,null,0,0,null,null,null,0,null,"","","",{"$error":"#DIV/0!"},"",{"$f":"IF(U12<>\"Finished\",\"\",VLOOKUP(T12,'Data for points'!$U$26:$Y$33,5,TRUE))","v":""},"","",{"$f":"MIN(IF($C$7:$C$46=C12,$AC$7:$AC$46,\"\"))","v":0},"","","","","","",""]
[null,null,null,null,null,null,null,null,null,null,null,null,null,null,0,0,null,null,null,0,null,"","","",{"$error":"#DIV/0!"},"",{"$f":"IF(U13<>\"Finished\",\"\",VLOOKUP(T13,'Data for points'!$U$26:$Y$33,5,TRUE))","v":""},"","",{"$f":"MIN(IF($C$7:$C$46=C13,$AC$7:$AC$46,\"\"))","v":0},"","","","","","",""]
[null,null,null,null,null,null,null,null,null,null,null,null,null,null,0,0,null,null,null,0,null,"","","",{"$error":"#DIV/0!"},"",{"$f":"IF(U14<>\"Finished\",\"\",VLOOKUP(T14,'Data for points'!$U$26:$Y$33,5,TRUE))","v":""},"","",{"$f":"MIN(IF($C$7:$C$46=C14,$AC$7:$AC$46,\"\"))","v":0},"","","","","","",""]
[null,null,null,null,null,null,null,null,null,null,null,null,null,null,0,0,null,null,null,0,null,"","","",{"$error":"#DIV/0!"},"",{"$f":"IF(U15<>\"Finished\",\"\",VLOOKUP(T15,'Data for points'!$U$26:$Y$33,5,TRUE))","v":""},"","",{"$f":"MIN(IF($C$7:$C$46=C15,$AC$7:$AC$46,\"\"))","v":0},"","","","","","",""]
[null,null,null,null,null,null,null,null,null,null,null,null,null,null,0,0,null,null,null,0,null,"","","",{"$error":"#DIV/0!"},"",{"$f":"IF(U16<>\"Finished\",\"\",VLOOKUP(T16,'Data for points'!$U$26:$Y$33,5,TRUE))","v":""},"","",{"$f":"MIN(IF($C$7:$C$46=C16,$AC$7:$AC$46,\"\"))","v":0},"","","","","","",""]
[null,null,null,null,null,null,null,null,null,null,null,null,null,null,0,0,null,null,null,0,null,"","","",{"$error":"#DIV/0!"},"",{"$f":"IF(U17<>\"Finished\",\"\",VLOOKUP(T17,'Data for points'!$U$26:$Y$33,5,TRUE))","v":""},"","",{"$f":"MIN(IF($C$7:$C$46=C17,$AC$7:$AC$46,\"\"))","v":0},"","","","","","",""]
[null,null,null,null,null,null,null,null,null,null,null,null,null,null,0,0,null,null,null,0,null,"","","",{"$error":"#DIV/0!"},"",{"$f":"IF(U18<>\"Finished\",\"\",VLOOKUP(T18,'Data for points'!$U$26:$Y$33,5,TRUE))","v":""},"","",{"$f":"MIN(IF($C$7:$C$46=C18,$AC$7:$AC$46,\"\"))","v":0},"","","","","","",""]
[null,null,null,null,null,null,null,null,null,null,null,null,null,null,0,0,null,null,null,0,null,"","","",{"$error":"#DIV/0!"},"",{"$f":"IF(U19<>\"Finished\",\"\",VLOOKUP(T19,'Data for points'!$U$26:$Y$33,5,TRUE))","v":""},"","",{"$f":"MIN(IF($C$7:$C$46=C19,$AC$7:$AC$46,\"\"))","v":0},"","","","","","",""]
[null,null,null,null,null,null,null,null,null,null,null,null,null,null,0,0,null,null,null,0,null,"","","",{"$error":"#DIV/0!"},"",{"$f":"IF(U20<>\"Finished\",\"\",VLOOKUP(T20,'Data for points'!$U$26:$Y$33,5,TRUE))","v":""},"","",{"$f":"MIN(IF($C$7:$C$46=C20,$AC$7:$AC$46,\"\"))","v":0},"","","","","","",""]
[null,null,null,null,null,null,null,null,null,null,null,null,null,null,0,0,null,null,null,0,null,"","","",{"$error":"#DIV/0!"},"",{"$f":"IF(U21<>\"Finished\",\"\",VLOOKUP(T21,'Data for points'!$U$26:$Y$33,5,TRUE))","v":""},"","",{"$f":"MIN(IF($C$7:$C$46=C21,$AC$7:$AC$46,\"\"))","v":0},"","","","","","",""]
[null,null,null,null,null,null,null,null,null,null,null,null,null,null,0,0,null,null,null,0,null,"","","",{"$error":"#DIV/0!"},"",{"$f":"IF(U22<>\"Finished\",\"\",VLOOKUP(T22,'Data for points'!$U$26:$Y$33,5,TRUE))","v":""},"","",{"$f":"MIN(IF($C$7:$C$46=C22,$AC$7:$AC$46,\"\"))","v":0},"","","","","","",""]
[null,null,null,null,null,null,null,null,null,null,null,null,null,null,0,0,null,null,null,0,null,"","","",{"$error":"#DIV/0!"},"",{"$f":"IF(U23<>\"Finished\",\"\",VLOOKUP(T23,'Data for points'!$U$26:$Y$33,5,TRUE))","v":""},"","",{"$f":"MIN(IF($C$7:$C$46=C23,$AC$7:$AC$46,\"\"))","v":0},"","","","","","",""]
[null,null,null,null,null,null,null,null,null,null,null,null,null,null,0,0,null,null,null,0,null,"","","",{"$error":"#DIV/0!"},"",{"$f":"IF(U24<>\"Finished\",\"\",VLOOKUP(T24,'Data for points'!$U$26:$Y$33,5,TRUE))","v":""},"","",{"$f":"MIN(IF($C$7:$C$46=C24,$AC$7:$AC$46,\"\"))","v":0},"","","","","","",""]
[null,null,null,null,null,null,null,null,null,null,null,null,null,null,0,0,null,null,null,0,null,"","","",{"$error":"#DIV/0!"},"",{"$f":"IF(U25<>\"Finished\",\"\",VLOOKUP(T25,'Data for points'!$U$26:$Y$33,5,TRUE))","v":""},"","",{"$f":"MIN(IF($C$7:$C$46=C25,$AC$7:$AC$46,\"\"))","v":0},"","","","","","",""]
[null,null,null,null,null,null,null,null,null,null,null,null,null,null,0,0,null,null,null,0,null,"","","",{"$error":"#DIV/0!"},"",{"$f":"IF(U26<>\"Finished\",\"\",VLOOKUP(T26,'Data for points'!$U$26:$Y$33,5,TRUE))","v":""},"","",{"$f":"MIN(IF($C$7:$C$46=C26,$AC$7:$AC$46,\"\"))","v":0},"","","","","","",""]
[null,null,null,null,null,null,null,null,null,null,null,null,null,null,0,0,null,null,null,0,null,"","","",{"$error":"#DIV/0!"},"",{"$f":"IF(U27<>\"Finished\",\"\",VLOOKUP(T27,'Data for points'!$U$26:$Y$33,5,TRUE))","v":""},"","",{"$f":"MIN(IF($C$7:$C$46=C27,$AC$7:$AC$46,\"\"))","v":0},"","","","","","",""]
[null,null,null,null,null,null,null,null,null,null,null,null,null,null,0,0,null,null,null,0,null,"","","",{"$error":"#DIV/0!"},"",{"$f":"IF(U28<>\"Finished\",\"\",VLOOKUP(T28,'Data for points'!$U$26:$Y$33,5,TRUE))","v":""},"","",{"$f":"MIN(IF($C$7:$C$46=C28,$AC$7:$AC$46,\"\"))","v":0},"","","","","","",""]
[null,null,null,null,null,null,null,null,null,null,null,null,null,null,0,0,null,null,null,0,null,"","","",{"$error":"#DIV/0!"},"",{"$f":"IF(U29<>\"Finished\",\"\",VLOOKUP(T29,'Data for points'!$U$26:$Y$33,5,TRUE))","v":""},"","",{"$f":"MIN(IF($C$7:$C$46=C29,$AC$7:$AC$46,\"\"))","v":0},"","","","","","",""]
[null,null,null,null,null,null,null,null,null,null,null,null,null,null,0,0,null,null,null,0,null,"","","",{"$error":"#DIV/0!"},"",{"$f":"IF(U30<>\"Finished\",\"\",VLOOKUP(T30,'Data for points'!$U$26:$Y$33,5,TRUE))","v":""},"","",{"$f":"MIN(IF($C$7:$C$46=C30,$AC$7:$AC$46,\"\"))","v":0},"","","","","","",""]
[null,null,null,null,null,null,null,null,null,null,null,null,null,null,0,0,null,null,null,0,null,"","","",{"$error":"#DIV/0!"},"",{"$f":"IF(U31<>\"Finished\",\"\",VLOOKUP(T31,'Data for points'!$U$26:$Y$33,5,TRUE))","v":""},"","",{"$f":"MIN(IF($C$7:$C$46=C31,$AC$7:$AC$46,\"\"))","v":0},"","","","","","",""]
[null,null,1,null,null,null,null,null,null,null,null,null,null,null,0,0,null,null,null,0,null,"","","",{"$error":"#DIV/0!"},"",{"$f":"IF(U32<>\"Finished\",\"\",VLOOKUP(T32,'Data for points'!$U$26:$Y$33,5,TRUE))","v":""},"","",{"$f":"MIN(IF($C$7:$C$46=C32,$AC$7:$AC$46,\"\"))","v":0},"","","","","","",""]
[null,null,null,null,null,null,null,null,null,null,null,null,null,null,0,0,null,null,null,0,null,"","","",{"$error":"#DIV/0!"},"",{"$f":"IF(U33<>\"Finished\",\"\",VLOOKUP(T33,'Data for points'!$U$26:$Y$33,5,TRUE))","v":""},"","",{"$f":"MIN(IF($C$7:$C$46=C33,$AC$7:$AC$46,\"\"))","v":0},"","","","","","",""]
[null,null,null,null,null,null,null,null,null,null,null,null,null,null,0,0,null,null,null,0,null,"","","",{"$error":"#DIV/0!"},"",{"$f":"IF(U34<>\"Finished\",\"\",VLOOKUP(T34,'Data for points'!$U$26:$Y$33,5,TRUE))","v":""},"","",{"$f":"MIN(IF($C$7:$C$46=C34,$AC$7:$AC$46,\"\"))","v":0},"","","","","","",""]
[null,null,null,null,null,null,null,null,null,null,null,null,null,null,0,0,null,null,null,0,null,"","","",{"$error":"#DIV/0!"},"",{"$f":"IF(U35<>\"Finished\",\"\",VLOOKUP(T35,'Data for points'!$U$26:$Y$33,5,TRUE))","v":""},"","",{"$f":"MIN(IF($C$7:$C$46=C35,$AC$7:$AC$46,\"\"))","v":0},"","","","","","",""]
[null,null,null,null,null,null,null,null,null,null,null,null,null,null,0,0,null,null,null,0,null,"","","",{"$error":"#DIV/0!"},"",{"$f":"IF(U36<>\"Finished\",\"\",VLOOKUP(T36,'Data for points'!$U$26:$Y$33,5,TRUE))","v":""},"","",{"$f":"MIN(IF($C$7:$C$46=C36,$AC$7:$AC$46,\"\"))","v":0},"","","","","","",""]
[null,null,null,null,null,null,null,null,null,null,null,null,null,null,0,0,null,null,null,0,null,"","","",{"$error":"#DIV/0!"},"",{"$f":"IF(U37<>\"Finished\",\"\",VLOOKUP(T37,'Data for points'!$U$26:$Y$33,5,TRUE))","v":""},"","",{"$f":"MIN(IF($C$7:$C$46=C37,$AC$7:$AC$46,\"\"))","v":0},"","","","","","",""]
[null,null,null,null,null,null,null,null,null,null,null,null,null,null,0,0,null,null,null,0,null,"","","",{"$error":"#DIV/0!"},"",{"$f":"IF(U38<>\"Finished\",\"\",VLOOKUP(T38,'Data for points'!$U$26:$Y$33,5,TRUE))","v":""},"","",{"$f":"MIN(IF($C$7:$C$46=C38,$AC$7:$AC$46,\"\"))","v":0},"","","","","","",""]
[null,null,null,null,null,null,null,null,null,null,null,null,null,null,0,0,null,null,null,0,null,"","","",{"$error":"#DIV/0!"},"",{"$f":"IF(U39<>\"Finished\",\"\",VLOOKUP(T39,'Data for points'!$U$26:$Y$33,5,TRUE))","v":""},"","",{"$f":"MIN(IF($C$7:$C$46=C39,$AC$7:$AC$46,\"\"))","v":0},"","","","","","",""]
[null,null,null,null,null,null,null,null,null,null,null,null,null,null,0,0,null,null,null,0,null,"","","",{"$error":"#DIV/0!"},"",{"$f":"IF(U40<>\"Finished\",\"\",VLOOKUP(T40,'Data for points'!$U$26:$Y$33,5,TRUE))","v":""},"","",{"$f":"MIN(IF($C$7:$C$46=C40,$AC$7:$AC$46,\"\"))","v":0},"","","","","","",""]
[null,null,null,null,null,null,null,null,null,null,null,null,null,null,0,0,null,null,null,0,null,"","","",{"$error":"#DIV/0!"},"",{"$f":"IF(U41<>\"Finished\",\"\",VLOOKUP(T41,'Data for points'!$U$26:$Y$33,5,TRUE))","v":""},"","",{"$f":"MIN(IF($C$7:$C$46=C41,$AC$7:$AC$46,\"\"))","v":0},"","","","","","",""]
[null,null,null,null,null,null,null,null,null,null,null,null,null,null,0,0,null,null,null,0,null,"","","",{"$error":"#DIV/0!"},"",{"$f":"IF(U42<>\"Finished\",\"\",VLOOKUP(T42,'Data for points'!$U$26:$Y$33,5,TRUE))","v":""},"","",{"$f":"MIN(IF($C$7:$C$46=C42,$AC$7:$AC$46,\"\"))","v":0},"","","","","","",""]
[null,null,null,null,null,null,null,null,null,null,null,null,null,null,0,0,null,null,null,0,null,"","","",{"$error":"#DIV/0!"},"",{"$f":"IF(U43<>\"Finished\",\"\",VLOOKUP(T43,'Data for points'!$U$26:$Y$33,5,TRUE))","v":""},"","",{"$f":"MIN(IF($C$7:$C$46=C43,$AC$7:$AC$46,\"\"))","v":0},"","","","","","",""]
[null,null,null,null,null,null,null,null,null,null,null,null,null,null,0,0,null,null,null,0,null,"","","",{"$error":"#DIV/0!"},"",{"$f":"IF(U44<>\"Finished\",\"\",VLOOKUP(T44,'Data for points'!$U$26:$Y$33,5,TRUE))","v":""},"","",{"$f":"MIN(IF($C$7:$C$46=C44,$AC$7:$AC$46,\"\"))","v":0},"","","","","","",""]
[null,null,null,null,null,null,null,null,null,null,null,null,null,null,0,0,null,null,null,0,null,"","","",{"$error":"#DIV/0!"},"",{"$f":"IF(U45<>\"Finished\",\"\",VLOOKUP(T45,'Data for points'!$U$26:$Y$33,5,TRUE))","v":""},"","",{"$f":"MIN(IF($C$7:$C$46=C45,$AC$7:$AC$46,\"\"))","v":0},"","","","","","",""]
[null,null,null,null,null,null,null,null,null,null,null,null,null,null,0,0,null,null,null,0,null,"","","",{"$error":"#DIV/0!"},"",{"$f":"IF(U46<>\"Finished\",\"\",VLOOKUP(T46,'Data for points'!$U$26:$Y$33,5,TRUE))","v":""},"","",{"$f":"MIN(IF($C$7:$C$46=C46,$AC$7:$AC$46,\"\"))","v":0},"","","","","","",""]
[]
[]
[]
[]
[]
[]
[]
[]
[]
[]
[]
[]
[]
[]
[]
[]
[]
[]
[]
[]
[]
[]
[]
[]
[]
[]
[]
[]
[]
[]
[]
[]
[]
[]
[]
[]
[]
[]
[]
[]
[]
[]
[]
[]
[]
[]
[]
[]
[]
[]
[]
[]
[]
[null,null,null,null,null,null,null,null,null,null,null,null,null,null,null,null,null,null,null,null,"Finished"]
[null,null,null,null,null,null,null,null,null,null,null,null,null,null,null,null,null,null,null,null,"Disqualified"]

{"sheet":"4 x 25  medley Relay Men","index":46,"n_rows":101,"n_cols":37,"rows_kept":101,"cut":false,"hidden":false,"merged":[[1,16,1,17],[4,11,4,12],[4,14,4,15],[4,16,4,18]]}
[null,null,null,null,null,null,null,null,null,null,null,null,null,null,null,null,null,null,null,"UR in seconds"]
[null,"Men's",null,null,null,null,null,null,null,null,null,"4 x 25 Medley",null,null,null,null,"Club to \nHighlight",null,null,{"$f":"'Data for points'!T5","v":0},{"$f":"CONCATENATE(\"University  Record=\",INT(T2/60),\" minS\",MOD(T2,60),\" secs\")","v":"University  Record=0 minS0 secs"}]
[]
[]
["A University(Boolean)","Club Name","Club Code","Leg1","Leg1CompettiorID","Leg2","Leg2CompettiorID","Leg3","Leg3CompettiorID","Leg4","Leg4CompettiorID","ID code",null,"Entry Time(Seconds)","Entry Time",null,"Time",null,null,"Time(seconds)","Finish \nStatus","TimeSand  DQs","Rank","Competition \nPlace","PointSCalculation","Lifesaving Points","Survive and Save Status","Squad List","Rank For \nSquadSMembers","Top Finisher for there Uni","Top finisher Select Competitor for ranking","Squad \nPoints","Uni Finishers","Student\n Points","Non-Uni Finishers","Non-Student \nPoints"]
[null,null,null,null,null,null,null,null,null,null,null,null,null,null,"Mins","Seconds","Mins","Seconds","1/100"]
[0,"East Kilbride",37,"Andrew McAllister",2971,"Callum Young",2961,"Iain Wilson",2964,"James Miller",2960,"S","M",55,{"$f":"INT(N7/60)","v":0},{"$f":"MOD(N7,60)","v":55},0,54,37,{"$f":"Q7*60+R7+S7/100","v":54.37},"Finished",{"$f":"IF(U7<>\"Finished\",IF(U7<=0,\"\",U7),IF(U7=\"Finished\",IF(T7<=0,\"\",T7),\"\"))","v":54.37},{"$f":"IF(OR(LEFT(V7,1)=\"D\",V7=\"\"),\"\",RANK(V7,$V$7:$V$46,1))","v":2},{"$f":"IF(LEFT(U7,1)=\"D\",MAX($W$7:$W$46)+1,W7)","v":2},{"$f":"(1-(T7-$T$2)/$T$2)*1000","v":{"$error":"#DIV/0!"}},{"$f":"IF(U7<>\"Finished\",\"\",IF(Y7<0,0,Y7))","v":{"$error":"#DIV/0!"}},{"$f":"IF(U7<>\"Finished\",\"\",VLOOKUP(T7,'Data for points'!$T$16:$Y$23,6,TRUE))","v":"Very Good"},{"$f":"IF(L7=\"S\",X7,\"\")","v":2},{"$f":"IF(AB7=\"\",\"\",RANK(AB7,$AB$7:$AB$46,1))","v":2},{"$f":"MIN(IF($C$7:$C$46=C7,$AC$7:$AC$46,\"\"))","v":2},{"$f":"IF(AD7=AC7,AD7,\"\")","v":2},{"$f":"IF(AE7=\"\",\"\",RANK(AE7,$AE$7:$AE$46,1))","v":2},{"$f":"IF(A7=1,AF7,\"\")","v":""},{"$f":"IF(AG7=\"\",\"\",RANK(AG7,$AG$7:$AG$46,1))","v":""},{"$f":"IF(A7=0,AF7,\"\")","v":2},{"$f":"IF(AI7=\"\",\"\",RANK(AI7,$AI$7:$AI$46,1))","v":2},{"$f":"IF(OR(U7<>\"Finished\",T7>$O$2),\"\",\"UR\")","v":""}]
[0,"RLSS Uk Preformace",80,"Daniel Weightman",3023,"Mark Chandler",3024,"Adam Threlfall",3016,"Ruari Hurson",3015,"S","M",55.4,{"$f":"INT(N8/60)","v":0},{"$f":"MOD(N8,60)","v":55.4},0,52,61,{"$f":"Q8*60+R8+S8/100","v":52.61},"Finished",{"$f":"IF(U8<>\"Finished\",IF(U8<=0,\"\",U8),IF(U8=\"Finished\",IF(T8<=0,\"\",T8),\"\"))","v":52.61},{"$f":"IF(OR(LEFT(V8,1)=\"D\",V8=\"\"),\"\",RANK(V8,$V$7:$V$46,1))","v":1},{"$f":"IF(LEFT(U8,1)=\"D\",MAX($W$7:$W$46)+1,W8)","v":1},{"$f":"(1-(T8-$T$2)/$T$2)*1000","v":{"$error":"#DIV/0!"}},{"$f":"IF(U8<>\"Finished\",\"\",IF(Y8<0,0,Y8))","v":{"$error":"#DIV/0!"}},{"$f":"IF(U8<>\"Finished\",\"\",VLOOKUP(T8,'Data for points'!$T$16:$Y$23,6,TRUE))","v":"Very Good"},{"$f":"IF(L8=\"S\",X8,\"\")","v":1},{"$f":"IF(AB8=\"\",\"\",RANK(AB8,$AB$7:$AB$46,1))","v":1},{"$f":"MIN(IF($C$7:$C$46=C8,$AC$7:$AC$46,\"\"))","v":1},{"$f":"IF(AD8=AC8,AD8,\"\")","v":1},{"$f":"IF(AE8=\"\",\"\",RANK(AE8,$AE$7:$AE$46,1))","v":1},"",{"$f":"IF(AG8=\"\",\"\",RANK(AG8,$AG$7:$AG$46,1))","v":""},{"$f":"IF(A8=0,AF8,\"\")","v":1},{"$f":"IF(AI8=\"\",\"\",RANK(AI8,$AI$7:$AI$46,1))","v":1},{"$f":"IF(OR(U8<>\"Finished\",T8>$O$2),\"\",\"UR\")","v":""}]
[null,null,null,null,null,null,null,null,null,null,null,null,null,null,0,0,null,null,null,0,null,"","","",{"$error":"#DIV/0!"},"",{"$f":"IF(U9<>\"Finished\",\"\",VLOOKUP(T9,'Data for points'!$T$16:$Y$23,6,TRUE))","v":""},"","",{"$f":"MIN(IF($C$7:$C$46=C9,$AC$7:$AC$46,\"\"))","v":0},"","","","","","",""]
[null,null,null,null,null,null,null,null,null,null,null,null,null,null,0,0,null,null,null,0,null,"","","",{"$error":"#DIV/0!"},"",{"$f":"IF(U10<>\"Finished\",\"\",VLOOKUP(T10,'Data for points'!$T$16:$Y$23,6,TRUE))","v":""},"","",{"$f":"MIN(IF($C$7:$C$46=C10,$AC$7:$AC$46,\"\"))","v":0},"","","","","","",""]
[null,null,null,null,null,null,null,null,null,null,null,null,null,null,0,0,null,null,null,0,null,"","","",{"$error":"#DIV/0!"},"",{"$f":"IF(U11<>\"Finished\",\"\",VLOOKUP(T11,'Data for points'!$T$16:$Y$23,6,TRUE))","v":""},"","",{"$f":"MIN(IF($C$7:$C$46=C11,$AC$7:$AC$46,\"\"))","v":0},"","","","","","",""]
[null,null,null,null,null,null,null,null,null,null,null,null,null,null,0,0,null,null,null,0,null,"","","",{"$error":"#DIV/0!"},"",{"$f":"IF(U12<>\"Finished\",\"\",VLOOKUP(T12,'Data for points'!$T$16:$Y$23,6,TRUE))","v":""},"","",{"$f":"MIN(IF($C$7:$C$46=C12,$AC$7:$AC$46,\"\"))","v":0},"","","","","","",""]
[null,null,null,null,null,null,null,null,null,null,null,null,null,null,0,0,null,null,null,0,null,"","","",{"$error":"#DIV/0!"},"",{"$f":"IF(U13<>\"Finished\",\"\",VLOOKUP(T13,'Data for points'!$T$16:$Y$23,6,TRUE))","v":""},"","",{"$f":"MIN(IF($C$7:$C$46=C13,$AC$7:$AC$46,\"\"))","v":0},"","","","","","",""]
[null,null,null,null,null,null,null,null,null,null,null,null,null,null,0,0,null,null,null,0,null,"","","",{"$error":"#DIV/0!"},"",{"$f":"IF(U14<>\"Finished\",\"\",VLOOKUP(T14,'Data for points'!$T$16:$Y$23,6,TRUE))","v":""},"","",{"$f":"MIN(IF($C$7:$C$46=C14,$AC$7:$AC$46,\"\"))","v":0},"","","","","","",""]
[null,null,null,null,null,null,null,null,null,null,null,null,null,null,0,0,null,null,null,0,null,"","","",{"$error":"#DIV/0!"},"",{"$f":"IF(U15<>\"Finished\",\"\",VLOOKUP(T15,'Data for points'!$T$16:$Y$23,6,TRUE))","v":""},"","",{"$f":"MIN(IF($C$7:$C$46=C15,$AC$7:$AC$46,\"\"))","v":0},"","","","","","",""]
[null,null,null,null,null,null,null,null,null,null,null,null,null,null,0,0,null,null,null,0,null,"","","",{"$error":"#DIV/0!"},"",{"$f":"IF(U16<>\"Finished\",\"\",VLOOKUP(T16,'Data for points'!$T$16:$Y$23,6,TRUE))","v":""},"","",{"$f":"MIN(IF($C$7:$C$46=C16,$AC$7:$AC$46,\"\"))","v":0},"","","","","","",""]
[null,null,null,null,null,null,null,null,null,null,null,null,null,null,0,0,null,null,null,0,null,"","","",{"$error":"#DIV/0!"},"",{"$f":"IF(U17<>\"Finished\",\"\",VLOOKUP(T17,'Data for points'!$T$16:$Y$23,6,TRUE))","v":""},"","",{"$f":"MIN(IF($C$7:$C$46=C17,$AC$7:$AC$46,\"\"))","v":0},"","","","","","",""]
[null,null,null,null,null,null,null,null,null,null,null,null,null,null,0,0,null,null,null,0,null,"","","",{"$error":"#DIV/0!"},"",{"$f":"IF(U18<>\"Finished\",\"\",VLOOKUP(T18,'Data for points'!$T$16:$Y$23,6,TRUE))","v":""},"","",{"$f":"MIN(IF($C$7:$C$46=C18,$AC$7:$AC$46,\"\"))","v":0},"","","","","","",""]
[null,null,null,null,null,null,null,null,null,null,null,null,null,null,0,0,null,null,null,0,null,"","","",{"$error":"#DIV/0!"},"",{"$f":"IF(U19<>\"Finished\",\"\",VLOOKUP(T19,'Data for points'!$T$16:$Y$23,6,TRUE))","v":""},"","",{"$f":"MIN(IF($C$7:$C$46=C19,$AC$7:$AC$46,\"\"))","v":0},"","","","","","",""]
[null,null,null,null,null,null,null,null,null,null,null,null,null,null,0,0,null,null,null,0,null,"","","",{"$error":"#DIV/0!"},"",{"$f":"IF(U20<>\"Finished\",\"\",VLOOKUP(T20,'Data for points'!$T$16:$Y$23,6,TRUE))","v":""},"","",{"$f":"MIN(IF($C$7:$C$46=C20,$AC$7:$AC$46,\"\"))","v":0},"","","","","","",""]
[null,null,null,null,null,null,null,null,null,null,null,null,null,null,0,0,null,null,null,0,null,"","","",{"$error":"#DIV/0!"},"",{"$f":"IF(U21<>\"Finished\",\"\",VLOOKUP(T21,'Data for points'!$T$16:$Y$23,6,TRUE))","v":""},"","",{"$f":"MIN(IF($C$7:$C$46=C21,$AC$7:$AC$46,\"\"))","v":0},"","","","","","",""]
[null,null,null,null,null,null,null,null,null,null,null,null,null,null,0,0,null,null,null,0,null,"","","",{"$error":"#DIV/0!"},"",{"$f":"IF(U22<>\"Finished\",\"\",VLOOKUP(T22,'Data for points'!$T$16:$Y$23,6,TRUE))","v":""},"","",{"$f":"MIN(IF($C$7:$C$46=C22,$AC$7:$AC$46,\"\"))","v":0},"","","","","","",""]
[null,null,null,null,null,null,null,null,null,null,null,null,null,null,0,0,null,null,null,0,null,"","","",{"$error":"#DIV/0!"},"",{"$f":"IF(U23<>\"Finished\",\"\",VLOOKUP(T23,'Data for points'!$T$16:$Y$23,6,TRUE))","v":""},"","",{"$f":"MIN(IF($C$7:$C$46=C23,$AC$7:$AC$46,\"\"))","v":0},"","","","","","",""]
[null,null,null,null,null,null,null,null,null,null,null,null,null,null,0,0,null,null,null,0,null,"","","",{"$error":"#DIV/0!"},"",{"$f":"IF(U24<>\"Finished\",\"\",VLOOKUP(T24,'Data for points'!$T$16:$Y$23,6,TRUE))","v":""},"","",{"$f":"MIN(IF($C$7:$C$46=C24,$AC$7:$AC$46,\"\"))","v":0},"","","","","","",""]
[null,null,null,null,null,null,null,null,null,null,null,null,null,null,0,0,null,null,null,0,null,"","","",{"$error":"#DIV/0!"},"",{"$f":"IF(U25<>\"Finished\",\"\",VLOOKUP(T25,'Data for points'!$T$16:$Y$23,6,TRUE))","v":""},"","",{"$f":"MIN(IF($C$7:$C$46=C25,$AC$7:$AC$46,\"\"))","v":0},"","","","","","",""]
[null,null,null,null,null,null,null,null,null,null,null,null,null,null,0,0,null,null,null,0,null,"","","",{"$error":"#DIV/0!"},"",{"$f":"IF(U26<>\"Finished\",\"\",VLOOKUP(T26,'Data for points'!$T$16:$Y$23,6,TRUE))","v":""},"","",{"$f":"MIN(IF($C$7:$C$46=C26,$AC$7:$AC$46,\"\"))","v":0},"","","","","","",""]
[null,null,null,null,null,null,null,null,null,null,null,null,null,null,0,0,null,null,null,0,null,"","","",{"$error":"#DIV/0!"},"",{"$f":"IF(U27<>\"Finished\",\"\",VLOOKUP(T27,'Data for points'!$T$16:$Y$23,6,TRUE))","v":""},"","",{"$f":"MIN(IF($C$7:$C$46=C27,$AC$7:$AC$46,\"\"))","v":0},"","","","","","",""]
[null,null,null,null,null,null,null,null,null,null,null,null,null,null,0,0,null,null,null,0,null,"","","",{"$error":"#DIV/0!"},"",{"$f":"IF(U28<>\"Finished\",\"\",VLOOKUP(T28,'Data for points'!$T$16:$Y$23,6,TRUE))","v":""},"","",{"$f":"MIN(IF($C$7:$C$46=C28,$AC$7:$AC$46,\"\"))","v":0},"","","","","","",""]
[null,null,null,null,null,null,null,null,null,null,null,null,null,null,0,0,null,null,null,0,null,"","","",{"$error":"#DIV/0!"},"",{"$f":"IF(U29<>\"Finished\",\"\",VLOOKUP(T29,'Data for points'!$T$16:$Y$23,6,TRUE))","v":""},"","",{"$f":"MIN(IF($C$7:$C$46=C29,$AC$7:$AC$46,\"\"))","v":0},"","","","","","",""]
[null,null,null,null,null,null,null,null,null,null,null,null,null,null,0,0,null,null,null,0,null,"","","",{"$error":"#DIV/0!"},"",{"$f":"IF(U30<>\"Finished\",\"\",VLOOKUP(T30,'Data for points'!$T$16:$Y$23,6,TRUE))","v":""},"","",{"$f":"MIN(IF($C$7:$C$46=C30,$AC$7:$AC$46,\"\"))","v":0},"","","","","","",""]
[null,null,null,null,null,null,null,null,null,null,null,null,null,null,0,0,null,null,null,0,null,"","","",{"$error":"#DIV/0!"},"",{"$f":"IF(U31<>\"Finished\",\"\",VLOOKUP(T31,'Data for points'!$T$16:$Y$23,6,TRUE))","v":""},"","",{"$f":"MIN(IF($C$7:$C$46=C31,$AC$7:$AC$46,\"\"))","v":0},"","","","","","",""]
[null,null,null,null,null,null,null,null,null,null,null,null,null,null,0,0,null,null,null,0,null,"","","",{"$error":"#DIV/0!"},"",{"$f":"IF(U32<>\"Finished\",\"\",VLOOKUP(T32,'Data for points'!$T$16:$Y$23,6,TRUE))","v":""},"","",{"$f":"MIN(IF($C$7:$C$46=C32,$AC$7:$AC$46,\"\"))","v":0},"","","","","","",""]
[null,null,null,null,null,null,null,null,null,null,null,null,null,null,0,0,null,null,null,0,null,"","","",{"$error":"#DIV/0!"},"",{"$f":"IF(U33<>\"Finished\",\"\",VLOOKUP(T33,'Data for points'!$T$16:$Y$23,6,TRUE))","v":""},"","",{"$f":"MIN(IF($C$7:$C$46=C33,$AC$7:$AC$46,\"\"))","v":0},"","","","","","",""]
[null,null,null,null,null,null,null,null,null,null,null,null,null,null,0,0,null,null,null,0,null,"","","",{"$error":"#DIV/0!"},"",{"$f":"IF(U34<>\"Finished\",\"\",VLOOKUP(T34,'Data for points'!$T$16:$Y$23,6,TRUE))","v":""},"","",{"$f":"MIN(IF($C$7:$C$46=C34,$AC$7:$AC$46,\"\"))","v":0},"","","","","","",""]
[null,null,null,null,null,null,null,null,null,null,null,null,null,null,0,0,null,null,null,0,null,"","","",{"$error":"#DIV/0!"},"",{"$f":"IF(U35<>\"Finished\",\"\",VLOOKUP(T35,'Data for points'!$T$16:$Y$23,6,TRUE))","v":""},"","",{"$f":"MIN(IF($C$7:$C$46=C35,$AC$7:$AC$46,\"\"))","v":0},"","","","","","",""]
[null,null,null,null,null,null,null,null,null,null,null,null,null,null,0,0,null,null,null,0,null,"","","",{"$error":"#DIV/0!"},"",{"$f":"IF(U36<>\"Finished\",\"\",VLOOKUP(T36,'Data for points'!$T$16:$Y$23,6,TRUE))","v":""},"","",{"$f":"MIN(IF($C$7:$C$46=C36,$AC$7:$AC$46,\"\"))","v":0},"","","","","","",""]
[null,null,null,null,null,null,null,null,null,null,null,null,null,null,0,0,null,null,null,0,null,"","","",{"$error":"#DIV/0!"},"",{"$f":"IF(U37<>\"Finished\",\"\",VLOOKUP(T37,'Data for points'!$T$16:$Y$23,6,TRUE))","v":""},"","",{"$f":"MIN(IF($C$7:$C$46=C37,$AC$7:$AC$46,\"\"))","v":0},"","","","","","",""]
[null,null,null,null,null,null,null,null,null,null,null,null,null,null,0,0,null,null,null,0,null,"","","",{"$error":"#DIV/0!"},"",{"$f":"IF(U38<>\"Finished\",\"\",VLOOKUP(T38,'Data for points'!$T$16:$Y$23,6,TRUE))","v":""},"","",{"$f":"MIN(IF($C$7:$C$46=C38,$AC$7:$AC$46,\"\"))","v":0},"","","","","","",""]
[null,null,null,null,null,null,null,null,null,null,null,null,null,null,0,0,null,null,null,0,null,"","","",{"$error":"#DIV/0!"},"",{"$f":"IF(U39<>\"Finished\",\"\",VLOOKUP(T39,'Data for points'!$T$16:$Y$23,6,TRUE))","v":""},"","",{"$f":"MIN(IF($C$7:$C$46=C39,$AC$7:$AC$46,\"\"))","v":0},"","","","","","",""]
[null,null,null,null,null,null,null,null,null,null,null,null,null,null,0,0,null,null,null,0,null,"","","",{"$error":"#DIV/0!"},"",{"$f":"IF(U40<>\"Finished\",\"\",VLOOKUP(T40,'Data for points'!$T$16:$Y$23,6,TRUE))","v":""},"","",{"$f":"MIN(IF($C$7:$C$46=C40,$AC$7:$AC$46,\"\"))","v":0},"","","","","","",""]
[null,null,null,null,null,null,null,null,null,null,null,null,null,null,0,0,null,null,null,0,null,"","","",{"$error":"#DIV/0!"},"",{"$f":"IF(U41<>\"Finished\",\"\",VLOOKUP(T41,'Data for points'!$T$16:$Y$23,6,TRUE))","v":""},"","",{"$f":"MIN(IF($C$7:$C$46=C41,$AC$7:$AC$46,\"\"))","v":0},"","","","","","",""]
[null,null,null,null,null,null,null,null,null,null,null,null,null,null,0,0,null,null,null,0,null,"","","",{"$error":"#DIV/0!"},"",{"$f":"IF(U42<>\"Finished\",\"\",VLOOKUP(T42,'Data for points'!$T$16:$Y$23,6,TRUE))","v":""},"","",{"$f":"MIN(IF($C$7:$C$46=C42,$AC$7:$AC$46,\"\"))","v":0},"","","","","","",""]
[null,null,null,null,null,null,null,null,null,null,null,null,null,null,0,0,null,null,null,0,null,"","","",{"$error":"#DIV/0!"},"",{"$f":"IF(U43<>\"Finished\",\"\",VLOOKUP(T43,'Data for points'!$T$16:$Y$23,6,TRUE))","v":""},"","",{"$f":"MIN(IF($C$7:$C$46=C43,$AC$7:$AC$46,\"\"))","v":0},"","","","","","",""]
[null,null,null,null,null,null,null,null,null,null,null,null,null,null,0,0,null,null,null,0,null,"","","",{"$error":"#DIV/0!"},"",{"$f":"IF(U44<>\"Finished\",\"\",VLOOKUP(T44,'Data for points'!$T$16:$Y$23,6,TRUE))","v":""},"","",{"$f":"MIN(IF($C$7:$C$46=C44,$AC$7:$AC$46,\"\"))","v":0},"","","","","","",""]
[null,null,null,null,null,null,null,null,null,null,null,null,null,null,0,0,null,null,null,0,null,"","","",{"$error":"#DIV/0!"},"",{"$f":"IF(U45<>\"Finished\",\"\",VLOOKUP(T45,'Data for points'!$T$16:$Y$23,6,TRUE))","v":""},"","",{"$f":"MIN(IF($C$7:$C$46=C45,$AC$7:$AC$46,\"\"))","v":0},"","","","","","",""]
[null,null,null,null,null,null,null,null,null,null,null,null,null,null,0,0,null,null,null,0,null,"","","",{"$error":"#DIV/0!"},"",{"$f":"IF(U46<>\"Finished\",\"\",VLOOKUP(T46,'Data for points'!$T$16:$Y$23,6,TRUE))","v":""},"","",{"$f":"MIN(IF($C$7:$C$46=C46,$AC$7:$AC$46,\"\"))","v":0},"","","","","","",""]
[]
[]
[]
[]
[]
[]
[]
[]
[]
[]
[]
[]
[]
[]
[]
[]
[]
[]
[]
[]
[]
[]
[]
[]
[]
[]
[]
[]
[]
[]
[]
[]
[]
[]
[]
[]
[]
[]
[]
[]
[]
[]
[]
[]
[]
[]
[]
[]
[]
[]
[]
[]
[]
[null,null,null,null,null,null,null,null,null,null,null,null,null,null,null,null,null,null,null,null,"Finished"]
[null,null,null,null,null,null,null,null,null,null,null,null,null,null,null,null,null,null,null,null,"Disqualified"]

{"sheet":"4 x 50 medley Relay Men","index":47,"n_rows":101,"n_cols":37,"rows_kept":101,"cut":false,"hidden":true,"merged":[[4,11,4,12],[4,14,4,15],[4,16,4,18],[1,16,1,17]]}
[null,null,null,null,null,null,null,null,null,null,null,null,null,null,null,null,null,null,null,"UR in seconds"]
[null,"Men's",null,null,null,null,null,null,null,null,null,"4 x 50 Rescue Relay",null,null,null,null,"Club to \nHighlight",null,null,{"$f":"'Data for points'!J5","v":0},{"$f":"CONCATENATE(\"University  Record=\",INT(T2/60),\" minS\",MOD(T2,60),\" secs\")","v":"University  Record=0 minS0 secs"}]
[]
[]
["A University(Boolean)","Club Name","Club Code","Leg1","Leg1CompettiorID","Leg2","Leg2CompettiorID","Leg3","Leg3CompettiorID","Leg4","Leg4CompettiorID","ID code",null,"Entry Time(Seconds)","Entry Time",null,"Time",null,null,"Time(seconds)","Finish \nStatus","TimeSand  DQs","Rank","Competition \nPlace","PointSCalculation","Lifesaving Points","Survive and Save Status","Squad List","Rank For \nSquadSMembers","Top Finisher for there Uni","Top finisher Select Competitor for ranking","Squad\n Points","Uni Finishers","Student\n Points","Non-Uni Finishers","Non-Student \nPoints"]
[null,null,null,null,null,null,null,null,null,null,null,null,null,null,"Mins","Seconds","Mins","Seconds","1/100"]
[null,null,null,null,null,null,null,null,null,null,null,null,null,null,{"$f":"INT(N7/60)","v":0},{"$f":"MOD(N7,60)","v":0},null,null,null,{"$f":"Q7*60+R7+S7/100","v":0},null,{"$f":"IF(U7<>\"Finished\",IF(U7<=0,\"\",U7),IF(U7=\"Finished\",IF(T7<=0,\"\",T7),\"\"))","v":""},{"$f":"IF(OR(LEFT(V7,1)=\"D\",V7=\"\"),\"\",RANK(V7,$V$7:$V$46,1))","v":""},{"$f":"IF(LEFT(U7,1)=\"D\",MAX($W$7:$W$46)+1,W7)","v":""},{"$f":"(1-(T7-$T$2)/$T$2)*1000","v":{"$error":"#DIV/0!"}},{"$f":"IF(U7<>\"Finished\",\"\",IF(Y7<0,0,Y7))","v":""},{"$f":"IF(U7<>\"Finished\",\"\",VLOOKUP(T7,'Data for points'!$J$16:$Y$23,16,TRUE))","v":""},{"$f":"IF(L7=\"S\",X7,\"\")","v":""},{"$f":"IF(AB7=\"\",\"\",RANK(AB7,$AB$7:$AB$46,1))","v":""},{"$f":"MIN(IF($C$7:$C$46=C7,$AC$7:$AC$46,\"\"))","v":0},{"$f":"IF(AD7=AC7,AD7,\"\")","v":""},{"$f":"IF(AE7=\"\",\"\",RANK(AE7,$AE$7:$AE$46,1))","v":""},{"$f":"IF(A7=1,AF7,\"\")","v":""},{"$f":"IF(AG7=\"\",\"\",RANK(AG7,$AG$7:$AG$46,1))","v":""},{"$f":"IF(A7=0,AF7,\"\")","v":""},{"$f":"IF(AI7=\"\",\"\",RANK(AI7,$AI$7:$AI$46,1))","v":""},{"$f":"IF(OR(U7<>\"Finished\",T7>$O$2),\"\",\"UR\")","v":""}]
[null,null,null,null,null,null,null,null,null,null,null,null,null,null,{"$f":"INT(N8/60)","v":0},{"$f":"MOD(N8,60)","v":0},null,null,null,{"$f":"Q8*60+R8+S8/100","v":0},null,{"$f":"IF(U8<>\"Finished\",IF(U8<=0,\"\",U8),IF(U8=\"Finished\",IF(T8<=0,\"\",T8),\"\"))","v":""},{"$f":"IF(OR(LEFT(V8,1)=\"D\",V8=\"\"),\"\",RANK(V8,$V$7:$V$46,1))","v":""},{"$f":"IF(LEFT(U8,1)=\"D\",MAX($W$7:$W$46)+1,W8)","v":""},{"$f":"(1-(T8-$T$2)/$T$2)*1000","v":{"$error":"#DIV/0!"}},{"$f":"IF(U8<>\"Finished\",\"\",IF(Y8<0,0,Y8))","v":""},{"$f":"IF(U8<>\"Finished\",\"\",VLOOKUP(T8,'Data for points'!$J$16:$Y$23,16,TRUE))","v":""},{"$f":"IF(L8=\"S\",X8,\"\")","v":""},{"$f":"IF(AB8=\"\",\"\",RANK(AB8,$AB$7:$AB$46,1))","v":""},{"$f":"MIN(IF($C$7:$C$46=C8,$AC$7:$AC$46,\"\"))","v":0},{"$f":"IF(AD8=AC8,AD8,\"\")","v":""},{"$f":"IF(AE8=\"\",\"\",RANK(AE8,$AE$7:$AE$46,1))","v":""},"",{"$f":"IF(AG8=\"\",\"\",RANK(AG8,$AG$7:$AG$46,1))","v":""},{"$f":"IF(A8=0,AF8,\"\")","v":""},{"$f":"IF(AI8=\"\",\"\",RANK(AI8,$AI$7:$AI$46,1))","v":""},{"$f":"IF(OR(U8<>\"Finished\",T8>$O$2),\"\",\"UR\")","v":""}]
[null,null,null,null,null,null,null,null,null,null,null,null,null,null,0,0,null,null,null,0,null,"","","",{"$error":"#DIV/0!"},"",{"$f":"IF(U9<>\"Finished\",\"\",VLOOKUP(T9,'Data for points'!$J$16:$Y$23,16,TRUE))","v":""},"","",{"$f":"MIN(IF($C$7:$C$46=C9,$AC$7:$AC$46,\"\"))","v":0},"","","","","","",""]
[null,null,null,null,null,null,null,null,null,null,null,null,null,null,0,0,null,null,null,0,null,"","","",{"$error":"#DIV/0!"},"",{"$f":"IF(U10<>\"Finished\",\"\",VLOOKUP(T10,'Data for points'!$J$16:$Y$23,16,TRUE))","v":""},"","",{"$f":"MIN(IF($C$7:$C$46=C10,$AC$7:$AC$46,\"\"))","v":0},"","","","","","",""]
[null,null,null,null,null,null,null,null,null,null,null,null,null,null,0,0,null,null,null,0,null,"","","",{"$error":"#DIV/0!"},"",{"$f":"IF(U11<>\"Finished\",\"\",VLOOKUP(T11,'Data for points'!$J$16:$Y$23,16,TRUE))","v":""},"","",{"$f":"MIN(IF($C$7:$C$46=C11,$AC$7:$AC$46,\"\"))","v":0},"","","","","","",""]
[null,null,null,null,null,null,null,null,null,null,null,null,null,null,0,0,null,null,null,0,null,"","","",{"$error":"#DIV/0!"},"",{"$f":"IF(U12<>\"Finished\",\"\",VLOOKUP(T12,'Data for points'!$J$16:$Y$23,16,TRUE))","v":""},"","",{"$f":"MIN(IF($C$7:$C$46=C12,$AC$7:$AC$46,\"\"))","v":0},"","","","","","",""]
[null,null,null,null,null,null,null,null,null,null,null,null,null,null,0,0,null,null,null,0,null,"","","",{"$error":"#DIV/0!"},"",{"$f":"IF(U13<>\"Finished\",\"\",VLOOKUP(T13,'Data for points'!$J$16:$Y$23,16,TRUE))","v":""},"","",{"$f":"MIN(IF($C$7:$C$46=C13,$AC$7:$AC$46,\"\"))","v":0},"","","","","","",""]
[null,null,null,null,null,null,null,null,null,null,null,null,null,null,0,0,null,null,null,0,null,"","","",{"$error":"#DIV/0!"},"",{"$f":"IF(U14<>\"Finished\",\"\",VLOOKUP(T14,'Data for points'!$J$16:$Y$23,16,TRUE))","v":""},"","",{"$f":"MIN(IF($C$7:$C$46=C14,$AC$7:$AC$46,\"\"))","v":0},"","","","","","",""]
[null,null,null,null,null,null,null,null,null,null,null,null,null,null,0,0,null,null,null,0,null,"","","",{"$error":"#DIV/0!"},"",{"$f":"IF(U15<>\"Finished\",\"\",VLOOKUP(T15,'Data for points'!$J$16:$Y$23,16,TRUE))","v":""},"","",{"$f":"MIN(IF($C$7:$C$46=C15,$AC$7:$AC$46,\"\"))","v":0},"","","","","","",""]
[null,null,null,null,null,null,null,null,null,null,null,null,null,null,0,0,null,null,null,0,null,"","","",{"$error":"#DIV/0!"},"",{"$f":"IF(U16<>\"Finished\",\"\",VLOOKUP(T16,'Data for points'!$J$16:$Y$23,16,TRUE))","v":""},"","",{"$f":"MIN(IF($C$7:$C$46=C16,$AC$7:$AC$46,\"\"))","v":0},"","","","","","",""]
[null,null,null,null,null,null,null,null,null,null,null,null,null,null,0,0,null,null,null,0,null,"","","",{"$error":"#DIV/0!"},"",{"$f":"IF(U17<>\"Finished\",\"\",VLOOKUP(T17,'Data for points'!$J$16:$Y$23,16,TRUE))","v":""},"","",{"$f":"MIN(IF($C$7:$C$46=C17,$AC$7:$AC$46,\"\"))","v":0},"","","","","","",""]
[null,null,null,null,null,null,null,null,null,null,null,null,null,null,0,0,null,null,null,0,null,"","","",{"$error":"#DIV/0!"},"",{"$f":"IF(U18<>\"Finished\",\"\",VLOOKUP(T18,'Data for points'!$J$16:$Y$23,16,TRUE))","v":""},"","",{"$f":"MIN(IF($C$7:$C$46=C18,$AC$7:$AC$46,\"\"))","v":0},"","","","","","",""]
[null,null,null,null,null,null,null,null,null,null,null,null,null,null,0,0,null,null,null,0,null,"","","",{"$error":"#DIV/0!"},"",{"$f":"IF(U19<>\"Finished\",\"\",VLOOKUP(T19,'Data for points'!$J$16:$Y$23,16,TRUE))","v":""},"","",{"$f":"MIN(IF($C$7:$C$46=C19,$AC$7:$AC$46,\"\"))","v":0},"","","","","","",""]
[null,null,null,null,null,null,null,null,null,null,null,null,null,null,0,0,null,null,null,0,null,"","","",{"$error":"#DIV/0!"},"",{"$f":"IF(U20<>\"Finished\",\"\",VLOOKUP(T20,'Data for points'!$J$16:$Y$23,16,TRUE))","v":""},"","",{"$f":"MIN(IF($C$7:$C$46=C20,$AC$7:$AC$46,\"\"))","v":0},"","","","","","",""]
[null,null,null,null,null,null,null,null,null,null,null,null,null,null,0,0,null,null,null,0,null,"","","",{"$error":"#DIV/0!"},"",{"$f":"IF(U21<>\"Finished\",\"\",VLOOKUP(T21,'Data for points'!$J$16:$Y$23,16,TRUE))","v":""},"","",{"$f":"MIN(IF($C$7:$C$46=C21,$AC$7:$AC$46,\"\"))","v":0},"","","","","","",""]
[null,null,null,null,null,null,null,null,null,null,null,null,null,null,0,0,null,null,null,0,null,"","","",{"$error":"#DIV/0!"},"",{"$f":"IF(U22<>\"Finished\",\"\",VLOOKUP(T22,'Data for points'!$J$16:$Y$23,16,TRUE))","v":""},"","",{"$f":"MIN(IF($C$7:$C$46=C22,$AC$7:$AC$46,\"\"))","v":0},"","","","","","",""]
[null,null,null,null,null,null,null,null,null,null,null,null,null,null,0,0,null,null,null,0,null,"","","",{"$error":"#DIV/0!"},"",{"$f":"IF(U23<>\"Finished\",\"\",VLOOKUP(T23,'Data for points'!$J$16:$Y$23,16,TRUE))","v":""},"","",{"$f":"MIN(IF($C$7:$C$46=C23,$AC$7:$AC$46,\"\"))","v":0},"","","","","","",""]
[null,null,null,null,null,null,null,null,null,null,null,null,null,null,0,0,null,null,null,0,null,"","","",{"$error":"#DIV/0!"},"",{"$f":"IF(U24<>\"Finished\",\"\",VLOOKUP(T24,'Data for points'!$J$16:$Y$23,16,TRUE))","v":""},"","",{"$f":"MIN(IF($C$7:$C$46=C24,$AC$7:$AC$46,\"\"))","v":0},"","","","","","",""]
[null,null,null,null,null,null,null,null,null,null,null,null,null,null,0,0,null,null,null,0,null,"","","",{"$error":"#DIV/0!"},"",{"$f":"IF(U25<>\"Finished\",\"\",VLOOKUP(T25,'Data for points'!$J$16:$Y$23,16,TRUE))","v":""},"","",{"$f":"MIN(IF($C$7:$C$46=C25,$AC$7:$AC$46,\"\"))","v":0},"","","","","","",""]
[null,null,null,null,null,null,null,null,null,null,null,null,null,null,0,0,null,null,null,0,null,"","","",{"$error":"#DIV/0!"},"",{"$f":"IF(U26<>\"Finished\",\"\",VLOOKUP(T26,'Data for points'!$J$16:$Y$23,16,TRUE))","v":""},"","",{"$f":"MIN(IF($C$7:$C$46=C26,$AC$7:$AC$46,\"\"))","v":0},"","","","","","",""]
[null,null,null,null,null,null,null,null,null,null,null,null,null,null,0,0,null,null,null,0,null,"","","",{"$error":"#DIV/0!"},"",{"$f":"IF(U27<>\"Finished\",\"\",VLOOKUP(T27,'Data for points'!$J$16:$Y$23,16,TRUE))","v":""},"","",{"$f":"MIN(IF($C$7:$C$46=C27,$AC$7:$AC$46,\"\"))","v":0},"","","","","","",""]
[null,null,null,null,null,null,null,null,null,null,null,null,null,null,0,0,null,null,null,0,null,"","","",{"$error":"#DIV/0!"},"",{"$f":"IF(U28<>\"Finished\",\"\",VLOOKUP(T28,'Data for points'!$J$16:$Y$23,16,TRUE))","v":""},"","",{"$f":"MIN(IF($C$7:$C$46=C28,$AC$7:$AC$46,\"\"))","v":0},"","","","","","",""]
[null,null,null,null,null,null,null,null,null,null,null,null,null,null,0,0,null,null,null,0,null,"","","",{"$error":"#DIV/0!"},"",{"$f":"IF(U29<>\"Finished\",\"\",VLOOKUP(T29,'Data for points'!$J$16:$Y$23,16,TRUE))","v":""},"","",{"$f":"MIN(IF($C$7:$C$46=C29,$AC$7:$AC$46,\"\"))","v":0},"","","","","","",""]
[null,null,null,null,null,null,null,null,null,null,null,null,null,null,0,0,null,null,null,0,null,"","","",{"$error":"#DIV/0!"},"",{"$f":"IF(U30<>\"Finished\",\"\",VLOOKUP(T30,'Data for points'!$J$16:$Y$23,16,TRUE))","v":""},"","",{"$f":"MIN(IF($C$7:$C$46=C30,$AC$7:$AC$46,\"\"))","v":0},"","","","","","",""]
[null,null,null,null,null,null,null,null,null,null,null,null,null,null,0,0,null,null,null,0,null,"","","",{"$error":"#DIV/0!"},"",{"$f":"IF(U31<>\"Finished\",\"\",VLOOKUP(T31,'Data for points'!$J$16:$Y$23,16,TRUE))","v":""},"","",{"$f":"MIN(IF($C$7:$C$46=C31,$AC$7:$AC$46,\"\"))","v":0},"","","","","","",""]
[null,null,1,null,null,null,null,null,null,null,null,null,null,null,0,0,null,null,null,0,null,"","","",{"$error":"#DIV/0!"},"",{"$f":"IF(U32<>\"Finished\",\"\",VLOOKUP(T32,'Data for points'!$J$16:$Y$23,16,TRUE))","v":""},"","",{"$f":"MIN(IF($C$7:$C$46=C32,$AC$7:$AC$46,\"\"))","v":0},"","","","","","",""]
[null,null,null,null,null,null,null,null,null,null,null,null,null,null,0,0,null,null,null,0,null,"","","",{"$error":"#DIV/0!"},"",{"$f":"IF(U33<>\"Finished\",\"\",VLOOKUP(T33,'Data for points'!$J$16:$Y$23,16,TRUE))","v":""},"","",{"$f":"MIN(IF($C$7:$C$46=C33,$AC$7:$AC$46,\"\"))","v":0},"","","","","","",""]
[null,null,null,null,null,null,null,null,null,null,null,null,null,null,0,0,null,null,null,0,null,"","","",{"$error":"#DIV/0!"},"",{"$f":"IF(U34<>\"Finished\",\"\",VLOOKUP(T34,'Data for points'!$J$16:$Y$23,16,TRUE))","v":""},"","",{"$f":"MIN(IF($C$7:$C$46=C34,$AC$7:$AC$46,\"\"))","v":0},"","","","","","",""]
[null,null,null,null,null,null,null,null,null,null,null,null,null,null,0,0,null,null,null,0,null,"","","",{"$error":"#DIV/0!"},"",{"$f":"IF(U35<>\"Finished\",\"\",VLOOKUP(T35,'Data for points'!$J$16:$Y$23,16,TRUE))","v":""},"","",{"$f":"MIN(IF($C$7:$C$46=C35,$AC$7:$AC$46,\"\"))","v":0},"","","","","","",""]
[null,null,null,null,null,null,null,null,null,null,null,null,null,null,0,0,null,null,null,0,null,"","","",{"$error":"#DIV/0!"},"",{"$f":"IF(U36<>\"Finished\",\"\",VLOOKUP(T36,'Data for points'!$J$16:$Y$23,16,TRUE))","v":""},"","",{"$f":"MIN(IF($C$7:$C$46=C36,$AC$7:$AC$46,\"\"))","v":0},"","","","","","",""]
[null,null,null,null,null,null,null,null,null,null,null,null,null,null,0,0,null,null,null,0,null,"","","",{"$error":"#DIV/0!"},"",{"$f":"IF(U37<>\"Finished\",\"\",VLOOKUP(T37,'Data for points'!$J$16:$Y$23,16,TRUE))","v":""},"","",{"$f":"MIN(IF($C$7:$C$46=C37,$AC$7:$AC$46,\"\"))","v":0},"","","","","","",""]
[null,null,null,null,null,null,null,null,null,null,null,null,null,null,0,0,null,null,null,0,null,"","","",{"$error":"#DIV/0!"},"",{"$f":"IF(U38<>\"Finished\",\"\",VLOOKUP(T38,'Data for points'!$J$16:$Y$23,16,TRUE))","v":""},"","",{"$f":"MIN(IF($C$7:$C$46=C38,$AC$7:$AC$46,\"\"))","v":0},"","","","","","",""]
[null,null,null,null,null,null,null,null,null,null,null,null,null,null,0,0,null,null,null,0,null,"","","",{"$error":"#DIV/0!"},"",{"$f":"IF(U39<>\"Finished\",\"\",VLOOKUP(T39,'Data for points'!$J$16:$Y$23,16,TRUE))","v":""},"","",{"$f":"MIN(IF($C$7:$C$46=C39,$AC$7:$AC$46,\"\"))","v":0},"","","","","","",""]
[null,null,null,null,null,null,null,null,null,null,null,null,null,null,0,0,null,null,null,0,null,"","","",{"$error":"#DIV/0!"},"",{"$f":"IF(U40<>\"Finished\",\"\",VLOOKUP(T40,'Data for points'!$J$16:$Y$23,16,TRUE))","v":""},"","",{"$f":"MIN(IF($C$7:$C$46=C40,$AC$7:$AC$46,\"\"))","v":0},"","","","","","",""]
[null,null,null,null,null,null,null,null,null,null,null,null,null,null,0,0,null,null,null,0,null,"","","",{"$error":"#DIV/0!"},"",{"$f":"IF(U41<>\"Finished\",\"\",VLOOKUP(T41,'Data for points'!$J$16:$Y$23,16,TRUE))","v":""},"","",{"$f":"MIN(IF($C$7:$C$46=C41,$AC$7:$AC$46,\"\"))","v":0},"","","","","","",""]
[null,null,null,null,null,null,null,null,null,null,null,null,null,null,0,0,null,null,null,0,null,"","","",{"$error":"#DIV/0!"},"",{"$f":"IF(U42<>\"Finished\",\"\",VLOOKUP(T42,'Data for points'!$J$16:$Y$23,16,TRUE))","v":""},"","",{"$f":"MIN(IF($C$7:$C$46=C42,$AC$7:$AC$46,\"\"))","v":0},"","","","","","",""]
[null,null,null,null,null,null,null,null,null,null,null,null,null,null,0,0,null,null,null,0,null,"","","",{"$error":"#DIV/0!"},"",{"$f":"IF(U43<>\"Finished\",\"\",VLOOKUP(T43,'Data for points'!$J$16:$Y$23,16,TRUE))","v":""},"","",{"$f":"MIN(IF($C$7:$C$46=C43,$AC$7:$AC$46,\"\"))","v":0},"","","","","","",""]
[null,null,null,null,null,null,null,null,null,null,null,null,null,null,0,0,null,null,null,0,null,"","","",{"$error":"#DIV/0!"},"",{"$f":"IF(U44<>\"Finished\",\"\",VLOOKUP(T44,'Data for points'!$J$16:$Y$23,16,TRUE))","v":""},"","",{"$f":"MIN(IF($C$7:$C$46=C44,$AC$7:$AC$46,\"\"))","v":0},"","","","","","",""]
[null,null,null,null,null,null,null,null,null,null,null,null,null,null,0,0,null,null,null,0,null,"","","",{"$error":"#DIV/0!"},"",{"$f":"IF(U45<>\"Finished\",\"\",VLOOKUP(T45,'Data for points'!$J$16:$Y$23,16,TRUE))","v":""},"","",{"$f":"MIN(IF($C$7:$C$46=C45,$AC$7:$AC$46,\"\"))","v":0},"","","","","","",""]
[null,null,null,null,null,null,null,null,null,null,null,null,null,null,0,0,null,null,null,0,null,"","","",{"$error":"#DIV/0!"},"",{"$f":"IF(U46<>\"Finished\",\"\",VLOOKUP(T46,'Data for points'!$J$16:$Y$23,16,TRUE))","v":""},"","",{"$f":"MIN(IF($C$7:$C$46=C46,$AC$7:$AC$46,\"\"))","v":0},"","","","","","",""]
[]
[]
[]
[]
[]
[]
[]
[]
[]
[]
[]
[]
[]
[]
[]
[]
[]
[]
[]
[]
[]
[]
[]
[]
[]
[]
[]
[]
[]
[]
[]
[]
[]
[]
[]
[]
[]
[]
[]
[]
[]
[]
[]
[]
[]
[]
[]
[]
[]
[]
[]
[]
[]
[null,null,null,null,null,null,null,null,null,null,null,null,null,null,null,null,null,null,null,null,"Finished"]
[null,null,null,null,null,null,null,null,null,null,null,null,null,null,null,null,null,null,null,null,"Disqualified"]

{"sheet":"4 x 25 Medley Relay Women","index":48,"n_rows":101,"n_cols":37,"rows_kept":101,"cut":false,"hidden":false,"merged":[[1,16,1,17],[4,11,4,12],[4,14,4,15],[4,16,4,18]]}
[null,null,null,null,null,null,null,null,null,null,null,null,null,null,null,null,null,null,null,"UR in seconds"]
[null,"Women's",null,null,null,null,null,null,null,null,null,"4 x 25 Medley",null,null,null,null,"Club to \nHighlight",null,null,{"$f":"'Data for points'!T6","v":0},{"$f":"CONCATENATE(\"University  Record=\",INT(T2/60),\" minS\",MOD(T2,60),\" secs\")","v":"University  Record=0 minS0 secs"}]
[]
[]
["A University(Boolean)","Club Name","Club Code","Leg1","Leg1CompettiorID","Leg2","Leg2CompettiorID","Leg3","Leg3CompettiorID","Leg4","Leg4CompettiorID","ID code",null,"Entry Time(Seconds)","Entry Time",null,"Time",null,null,"Time(seconds)","Finish \nStatus","TimeSand  DQs","Rank","Competition \nPlace","PointSCalculation","Lifesaving Points","Survive and Save Status","Squad List","Rank For \nSquadSMembers","Top Finisher for there Uni","Top finisher Select Competitor for ranking","Squad \nPoints","Uni Finishers","Student \nPoints","Non-Uni Finishers","Non-Student \nPoints"]
[null,null,null,null,null,null,null,null,null,null,null,null,null,null,"Mins","Seconds","Mins","Seconds","1/100"]
[0,"East Kilbride",37,"Iona Halford",2977,"Alison Wilson",2965,"Isobel Miller",2959,"Susan McAllister",2962,"S","F",70,{"$f":"INT(N7/60)","v":1},{"$f":"MOD(N7,60)","v":10},1,2,41,{"$f":"Q7*60+R7+S7/100","v":62.41},"Finished",{"$f":"IF(U7<>\"Finished\",IF(U7<=0,\"\",U7),IF(U7=\"Finished\",IF(T7<=0,\"\",T7),\"\"))","v":62.41},{"$f":"IF(OR(LEFT(V7,1)=\"D\",V7=\"\"),\"\",RANK(V7,$V$7:$V$46,1))","v":2},{"$f":"IF(LEFT(U7,1)=\"D\",MAX($W$7:$W$46)+1,W7)","v":2},{"$f":"(1-(T7-$T$2)/$T$2)*1000","v":{"$error":"#DIV/0!"}},{"$f":"IF(U7<>\"Finished\",\"\",IF(Y7<0,0,Y7))","v":{"$error":"#DIV/0!"}},{"$f":"IF(U7<>\"Finished\",\"\",VLOOKUP(T7,'Data for points'!$T$26:$Y$33,6,TRUE))","v":"Very Good"},{"$f":"IF(L7=\"S\",X7,\"\")","v":2},{"$f":"IF(AB7=\"\",\"\",RANK(AB7,$AB$7:$AB$46,1))","v":2},{"$f":"MIN(IF($C$7:$C$46=C7,$AC$7:$AC$46,\"\"))","v":2},{"$f":"IF(AD7=AC7,AD7,\"\")","v":2},{"$f":"IF(AE7=\"\",\"\",RANK(AE7,$AE$7:$AE$46,1))","v":2},{"$f":"IF(A7=1,AF7,\"\")","v":""},{"$f":"IF(AG7=\"\",\"\",RANK(AG7,$AG$7:$AG$46,1))","v":""},{"$f":"IF(A7=0,AF7,\"\")","v":2},{"$f":"IF(AI7=\"\",\"\",RANK(AI7,$AI$7:$AI$46,1))","v":2},{"$f":"IF(OR(U7<>\"Finished\",T7>$O$2),\"\",\"UR\")","v":""}]
[0,"RLSS Uk Preformace",80,"Rachel Carroll",3020,"Lucy Howes",3010,"Jessica Parker",3021,"Sam Carpenter",3022,"S","F",56.66,{"$f":"INT(N8/60)","v":0},{"$f":"MOD(N8,60)","v":56.66},0,58,90,{"$f":"Q8*60+R8+S8/100","v":58.9},"Finished",{"$f":"IF(U8<>\"Finished\",IF(U8<=0,\"\",U8),IF(U8=\"Finished\",IF(T8<=0,\"\",T8),\"\"))","v":58.9},{"$f":"IF(OR(LEFT(V8,1)=\"D\",V8=\"\"),\"\",RANK(V8,$V$7:$V$46,1))","v":1},{"$f":"IF(LEFT(U8,1)=\"D\",MAX($W$7:$W$46)+1,W8)","v":1},{"$f":"(1-(T8-$T$2)/$T$2)*1000","v":{"$error":"#DIV/0!"}},{"$f":"IF(U8<>\"Finished\",\"\",IF(Y8<0,0,Y8))","v":{"$error":"#DIV/0!"}},{"$f":"IF(U8<>\"Finished\",\"\",VLOOKUP(T8,'Data for points'!$T$26:$Y$33,6,TRUE))","v":"Excellent"},{"$f":"IF(L8=\"S\",X8,\"\")","v":1},{"$f":"IF(AB8=\"\",\"\",RANK(AB8,$AB$7:$AB$46,1))","v":1},{"$f":"MIN(IF($C$7:$C$46=C8,$AC$7:$AC$46,\"\"))","v":1},{"$f":"IF(AD8=AC8,AD8,\"\")","v":1},{"$f":"IF(AE8=\"\",\"\",RANK(AE8,$AE$7:$AE$46,1))","v":1},"",{"$f":"IF(AG8=\"\",\"\",RANK(AG8,$AG$7:$AG$46,1))","v":""},1,{"$f":"IF(AI8=\"\",\"\",RANK(AI8,$AI$7:$AI$46,1))","v":1},{"$f":"IF(OR(U8<>\"Finished\",T8>$O$2),\"\",\"UR\")","v":""}]
[0,"East Kilbride",37,"Amy Domnican",2967,"Catherine Browne",2979,"Lauren Wright",2966,"Finna Parkinson",2963,"S","F",70,1,10,1,10,21,70.209999999999994,"Finished",70.209999999999994,3,3,{"$error":"#DIV/0!"},{"$error":"#DIV/0!"},{"$f":"IF(U9<>\"Finished\",\"\",VLOOKUP(T9,'Data for points'!$T$26:$Y$33,6,TRUE))","v":"Good"},3,3,{"$f":"MIN(IF($C$7:$C$46=C9,$AC$7:$AC$46,\"\"))","v":2},"","","","","","",""]
[0,"Beeslack",52,"Megan Rose",2957,"Emily Glanvill",2952,"Rebecca Stewart",2955,"Shaunna Anderson",2956,"S","F",72.59,1,12.590000000000003,1,8,12,68.12,"DQ1","DQ1","",4,{"$error":"#DIV/0!"},"",{"$f":"IF(U10<>\"Finished\",\"\",VLOOKUP(T10,'Data for points'!$T$26:$Y$33,6,TRUE))","v":""},4,4,{"$f":"MIN(IF($C$7:$C$46=C10,$AC$7:$AC$46,\"\"))","v":4},4,3,"","",3,3,""]
[null,null,null,null,null,null,null,null,null,null,null,null,null,null,0,0,null,null,null,0,null,"","","",{"$error":"#DIV/0!"},"",{"$f":"IF(U11<>\"Finished\",\"\",VLOOKUP(T11,'Data for points'!$T$26:$Y$33,6,TRUE))","v":""},"","",{"$f":"MIN(IF($C$7:$C$46=C11,$AC$7:$AC$46,\"\"))","v":0},"","","","","","",""]
[null,null,null,null,null,null,null,null,null,null,null,null,null,null,0,0,null,null,null,0,null,"","","",{"$error":"#DIV/0!"},"",{"$f":"IF(U12<>\"Finished\",\"\",VLOOKUP(T12,'Data for points'!$T$26:$Y$33,6,TRUE))","v":""},"","",{"$f":"MIN(IF($C$7:$C$46=C12,$AC$7:$AC$46,\"\"))","v":0},"","","","","","",""]
[null,null,null,null,null,null,null,null,null,null,null,null,null,null,0,0,null,null,null,0,null,"","","",{"$error":"#DIV/0!"},"",{"$f":"IF(U13<>\"Finished\",\"\",VLOOKUP(T13,'Data for points'!$T$26:$Y$33,6,TRUE))","v":""},"","",{"$f":"MIN(IF($C$7:$C$46=C13,$AC$7:$AC$46,\"\"))","v":0},"","","","","","",""]
[null,null,null,null,null,null,null,null,null,null,null,null,null,null,0,0,null,null,null,0,null,"","","",{"$error":"#DIV/0!"},"",{"$f":"IF(U14<>\"Finished\",\"\",VLOOKUP(T14,'Data for points'!$T$26:$Y$33,6,TRUE))","v":""},"","",{"$f":"MIN(IF($C$7:$C$46=C14,$AC$7:$AC$46,\"\"))","v":0},"","","","","","",""]
[null,null,null,null,null,null,null,null,null,null,null,null,null,null,0,0,null,null,null,0,null,"","","",{"$error":"#DIV/0!"},"",{"$f":"IF(U15<>\"Finished\",\"\",VLOOKUP(T15,'Data for points'!$T$26:$Y$33,6,TRUE))","v":""},"","",{"$f":"MIN(IF($C$7:$C$46=C15,$AC$7:$AC$46,\"\"))","v":0},"","","","","","",""]
[null,null,null,null,null,null,null,null,null,null,null,null,null,null,0,0,null,null,null,0,null,"","","",{"$error":"#DIV/0!"},"",{"$f":"IF(U16<>\"Finished\",\"\",VLOOKUP(T16,'Data for points'!$T$26:$Y$33,6,TRUE))","v":""},"","",{"$f":"MIN(IF($C$7:$C$46=C16,$AC$7:$AC$46,\"\"))","v":0},"","","","","","",""]
[null,null,null,null,null,null,null,null,null,null,null,null,null,null,0,0,null,null,null,0,null,"","","",{"$error":"#DIV/0!"},"",{"$f":"IF(U17<>\"Finished\",\"\",VLOOKUP(T17,'Data for points'!$T$26:$Y$33,6,TRUE))","v":""},"","",{"$f":"MIN(IF($C$7:$C$46=C17,$AC$7:$AC$46,\"\"))","v":0},"","","","","","",""]
[null,null,null,null,null,null,null,null,null,null,null,null,null,null,0,0,null,null,null,0,null,"","","",{"$error":"#DIV/0!"},"",{"$f":"IF(U18<>\"Finished\",\"\",VLOOKUP(T18,'Data for points'!$T$26:$Y$33,6,TRUE))","v":""},"","",{"$f":"MIN(IF($C$7:$C$46=C18,$AC$7:$AC$46,\"\"))","v":0},"","","","","","",""]
[null,null,null,null,null,null,null,null,null,null,null,null,null,null,0,0,null,null,null,0,null,"","","",{"$error":"#DIV/0!"},"",{"$f":"IF(U19<>\"Finished\",\"\",VLOOKUP(T19,'Data for points'!$T$26:$Y$33,6,TRUE))","v":""},"","",{"$f":"MIN(IF($C$7:$C$46=C19,$AC$7:$AC$46,\"\"))","v":0},"","","","","","",""]
[null,null,null,null,null,null,null,null,null,null,null,null,null,null,0,0,null,null,null,0,null,"","","",{"$error":"#DIV/0!"},"",{"$f":"IF(U20<>\"Finished\",\"\",VLOOKUP(T20,'Data for points'!$T$26:$Y$33,6,TRUE))","v":""},"","",{"$f":"MIN(IF($C$7:$C$46=C20,$AC$7:$AC$46,\"\"))","v":0},"","","","","","",""]
[null,null,null,null,null,null,null,null,null,null,null,null,null,null,0,0,null,null,null,0,null,"","","",{"$error":"#DIV/0!"},"",{"$f":"IF(U21<>\"Finished\",\"\",VLOOKUP(T21,'Data for points'!$T$26:$Y$33,6,TRUE))","v":""},"","",{"$f":"MIN(IF($C$7:$C$46=C21,$AC$7:$AC$46,\"\"))","v":0},"","","","","","",""]
[null,null,null,null,null,null,null,null,null,null,null,null,null,null,0,0,null,null,null,0,null,"","","",{"$error":"#DIV/0!"},"",{"$f":"IF(U22<>\"Finished\",\"\",VLOOKUP(T22,'Data for points'!$T$26:$Y$33,6,TRUE))","v":""},"","",{"$f":"MIN(IF($C$7:$C$46=C22,$AC$7:$AC$46,\"\"))","v":0},"","","","","","",""]
[null,null,null,null,null,null,null,null,null,null,null,null,null,null,0,0,null,null,null,0,null,"","","",{"$error":"#DIV/0!"},"",{"$f":"IF(U23<>\"Finished\",\"\",VLOOKUP(T23,'Data for points'!$T$26:$Y$33,6,TRUE))","v":""},"","",{"$f":"MIN(IF($C$7:$C$46=C23,$AC$7:$AC$46,\"\"))","v":0},"","","","","","",""]
[null,null,null,null,null,null,null,null,null,null,null,null,null,null,0,0,null,null,null,0,null,"","","",{"$error":"#DIV/0!"},"",{"$f":"IF(U24<>\"Finished\",\"\",VLOOKUP(T24,'Data for points'!$T$26:$Y$33,6,TRUE))","v":""},"","",{"$f":"MIN(IF($C$7:$C$46=C24,$AC$7:$AC$46,\"\"))","v":0},"","","","","","",""]
[null,null,null,null,null,null,null,null,null,null,null,null,null,null,0,0,null,null,null,0,null,"","","",{"$error":"#DIV/0!"},"",{"$f":"IF(U25<>\"Finished\",\"\",VLOOKUP(T25,'Data for points'!$T$26:$Y$33,6,TRUE))","v":""},"","",{"$f":"MIN(IF($C$7:$C$46=C25,$AC$7:$AC$46,\"\"))","v":0},"","","","","","",""]
[null,null,null,null,null,null,null,null,null,null,null,null,null,null,0,0,null,null,null,0,null,"","","",{"$error":"#DIV/0!"},"",{"$f":"IF(U26<>\"Finished\",\"\",VLOOKUP(T26,'Data for points'!$T$26:$Y$33,6,TRUE))","v":""},"","",{"$f":"MIN(IF($C$7:$C$46=C26,$AC$7:$AC$46,\"\"))","v":0},"","","","","","",""]
[null,null,null,null,null,null,null,null,null,null,null,null,null,null,0,0,null,null,null,0,null,"","","",{"$error":"#DIV/0!"},"",{"$f":"IF(U27<>\"Finished\",\"\",VLOOKUP(T27,'Data for points'!$T$26:$Y$33,6,TRUE))","v":""},"","",{"$f":"MIN(IF($C$7:$C$46=C27,$AC$7:$AC$46,\"\"))","v":0},"","","","","","",""]
[null,null,null,null,null,null,null,null,null,null,null,null,null,null,0,0,null,null,null,0,null,"","","",{"$error":"#DIV/0!"},"",{"$f":"IF(U28<>\"Finished\",\"\",VLOOKUP(T28,'Data for points'!$T$26:$Y$33,6,TRUE))","v":""},"","",{"$f":"MIN(IF($C$7:$C$46=C28,$AC$7:$AC$46,\"\"))","v":0},"","","","","","",""]
[null,null,null,null,null,null,null,null,null,null,null,null,null,null,0,0,null,null,null,0,null,"","","",{"$error":"#DIV/0!"},"",{"$f":"IF(U29<>\"Finished\",\"\",VLOOKUP(T29,'Data for points'!$T$26:$Y$33,6,TRUE))","v":""},"","",{"$f":"MIN(IF($C$7:$C$46=C29,$AC$7:$AC$46,\"\"))","v":0},"","","","","","",""]
[null,null,null,null,null,null,null,null,null,null,null,null,null,null,0,0,null,null,null,0,null,"","","",{"$error":"#DIV/0!"},"",{"$f":"IF(U30<>\"Finished\",\"\",VLOOKUP(T30,'Data for points'!$T$26:$Y$33,6,TRUE))","v":""},"","",{"$f":"MIN(IF($C$7:$C$46=C30,$AC$7:$AC$46,\"\"))","v":0},"","","","","","",""]
[null,null,null,null,null,null,null,null,null,null,null,null,null,null,0,0,null,null,null,0,null,"","","",{"$error":"#DIV/0!"},"",{"$f":"IF(U31<>\"Finished\",\"\",VLOOKUP(T31,'Data for points'!$T$26:$Y$33,6,TRUE))","v":""},"","",{"$f":"MIN(IF($C$7:$C$46=C31,$AC$7:$AC$46,\"\"))","v":0},"","","","","","",""]
[null,null,1,null,null,null,null,null,null,null,null,null,null,null,0,0,null,null,null,0,null,"","","",{"$error":"#DIV/0!"},"",{"$f":"IF(U32<>\"Finished\",\"\",VLOOKUP(T32,'Data for points'!$T$26:$Y$33,6,TRUE))","v":""},"","",{"$f":"MIN(IF($C$7:$C$46=C32,$AC$7:$AC$46,\"\"))","v":0},"","","","","","",""]
[null,null,null,null,null,null,null,null,null,null,null,null,null,null,0,0,null,null,null,0,null,"","","",{"$error":"#DIV/0!"},"",{"$f":"IF(U33<>\"Finished\",\"\",VLOOKUP(T33,'Data for points'!$T$26:$Y$33,6,TRUE))","v":""},"","",{"$f":"MIN(IF($C$7:$C$46=C33,$AC$7:$AC$46,\"\"))","v":0},"","","","","","",""]
[null,null,null,null,null,null,null,null,null,null,null,null,null,null,0,0,null,null,null,0,null,"","","",{"$error":"#DIV/0!"},"",{"$f":"IF(U34<>\"Finished\",\"\",VLOOKUP(T34,'Data for points'!$T$26:$Y$33,6,TRUE))","v":""},"","",{"$f":"MIN(IF($C$7:$C$46=C34,$AC$7:$AC$46,\"\"))","v":0},"","","","","","",""]
[null,null,null,null,null,null,null,null,null,null,null,null,null,null,0,0,null,null,null,0,null,"","","",{"$error":"#DIV/0!"},"",{"$f":"IF(U35<>\"Finished\",\"\",VLOOKUP(T35,'Data for points'!$T$26:$Y$33,6,TRUE))","v":""},"","",{"$f":"MIN(IF($C$7:$C$46=C35,$AC$7:$AC$46,\"\"))","v":0},"","","","","","",""]
[null,null,null,null,null,null,null,null,null,null,null,null,null,null,0,0,null,null,null,0,null,"","","",{"$error":"#DIV/0!"},"",{"$f":"IF(U36<>\"Finished\",\"\",VLOOKUP(T36,'Data for points'!$T$26:$Y$33,6,TRUE))","v":""},"","",{"$f":"MIN(IF($C$7:$C$46=C36,$AC$7:$AC$46,\"\"))","v":0},"","","","","","",""]
[null,null,null,null,null,null,null,null,null,null,null,null,null,null,0,0,null,null,null,0,null,"","","",{"$error":"#DIV/0!"},"",{"$f":"IF(U37<>\"Finished\",\"\",VLOOKUP(T37,'Data for points'!$T$26:$Y$33,6,TRUE))","v":""},"","",{"$f":"MIN(IF($C$7:$C$46=C37,$AC$7:$AC$46,\"\"))","v":0},"","","","","","",""]
[null,null,null,null,null,null,null,null,null,null,null,null,null,null,0,0,null,null,null,0,null,"","","",{"$error":"#DIV/0!"},"",{"$f":"IF(U38<>\"Finished\",\"\",VLOOKUP(T38,'Data for points'!$T$26:$Y$33,6,TRUE))","v":""},"","",{"$f":"MIN(IF($C$7:$C$46=C38,$AC$7:$AC$46,\"\"))","v":0},"","","","","","",""]
[null,null,null,null,null,null,null,null,null,null,null,null,null,null,0,0,null,null,null,0,null,"","","",{"$error":"#DIV/0!"},"",{"$f":"IF(U39<>\"Finished\",\"\",VLOOKUP(T39,'Data for points'!$T$26:$Y$33,6,TRUE))","v":""},"","",{"$f":"MIN(IF($C$7:$C$46=C39,$AC$7:$AC$46,\"\"))","v":0},"","","","","","",""]
[null,null,null,null,null,null,null,null,null,null,null,null,null,null,0,0,null,null,null,0,null,"","","",{"$error":"#DIV/0!"},"",{"$f":"IF(U40<>\"Finished\",\"\",VLOOKUP(T40,'Data for points'!$T$26:$Y$33,6,TRUE))","v":""},"","",{"$f":"MIN(IF($C$7:$C$46=C40,$AC$7:$AC$46,\"\"))","v":0},"","","","","","",""]
[null,null,null,null,null,null,null,null,null,null,null,null,null,null,0,0,null,null,null,0,null,"","","",{"$error":"#DIV/0!"},"",{"$f":"IF(U41<>\"Finished\",\"\",VLOOKUP(T41,'Data for points'!$T$26:$Y$33,6,TRUE))","v":""},"","",{"$f":"MIN(IF($C$7:$C$46=C41,$AC$7:$AC$46,\"\"))","v":0},"","","","","","",""]
[null,null,null,null,null,null,null,null,null,null,null,null,null,null,0,0,null,null,null,0,null,"","","",{"$error":"#DIV/0!"},"",{"$f":"IF(U42<>\"Finished\",\"\",VLOOKUP(T42,'Data for points'!$T$26:$Y$33,6,TRUE))","v":""},"","",{"$f":"MIN(IF($C$7:$C$46=C42,$AC$7:$AC$46,\"\"))","v":0},"","","","","","",""]
[null,null,null,null,null,null,null,null,null,null,null,null,null,null,0,0,null,null,null,0,null,"","","",{"$error":"#DIV/0!"},"",{"$f":"IF(U43<>\"Finished\",\"\",VLOOKUP(T43,'Data for points'!$T$26:$Y$33,6,TRUE))","v":""},"","",{"$f":"MIN(IF($C$7:$C$46=C43,$AC$7:$AC$46,\"\"))","v":0},"","","","","","",""]
[null,null,null,null,null,null,null,null,null,null,null,null,null,null,0,0,null,null,null,0,null,"","","",{"$error":"#DIV/0!"},"",{"$f":"IF(U44<>\"Finished\",\"\",VLOOKUP(T44,'Data for points'!$T$26:$Y$33,6,TRUE))","v":""},"","",{"$f":"MIN(IF($C$7:$C$46=C44,$AC$7:$AC$46,\"\"))","v":0},"","","","","","",""]
[null,null,null,null,null,null,null,null,null,null,null,null,null,null,0,0,null,null,null,0,null,"","","",{"$error":"#DIV/0!"},"",{"$f":"IF(U45<>\"Finished\",\"\",VLOOKUP(T45,'Data for points'!$T$26:$Y$33,6,TRUE))","v":""},"","",{"$f":"MIN(IF($C$7:$C$46=C45,$AC$7:$AC$46,\"\"))","v":0},"","","","","","",""]
[null,null,null,null,null,null,null,null,null,null,null,null,null,null,0,0,null,null,null,0,null,"","","",{"$error":"#DIV/0!"},"",{"$f":"IF(U46<>\"Finished\",\"\",VLOOKUP(T46,'Data for points'!$T$26:$Y$33,6,TRUE))","v":""},"","",{"$f":"MIN(IF($C$7:$C$46=C46,$AC$7:$AC$46,\"\"))","v":0},"","","","","","",""]
[]
[]
[]
[]
[]
[]
[]
[]
[]
[]
[]
[]
[]
[]
[]
[]
[]
[]
[]
[]
[]
[]
[]
[]
[]
[]
[]
[]
[]
[]
[]
[]
[]
[]
[]
[]
[]
[]
[]
[]
[]
[]
[]
[]
[]
[]
[]
[]
[]
[]
[]
[]
[]
[null,null,null,null,null,null,null,null,null,null,null,null,null,null,null,null,null,null,null,null,"Finished"]
[null,null,null,null,null,null,null,null,null,null,null,null,null,null,null,null,null,null,null,null,"Disqualified"]

{"sheet":"4 x 50 medley Relay Women","index":49,"n_rows":101,"n_cols":37,"rows_kept":101,"cut":false,"hidden":true,"merged":[[4,11,4,12],[4,14,4,15],[4,16,4,18],[1,16,1,17]]}
[null,null,null,null,null,null,null,null,null,null,null,null,null,null,null,null,null,null,null,"UR in seconds"]
[null,"Women's",null,null,null,null,null,null,null,null,null,"4 x 50 Rescue Relay",null,null,null,null,"Club to \nHighlight",null,null,{"$f":"'Data for points'!J6","v":0},{"$f":"CONCATENATE(\"University  Record=\",INT(T2/60),\" minS\",MOD(T2,60),\" secs\")","v":"University  Record=0 minS0 secs"}]
[]
[]
["A University(Boolean)","Club Name","Club Code","Leg1","Leg1CompettiorID","Leg2","Leg2CompettiorID","Leg3","Leg3CompettiorID","Leg4","Leg4CompettiorID","ID code",null,"Entry Time(Seconds)","Entry Time",null,"Time",null,null,"Time(seconds)","Finish \nStatus","TimeSand  DQs","Rank","Competition \nPlace","PointSCalculation","Lifesaving Points","Survive and Save Status","Squad List","Rank For\n SquadSMembers","Top Finisher for there Uni","Top finisher Select Competitor for ranking","Squad\n Points","Uni Finishers","Student \nPoints","Non-Uni Finishers","Non-Student \nPoints"]
[null,null,null,null,null,null,null,null,null,null,null,null,null,null,"Mins","Seconds","Mins","Seconds","1/100"]
[null,null,null,null,null,null,null,null,null,null,null,null,null,null,{"$f":"INT(N7/60)","v":0},{"$f":"MOD(N7,60)","v":0},null,null,null,{"$f":"Q7*60+R7+S7/100","v":0},null,{"$f":"IF(U7<>\"Finished\",IF(U7<=0,\"\",U7),IF(U7=\"Finished\",IF(T7<=0,\"\",T7),\"\"))","v":""},{"$f":"IF(OR(LEFT(V7,1)=\"D\",V7=\"\"),\"\",RANK(V7,$V$7:$V$46,1))","v":""},{"$f":"IF(LEFT(U7,1)=\"D\",MAX($W$7:$W$46)+1,W7)","v":""},{"$f":"(1-(T7-$T$2)/$T$2)*1000","v":{"$error":"#DIV/0!"}},{"$f":"IF(U7<>\"Finished\",\"\",IF(Y7<0,0,Y7))","v":""},{"$f":"IF(U7<>\"Finished\",\"\",VLOOKUP(T7,'Data for points'!$J$26:$Y$33,14,TRUE))","v":""},{"$f":"IF(L7=\"S\",X7,\"\")","v":""},{"$f":"IF(AB7=\"\",\"\",RANK(AB7,$AB$7:$AB$46,1))","v":""},{"$f":"MIN(IF($C$7:$C$46=C7,$AC$7:$AC$46,\"\"))","v":0},{"$f":"IF(AD7=AC7,AD7,\"\")","v":""},{"$f":"IF(AE7=\"\",\"\",RANK(AE7,$AE$7:$AE$46,1))","v":""},{"$f":"IF(A7=1,AF7,\"\")","v":""},{"$f":"IF(AG7=\"\",\"\",RANK(AG7,$AG$7:$AG$46,1))","v":""},{"$f":"IF(A7=0,AF7,\"\")","v":""},{"$f":"IF(AI7=\"\",\"\",RANK(AI7,$AI$7:$AI$46,1))","v":""},{"$f":"IF(OR(U7<>\"Finished\",T7>$O$2),\"\",\"UR\")","v":""}]
[null,null,null,null,null,null,null,null,null,null,null,null,null,null,{"$f":"INT(N8/60)","v":0},{"$f":"MOD(N8,60)","v":0},null,null,null,{"$f":"Q8*60+R8+S8/100","v":0},null,{"$f":"IF(U8<>\"Finished\",IF(U8<=0,\"\",U8),IF(U8=\"Finished\",IF(T8<=0,\"\",T8),\"\"))","v":""},{"$f":"IF(OR(LEFT(V8,1)=\"D\",V8=\"\"),\"\",RANK(V8,$V$7:$V$46,1))","v":""},{"$f":"IF(LEFT(U8,1)=\"D\",MAX($W$7:$W$46)+1,W8)","v":""},{"$f":"(1-(T8-$T$2)/$T$2)*1000","v":{"$error":"#DIV/0!"}},{"$f":"IF(U8<>\"Finished\",\"\",IF(Y8<0,0,Y8))","v":""},{"$f":"IF(U8<>\"Finished\",\"\",VLOOKUP(T8,'Data for points'!$J$26:$Y$33,14,TRUE))","v":""},{"$f":"IF(L8=\"S\",X8,\"\")","v":""},{"$f":"IF(AB8=\"\",\"\",RANK(AB8,$AB$7:$AB$46,1))","v":""},{"$f":"MIN(IF($C$7:$C$46=C8,$AC$7:$AC$46,\"\"))","v":0},{"$f":"IF(AD8=AC8,AD8,\"\")","v":""},{"$f":"IF(AE8=\"\",\"\",RANK(AE8,$AE$7:$AE$46,1))","v":""},"",{"$f":"IF(AG8=\"\",\"\",RANK(AG8,$AG$7:$AG$46,1))","v":""},{"$f":"IF(A8=0,AF8,\"\")","v":""},{"$f":"IF(AI8=\"\",\"\",RANK(AI8,$AI$7:$AI$46,1))","v":""},{"$f":"IF(OR(U8<>\"Finished\",T8>$O$2),\"\",\"UR\")","v":""}]
[null,null,null,null,null,null,null,null,null,null,null,null,null,null,0,0,null,null,null,0,null,"","","",{"$error":"#DIV/0!"},"",{"$f":"IF(U9<>\"Finished\",\"\",VLOOKUP(T9,'Data for points'!$J$26:$Y$33,14,TRUE))","v":""},"","",{"$f":"MIN(IF($C$7:$C$46=C9,$AC$7:$AC$46,\"\"))","v":0},"","","","","","",""]
[null,null,null,null,null,null,null,null,null,null,null,null,null,null,0,0,null,null,null,0,null,"","","",{"$error":"#DIV/0!"},"",{"$f":"IF(U10<>\"Finished\",\"\",VLOOKUP(T10,'Data for points'!$J$26:$Y$33,14,TRUE))","v":""},"","",{"$f":"MIN(IF($C$7:$C$46=C10,$AC$7:$AC$46,\"\"))","v":0},"","","","","","",""]
[null,null,null,null,null,null,null,null,null,null,null,null,null,null,0,0,null,null,null,0,null,"","","",{"$error":"#DIV/0!"},"",{"$f":"IF(U11<>\"Finished\",\"\",VLOOKUP(T11,'Data for points'!$J$26:$Y$33,14,TRUE))","v":""},"","",{"$f":"MIN(IF($C$7:$C$46=C11,$AC$7:$AC$46,\"\"))","v":0},"","","","","","",""]
[null,null,null,null,null,null,null,null,null,null,null,null,null,null,0,0,null,null,null,0,null,"","","",{"$error":"#DIV/0!"},"",{"$f":"IF(U12<>\"Finished\",\"\",VLOOKUP(T12,'Data for points'!$J$26:$Y$33,14,TRUE))","v":""},"","",{"$f":"MIN(IF($C$7:$C$46=C12,$AC$7:$AC$46,\"\"))","v":0},"","","","","","",""]
[null,null,null,null,null,null,null,null,null,null,null,null,null,null,0,0,null,null,null,0,null,"","","",{"$error":"#DIV/0!"},"",{"$f":"IF(U13<>\"Finished\",\"\",VLOOKUP(T13,'Data for points'!$J$26:$Y$33,14,TRUE))","v":""},"","",{"$f":"MIN(IF($C$7:$C$46=C13,$AC$7:$AC$46,\"\"))","v":0},"","","","","","",""]
[null,null,null,null,null,null,null,null,null,null,null,null,null,null,0,0,null,null,null,0,null,"","","",{"$error":"#DIV/0!"},"",{"$f":"IF(U14<>\"Finished\",\"\",VLOOKUP(T14,'Data for points'!$J$26:$Y$33,14,TRUE))","v":""},"","",{"$f":"MIN(IF($C$7:$C$46=C14,$AC$7:$AC$46,\"\"))","v":0},"","","","","","",""]
[null,null,null,null,null,null,null,null,null,null,null,null,null,null,0,0,null,null,null,0,null,"","","",{"$error":"#DIV/0!"},"",{"$f":"IF(U15<>\"Finished\",\"\",VLOOKUP(T15,'Data for points'!$J$26:$Y$33,14,TRUE))","v":""},"","",{"$f":"MIN(IF($C$7:$C$46=C15,$AC$7:$AC$46,\"\"))","v":0},"","","","","","",""]
[null,null,null,null,null,null,null,null,null,null,null,null,null,null,0,0,null,null,null,0,null,"","","",{"$error":"#DIV/0!"},"",{"$f":"IF(U16<>\"Finished\",\"\",VLOOKUP(T16,'Data for points'!$J$26:$Y$33,14,TRUE))","v":""},"","",{"$f":"MIN(IF($C$7:$C$46=C16,$AC$7:$AC$46,\"\"))","v":0},"","","","","","",""]
[null,null,null,null,null,null,null,null,null,null,null,null,null,null,0,0,null,null,null,0,null,"","","",{"$error":"#DIV/0!"},"",{"$f":"IF(U17<>\"Finished\",\"\",VLOOKUP(T17,'Data for points'!$J$26:$Y$33,14,TRUE))","v":""},"","",{"$f":"MIN(IF($C$7:$C$46=C17,$AC$7:$AC$46,\"\"))","v":0},"","","","","","",""]
[null,null,null,null,null,null,null,null,null,null,null,null,null,null,0,0,null,null,null,0,null,"","","",{"$error":"#DIV/0!"},"",{"$f":"IF(U18<>\"Finished\",\"\",VLOOKUP(T18,'Data for points'!$J$26:$Y$33,14,TRUE))","v":""},"","",{"$f":"MIN(IF($C$7:$C$46=C18,$AC$7:$AC$46,\"\"))","v":0},"","","","","","",""]
[null,null,null,null,null,null,null,null,null,null,null,null,null,null,0,0,null,null,null,0,null,"","","",{"$error":"#DIV/0!"},"",{"$f":"IF(U19<>\"Finished\",\"\",VLOOKUP(T19,'Data for points'!$J$26:$Y$33,14,TRUE))","v":""},"","",{"$f":"MIN(IF($C$7:$C$46=C19,$AC$7:$AC$46,\"\"))","v":0},"","","","","","",""]
[null,null,null,null,null,null,null,null,null,null,null,null,null,null,0,0,null,null,null,0,null,"","","",{"$error":"#DIV/0!"},"",{"$f":"IF(U20<>\"Finished\",\"\",VLOOKUP(T20,'Data for points'!$J$26:$Y$33,14,TRUE))","v":""},"","",{"$f":"MIN(IF($C$7:$C$46=C20,$AC$7:$AC$46,\"\"))","v":0},"","","","","","",""]
[null,null,null,null,null,null,null,null,null,null,null,null,null,null,0,0,null,null,null,0,null,"","","",{"$error":"#DIV/0!"},"",{"$f":"IF(U21<>\"Finished\",\"\",VLOOKUP(T21,'Data for points'!$J$26:$Y$33,14,TRUE))","v":""},"","",{"$f":"MIN(IF($C$7:$C$46=C21,$AC$7:$AC$46,\"\"))","v":0},"","","","","","",""]
[null,null,null,null,null,null,null,null,null,null,null,null,null,null,0,0,null,null,null,0,null,"","","",{"$error":"#DIV/0!"},"",{"$f":"IF(U22<>\"Finished\",\"\",VLOOKUP(T22,'Data for points'!$J$26:$Y$33,14,TRUE))","v":""},"","",{"$f":"MIN(IF($C$7:$C$46=C22,$AC$7:$AC$46,\"\"))","v":0},"","","","","","",""]
[null,null,null,null,null,null,null,null,null,null,null,null,null,null,0,0,null,null,null,0,null,"","","",{"$error":"#DIV/0!"},"",{"$f":"IF(U23<>\"Finished\",\"\",VLOOKUP(T23,'Data for points'!$J$26:$Y$33,14,TRUE))","v":""},"","",{"$f":"MIN(IF($C$7:$C$46=C23,$AC$7:$AC$46,\"\"))","v":0},"","","","","","",""]
[null,null,null,null,null,null,null,null,null,null,null,null,null,null,0,0,null,null,null,0,null,"","","",{"$error":"#DIV/0!"},"",{"$f":"IF(U24<>\"Finished\",\"\",VLOOKUP(T24,'Data for points'!$J$26:$Y$33,14,TRUE))","v":""},"","",{"$f":"MIN(IF($C$7:$C$46=C24,$AC$7:$AC$46,\"\"))","v":0},"","","","","","",""]
[null,null,null,null,null,null,null,null,null,null,null,null,null,null,0,0,null,null,null,0,null,"","","",{"$error":"#DIV/0!"},"",{"$f":"IF(U25<>\"Finished\",\"\",VLOOKUP(T25,'Data for points'!$J$26:$Y$33,14,TRUE))","v":""},"","",{"$f":"MIN(IF($C$7:$C$46=C25,$AC$7:$AC$46,\"\"))","v":0},"","","","","","",""]
[null,null,null,null,null,null,null,null,null,null,null,null,null,null,0,0,null,null,null,0,null,"","","",{"$error":"#DIV/0!"},"",{"$f":"IF(U26<>\"Finished\",\"\",VLOOKUP(T26,'Data for points'!$J$26:$Y$33,14,TRUE))","v":""},"","",{"$f":"MIN(IF($C$7:$C$46=C26,$AC$7:$AC$46,\"\"))","v":0},"","","","","","",""]
[null,null,null,null,null,null,null,null,null,null,null,null,null,null,0,0,null,null,null,0,null,"","","",{"$error":"#DIV/0!"},"",{"$f":"IF(U27<>\"Finished\",\"\",VLOOKUP(T27,'Data for points'!$J$26:$Y$33,14,TRUE))","v":""},"","",{"$f":"MIN(IF($C$7:$C$46=C27,$AC$7:$AC$46,\"\"))","v":0},"","","","","","",""]
[null,null,null,null,null,null,null,null,null,null,null,null,null,null,0,0,null,null,null,0,null,"","","",{"$error":"#DIV/0!"},"",{"$f":"IF(U28<>\"Finished\",\"\",VLOOKUP(T28,'Data for points'!$J$26:$Y$33,14,TRUE))","v":""},"","",{"$f":"MIN(IF($C$7:$C$46=C28,$AC$7:$AC$46,\"\"))","v":0},"","","","","","",""]
[null,null,null,null,null,null,null,null,null,null,null,null,null,null,0,0,null,null,null,0,null,"","","",{"$error":"#DIV/0!"},"",{"$f":"IF(U29<>\"Finished\",\"\",VLOOKUP(T29,'Data for points'!$J$26:$Y$33,14,TRUE))","v":""},"","",{"$f":"MIN(IF($C$7:$C$46=C29,$AC$7:$AC$46,\"\"))","v":0},"","","","","","",""]
[null,null,null,null,null,null,null,null,null,null,null,null,null,null,0,0,null,null,null,0,null,"","","",{"$error":"#DIV/0!"},"",{"$f":"IF(U30<>\"Finished\",\"\",VLOOKUP(T30,'Data for points'!$J$26:$Y$33,14,TRUE))","v":""},"","",{"$f":"MIN(IF($C$7:$C$46=C30,$AC$7:$AC$46,\"\"))","v":0},"","","","","","",""]
[null,null,null,null,null,null,null,null,null,null,null,null,null,null,0,0,null,null,null,0,null,"","","",{"$error":"#DIV/0!"},"",{"$f":"IF(U31<>\"Finished\",\"\",VLOOKUP(T31,'Data for points'!$J$26:$Y$33,14,TRUE))","v":""},"","",{"$f":"MIN(IF($C$7:$C$46=C31,$AC$7:$AC$46,\"\"))","v":0},"","","","","","",""]
[null,null,1,null,null,null,null,null,null,null,null,null,null,null,0,0,null,null,null,0,null,"","","",{"$error":"#DIV/0!"},"",{"$f":"IF(U32<>\"Finished\",\"\",VLOOKUP(T32,'Data for points'!$J$26:$Y$33,14,TRUE))","v":""},"","",{"$f":"MIN(IF($C$7:$C$46=C32,$AC$7:$AC$46,\"\"))","v":0},"","","","","","",""]
[null,null,null,null,null,null,null,null,null,null,null,null,null,null,0,0,null,null,null,0,null,"","","",{"$error":"#DIV/0!"},"",{"$f":"IF(U33<>\"Finished\",\"\",VLOOKUP(T33,'Data for points'!$J$26:$Y$33,14,TRUE))","v":""},"","",{"$f":"MIN(IF($C$7:$C$46=C33,$AC$7:$AC$46,\"\"))","v":0},"","","","","","",""]
[null,null,null,null,null,null,null,null,null,null,null,null,null,null,0,0,null,null,null,0,null,"","","",{"$error":"#DIV/0!"},"",{"$f":"IF(U34<>\"Finished\",\"\",VLOOKUP(T34,'Data for points'!$J$26:$Y$33,14,TRUE))","v":""},"","",{"$f":"MIN(IF($C$7:$C$46=C34,$AC$7:$AC$46,\"\"))","v":0},"","","","","","",""]
[null,null,null,null,null,null,null,null,null,null,null,null,null,null,0,0,null,null,null,0,null,"","","",{"$error":"#DIV/0!"},"",{"$f":"IF(U35<>\"Finished\",\"\",VLOOKUP(T35,'Data for points'!$J$26:$Y$33,14,TRUE))","v":""},"","",{"$f":"MIN(IF($C$7:$C$46=C35,$AC$7:$AC$46,\"\"))","v":0},"","","","","","",""]
[null,null,null,null,null,null,null,null,null,null,null,null,null,null,0,0,null,null,null,0,null,"","","",{"$error":"#DIV/0!"},"",{"$f":"IF(U36<>\"Finished\",\"\",VLOOKUP(T36,'Data for points'!$J$26:$Y$33,14,TRUE))","v":""},"","",{"$f":"MIN(IF($C$7:$C$46=C36,$AC$7:$AC$46,\"\"))","v":0},"","","","","","",""]
[null,null,null,null,null,null,null,null,null,null,null,null,null,null,0,0,null,null,null,0,null,"","","",{"$error":"#DIV/0!"},"",{"$f":"IF(U37<>\"Finished\",\"\",VLOOKUP(T37,'Data for points'!$J$26:$Y$33,14,TRUE))","v":""},"","",{"$f":"MIN(IF($C$7:$C$46=C37,$AC$7:$AC$46,\"\"))","v":0},"","","","","","",""]
[null,null,null,null,null,null,null,null,null,null,null,null,null,null,0,0,null,null,null,0,null,"","","",{"$error":"#DIV/0!"},"",{"$f":"IF(U38<>\"Finished\",\"\",VLOOKUP(T38,'Data for points'!$J$26:$Y$33,14,TRUE))","v":""},"","",{"$f":"MIN(IF($C$7:$C$46=C38,$AC$7:$AC$46,\"\"))","v":0},"","","","","","",""]
[null,null,null,null,null,null,null,null,null,null,null,null,null,null,0,0,null,null,null,0,null,"","","",{"$error":"#DIV/0!"},"",{"$f":"IF(U39<>\"Finished\",\"\",VLOOKUP(T39,'Data for points'!$J$26:$Y$33,14,TRUE))","v":""},"","",{"$f":"MIN(IF($C$7:$C$46=C39,$AC$7:$AC$46,\"\"))","v":0},"","","","","","",""]
[null,null,null,null,null,null,null,null,null,null,null,null,null,null,0,0,null,null,null,0,null,"","","",{"$error":"#DIV/0!"},"",{"$f":"IF(U40<>\"Finished\",\"\",VLOOKUP(T40,'Data for points'!$J$26:$Y$33,14,TRUE))","v":""},"","",{"$f":"MIN(IF($C$7:$C$46=C40,$AC$7:$AC$46,\"\"))","v":0},"","","","","","",""]
[null,null,null,null,null,null,null,null,null,null,null,null,null,null,0,0,null,null,null,0,null,"","","",{"$error":"#DIV/0!"},"",{"$f":"IF(U41<>\"Finished\",\"\",VLOOKUP(T41,'Data for points'!$J$26:$Y$33,14,TRUE))","v":""},"","",{"$f":"MIN(IF($C$7:$C$46=C41,$AC$7:$AC$46,\"\"))","v":0},"","","","","","",""]
[null,null,null,null,null,null,null,null,null,null,null,null,null,null,0,0,null,null,null,0,null,"","","",{"$error":"#DIV/0!"},"",{"$f":"IF(U42<>\"Finished\",\"\",VLOOKUP(T42,'Data for points'!$J$26:$Y$33,14,TRUE))","v":""},"","",{"$f":"MIN(IF($C$7:$C$46=C42,$AC$7:$AC$46,\"\"))","v":0},"","","","","","",""]
[null,null,null,null,null,null,null,null,null,null,null,null,null,null,0,0,null,null,null,0,null,"","","",{"$error":"#DIV/0!"},"",{"$f":"IF(U43<>\"Finished\",\"\",VLOOKUP(T43,'Data for points'!$J$26:$Y$33,14,TRUE))","v":""},"","",{"$f":"MIN(IF($C$7:$C$46=C43,$AC$7:$AC$46,\"\"))","v":0},"","","","","","",""]
[null,null,null,null,null,null,null,null,null,null,null,null,null,null,0,0,null,null,null,0,null,"","","",{"$error":"#DIV/0!"},"",{"$f":"IF(U44<>\"Finished\",\"\",VLOOKUP(T44,'Data for points'!$J$26:$Y$33,14,TRUE))","v":""},"","",{"$f":"MIN(IF($C$7:$C$46=C44,$AC$7:$AC$46,\"\"))","v":0},"","","","","","",""]
[null,null,null,null,null,null,null,null,null,null,null,null,null,null,0,0,null,null,null,0,null,"","","",{"$error":"#DIV/0!"},"",{"$f":"IF(U45<>\"Finished\",\"\",VLOOKUP(T45,'Data for points'!$J$26:$Y$33,14,TRUE))","v":""},"","",{"$f":"MIN(IF($C$7:$C$46=C45,$AC$7:$AC$46,\"\"))","v":0},"","","","","","",""]
[null,null,null,null,null,null,null,null,null,null,null,null,null,null,0,0,null,null,null,0,null,"","","",{"$error":"#DIV/0!"},"",{"$f":"IF(U46<>\"Finished\",\"\",VLOOKUP(T46,'Data for points'!$J$26:$Y$33,14,TRUE))","v":""},"","",{"$f":"MIN(IF($C$7:$C$46=C46,$AC$7:$AC$46,\"\"))","v":0},"","","","","","",""]
[]
[]
[]
[]
[]
[]
[]
[]
[]
[]
[]
[]
[]
[]
[]
[]
[]
[]
[]
[]
[]
[]
[]
[]
[]
[]
[]
[]
[]
[]
[]
[]
[]
[]
[]
[]
[]
[]
[]
[]
[]
[]
[]
[]
[]
[]
[]
[]
[]
[]
[]
[]
[]
[null,null,null,null,null,null,null,null,null,null,null,null,null,null,null,null,null,null,null,null,"Finished"]
[null,null,null,null,null,null,null,null,null,null,null,null,null,null,null,null,null,null,null,null,"Disqualified"]

{"sheet":"4 x 25 Manikin Carry Relay Men","index":50,"n_rows":101,"n_cols":37,"rows_kept":101,"cut":false,"hidden":true,"merged":[[4,11,4,12],[4,14,4,15],[4,16,4,18],[1,16,1,17]]}
[null,null,null,null,null,null,null,null,null,null,null,null,null,null,null,null,null,null,null,"UR in seconds"]
[null,"Men's",null,null,null,null,null,null,null,null,null,"4 x 25 Manikin carry",null,null,null,null,"Club to \nHighlight",null,null,{"$f":"'Data for points'!K5","v":0},{"$f":"CONCATENATE(\"University  Record=\",INT(T2/60),\" minS\",MOD(T2,60),\" secs\")","v":"University  Record=0 minS0 secs"}]
[]
[]
["A University(Boolean)","Club Name","Club Code","Leg1","Leg1CompettiorID","Leg2","Leg2CompettiorID","Leg3","Leg3CompettiorID","Leg4","Leg4CompettiorID","ID code",null,"Entry Time(Seconds)","Entry Time",null,"Time",null,null,"Time(seconds)","Finish \nStatus","TimeSand  DQs","Rank","Competition \nPlace","PointSCalculation","Lifesaving Points","Survive and Save Status","Squad List","Rank For\n SquadSMembers","Top Finisher for there Uni","Top finisher Select Competitor for ranking","Squad \nPoints","Uni Finishers","Student \nPoints","Non-Uni Finishers","Non-Student \nPoints"]
[null,null,null,null,null,null,null,null,null,null,null,null,null,null,"Mins","Seconds","Mins","Seconds","1/100"]
[null,null,null,null,null,null,null,null,null,null,null,null,null,0,{"$f":"INT(N7/60)","v":0},{"$f":"MOD(N7,60)","v":0},null,null,null,{"$f":"Q7*60+R7+S7/100","v":0},null,{"$f":"IF(U7<>\"Finished\",IF(U7<=0,\"\",U7),IF(U7=\"Finished\",IF(T7<=0,\"\",T7),\"\"))","v":""},{"$f":"IF(OR(LEFT(V7,1)=\"D\",V7=\"\"),\"\",RANK(V7,$V$7:$V$46,1))","v":""},{"$f":"IF(LEFT(U7,1)=\"D\",MAX($W$7:$W$46)+1,W7)","v":""},{"$f":"(1-(T7-$T$2)/$T$2)*1000","v":{"$error":"#DIV/0!"}},{"$f":"IF(U7<>\"Finished\",\"\",IF(Y7<0,0,Y7))","v":""},{"$f":"IF(U7<>\"Finished\",\"\",VLOOKUP(T7,'Data for points'!$K$16:$Y$23,15,TRUE))","v":""},{"$f":"IF(L7=\"S\",X7,\"\")","v":""},{"$f":"IF(AB7=\"\",\"\",RANK(AB7,$AB$7:$AB$46,1))","v":""},{"$f":"MIN(IF($C$7:$C$46=C7,$AC$7:$AC$46,\"\"))","v":0},{"$f":"IF(AD7=AC7,AD7,\"\")","v":""},{"$f":"IF(AE7=\"\",\"\",RANK(AE7,$AE$7:$AE$46,1))","v":""},{"$f":"IF(A7=1,AF7,\"\")","v":""},{"$f":"IF(AG7=\"\",\"\",RANK(AG7,$AG$7:$AG$46,1))","v":""},{"$f":"IF(A7=0,AF7,\"\")","v":""},{"$f":"IF(AI7=\"\",\"\",RANK(AI7,$AI$7:$AI$46,1))","v":""},{"$f":"IF(OR(U7<>\"Finished\",T7>$O$2),\"\",\"UR\")","v":""}]
[null,null,null,null,null,null,null,null,null,null,null,null,null,0,{"$f":"INT(N8/60)","v":0},{"$f":"MOD(N8,60)","v":0},null,null,null,{"$f":"Q8*60+R8+S8/100","v":0},null,{"$f":"IF(U8<>\"Finished\",IF(U8<=0,\"\",U8),IF(U8=\"Finished\",IF(T8<=0,\"\",T8),\"\"))","v":""},{"$f":"IF(OR(LEFT(V8,1)=\"D\",V8=\"\"),\"\",RANK(V8,$V$7:$V$46,1))","v":""},{"$f":"IF(LEFT(U8,1)=\"D\",MAX($W$7:$W$46)+1,W8)","v":""},{"$f":"(1-(T8-$T$2)/$T$2)*1000","v":{"$error":"#DIV/0!"}},{"$f":"IF(U8<>\"Finished\",\"\",IF(Y8<0,0,Y8))","v":""},{"$f":"IF(U8<>\"Finished\",\"\",VLOOKUP(T8,'Data for points'!$K$16:$Y$23,15,TRUE))","v":""},{"$f":"IF(L8=\"S\",X8,\"\")","v":""},{"$f":"IF(AB8=\"\",\"\",RANK(AB8,$AB$7:$AB$46,1))","v":""},{"$f":"MIN(IF($C$7:$C$46=C8,$AC$7:$AC$46,\"\"))","v":0},{"$f":"IF(AD8=AC8,AD8,\"\")","v":""},{"$f":"IF(AE8=\"\",\"\",RANK(AE8,$AE$7:$AE$46,1))","v":""},"",{"$f":"IF(AG8=\"\",\"\",RANK(AG8,$AG$7:$AG$46,1))","v":""},{"$f":"IF(A8=0,AF8,\"\")","v":""},{"$f":"IF(AI8=\"\",\"\",RANK(AI8,$AI$7:$AI$46,1))","v":""},{"$f":"IF(OR(U8<>\"Finished\",T8>$O$2),\"\",\"UR\")","v":""}]
[null,null,null,null,null,null,null,null,null,null,null,null,null,0,0,0,null,null,null,0,null,"","","",{"$error":"#DIV/0!"},"",{"$f":"IF(U9<>\"Finished\",\"\",VLOOKUP(T9,'Data for points'!$K$16:$Y$23,15,TRUE))","v":""},"","",{"$f":"MIN(IF($C$7:$C$46=C9,$AC$7:$AC$46,\"\"))","v":0},"","","","","","",""]
[null,null,null,null,null,null,null,null,null,null,null,null,null,0,0,0,null,null,null,0,null,"","","",{"$error":"#DIV/0!"},"",{"$f":"IF(U10<>\"Finished\",\"\",VLOOKUP(T10,'Data for points'!$K$16:$Y$23,15,TRUE))","v":""},"","",{"$f":"MIN(IF($C$7:$C$46=C10,$AC$7:$AC$46,\"\"))","v":0},"","","","","","",""]
[null,null,null,null,null,null,null,null,null,null,null,null,null,0,0,0,null,null,null,0,null,"","","",{"$error":"#DIV/0!"},"",{"$f":"IF(U11<>\"Finished\",\"\",VLOOKUP(T11,'Data for points'!$K$16:$Y$23,15,TRUE))","v":""},"","",{"$f":"MIN(IF($C$7:$C$46=C11,$AC$7:$AC$46,\"\"))","v":0},"","","","","","",""]
[null,null,null,null,null,null,null,null,null,null,null,null,null,0,0,0,null,null,null,0,null,"","","",{"$error":"#DIV/0!"},"",{"$f":"IF(U12<>\"Finished\",\"\",VLOOKUP(T12,'Data for points'!$K$16:$Y$23,15,TRUE))","v":""},"","",{"$f":"MIN(IF($C$7:$C$46=C12,$AC$7:$AC$46,\"\"))","v":0},"","","","","","",""]
[null,null,null,null,null,null,null,null,null,null,null,null,null,0,0,0,null,null,null,0,null,"","","",{"$error":"#DIV/0!"},"",{"$f":"IF(U13<>\"Finished\",\"\",VLOOKUP(T13,'Data for points'!$K$16:$Y$23,15,TRUE))","v":""},"","",{"$f":"MIN(IF($C$7:$C$46=C13,$AC$7:$AC$46,\"\"))","v":0},"","","","","","",""]
[null,null,null,null,null,null,null,null,null,null,null,null,null,null,0,0,null,null,null,0,null,"","","",{"$error":"#DIV/0!"},"",{"$f":"IF(U14<>\"Finished\",\"\",VLOOKUP(T14,'Data for points'!$K$16:$Y$23,15,TRUE))","v":""},"","",{"$f":"MIN(IF($C$7:$C$46=C14,$AC$7:$AC$46,\"\"))","v":0},"","","","","","",""]
[null,null,null,null,null,null,null,null,null,null,null,null,null,null,0,0,null,null,null,0,null,"","","",{"$error":"#DIV/0!"},"",{"$f":"IF(U15<>\"Finished\",\"\",VLOOKUP(T15,'Data for points'!$K$16:$Y$23,15,TRUE))","v":""},"","",{"$f":"MIN(IF($C$7:$C$46=C15,$AC$7:$AC$46,\"\"))","v":0},"","","","","","",""]
[null,null,null,null,null,null,null,null,null,null,null,null,null,null,0,0,null,null,null,0,null,"","","",{"$error":"#DIV/0!"},"",{"$f":"IF(U16<>\"Finished\",\"\",VLOOKUP(T16,'Data for points'!$K$16:$Y$23,15,TRUE))","v":""},"","",{"$f":"MIN(IF($C$7:$C$46=C16,$AC$7:$AC$46,\"\"))","v":0},"","","","","","",""]
[null,null,null,null,null,null,null,null,null,null,null,null,null,null,0,0,null,null,null,0,null,"","","",{"$error":"#DIV/0!"},"",{"$f":"IF(U17<>\"Finished\",\"\",VLOOKUP(T17,'Data for points'!$K$16:$Y$23,15,TRUE))","v":""},"","",{"$f":"MIN(IF($C$7:$C$46=C17,$AC$7:$AC$46,\"\"))","v":0},"","","","","","",""]
[null,null,null,null,null,null,null,null,null,null,null,null,null,null,0,0,null,null,null,0,null,"","","",{"$error":"#DIV/0!"},"",{"$f":"IF(U18<>\"Finished\",\"\",VLOOKUP(T18,'Data for points'!$K$16:$Y$23,15,TRUE))","v":""},"","",{"$f":"MIN(IF($C$7:$C$46=C18,$AC$7:$AC$46,\"\"))","v":0},"","","","","","",""]
[null,null,null,null,null,null,null,null,null,null,null,null,null,null,0,0,null,null,null,0,null,"","","",{"$error":"#DIV/0!"},"",{"$f":"IF(U19<>\"Finished\",\"\",VLOOKUP(T19,'Data for points'!$K$16:$Y$23,15,TRUE))","v":""},"","",{"$f":"MIN(IF($C$7:$C$46=C19,$AC$7:$AC$46,\"\"))","v":0},"","","","","","",""]
[null,null,null,null,null,null,null,null,null,null,null,null,null,null,0,0,null,null,null,0,null,"","","",{"$error":"#DIV/0!"},"",{"$f":"IF(U20<>\"Finished\",\"\",VLOOKUP(T20,'Data for points'!$K$16:$Y$23,15,TRUE))","v":""},"","",{"$f":"MIN(IF($C$7:$C$46=C20,$AC$7:$AC$46,\"\"))","v":0},"","","","","","",""]
[null,null,null,null,null,null,null,null,null,null,null,null,null,null,0,0,null,null,null,0,null,"","","",{"$error":"#DIV/0!"},"",{"$f":"IF(U21<>\"Finished\",\"\",VLOOKUP(T21,'Data for points'!$K$16:$Y$23,15,TRUE))","v":""},"","",{"$f":"MIN(IF($C$7:$C$46=C21,$AC$7:$AC$46,\"\"))","v":0},"","","","","","",""]
[null,null,null,null,null,null,null,null,null,null,null,null,null,null,0,0,null,null,null,0,null,"","","",{"$error":"#DIV/0!"},"",{"$f":"IF(U22<>\"Finished\",\"\",VLOOKUP(T22,'Data for points'!$K$16:$Y$23,15,TRUE))","v":""},"","",{"$f":"MIN(IF($C$7:$C$46=C22,$AC$7:$AC$46,\"\"))","v":0},"","","","","","",""]
[null,null,null,null,null,null,null,null,null,null,null,null,null,null,0,0,null,null,null,0,null,"","","",{"$error":"#DIV/0!"},"",{"$f":"IF(U23<>\"Finished\",\"\",VLOOKUP(T23,'Data for points'!$K$16:$Y$23,15,TRUE))","v":""},"","",{"$f":"MIN(IF($C$7:$C$46=C23,$AC$7:$AC$46,\"\"))","v":0},"","","","","","",""]
[null,null,null,null,null,null,null,null,null,null,null,null,null,null,0,0,null,null,null,0,null,"","","",{"$error":"#DIV/0!"},"",{"$f":"IF(U24<>\"Finished\",\"\",VLOOKUP(T24,'Data for points'!$K$16:$Y$23,15,TRUE))","v":""},"","",{"$f":"MIN(IF($C$7:$C$46=C24,$AC$7:$AC$46,\"\"))","v":0},"","","","","","",""]
[null,null,null,null,null,null,null,null,null,null,null,null,null,null,0,0,null,null,null,0,null,"","","",{"$error":"#DIV/0!"},"",{"$f":"IF(U25<>\"Finished\",\"\",VLOOKUP(T25,'Data for points'!$K$16:$Y$23,15,TRUE))","v":""},"","",{"$f":"MIN(IF($C$7:$C$46=C25,$AC$7:$AC$46,\"\"))","v":0},"","","","","","",""]
[null,null,null,null,null,null,null,null,null,null,null,null,null,null,0,0,null,null,null,0,null,"","","",{"$error":"#DIV/0!"},"",{"$f":"IF(U26<>\"Finished\",\"\",VLOOKUP(T26,'Data for points'!$K$16:$Y$23,15,TRUE))","v":""},"","",{"$f":"MIN(IF($C$7:$C$46=C26,$AC$7:$AC$46,\"\"))","v":0},"","","","","","",""]
[null,null,null,null,null,null,null,null,null,null,null,null,null,null,0,0,null,null,null,0,null,"","","",{"$error":"#DIV/0!"},"",{"$f":"IF(U27<>\"Finished\",\"\",VLOOKUP(T27,'Data for points'!$K$16:$Y$23,15,TRUE))","v":""},"","",{"$f":"MIN(IF($C$7:$C$46=C27,$AC$7:$AC$46,\"\"))","v":0},"","","","","","",""]
[null,null,null,null,null,null,null,null,null,null,null,null,null,null,0,0,null,null,null,0,null,"","","",{"$error":"#DIV/0!"},"",{"$f":"IF(U28<>\"Finished\",\"\",VLOOKUP(T28,'Data for points'!$K$16:$Y$23,15,TRUE))","v":""},"","",{"$f":"MIN(IF($C$7:$C$46=C28,$AC$7:$AC$46,\"\"))","v":0},"","","","","","",""]
[null,null,null,null,null,null,null,null,null,null,null,null,null,null,0,0,null,null,null,0,null,"","","",{"$error":"#DIV/0!"},"",{"$f":"IF(U29<>\"Finished\",\"\",VLOOKUP(T29,'Data for points'!$K$16:$Y$23,15,TRUE))","v":""},"","",{"$f":"MIN(IF($C$7:$C$46=C29,$AC$7:$AC$46,\"\"))","v":0},"","","","","","",""]
[null,null,null,null,null,null,null,null,null,null,null,null,null,null,0,0,null,null,null,0,null,"","","",{"$error":"#DIV/0!"},"",{"$f":"IF(U30<>\"Finished\",\"\",VLOOKUP(T30,'Data for points'!$K$16:$Y$23,15,TRUE))","v":""},"","",{"$f":"MIN(IF($C$7:$C$46=C30,$AC$7:$AC$46,\"\"))","v":0},"","","","","","",""]
[null,null,null,null,null,null,null,null,null,null,null,null,null,null,0,0,null,null,null,0,null,"","","",{"$error":"#DIV/0!"},"",{"$f":"IF(U31<>\"Finished\",\"\",VLOOKUP(T31,'Data for points'!$K$16:$Y$23,15,TRUE))","v":""},"","",{"$f":"MIN(IF($C$7:$C$46=C31,$AC$7:$AC$46,\"\"))","v":0},"","","","","","",""]
[null,null,1,null,null,null,null,null,null,null,null,null,null,null,0,0,null,null,null,0,null,"","","",{"$error":"#DIV/0!"},"",{"$f":"IF(U32<>\"Finished\",\"\",VLOOKUP(T32,'Data for points'!$K$16:$Y$23,15,TRUE))","v":""},"","",{"$f":"MIN(IF($C$7:$C$46=C32,$AC$7:$AC$46,\"\"))","v":0},"","","","","","",""]
[null,null,null,null,null,null,null,null,null,null,null,null,null,null,0,0,null,null,null,0,null,"","","",{"$error":"#DIV/0!"},"",{"$f":"IF(U33<>\"Finished\",\"\",VLOOKUP(T33,'Data for points'!$K$16:$Y$23,15,TRUE))","v":""},"","",{"$f":"MIN(IF($C$7:$C$46=C33,$AC$7:$AC$46,\"\"))","v":0},"","","","","","",""]
[null,null,null,null,null,null,null,null,null,null,null,null,null,null,0,0,null,null,null,0,null,"","","",{"$error":"#DIV/0!"},"",{"$f":"IF(U34<>\"Finished\",\"\",VLOOKUP(T34,'Data for points'!$K$16:$Y$23,15,TRUE))","v":""},"","",{"$f":"MIN(IF($C$7:$C$46=C34,$AC$7:$AC$46,\"\"))","v":0},"","","","","","",""]
[null,null,null,null,null,null,null,null,null,null,null,null,null,null,0,0,null,null,null,0,null,"","","",{"$error":"#DIV/0!"},"",{"$f":"IF(U35<>\"Finished\",\"\",VLOOKUP(T35,'Data for points'!$K$16:$Y$23,15,TRUE))","v":""},"","",{"$f":"MIN(IF($C$7:$C$46=C35,$AC$7:$AC$46,\"\"))","v":0},"","","","","","",""]
[null,null,null,null,null,null,null,null,null,null,null,null,null,null,0,0,null,null,null,0,null,"","","",{"$error":"#DIV/0!"},"",{"$f":"IF(U36<>\"Finished\",\"\",VLOOKUP(T36,'Data for points'!$K$16:$Y$23,15,TRUE))","v":""},"","",{"$f":"MIN(IF($C$7:$C$46=C36,$AC$7:$AC$46,\"\"))","v":0},"","","","","","",""]
[null,null,null,null,null,null,null,null,null,null,null,null,null,null,0,0,null,null,null,0,null,"","","",{"$error":"#DIV/0!"},"",{"$f":"IF(U37<>\"Finished\",\"\",VLOOKUP(T37,'Data for points'!$K$16:$Y$23,15,TRUE))","v":""},"","",{"$f":"MIN(IF($C$7:$C$46=C37,$AC$7:$AC$46,\"\"))","v":0},"","","","","","",""]
[null,null,null,null,null,null,null,null,null,null,null,null,null,null,0,0,null,null,null,0,null,"","","",{"$error":"#DIV/0!"},"",{"$f":"IF(U38<>\"Finished\",\"\",VLOOKUP(T38,'Data for points'!$K$16:$Y$23,15,TRUE))","v":""},"","",{"$f":"MIN(IF($C$7:$C$46=C38,$AC$7:$AC$46,\"\"))","v":0},"","","","","","",""]
[null,null,null,null,null,null,null,null,null,null,null,null,null,null,0,0,null,null,null,0,null,"","","",{"$error":"#DIV/0!"},"",{"$f":"IF(U39<>\"Finished\",\"\",VLOOKUP(T39,'Data for points'!$K$16:$Y$23,15,TRUE))","v":""},"","",{"$f":"MIN(IF($C$7:$C$46=C39,$AC$7:$AC$46,\"\"))","v":0},"","","","","","",""]
[null,null,null,null,null,null,null,null,null,null,null,null,null,null,0,0,null,null,null,0,null,"","","",{"$error":"#DIV/0!"},"",{"$f":"IF(U40<>\"Finished\",\"\",VLOOKUP(T40,'Data for points'!$K$16:$Y$23,15,TRUE))","v":""},"","",{"$f":"MIN(IF($C$7:$C$46=C40,$AC$7:$AC$46,\"\"))","v":0},"","","","","","",""]
[null,null,null,null,null,null,null,null,null,null,null,null,null,null,0,0,null,null,null,0,null,"","","",{"$error":"#DIV/0!"},"",{"$f":"IF(U41<>\"Finished\",\"\",VLOOKUP(T41,'Data for points'!$K$16:$Y$23,15,TRUE))","v":""},"","",{"$f":"MIN(IF($C$7:$C$46=C41,$AC$7:$AC$46,\"\"))","v":0},"","","","","","",""]
[null,null,null,null,null,null,null,null,null,null,null,null,null,null,0,0,null,null,null,0,null,"","","",{"$error":"#DIV/0!"},"",{"$f":"IF(U42<>\"Finished\",\"\",VLOOKUP(T42,'Data for points'!$K$16:$Y$23,15,TRUE))","v":""},"","",{"$f":"MIN(IF($C$7:$C$46=C42,$AC$7:$AC$46,\"\"))","v":0},"","","","","","",""]
[null,null,null,null,null,null,null,null,null,null,null,null,null,null,0,0,null,null,null,0,null,"","","",{"$error":"#DIV/0!"},"",{"$f":"IF(U43<>\"Finished\",\"\",VLOOKUP(T43,'Data for points'!$K$16:$Y$23,15,TRUE))","v":""},"","",{"$f":"MIN(IF($C$7:$C$46=C43,$AC$7:$AC$46,\"\"))","v":0},"","","","","","",""]
[null,null,null,null,null,null,null,null,null,null,null,null,null,null,0,0,null,null,null,0,null,"","","",{"$error":"#DIV/0!"},"",{"$f":"IF(U44<>\"Finished\",\"\",VLOOKUP(T44,'Data for points'!$K$16:$Y$23,15,TRUE))","v":""},"","",{"$f":"MIN(IF($C$7:$C$46=C44,$AC$7:$AC$46,\"\"))","v":0},"","","","","","",""]
[null,null,null,null,null,null,null,null,null,null,null,null,null,null,0,0,null,null,null,0,null,"","","",{"$error":"#DIV/0!"},"",{"$f":"IF(U45<>\"Finished\",\"\",VLOOKUP(T45,'Data for points'!$K$16:$Y$23,15,TRUE))","v":""},"","",{"$f":"MIN(IF($C$7:$C$46=C45,$AC$7:$AC$46,\"\"))","v":0},"","","","","","",""]
[null,null,null,null,null,null,null,null,null,null,null,null,null,null,0,0,null,null,null,0,null,"","","",{"$error":"#DIV/0!"},"",{"$f":"IF(U46<>\"Finished\",\"\",VLOOKUP(T46,'Data for points'!$K$16:$Y$23,15,TRUE))","v":""},"","",{"$f":"MIN(IF($C$7:$C$46=C46,$AC$7:$AC$46,\"\"))","v":0},"","","","","","",""]
[]
[]
[]
[]
[]
[]
[]
[]
[]
[]
[]
[]
[]
[]
[]
[]
[]
[]
[]
[]
[]
[]
[]
[]
[]
[]
[]
[]
[]
[]
[]
[]
[]
[]
[]
[]
[]
[]
[]
[]
[]
[]
[]
[]
[]
[]
[]
[]
[]
[]
[]
[]
[]
[null,null,null,null,null,null,null,null,null,null,null,null,null,null,null,null,null,null,null,null,"Finished"]
[null,null,null,null,null,null,null,null,null,null,null,null,null,null,null,null,null,null,null,null,"Disqualified"]

{"sheet":"4 x 25 Manikin Carry Women","index":51,"n_rows":101,"n_cols":37,"rows_kept":101,"cut":false,"hidden":true,"merged":[[4,11,4,12],[4,14,4,15],[4,16,4,18],[1,16,1,17]]}
[null,null,null,null,null,null,null,null,null,null,null,null,null,null,null,null,null,null,null,"UR in seconds"]
[null,"Women's",null,null,null,null,null,null,null,null,null,"4 x 25 Manikin carry",null,null,null,null,"Club to \nHighlight",null,null,{"$f":"'Data for points'!K6","v":0},{"$f":"CONCATENATE(\"University  Record=\",INT(T2/60),\" minS\",MOD(T2,60),\" secs\")","v":"University  Record=0 minS0 secs"}]
[]
[]
["A University(Boolean)","Club Name","Club Code","Leg1","Leg1CompettiorID","Leg2","Leg2CompettiorID","Leg3","Leg3CompettiorID","Leg4","Leg4CompettiorID","ID code",null,"Entry Time(Seconds)","Entry Time",null,"Time",null,null,"Time(seconds)","Finish \nStatus","TimeSand  DQs","Rank","Competition \nPlace","PointSCalculation","Lifesaving Points","Survive and Save Status","Squad List","Rank For \nSquadSMembers","Top Finisher for there Uni","Top finisher Select Competitor for ranking","Squad \nPoints","Uni Finishers","Student \nPoints","Non-Uni Finishers","Non-Student \nPoints"]
[null,null,null,null,null,null,null,null,null,null,null,null,null,null,"Mins","Seconds","Mins","Seconds","1/100"]
[null,null,null,null,null,null,null,null,null,null,null,null,null,null,{"$f":"INT(N7/60)","v":0},{"$f":"MOD(N7,60)","v":0},null,null,null,{"$f":"Q7*60+R7+S7/100","v":0},null,{"$f":"IF(U7<>\"Finished\",IF(U7<=0,\"\",U7),IF(U7=\"Finished\",IF(T7<=0,\"\",T7),\"\"))","v":""},{"$f":"IF(OR(LEFT(V7,1)=\"D\",V7=\"\"),\"\",RANK(V7,$V$7:$V$46,1))","v":""},{"$f":"IF(LEFT(U7,1)=\"D\",MAX($W$7:$W$46)+1,W7)","v":""},{"$f":"(1-(T7-$T$2)/$T$2)*1000","v":{"$error":"#DIV/0!"}},{"$f":"IF(U7<>\"Finished\",\"\",IF(Y7<0,0,Y7))","v":""},{"$f":"IF(U7<>\"Finished\",\"\",VLOOKUP(T7,'Data for points'!$K$26:$Y$33,13,TRUE))","v":""},{"$f":"IF(L7=\"S\",X7,\"\")","v":""},{"$f":"IF(AB7=\"\",\"\",RANK(AB7,$AB$7:$AB$46,1))","v":""},{"$f":"MIN(IF($C$7:$C$46=C7,$AC$7:$AC$46,\"\"))","v":0},{"$f":"IF(AD7=AC7,AD7,\"\")","v":""},{"$f":"IF(AE7=\"\",\"\",RANK(AE7,$AE$7:$AE$46,1))","v":""},{"$f":"IF(A7=1,AF7,\"\")","v":""},{"$f":"IF(AG7=\"\",\"\",RANK(AG7,$AG$7:$AG$46,1))","v":""},{"$f":"IF(A7=0,AF7,\"\")","v":""},{"$f":"IF(AI7=\"\",\"\",RANK(AI7,$AI$7:$AI$46,1))","v":""},{"$f":"IF(OR(U7<>\"Finished\",T7>$O$2),\"\",\"UR\")","v":""}]
[null,null,null,null,null,null,null,null,null,null,null,null,null,null,{"$f":"INT(N8/60)","v":0},{"$f":"MOD(N8,60)","v":0},null,null,null,{"$f":"Q8*60+R8+S8/100","v":0},null,{"$f":"IF(U8<>\"Finished\",IF(U8<=0,\"\",U8),IF(U8=\"Finished\",IF(T8<=0,\"\",T8),\"\"))","v":""},{"$f":"IF(OR(LEFT(V8,1)=\"D\",V8=\"\"),\"\",RANK(V8,$V$7:$V$46,1))","v":""},{"$f":"IF(LEFT(U8,1)=\"D\",MAX($W$7:$W$46)+1,W8)","v":""},{"$f":"(1-(T8-$T$2)/$T$2)*1000","v":{"$error":"#DIV/0!"}},{"$f":"IF(U8<>\"Finished\",\"\",IF(Y8<0,0,Y8))","v":""},{"$f":"IF(U8<>\"Finished\",\"\",VLOOKUP(T8,'Data for points'!$K$26:$Y$33,13,TRUE))","v":""},{"$f":"IF(L8=\"S\",X8,\"\")","v":""},{"$f":"IF(AB8=\"\",\"\",RANK(AB8,$AB$7:$AB$46,1))","v":""},{"$f":"MIN(IF($C$7:$C$46=C8,$AC$7:$AC$46,\"\"))","v":0},{"$f":"IF(AD8=AC8,AD8,\"\")","v":""},{"$f":"IF(AE8=\"\",\"\",RANK(AE8,$AE$7:$AE$46,1))","v":""},"",{"$f":"IF(AG8=\"\",\"\",RANK(AG8,$AG$7:$AG$46,1))","v":""},{"$f":"IF(A8=0,AF8,\"\")","v":""},{"$f":"IF(AI8=\"\",\"\",RANK(AI8,$AI$7:$AI$46,1))","v":""},{"$f":"IF(OR(U8<>\"Finished\",T8>$O$2),\"\",\"UR\")","v":""}]
[null,null,null,null,null,null,null,null,null,null,null,null,null,null,0,0,null,null,null,0,null,"","","",{"$error":"#DIV/0!"},"",{"$f":"IF(U9<>\"Finished\",\"\",VLOOKUP(T9,'Data for points'!$K$26:$Y$33,13,TRUE))","v":""},"","",{"$f":"MIN(IF($C$7:$C$46=C9,$AC$7:$AC$46,\"\"))","v":0},"","","","","","",""]
[null,null,null,null,null,null,null,null,null,null,null,null,null,null,0,0,null,null,null,0,null,"","","",{"$error":"#DIV/0!"},"",{"$f":"IF(U10<>\"Finished\",\"\",VLOOKUP(T10,'Data for points'!$K$26:$Y$33,13,TRUE))","v":""},"","",{"$f":"MIN(IF($C$7:$C$46=C10,$AC$7:$AC$46,\"\"))","v":0},"","","","","","",""]
[null,null,null,null,null,null,null,null,null,null,null,null,null,null,0,0,null,null,null,0,null,"","","",{"$error":"#DIV/0!"},"",{"$f":"IF(U11<>\"Finished\",\"\",VLOOKUP(T11,'Data for points'!$K$26:$Y$33,13,TRUE))","v":""},"","",{"$f":"MIN(IF($C$7:$C$46=C11,$AC$7:$AC$46,\"\"))","v":0},"","","","","","",""]
[null,null,null,null,null,null,null,null,null,null,null,null,null,null,0,0,null,null,null,0,null,"","","",{"$error":"#DIV/0!"},"",{"$f":"IF(U12<>\"Finished\",\"\",VLOOKUP(T12,'Data for points'!$K$26:$Y$33,13,TRUE))","v":""},"","",{"$f":"MIN(IF($C$7:$C$46=C12,$AC$7:$AC$46,\"\"))","v":0},"","","","","","",""]
[null,null,null,null,null,null,null,null,null,null,null,null,null,null,0,0,null,null,null,0,null,"","","",{"$error":"#DIV/0!"},"",{"$f":"IF(U13<>\"Finished\",\"\",VLOOKUP(T13,'Data for points'!$K$26:$Y$33,13,TRUE))","v":""},"","",{"$f":"MIN(IF($C$7:$C$46=C13,$AC$7:$AC$46,\"\"))","v":0},"","","","","","",""]
[null,null,null,null,null,null,null,null,null,null,null,null,null,null,0,0,null,null,null,0,null,"","","",{"$error":"#DIV/0!"},"",{"$f":"IF(U14<>\"Finished\",\"\",VLOOKUP(T14,'Data for points'!$K$26:$Y$33,13,TRUE))","v":""},"","",{"$f":"MIN(IF($C$7:$C$46=C14,$AC$7:$AC$46,\"\"))","v":0},"","","","","","","UR"]
[null,null,null,null,null,null,null,null,null,null,null,null,null,null,0,0,null,null,null,0,null,"","","",{"$error":"#DIV/0!"},"",{"$f":"IF(U15<>\"Finished\",\"\",VLOOKUP(T15,'Data for points'!$K$26:$Y$33,13,TRUE))","v":""},"","",{"$f":"MIN(IF($C$7:$C$46=C15,$AC$7:$AC$46,\"\"))","v":0},"","","","","","",""]
[null,null,null,null,null,null,null,null,null,null,null,null,null,null,0,0,null,null,null,0,null,"","","",{"$error":"#DIV/0!"},"",{"$f":"IF(U16<>\"Finished\",\"\",VLOOKUP(T16,'Data for points'!$K$26:$Y$33,13,TRUE))","v":""},"","",{"$f":"MIN(IF($C$7:$C$46=C16,$AC$7:$AC$46,\"\"))","v":0},"","","","","","",""]
[null,null,null,null,null,null,null,null,null,null,null,null,null,null,0,0,null,null,null,0,null,"","","",{"$error":"#DIV/0!"},"",{"$f":"IF(U17<>\"Finished\",\"\",VLOOKUP(T17,'Data for points'!$K$26:$Y$33,13,TRUE))","v":""},"","",{"$f":"MIN(IF($C$7:$C$46=C17,$AC$7:$AC$46,\"\"))","v":0},"","","","","","",""]
[null,null,null,null,null,null,null,null,null,null,null,null,null,null,0,0,null,null,null,0,null,"","","",{"$error":"#DIV/0!"},"",{"$f":"IF(U18<>\"Finished\",\"\",VLOOKUP(T18,'Data for points'!$K$26:$Y$33,13,TRUE))","v":""},"","",{"$f":"MIN(IF($C$7:$C$46=C18,$AC$7:$AC$46,\"\"))","v":0},"","","","","","",""]
[null,null,null,null,null,null,null,null,null,null,null,null,null,null,0,0,null,null,null,0,null,"","","",{"$error":"#DIV/0!"},"",{"$f":"IF(U19<>\"Finished\",\"\",VLOOKUP(T19,'Data for points'!$K$26:$Y$33,13,TRUE))","v":""},"","",{"$f":"MIN(IF($C$7:$C$46=C19,$AC$7:$AC$46,\"\"))","v":0},"","","","","","",""]
[null,null,null,null,null,null,null,null,null,null,null,null,null,null,0,0,null,null,null,0,null,"","","",{"$error":"#DIV/0!"},"",{"$f":"IF(U20<>\"Finished\",\"\",VLOOKUP(T20,'Data for points'!$K$26:$Y$33,13,TRUE))","v":""},"","",{"$f":"MIN(IF($C$7:$C$46=C20,$AC$7:$AC$46,\"\"))","v":0},"","","","","","",""]
[null,null,null,null,null,null,null,null,null,null,null,null,null,null,0,0,null,null,null,0,null,"","","",{"$error":"#DIV/0!"},"",{"$f":"IF(U21<>\"Finished\",\"\",VLOOKUP(T21,'Data for points'!$K$26:$Y$33,13,TRUE))","v":""},"","",{"$f":"MIN(IF($C$7:$C$46=C21,$AC$7:$AC$46,\"\"))","v":0},"","","","","","",""]
[null,null,null,null,null,null,null,null,null,null,null,null,null,null,0,0,null,null,null,0,null,"","","",{"$error":"#DIV/0!"},"",{"$f":"IF(U22<>\"Finished\",\"\",VLOOKUP(T22,'Data for points'!$K$26:$Y$33,13,TRUE))","v":""},"","",{"$f":"MIN(IF($C$7:$C$46=C22,$AC$7:$AC$46,\"\"))","v":0},"","","","","","",""]
[null,null,null,null,null,null,null,null,null,null,null,null,null,null,0,0,null,null,null,0,null,"","","",{"$error":"#DIV/0!"},"",{"$f":"IF(U23<>\"Finished\",\"\",VLOOKUP(T23,'Data for points'!$K$26:$Y$33,13,TRUE))","v":""},"","",{"$f":"MIN(IF($C$7:$C$46=C23,$AC$7:$AC$46,\"\"))","v":0},"","","","","","",""]
[null,null,null,null,null,null,null,null,null,null,null,null,null,null,0,0,null,null,null,0,null,"","","",{"$error":"#DIV/0!"},"",{"$f":"IF(U24<>\"Finished\",\"\",VLOOKUP(T24,'Data for points'!$K$26:$Y$33,13,TRUE))","v":""},"","",{"$f":"MIN(IF($C$7:$C$46=C24,$AC$7:$AC$46,\"\"))","v":0},"","","","","","",""]
[null,null,null,null,null,null,null,null,null,null,null,null,null,null,0,0,null,null,null,0,null,"","","",{"$error":"#DIV/0!"},"",{"$f":"IF(U25<>\"Finished\",\"\",VLOOKUP(T25,'Data for points'!$K$26:$Y$33,13,TRUE))","v":""},"","",{"$f":"MIN(IF($C$7:$C$46=C25,$AC$7:$AC$46,\"\"))","v":0},"","","","","","",""]
[null,null,null,null,null,null,null,null,null,null,null,null,null,null,0,0,null,null,null,0,null,"","","",{"$error":"#DIV/0!"},"",{"$f":"IF(U26<>\"Finished\",\"\",VLOOKUP(T26,'Data for points'!$K$26:$Y$33,13,TRUE))","v":""},"","",{"$f":"MIN(IF($C$7:$C$46=C26,$AC$7:$AC$46,\"\"))","v":0},"","","","","","",""]
[null,null,null,null,null,null,null,null,null,null,null,null,null,null,0,0,null,null,null,0,null,"","","",{"$error":"#DIV/0!"},"",{"$f":"IF(U27<>\"Finished\",\"\",VLOOKUP(T27,'Data for points'!$K$26:$Y$33,13,TRUE))","v":""},"","",{"$f":"MIN(IF($C$7:$C$46=C27,$AC$7:$AC$46,\"\"))","v":0},"","","","","","",""]
[null,null,null,null,null,null,null,null,null,null,null,null,null,null,0,0,null,null,null,0,null,"","","",{"$error":"#DIV/0!"},"",{"$f":"IF(U28<>\"Finished\",\"\",VLOOKUP(T28,'Data for points'!$K$26:$Y$33,13,TRUE))","v":""},"","",{"$f":"MIN(IF($C$7:$C$46=C28,$AC$7:$AC$46,\"\"))","v":0},"","","","","","",""]
[null,null,null,null,null,null,null,null,null,null,null,null,null,null,0,0,null,null,null,0,null,"","","",{"$error":"#DIV/0!"},"",{"$f":"IF(U29<>\"Finished\",\"\",VLOOKUP(T29,'Data for points'!$K$26:$Y$33,13,TRUE))","v":""},"","",{"$f":"MIN(IF($C$7:$C$46=C29,$AC$7:$AC$46,\"\"))","v":0},"","","","","","",""]
[null,null,null,null,null,null,null,null,null,null,null,null,null,null,0,0,null,null,null,0,null,"","","",{"$error":"#DIV/0!"},"",{"$f":"IF(U30<>\"Finished\",\"\",VLOOKUP(T30,'Data for points'!$K$26:$Y$33,13,TRUE))","v":""},"","",{"$f":"MIN(IF($C$7:$C$46=C30,$AC$7:$AC$46,\"\"))","v":0},"","","","","","",""]
[null,null,null,null,null,null,null,null,null,null,null,null,null,null,0,0,null,null,null,0,null,"","","",{"$error":"#DIV/0!"},"",{"$f":"IF(U31<>\"Finished\",\"\",VLOOKUP(T31,'Data for points'!$K$26:$Y$33,13,TRUE))","v":""},"","",{"$f":"MIN(IF($C$7:$C$46=C31,$AC$7:$AC$46,\"\"))","v":0},"","","","","","",""]
[null,null,1,null,null,null,null,null,null,null,null,null,null,null,0,0,null,null,null,0,null,"","","",{"$error":"#DIV/0!"},"",{"$f":"IF(U32<>\"Finished\",\"\",VLOOKUP(T32,'Data for points'!$K$26:$Y$33,13,TRUE))","v":""},"","",{"$f":"MIN(IF($C$7:$C$46=C32,$AC$7:$AC$46,\"\"))","v":0},"","","","","","",""]
[null,null,null,null,null,null,null,null,null,null,null,null,null,null,0,0,null,null,null,0,null,"","","",{"$error":"#DIV/0!"},"",{"$f":"IF(U33<>\"Finished\",\"\",VLOOKUP(T33,'Data for points'!$K$26:$Y$33,13,TRUE))","v":""},"","",{"$f":"MIN(IF($C$7:$C$46=C33,$AC$7:$AC$46,\"\"))","v":0},"","","","","","",""]
[null,null,null,null,null,null,null,null,null,null,null,null,null,null,0,0,null,null,null,0,null,"","","",{"$error":"#DIV/0!"},"",{"$f":"IF(U34<>\"Finished\",\"\",VLOOKUP(T34,'Data for points'!$K$26:$Y$33,13,TRUE))","v":""},"","",{"$f":"MIN(IF($C$7:$C$46=C34,$AC$7:$AC$46,\"\"))","v":0},"","","","","","",""]
[null,null,null,null,null,null,null,null,null,null,null,null,null,null,0,0,null,null,null,0,null,"","","",{"$error":"#DIV/0!"},"",{"$f":"IF(U35<>\"Finished\",\"\",VLOOKUP(T35,'Data for points'!$K$26:$Y$33,13,TRUE))","v":""},"","",{"$f":"MIN(IF($C$7:$C$46=C35,$AC$7:$AC$46,\"\"))","v":0},"","","","","","",""]
[null,null,null,null,null,null,null,null,null,null,null,null,null,null,0,0,null,null,null,0,null,"","","",{"$error":"#DIV/0!"},"",{"$f":"IF(U36<>\"Finished\",\"\",VLOOKUP(T36,'Data for points'!$K$26:$Y$33,13,TRUE))","v":""},"","",{"$f":"MIN(IF($C$7:$C$46=C36,$AC$7:$AC$46,\"\"))","v":0},"","","","","","",""]
[null,null,null,null,null,null,null,null,null,null,null,null,null,null,0,0,null,null,null,0,null,"","","",{"$error":"#DIV/0!"},"",{"$f":"IF(U37<>\"Finished\",\"\",VLOOKUP(T37,'Data for points'!$K$26:$Y$33,13,TRUE))","v":""},"","",{"$f":"MIN(IF($C$7:$C$46=C37,$AC$7:$AC$46,\"\"))","v":0},"","","","","","",""]
[null,null,null,null,null,null,null,null,null,null,null,null,null,null,0,0,null,null,null,0,null,"","","",{"$error":"#DIV/0!"},"",{"$f":"IF(U38<>\"Finished\",\"\",VLOOKUP(T38,'Data for points'!$K$26:$Y$33,13,TRUE))","v":""},"","",{"$f":"MIN(IF($C$7:$C$46=C38,$AC$7:$AC$46,\"\"))","v":0},"","","","","","",""]
[null,null,null,null,null,null,null,null,null,null,null,null,null,null,0,0,null,null,null,0,null,"","","",{"$error":"#DIV/0!"},"",{"$f":"IF(U39<>\"Finished\",\"\",VLOOKUP(T39,'Data for points'!$K$26:$Y$33,13,TRUE))","v":""},"","",{"$f":"MIN(IF($C$7:$C$46=C39,$AC$7:$AC$46,\"\"))","v":0},"","","","","","",""]
[null,null,null,null,null,null,null,null,null,null,null,null,null,null,0,0,null,null,null,0,null,"","","",{"$error":"#DIV/0!"},"",{"$f":"IF(U40<>\"Finished\",\"\",VLOOKUP(T40,'Data for points'!$K$26:$Y$33,13,TRUE))","v":""},"","",{"$f":"MIN(IF($C$7:$C$46=C40,$AC$7:$AC$46,\"\"))","v":0},"","","","","","",""]
[null,null,null,null,null,null,null,null,null,null,null,null,null,null,0,0,null,null,null,0,null,"","","",{"$error":"#DIV/0!"},"",{"$f":"IF(U41<>\"Finished\",\"\",VLOOKUP(T41,'Data for points'!$K$26:$Y$33,13,TRUE))","v":""},"","",{"$f":"MIN(IF($C$7:$C$46=C41,$AC$7:$AC$46,\"\"))","v":0},"","","","","","",""]
[null,null,null,null,null,null,null,null,null,null,null,null,null,null,0,0,null,null,null,0,null,"","","",{"$error":"#DIV/0!"},"",{"$f":"IF(U42<>\"Finished\",\"\",VLOOKUP(T42,'Data for points'!$K$26:$Y$33,13,TRUE))","v":""},"","",{"$f":"MIN(IF($C$7:$C$46=C42,$AC$7:$AC$46,\"\"))","v":0},"","","","","","",""]
[null,null,null,null,null,null,null,null,null,null,null,null,null,null,0,0,null,null,null,0,null,"","","",{"$error":"#DIV/0!"},"",{"$f":"IF(U43<>\"Finished\",\"\",VLOOKUP(T43,'Data for points'!$K$26:$Y$33,13,TRUE))","v":""},"","",{"$f":"MIN(IF($C$7:$C$46=C43,$AC$7:$AC$46,\"\"))","v":0},"","","","","","",""]
[null,null,null,null,null,null,null,null,null,null,null,null,null,null,0,0,null,null,null,0,null,"","","",{"$error":"#DIV/0!"},"",{"$f":"IF(U44<>\"Finished\",\"\",VLOOKUP(T44,'Data for points'!$K$26:$Y$33,13,TRUE))","v":""},"","",{"$f":"MIN(IF($C$7:$C$46=C44,$AC$7:$AC$46,\"\"))","v":0},"","","","","","",""]
[null,null,null,null,null,null,null,null,null,null,null,null,null,null,0,0,null,null,null,0,null,"","","",{"$error":"#DIV/0!"},"",{"$f":"IF(U45<>\"Finished\",\"\",VLOOKUP(T45,'Data for points'!$K$26:$Y$33,13,TRUE))","v":""},"","",{"$f":"MIN(IF($C$7:$C$46=C45,$AC$7:$AC$46,\"\"))","v":0},"","","","","","",""]
[null,null,null,null,null,null,null,null,null,null,null,null,null,null,0,0,null,null,null,0,null,"","","",{"$error":"#DIV/0!"},"",{"$f":"IF(U46<>\"Finished\",\"\",VLOOKUP(T46,'Data for points'!$K$26:$Y$33,13,TRUE))","v":""},"","",{"$f":"MIN(IF($C$7:$C$46=C46,$AC$7:$AC$46,\"\"))","v":0},"","","","","","",""]
[]
[]
[]
[]
[]
[]
[]
[]
[]
[]
[]
[]
[]
[]
[]
[]
[]
[]
[]
[]
[]
[]
[]
[]
[]
[]
[]
[]
[]
[]
[]
[]
[]
[]
[]
[]
[]
[]
[]
[]
[]
[]
[]
[]
[]
[]
[]
[]
[]
[]
[]
[]
[]
[null,null,null,null,null,null,null,null,null,null,null,null,null,null,null,null,null,null,null,null,"Finished"]
[null,null,null,null,null,null,null,null,null,null,null,null,null,null,null,null,null,null,null,null,"Disqualified"]

{"sheet":"Line Throw Relay Men","index":52,"n_rows":101,"n_cols":37,"rows_kept":101,"cut":false,"hidden":true,"merged":[[4,11,4,12],[4,14,4,15],[4,16,4,18],[1,16,1,17]]}
[null,null,null,null,null,null,null,null,null,null,null,null,null,null,null,null,null,null,null,"UR in seconds"]
[null,"Men's",null,null,null,null,null,null,null,null,null,"4 x 12m Line Throw",null,null,null,null,"Club to \nHighlight",null,null,{"$f":"'Data for points'!L5","v":0},{"$f":"CONCATENATE(\"University  Record=\",INT(T2/60),\" minS\",MOD(T2,60),\" secs\")","v":"University  Record=0 minS0 secs"}]
[]
[]
["A University(Boolean)","Club Name","Club Code","Leg1","Leg1CompettiorID","Leg2","Leg2CompettiorID","Leg3","Leg3CompettiorID","Leg4","Leg4CompettiorID","ID code",null,"Entry Time(Seconds)","Entry Time",null,"Time",null,null,"Time(seconds)","Finish \nStatus","TimeSand  DQs","Rank","Competition \nPlace","PointSCalculation","Lifesaving Points","Survive and Save Status","Squad List","Rank For SquadSMembers","Top Finisher for there Uni","Top finisher Select Competitor for ranking","Squad Points","Uni Finishers","Student Points","Non-Uni Finishers","Non-Student \nPoints"]
[null,null,null,null,null,null,null,null,null,null,null,null,null,null,"Mins","Seconds","Mins","Seconds","1/100"]
[null,null,null,null,null,null,null,null,null,null,null,null,null,null,{"$f":"INT(N7/60)","v":0},{"$f":"MOD(N7,60)","v":0},null,null,null,{"$f":"Q7*60+R7+S7/100","v":0},null,{"$f":"IF(U7<>\"Finished\",IF(U7<=0,\"\",U7),IF(U7=\"Finished\",IF(T7<=0,\"\",T7),\"\"))","v":""},{"$f":"IF(OR(LEFT(V7,1)=\"D\",V7=\"\"),\"\",RANK(V7,$V$7:$V$46,1))","v":""},{"$f":"IF(LEFT(U7,1)=\"D\",MAX($W$7:$W$46)+1,W7)","v":""},{"$f":"(1-(T7-$T$2)/$T$2)*1000","v":{"$error":"#DIV/0!"}},{"$f":"IF(U7<>\"Finished\",\"\",IF(Y7<0,0,Y7))","v":""},{"$f":"IF(U7<>\"Finished\",\"\",VLOOKUP(T7,'Data for points'!$L$26:$Y$33,14,TRUE))","v":""},{"$f":"IF(L7=\"S\",X7,\"\")","v":""},{"$f":"IF(AB7=\"\",\"\",RANK(AB7,$AB$7:$AB$46,1))","v":""},{"$f":"MIN(IF($C$7:$C$46=C7,$AC$7:$AC$46,\"\"))","v":0},{"$f":"IF(AD7=AC7,AD7,\"\")","v":""},{"$f":"IF(AE7=\"\",\"\",RANK(AE7,$AE$7:$AE$46,1))","v":""},{"$f":"IF(A7=1,AF7,\"\")","v":""},{"$f":"IF(AG7=\"\",\"\",RANK(AG7,$AG$7:$AG$46,1))","v":""},{"$f":"IF(A7=0,AF7,\"\")","v":""},{"$f":"IF(AI7=\"\",\"\",RANK(AI7,$AI$7:$AI$46,1))","v":""},{"$f":"IF(OR(U7<>\"Finished\",T7>$O$2),\"\",\"UR\")","v":""}]
[null,null,null,null,null,null,null,null,null,null,null,null,null,null,{"$f":"INT(N8/60)","v":0},{"$f":"MOD(N8,60)","v":0},null,null,null,{"$f":"Q8*60+R8+S8/100","v":0},null,{"$f":"IF(U8<>\"Finished\",IF(U8<=0,\"\",U8),IF(U8=\"Finished\",IF(T8<=0,\"\",T8),\"\"))","v":""},{"$f":"IF(OR(LEFT(V8,1)=\"D\",V8=\"\"),\"\",RANK(V8,$V$7:$V$46,1))","v":""},{"$f":"IF(LEFT(U8,1)=\"D\",MAX($W$7:$W$46)+1,W8)","v":""},{"$f":"(1-(T8-$T$2)/$T$2)*1000","v":{"$error":"#DIV/0!"}},{"$f":"IF(U8<>\"Finished\",\"\",IF(Y8<0,0,Y8))","v":""},{"$f":"IF(U8<>\"Finished\",\"\",VLOOKUP(T8,'Data for points'!$L$26:$Y$33,14,TRUE))","v":""},{"$f":"IF(L8=\"S\",X8,\"\")","v":""},{"$f":"IF(AB8=\"\",\"\",RANK(AB8,$AB$7:$AB$46,1))","v":""},{"$f":"MIN(IF($C$7:$C$46=C8,$AC$7:$AC$46,\"\"))","v":0},{"$f":"IF(AD8=AC8,AD8,\"\")","v":""},{"$f":"IF(AE8=\"\",\"\",RANK(AE8,$AE$7:$AE$46,1))","v":""},"",{"$f":"IF(AG8=\"\",\"\",RANK(AG8,$AG$7:$AG$46,1))","v":""},{"$f":"IF(A8=0,AF8,\"\")","v":""},{"$f":"IF(AI8=\"\",\"\",RANK(AI8,$AI$7:$AI$46,1))","v":""},{"$f":"IF(OR(U8<>\"Finished\",T8>$O$2),\"\",\"UR\")","v":""}]
[null,null,null,null,null,null,null,null,null,null,null,null,null,null,0,0,null,null,null,0,null,"","","",{"$error":"#DIV/0!"},"",{"$f":"IF(U9<>\"Finished\",\"\",VLOOKUP(T9,'Data for points'!$L$26:$Y$33,14,TRUE))","v":""},"","",{"$f":"MIN(IF($C$7:$C$46=C9,$AC$7:$AC$46,\"\"))","v":0},"","","","","","",""]
[null,null,null,null,null,null,null,null,null,null,null,null,null,null,0,0,null,null,null,0,null,"","","",{"$error":"#DIV/0!"},"",{"$f":"IF(U10<>\"Finished\",\"\",VLOOKUP(T10,'Data for points'!$L$26:$Y$33,14,TRUE))","v":""},"","",{"$f":"MIN(IF($C$7:$C$46=C10,$AC$7:$AC$46,\"\"))","v":0},"","","","","","",""]
[null,null,null,null,null,null,null,null,null,null,null,null,null,null,0,0,null,null,null,0,null,"","","",{"$error":"#DIV/0!"},"",{"$f":"IF(U11<>\"Finished\",\"\",VLOOKUP(T11,'Data for points'!$L$26:$Y$33,14,TRUE))","v":""},"","",{"$f":"MIN(IF($C$7:$C$46=C11,$AC$7:$AC$46,\"\"))","v":0},"","","","","","",""]
[null,null,null,null,null,null,null,null,null,null,null,null,null,null,0,0,null,null,null,0,null,"","","",{"$error":"#DIV/0!"},"",{"$f":"IF(U12<>\"Finished\",\"\",VLOOKUP(T12,'Data for points'!$L$26:$Y$33,14,TRUE))","v":""},"","",{"$f":"MIN(IF($C$7:$C$46=C12,$AC$7:$AC$46,\"\"))","v":0},"","","","","","",""]
[null,null,null,null,null,null,null,null,null,null,null,null,null,null,0,0,null,null,null,0,null,"","","",{"$error":"#DIV/0!"},"",{"$f":"IF(U13<>\"Finished\",\"\",VLOOKUP(T13,'Data for points'!$L$26:$Y$33,14,TRUE))","v":""},"","",{"$f":"MIN(IF($C$7:$C$46=C13,$AC$7:$AC$46,\"\"))","v":0},"","","","","","",""]
[null,null,null,null,null,null,null,null,null,null,null,null,null,null,0,0,null,null,null,0,null,"","","",{"$error":"#DIV/0!"},"",{"$f":"IF(U14<>\"Finished\",\"\",VLOOKUP(T14,'Data for points'!$L$26:$Y$33,14,TRUE))","v":""},"","",{"$f":"MIN(IF($C$7:$C$46=C14,$AC$7:$AC$46,\"\"))","v":0},"","","","","","",""]
[null,null,null,null,null,null,null,null,null,null,null,null,null,null,0,0,null,null,null,0,null,"","","",{"$error":"#DIV/0!"},"",{"$f":"IF(U15<>\"Finished\",\"\",VLOOKUP(T15,'Data for points'!$L$26:$Y$33,14,TRUE))","v":""},"","",{"$f":"MIN(IF($C$7:$C$46=C15,$AC$7:$AC$46,\"\"))","v":0},"","","","","","",""]
[null,null,null,null,null,null,null,null,null,null,null,null,null,null,0,0,null,null,null,0,null,"","","",{"$error":"#DIV/0!"},"",{"$f":"IF(U16<>\"Finished\",\"\",VLOOKUP(T16,'Data for points'!$L$26:$Y$33,14,TRUE))","v":""},"","",{"$f":"MIN(IF($C$7:$C$46=C16,$AC$7:$AC$46,\"\"))","v":0},"","","","","","",""]
[null,null,null,null,null,null,null,null,null,null,null,null,null,null,0,0,null,null,null,0,null,"","","",{"$error":"#DIV/0!"},"",{"$f":"IF(U17<>\"Finished\",\"\",VLOOKUP(T17,'Data for points'!$L$26:$Y$33,14,TRUE))","v":""},"","",{"$f":"MIN(IF($C$7:$C$46=C17,$AC$7:$AC$46,\"\"))","v":0},"","","","","","",""]
[null,null,null,null,null,null,null,null,null,null,null,null,null,null,0,0,null,null,null,0,null,"","","",{"$error":"#DIV/0!"},"",{"$f":"IF(U18<>\"Finished\",\"\",VLOOKUP(T18,'Data for points'!$L$26:$Y$33,14,TRUE))","v":""},"","",{"$f":"MIN(IF($C$7:$C$46=C18,$AC$7:$AC$46,\"\"))","v":0},"","","","","","",""]
[null,null,null,null,null,null,null,null,null,null,null,null,null,null,0,0,null,null,null,0,null,"","","",{"$error":"#DIV/0!"},"",{"$f":"IF(U19<>\"Finished\",\"\",VLOOKUP(T19,'Data for points'!$L$26:$Y$33,14,TRUE))","v":""},"","",{"$f":"MIN(IF($C$7:$C$46=C19,$AC$7:$AC$46,\"\"))","v":0},"","","","","","",""]
[null,null,null,null,null,null,null,null,null,null,null,null,null,null,0,0,null,null,null,0,null,"","","",{"$error":"#DIV/0!"},"",{"$f":"IF(U20<>\"Finished\",\"\",VLOOKUP(T20,'Data for points'!$L$26:$Y$33,14,TRUE))","v":""},"","",{"$f":"MIN(IF($C$7:$C$46=C20,$AC$7:$AC$46,\"\"))","v":0},"","","","","","",""]
[null,null,null,null,null,null,null,null,null,null,null,null,null,null,0,0,null,null,null,0,null,"","","",{"$error":"#DIV/0!"},"",{"$f":"IF(U21<>\"Finished\",\"\",VLOOKUP(T21,'Data for points'!$L$26:$Y$33,14,TRUE))","v":""},"","",{"$f":"MIN(IF($C$7:$C$46=C21,$AC$7:$AC$46,\"\"))","v":0},"","","","","","",""]
[null,null,null,null,null,null,null,null,null,null,null,null,null,null,0,0,null,null,null,0,null,"","","",{"$error":"#DIV/0!"},"",{"$f":"IF(U22<>\"Finished\",\"\",VLOOKUP(T22,'Data for points'!$L$26:$Y$33,14,TRUE))","v":""},"","",{"$f":"MIN(IF($C$7:$C$46=C22,$AC$7:$AC$46,\"\"))","v":0},"","","","","","",""]
[null,null,null,null,null,null,null,null,null,null,null,null,null,null,0,0,null,null,null,0,null,"","","",{"$error":"#DIV/0!"},"",{"$f":"IF(U23<>\"Finished\",\"\",VLOOKUP(T23,'Data for points'!$L$26:$Y$33,14,TRUE))","v":""},"","",{"$f":"MIN(IF($C$7:$C$46=C23,$AC$7:$AC$46,\"\"))","v":0},"","","","","","",""]
[null,null,null,null,null,null,null,null,null,null,null,null,null,null,0,0,null,null,null,0,null,"","","",{"$error":"#DIV/0!"},"",{"$f":"IF(U24<>\"Finished\",\"\",VLOOKUP(T24,'Data for points'!$L$26:$Y$33,14,TRUE))","v":""},"","",{"$f":"MIN(IF($C$7:$C$46=C24,$AC$7:$AC$46,\"\"))","v":0},"","","","","","",""]
[null,null,null,null,null,null,null,null,null,null,null,null,null,null,0,0,null,null,null,0,null,"","","",{"$error":"#DIV/0!"},"",{"$f":"IF(U25<>\"Finished\",\"\",VLOOKUP(T25,'Data for points'!$L$26:$Y$33,14,TRUE))","v":""},"","",{"$f":"MIN(IF($C$7:$C$46=C25,$AC$7:$AC$46,\"\"))","v":0},"","","","","","",""]
[null,null,null,null,null,null,null,null,null,null,null,null,null,null,0,0,null,null,null,0,null,"","","",{"$error":"#DIV/0!"},"",{"$f":"IF(U26<>\"Finished\",\"\",VLOOKUP(T26,'Data for points'!$L$26:$Y$33,14,TRUE))","v":""},"","",{"$f":"MIN(IF($C$7:$C$46=C26,$AC$7:$AC$46,\"\"))","v":0},"","","","","","",""]
[null,null,null,null,null,null,null,null,null,null,null,null,null,null,0,0,null,null,null,0,null,"","","",{"$error":"#DIV/0!"},"",{"$f":"IF(U27<>\"Finished\",\"\",VLOOKUP(T27,'Data for points'!$L$26:$Y$33,14,TRUE))","v":""},"","",{"$f":"MIN(IF($C$7:$C$46=C27,$AC$7:$AC$46,\"\"))","v":0},"","","","","","",""]
[null,null,null,null,null,null,null,null,null,null,null,null,null,null,0,0,null,null,null,0,null,"","","",{"$error":"#DIV/0!"},"",{"$f":"IF(U28<>\"Finished\",\"\",VLOOKUP(T28,'Data for points'!$L$26:$Y$33,14,TRUE))","v":""},"","",{"$f":"MIN(IF($C$7:$C$46=C28,$AC$7:$AC$46,\"\"))","v":0},"","","","","","",""]
[null,null,null,null,null,null,null,null,null,null,null,null,null,null,0,0,null,null,null,0,null,"","","",{"$error":"#DIV/0!"},"",{"$f":"IF(U29<>\"Finished\",\"\",VLOOKUP(T29,'Data for points'!$L$26:$Y$33,14,TRUE))","v":""},"","",{"$f":"MIN(IF($C$7:$C$46=C29,$AC$7:$AC$46,\"\"))","v":0},"","","","","","",""]
[null,null,null,null,null,null,null,null,null,null,null,null,null,null,0,0,null,null,null,0,null,"","","",{"$error":"#DIV/0!"},"",{"$f":"IF(U30<>\"Finished\",\"\",VLOOKUP(T30,'Data for points'!$L$26:$Y$33,14,TRUE))","v":""},"","",{"$f":"MIN(IF($C$7:$C$46=C30,$AC$7:$AC$46,\"\"))","v":0},"","","","","","",""]
[null,null,null,null,null,null,null,null,null,null,null,null,null,null,0,0,null,null,null,0,null,"","","",{"$error":"#DIV/0!"},"",{"$f":"IF(U31<>\"Finished\",\"\",VLOOKUP(T31,'Data for points'!$L$26:$Y$33,14,TRUE))","v":""},"","",{"$f":"MIN(IF($C$7:$C$46=C31,$AC$7:$AC$46,\"\"))","v":0},"","","","","","",""]
[null,null,1,null,null,null,null,null,null,null,null,null,null,null,0,0,null,null,null,0,null,"","","",{"$error":"#DIV/0!"},"",{"$f":"IF(U32<>\"Finished\",\"\",VLOOKUP(T32,'Data for points'!$L$26:$Y$33,14,TRUE))","v":""},"","",{"$f":"MIN(IF($C$7:$C$46=C32,$AC$7:$AC$46,\"\"))","v":0},"","","","","","",""]
[null,null,null,null,null,null,null,null,null,null,null,null,null,null,0,0,null,null,null,0,null,"","","",{"$error":"#DIV/0!"},"",{"$f":"IF(U33<>\"Finished\",\"\",VLOOKUP(T33,'Data for points'!$L$26:$Y$33,14,TRUE))","v":""},"","",{"$f":"MIN(IF($C$7:$C$46=C33,$AC$7:$AC$46,\"\"))","v":0},"","","","","","",""]
[null,null,null,null,null,null,null,null,null,null,null,null,null,null,0,0,null,null,null,0,null,"","","",{"$error":"#DIV/0!"},"",{"$f":"IF(U34<>\"Finished\",\"\",VLOOKUP(T34,'Data for points'!$L$26:$Y$33,14,TRUE))","v":""},"","",{"$f":"MIN(IF($C$7:$C$46=C34,$AC$7:$AC$46,\"\"))","v":0},"","","","","","",""]
[null,null,null,null,null,null,null,null,null,null,null,null,null,null,0,0,null,null,null,0,null,"","","",{"$error":"#DIV/0!"},"",{"$f":"IF(U35<>\"Finished\",\"\",VLOOKUP(T35,'Data for points'!$L$26:$Y$33,14,TRUE))","v":""},"","",{"$f":"MIN(IF($C$7:$C$46=C35,$AC$7:$AC$46,\"\"))","v":0},"","","","","","",""]
[null,null,null,null,null,null,null,null,null,null,null,null,null,null,0,0,null,null,null,0,null,"","","",{"$error":"#DIV/0!"},"",{"$f":"IF(U36<>\"Finished\",\"\",VLOOKUP(T36,'Data for points'!$L$26:$Y$33,14,TRUE))","v":""},"","",{"$f":"MIN(IF($C$7:$C$46=C36,$AC$7:$AC$46,\"\"))","v":0},"","","","","","",""]
[null,null,null,null,null,null,null,null,null,null,null,null,null,null,0,0,null,null,null,0,null,"","","",{"$error":"#DIV/0!"},"",{"$f":"IF(U37<>\"Finished\",\"\",VLOOKUP(T37,'Data for points'!$L$26:$Y$33,14,TRUE))","v":""},"","",{"$f":"MIN(IF($C$7:$C$46=C37,$AC$7:$AC$46,\"\"))","v":0},"","","","","","",""]
[null,null,null,null,null,null,null,null,null,null,null,null,null,null,0,0,null,null,null,0,null,"","","",{"$error":"#DIV/0!"},"",{"$f":"IF(U38<>\"Finished\",\"\",VLOOKUP(T38,'Data for points'!$L$26:$Y$33,14,TRUE))","v":""},"","",{"$f":"MIN(IF($C$7:$C$46=C38,$AC$7:$AC$46,\"\"))","v":0},"","","","","","",""]
[null,null,null,null,null,null,null,null,null,null,null,null,null,null,0,0,null,null,null,0,null,"","","",{"$error":"#DIV/0!"},"",{"$f":"IF(U39<>\"Finished\",\"\",VLOOKUP(T39,'Data for points'!$L$26:$Y$33,14,TRUE))","v":""},"","",{"$f":"MIN(IF($C$7:$C$46=C39,$AC$7:$AC$46,\"\"))","v":0},"","","","","","",""]
[null,null,null,null,null,null,null,null,null,null,null,null,null,null,0,0,null,null,null,0,null,"","","",{"$error":"#DIV/0!"},"",{"$f":"IF(U40<>\"Finished\",\"\",VLOOKUP(T40,'Data for points'!$L$26:$Y$33,14,TRUE))","v":""},"","",{"$f":"MIN(IF($C$7:$C$46=C40,$AC$7:$AC$46,\"\"))","v":0},"","","","","","",""]
[null,null,null,null,null,null,null,null,null,null,null,null,null,null,0,0,null,null,null,0,null,"","","",{"$error":"#DIV/0!"},"",{"$f":"IF(U41<>\"Finished\",\"\",VLOOKUP(T41,'Data for points'!$L$26:$Y$33,14,TRUE))","v":""},"","",{"$f":"MIN(IF($C$7:$C$46=C41,$AC$7:$AC$46,\"\"))","v":0},"","","","","","",""]
[null,null,null,null,null,null,null,null,null,null,null,null,null,null,0,0,null,null,null,0,null,"","","",{"$error":"#DIV/0!"},"",{"$f":"IF(U42<>\"Finished\",\"\",VLOOKUP(T42,'Data for points'!$L$26:$Y$33,14,TRUE))","v":""},"","",{"$f":"MIN(IF($C$7:$C$46=C42,$AC$7:$AC$46,\"\"))","v":0},"","","","","","",""]
[null,null,null,null,null,null,null,null,null,null,null,null,null,null,0,0,null,null,null,0,null,"","","",{"$error":"#DIV/0!"},"",{"$f":"IF(U43<>\"Finished\",\"\",VLOOKUP(T43,'Data for points'!$L$26:$Y$33,14,TRUE))","v":""},"","",{"$f":"MIN(IF($C$7:$C$46=C43,$AC$7:$AC$46,\"\"))","v":0},"","","","","","",""]
[null,null,null,null,null,null,null,null,null,null,null,null,null,null,0,0,null,null,null,0,null,"","","",{"$error":"#DIV/0!"},"",{"$f":"IF(U44<>\"Finished\",\"\",VLOOKUP(T44,'Data for points'!$L$26:$Y$33,14,TRUE))","v":""},"","",{"$f":"MIN(IF($C$7:$C$46=C44,$AC$7:$AC$46,\"\"))","v":0},"","","","","","",""]
[null,null,null,null,null,null,null,null,null,null,null,null,null,null,0,0,null,null,null,0,null,"","","",{"$error":"#DIV/0!"},"",{"$f":"IF(U45<>\"Finished\",\"\",VLOOKUP(T45,'Data for points'!$L$26:$Y$33,14,TRUE))","v":""},"","",{"$f":"MIN(IF($C$7:$C$46=C45,$AC$7:$AC$46,\"\"))","v":0},"","","","","","",""]
[null,null,null,null,null,null,null,null,null,null,null,null,null,null,0,0,null,null,null,0,null,"","","",{"$error":"#DIV/0!"},"",{"$f":"IF(U46<>\"Finished\",\"\",VLOOKUP(T46,'Data for points'!$L$26:$Y$33,14,TRUE))","v":""},"","",{"$f":"MIN(IF($C$7:$C$46=C46,$AC$7:$AC$46,\"\"))","v":0},"","","","","","",""]
[]
[]
[]
[]
[]
[]
[]
[]
[]
[]
[]
[]
[]
[]
[]
[]
[]
[]
[]
[]
[]
[]
[]
[]
[]
[]
[]
[]
[]
[]
[]
[]
[]
[]
[]
[]
[]
[]
[]
[]
[]
[]
[]
[]
[]
[]
[]
[]
[]
[]
[]
[]
[]
[null,null,null,null,null,null,null,null,null,null,null,null,null,null,null,null,null,null,null,null,"Finished"]
[null,null,null,null,null,null,null,null,null,null,null,null,null,null,null,null,null,null,null,null,"Disqualified"]

{"sheet":"Line Throw Relay Women","index":53,"n_rows":101,"n_cols":37,"rows_kept":101,"cut":false,"hidden":true,"merged":[[4,11,4,12],[4,14,4,15],[4,16,4,18],[1,16,1,17]]}
[null,null,null,null,null,null,null,null,null,null,null,null,null,null,null,null,null,null,null,"UR in seconds"]
[null,"Women's",null,null,null,null,null,null,null,null,null,"4 x 12m Line Throw",null,null,null,null,"Club to \nHighlight",null,null,{"$f":"'Data for points'!L6","v":0},{"$f":"CONCATENATE(\"University  Record=\",INT(T2/60),\" minS\",MOD(T2,60),\" secs\")","v":"University  Record=0 minS0 secs"}]
[]
[]
["A University(Boolean)","Club Name","Club Code","Leg1","Leg1CompettiorID","Leg2","Leg2CompettiorID","Leg3","Leg3CompettiorID","Leg4","Leg4CompettiorID","ID code",null,"Entry Time(Seconds)","Entry Time",null,"Time",null,null,"Time(seconds)","Finish \nStatus","TimeSand  DQs","Rank","Competition \nPlace","PointSCalculation","Lifesaving Points","Survive and Save Status","Squad List","Rank For SquadSMembers","Top Finisher for there Uni","Top finisher Select Competitor for ranking","Squad Points","Uni Finishers","Student Points","Non-Uni Finishers","Non-Student \nPoints"]
[null,null,null,null,null,null,null,null,null,null,null,null,null,null,"Mins","Seconds","Mins","Seconds","1/100"]
[null,null,null,null,null,null,null,null,null,null,null,null,null,null,{"$f":"INT(N7/60)","v":0},{"$f":"MOD(N7,60)","v":0},null,null,null,{"$f":"Q7*60+R7+S7/100","v":0},null,{"$f":"IF(U7<>\"Finished\",IF(U7<=0,\"\",U7),IF(U7=\"Finished\",IF(T7<=0,\"\",T7),\"\"))","v":""},{"$f":"IF(OR(LEFT(V7,1)=\"D\",V7=\"\"),\"\",RANK(V7,$V$7:$V$46,1))","v":""},{"$f":"IF(LEFT(U7,1)=\"D\",MAX($W$7:$W$46)+1,W7)","v":""},{"$f":"(1-(T7-$T$2)/$T$2)*1000","v":{"$error":"#DIV/0!"}},{"$f":"IF(U7<>\"Finished\",\"\",IF(Y7<0,0,Y7))","v":""},{"$f":"IF(U7<>\"Finished\",\"\",VLOOKUP(T7,'Data for points'!$L$26:$Y$33,2,TRUE))","v":""},{"$f":"IF(L7=\"S\",X7,\"\")","v":""},{"$f":"IF(AB7=\"\",\"\",RANK(AB7,$AB$7:$AB$46,1))","v":""},{"$f":"MIN(IF($C$7:$C$46=C7,$AC$7:$AC$46,\"\"))","v":0},{"$f":"IF(AD7=AC7,AD7,\"\")","v":""},{"$f":"IF(AE7=\"\",\"\",RANK(AE7,$AE$7:$AE$46,1))","v":""},{"$f":"IF(A7=1,AF7,\"\")","v":""},{"$f":"IF(AG7=\"\",\"\",RANK(AG7,$AG$7:$AG$46,1))","v":""},{"$f":"IF(A7=0,AF7,\"\")","v":""},{"$f":"IF(AI7=\"\",\"\",RANK(AI7,$AI$7:$AI$46,1))","v":""},{"$f":"IF(OR(U7<>\"Finished\",T7>$O$2),\"\",\"UR\")","v":""}]
[null,null,null,null,null,null,null,null,null,null,null,null,null,null,{"$f":"INT(N8/60)","v":0},{"$f":"MOD(N8,60)","v":0},null,null,null,{"$f":"Q8*60+R8+S8/100","v":0},null,{"$f":"IF(U8<>\"Finished\",IF(U8<=0,\"\",U8),IF(U8=\"Finished\",IF(T8<=0,\"\",T8),\"\"))","v":""},{"$f":"IF(OR(LEFT(V8,1)=\"D\",V8=\"\"),\"\",RANK(V8,$V$7:$V$46,1))","v":""},{"$f":"IF(LEFT(U8,1)=\"D\",MAX($W$7:$W$46)+1,W8)","v":""},{"$f":"(1-(T8-$T$2)/$T$2)*1000","v":{"$error":"#DIV/0!"}},{"$f":"IF(U8<>\"Finished\",\"\",IF(Y8<0,0,Y8))","v":""},{"$f":"IF(U8<>\"Finished\",\"\",VLOOKUP(T8,'Data for points'!$L$26:$Y$33,2,TRUE))","v":""},{"$f":"IF(L8=\"S\",X8,\"\")","v":""},{"$f":"IF(AB8=\"\",\"\",RANK(AB8,$AB$7:$AB$46,1))","v":""},{"$f":"MIN(IF($C$7:$C$46=C8,$AC$7:$AC$46,\"\"))","v":0},{"$f":"IF(AD8=AC8,AD8,\"\")","v":""},{"$f":"IF(AE8=\"\",\"\",RANK(AE8,$AE$7:$AE$46,1))","v":""},{"$f":"IF(A8=1,AF8,\"\")","v":""},{"$f":"IF(AG8=\"\",\"\",RANK(AG8,$AG$7:$AG$46,1))","v":""},{"$f":"IF(A8=0,AF8,\"\")","v":""},{"$f":"IF(AI8=\"\",\"\",RANK(AI8,$AI$7:$AI$46,1))","v":""},{"$f":"IF(OR(U8<>\"Finished\",T8>$O$2),\"\",\"UR\")","v":""}]
[null,null,null,null,null,null,null,null,null,null,null,null,null,null,0,0,null,null,null,0,null,"","","",{"$error":"#DIV/0!"},"",{"$f":"IF(U9<>\"Finished\",\"\",VLOOKUP(T9,'Data for points'!$L$26:$Y$33,2,TRUE))","v":""},"","",{"$f":"MIN(IF($C$7:$C$46=C9,$AC$7:$AC$46,\"\"))","v":0},"","","","","","",""]
[null,null,null,null,null,null,null,null,null,null,null,null,null,null,0,0,null,null,null,0,null,"","","",{"$error":"#DIV/0!"},"",{"$f":"IF(U10<>\"Finished\",\"\",VLOOKUP(T10,'Data for points'!$L$26:$Y$33,2,TRUE))","v":""},"","",{"$f":"MIN(IF($C$7:$C$46=C10,$AC$7:$AC$46,\"\"))","v":0},"","","","","","",""]
[null,null,null,null,null,null,null,null,null,null,null,null,null,null,0,0,null,null,null,0,null,"","","",{"$error":"#DIV/0!"},"",{"$f":"IF(U11<>\"Finished\",\"\",VLOOKUP(T11,'Data for points'!$L$26:$Y$33,2,TRUE))","v":""},"","",{"$f":"MIN(IF($C$7:$C$46=C11,$AC$7:$AC$46,\"\"))","v":0},"","","","","","",""]
[null,null,null,null,null,null,null,null,null,null,null,null,null,null,0,0,null,null,null,0,null,"","","",{"$error":"#DIV/0!"},"",{"$f":"IF(U12<>\"Finished\",\"\",VLOOKUP(T12,'Data for points'!$L$26:$Y$33,2,TRUE))","v":""},"","",{"$f":"MIN(IF($C$7:$C$46=C12,$AC$7:$AC$46,\"\"))","v":0},"","","","","","",""]
[null,null,null,null,null,null,null,null,null,null,null,null,null,null,0,0,null,null,null,0,null,"","","",{"$error":"#DIV/0!"},"",{"$f":"IF(U13<>\"Finished\",\"\",VLOOKUP(T13,'Data for points'!$L$26:$Y$33,2,TRUE))","v":""},"","",{"$f":"MIN(IF($C$7:$C$46=C13,$AC$7:$AC$46,\"\"))","v":0},"","","","","","",""]
[null,null,null,null,null,null,null,null,null,null,null,null,null,null,0,0,null,null,null,0,null,"","","",{"$error":"#DIV/0!"},"",{"$f":"IF(U14<>\"Finished\",\"\",VLOOKUP(T14,'Data for points'!$L$26:$Y$33,2,TRUE))","v":""},"","",{"$f":"MIN(IF($C$7:$C$46=C14,$AC$7:$AC$46,\"\"))","v":0},"","","","","","",""]
[null,null,null,null,null,null,null,null,null,null,null,null,null,null,0,0,null,null,null,0,null,"","","",{"$error":"#DIV/0!"},"",{"$f":"IF(U15<>\"Finished\",\"\",VLOOKUP(T15,'Data for points'!$L$26:$Y$33,2,TRUE))","v":""},"","",{"$f":"MIN(IF($C$7:$C$46=C15,$AC$7:$AC$46,\"\"))","v":0},"","","","","","",""]
[null,null,null,null,null,null,null,null,null,null,null,null,null,null,0,0,null,null,null,0,null,"","","",{"$error":"#DIV/0!"},"",{"$f":"IF(U16<>\"Finished\",\"\",VLOOKUP(T16,'Data for points'!$L$26:$Y$33,2,TRUE))","v":""},"","",{"$f":"MIN(IF($C$7:$C$46=C16,$AC$7:$AC$46,\"\"))","v":0},"","",{"$f":"IF(A16=1,AF16,\"\")","v":""},"","","",""]
[null,null,null,null,null,null,null,null,null,null,null,null,null,null,0,0,null,null,null,null,null,"","","",{"$error":"#DIV/0!"},"",{"$f":"IF(U17<>\"Finished\",\"\",VLOOKUP(T17,'Data for points'!$L$26:$Y$33,2,TRUE))","v":""},"","",{"$f":"MIN(IF($C$7:$C$46=C17,$AC$7:$AC$46,\"\"))","v":0},"","","","","","",""]
[null,null,null,null,null,null,null,null,null,null,null,null,null,null,0,0,null,null,null,0,null,"","","",{"$error":"#DIV/0!"},"",{"$f":"IF(U18<>\"Finished\",\"\",VLOOKUP(T18,'Data for points'!$L$26:$Y$33,2,TRUE))","v":""},"","",{"$f":"MIN(IF($C$7:$C$46=C18,$AC$7:$AC$46,\"\"))","v":0},"","","","","","",""]
[null,null,null,null,null,null,null,null,null,null,null,null,null,null,0,0,null,null,null,0,null,"","","",{"$error":"#DIV/0!"},"",{"$f":"IF(U19<>\"Finished\",\"\",VLOOKUP(T19,'Data for points'!$L$26:$Y$33,2,TRUE))","v":""},"","",{"$f":"MIN(IF($C$7:$C$46=C19,$AC$7:$AC$46,\"\"))","v":0},"","","","","","",""]
[null,null,null,null,null,null,null,null,null,null,null,null,null,null,0,0,null,null,null,0,null,"","","",{"$error":"#DIV/0!"},"",{"$f":"IF(U20<>\"Finished\",\"\",VLOOKUP(T20,'Data for points'!$L$26:$Y$33,2,TRUE))","v":""},"","",{"$f":"MIN(IF($C$7:$C$46=C20,$AC$7:$AC$46,\"\"))","v":0},"","","","","","",""]
[null,null,null,null,null,null,null,null,null,null,null,null,null,null,0,0,null,null,null,0,null,"","","",{"$error":"#DIV/0!"},"",{"$f":"IF(U21<>\"Finished\",\"\",VLOOKUP(T21,'Data for points'!$L$26:$Y$33,2,TRUE))","v":""},"","",{"$f":"MIN(IF($C$7:$C$46=C21,$AC$7:$AC$46,\"\"))","v":0},"","","","","","",""]
[null,null,null,null,null,null,null,null,null,null,null,null,null,null,0,0,null,null,null,0,null,"","","",{"$error":"#DIV/0!"},"",{"$f":"IF(U22<>\"Finished\",\"\",VLOOKUP(T22,'Data for points'!$L$26:$Y$33,2,TRUE))","v":""},"","",{"$f":"MIN(IF($C$7:$C$46=C22,$AC$7:$AC$46,\"\"))","v":0},"","","","","","",""]
[null,null,null,null,null,null,null,null,null,null,null,null,null,null,0,0,null,null,null,0,null,"","","",{"$error":"#DIV/0!"},"",{"$f":"IF(U23<>\"Finished\",\"\",VLOOKUP(T23,'Data for points'!$L$26:$Y$33,2,TRUE))","v":""},"","",{"$f":"MIN(IF($C$7:$C$46=C23,$AC$7:$AC$46,\"\"))","v":0},"","","","","","",""]
[null,null,null,null,null,null,null,null,null,null,null,null,null,null,0,0,null,null,null,0,null,"","","",{"$error":"#DIV/0!"},"",{"$f":"IF(U24<>\"Finished\",\"\",VLOOKUP(T24,'Data for points'!$L$26:$Y$33,2,TRUE))","v":""},"","",{"$f":"MIN(IF($C$7:$C$46=C24,$AC$7:$AC$46,\"\"))","v":0},"","","","","","",""]
[null,null,null,null,null,null,null,null,null,null,null,null,null,null,0,0,null,null,null,0,null,"","","",{"$error":"#DIV/0!"},"",{"$f":"IF(U25<>\"Finished\",\"\",VLOOKUP(T25,'Data for points'!$L$26:$Y$33,2,TRUE))","v":""},"","",{"$f":"MIN(IF($C$7:$C$46=C25,$AC$7:$AC$46,\"\"))","v":0},"","","","","","",""]
[null,null,null,null,null,null,null,null,null,null,null,null,null,null,0,0,null,null,null,0,null,"","","",{"$error":"#DIV/0!"},"",{"$f":"IF(U26<>\"Finished\",\"\",VLOOKUP(T26,'Data for points'!$L$26:$Y$33,2,TRUE))","v":""},"","",{"$f":"MIN(IF($C$7:$C$46=C26,$AC$7:$AC$46,\"\"))","v":0},"","","","","","",""]
[null,null,null,null,null,null,null,null,null,null,null,null,null,null,0,0,null,null,null,0,null,"","","",{"$error":"#DIV/0!"},"",{"$f":"IF(U27<>\"Finished\",\"\",VLOOKUP(T27,'Data for points'!$L$26:$Y$33,2,TRUE))","v":""},"","",{"$f":"MIN(IF($C$7:$C$46=C27,$AC$7:$AC$46,\"\"))","v":0},"","","","","","",""]
[null,null,null,null,null,null,null,null,null,null,null,null,null,null,0,0,null,null,null,0,null,"","","",{"$error":"#DIV/0!"},"",{"$f":"IF(U28<>\"Finished\",\"\",VLOOKUP(T28,'Data for points'!$L$26:$Y$33,2,TRUE))","v":""},"","",{"$f":"MIN(IF($C$7:$C$46=C28,$AC$7:$AC$46,\"\"))","v":0},"","","","","","",""]
[null,null,null,null,null,null,null,null,null,null,null,null,null,null,0,0,null,null,null,0,null,"","","",{"$error":"#DIV/0!"},"",{"$f":"IF(U29<>\"Finished\",\"\",VLOOKUP(T29,'Data for points'!$L$26:$Y$33,2,TRUE))","v":""},"","",{"$f":"MIN(IF($C$7:$C$46=C29,$AC$7:$AC$46,\"\"))","v":0},"","","","","","",""]
[null,null,null,null,null,null,null,null,null,null,null,null,null,null,0,0,null,null,null,0,null,"","","",{"$error":"#DIV/0!"},"",{"$f":"IF(U30<>\"Finished\",\"\",VLOOKUP(T30,'Data for points'!$L$26:$Y$33,2,TRUE))","v":""},"","",{"$f":"MIN(IF($C$7:$C$46=C30,$AC$7:$AC$46,\"\"))","v":0},"","","","","","",""]
[null,null,null,null,null,null,null,null,null,null,null,null,null,null,0,0,null,null,null,0,null,"","","",{"$error":"#DIV/0!"},"",{"$f":"IF(U31<>\"Finished\",\"\",VLOOKUP(T31,'Data for points'!$L$26:$Y$33,2,TRUE))","v":""},"","",{"$f":"MIN(IF($C$7:$C$46=C31,$AC$7:$AC$46,\"\"))","v":0},"","","","","","",""]
[null,null,null,null,null,null,null,null,null,null,null,null,null,null,0,0,null,null,null,0,null,"","","",{"$error":"#DIV/0!"},"",{"$f":"IF(U32<>\"Finished\",\"\",VLOOKUP(T32,'Data for points'!$L$26:$Y$33,2,TRUE))","v":""},"","",{"$f":"MIN(IF($C$7:$C$46=C32,$AC$7:$AC$46,\"\"))","v":0},"","","","","","",""]
[null,null,null,null,null,null,null,null,null,null,null,null,null,null,0,0,null,null,null,0,null,"","","",{"$error":"#DIV/0!"},"",{"$f":"IF(U33<>\"Finished\",\"\",VLOOKUP(T33,'Data for points'!$L$26:$Y$33,2,TRUE))","v":""},"","",{"$f":"MIN(IF($C$7:$C$46=C33,$AC$7:$AC$46,\"\"))","v":0},"","","","","","",""]
[null,null,null,null,null,null,null,null,null,null,null,null,null,null,0,0,null,null,null,0,null,"","","",{"$error":"#DIV/0!"},"",{"$f":"IF(U34<>\"Finished\",\"\",VLOOKUP(T34,'Data for points'!$L$26:$Y$33,2,TRUE))","v":""},"","",{"$f":"MIN(IF($C$7:$C$46=C34,$AC$7:$AC$46,\"\"))","v":0},"","","","","","",""]
[null,null,null,null,null,null,null,null,null,null,null,null,null,null,0,0,null,null,null,0,null,"","","",{"$error":"#DIV/0!"},"",{"$f":"IF(U35<>\"Finished\",\"\",VLOOKUP(T35,'Data for points'!$L$26:$Y$33,2,TRUE))","v":""},"","",{"$f":"MIN(IF($C$7:$C$46=C35,$AC$7:$AC$46,\"\"))","v":0},"","","","","","",""]
[null,null,null,null,null,null,null,null,null,null,null,null,null,null,0,0,null,null,null,0,null,"","","",{"$error":"#DIV/0!"},"",{"$f":"IF(U36<>\"Finished\",\"\",VLOOKUP(T36,'Data for points'!$L$26:$Y$33,2,TRUE))","v":""},"","",{"$f":"MIN(IF($C$7:$C$46=C36,$AC$7:$AC$46,\"\"))","v":0},"","","","","","",""]
[null,null,null,null,null,null,null,null,null,null,null,null,null,null,0,0,null,null,null,0,null,"","","",{"$error":"#DIV/0!"},"",{"$f":"IF(U37<>\"Finished\",\"\",VLOOKUP(T37,'Data for points'!$L$26:$Y$33,2,TRUE))","v":""},"","",{"$f":"MIN(IF($C$7:$C$46=C37,$AC$7:$AC$46,\"\"))","v":0},"","","","","","",""]
[null,null,null,null,null,null,null,null,null,null,null,null,null,null,0,0,null,null,null,0,null,"","","",{"$error":"#DIV/0!"},"",{"$f":"IF(U38<>\"Finished\",\"\",VLOOKUP(T38,'Data for points'!$L$26:$Y$33,2,TRUE))","v":""},"","",{"$f":"MIN(IF($C$7:$C$46=C38,$AC$7:$AC$46,\"\"))","v":0},"","","","","","",""]
[null,null,null,null,null,null,null,null,null,null,null,null,null,null,0,0,null,null,null,0,null,"","","",{"$error":"#DIV/0!"},"",{"$f":"IF(U39<>\"Finished\",\"\",VLOOKUP(T39,'Data for points'!$L$26:$Y$33,2,TRUE))","v":""},"","",{"$f":"MIN(IF($C$7:$C$46=C39,$AC$7:$AC$46,\"\"))","v":0},"","","","","","",""]
[null,null,null,null,null,null,null,null,null,null,null,null,null,null,0,0,null,null,null,0,null,"","","",{"$error":"#DIV/0!"},"",{"$f":"IF(U40<>\"Finished\",\"\",VLOOKUP(T40,'Data for points'!$L$26:$Y$33,2,TRUE))","v":""},"","",{"$f":"MIN(IF($C$7:$C$46=C40,$AC$7:$AC$46,\"\"))","v":0},"","","","","","",""]
[null,null,null,null,null,null,null,null,null,null,null,null,null,null,0,0,null,null,null,0,null,"","","",{"$error":"#DIV/0!"},"",{"$f":"IF(U41<>\"Finished\",\"\",VLOOKUP(T41,'Data for points'!$L$26:$Y$33,2,TRUE))","v":""},"","",{"$f":"MIN(IF($C$7:$C$46=C41,$AC$7:$AC$46,\"\"))","v":0},"","","","","","",""]
[null,null,null,null,null,null,null,null,null,null,null,null,null,null,0,0,null,null,null,0,null,"","","",{"$error":"#DIV/0!"},"",{"$f":"IF(U42<>\"Finished\",\"\",VLOOKUP(T42,'Data for points'!$L$26:$Y$33,2,TRUE))","v":""},"","",{"$f":"MIN(IF($C$7:$C$46=C42,$AC$7:$AC$46,\"\"))","v":0},"","","","","","",""]
[null,null,null,null,null,null,null,null,null,null,null,null,null,null,0,0,null,null,null,0,null,"","","",{"$error":"#DIV/0!"},"",{"$f":"IF(U43<>\"Finished\",\"\",VLOOKUP(T43,'Data for points'!$L$26:$Y$33,2,TRUE))","v":""},"","",{"$f":"MIN(IF($C$7:$C$46=C43,$AC$7:$AC$46,\"\"))","v":0},"","","","","","",""]
[null,null,null,null,null,null,null,null,null,null,null,null,null,null,0,0,null,null,null,0,null,"","","",{"$error":"#DIV/0!"},"",{"$f":"IF(U44<>\"Finished\",\"\",VLOOKUP(T44,'Data for points'!$L$26:$Y$33,2,TRUE))","v":""},"","",{"$f":"MIN(IF($C$7:$C$46=C44,$AC$7:$AC$46,\"\"))","v":0},"","","","","","",""]
[null,null,null,null,null,null,null,null,null,null,null,null,null,null,0,0,null,null,null,0,null,"","","",{"$error":"#DIV/0!"},"",{"$f":"IF(U45<>\"Finished\",\"\",VLOOKUP(T45,'Data for points'!$L$26:$Y$33,2,TRUE))","v":""},"","",{"$f":"MIN(IF($C$7:$C$46=C45,$AC$7:$AC$46,\"\"))","v":0},"","","","","","",""]
[null,null,null,null,null,null,null,null,null,null,null,null,null,null,0,0,null,null,null,0,null,"","","",{"$error":"#DIV/0!"},"",{"$f":"IF(U46<>\"Finished\",\"\",VLOOKUP(T46,'Data for points'!$L$26:$Y$33,2,TRUE))","v":""},"","",{"$f":"MIN(IF($C$7:$C$46=C46,$AC$7:$AC$46,\"\"))","v":0},"","","","","","",""]
[]
[]
[]
[]
[]
[]
[]
[]
[]
[]
[]
[]
[]
[]
[]
[]
[]
[]
[]
[]
[]
[]
[]
[]
[]
[]
[]
[]
[]
[]
[]
[]
[]
[]
[]
[]
[]
[]
[]
[]
[]
[]
[]
[]
[]
[]
[]
[]
[]
[]
[]
[]
[]
[null,null,null,null,null,null,null,null,null,null,null,null,null,null,null,null,null,null,null,null,"Finished"]
[null,null,null,null,null,null,null,null,null,null,null,null,null,null,null,null,null,null,null,null,"Disqualified"]

{"sheet":"RLSS_Sports_League_Set_UP","index":54,"n_rows":53,"n_cols":13,"rows_kept":53,"cut":false,"hidden":true,"merged":[]}
["Verifier_RLSSNO",30248374,null,null,null,"Date Comp","2014-03-15","Comp_Type",4]
["VerifierDOB","1988-04-01",null,null,null,"Was LC (Y/N)","Y"]
[]
[]
["Any Highlighted in red will not be put forward to sport League as invalid format,all these will be discounted and not reported as errors",null,null,null,null,null,null,null,null,null,null,"When importing please unsure pages have been cleared first as not to leave old data and all data  has been pasted in from the export from the bulsca website. Order of the data msut be as exported so the lane order are preserved"]
[]
["Competitor_ID","RLSS_NUMBER","DOB",null,"ID","RLSS_NUMBER",null,"Sheet_REF","EventID code \n(SportLeague)","Sex","NoCompeittors","ToInclude","BULSCA Event Number used in the improt process"]
[null,null,null,null,null,null,null,"50m Manikin Carry Men",5,"M",1,"Y",2]
[null,null,null,null,null,null,null,"50m Manikin Carry Women",5,"F",1,"Y",2]
[null,null,null,null,null,null,null,"100m Manikin Carry Men",7,"M",1,"Y",4]
[null,null,null,null,null,null,null,"100m Manikin Carry Women",7,"F",1,"Y",4]
[null,null,null,null,null,null,null,"100m Manikin Tow Men",8,"M",1,"Y",5]
[null,null,null,null,null,null,null,"100m Manikin Tow Women",8,"F",1,"Y",5]
[null,null,null,null,null,null,null,"200m Obs Men",2,"M",1,"Y",1]
[null,null,null,null,null,null,null,"200m Obs Women",2,"F",1,"Y",1]
[null,null,null,null,null,null,null,"200m Super Men",9,"M",1,"Y",6]
[null,null,null,null,null,null,null,"200m Super Women",9,"F",1,"Y",6]
[null,null,null,null,null,null,null,"100 Resue Men",6,"M",1,"Y",3]
[null,null,null,null,null,null,null,"100 Resue Women",6,"F",1,"Y",3]
[null,null,null,null,null,null,null,"Line Throw Men",37,"M",2,"Y",21]
[null,null,null,null,null,null,null,"Line Throw Women",37,"F",2,"Y",21]
[null,null,null,null,null,null,null,"4 x 50 Obs Relay Men",14,"M",4,"Y",9]
[null,null,null,null,null,null,null,"4 x 50 Obs Relay Women",14,"F",4,"Y",9]
[null,null,null,null,null,null,null,"4 x 50 medley Relay Men",12,"M",4,"Y",10]
[null,null,null,null,null,null,null,"4 x 50 medley Relay Women",12,"F",4,"Y",10]
[null,null,null,null,null,null,null,"4 x 25 Manikin Carry Relay Men",13,"M",4,"Y",8]
[null,null,null,null,null,null,null,"4 x 25 Manikin Carry Women",13,"F",4,"Y",8]
[null,null,null,null,null,null,null,"Line Throw Relay Men",38,"M",4,"Y",22]
[null,null,null,null,null,null,null,"Line Throw Relay Women",38,"F",4,"Y",22]
[null,null,null,null,null,null,null,"25m Manikin Carry Men",4,"M",1,"Y",13]
[null,null,null,null,null,null,null,"25m Manikin Carry Women",4,"F",1,"Y",13]
[null,null,null,null,null,null,null,"50m Manikin Carry Men Fin",29,"M",1,"Y",15]
[null,null,null,null,null,null,null,"50m Manikin Carry Women Fin",29,"F",1,"Y",15]
[null,null,null,null,null,null,null,"50m Manikin Tow Men",31,"M",1,"Y",16]
[null,null,null,null,null,null,null,"50m Manikin Tow Women",31,"F",1,"Y",16]
[null,null,null,null,null,null,null,"100m Obs Men",3,"M",1,"Y",12]
[null,null,null,null,null,null,null,"100m Obs Women",3,"F",1,"Y",12]
[null,null,null,null,null,null,null,"100m Super Men",30,"M",1,"Y",17]
[null,null,null,null,null,null,null,"100m Super Women",30,"F",1,"Y",17]
[null,null,null,null,null,null,null,"50m Rescue Men",28,"M",1,"Y",14]
[null,null,null,null,null,null,null,"50m Rescue Women",28,"F",1,"Y",14]
[null,null,null,null,null,null,null,"4 x 25 Obs Relay Men",39,"M",4,"Y",19]
[null,null,null,null,null,null,null,"4 x 25 Obs Relay Women",39,"F",4,"Y",19]
[null,null,null,null,null,null,null,"4 x 25  medley Relay Men",41,"M",4,"Y",20]
[null,null,null,null,null,null,null,"4 x 25 medley Relay Women",41,"F",4,"Y",20]
[null,null,null,null,null,null,null,"4 x 12.5m Manikin Relay Men",40,"M",4,"Y",18]
[null,null,null,null,null,null,null,"4 x 12.5 Manikin Relay Women",40,"F",4,"Y",18]
[null,null,null,null,null,null,null,"50m Obs Men",32,"M",1,"Y",23]
[null,null,null,null,null,null,null,"50m Obs Women",32,"F",1,"Y",23]
[null,null,null,null,null,null,null,"6x50m Obs Men",-1,"M",1,"N",30]
[null,null,null,null,null,null,null,"6x50m Obs Women",-2,"F",1,"N",30]
[null,null,null,null,null,null,null,"6x50m Free Men",-3,"M",1,"N",31]
[null,null,null,null,null,null,null,"6x50m Free Women",-4,"F",1,"N",31]

{"sheet":"Import1","index":55,"n_rows":91,"n_cols":11,"rows_kept":91,"cut":false,"hidden":true,"merged":[[0,6,0,7]]}
["A University(Boolean)","Club Name","Club Code","Competitor","CompetitorID","AceptanceID","ID code",null,"Entry Time(Seconds)","EVENT SEX","EVENT CODE"]
[0,"RLSS Uk Preformace",80,"Adam Threlfall",3016,3526,"S","M",65.34,"M",12]
[0,"Blyth",56,"Daniel Weightman",3004,3475,"S","M",64.62,"M",12]
[1,"London Universities",51,"Andrew Benson",2954,3223,"S","M",66,"M",12]
[0,"Crawley Town",23,"Andrew Kane",2975,3258,"S","M",62,"M",12]
[0,"RLSS Uk Preformace",80,"Ruari Hurson",3015,3521,"S","M",60,"M",12]
[0,"East Kilbride",37,"Iain Wilson",2964,3304,"S","M",60,"M",12]
[0,"Beeslack",52,"Ben Witz",2958,3229,"S","M",62,"M",12]
[0,"Beeslack",52,"Shaunna Anderson",2956,3318,"S","F",77.599999999999994,"F",12]
[0,"Blyth",56,"Sam Carpenter",3003,3462,"S","F",73.66,"F",12]
[0,"East Kilbride",37,"Catherine Browne",2979,3331,"S","F",75,"F",12]
[0,"East Kilbride",37,"Susan McAllister",2962,3285,"S","F",78,"F",12]
[1,"London Universities",51,"Andrew Benson",2954,3225,"S","M",25,"M",13]
[0,"East Kilbride",37,"James Miller",2960,3297,"S","M",21,"M",13]
[0,"East Kilbride",37,"Andrew McAllister",2971,3288,"S","M",20,"M",13]
[0,"East Kilbride",37,"Callum Young",2961,3290,"S","M",24,"M",13]
[0,"Blyth",56,"Mark Chandler",3005,3480,"S","M",40.72,"M",13]
[0,"RLSS Uk Preformace",80,"Ruari Hurson",3015,3522,"S","M",19,"M",13]
[0,"RLSS Uk Preformace",80,"Adam Threlfall",3016,3527,"S","M",18.05,"M",13]
[0,"Crawley Town",23,"Andrew Kane",2975,3259,"S","M",15,"M",13]
[0,"Beeslack",52,"Ben Witz",2958,3228,"S","M",17.16,"M",13]
[0,"Blyth",56,"Daniel Weightman",3004,3476,"S","M",18.989999999999998,"M",13]
[0,"East Kilbride",37,"Iain Wilson",2964,3305,"S","M",19,"M",13]
[0,"East Kilbride",37,"Amy Domnican",2967,3237,"S","F",28,"F",13]
[0,"East Kilbride",37,"Lauren Wright",2966,3308,"S","F",28,"F",13]
[0,"Beeslack",52,"Shaunna Anderson",2956,3319,"S","F",32,"F",13]
[0,"East Kilbride",37,"Alison Wilson",2965,3236,"S","F",26,"F",13]
[0,"East Kilbride",37,"Susan McAllister",2962,3286,"S","F",26,"F",13]
[0,"Blyth",56,"Sam Carpenter",3003,3463,"S","F",22.68,"F",13]
[0,"East Kilbride",37,"Catherine Browne",2979,3330,"S","F",26,"F",13]
[0,"East Kilbride",37,"Isobel Miller",2959,3266,"S","F",26,"F",13]
[0,"East Kilbride",37,"Iona Halford",2977,3314,"S","F",28,"F",13]
[1,"London Universities",51,"Andrew Benson",2954,3226,"S","M",40,"M",15]
[0,"East Kilbride",37,"James Miller",2960,3298,"S","M",38,"M",15]
[0,"East Kilbride",37,"Andrew McAllister",2971,3289,"S","M",34,"M",15]
[0,"East Kilbride",37,"Callum Young",2961,3291,"S","M",39,"M",15]
[0,"Blyth",56,"Mark Chandler",3005,3481,"S","M",43,"M",15]
[0,"Blyth",56,"Daniel Weightman",3004,3477,"S","M",27.46,"M",15]
[0,"RLSS Uk Preformace",80,"Adam Threlfall",3016,3528,"S","M",26.57,"M",15]
[0,"Beeslack",52,"Ben Witz",2958,3231,"S","M",25.62,"M",15]
[0,"Crawley Town",23,"Andrew Kane",2975,3260,"S","M",26,"M",15]
[0,"RLSS Uk Preformace",80,"Ruari Hurson",3015,3523,"S","M",27,"M",15]
[0,"East Kilbride",37,"Iain Wilson",2964,3306,"S","M",34,"M",15]
[0,"East Kilbride",37,"Lauren Wright",2966,3309,"S","F",45,"F",15]
[0,"East Kilbride",37,"Isobel Miller",2959,3267,"S","F",43,"F",15]
[0,"Blyth",56,"Sam Carpenter",3003,3464,"S","F",32.590000000000003,"F",15]
[0,"East Kilbride",37,"Iona Halford",2977,3316,"S","F",42,"F",15]
[0,"Beeslack",52,"Shaunna Anderson",2956,3320,"S","F",44,"F",15]
[0,"East Kilbride",37,"Amy Domnican",2967,3238,"S","F",47,"F",15]
[0,"East Kilbride",37,"Callum Young",2961,3292,"S","M",39,"M",16]
[0,"East Kilbride",37,"Iain Wilson",2964,3307,"S","M",34,"M",16]
[0,"East Kilbride",37,"James Miller",2960,3299,"S","M",38,"M",16]
[0,"Blyth",56,"Mark Chandler",3005,3482,"S","M",45.02,"M",16]
[0,"Beeslack",52,"Ben Witz",2958,3234,"S","M",31.92,"M",16]
[0,"RLSS Uk Preformace",80,"Adam Threlfall",3016,3529,"S","M",30.92,"M",16]
[0,"Crawley Town",23,"Andrew Kane",2975,3261,"S","M",29,"M",16]
[0,"Blyth",56,"Daniel Weightman",3004,3478,"S","M",29.28,"M",16]
[0,"RLSS Uk Preformace",80,"Ruari Hurson",3015,3524,"S","M",31,"M",16]
[0,"East Kilbride",37,"Andrew McAllister",2971,3538,"S","M",34,"M",16]
[0,"East Kilbride",37,"Iona Halford",2977,3317,"S","F",42,"F",16]
[0,"East Kilbride",37,"Lauren Wright",2966,3311,"S","F",41,"F",16]
[0,"Beeslack",52,"Shaunna Anderson",2956,3321,"S","F",41.67,"F",16]
[0,"East Kilbride",37,"Amy Domnican",2967,3239,"S","F",47,"F",16]
[0,"East Kilbride",37,"Isobel Miller",2959,3268,"S","F",39,"F",16]
[0,"Blyth",56,"Sam Carpenter",3003,3465,"S","F",33.9,"F",16]
[0,"East Kilbride",37,"Catherine Browne",2979,3332,"S","F",38,"F",16]
[0,"East Kilbride",37,"Susan McAllister",2962,3287,"S","F",40,"F",16]
[0,"Blyth",56,"Callum Gilroy",3001,3484,"S","M",105,"M",17]
[0,"RLSS Uk Preformace",80,"Jacob Reeves",3014,3533,"S","M",100,"M",17]
[0,"RLSS Uk Preformace",80,"Jack Betteridge",3013,3532,"S","M",120,"M",17]
[0,"RLSS Uk Preformace",80,"Finn Purdy",3012,3531,"S","M",95,"M",17]
[0,"Blyth",56,"Daniel Weightman",3004,3479,"S","M",79.89,"M",17]
[1,"London Universities",51,"Andrew Benson",2954,3224,"S","M",80,"M",17]
[0,"Blyth",56,"Matthew Douglas",3002,3483,"S","M",95,"M",17]
[0,"Beeslack",52,"Ben Witz",2958,3227,"S","M",77.150000000000006,"M",17]
[0,"Crawley Town",23,"Andrew Kane",2975,3263,"S","M",72,"M",17]
[0,"RLSS Uk Preformace",80,"Adam Threlfall",3016,3530,"S","M",75,"M",17]
[0,"RLSS Uk Preformace",80,"Ruari Hurson",3015,3525,"S","M",78,"M",17]
[0,"Beeslack",52,"Emily Glanvill",2952,3354,"S","F",150,"F",17]
[0,"Beeslack",52,"Megan Rose",2957,3348,"S","F",152.36000000000001,"F",17]
[0,"Blyth",56,"Cadie Chandler",2999,3473,"S","F",113.19,"F",17]
[0,"Blyth",56,"Beth Little",2994,3467,"S","F",112.86,"F",17]
[0,"Blyth",56,"Elli Munday",2997,3471,"S","F",120,"F",17]
[0,"Blyth",56,"Beth Chandler",2998,3472,"S","F",103.18,"F",17]
[0,"Blyth",56,"Emily Price",2993,3470,"S","F",98.43,"F",17]
[0,"RLSS Uk Preformace",80,"Sinead Gourley",3011,3535,"S","F",100,"F",17]
[0,"Blyth",56,"Rebecca Douglas",2995,3468,"S","F",104.75,"F",17]
[0,"Blyth",56,"Jessica Parker",2996,3469,"S","F",88,"F",17]
[0,"Blyth",56,"Rachel Carrol",3000,3474,"S","F",84.5,"F",17]
[0,"RLSS Uk Preformace",80,"Lucy Howes",3010,3536,"S","F",88,"F",17]
[0,"Blyth",56,"Sam Carpenter",3003,3466,"S","F",90,"F",17]

{"sheet":"Import4","index":56,"n_rows":25,"n_cols":16,"rows_kept":25,"cut":false,"hidden":true,"merged":[[0,11,0,12]]}
["A University(Boolean)","Club Name","Club Code","Leg1","Leg1CompettiorID","Leg2","Leg2CompettiorID","Leg3","Leg3CompettiorID","Leg4","Leg4CompettiorID","ID code",null,"Entry Time(Seconds)","EVENT SEX","EVENT CODE"]
[0,"RLSS Uk Preformace",80,"Daniel Weightman",3023,"Mark Chandler",3024,"Adam Threlfall",3016,"Ruari Hurson",3015,"S","M",57.38,"M",18]
[0,"East Kilbride",37,"Andrew McAllister",2971,"Callum Young",2961,"Iain Wilson",2964,"James Miller",2960,"S","M",60,"M",18]
[0,"East Kilbride",37,"Amy Domnican",2967,"Catherine Browne",2979,"Lauren Wright",2966,"Finna Parkinson",2963,"S","F",80,"F",18]
[0,"RLSS Uk Preformace",80,"Sam Carpenter",3022,"Rachel Carroll",3020,"Lucy Howes",3010,"Jessica Parker",3021,"S","F",49.39,"F",18]
[0,"Beeslack",52,"Megan Rose",2957,"Emily Glanvill",2952,"Rebecca Stewart",2955,"Shaunna Anderson",2956,"S","F",70,"F",18]
[0,"East Kilbride",37,"Iona Halford",2977,"Alison Wilson",2965,"Isobel Miller",2959,"Susan McAllister",2962,"S","F",80,"F",18]
[0,"RLSS Uk Preformace",80,"Daniel Weightman",3023,"Mark Chandler",3024,"Adam Threlfall",3016,"Ruari Hurson",3015,"S","M",57.38,"M",18]
[0,"East Kilbride",37,"Andrew McAllister",2971,"Callum Young",2961,"Iain Wilson",2964,"James Miller",2960,"S","M",60,"M",18]
[0,"East Kilbride",37,"Andrew McAllister",2971,"Callum Young",2961,"Iain Wilson",2964,"James Miller",2960,"S","M",50,"M",19]
[0,"RLSS Uk Preformace",80,"Daniel Weightman",3023,"Mark Chandler",3024,"Adam Threlfall",3016,"Ruari Hurson",3015,"S","M",65,"M",19]
[0,"RLSS Uk Preformace",80,"Sam Carpenter",3022,"Rachel Carroll",3020,"Lucy Howes",3010,"Jessica Parker",3021,"S","F",64.150000000000006,"F",19]
[0,"East Kilbride",37,"Amy Domnican",2967,"Catherine Browne",2979,"Lauren Wright",2966,"Finna Parkinson",2963,"S","F",60,"F",19]
[0,"East Kilbride",37,"Iona Halford",2977,"Alison Wilson",2965,"Isobel Miller",2959,"Susan McAllister",2962,"S","F",60,"F",19]
[0,"Beeslack",52,"Megan Rose",2957,"Emily Glanvill",2952,"Rebecca Stewart",2955,"Shaunna Anderson",2956,"S","F",72.12,"F",19]
[0,"East Kilbride",37,"Andrew McAllister",2971,"Callum Young",2961,"Iain Wilson",2964,"James Miller",2960,"S","M",50,"M",19]
[0,"RLSS Uk Preformace",80,"Daniel Weightman",3023,"Mark Chandler",3024,"Adam Threlfall",3016,"Ruari Hurson",3015,"S","M",65,"M",19]
[0,"East Kilbride",37,"Andrew McAllister",2971,"Callum Young",2961,"Iain Wilson",2964,"James Miller",2960,"S","M",55,"M",20]
[0,"RLSS Uk Preformace",80,"Daniel Weightman",3023,"Mark Chandler",3024,"Adam Threlfall",3016,"Ruari Hurson",3015,"S","M",55.4,"M",20]
[0,"East Kilbride",37,"Iona Halford",2977,"Alison Wilson",2965,"Isobel Miller",2959,"Susan McAllister",2962,"S","F",70,"F",20]
[0,"RLSS Uk Preformace",80,"Rachel Carroll",3020,"Lucy Howes",3010,"Jessica Parker",3021,"Sam Carpenter",3022,"S","F",56.66,"F",20]
[0,"East Kilbride",37,"Amy Domnican",2967,"Catherine Browne",2979,"Lauren Wright",2966,"Finna Parkinson",2963,"S","F",70,"F",20]
[0,"Beeslack",52,"Megan Rose",2957,"Emily Glanvill",2952,"Rebecca Stewart",2955,"Shaunna Anderson",2956,"S","F",72.59,"F",20]
[0,"East Kilbride",37,"Andrew McAllister",2971,"Callum Young",2961,"Iain Wilson",2964,"James Miller",2960,"S","M",55,"M",20]
[0,"RLSS Uk Preformace",80,"Daniel Weightman",3023,"Mark Chandler",3024,"Adam Threlfall",3016,"Ruari Hurson",3015,"S","M",55.4,"M",20]

{"sheet":"Data for points","index":57,"n_rows":68,"n_cols":28,"rows_kept":68,"cut":false,"hidden":true,"merged":[]}
[]
["Current Student Records (14/3/2014)"]
[]
[null,"50m Manikin Carry","100m Carry with Fins","100m tow with fins","200m Obs","200 Super","100 rescue","Line Throw","4 x 50 obs Relay","4 x 50 medley Relay","4 x 25 Manikin Carry Relay","4 x 12m Line Throw Relay","25m Manikin Carry","50m Carry with Fins","50m tow with fins","100m Obs","100 Super","50 rescue","4 x 25 obs Relay","4 x 25 medley Relay","4 x 12.5Manikin Carry Relay","50 obs","6 x 50 Obs","6 x 50 Free"]
["Mens"]
["Womens"]
[]
[]
[]
[null,"Times given in seconds,, are shown converted on each events sheets"]
[]
[null,null,null,null,null,"Times are the low limit of each of the ranges to allow Vlookup to find the corrct value"]
["S&S Times",null,null,null,null,"Full Distance",null,null,null,null,null,null,null,null,null,"Half distance",null,"quarter distance",null,"Odd Lengths"]
[]
["Mens","50m Manikin Carry","100m Carry with Fins","100m tow with fins","200m Obs","200 Super","100 rescue","Line Throw","4 x 50 obs Relay","4 x 50 medley Relay","4 x 25 Manikin Carry Relay","4 x 12m Line Throw Relay","25m Manikin Carry","50m Carry with Fins","50m tow with fins","100m Obs","100 Super","50 rescue","4 x 25 obs Relay","4 x 25 medley Relay","4 x 12.5Manikin Carry Relay","50m obs","6 x 50 Obs","6 x 50 Free",null,null,null,"Relays self calculated as not Provided in RLSS information"]
["Elite",0,0,0,0,0,0,0,0,0,0,0,{"$f":"B16*0.45","v":0},{"$f":"C16*0.45","v":0},0,0,0,0,{"$f":"I16*0.45","v":0},{"$f":"J16*0.45","v":0},0,{"$f":"P16*0.45","v":0},0,0,{"$f":"A16","v":"Elite"},null,"Reach A final at world(2010 8th in nation team fianls, 2012 interclub 8th palces qualifyign time),  Rope throw set as RLSS UK record as not in worlds"]
["Champion",30.86,50.23,55.21,116.16,131.37,63.04,9.6,{"$f":"H40","v":106.485},{"$f":"H64","v":97.5},{"$f":"H56","v":76.545000000000002},53.85,{"$f":"B17*0.45","v":13.887},{"$f":"C17*0.45","v":22.6035},{"$f":"D17*0.45","v":24.8445},{"$f":"E17*0.45","v":52.271999999999998},{"$f":"F17*0.45","v":59.116500000000002},{"$f":"G17*0.45","v":28.367999999999999},{"$f":"I17*0.45","v":47.91825},{"$f":"J17*0.45","v":43.875},{"$f":"K17*0.45","v":34.445250000000001},{"$f":"P17/2","v":26.135999999999999},{"$f":"I17*1.5","v":159.72749999999999},{"$f":"22*6","v":132},"Champion",null,"Top 3 at RLSS Speeds"]
["Excellent",37.630000000000003,60.57,62.4,137.41,159.53,76.89,10.4,{"$f":"I40","v":114.19749999999999},{"$f":"I64","v":106.19},{"$f":"I56","v":91.627499999999998},{"$f":"I48","v":66.355000000000004},16.933500000000002,27.256499999999999,28.08,61.834499999999998,71.788499999999999,34.600500000000004,51.388874999999999,47.785499999999999,41.232374999999998,30.917249999999999,{"$f":"I18*1.5","v":171.29624999999999},{"$f":"25*6","v":150},"Excellent",null,"Top 10 at RLSS speeds"]
["Very Good",40.1,66.569999999999993,67.180000000000007,145.33000000000001,181.58,83.71,12.2,{"$f":"J40","v":123.09},{"$f":"J64","v":115.46249999999999},{"$f":"J56","v":105.11500000000001},{"$f":"J48","v":88.602500000000006},18.045000000000002,29.956499999999998,30.231000000000005,65.398500000000013,81.711000000000013,37.669499999999999,55.390500000000003,51.958124999999995,47.301750000000006,32.699250000000006,184.63499999999999,{"$f":"27*6","v":162},"Very Good",null,"Top 20 at RLSS speeds"]
["Good",41.27,69.37,69.86,154.52000000000001,195.17,88.08,13.96,{"$f":"K40","v":135.04999999999998},{"$f":"K64","v":133.91999999999999},{"$f":"K56","v":124.69},{"$f":"K48","v":105.45},18.5715,31.216500000000003,31.437000000000001,69.534000000000006,87.826499999999996,39.636000000000003,60.772499999999994,60.263999999999996,56.110500000000002,34.767000000000003,202.57499999999999,{"$f":"30*6","v":180},"Good",null,"Top 30 at RLSS Speeds"]
["Fair",42.57,73.2,71.69,165.27,201.97,95.01,18.66,{"$f":"L40","v":146.43},145,140,120,19.156500000000001,32.940000000000005,32.2605,74.371500000000012,90.886499999999998,42.7545,65.893500000000003,65.25,63,37.185750000000006,219.64500000000001,{"$f":"32*6","v":192},"Fair",null,"Top 40 at RLSS Speeds"]
["Pass",44.14,75.33,74.78,169.86,240,99.27,22.53,155,155,155,135,19.863,33.898499999999999,33.651000000000003,76.437000000000012,108,44.671500000000002,69.75,69.75,69.75,38.218500000000006,232.5,{"$f":"35*6","v":210},"Pass",null,"Nonminal tiem just to shwo that is completed correctly"]
["N/A",80,120,120,300,300,165,30,300,300,300,150,36,54,54,135,135,74.25,135,135,135,67.5,450,{"$f":"60*6","v":360},"N/A",null,null,"No Data so typed in based on gaps"]
[null,null,null,null,null,null,null,null,null,null,null,null,null,null,null,null,null,null,null,null,null,null,null,null,null,null,null,"Prediction from Full distacne times, used 45% to even at the diffrence in length"]
["Womens","50m Manikin Carry","100m Carry with Fins","100m tow with fins","200m Obs","200 Super","100 rescue","Line Throw","4 x 50 obs Relay","4 x 50 medley Relay","4 x 25 Manikin Carry Relay","4 x 12m Line Throw Relay","25m Manikin Carry","50m Carry with Fins","50m tow with fins","100m Obs","100 Super","50 rescue","4 x 25 obs Relay","4 x 25 medley Relay","4 x 12.5Manikin Carry Relay","50 obs","6 x 50 Obs","6 x 50 Free",null,null,null,"Relays self calculated as not Provided in RLSS information"]
["Elite",0,0,0,0,0,0,0,0,0,0,0,{"$f":"B26*0.45","v":0},{"$f":"C26*0.45","v":0},{"$f":"D26*0.45","v":0},{"$f":"E26*0.45","v":0},{"$f":"F26*0.45","v":0},{"$f":"G26*0.45","v":0},{"$f":"I26*0.45","v":0},{"$f":"J26*0.45","v":0},{"$f":"K26*0.45","v":0},{"$f":"P26*0.45","v":0},0,0,{"$f":"A26","v":"Elite"},null,"Reach A final at world,  Rope throw set as RLSS UK record as not in worlds"]
["Champion",36.24,57.87,62.56,128.91999999999999,151.41999999999999,74.2,12.07,{"$f":"B40","v":121.245},{"$f":"B64","v":110.22499999999999},{"$f":"B56","v":96.43},69.53,{"$f":"B27*0.45","v":16.308},26.041499999999999,28.152000000000001,58.013999999999996,68.138999999999996,33.39,{"$f":"I27*0.45","v":54.560250000000003},49.60125,43.393500000000003,{"$f":"P27/2","v":29.006999999999998},{"$f":"I27*1.5","v":181.86750000000001},{"$f":"27*6","v":162},"Champion",null,"Top 3 at RLSS Speeds"]
["Excellent",45.18,91.86,72.33,149.33000000000001,179.32,93.56,13.36,{"$f":"C40","v":136.64999999999998},{"$f":"C64","v":124.58750000000001},{"$f":"C56","v":116.74749999999999},{"$f":"C48","v":92.152500000000003},20.331,41.337000000000003,32.548499999999997,67.19850000000001,80.694000000000003,42.102000000000004,61.492499999999993,56.064375000000005,52.536374999999992,33.599250000000005,{"$f":"I28*1.5","v":204.97499999999997},{"$f":"30*6","v":180},"Excellent",null,"Top 10 at RLSS speeds"]
["Very Good",50.26,80.13,78.55,172.45,203.38,110.01,16,{"$f":"D40","v":147.29749999999999},{"$f":"D64","v":138.07499999999999},{"$f":"D56","v":132.19749999999999},{"$f":"D48","v":134.83666666666667},22.617000000000001,36.058500000000002,35.347499999999997,77.602499999999992,91.521000000000001,49.5045,66.283874999999995,62.133749999999999,59.488875,38.801249999999996,220.94624999999996,{"$f":"33*6","v":198},"Very Good",null,"Top 20 at RLSS speeds"]
["Good",52.13,83.73,81.99,178.14,211.19,119.68,18.97,{"$f":"E40","v":158.93},{"$f":"E64","v":152.89499999999998},{"$f":"E56","v":145.88},138,23.458500000000001,37.6785,36.895499999999998,80.162999999999997,95.035499999999999,53.856000000000002,71.518500000000003,68.802749999999989,65.646000000000001,40.081499999999998,238.39500000000001,{"$f":"35*6","v":210},"Good",null,"Top 30 at RLSS Speeds"]
["Fair",53.67,90.54,84.69,182.8,232.4,130.07,23,165,165,160,142,24.151500000000002,40.743000000000002,38.110500000000002,82.26,104.58,58.531500000000001,74.25,74.25,72,41.13,247.5,{"$f":"38*6","v":228},"Fair",null,"Top 40 at RLSS Speeds"]
["Pass",54.96,90.88,87.26,185.29,255,140,28.4,175,175,175,146,24.731999999999999,40.896000000000001,39.267000000000003,83.380499999999998,114.75,63,78.75,78.75,78.75,41.690249999999999,262.5,{"$f":"40*6","v":240},"Pass",null,"Nonminal tiem just to shwo that is completed correctly"]
["N/A",80,120,120,300,300,165,30,300,300,300,150,36,54,54,135,135,74.25,135,135,135,67.5,450,{"$f":"60*6","v":360},"N/A",null,null,"No Data so typed in based on gaps"]
[null,null,null,null,null,null,null,null,null,null,null,null,null,null,null,null,null,null,null,null,null,null,null,null,null,null,null,"Prediction from Full distacne times, used 45% to even at the diffrence in length"]
[]
[]
[]
[null,"Woemsn 4x50 Obs",null,null,null,null,null,"Mens 4 x 50 obsObs"]
[null,"A Final",3,10,20,30,40,"A Final",3,10,20,30,40]
[null,{"$f":"AVERAGE(B41:B44)","v":121.245},{"$f":"AVERAGE(C41:C44)","v":136.64999999999998},{"$f":"AVERAGE(D41:D44)","v":147.29749999999999},{"$f":"AVERAGE(E41:E44)","v":158.93},{"$f":"AVERAGE(F41:F44)","v":{"$error":"#DIV/0!"}},{"$f":"AVERAGE(G41:G44)","v":{"$error":"#DIV/0!"}},{"$f":"AVERAGE(H41:H44)","v":106.485},{"$f":"AVERAGE(I41:I44)","v":114.19749999999999},{"$f":"AVERAGE(J41:J44)","v":123.09},{"$f":"AVERAGE(K41:K44)","v":135.04999999999998},{"$f":"AVERAGE(L41:L44)","v":146.43},{"$f":"AVERAGE(M41:M44)","v":{"$error":"#DIV/0!"}}]
[2012,123.96,134.41,143.47,null,null,null,107.44,109.22,127.24,136.44]
[2011,"N/A",133.38999999999999,143.44999999999999,158.93,null,null,"N/A",112.96,119.51,127.94,146.43]
[2010,118.53,135.54,149.78,null,null,null,105.53,117.26,124.13,140.77000000000001]
[2009,"n/A",143.26,152.49,null,null,null,"n/A",117.35,121.48]
[]
[null,"Womens 4x12m ropes",null,null,null,null,null,"Mens 4 x 12m ropes"]
[null,"A Final",3,10,20,30,40,"A Final",3,10,20,30,40]
[null,{"$f":"AVERAGE(B49:B52)","v":{"$error":"#DIV/0!"}},{"$f":"AVERAGE(C49:C52)","v":92.152500000000003},{"$f":"AVERAGE(D49:D52)","v":134.83666666666667},{"$f":"AVERAGE(E49:E52)","v":{"$error":"#DIV/0!"}},{"$f":"AVERAGE(F49:F52)","v":{"$error":"#DIV/0!"}},{"$f":"AVERAGE(G49:G52)","v":{"$error":"#DIV/0!"}},{"$f":"AVERAGE(H49:H52)","v":{"$error":"#DIV/0!"}},{"$f":"AVERAGE(I49:I52)","v":66.355000000000004},{"$f":"AVERAGE(J49:J52)","v":88.602500000000006},{"$f":"AVERAGE(K49:K52)","v":105.45},{"$f":"AVERAGE(L49:L52)","v":{"$error":"#DIV/0!"}},{"$f":"AVERAGE(M49:M52)","v":{"$error":"#DIV/0!"}}]
[2012,"N/A",106.88,null,null,null,null,"N/A",66.34,94.29]
[2011,"N/A",80.94,127.16,null,null,null,"N/A",64.84,87.45,105.45]
[2010,"N/A",95.78,132.34,null,null,null,"N/A",66.62,87.09]
[2009,"n/A",85.01,145.01,null,null,null,"n/A",67.62,85.58]
[]
[null,"Womens Manikin Carry",null,null,null,null,null,"Mens Manikin Carry"]
[null,"A Final",3,10,20,30,40,"A Final",3,10,20,30,40]
[null,{"$f":"AVERAGE(B57:B60)","v":96.43},{"$f":"AVERAGE(C57:C60)","v":116.74749999999999},{"$f":"AVERAGE(D57:D60)","v":132.19749999999999},{"$f":"AVERAGE(E57:E60)","v":145.88},{"$f":"AVERAGE(F57:F60)","v":{"$error":"#DIV/0!"}},{"$f":"AVERAGE(G57:G60)","v":{"$error":"#DIV/0!"}},{"$f":"AVERAGE(H57:H60)","v":76.545000000000002},{"$f":"AVERAGE(I57:I60)","v":91.627499999999998},{"$f":"AVERAGE(J57:J60)","v":105.11500000000001},{"$f":"AVERAGE(K57:K60)","v":124.69},{"$f":"AVERAGE(L57:L60)","v":{"$error":"#DIV/0!"}},{"$f":"AVERAGE(M57:M60)","v":{"$error":"#DIV/0!"}}]
[2012,98.25,114.57,130.47,null,null,null,77.510000000000005,86.16,109.37]
[2011,"N/A",111.59,128.78,145.88,null,null,"N/A",88.92,100.91,111.63]
[2010,94.61,121.5,130.44,null,null,null,75.58,94.91,106.27,137.75]
[2009,"n/A",119.33,139.1,null,null,null,"n/A",96.52,103.91]
[]
[null,"Womens Medley",null,null,null,null,null,"Mens Medley"]
[null,"A Final",3,10,20,30,40,"A Final",3,10,20,30,40]
[null,{"$f":"AVERAGE(B65:B68)","v":110.22499999999999},{"$f":"AVERAGE(C65:C68)","v":124.58750000000001},{"$f":"AVERAGE(D65:D68)","v":138.07499999999999},{"$f":"AVERAGE(E65:E68)","v":152.89499999999998},{"$f":"AVERAGE(F65:F68)","v":{"$error":"#DIV/0!"}},{"$f":"AVERAGE(G65:G68)","v":{"$error":"#DIV/0!"}},{"$f":"AVERAGE(H65:H68)","v":97.5},{"$f":"AVERAGE(I65:I68)","v":106.19},{"$f":"AVERAGE(J65:J68)","v":115.46249999999999},{"$f":"AVERAGE(K65:K68)","v":133.91999999999999},{"$f":"AVERAGE(L65:L68)","v":{"$error":"#DIV/0!"}},{"$f":"AVERAGE(M65:M68)","v":{"$error":"#DIV/0!"}}]
[2012,112.02,120.23,138.63,null,null,null,97.65,103.62,117.91,146.16999999999999]
[2011,"N/A",123.25,138.91999999999999,152.07,null,null,"N/A",103.35,110.79,120.89]
[2010,108.43,124.77,133.97999999999999,153.72,null,null,97.35,108.56,116.84,134.69999999999999]
[2009,"n/A",130.1,140.77000000000001,null,null,null,"n/A",109.23,116.31]